{"text_format":"1","workbook":"xlsx","n_sheets":5,"sheets":["Millwall","Comparisons","Sheet1","Sheet2","Sheet3"],"not_rendered":{"charts":1,"images":4,"macros":1,"external_links":3,"defined_names":43,"comments":0,"pivot_tables":0},"unopened":[],"bounds":{"document_bytes":16777216,"sheet_cells":100000,"rows_first":2000,"rows_last":500,"rows_between":2000,"halvings":0,"cell_chars":16384,"cell_head_chars":4096},"cells_cut":0,"cells_raw":0,"read":"whole","date_system":"1900"}

{"sheet":"Millwall","index":0,"n_rows":247,"n_cols":157,"rows_kept":247,"cut":false,"hidden":false,"merged":[[1,156,2,173],[3,77,3,80],[2,97,2,100],[3,87,3,90],[3,92,3,95],[3,97,3,100],[3,82,3,85],[2,77,2,80],[2,82,2,85],[2,88,2,90],[2,92,2,95]]}
[null,null,1]
[null,null,null,null,null,null,null,null,null,null,null,null,null,null,null,null,null,null,null,null,null,null,null,null,null,null,null,null,null,null,null,null,null,null,null,null,null,null,null,null,null,null,null,null,null,null,null,null,null,null,null,null,null,null,null,null,null,null,null,null,null,null,null,null,null,null,null,null,null,null,null,null,null,null,null,null,null,null,null,null,null,null,null,null,null,null,null,null,null,null,null,null,null,null,null,null,null,null,null,null,null,null,null,null,null,null,null,null,null,null,null,null,null,null,null,null,null,null,null,null,null,null,null,null,null,null,null,null,null,null,null,null,null,null,null,null,null,null,null,null,null,null,null,null,null,null,null,null,null,null,null,null,null,null,null,null,"Millwall Progress Season 1996/97"]
[null,null,null,null,null,null,null,null,null,null,null,null,null,null,null,null,null,null,null,null,null,null,null,null,null,null,null,null,null,null,null,null,null,null,null,null,null,null,null,null,null,null,null,null,null,null,null,null,null,null,null,null,null,null,null,null,null,null,null,null,null,null,null,null,null,null,null,null,null,null,null,null,null,null,null,null,null,"All",null,null,null,null,"League",null,null,null,null,null,"FA Cup",null,null,null,"League Cup",null,null,null,null,"AWS",null,null,null,null,null,null,null,null,null,null,null,null,null,null,null,null,null,null,null,null,null,null,null,null,null,null,null,null,null,null,null,null,null,null,null,null,null,null,null,null,null,null,null,null,null,null,null,null,null,null,null,null,"Opposition","Pts","Pos"]
[null,null,"Game","Competition","Date","Us & Them","Opponents",null,"Score","HT",null,"n",null,"n","Ref","Att","Pts","Pos","Pens","Goal Scorers",null,null,null,null,null,null,null,"Game","Competition","Date","Opponents",null,"Score",1,2,3,4,5,6,7,8,9,10,11,null,null,12,13,14,null,null,null,null,null,null,null,null,null,null,null,null,null,null,null,null,null,null,null,null,null,null,null,null,null,null,null,null,"Max (52)",null,null,null,null,"Max (46)",null,null,null,null,"Max (2)",null,null,null,null,"Max (2)",null,null,null,null,"Max (2)",null,null,null,null,null,null,null,null,null,null,null,null,null,null,null,null,null,null,null,null,null,null,null,null,null,null,null,null,null,null,null,null,null,null,null,null,null,null,null,null,null,null,null,null,null,null,null,null,null,null,null,null,"Wrexham (H) D 1-1",1,11]
[null,null,1,"Division 2","1996-08-17","- -","Wrexham","(H)","D 1-1","0-1",null,1,null,"-","R Furnandiz",9371,1,11,null,"Crawford (82 pen) / Watkin (20)",null,557,null,null,null,null,null,1,"Division 2","1996-08-17","Wrexham","(H)","D 1-1","Carter","Doyle","Newmann","Sinclair (59)","Witter","Stevens","Bowry","Savage","Malkin","Crawford¹","Dair (72)",null,null,"Dolby","Hartley (72)","Neill (59)",null,null,null,null,null,null,null,null,null,null,null,null,null,null,null,null,null,null,null,null,null,null,null,null,null,null,null,"Player ","Apps","Sub","Nps","Goals",null,"Apps","Sub","Nps","Goals",null,"Apps","Sub","Nps","Goals",null,"Apps","Sub","Nps","Goals",null,"Apps","Sub","Nps","Goals",null,null,null,null,null,null,null,null,null,null,null,null,null,null,null,null,null,null,null,null,null,null,null,null,null,null,null,null,null,null,null,null,null,null,null,null,null,null,null,null,null,null,null,null,null,null,null,null,null,"Watford (A) W 2-0",4,5]
[null,null,2,"League Cup 1","1996-08-21","- -","Peterborough","(H)","W 1-0","1-0",null,1,null,"-","F Stretton",5145,"-","-",null,"Malkin (9)",null,null,null,null,null,null,null,2,"League Cup","1996-08-21","Peterborough","(H)","W 1-0","Carter","Newman","Harle","Bowryn","Witter","Stevens","Hartley (71)","Savage","Malkin¹","Crawford","Dair (89)",null,null,"Doyle","Dolby (89)","Neill (71)",null,null,null,null,null,null,null,null,null,null,null,null,null,null,null,null,null,null,null,null,null,null,null,null,null,null,null,"Steve Aris",{"$f":"CE6+CJ6+CO6+CT6","v":0},{"$f":"CF6+CK6+CP6+CU6","v":1},{"$f":"CG6+CL6+CQ6+CV6","v":1},{"$f":"CH6+CM6+CR6+CW6","v":0},null,0,0,1,0,null,0,0,0,0,null,0,0,0,0,null,0,1,0,0,null,0,1,1,0,null,{"$f":"IF(CY6=BZ6,\"OK\",\"Error\")","v":"OK"},{"$f":"IF(CZ6=CA6,\"OK\",\"Error\")","v":"OK"},"OK",null,null,null,null,null,null,null,null,null,null,null,null,null,null,null,null,null,null,null,null,null,null,null,null,null,null,null,null,null,null,null,null,null,null,null,null,null,null,null,null,"York (A) L 2-3",4,9]
[null,null,3,"Division 2","1996-08-24","11th v 5th","Watford","(A)","W 2-0","1-0",null,"-",null,"-","C Wilkes",9495,4,5,null,"Harle (45) Crawford (49)",null,null,null,null,null,null,null,3,"Division 2","1996-08-24","Watford","(A)","W 2-0","Carter","Newman","Harle¹","Webber","Witter","Stevens","Bowry","Savage (75)","Malkin","Crawford (88)¹ ","Dair",null,null,"Doyle","Hartley (88)","Neill (75)",null,null,null,null,null,null,null,null,null,null,null,null,null,null,null,null,null,null,null,null,null,null,null,null,null,null,null,"Greg Berry",{"$f":"CE7+CJ7+CO7+CT7","v":13},1,0,0,null,13,1,0,0,null,0,0,0,0,null,0,0,0,0,null,0,0,0,0,null,13,1,0,0,null,{"$f":"IF(CY7=BZ7,\"OK\",\"Error\")","v":"OK"},"OK","OK",null,null,null,null,null,null,null,null,null,null,null,null,null,null,null,null,null,null,null,null,null,null,null,null,null,null,null,null,null,null,null,null,null,null,null,null,null,null,null,null,"Burnley (H) W 2-1",7,5]
[null,null,4,"Division 2","1996-08-27","5th v 24th","York","(A)","L 2-3","2-1",null,3,null,"-","T Heilbron",3108,4,9,null,"Savage (7) Malkin (28) / Pepper (57 pen) & (62) Tolson (72)",null,null,null,null,null,null,null,4,"Division 2","1996-08-27","York","(A)","L 2-3","Carter","Newman","Harle (74)","Webber","Wittern","Stevensn","Bowry","Savage (71)n¹ ","Malkin","Crawford","Dair (71)",null,null,"Doyle (74)","Neill (71)","Hartley (71)",null,null,null,null,null,null,null,null,null,null,null,null,null,null,null,null,null,null,null,null,null,null,null,null,null,null,null,"Marc Bircham",6,0,10,0,null,6,0,10,0,null,0,0,0,0,null,0,0,0,0,null,0,0,0,0,null,6,0,10,0,null,"OK","OK","OK",null,null,null,null,null,null,null,null,null,null,null,null,null,null,null,null,null,null,null,null,null,null,null,null,null,null,null,null,null,null,null,null,null,null,null,null,null,null,null,null,"Bristol R (H) W 2-0",10,4]
[null,null,5,"Division 2","1996-08-31","9th v 5th","Burnley","(H)","W 2-1","0-0",null,1,null,"-","S Baines",9281,7,5,null,"Newman (70) Neill (79) / Nogan (75)",null,895,null,null,null,null,null,5,"Division 2","1996-08-31","Burnley","(H)","W 2-1","Carter","Newman¹","Neilln¹","Webber","Witter","Stevens","Bowry","Savage (13)","Malkin","Crawford (51)","Dair (75)",null,null,"Harle (75)","Dolby (51)","Doyle (13)",null,null,null,null,null,null,null,null,null,null,null,null,null,null,null,null,null,null,null,null,null,null,null,null,null,null,null,"Bobby Bowry",30,2,0,1,null,26,2,0,1,null,2,0,0,0,null,2,0,0,0,null,0,0,0,0,null,30,2,0,1,null,"OK","OK","OK",null,null,null,null,null,null,null,null,null,null,null,null,null,null,null,null,null,null,null,null,null,null,null,null,null,null,null,null,null,null,null,null,null,null,null,null,null,null,null,null,"Peterborough (A) D 3-3",11,5]
[null,null,6,"League Cup 1","1996-09-03","- -","Peterborough","(A)","L 0-2","0-1",null,2,null,"-","A Butler",4610,"-","-","PS","Charlery (15) Griffiths (114)",null,null,null,null,null,null,null,6,"League Cup","1996-09-03","Peterborough","(A)","L 0-2","Carter","Neill","Rogan","Webbern","Wittern","Stevens","Bowry","Newman","Malkin","Dolby (56)","Dair (107)",null,null,"Doyle","Harle (107)","Hartley (56)",null,null,null,null,null,null,null,null,null,null,null,null,null,null,null,null,null,null,null,null,null,null,null,null,null,null,null,"Mark Bright",4,0,0,1,null,3,0,0,1,null,0,0,0,0,null,0,0,0,0,null,1,0,0,0,null,4,0,0,1,null,"OK","OK","OK",null,null,null,null,null,null,null,null,null,null,null,null,null,null,null,null,null,null,null,null,null,null,null,null,null,null,null,null,null,null,null,null,null,null,null,null,null,null,null,null,"Notts Co (A) W 2-1",14,4]
[null,null,7,"Division 2","1996-09-07","5th v 12th","Bristol R","(H)","W 2-0","0-0",null,1,null,"-","N Barry",7881,10,4,null,"Rogan (50) Huckerby (60)",null,678,null,null,null,null,null,7,"Division 2","1996-09-07","Bristol R","(H)","W 2-0","Carter","Newman","Rogan","Webber","Witter","Stevens (38)","Bowry (83)n","Neill","Huckerby","Dair","Hartley (79)",null,null,"Malkin (38)","Harle (83)","Doyle (79)",null,null,null,null,null,null,null,null,null,null,null,null,null,null,null,null,null,null,null,null,null,null,null,null,null,null,null,"Richard Cadette",7,0,0,1,null,7,0,0,1,null,0,0,0,0,null,0,0,0,0,null,0,0,0,0,null,7,0,0,1,null,"OK","OK","OK",null,null,null,null,null,null,null,null,null,null,null,null,null,null,null,null,null,null,null,null,null,null,null,null,null,null,null,null,null,null,null,null,null,null,null,null,null,null,null,null,"Crewe (H) W 2-0",17,2]
[null,null,8,"Division 2","1996-09-10","4th v 16th","Peterborough","(A)","D 3-3","0-1",null,3,null,"-","D Orr",4442,11,5,null,"Huckerby (53) Neill (73) Malkin (90) / Rowe (43) Charlery (65) O'Connor (85)",null,null,null,null,null,null,null,8,"Division 2","1996-09-10","Peterborough","(A)","D 3-3","Carter","Newman","Rogann","Webbern","Wittern","Doyle (84)","Bowry","Neill","Malkin","Huckerby","Dair (81)",null,null,"Harle","Hartley (84)","Crawford (81)",null,null,null,null,null,null,null,null,null,null,null,null,null,null,null,null,null,null,null,null,null,null,null,null,null,null,null,"Dean Canoville",0,2,3,0,null,0,2,3,0,null,0,0,0,0,null,0,0,0,0,null,0,0,0,0,null,0,2,3,0,null,"OK","OK","OK",null,null,null,null,null,null,null,null,null,null,null,null,null,null,null,null,null,null,null,null,null,null,null,null,null,null,null,null,null,null,null,null,null,null,null,null,null,null,null,null,"Preston (A) L 1-2",17,2]
[null,null,9,"Division 2","1996-09-14","5th v 20th","Notts Co","(A)","W 2-1","0-0",null,1,null,"-","A Wiley",4473,14,4,null,"Neill (61) Robinson o.g (81) / Barraclough (72)",null,976,null,null,null,null,null,9,"Division 2","1996-09-14","Notts Co","(A)","W 2-1","Carter","Newman","Rogan","Doyle","Witter","Webbern","Bowry","Neill (80)¹","Malkin","Huckerby (67)","Dair",null,null,"Harle","Hartley (80)","Crawford (67)",null,null,null,null,null,null,null,null,null,null,null,null,null,null,null,null,null,null,null,null,null,null,null,null,null,null,null,"Tim Carter",51,0,0,0,null,46,0,0,0,null,2,0,0,0,null,2,0,0,0,null,1,0,0,0,null,51,0,0,0,null,"OK","OK","OK",null,null,null,null,null,null,null,null,null,null,null,null,null,null,null,null,null,null,null,null,null,null,null,null,null,null,null,null,null,null,null,null,null,null,null,null,null,null,null,null,"Stockport (H) L 3-4",17,6]
[null,null,10,"Division 2","1996-09-21","4th v 6th","Crewe","(H)","W 2-0","0-0",null,"-",null,"-","M Fletcher",9320,17,2,null,"Huckerby (66) Dair (89)",null,510,null,null,null,null,null,10,"Division 2","1996-09-21","Crewe","(H)","W 2-0","Carter","Doyle","Rogan (80)","Newman","Witter","Webber","Bowry","Neill","Crawford (84)","Huckerby","Dair¹",null,null,"Malkin (84)","Harle (80)","Hartley",null,null,null,null,null,null,null,null,null,null,null,null,null,null,null,null,null,null,null,null,null,null,null,null,null,null,null,"Steve Crawford",45,2,0,15,null,40,2,0,11,null,2,0,0,1,null,1,0,0,0,null,2,0,0,3,null,46,2,0,15,null,"Error","OK","OK",null,null,null,null,null,null,null,null,null,null,null,null,null,null,null,null,null,null,null,null,null,null,null,null,null,null,null,null,null,null,null,null,null,null,null,null,null,null,null,null,"Plymouth (A) D 0-0",18,6]
[null,null,11,"Division 2","1996-09-28","2nd v 21st","Preston","(A)","L 1-2","0-1",null,1,null,"-","G Singh",9400,17,2,null,"Newman (64) / Holt (4) Saville (46)",null,null,null,null,null,null,null,11,"Division 2","1996-09-28","Preston","(A)","L 1-2","Carter","Doyle (81)n","Rogan","Newman¹","Witter","Webber","Bowry","Crawford (50)","Malkin","Huckerby","Dair (56)",null,null,"Sinclair (81)","Hartley (50)","Savage (56)",null,null,null,null,null,null,null,null,null,null,null,null,null,null,null,null,null,null,null,null,null,null,null,null,null,null,null,"Jason Dair",26,3,3,3,null,21,3,3,1,null,2,0,0,0,null,2,0,0,0,null,1,0,0,2,null,26,3,3,3,null,"OK","OK","OK",null,null,null,null,null,null,null,null,null,null,null,null,null,null,null,null,null,null,null,null,null,null,null,null,null,null,null,null,null,null,null,null,null,null,null,null,null,null,null,null,"Chesterfield (H) W 2-1",21,5]
[null,null,12,"Division 2","1996-10-02","6th v 18th","Stockport","(H)","L 3-4","1-1",null,"-",null,"-","C Wilkes",7537,17,6,null,"Rogan (28) & (71) Hartley (74) / Durkan (24) Armstrong (61) & (90)",null,223,null,null,null,null,null,12,"Division 2","1996-10-02","Stockport","(H)","L 3-4","Carter","Doyle","Rogan²","Newman (70)","Witter","Webber","Bowry","Neill (80)","Crawford","Huckerby","Savage",null,null,"Harle","Hartley (70)¹ ","Hockton (80)",null,null,null,null,null,null,null,null,null,null,null,null,null,null,null,null,null,null,null,null,null,null,null,null,null,null,null,"Tony Dolby",18,8,7,2,null,15,6,7,2,null,0,1,0,0,null,1,1,0,0,null,2,0,0,0,null,18,9,6,2,null,"OK","Error","Error",null,null,null,null,null,null,null,null,null,null,null,null,null,null,null,null,null,null,null,null,null,null,null,null,null,null,null,null,null,null,null,null,null,null,null,null,null,null,null,null,"Bury (H) W 1-0",24,2]
[null,null,null,null,null,null,null,null,null,null,null,null,null,null,null,null,null,null,null,"Gannon (63)",null,null,null,null,null,null,null,13,"Division 2","1996-10-05","Plymouth","(A)","D 0-0","Carter","Doylen","Rogan (51)","Webber (55)","Harle","Savage","Bowry","Neill","Hartley","Dolbyn","Dair (86)",null,null,"Newman (51)n","Robertson (86)","Hockton(55)n",null,null,null,null,null,null,null,null,null,null,null,null,null,null,null,null,null,null,null,null,null,null,null,null,null,null,null,"Maurice Doyle",20,10,12,1,null,19,9,9,1,null,0,0,1,0,null,0,0,2,0,null,1,1,0,0,null,20,9,13,1,null,"OK","Error","Error",null,null,null,null,null,null,null,null,null,null,null,null,null,null,null,null,null,null,null,null,null,null,null,null,null,null,null,null,null,null,null,null,null,null,null,null,null,null,null,null,"Gillingham (A) W 3-2",27,2]
[null,null,13,"Division 2","1996-10-05","7th v 16th","Plymouth","(A)","D 0-0","0-0",null,4,null,"-","J Brandwood",7507,18,6,"PS",null,null,null,null,null,null,null,null,14,"Division 2","1996-10-12","Chesterfield","(H)","W 2-1","Carter","Newman","Rogan¹","Savage (75)","Wittern","Fitzgerald","Bowry","Neilln¹","Crawford","Dolby","Hartley",null,null,"Doyle (75) n","Dair","Harle",null,null,null,null,null,null,null,null,null,null,null,null,null,null,null,null,null,null,null,null,null,null,null,null,null,null,null,"Scott Fitzgerald",7,0,0,0,null,7,0,0,0,null,0,0,0,0,null,0,0,0,0,null,0,0,0,0,null,7,0,0,0,null,"OK","OK","OK",null,null,null,null,null,null,null,null,null,null,null,null,null,null,null,null,null,null,null,null,null,null,null,null,null,null,null,null,null,null,null,null,null,null,null,null,null,null,null,null,"Brentford (A) D 0-0",28,2]
[null,null,14,"Division 2","1996-10-12","7th v 4th","Chesterfield","(H)","W 2-1","2-1",null,3,null,"-","M Pierce",7765,21,5,"PS","Neill (31) Rogan (36) / Beaumont (25)",null,null,null,null,null,null,null,15,"Division 2","1996-10-16","Bury","(H)","W 1-0","Carter","Newman","Rogan¹","Savage (84)","Witter","Fitzgerald","Bowry","Neiln","Crawford","Hartley","Dolby (87)",null,null,"Doyle","Dair (84)","Harle (87)",null,null,null,null,null,null,null,null,null,null,null,null,null,null,null,null,null,null,null,null,null,null,null,null,null,null,null,"Stephen Forbes",0,0,2,0,null,0,0,2,0,null,0,0,0,0,null,0,0,0,0,null,0,0,0,0,null,0,0,2,0,null,"OK","OK","OK",null,null,null,null,null,null,null,null,null,null,null,null,null,null,null,null,null,null,null,null,null,null,null,null,null,null,null,null,null,null,null,null,null,null,null,null,null,null,null,null,"Blackpool (H) W 2-1",31,2]
[null,null,15,"Division 2","1996-10-16","5th v 2nd","Bury","(H)","W 1-0","1-0",null,1,null,"-","U Rennie",6447,24,2,null,"Rogan (22) ",null,204,null,null,null,null,null,16,"Division 2","1996-10-19","Gillingham","(A)","W 3-2","Cartern","Newman","Rogan","Savage (86)","Witter","Fitzgerald","Bowry","Neill","Crawford²","Hartley¹","Dolby",null,null,"Doyle","Dair","Harle (86)",null,null,null,null,null,null,null,null,null,null,null,null,null,null,null,null,null,null,null,null,null,null,null,null,null,null,null,"Micky Harle",15,10,7,1,null,12,9,7,1,null,1,0,0,0,null,1,1,0,0,null,1,0,0,0,null,14,10,7,1,null,"Error","OK","OK",null,null,null,null,null,null,null,null,null,null,null,null,null,null,null,null,null,null,null,null,null,null,null,null,null,null,null,null,null,null,null,null,null,null,null,null,null,null,null,null,"Walsall (H) W 1-0",34,1]
[null,null,16,"Division 2","1996-10-19","2nd v 13th","Gillingham","(A)","W 3-2","1-0",null,2,null,"-","R Harris",9305,27,2,null,"Crawford (22) & (70) Hartley (72) / Butler (54 pen) & (84 pen) ",null,3500,null,null,null,null,null,17,"Division 2","1996-10-26","Brentford","(A)","D 0-0","Carter","Newman","Rogann","Savage","Witter","Fitzgeraldn","Bowry","Neill","Crawfordn¹","Hartley","Dolby (65)",null,null,"Doyle","Dair (65)","Harle",null,null,null,null,null,null,null,null,null,null,null,null,null,null,null,null,null,null,null,null,null,null,null,null,null,null,null,"Paul Hartley",39,10,1,4,null,35,9,1,4,null,2,0,0,0,null,1,1,0,0,null,1,0,0,0,null,39,10,1,4,null,"OK","OK","OK",null,null,null,null,null,null,null,null,null,null,null,null,null,null,null,null,null,null,null,null,null,null,null,null,null,null,null,null,null,null,null,null,null,null,null,null,null,null,null,null,"Bristol C (A) D 1-1",35,1]
[null,null,17,"Division 2","1996-10-26","2nd v 1st","Brentford","(A)","D 0-0","0-0",null,2,null,"-","P Richards",7691,28,2,null,null,null,null,null,null,null,null,null,18,"Division 2","1996-10-30","Blackpool","(H)","W 2-1","Carter","Newman","Rogann²","Savage (31)","Wittern","Fitzgeraldn","Bowry","Neill","Crawford","Hartley","Dolby",null,null,"Doyle","Dair (31)","Harle",null,null,null,null,null,null,null,null,null,null,null,null,null,null,null,null,null,null,null,null,null,null,null,null,null,null,null,"Danny Hockton",0,2,1,0,null,0,2,1,0,null,0,0,0,0,null,0,0,0,0,null,0,0,0,0,null,0,2,1,0,null,"OK",{"$f":"IF(CZ22=CA22,\"OK\",\"Error\")","v":"OK"},{"$f":"IF(DA22=CB22,\"OK\",\"Error\")","v":"OK"},null,null,null,null,null,null,null,null,null,null,null,null,null,null,null,null,null,null,null,null,null,null,null,null,null,null,null,null,null,null,null,null,null,null,null,null,null,null,null,null,"Shrewsbury (H) W 2-1",38,1]
[null,null,18,"Division 2","1996-10-30","3rd v 16th","Blackpool","(H)","W 2-1","0-1",null,3,null,"-","M Halsey",7179,31,2,null,"Rogan (56 pen) & (81 pen) / Malkin (13)",null,333,null,null,null,null,null,19,"Division 2","1996-11-02","Walsall","(H)","W 1-0","Carter","Newman","Rogan","Dairn","Witter","Fitzgeraldn","Bowry","Neill","Crawford¹","Dolby (80)","Hartley",null,null,"Harle","Lavin (80)","Hockton",null,null,null,null,null,null,null,null,null,null,null,null,null,null,null,null,null,null,null,null,null,null,null,null,null,null,null,"Darren Huckerby",6,0,0,3,null,6,0,0,3,null,0,0,0,0,null,0,0,0,0,null,0,0,0,0,null,6,0,0,3,null,"OK","OK","OK",null,null,null,null,null,null,null,null,null,null,null,null,null,null,null,null,null,null,null,null,null,null,null,null,null,null,null,null,null,null,null,null,null,null,null,null,null,null,null,null,"Rotherham (A) D 0-0",39,1]
[null,null,19,"Division 2","1996-11-02","2nd v 20th","Walsall","(H)","W 1-0","1-0",null,2,null,"-","I Bennett",9176,34,1,null,"Crawford (4) ",null,365,null,null,null,null,null,20,"Division 2","1996-11-09","Bristol C","(A)","D 1-1","Carter","Newman","Harle","Savage","Wittern","Fitzgerald (70)","Bowry","Neill","Crawford¹","Dair","Hartley",null,null,"Lavin (70)","Van Blerk","Webber",null,null,null,null,null,null,null,null,null,null,null,null,null,null,null,null,null,null,null,null,null,null,null,null,null,null,null,"Andrew Iga",1,1,0,0,null,0,1,0,0,null,0,0,0,0,null,0,0,0,0,null,1,0,0,0,null,1,1,0,0,null,"OK","OK","OK",null,null,null,null,null,null,null,null,null,null,null,null,null,null,null,null,null,null,null,null,null,null,null,null,null,null,null,null,null,null,null,null,null,null,null,null,null,null,null,null,"Brentford (H) D 0-0",40,1]
[null,null,20,"Division 2","1996-11-09","1st v 7th","Bristol C","(A)","D 1-1","0-0",null,1,null,"-","S Baines",12326,35,1,null,"Crawford (77) / Barnard (82)",null,null,null,null,null,null,null,21,"FA Cup","1996-11-15","Woking","(A)","D 2-2","Carter","Newmann","Rogann","Savage¹","Witter (66)","Harle (66)n","Bowry","Neill","Crawford¹","Dair","Hartley",null,null,"Webber","Lavin (66)","Van Blerk (66)",null,null,null,null,null,null,null,null,null,null,null,null,null,null,null,null,null,null,null,null,null,null,null,null,null,null,null,"Gerard Lavin",9,3,0,0,null,7,2,0,0,null,1,1,0,0,null,0,0,0,0,null,1,0,0,0,null,9,3,0,0,null,"OK","OK","OK",null,null,null,null,null,null,null,null,null,null,null,null,null,null,null,null,null,null,null,null,null,null,null,null,null,null,null,null,null,null,null,null,null,null,null,null,null,null,null,null,"Wycombe (A) L 0-1",40,2]
[null,null,21,"FA Cup 1","1996-11-15","- -","Woking","(A)","D 2-2","2-1",null,3,null,"-","G Willard",5448,"-","-",null,"Savage (19) Crawford (28) / Foster (4) Walker (54 pen)",null,null,null,null,null,null,null,22,"Division 2","1996-11-20","Shrewsbury","(H)","W 2-1","Carter","Lavin","Rogan","Savage (45)","Webber","Newmann","Bowry","Neill (79)","Crawford²","Dair","Hartley",null,null,"Doyle (79)","Sinclair","Dolby (45)",null,null,null,null,null,null,null,null,null,null,null,null,null,null,null,null,null,null,null,null,null,null,null,null,null,null,null,"Chris Malkin",9,2,0,3,null,7,2,0,2,null,0,0,0,0,null,2,0,0,1,null,0,0,0,0,null,8,2,0,3,null,"Error","OK","OK",null,null,null,null,null,null,null,null,null,null,null,null,null,null,null,null,null,null,null,null,null,null,null,null,null,null,null,null,null,null,null,null,null,null,null,null,null,null,null,null,"Bournemouth (A) D 1-1",41,2]
[null,null,22,"Division 2","1996-11-20","1st v 13th","Shrewsbury","(H)","W 2-1","1-1",null,1,null,"-","F Stretton",5770,38,1,null,"Crawford (2) & (63) / Stevens (36)",null,206,null,null,null,null,null,23,"Division 2","1996-11-23","Rotherham","(A)","D 0-0","Carter","Lavin","Rogan","Savage","Webber","Newman","Bowry","Neill","Crawford","Dair","Hartley",null,null,"Doyle","Sinclair","Dolby",null,null,null,null,null,null,null,null,null,null,null,null,null,null,null,null,null,null,null,null,null,null,null,null,null,null,null,"Alan McLeary",15,0,0,0,null,15,0,0,0,null,0,0,0,0,null,0,0,0,0,null,0,0,0,0,null,15,0,0,0,null,"OK","OK","OK",null,null,null,null,null,null,null,null,null,null,null,null,null,null,null,null,null,null,null,null,null,null,null,null,null,null,null,null,null,null,null,null,null,null,null,null,null,null,null,null,"Luton (H) L 0-1",41,3]
[null,null,23,"Division 2","1996-11-23","1st v 23rd","Rotherham","(A)","D 0-0","0-0",null,"-",null,"-","I Cruickshanks",3286,39,1,null,null,null,null,null,null,null,null,null,24,"FA Cup","1996-11-26","Woking","(H)","L 0-1","Carter","Lavin","Rogan","Savage","Webbern","Newman","Bowry","Neill (61)","Crawford","Dair (85)","Hartley",null,null,"Doyle","Sinclair (85)","Dolby (61)",null,null,null,null,null,null,null,null,null,null,null,null,null,null,null,null,null,null,null,null,null,null,null,null,null,null,null,"Lee McRobert",3,2,0,0,null,3,1,0,0,null,0,0,0,0,null,0,0,0,0,null,0,1,0,0,null,3,2,0,0,null,"OK","OK","OK",null,null,null,null,null,null,null,null,null,null,null,null,null,null,null,null,null,null,null,null,null,null,null,null,null,null,null,null,null,null,null,null,null,null,null,null,null,null,null,null,"Peterborough (H) L 0-2",41,4]
[null,null,24,"FA Cup 1R","1996-11-26","- -","Woking","(H)","L 0-1","0-1",null,"-",null,"-","G Willard",6048,"-","-",null,"Walker (9)",null,1265,null,null,null,null,null,25,"Division 2","1996-11-29","Brentford","(H)","D 0-0","Carter","Lavin","Rogan","Newman","Webber","Sinclair","Savage (--)","Neill","Crawford","Dair","Hartley",null,null,"Dolby","Doyle","Van Blerk (--)",null,null,null,null,null,null,null,null,null,null,null,null,null,null,null,null,null,null,null,null,null,null,null,null,null,null,null,"Lucas Neill",39,5,0,4,null,35,4,0,4,null,2,0,0,0,null,1,1,0,0,null,1,0,0,0,null,39,5,0,4,null,"OK","OK","OK",null,null,null,null,null,null,null,null,null,null,null,null,null,null,null,null,null,null,null,null,null,null,null,null,null,null,null,null,null,null,null,null,null,null,null,null,null,null,null,null,"Preston (H) W 3-2",44,3]
[null,null,25,"Division 2","1996-11-29","1st v 2nd","Brentford","(H)","D 0-0","0-0",null,"-",null,"-","M Bailey",7845,40,1,null,null,null,null,null,null,null,null,null,26,"Division 2","1996-12-03","Wycombe","(A)","L 0-1","Carter","Lavin","Rogan","Savage","Webbern","Sinclair","Bowry (74)","Neill","Crawford","Dair (74)","Hartley",null,null,"Doyle (74)","Dolby","Van Blerk (74)",null,null,null,null,null,null,null,null,null,null,null,null,null,null,null,null,null,null,null,null,null,null,null,null,null,null,null,"Ricky Newman",45,2,1,3,null,39,2,1,3,null,2,0,0,0,null,2,0,0,0,null,2,0,0,0,null,45,2,1,3,null,"OK","OK","OK",null,null,null,null,null,null,null,null,null,null,null,null,null,null,null,null,null,null,null,null,null,null,null,null,null,null,null,null,null,null,null,null,null,null,null,null,null,null,null,null,"Stockport (A) L 1-5",44,5]
[null,null,26,"Division 2","1996-12-03","1st v 24th","Wycombe","(A)","L 0-1","0-0",null,"-",null,"-","G Pooley",4550,40,2,null,"Bell (77)",null,null,null,null,null,null,null,27,"AWS","1996-12-07","Hereford Utd","(A)","W 4-0","Carter","Lavin (81)","Van Blerk","Newman","Webber","Sinclair","Doyle","Neill (76)","Crawford²","Dair²","Dolby (52)n",null,null,"McRobert (52)","Robertson (76)","Aris (81)",null,null,null,null,null,null,null,null,null,null,null,null,null,null,null,null,null,null,null,null,null,null,null,null,null,null,null,"Grahame Robertson",0,2,0,0,null,0,1,0,0,null,0,0,0,0,null,0,0,0,0,null,0,1,0,0,null,0,2,0,0,null,"OK","OK","OK",null,null,null,null,null,null,null,null,null,null,null,null,null,null,null,null,null,null,null,null,null,null,null,null,null,null,null,null,null,null,null,null,null,null,null,null,null,null,null,null,"Blackpool (A) L 0-3",44,6]
[null,null,27,"AWS 1","1996-12-07","- -","Hereford Utd","(A)","W 4-0","2-0",null,1,null,"-","C Foy",1710,"-","-",null,"Dair (4) & (48) Crawford (38) & (53)",null,null,null,null,null,null,null,28,"Division 2","1996-12-14","Bournemouth","(A)","D 1-1","Carter","Lavin¡","Van Blerkn","Savage","Webber (30)","Sinclairn","Newman","Neilln","Crawford","Bright¹","Dairn",null,null,"Dolby","Hartley (30)","Doyle",null,null,null,null,null,null,null,null,null,null,null,null,null,null,null,null,null,null,null,null,null,null,null,null,null,null,null,"Steven Roche",4,3,1,0,null,4,3,1,0,null,0,0,0,0,null,0,0,0,0,null,0,0,0,0,null,4,3,1,0,null,"OK","OK","OK",null,null,null,null,null,null,null,null,null,null,null,null,null,null,null,null,null,null,null,null,null,null,null,null,null,null,null,null,null,null,null,null,null,null,null,null,null,null,null,null,"Bristol C (H) L 0-2",44,9]
[null,null,28,"Division 2","1996-12-14","2nd v 19th","Bournemouth","(A)","D 1-1","1-0",null,5,null,"-","R Styles",4494,41,2,null,"Bright (10) / Holland (52)",null,null,null,null,null,null,null,29,"Division 2","1996-12-18","Luton","(H)","L 0-1","Carter","Lavin","Van Blerk","Newman","Sinclair","Rogan","Hartley (67)","Neill (84)","Crawford","Bright","Dair (84)n",null,null,"Savage (67)","Harle (84)","Dolby (84)",null,null,null,null,null,null,null,null,null,null,null,null,null,null,null,null,null,null,null,null,null,null,null,null,null,null,null,"Anton Rogan",30,2,2,8,null,26,2,2,8,null,2,0,0,0,null,1,0,0,0,null,1,0,0,0,null,30,2,2,8,null,"OK","OK","OK",null,null,null,null,null,null,null,null,null,null,null,null,null,null,null,null,null,null,null,null,null,null,null,null,null,null,null,null,null,null,null,null,null,null,null,null,null,null,null,null,"Walsall (A) L 1-2",44,10]
[null,null,29,"Division 2","1996-12-18","2nd v 3rd","Luton","(H)","L 0-1","0-0",null,1,null,"-","G Singh",7077,41,3,null,"Hughes (89)",null,null,null,null,null,null,null,30,"Division 2","1996-12-26","Peterborough","(H)","L 0-2","Carter (17)","Lavin (76)","Rogann","Sinclair","Webber","Harle","Hartleyn","Newman","Crawford","Bright","Dair (45)",null,null,"Van Blerk (76)","Iga (17)","Dolby (45)",null,null,null,null,null,null,null,null,null,null,null,null,null,null,null,null,null,null,null,null,null,null,null,null,null,null,null,"Richard Sadlier",{"$f":"CE34+CJ34+CO34+CT34","v":7},{"$f":"CF34+CK34+CP34+CU34","v":3},{"$f":"CG34+CL34+CQ34+CV34","v":0},{"$f":"CH34+CM34+CR34+CW34","v":0},null,7,3,0,0,null,0,0,0,0,null,0,0,0,0,null,0,0,0,0,null,7,3,0,0,null,"OK","OK","OK",null,null,null,null,null,null,null,null,null,null,null,null,null,null,null,null,null,null,null,null,null,null,null,null,null,null,null,null,null,null,null,null,null,null,null,null,null,null,null,null,"Rotherham (H) W 2-0",47,7]
[null,null,30,"Division 2","1996-12-26","4th v 21st","Peterborough","(H)","L 0-2","0-2",null,2,null,"-","J Hardy",8118,41,4,null,"Houghton (4) Houghton (25)",null,251,null,null,null,null,null,31,"AWS","1997-01-07","Colchester Utd","(H)","L 2-3","Iga","Newman","Harle","Savage¹","Webber","Rogan (55)","Hartley (51)","Wilkins","Crawford (86)¹","Bright","Dolby",null,null,"Sinclair (55)","Van Blerk (86)","Doyle (51)n",null,null,null,null,null,null,null,null,null,null,null,null,null,null,null,null,null,null,null,null,null,null,null,null,null,null,null,"Dave Savage",36,3,1,5,null,32,3,1,3,null,2,0,0,1,null,1,0,0,0,null,1,0,0,1,null,36,3,1,5,null,"OK","OK","OK",null,null,null,null,null,null,null,null,null,null,null,null,null,null,null,null,null,null,null,null,null,null,null,null,null,null,null,null,null,null,null,null,null,null,null,null,null,null,null,null,"Shrewsbury (A) D 1-1",48,7]
[null,null,31,"AWS 2","1997-01-07","- -","Colchester Utd","(H)","L 2-3","1-0",null,2,null,"-","R Harris",2795,"-","-",null,"Crawford (10) Savage (76) / Adcock (53) & (89) Buckle (93)",null,176,null,null,null,null,null,32,"Division 2","1997-01-11","Preston","(H)","W 3-2","Carter","Birchamn","Roche","Newman","Webbern","Harle","Savagen¹","Wilkins","Crawford (78)¹","Cadette¹","Hartley",null,null,"Sinclair","Dolby","Bowry (78)",null,null,null,null,null,null,null,null,null,null,null,null,null,null,null,null,null,null,null,null,null,null,null,null,null,null,null,"Dave Sinclair",7,4,4,0,null,6,2,4,0,null,0,1,0,0,null,0,0,0,0,null,1,1,0,0,null,7,4,4,0,null,"OK","OK","OK",null,null,null,null,null,null,null,null,null,null,null,null,null,null,null,null,null,null,null,null,null,null,null,null,null,null,null,null,null,null,null,null,null,null,null,null,null,null,null,null,"Notts Co (H) W 1-0",51,5]
[null,null,null,null,null,null,null,"2-2 after 90 mins, Millwall Lost on Golden Goal",null,null,null,null,null,null,null,null,null,null,null,null,null,null,null,null,null,null,null,33,"Division 2","1997-01-18","Stockport","(A)","L 1-5","Carter","Birchamn (29)","Roche (45)","Newman","Webber¹","Harle","Savage","Wilkinsn","Crawford","Cadette (45)","Hartley",null,null,"Sinclair (45)","Dolby","Bowry (45)",null,null,null,null,null,null,null,null,null,null,null,null,null,null,null,null,null,null,null,null,null,null,null,null,null,null,null,"Keith Stevens",8,0,0,0,null,6,0,0,0,null,0,0,0,0,null,2,0,0,0,null,0,0,0,0,null,8,0,0,0,null,"OK","OK","OK",null,null,null,null,null,null,null,null,null,null,null,null,null,null,null,null,null,null,null,null,null,null,null,null,null,null,null,null,null,null,null,null,null,null,null,null,null,null,null,null,"Wycombe (H) W 2-1",54,3]
[null,null,32,"Division 2","1997-01-11","4th v 17th","Preston","(H)","W 3-2","1-2",null,3,null,"-","M Pierce",7096,44,3,null,"Cadette (23) Crawford (56) Savage (68) / Davy (24) & (35 pen) ",null,639,null,null,null,null,null,34,"Division 2","1997-01-25","Blackpool","(A)","L 0-3","Carter","Newman","Harlen","Savage (62)","Webber","Rogan","Bowry","Wilkins","Crawford","Cadette (62)","Hartley",null,null,"Dolby (62)","Sinclair","Neill (62)",null,null,null,null,null,null,null,null,null,null,null,null,null,null,null,null,null,null,null,null,null,null,null,null,null,null,null,"Jason Van Blerk",3,5,1,0,null,2,3,1,0,null,0,1,0,0,null,0,0,0,0,null,1,1,0,0,null,3,4,2,0,null,"OK","Error","Error",null,null,null,null,null,null,null,null,null,null,null,null,null,null,null,null,null,null,null,null,null,null,null,null,null,null,null,null,null,null,null,null,null,null,null,null,null,null,null,null,"Luton (A) W 2-0",57,3]
[null,null,33,"Division 2","1997-01-18","3rd v 17th","Stockport","(A)","L 1-5","1-3",null,1,null,1,"T Lunt",7502,44,5,null,"Webber (28) / Mutch (12) Armstrong (31 pen) Flynn (35) Cavaco (46) & (52)",null,null,null,null,null,null,null,35,"Division 2","1997-02-01","Bristol C","(H)","L 0-2","Carter","Newman (75)","Rogan","Savage (67)n","Witter","Stevens (13)","Neill","Bowry","Crawford","Dair","Dolbyn",null,null,"Harle (13)","Hartley (67)","Sadlier (75)",null,null,null,null,null,null,null,null,null,null,null,null,null,null,null,null,null,null,null,null,null,null,null,null,null,null,null,"Damien Webber",29,1,10,2,null,25,1,9,2,null,1,0,1,0,null,1,0,0,0,null,2,0,0,0,null,29,1,10,2,null,"OK","OK","OK",null,null,null,null,null,null,null,null,null,null,null,null,null,null,null,null,null,null,null,null,null,null,null,null,null,null,null,null,null,null,null,null,null,null,null,null,null,null,null,null,"Bournemouth (H) L 0-1",57,6]
[null,null,34,"Division 2","1997-01-25","5th v 15th","Blackpool","(A)","L 0-3","0-2",null,1,null,"-","S Mathieson",4523,44,6,null,"Ellis (4) Quinn (26) Darton (58)",null,null,null,null,null,null,null,36,"Division 2","1997-02-08","Walsall","(A)","L 1-2","Carter","Neill","Rogan (45)","Bowry (55)¹","Webbern","Newmann","Savagen","Hartleyn","Crawford","Dolby","Dair",null,null,"Harle (45) (55)","McRobert (55)","Sadlier (55)",null,null,null,null,null,null,null,null,null,null,null,null,null,null,null,null,null,null,null,null,null,null,null,null,null,null,null,"Ray Wilkins",4,0,0,0,null,3,0,0,0,null,0,0,0,0,null,0,0,0,0,null,1,0,0,0,null,4,0,0,0,null,"OK","OK","OK",null,null,null,null,null,null,null,null,null,null,null,null,null,null,null,null,null,null,null,null,null,null,null,null,null,null,null,null,null,null,null,null,null,null,null,null,null,null,null,null,"Crewe (A) D 0-0",58,5]
[null,null,35,"Division 2","1997-02-01","7th v 4th","Bristol C","(H)","L 0-2","0-1",null,2,null,"-","D Pugh",9158,44,9,null,"Goater (15 pen) & (63)",null,null,null,null,null,null,null,37,"Division 2","1997-02-15","Rotherham","(H)","W 2-0","Carter","Neill","Berry","Newman","Webber","Witter","Hartleyn","Savagen","Crawford¹","Cadette","McRobert",null,null,"Doyle","Dair","Bircham",null,null,null,null,null,null,null,null,null,null,null,null,null,null,null,null,null,null,null,null,null,null,null,null,null,null,null,"Tony Witter",36,0,0,0,null,33,0,0,0,null,1,0,0,0,null,2,0,0,0,null,0,0,0,0,null,37,0,0,0,null,"Error","OK","OK",null,null,null,null,null,null,null,null,null,null,null,null,null,null,null,null,null,null,null,null,null,null,null,null,null,null,null,null,null,null,null,null,null,null,null,null,null,null,null,null,"Watford (H) L 0-1",58,8]
[null,null,36,"Division 2","1997-02-08","9th v 12th","Walsall","(A)","L 1-2","1-2",null,4,null,"-","E Lomas",3833,44,10,null,"Bowry (12) / Watson (20) Viveash (24)",null,null,null,null,null,null,null,38,"Division 2","1997-02-22","Shrewsbury","(A)","D 1-1","Carter","Neill","Berry","Newman","McLeary","Witter","Hartley","Savage (67)","Crawford","Cadetten","McRobert",null,null,"Bircham","Doyle (67)¹","Forbes",null,null,null,null,null,null,null,null,null,null,null,null,null,null,null,null,null,null,null,null,null,null,null,null,null,null,null,null,null,null,null,null,null,null,null,null,null,null,null,null,null,null,null,null,null,null,null,null,null,null,null,null,null,null,null,null,null,null,null,null,null,null,null,null,null,null,null,null,null,null,null,null,null,null,null,null,null,null,null,null,null,null,null,null,null,null,null,null,null,null,null,null,null,null,null,null,null,null,null,null,null,"Wrexham (A) D 3-3",59,6]
[null,null,37,"Division 2","1997-02-15","12th v 24th","Rotherham","(H)","W 2-0","0-0",null,2,null,"-","A D'Urso",7043,47,7,null,"Crawford (81) Gayle o.g. (90)",null,null,null,null,null,null,null,39,"Division 2","1997-02-25","Notts Co","(H)","W 1-0","Carter","Neill","Berry","Newman","McLeary","Witter","Hartley","Savage (89)¹","Crawford","Cadette","McRobert (55)",null,null,"Dolby (55)n","Doyle (89)","Forbes",null,null,null,null,null,null,null,null,null,null,null,null,null,null,null,null,null,null,null,null,null,null,null,null,null,null,null,"Own Goals",null,null,null,{"$f":"CH43+CM43+CR43+CW43","v":2},null,null,null,null,2,null,null,null,null,0,null,null,null,null,0,null,null,null,null,0,null,null,null,null,null,null,null,null,null,null,null,null,null,null,null,null,null,null,null,null,null,null,null,null,null,null,null,null,null,null,null,null,null,null,null,null,null,null,null,null,null,null,null,null,null,null,null,null,null,"York (H) D 1-1",60,8]
[null,null,38,"Division 2","1997-02-22","7th v 14th","Shrewsbury","(A)","D 1-1","0-1",null,1,null,"-","B Coddington",2968,48,7,null,"Doyle (90) / Anthrobus (40)",null,null,null,null,null,null,null,40,"Division 2","1997-03-01","Wycombe","(H)","W 2-1","Carter","Neill","Berry","Newman","McLeary","Witter","Hartley¹","Doyle","Crawford (16)","Cadette","Dolbyn¹",null,null,"Webber","Roche (16)","Bircham",null,null,null,null,null,null,null,null,null,null,null,null,null,null,null,null,null,null,null,null,null,null,null,null,null,null,null,null,null,null,null,null,null,null,null,null,null,null,null,null,null,null,null,null,null,null,null,null,null,null,null,null,null,null,null,null,null,null,null,null,null,null,null,null,null,null,null,null,null,null,null,null,null,null,null,null,null,null,null,null,null,null,null,null,null,null,null,null,null,null,null,null,null,null,null,null,null,null,null,null,null,"Burnley (A) L 0-1",60,10]
[null,null,39,"Division 2","1997-02-25","7th v 23rd","Notts Co","(H)","W 1-0","0-0",null,1,null,"-","N Barry",5202,51,5,null,"Savage (85) ",null,108,null,null,null,null,null,41,"Division 2","1997-03-08","Luton","(A)","W 2-0","Cartern","Neill","Berry","Savage","McLeary","Witter","Hartley","Doyle","Crawford","Roche (54)n","Dolby",null,null,"Webber","Sadlier (54)","Bircham",null,null,null,null,null,null,null,null,null,null,null,null,null,null,null,null,null,null,null,null,null,null,null,null,null,null,null,"Goals",null,null,null,{"$f":"SUM(CC6:CC43)","v":59},null,null,null,null,{"$f":"SUM(CH6:CH43)","v":50},null,null,null,null,{"$f":"SUM(CM6:CM43)","v":2},null,null,null,null,{"$f":"SUM(CR6:CR43)","v":1},null,null,null,null,{"$f":"SUM(CW6:CW43)","v":6},null,null,null,null,null,null,null,null,null,null,null,null,null,null,null,null,null,null,null,null,null,null,null,null,null,null,null,null,null,null,null,null,null,null,null,null,null,null,null,null,null,null,null,null,null,null,null,null,null,"Bristol R (A) L 0-1",60,10]
[null,null,40,"Division 2","1997-03-01","5th v 21st","Wycombe","(H)","W 2-1","1-1",null,1,null,"-","R Furnandiz",7539,54,3,null,"Hartley (14) Dolby (66) / Forsyth (40)",null,754,null,null,null,null,null,42,"Division 2","1997-03-15","Bournemouth","(H)","L 0-1","Carter","Neill","Berry","Savage","McLeary","Wittern","Hartleyn","Doyle","Crawford","Sadlier (74)","Dolbyn",null,null,"Webber","Roche (74)","Bircham",null,null,null,null,null,null,null,null,null,null,null,null,null,null,null,null,null,null,null,null,null,null,null,null,null,null,null,null,null,null,null,null,null,null,null,null,null,null,null,null,null,null,null,null,null,null,null,null,null,null,null,null,null,null,null,null,null,null,null,null,null,null,null,null,null,null,null,null,null,null,null,null,null,null,null,null,null,null,null,null,null,null,null,null,null,null,null,null,null,null,null,null,null,null,null,null,null,null,null,null,null,"Plymouth (H) D 0-0",61,11]
[null,null,41,"Division 2","1997-03-08","4th v 2nd","Luton","(A)","W 2-0","0-0",null,2,null,"-","G Frankland",8585,57,3,null,"Dolby (79) Hartley (88)",null,null,null,null,null,null,null,43,"Division 2","1997-03-18","Crewe","(A)","D 0-0","Carter","Neill","Berry","Newmann","McLeary","Witter","Hartley","Doyle","Crawford","Sadlier","Dolby",null,null,"Webber","Roche","Bircham",null,null,null,null,null,null,null,null,null,null,null,null,null,null,null,null,null,null,null,null,null,null,null,null,null,null,null,null,null,null,null,null,null,null,null,null,null,null,null,null,null,null,null,null,null,null,null,null,null,null,null,null,null,null,null,null,null,null,null,null,null,null,null,null,null,null,null,null,null,null,null,null,null,null,null,null,null,null,null,null,null,null,null,null,null,null,null,null,null,null,null,null,null,null,null,null,null,null,null,null,null,"Chesterfield (A) L 0-1",61,12]
[null,null,42,"Division 2","1997-03-15","3rd v 13th","Bournemouth","(H)","L 0-1","0-0",null,2,null,"-","K Leach",9992,57,6,null,"Bailey (78)",null,null,null,null,null,null,null,44,"Division 2","1997-03-22","Watford","(H)","L 0-1","Carter","Neill","Berry","Newman","McLeary","Witter","Hartley","Doyle","Crawford","Roche (88)","Dolby",null,null,"Webber","Canoville (88)","Bircham",null,null,null,null,null,null,null,null,null,null,null,null,null,null,null,null,null,null,null,null,null,null,null,null,null,null,null,null,null,null,"Check",null,null,{"$f":"SUM(CE6:CE41)","v":506},{"$f":"SUM(CF6:CG41)","v":138},null,null,null,{"$f":"SUM(CJ6:CJ41)","v":22},{"$f":"SUM(CK6:CL41)","v":6},null,null,null,{"$f":"SUM(CO6:CO41)","v":22},{"$f":"SUM(CP6:CQ41)","v":6},null,null,null,{"$f":"SUM(CT6:CT41)","v":22},{"$f":"SUM(CU6:CV41)","v":6},null,null,null,null,null,null,null,null,null,null,null,null,null,null,null,null,null,null,null,null,null,null,null,null,null,null,null,null,null,null,null,null,null,null,null,null,null,null,null,null,null,null,null,null,null,null,null,null,null,null,null,"Gillingham (H) L 0-2",61,14]
[null,null,43,"Division 2","1997-03-18","6th v 5th","Crewe","(A)","D 0-0","0-0",null,2,null,"-","J Brandwood",3695,58,5,null,null,null,null,null,null,null,null,null,45,"Division 2","1997-03-28","Wrexham","(A)","D 3-3","Carter","Neillnnn(67)","Berry","Newman¹","McLeary","Witter","Hartley","Doyle","Crawford¹","Sadlier","Dolby (51)",null,null,"Rogan (51)n¹","Savage","Webber",null,null,null,null,null,null,null,null,null,null,null,null,null,null,null,null,null,null,null,null,null,null,null,null,null,null,null,null,null,null,null,null,null,null,null,null,null,null,null,null,null,null,null,null,null,null,null,null,null,null,null,null,null,null,null,null,null,null,null,null,null,null,null,null,null,null,null,null,null,null,null,null,null,null,null,null,null,null,null,null,null,null,null,null,null,null,null,null,null,null,null,null,null,null,null,null,null,null,null,null,null,"Bury (A) L 0-2",61,14]
[null,null,44,"Division 2","1997-03-22","5th v 6th","Watford","(H)","L 0-1","0-1",null,"-",null,"-","P Rejer",8713,58,8,null,"Mooney (28)",null,1087,null,null,null,null,null,46,"Division 2","1997-04-02","York","(H)","D 1-1","Carter","Bircham","Berry (60)","Savage","McLeary","Webber¹","Hartley","Doyle","Crawford","Sadlier","Rogan",null,null,"Roche (60)","Aris","Canoville",null,null,null,null,null,null,null,null,null,null,null,null,null,null,null,null,null,null,null,null,null,null,null,null,null,null,null,null,null,null,null,null,null,{"$f":"CE48/11","v":46},{"$f":"CF48/3","v":46},null,null,null,{"$f":"CJ48/11","v":2},{"$f":"CK48/3","v":2},null,null,null,{"$f":"CO48/11","v":2},{"$f":"CP48/3","v":2},null,null,null,{"$f":"CT48/11","v":2},{"$f":"CU48/3","v":2}]
[null,null,45,"Division 2","1997-03-28","8th v 10th","Wrexham","(A)","D 3-3","1-2",null,2,null,1,"T West",4634,59,6,null,"Crawford (35) Newman (57) Rogan (80 pen) / Humes (22) Phillips (29) ",null,null,null,null,null,null,null,47,"Division 2","1997-04-05","Burnley","(A)","L 0-1","Carter","Birchamn","Rogan","Savage","McLeary","Wittern","Hartley","Doyle","Crawford","Sadlier (74)","Neilln",null,null,"Webber","Newman","Canoville (74)n"]
[null,null,null,null,null,null,null,null,null,null,null,null,null,null,null,null,null,null,null,"Bennett (45)",null,null,null,null,null,null,null,48,"Division 2","1997-04-08","Bristol R","(A)","L 0-1","Carter","Neill","Harle","Newman","McLeary","Witter","Hartley","Doyle","Crawford","Sadlier","Savage",null,null,"Rogan","Bircham","Webber"]
[null,null,46,"Division 2","1997-04-02","8th v 20th","York","(H)","D 1-1","0-0",null,"-",null,"-","G Pooley",6161,60,8,null,"Webber (90) / Tolson (48)",null,299,null,null,null,null,null,49,"Division 2","1997-04-12","Plymouth","(H)","D 0-0","Cartern","Bircham","Harle","Newman","McLeary","Witter","Hartley","Doyle¡","Crawford (45)","Sadlier (14)","Berry",null,null,"Rogan","Savage (45)","Webber (14)"]
[null,null,47,"Division 2","1997-04-05","8th v 7th","Burnley","(A)","L 0-1","0-1",null,4,null,"-","G Laws",9840,60,10,null,"Weller (14)",null,null,null,null,null,null,null,50,"Division 2","1997-04-19","Chesterfield","(A)","L 0-1","Carter","Bircham","Harle","Newman","McLearyn","Witter (41)","Hartley","Doyle","Crawford (65)","Webbern","Savage",null,null,"Rogan (41)","Canoville","Berry (65)"]
[null,null,48,"Division 2","1997-04-08","10th v 17th","Bristol R","(A)","L 0-1","0-0",null,"-",null,"-","P Richards",5324,60,10,null,"Skinner (59)",null,null,null,null,null,null,null,51,"Division 2","1997-04-26","Gillingham","(H)","L 0-2","Carter","Neilln","Harle (45)","Rogan","McLeary","Wittern","Hartley","Doyle","Bowryn","Webbern","Berry",null,null,"Newman (45)","Canoville","Bircham"]
[null,null,49,"Division 2","1997-04-12","10th v 18th","Plymouth","(H)","D 0-0","0-0",null,2,null,"-","R Styles",5702,61,11,null,null,null,725,null,null,null,null,null,52,"Division 2","1997-05-03","Bury","(A)","L 0-2","Carter","Neill","Newmann","Rogan","McLeary","Witter (58)","Hartley","Savage","Bowry","Webber","Berry (77)",null,null,"Doyle (77)","Harle (58)","Bircham"]
[null,null,50,"Division 2","1997-04-19","11th v 14th","Chesterfield","(A)","L 0-1","0-1",null,2,null,"-","G Cain",5935,61,12,null,"Curtis (38)"]
[null,null,51,"Division 2","1997-04-26","13th v 14th","Gillingham","(H)","L 0-2","0-1",null,4,null,"-","M Halsey",8946,61,14,null,"Akinbiyi (29) Onuora (85)",null,1556,null,null,null,null,null,null,null,null,null,null,null,null,null,null,null,null,null,null,null,null,null,null,null,null,null,null,null,null,null,null,null,null,null,null,null,null,null,null,null,null,null,null,null,null,null,null,null,null,null,null,null,null,null,null,null,null,null,null,null,null,"Apps","Sub","Nps","Goals",null,"Apps","Sub","Nps","Goals",null,"Apps","Sub","Nps","Goals",null,"Apps","Sub","Nps","Goals"]
[null,null,52,"Division 2","1997-05-03","14th v 1st","Bury","(A)","L 0-2","0-0",null,1,null,"-","M Brandwood",9785,61,14,null,"Jepson (67) Johnrose (76)"]
[null,null,null,null,null,null,null,null,null,null,null,{"$f":"SUM(L5:L59)","v":84},null,{"$f":"SUM(N5:N59)","v":2},null,null,null,null,null,null,null,null,null,null,null,null,null,null,null,null,null,null,null,null,null,null,null,null,null,null,null,null,null,null,null,null,null,null,null,null,null,null,null,null,null,null,null,null,null,null,null,null,null,null,null,null,null,null,null,null,null,null,null,null,null,null,"Aris",{"$f":"$BY60&\"**\"","v":"Aris**"},{"$f":"$BY60&\" (**\"","v":"Aris (**"},{"$f":"$BY60&\" [**\"","v":"Aris [**"},{"$f":"$BY60&\" {**\"","v":"Aris {**"},null,{"$f":"COUNTIF($AH$75:$AR$120,$BZ60)","v":0},{"$f":"COUNTIF($AS$75:$AU$120,$CA60)+COUNTIF($AS$75:$AU$120,$CB60)+COUNTIF($AS$75:$AU$120,$CC60)","v":0},{"$f":"COUNTIF($AS$75:$AU$120,$BY60)","v":1},{"$f":"COUNTIF($EO$63:$EQ$108,$BZ60)","v":0},null,{"$f":"COUNTIF($AH$126:$AR$127,$BZ60)","v":0},{"$f":"COUNTIF($AS$126:$AU$127,$CA60)+COUNTIF($AS$126:$AU$127,$CB60)+COUNTIF($AS$126:$AU$127,$CC60)","v":0},{"$f":"COUNTIF($AS$126:$AU$127,$BY60)","v":0},0,null,{"$f":"COUNTIF($AH$136:$AR$137,$BZ60)","v":0},{"$f":"COUNTIF($AS$136:$AU$137,$CA60)+COUNTIF($AS$136:$AU$137,$CB60)+COUNTIF($AS$136:$AU$137,$CC60)","v":0},{"$f":"COUNTIF($AS$136:$AU$137,$BY60)","v":0},0,null,{"$f":"COUNTIF($AH$146:$AR$147,$BZ60)","v":0},{"$f":"COUNTIF($AS$146:$AU$147,$CA60)+COUNTIF($AS$146:$AU$147,$CB60)+COUNTIF($AS$146:$AU$147,$CC60)","v":1},{"$f":"COUNTIF($AS$146:$AU$147,$BY60)","v":0},0]
[null,null,null,null,null,null,"PS = Penalty Saved, PM = Penalty Missed, Green Millwall Penalty Missed or Saved, Red Opposition",null,null,null,null,null,null,null,null,null,null,null,null,null,null,null,null,null,null,null,null,null,null,null,null,null,null,null,null,null,null,null,null,null,null,null,null,null,null,null,null,null,null,null,null,null,null,null,null,null,null,null,null,null,null,null,null,null,null,null,null,null,null,null,null,null,null,null,null,null,"Berry","Berry**","Berry (**","Berry [**","Berry {**",null,13,1,0,{"$f":"COUNTIF($EO$63:$ER$108,$BZ61)","v":0},null,0,0,0,{"$f":"COUNTIF($EO$112:$ER$113,$BZ61)","v":0},null,0,0,0,{"$f":"COUNTIF($EO$116:$ER$117,$BZ61)","v":0},null,0,0,0,{"$f":"COUNTIF($EO$119:$ER$120,$BZ61)","v":0}]
[null,null,null,null,null,null,null,null,null,null,null,null,null,null,null,null,null,null,null,null,null,null,null,null,null,null,null,null,null,null,null,null,null,null,null,null,null,null,null,null,null,null,null,null,null,null,null,null,null,null,null,null,null,null,null,null,null,null,null,null,null,null,null,null,null,null,null,null,null,null,null,null,null,null,null,null,"Bircham","Bircham**","Bircham (**","Bircham [**","Bircham {**",null,6,0,10,0,null,0,0,0,0,null,0,0,0,0,null,0,0,0,0]
[null,null,null,null,null,null,null,null,null,null,null,null,null,null,null,null,null,null,null,null,null,null,null,null,null,null,null,null,null,null,null,null,null,null,null,null,null,null,null,null,null,null,null,null,null,null,null,null,null,null,null,null,null,null,null,null,null,null,null,null,null,null,null,null,null,null,null,null,null,null,null,null,null,null,null,null,"Bowry","Bowry**","Bowry (**","Bowry [**","Bowry {**",null,26,2,0,1,null,2,0,0,0,null,2,0,0,0,null,0,0,0,0,null,null,null,null,null,null,null,null,null,null,null,null,null,null,null,null,null,null,null,null,null,null,null,null,null,null,null,null,null,null,null,null,null,null,null,null,null,null,null,null,null,"Wrexham (H) D 1-1","(H)","Crawford"]
[null,null,null,null,null,null,null,null,null,null,null,null,null,null,null,null,null,null,null,null,null,null,null,null,null,null,null,null,null,null,null,null,null,null,null,null,null,null,null,null,null,null,null,null,null,null,null,null,null,null,null,null,null,null,null,null,null,null,null,null,null,null,null,null,null,null,null,null,null,null,null,null,null,null,null,null,"Bright","Bright**","Bright (**","Bright [**","Bright {**",null,3,0,0,1,null,0,0,0,0,null,0,0,0,0,null,1,0,0,0,null,null,null,null,null,null,null,null,null,null,null,null,null,null,null,null,null,null,null,null,null,null,null,null,null,null,null,null,null,null,null,null,null,null,null,null,null,null,null,null,null,"Watford (A) W 2-0","(A)","Harle","Crawford"]
[null,null,null,"- -","Wrexham",null,"1996-08-17",null,null,null,null,null,null,null,null,9371,"w",null,null,null,null,null,null,null,null,null,null,null,null,null,null,null,null,null,null,null,null,null,null,null,null,null,null,null,null,null,null,null,null,null,null,null,null,null,null,null,null,null,null,null,null,null,null,null,null,null,null,null,null,null,null,null,null,null,null,null,"Cadette","Cadette**","Cadette (**","Cadette [**","Cadette {**",null,7,0,0,1,null,0,0,0,0,null,0,0,0,0,null,0,0,0,0,null,null,null,null,null,null,null,null,null,null,null,null,null,null,null,null,null,null,null,null,null,null,null,null,null,null,null,null,null,null,null,null,null,null,null,null,null,null,null,null,null,"York (A) L 2-3","(A)","Savage","Malkin"]
[null,null,null,"9th v 5th","Burnley",null,"1996-08-31",null,null,null,null,null,null,null,null,9281,"w",null,null,null,null,null,null,null,null,null,null,null,null,null,null,null,null,null,null,null,null,null,null,null,null,null,null,null,null,null,null,null,null,null,null,null,null,null,null,null,null,null,null,null,null,null,null,null,null,null,null,null,null,null,null,null,null,null,null,null,"Canoville","Canoville**","Canoville (**","Canoville [**","Canoville {**",null,0,2,3,0,null,0,0,0,0,null,0,0,0,0,null,0,0,0,0,null,null,null,null,null,null,null,null,null,null,null,null,null,null,null,null,null,null,null,null,null,null,null,null,null,null,null,null,null,null,null,null,null,null,null,null,null,null,null,null,null,"Burnley (H) W 2-1","(H)","Newman","Neill"]
[null,null,null,"5th v 12th","Bristol R",null,"1996-09-07",null,null,null,null,null,null,null,null,7881,"w",null,null,null,null,null,null,null,null,null,null,null,null,null,null,null,null,null,null,null,null,null,null,null,null,null,null,null,null,null,null,null,null,null,null,null,null,null,null,null,null,null,null,null,null,null,null,null,null,null,null,null,null,null,null,null,null,null,null,null,"Carter","Carter**","Carter (**","Carter [**","Carter {**",null,46,0,0,0,null,2,0,0,0,null,2,0,0,0,null,1,0,0,0,null,null,null,null,null,null,null,null,null,null,null,null,null,null,null,null,null,null,null,null,null,null,null,null,null,null,null,null,null,null,null,null,null,null,null,null,null,null,null,null,null,"Bristol R (H) W 2-0","(H)","Rogan","Huckerby"]
[null,null,null,"4th v 6th","Crewe",null,"1996-09-21",null,null,null,null,null,null,null,null,9320,"w",null,null,null,null,null,null,null,null,null,null,null,null,null,null,null,null,null,null,null,null,null,null,null,null,null,null,null,null,null,null,null,null,null,null,null,null,null,null,null,null,null,null,null,null,null,null,null,null,null,null,null,null,null,null,null,null,null,null,null,"Crawford","Crawford**","Crawford (**","Crawford [**","Crawford {**",null,40,2,0,11,null,2,0,0,1,null,1,0,0,0,null,2,0,0,3,null,null,null,null,null,null,null,null,null,null,null,null,null,null,null,null,null,null,null,null,null,null,null,null,null,null,null,null,null,null,null,null,null,null,null,null,null,null,null,null,null,"Peterborough (A) D 3-3","(A)","Huckerby","Neill","Malkin"]
[null,null,null,"6th v 18th","Stockport",null,"1996-10-02",null,null,null,null,null,null,null,null,7537,"m",null,null,null,null,null,null,null,null,null,null,null,null,null,null,null,null,null,null,null,null,null,null,null,null,null,null,null,null,null,null,null,null,null,null,null,null,null,null,null,null,null,null,null,null,null,null,null,null,null,null,null,null,null,null,null,null,null,null,null,"Dair","Dair**","Dair (**","Dair [**","Dair {**",null,21,3,3,1,null,2,0,0,0,null,2,0,0,0,null,1,0,0,2,null,null,null,null,null,null,null,null,null,null,null,null,null,null,null,null,null,null,null,null,null,null,null,null,null,null,null,null,null,null,null,null,null,null,null,null,null,null,null,null,null,"Notts Co (A) W 2-1","(A)","Neill","OwnGoal"]
[null,null,null,"7th v 4th","Chesterfield",null,"1996-10-12",null,null,null,null,null,null,null,null,7765,"w",null,null,null,null,null,null,null,null,null,null,null,null,null,null,null,null,null,null,null,null,null,null,null,null,null,null,null,null,null,null,null,null,null,null,null,null,null,null,null,null,null,null,null,null,null,null,null,null,null,null,null,null,null,null,null,null,null,null,null,"Dolby","Dolby**","Dolby (**","Dolby [**","Dolby {**",null,15,6,7,2,null,0,1,0,0,null,1,1,0,0,null,2,0,0,0,null,null,null,null,null,null,null,null,null,null,null,null,null,null,null,null,null,null,null,null,null,null,null,null,null,null,null,null,null,null,null,null,null,null,null,null,null,null,null,null,null,"Crewe (H) W 2-0","(H)","Huckerby","Dair"]
[null,null,null,"5th v 2nd","Bury",null,"1996-10-16",null,null,null,null,null,null,null,null,6447,"m",null,null,null,null,null,null,null,null,null,null,null,null,null,null,null,null,null,null,null,null,null,null,null,null,null,null,null,null,null,null,null,null,null,null,null,null,null,null,null,null,null,null,null,null,null,null,null,null,null,null,null,null,null,null,null,null,null,null,null,"Doyle","Doyle**","Doyle (**","Doyle [**","Doyle {**",null,19,9,9,1,null,0,0,1,0,null,0,0,2,0,null,1,1,0,0,null,null,null,null,null,null,null,null,null,null,null,null,null,null,null,null,null,null,null,null,null,null,null,null,null,null,null,null,null,null,null,null,null,null,null,null,null,null,null,null,null,"Preston (A) L 1-2","(A)","Newman"]
[null,null,null,"3rd v 16th","Blackpool",null,"1996-10-30",null,null,null,null,null,null,null,null,7179,"m",null,null,null,null,null,null,null,null,null,null,null,null,null,null,null,null,null,null,null,null,null,null,null,null,null,null,null,null,null,null,null,null,null,null,null,null,null,null,null,null,null,null,null,null,null,null,null,null,null,null,null,null,null,null,null,null,null,null,null,"Fitzgerald","Fitzgerald**","Fitzgerald (**","Fitzgerald [**","Fitzgerald {**",null,7,0,0,0,null,0,0,0,0,null,0,0,0,0,null,0,0,0,0,null,null,null,null,null,null,null,null,null,null,null,null,null,null,null,null,null,null,null,null,null,null,null,null,null,null,null,null,null,null,null,null,null,null,null,null,null,null,null,null,null,"Stockport (H) L 3-4","(H)","Rogan","Rogan","Hartley"]
[null,null,null,"2nd v 20th","Walsall",null,"1996-11-02",null,null,null,null,null,null,null,null,9176,"w",null,null,null,null,null,null,null,null,null,null,null,null,null,null,null,null,null,null,null,null,null,null,null,null,null,null,null,null,null,null,null,null,null,null,null,null,null,null,null,null,null,null,null,null,null,null,null,null,null,null,null,null,null,null,null,null,null,null,null,"Forbes","Forbes**","Forbes (**","Forbes [**","Forbes {**",null,0,0,2,0,null,0,0,0,0,null,0,0,0,0,null,0,0,0,0,null,null,null,null,null,null,null,null,null,null,null,null,null,null,null,null,null,null,null,null,null,null,null,null,null,null,null,null,null,null,null,null,null,null,null,null,null,null,null,null,null,"Plymouth (A) D 0-0","(A)"]
[null,null,null,"1st v 13th","Shrewsbury",null,"1996-11-20",null,null,null,null,null,null,null,null,5770,"m",null,null,null,null,null,null,null,null,null,null,"Game","Competition","Date","Opponents",null,"Score",1,2,3,4,5,6,7,8,9,10,11,12,13,14,null,null,null,null,null,null,null,null,null,null,null,null,null,null,null,null,null,null,null,null,null,null,null,null,null,null,null,null,null,"Harle","Harle**","Harle (**","Harle [**","Harle {**",null,12,9,7,1,null,1,0,0,0,null,1,1,0,0,null,1,0,0,0,null,null,null,null,null,null,null,null,null,null,null,null,null,null,null,null,null,null,null,null,null,null,null,null,null,null,null,null,null,null,null,null,null,null,null,null,null,null,null,null,null,"Chesterfield (H) W 2-1","(H)","Neill","Rogan"]
[null,null,null,"1st v 2nd","Brentford",null,"1996-11-29",null,null,null,null,null,null,null,null,7845,"m",null,null,null,null,null,null,null,null,null,null,1,"Division 2","1996-08-17","Wrexham","(H)","D 1-1","Carter","Doyle","Newman","Sinclair (59)","Witter","Stevens","Bowry","Savage","Malkin","Crawford","Dair (72)","Dolby","Hartley (72)","Neill [59]",null,null,null,null,null,null,null,null,null,null,null,null,null,null,null,null,null,null,null,null,null,null,null,null,null,null,null,null,null,"Hartley","Hartley**","Hartley (**","Hartley [**","Hartley {**",null,35,9,1,4,null,2,0,0,0,null,1,1,0,0,null,1,0,0,0,null,null,null,null,null,null,null,null,null,null,null,null,null,null,null,null,null,null,null,null,null,null,null,null,null,null,null,null,null,null,null,null,null,null,null,null,null,null,null,null,null,"Bury (H) W 1-0","(H)","Rogan"]
[null,null,null,"2nd v 3rd","Luton",null,"1996-12-18",null,null,null,null,null,null,null,null,7077,"m",null,null,null,null,null,null,null,null,null,null,3,"Division 2","1996-08-24","Watford","(A)","W 2-0","Carter","Newman","Harle","Webber","Witter","Stevens","Bowry","Savage [75]","Malkin","Crawford (88)","Dair","Doyle","Hartley (88)","Neill [75]",null,null,null,null,null,null,null,null,null,null,null,null,null,null,null,null,null,null,null,null,null,null,null,null,null,null,null,null,null,"Hockton","Hockton**","Hockton (**","Hockton [**","Hockton {**",null,0,2,1,0,null,0,0,0,0,null,0,0,0,0,null,0,0,0,0,null,null,null,null,null,null,null,null,null,null,null,null,null,null,null,null,null,null,null,null,null,null,null,null,null,null,null,null,null,null,null,null,null,null,null,null,null,null,null,null,null,"Gillingham (A) W 3-2","(A)","Crawford","Crawford","Hartley"]
[null,null,null,"4th v 21st","Peterborough",null,"1996-12-26",null,null,null,null,null,null,null,null,8118,"w",null,null,null,null,null,null,null,null,null,null,4,"Division 2","1996-08-27","York","(A)","L 2-3","Carter","Newman","Harle {74}","Webber","Witter","Stevens","Bowry","Savage (71)","Malkin","Crawford","Dair [71]","Doyle {74}","Neill (71)","Hartley [71]",null,null,null,null,null,null,null,null,null,null,null,null,null,null,null,null,null,null,null,null,null,null,null,null,null,null,null,null,null,"Huckerby","Huckerby**","Huckerby (**","Huckerby [**","Huckerby {**",null,6,0,0,3,null,0,0,0,0,null,0,0,0,0,null,0,0,0,0,null,null,null,null,null,null,null,null,null,null,null,null,null,null,null,null,null,null,null,null,null,null,null,null,null,null,null,null,null,null,null,null,null,null,null,null,null,null,null,null,null,"Brentford (A) D 0-0","(A)"]
[null,null,null,"4th v 17th","Preston",null,"1997-01-11",null,null,null,null,null,null,null,null,7096,"w",null,null,null,null,null,null,null,null,null,null,5,"Division 2","1996-08-31","Burnley","(H)","W 2-1","Carter","Newman","Neill","Webber","Witter","Stevens","Bowry","Savage [13]","Malkin","Crawford (51)","Dair {75}","Harle {75}","Dolby (51)","Doyle [13]",null,null,null,null,null,null,null,null,null,null,null,null,null,null,null,null,null,null,null,null,null,null,null,null,null,null,null,null,null,"Iga","Iga**","Iga (**","Iga [**","Iga {**",null,0,1,0,0,null,0,0,0,0,null,0,0,0,0,null,1,0,0,0,null,null,null,null,null,null,null,null,null,null,null,null,null,null,null,null,null,null,null,null,null,null,null,null,null,null,null,null,null,null,null,null,null,null,null,null,null,null,null,null,null,"Blackpool (H) W 2-1","(H)","Rogan","Rogan"]
[null,null,null,"7th v 4th","Bristol C",null,"1997-02-01",null,null,null,null,null,null,null,null,9158,"w",null,null,null,null,null,null,null,null,null,null,7,"Division 2","1996-09-07","Bristol R","(H)","W 2-0","Carter","Newman","Rogan","Webber","Witter","Stevens {38}","Bowry (83)","Neill","Huckerby","Dair","Hartley [79]","Malkin {38}","Harle (83)","Doyle [79]",null,null,null,null,null,null,null,null,null,null,null,null,null,null,null,null,null,null,null,null,null,null,null,null,null,null,null,null,null,"Lavin","Lavin**","Lavin (**","Lavin [**","Lavin {**",null,7,2,0,0,null,1,1,0,0,null,0,0,0,0,null,1,0,0,0,null,null,null,null,null,null,null,null,null,null,null,null,null,null,null,null,null,null,null,null,null,null,null,null,null,null,null,null,null,null,null,null,null,null,null,null,null,null,null,null,null,"Walsall (H) W 1-0","(H)","Crawford"]
[null,null,null,"12th v 24th","Rotherham",null,"1997-02-15",null,null,null,null,null,null,null,null,7043,"w",null,null,null,null,null,null,null,null,null,null,8,"Division 2","1996-09-10","Peterborough","(A)","D 3-3","Carter","Newman","Rogan","Webber","Witter","Doyle (84)","Bowry","Neill","Malkin","Huckerby","Dair [81]","Harle","Hartley (84)","Crawford [81]",null,null,null,null,null,null,null,null,null,null,null,null,null,null,null,null,null,null,null,null,null,null,null,null,null,null,null,null,null,"Malkin","Malkin**","Malkin (**","Malkin [**","Malkin {**",null,7,2,0,2,null,0,0,0,0,null,2,0,0,1,null,0,0,0,0,null,null,null,null,null,null,null,null,null,null,null,null,null,null,null,null,null,null,null,null,null,null,null,null,null,null,null,null,null,null,null,null,null,null,null,null,null,null,null,null,null,"Bristol C (A) D 1-1","(A)","Crawford"]
[null,null,null,"7th v 23rd","Notts Co",null,"1997-02-25",null,null,null,null,null,null,null,null,5202,"m",null,null,null,null,null,null,null,null,null,null,9,"Division 2","1996-09-14","Notts Co","(A)","W 2-1","Carter","Newman","Rogan","Doyle","Witter","Webber","Bowry","Neill (80)","Malkin","Huckerby [67]","Dair","Harle","Hartley (80)","Crawford [67]",null,null,null,null,null,null,null,null,null,null,null,null,null,null,null,null,null,null,null,null,null,null,null,null,null,null,null,null,null,"McLeary","McLeary**","McLeary (**","McLeary [**","McLeary {**",null,15,0,0,0,null,0,0,0,0,null,0,0,0,0,null,0,0,0,0,null,null,null,null,null,null,null,null,null,null,null,null,null,null,null,null,null,null,null,null,null,null,null,null,null,null,null,null,null,null,null,null,null,null,null,null,null,null,null,null,null,"Shrewsbury (H) W 2-1","(H)","Crawford","Crawford"]
[null,null,null,"5th v 21st","Wycombe",null,"1997-03-01",null,null,null,null,null,null,null,null,7539,"w",null,null,null,null,null,null,null,null,null,null,10,"Division 2","1996-09-21","Crewe","(H)","W 2-0","Carter","Doyle","Rogan (80)","Newman","Witter","Webber","Bowry","Neill","Crawford {84}","Huckerby","Dair","Malkin {84}","Harle (80)","Hartley",null,null,null,null,null,null,null,null,null,null,null,null,null,null,null,null,null,null,null,null,null,null,null,null,null,null,null,null,null,"McRobert","McRobert**","McRobert (**","McRobert [**","McRobert {**",null,3,1,0,0,null,0,0,0,0,null,0,0,0,0,null,0,1,0,0,null,null,null,null,null,null,null,null,null,null,null,null,null,null,null,null,null,null,null,null,null,null,null,null,null,null,null,null,null,null,null,null,null,null,null,null,null,null,null,null,null,"Rotherham (A) D 0-0","(A)"]
[null,null,null,"3rd v 13th","Bournemouth",null,"1997-03-15",null,null,null,null,null,null,null,null,9992,"w",null,null,null,null,null,null,null,null,null,null,11,"Division 2","1996-09-28","Preston","(A)","L 1-2","Carter","Doyle {81}","Rogan","Newman","Witter","Webber","Bowry","Crawford (50)","Malkin","Huckerby","Dair [56]","Sinclair {81}","Hartley (50)","Savage [56]",null,null,null,null,null,null,null,null,null,null,null,null,null,null,null,null,null,null,null,null,null,null,null,null,null,null,null,null,null,"Neill","Neill**","Neill (**","Neill [**","Neill {**",null,35,4,0,4,null,2,0,0,0,null,1,1,0,0,null,1,0,0,0,null,null,null,null,null,null,null,null,null,null,null,null,null,null,null,null,null,null,null,null,null,null,null,null,null,null,null,null,null,null,null,null,null,null,null,null,null,null,null,null,null,"Brentford (H) D 0-0","(H)"]
[null,null,null,"5th v 6th","Watford",null,"1997-03-22",null,null,null,null,null,null,null,null,8713,"w",null,null,null,null,null,null,null,null,null,null,12,"Division 2","1996-10-02","Stockport","(H)","L 3-4","Carter","Doyle","Rogan ","Newman (70)","Witter","Webber","Bowry","Neill [80]","Crawford","Huckerby","Savage","Harle","Hartley (70)","Hockton [80]",null,null,null,null,null,null,null,null,null,null,null,null,null,null,null,null,null,null,null,null,null,null,null,null,null,null,null,null,null,"Newman","Newman**","Newman (**","Newman [**","Newman {**",null,39,2,1,3,null,2,0,0,0,null,2,0,0,0,null,2,0,0,0,null,null,null,null,null,null,null,null,null,null,null,null,null,null,null,null,null,null,null,null,null,null,null,null,null,null,null,null,null,null,null,null,null,null,null,null,null,null,null,null,null,"Wycombe (A) L 0-1","(A)"]
[null,null,null,"8th v 20th","York",null,"1997-04-02",null,null,null,null,null,null,null,null,6161,"m",null,null,null,null,null,null,null,null,null,null,13,"Division 2","1996-10-05","Plymouth","(A)","D 0-0","Carter","Doyle","Rogan {51}","Webber [55]","Harle","Savage","Bowry","Neill","Hartley","Dolby","Dair (86)","Newman {51}","Robertson (86)","Hockton [55]",null,null,null,null,null,null,null,null,null,null,null,null,null,null,null,null,null,null,null,null,null,null,null,null,null,null,null,null,null,"Robertson","Robertson**","Robertson (**","Robertson [**","Robertson {**",null,0,1,0,0,null,0,0,0,0,null,0,0,0,0,null,0,1,0,0,null,null,null,null,null,null,null,null,null,null,null,null,null,null,null,null,null,null,null,null,null,null,null,null,null,null,null,null,null,null,null,null,null,null,null,null,null,null,null,null,null,"Bournemouth (A) D 1-1","(A)","Bright"]
[null,null,null,"10th v 18th","Plymouth",null,"1997-04-12",null,null,null,null,null,null,null,null,5702,"w",null,null,null,null,null,null,null,null,null,null,14,"Division 2","1996-10-12","Chesterfield","(H)","W 2-1","Carter","Newman","Rogan","Savage {75}","Witter","Fitzgerald","Bowry","Neill","Crawford","Dolby","Hartley","Doyle {75}","Dair","Harle",null,null,null,null,null,null,null,null,null,null,null,null,null,null,null,null,null,null,null,null,null,null,null,null,null,null,null,null,null,"Roche","Roche**","Roche (**","Roche [**","Roche {**",null,4,3,1,0,null,0,0,0,0,null,0,0,0,0,null,0,0,0,0,null,null,null,null,null,null,null,null,null,null,null,null,null,null,null,null,null,null,null,null,null,null,null,null,null,null,null,null,null,null,null,null,null,null,null,null,null,null,null,null,null,"Luton (H) L 0-1","(H)"]
[null,null,null,"13th v 14th","Gillingham",null,"1997-04-26",null,null,null,null,null,null,null,null,8946,"w",null,null,null,null,null,null,null,null,null,null,15,"Division 2","1996-10-16","Bury","(H)","W 1-0","Carter","Newman","Rogan","Savage (84)","Witter","Fitzgerald","Bowry","Neill","Crawford","Hartley","Dolby [87]","Doyle","Dair (84)","Harle [87]",null,null,null,null,null,null,null,null,null,null,null,null,null,null,null,null,null,null,null,null,null,null,null,null,null,null,null,null,null,"Rogan","Rogan**","Rogan (**","Rogan [**","Rogan {**",null,26,2,2,8,null,2,0,0,0,null,1,0,0,0,null,1,0,0,0,null,null,null,null,null,null,null,null,null,null,null,null,null,null,null,null,null,null,null,null,null,null,null,null,null,null,null,null,null,null,null,null,null,null,null,null,null,null,null,null,null,"Peterborough (H) L 0-2","(H)"]
[null,null,null,null,null,null,null,null,null,null,null,null,null,null,null,null,null,null,null,null,null,null,null,null,null,null,null,16,"Division 2","1996-10-19","Gillingham","(A)","W 3-2","Carter","Newman","Rogan","Savage (86)","Witter","Fitzgerald","Bowry","Neill","Crawford","Hartley","Dolby","Doyle","Dair","Harle [86]",null,null,null,null,null,null,null,null,null,null,null,null,null,null,null,null,null,null,null,null,null,null,null,null,null,null,null,null,null,"Sadlier","Sadlier**","Sadlier (**","Sadlier [**","Sadlier {**",null,7,3,0,0,null,0,0,0,0,null,0,0,0,0,null,0,0,0,0,null,null,null,null,null,null,null,null,null,null,null,null,null,null,null,null,null,null,null,null,null,null,null,null,null,null,null,null,null,null,null,null,null,null,null,null,null,null,null,null,null,"Preston (H) W 3-2","(H)","Cadette","Crawford","Savage"]
[null,null,null,null,null,null,null,null,null,null,null,null,null,null,null,null,null,null,null,null,null,null,null,null,null,null,null,17,"Division 2","1996-10-26","Brentford","(A)","D 0-0","Carter","Newman","Rogan","Savage","Witter","Fitzgerald","Bowry","Neill","Crawford","Hartley","Dolby (65)","Doyle","Dair (65)","Harle",null,null,null,null,null,null,null,null,null,null,null,null,null,null,null,null,null,null,null,null,null,null,null,null,null,null,null,null,null,"Savage","Savage**","Savage (**","Savage [**","Savage {**",null,32,3,1,3,null,2,0,0,1,null,1,0,0,0,null,1,0,0,1,null,null,null,null,null,null,null,null,null,null,null,null,null,null,null,null,null,null,null,null,null,null,null,null,null,null,null,null,null,null,null,null,null,null,null,null,null,null,null,null,null,"Stockport (A) L 1-5","(A)","Webber"]
[null,null,null,null,null,null,null,null,"Agg",null,null,null,null,null,null,{"$f":"SUBTOTAL(9,P64:P88)","v":178319},null,null,null,null,null,null,null,null,null,null,null,18,"Division 2","1996-10-30","Blackpool","(H)","W 2-1","Carter","Newman","Rogan","Savage (31)","Witter","Fitzgerald","Bowry","Neill","Crawford","Hartley","Dolby","Doyle","Dair (31)","Harle",null,null,null,null,null,null,null,null,null,null,null,null,null,null,null,null,null,null,null,null,null,null,null,null,null,null,null,null,null,"Sinclair","Sinclair**","Sinclair (**","Sinclair [**","Sinclair {**",null,6,2,4,0,null,0,1,0,0,null,0,0,0,0,null,1,1,0,0,null,null,null,null,null,null,null,null,null,null,null,null,null,null,null,null,null,null,null,null,null,null,null,null,null,null,null,null,null,null,null,null,null,null,null,null,null,null,null,null,null,"Blackpool (A) L 0-3","(A)"]
[null,null,null,null,null,null,null,null,"Max",null,null,null,null,null,null,{"$f":"MAX(P64:P88)","v":9992},null,null,null,null,null,null,null,null,null,null,null,19,"Division 2","1996-11-02","Walsall","(H)","W 1-0","Carter","Newman","Rogan","Dair","Witter","Fitzgerald","Bowry","Neill","Crawford","Dolby (80)","Hartley","Harle","Lavin (80)","Hockton",null,null,null,null,null,null,null,null,null,null,null,null,null,null,null,null,null,null,null,null,null,null,null,null,null,null,null,null,null,"Stevens","Stevens**","Stevens (**","Stevens [**","Stevens {**",null,6,0,0,0,null,0,0,0,0,null,2,0,0,0,null,0,0,0,0,null,null,null,null,null,null,null,null,null,null,null,null,null,null,null,null,null,null,null,null,null,null,null,null,null,null,null,null,null,null,null,null,null,null,null,null,null,null,null,null,null,"Bristol C (H) L 0-2","(H)"]
[null,null,null,null,null,null,null,null,"Min",null,null,null,null,null,null,{"$f":"MIN(P64:P88)","v":5202},null,null,null,null,null,null,null,null,null,null,null,20,"Division 2","1996-11-09","Bristol C","(A)","D 1-1","Carter","Newman","Harle","Savage","Witter","Fitzgerald {70}","Bowry","Neill","Crawford","Dair","Hartley","Lavin {70}","Van Blerk","Webber",null,null,null,null,null,null,null,null,null,null,null,null,null,null,null,null,null,null,null,null,null,null,null,null,null,null,null,null,null,"Van Blerk","Van Blerk**","Van Blerk (**","Van Blerk [**","Van Blerk {**",null,2,3,1,0,null,0,1,0,0,null,0,0,0,0,null,1,1,0,0,null,null,null,null,null,null,null,null,null,null,null,null,null,null,null,null,null,null,null,null,null,null,null,null,null,null,null,null,null,null,null,null,null,null,null,null,null,null,null,null,null,"Walsall (A) L 1-2","(A)","Bowry"]
[null,null,null,null,null,null,null,null,null,null,null,null,null,null,null,null,null,null,null,null,null,null,null,null,null,null,null,22,"Division 2","1996-11-20","Shrewsbury","(H)","W 2-1","Carter","Lavin","Rogan","Savage [45]","Webber","Newman","Bowry","Neill {79}","Crawford ","Dair","Hartley","Doyle {79}","Sinclair","Dolby [45]",null,null,null,null,null,null,null,null,null,null,null,null,null,null,null,null,null,null,null,null,null,null,null,null,null,null,null,null,null,"Webber","Webber**","Webber (**","Webber [**","Webber {**",null,25,1,9,2,null,1,0,1,0,null,1,0,0,0,null,2,0,0,0,null,null,null,null,null,null,null,null,null,null,null,null,null,null,null,null,null,null,null,null,null,null,null,null,null,null,null,null,null,null,null,null,null,null,null,null,null,null,null,null,null,"Rotherham (H) W 2-0","(H)","Crawford","OwnGoal"]
[null,null,null,null,null,null,null,null,"Av",null,null,null,null,null,null,{"$f":"AVERAGE(P64:P88)","v":7753},null,null,null,null,null,null,null,null,null,null,null,23,"Division 2","1996-11-23","Rotherham","(A)","D 0-0","Carter","Lavin","Rogan","Savage","Webber","Newman","Bowry","Neill","Crawford","Dair","Hartley","Doyle","Sinclair","Dolby",null,null,null,null,null,null,null,null,null,null,null,null,null,null,null,null,null,null,null,null,null,null,null,null,null,null,null,null,null,"Wilkins","Wilkins**","Wilkins (**","Wilkins [**","Wilkins {**",null,3,0,0,0,null,0,0,0,0,null,0,0,0,0,null,1,0,0,0,null,null,null,null,null,null,null,null,null,null,null,null,null,null,null,null,null,null,null,null,null,null,null,null,null,null,null,null,null,null,null,null,null,null,null,null,null,null,null,null,null,"Shrewsbury (A) D 1-1","(A)","Doyle"]
[null,null,null,null,null,null,null,null,null,null,null,null,null,null,null,null,null,null,null,null,null,null,null,null,null,null,null,25,"Division 2","1996-11-29","Brentford","(H)","D 0-0","Carter","Lavin","Rogan","Newman","Webber","Sinclair","Savage [--]","Neill","Crawford","Dair","Hartley","Dolby","Doyle","Van Blerk [--]",null,null,null,null,null,null,null,null,null,null,null,null,null,null,null,null,null,null,null,null,null,null,null,null,null,null,null,null,null,"Witter","Witter**","Witter (**","Witter [**","Witter {**",null,33,0,0,0,null,1,0,0,0,null,2,0,0,0,null,0,0,0,0,null,null,null,null,null,null,null,null,null,null,null,null,null,null,null,null,null,null,null,null,null,null,null,null,null,null,null,null,null,null,null,null,null,null,null,null,null,null,null,null,null,"Notts Co (H) W 1-0","(H)","Savage"]
[null,null,null,null,null,null,null,null,"Weekend",null,null,null,null,null,null,{"$f":"SUMIF(Q64:Q87,\"w\",P64:P88)","v":125101},{"$f":"COUNTIF(Q64:Q89,\"w\")","v":15},null,null,null,null,null,null,null,null,null,null,26,"Division 2","1996-12-03","Wycombe","(A)","L 0-1","Carter","Lavin","Rogan","Savage","Webber","Sinclair","Bowry {74}","Neill","Crawford","Dair [74]","Hartley","Doyle {74}","Dolby","Van Blerk [74]",null,null,null,null,null,null,null,null,null,null,null,null,null,null,null,null,null,null,null,null,null,null,null,null,null,null,null,null,null,null,null,null,null,null,null,null,null,null,null,null,null,null,null,null,null,null,null,null,null,null,null,null,null,null,null,null,null,null,null,null,null,null,null,null,null,null,null,null,null,null,null,null,null,null,null,null,null,null,null,null,null,null,null,null,null,null,null,null,null,null,null,null,null,null,null,"Wycombe (H) W 2-1","(H)","Hartley","Dolby"]
[null,null,null,null,null,null,null,null,"Midweek",null,null,null,null,null,null,{"$f":"SUMIF(Q64:Q88,\"m\",P64:P88)","v":53218},{"$f":"COUNTIF(Q64:Q89,\"m\")","v":8},null,null,null,null,null,null,null,null,null,null,28,"Division 2","1996-12-14","Bournemouth","(A)","D 1-1","Carter","Lavin","Van Blerk","Savage","Webber (30)","Sinclair","Newman","Neill","Crawford","Bright","Dair¡","Dolby","Hartley (30)","Doyle",null,null,null,null,null,null,null,null,null,null,null,null,null,null,null,null,null,null,null,null,null,null,null,null,null,null,null,null,null,null,null,null,null,null,null,null,null,null,null,null,null,null,null,null,null,null,null,null,null,null,null,null,null,null,null,null,null,null,null,null,null,null,null,null,null,null,null,null,null,null,null,null,null,null,null,null,null,null,null,null,null,null,null,null,null,null,null,null,null,null,null,null,null,null,null,"Luton (A) W 2-0","(A)","Dolby","Hartley"]
[null,null,null,null,null,null,null,null,null,null,null,null,null,null,null,null,null,null,null,null,null,null,null,null,null,null,null,29,"Division 2","1996-12-18","Luton","(H)","L 0-1","Carter","Lavin","Van Blerk","Newman","Sinclair","Rogan","Hartley {67}","Neill (84)","Crawford","Bright","Dair [84]","Savage {67}","Harle (84)","Dolby [84]",null,null,null,null,null,null,null,null,null,null,null,null,null,null,null,null,null,null,null,null,null,null,null,null,null,null,null,null,null,null,null,null,null,null,null,null,null,null,null,null,null,null,null,null,null,null,null,null,null,null,null,null,null,null,null,null,null,null,null,null,null,null,null,null,null,null,null,null,null,null,null,null,null,null,null,null,null,null,null,null,null,null,null,null,null,null,null,null,null,null,null,null,null,null,null,"Bournemouth (H) L 0-1","(H)"]
[null,null,null,null,null,null,null,null,"Weekend",null,null,null,null,null,null,{"$f":"P96/Q96","v":8340.0666666666675},null,null,null,null,null,null,null,null,null,null,null,30,"Division 2","1996-12-26","Peterborough","(H)","L 0-2","Carter (17)","Lavin {76}","Rogan","Sinclair","Webber","Harle","Hartley","Newman","Crawford","Bright","Dair [45]","Van Blerk {76}","Iga (17)","Dolby [45]",null,null,null,null,null,null,null,null,null,null,null,null,null,null,null,null,null,null,null,null,null,null,null,null,null,null,null,null,null,null,null,null,null,null,null,null,null,null,null,null,null,null,null,null,null,null,null,null,null,null,null,null,null,null,null,null,null,null,null,null,null,null,null,null,null,null,null,null,null,null,null,null,null,null,null,null,null,null,null,null,null,null,null,null,null,null,null,null,null,null,null,null,null,null,null,"Crewe (A) D 0-0","(A)"]
[null,null,null,null,null,null,null,null,"Midweek",null,null,null,null,null,null,{"$f":"P97/Q97","v":6652.25},null,null,null,null,null,null,null,null,null,null,null,32,"Division 2","1997-01-11","Preston","(H)","W 3-2","Carter","Bircham","Roche","Newman","Webber","Harle","Savage","Wilkins","Crawford [78]","Cadette","Hartley","Sinclair","Dolby","Bowry [78]",null,null,null,null,null,null,null,null,null,null,null,null,null,null,null,null,null,null,null,null,null,null,null,null,null,null,null,null,null,null,null,null,null,null,null,null,null,null,null,null,null,null,null,null,null,null,null,null,null,null,null,null,null,null,null,null,null,null,null,null,null,null,null,null,null,null,null,null,null,null,null,null,null,null,null,null,null,null,null,null,null,null,null,null,null,null,null,null,null,null,null,null,null,null,null,"Watford (H) L 0-1","(H)"]
[null,null,null,null,null,null,null,null,null,null,null,null,null,null,null,null,null,null,null,null,null,null,null,null,null,null,null,33,"Division 2","1997-01-18","Stockport","(A)","L 1-5","Carter","Bircham","Roche {45}","Newman","Webber","Harle","Savage","Wilkins","Crawford","Cadette [45]","Hartley","Sinclair {45}","Dolby","Bowry [45]",null,null,null,null,null,null,null,null,null,null,null,null,null,null,null,null,null,null,null,null,null,null,null,null,null,null,null,null,null,null,null,null,null,null,null,null,null,null,null,null,null,null,null,null,null,null,null,null,null,null,null,null,null,null,null,null,null,null,null,null,null,null,null,null,null,null,null,null,null,null,null,null,null,null,null,null,null,null,null,null,null,null,null,null,null,null,null,null,null,null,null,null,null,null,null,"Wrexham (A) D 3-3","(A)","Crawford","Newman","Rogan"]
[null,null,null,null,null,null,null,null,null,null,null,null,null,null,null,null,null,null,null,null,null,null,null,null,null,null,null,34,"Division 2","1997-01-25","Blackpool","(A)","L 0-3","Carter","Newman","Harle","Savage {62}","Webber","Rogan","Bowry","Wilkins","Crawford","Cadette [62]","Hartley","Dolby {62}","Sinclair","Neill [62]",null,null,null,null,null,null,null,null,null,null,null,null,null,null,null,null,null,null,null,null,null,null,null,null,null,null,null,null,null,null,null,null,null,null,null,null,null,null,null,null,null,null,null,null,null,null,null,null,null,null,null,null,null,null,null,null,null,null,null,null,null,null,null,null,null,null,null,null,null,null,null,null,null,null,null,null,null,null,null,null,null,null,null,null,null,null,null,null,null,null,null,null,null,null,null,"York (H) D 1-1","(H)","Webber"]
[null,null,null,null,null,null,null,null,null,null,null,null,null,null,null,null,null,null,null,null,null,null,null,null,null,null,null,35,"Division 2","1997-02-01","Bristol C","(H)","L 0-2","Carter","Newman [75]","Rogan","Savage (67)","Witter","Stevens {13}","Neill","Bowry","Crawford","Dair","Dolby","Harle {13}","Hartley (67)","Sadlier [75]",null,null,null,null,null,null,null,null,null,null,null,null,null,null,null,null,null,null,null,null,null,null,null,null,null,null,null,null,null,null,null,null,null,null,null,null,null,null,null,null,null,null,null,null,null,null,null,null,null,null,null,null,null,null,null,null,null,null,null,null,null,null,null,null,null,null,null,null,null,null,null,null,null,null,null,null,null,null,null,null,null,null,null,null,null,null,null,null,null,null,null,null,null,null,null,"Burnley (A) L 0-1","(A)"]
[null,null,null,null,null,null,null,null,null,null,null,null,null,null,null,null,null,null,null,null,null,null,null,null,null,null,null,36,"Division 2","1997-02-08","Walsall","(A)","L 1-2","Carter","Neill","Rogan {45}","Bowry [55]","Webber","Newman","Savage","Hartley","Crawford","Dolby","Dair","Harle {45} (55)","McRobert (55)","Sadlier [55]",null,null,null,null,null,null,null,null,null,null,null,null,null,null,null,null,null,null,null,null,null,null,null,null,null,null,null,null,null,null,null,null,null,null,null,null,null,null,null,null,null,null,null,null,null,null,null,null,null,null,null,null,null,null,null,null,null,null,null,null,null,null,null,null,null,null,null,null,null,null,null,null,null,null,null,null,null,null,null,null,null,null,null,null,null,null,null,null,null,null,null,null,null,null,null,"Bristol R (A) L 0-1","(A)"]
[null,null,null,null,null,null,null,null,null,null,null,null,null,null,null,null,null,null,null,null,null,null,null,null,null,null,null,37,"Division 2","1997-02-15","Rotherham","(H)","W 2-0","Carter","Neill","Berry","Newman","Webber","Witter","Hartley","Savage","Crawford","Cadette","McRobert","Doyle","Dair","Bircham",null,null,null,null,null,null,null,null,null,null,null,null,null,null,null,null,null,null,null,null,null,null,null,null,null,null,null,null,null,null,null,null,null,null,null,null,null,null,null,null,null,null,null,null,null,null,null,null,null,null,null,null,null,null,null,null,null,null,null,null,null,null,null,null,null,null,null,null,null,null,null,null,null,null,null,null,null,null,null,null,null,null,null,null,null,null,null,null,null,null,null,null,null,null,null,"Plymouth (H) D 0-0","(H)"]
[null,null,null,null,null,null,null,null,null,null,null,null,null,null,null,null,null,null,null,null,null,null,null,null,null,null,null,38,"Division 2","1997-02-22","Shrewsbury","(A)","D 1-1","Carter","Neill","Berry","Newman","McLeary","Witter","Hartley","Savage (67)","Crawford","Cadette","McRobert","Bircham","Doyle (67) ","Forbes",null,null,null,null,null,null,null,null,null,null,null,null,null,null,null,null,null,null,null,null,null,null,null,null,null,null,null,null,null,null,null,null,null,null,null,null,null,null,null,null,null,null,null,null,null,null,null,null,null,null,null,null,null,null,null,null,null,null,null,null,null,null,null,null,null,null,null,null,null,null,null,null,null,null,null,null,null,null,null,null,null,null,null,null,null,null,null,null,null,null,null,null,null,null,null,"Chesterfield (A) L 0-1","(A)"]
[null,null,null,null,null,null,null,null,null,null,null,null,null,null,null,null,null,null,null,null,null,null,null,null,null,null,null,39,"Division 2","1997-02-25","Notts Co","(H)","W 1-0","Carter","Neill","Berry","Newman","McLeary","Witter","Hartley","Savage (89)","Crawford","Cadette","McRobert {55}","Dolby {55}¡","Doyle (89)","Forbes",null,null,null,null,null,null,null,null,null,null,null,null,null,null,null,null,null,null,null,null,null,null,null,null,null,null,null,null,null,null,null,null,null,null,null,null,null,null,null,null,null,null,null,null,null,null,null,null,null,null,null,null,null,null,null,null,null,null,null,null,null,null,null,null,null,null,null,null,null,null,null,null,null,null,null,null,null,null,null,null,null,null,null,null,null,null,null,null,null,null,null,null,null,null,null,"Gillingham (H) L 0-2","(H)"]
[null,null,null,null,null,null,null,null,null,null,null,null,null,null,null,null,null,null,null,null,null,null,null,null,null,null,null,40,"Division 2","1997-03-01","Wycombe","(H)","W 2-1","Carter","Neill","Berry","Newman","McLeary","Witter","Hartley","Doyle","Crawford (16)","Cadette","Dolby¡","Webber","Roche (16)","Bircham",null,null,null,null,null,null,null,null,null,null,null,null,null,null,null,null,null,null,null,null,null,null,null,null,null,null,null,null,null,null,null,null,null,null,null,null,null,null,null,null,null,null,null,null,null,null,null,null,null,null,null,null,null,null,null,null,null,null,null,null,null,null,null,null,null,null,null,null,null,null,null,null,null,null,null,null,null,null,null,null,null,null,null,null,null,null,null,null,null,null,null,null,null,null,null,"Bury (A) L 0-2","(A)"]
[null,null,null,null,null,null,null,null,null,null,null,null,null,null,null,null,null,null,null,null,null,null,null,null,null,null,null,41,"Division 2","1997-03-08","Luton","(A)","W 2-0","Carter","Neill","Berry","Savage","McLeary","Witter","Hartley","Doyle","Crawford","Roche (54)","Dolby","Webber","Sadlier (54)","Bircham"]
[null,null,null,null,null,null,null,null,null,null,null,null,null,null,null,null,null,null,null,null,null,null,null,null,null,null,null,42,"Division 2","1997-03-15","Bournemouth","(H)","L 0-1","Carter","Neill","Berry","Savage","McLeary","Witter","Hartley","Doyle","Crawford","Sadlier (74)","Dolby¡","Webber","Roche (74)","Bircham"]
[null,null,null,null,null,null,null,null,null,null,null,null,null,null,null,null,null,null,null,null,null,null,null,null,null,null,null,43,"Division 2","1997-03-18","Crewe","(A)","D 0-0","Carter","Neill","Berry","Newman","McLeary","Witter","Hartley","Doyle","Crawford","Sadlier","Dolby","Webber","Roche","Bircham"]
[null,null,null,null,null,null,null,null,null,null,null,null,null,null,null,null,null,null,null,null,null,null,null,null,null,null,null,44,"Division 2","1997-03-22","Watford","(H)","L 0-1","Carter","Neill","Berry","Newman","McLeary","Witter","Hartley","Doyle","Crawford","Roche (88)","Dolby","Webber","Canoville (88)","Bircham",null,null,null,null,null,null,null,null,null,null,null,null,null,null,null,null,null,null,null,null,null,null,null,null,null,null,null,null,null,null,null,null,null,null,null,null,null,null,null,null,null,null,null,null,null,null,null,null,null,null,null,null,null,null,null,null,null,null,null,null,null,null,null,null,null,null,null,null,null,null,null,null,null,null,null,null,null,null,null,null,null,null,null,null,null,null,null,null,null,null,null,null,null,null,null,"Woking (A) D 2-2","(A)","Savage","Crawford"]
[null,null,null,null,null,null,null,null,null,null,null,null,null,null,null,null,null,null,null,null,null,null,null,null,null,null,null,45,"Division 2","1997-03-28","Wrexham","(A)","D 3-3","Carter","Neill","Berry","Newman","McLeary","Witter","Hartley","Doyle","Crawford","Sadlier","Dolby {51}","Rogan {51}","Savage","Webber",null,null,null,null,null,null,null,null,null,null,null,null,null,null,null,null,null,null,null,null,null,null,null,null,null,null,null,null,null,null,null,null,null,null,null,null,null,null,null,null,null,null,null,null,null,null,null,null,null,null,null,null,null,null,null,null,null,null,null,null,null,null,null,null,null,null,null,null,null,null,null,null,null,null,null,null,null,null,null,null,null,null,null,null,null,null,null,null,null,null,null,null,null,null,null,"Woking (H) L 0-1","(H)"]
[null,null,null,null,null,null,null,null,null,null,null,null,null,null,null,null,null,null,null,null,null,null,null,null,null,null,null,46,"Division 2","1997-04-02","York","(H)","D 1-1","Carter","Bircham","Berry {60}","Savage","McLeary","Webber","Hartley","Doyle","Crawford","Sadlier","Rogan","Roche {60}","Aris","Canoville"]
[null,null,null,null,null,null,null,null,null,null,null,null,null,null,null,null,null,null,null,null,null,null,null,null,null,null,null,47,"Division 2","1997-04-05","Burnley","(A)","L 0-1","Carter","Bircham","Rogan","Savage","McLeary","Witter","Hartley","Doyle","Crawford","Sadlier [74]","Neill","Webber","Newman","Canoville [74]"]
[null,null,null,null,null,null,null,null,null,null,null,null,null,null,null,null,null,null,null,null,null,null,null,null,null,null,null,48,"Division 2","1997-04-08","Bristol R","(A)","L 0-1","Carter","Neill","Harle","Newman","McLeary","Witter","Hartley","Doyle","Crawford","Sadlier","Savage","Rogan","Bircham","Webber",null,null,null,null,null,null,null,null,null,null,null,null,null,null,null,null,null,null,null,null,null,null,null,null,null,null,null,null,null,null,null,null,null,null,null,null,null,null,null,null,null,null,null,null,null,null,null,null,null,null,null,null,null,null,null,null,null,null,null,null,null,null,null,null,null,null,null,null,null,null,null,null,null,null,null,null,null,null,null,null,null,null,null,null,null,null,null,null,null,null,null,null,null,null,null,"Peterborough (H) W 1-0","(H)","Malkin"]
[null,null,null,null,null,null,null,null,null,null,null,null,null,null,null,null,null,null,null,null,null,null,null,null,null,null,null,49,"Division 2","1997-04-12","Plymouth","(H)","D 0-0","Carter","Bircham","Harle","Newman","McLeary","Witter","Hartley","Doyle","Crawford (45)","Sadlier [14]","Berry","Rogan","Savage (45)","Webber [14]",null,null,null,null,null,null,null,null,null,null,null,null,null,null,null,null,null,null,null,null,null,null,null,null,null,null,null,null,null,null,null,null,null,null,null,null,null,null,null,null,null,null,null,null,null,null,null,null,null,null,null,null,null,null,null,null,null,null,null,null,null,null,null,null,null,null,null,null,null,null,null,null,null,null,null,null,null,null,null,null,null,null,null,null,null,null,null,null,null,null,null,null,null,null,null,"Peterborough (A) L 0-2","(A)"]
[null,null,null,null,null,null,null,null,null,null,null,null,null,null,null,null,null,null,null,null,null,null,null,null,null,null,null,50,"Division 2","1997-04-19","Chesterfield","(A)","L 0-1","Carter","Bircham","Harle","Newman","McLeary","Witter {41}","Hartley","Doyle","Crawford [65]","Webber","Savage","Rogan {41}","Canoville","Berry [65]"]
[null,null,null,null,null,null,null,null,null,null,null,null,null,null,null,null,null,null,null,null,null,null,null,null,null,null,null,51,"Division 2","1997-04-26","Gillingham","(H)","L 0-2","Carter","Neill","Harle {45}","Rogan","McLeary","Witter","Hartley","Doyle","Bowry","Webber","Berry","Newman {45}","Canoville","Bircham",null,null,null,null,null,null,null,null,null,null,null,null,null,null,null,null,null,null,null,null,null,null,null,null,null,null,null,null,null,null,null,null,null,null,null,null,null,null,null,null,null,null,null,null,null,null,null,null,null,null,null,null,null,null,null,null,null,null,null,null,null,null,null,null,null,null,null,null,null,null,null,null,null,null,null,null,null,null,null,null,null,null,null,null,null,null,null,null,null,null,null,null,null,null,null,"Hereford Utd (A) W 4-0","(A)","Dair","Crawford","Dair","Crawford"]
[null,null,null,null,null,null,null,null,null,null,null,null,null,null,null,null,null,null,null,null,null,null,null,null,null,null,null,52,"Division 2","1997-05-03","Bury","(A)","L 0-2","Carter","Neill","Newman","Rogan","McLeary","Witter (58)","Hartley","Savage","Bowry","Webber","Berry {77}","Doyle {77}","Harle (58)","Bircham",null,null,null,null,null,null,null,null,null,null,null,null,null,null,null,null,null,null,null,null,null,null,null,null,null,null,null,null,null,null,null,null,null,null,null,null,null,null,null,null,null,null,null,null,null,null,null,null,null,null,null,null,null,null,null,null,null,null,null,null,null,null,null,null,null,null,null,null,null,null,null,null,null,null,null,null,null,null,null,null,null,null,null,null,null,null,null,null,null,null,null,null,null,null,null,"Colchester Utd (H) L 2-3","(H)","Crawford","Savage"]
[]
[]
[]
[]
[]
[null,null,null,null,null,null,null,null,null,null,null,null,null,null,null,null,null,null,null,null,null,null,null,null,null,null,null,21,"FA Cup","1996-11-15","Woking","(A)","D 2-2","Carter","Newman","Rogan","Savage","Witter (66)","Harle [66]","Bowry","Neill","Crawford","Dair","Hartley","Webber","Lavin (66)","Van Blerk [66]"]
[null,null,null,null,null,null,null,null,null,null,null,null,null,null,null,null,null,null,null,null,null,null,null,null,null,null,null,24,"FA Cup","1996-11-26","Woking","(H)","L 0-1","Carter","Lavin","Rogan","Savage","Webber","Newman","Bowry","Neill [61]","Crawford","Dair (85)","Hartley","Doyle","Sinclair (85)","Dolby [61]"]
[]
[]
[]
[]
[]
[]
[null,null,null,null,null,null,null,null,null,null,null,null,null,null,null,null,null,null,null,null,null,null,null,null,null,null,null,null,null,null,null,null,null,null,null,null,null,null,null,null,null,null,null,null,null,null,null,null,null,null,null,null,null,null,null,null,null,null,null,null,null,null,null,null,null,null,null,null,null,null,null,null,null,null,null,1]
[null,null,null,null,null,null,null,null,null,null,null,null,null,null,null,null,null,null,null,null,null,null,null,null,null,null,null,null,null,null,null,null,null,null,null,null,null,null,null,null,null,null,null,null,null,null,null,null,null,null,null,null,null,null,null,null,null,null,null,null,null,null,null,null,null,null,null,null,null,null,null,null,null,null,null,1]
[null,null,null,null,null,null,null,null,null,null,null,null,null,null,null,null,null,null,null,null,null,null,null,null,null,null,null,2,"League Cup","1996-08-21","Peterborough","(H)","W 1-0","Carter","Newman","Harle","Bowry","Witter","Stevens","Hartley [71]","Savage","Malkin","Crawford","Dair (89)","Doyle","Dolby (89)","Neill [71]",null,null,null,null,null,null,null,null,null,null,null,null,null,null,null,null,null,null,null,null,null,null,null,null,null,null,null,null,1]
[null,null,null,null,null,null,null,null,null,null,null,null,null,null,null,null,null,null,null,null,null,null,null,null,null,null,null,6,"League Cup","1996-09-03","Peterborough","(A)","L 0-2","Carter","Neill","Rogan","Webber","Witter","Stevens","Bowry","Newman","Malkin","Dolby [56]","Dair (107)","Doyle","Harle (107)","Hartley [56]",null,null,null,null,null,null,null,null,null,null,null,null,null,null,null,null,null,null,null,null,null,null,null,null,null,null,null,null,1]
[null,null,null,null,null,null,null,null,null,null,null,null,null,null,null,null,null,null,null,null,null,null,null,null,null,null,null,null,null,null,null,null,null,null,null,null,null,null,null,null,null,null,null,null,null,null,null,null,null,null,null,null,null,null,null,null,null,null,null,null,null,null,null,null,null,null,null,null,null,null,null,null,null,null,null,1]
[null,null,null,null,null,null,null,null,null,null,null,null,null,null,null,null,null,null,null,null,null,null,null,null,null,null,null,null,null,null,null,null,null,null,null,null,null,null,null,null,null,null,null,null,null,null,null,null,null,null,null,null,null,null,null,null,null,null,null,null,null,null,null,null,null,null,null,null,null,null,null,null,null,null,null,1]
[null,null,null,null,null,null,null,null,null,null,null,null,null,null,null,null,null,null,null,null,null,null,null,null,null,null,null,null,null,null,null,null,null,null,null,null,null,null,null,null,null,null,null,null,null,null,null,null,null,null,null,null,null,null,null,null,null,null,null,null,null,null,null,null,null,null,null,null,null,null,null,null,null,null,null,1]
[null,null,null,null,null,null,null,null,null,null,null,null,null,null,null,null,null,null,null,null,null,null,null,null,null,null,null,null,null,null,null,null,null,null,null,null,null,null,null,null,null,null,null,null,null,null,null,null,null,null,null,null,null,null,null,null,null,null,null,null,null,null,null,null,null,null,null,null,null,null,null,null,null,null,null,1]
[null,null,null,null,null,null,null,null,null,null,null,null,null,null,null,null,null,null,null,null,null,null,null,null,null,null,null,null,null,null,null,null,null,null,null,null,null,null,null,null,null,null,null,null,null,null,null,null,null,null,null,null,null,null,null,null,null,null,null,null,null,null,null,null,null,null,null,null,null,null,null,null,null,null,null,1]
[null,null,null,null,null,null,null,null,null,null,null,null,null,null,null,null,null,null,null,null,null,null,null,null,null,null,null,null,null,null,null,null,null,null,null,null,null,null,null,null,null,null,null,null,null,null,null,null,null,null,null,null,null,null,null,null,null,null,null,null,null,null,null,null,null,null,null,null,null,null,null,null,null,null,null,1]
[null,null,null,null,null,null,null,null,null,null,null,null,null,null,null,null,null,null,null,null,null,null,null,null,null,null,null,null,null,null,null,null,null,null,null,null,null,null,null,null,null,null,null,null,null,null,null,null,null,null,null,null,null,null,null,null,null,null,null,null,null,null,null,null,null,null,null,null,null,null,null,null,null,null,null,1]
[null,null,null,null,null,null,null,null,null,null,null,null,null,null,null,null,null,null,null,null,null,null,null,null,null,null,null,null,null,null,null,null,null,null,null,null,null,null,null,null,null,null,null,null,null,null,null,null,null,null,null,null,null,null,null,null,null,null,null,null,null,null,null,null,null,null,null,null,null,null,null,null,null,null,null,1]
[null,null,null,null,null,null,null,null,null,null,null,null,null,null,null,null,null,null,null,null,null,null,null,null,null,null,null,27,"AWS","1996-12-07","Hereford Utd","(A)","W 4-0","Carter","Lavin [81]","Van Blerk","Newman","Webber","Sinclair","Doyle","Neill (76)","Crawford","Dair","Dolby {52}","McRobert {52}","Robertson (76)","Aris [81]",null,null,null,null,null,null,null,null,null,null,null,null,null,null,null,null,null,null,null,null,null,null,null,null,null,null,null,null,1]
[null,null,null,null,null,null,null,null,null,null,null,null,null,null,null,null,null,null,null,null,null,null,null,null,null,null,null,31,"AWS","1997-01-07","Colchester Utd","(H)","L 2-3","Iga","Newman","Harle","Savage ¹","Webber","Rogan {55}","Hartley [51]","Wilkins","Crawford (86)","Bright","Dolby","Sinclair {55}","Van Blerk (86)","Doyle [51]",null,null,null,null,null,null,null,null,null,null,null,null,null,null,null,null,null,null,null,null,null,null,null,null,null,null,null,null,1]
[null,null,null,null,null,null,null,null,null,null,null,null,null,null,null,null,null,null,null,null,null,null,null,null,null,null,null,null,null,null,null,null,null,null,null,null,null,null,null,null,null,null,null,null,null,null,null,null,null,null,null,null,null,null,null,null,null,null,null,null,null,null,null,null,null,null,null,null,null,null,null,null,null,null,null,1]
[null,null,null,null,null,null,null,null,null,null,null,null,null,null,null,null,null,null,null,null,null,null,null,null,null,null,null,null,null,null,null,null,null,null,null,null,null,null,null,null,null,null,null,null,null,null,null,null,null,null,null,null,null,null,null,null,null,null,null,null,null,null,null,null,null,null,null,null,null,null,null,null,null,null,null,1]
[null,null,null,null,null,null,null,null,null,null,null,null,null,null,null,null,null,null,null,null,null,null,null,null,null,null,null,null,null,null,null,null,null,null,null,null,null,null,null,null,null,null,null,null,null,null,null,null,null,null,null,null,null,null,null,null,null,null,null,null,null,null,null,null,null,null,null,null,null,null,null,null,null,null,null,1]
[null,null,null,null,null,null,null,null,null,null,null,null,null,null,null,null,null,null,null,null,null,null,null,null,null,null,null,null,null,null,null,null,null,null,null,null,null,null,null,null,null,null,null,null,null,null,null,null,null,null,null,null,null,null,null,null,null,null,null,null,null,null,null,null,null,null,null,null,null,null,null,null,null,null,null,1]
[null,null,null,null,null,null,null,null,null,null,null,null,null,null,null,null,null,null,null,null,null,null,null,null,null,null,null,null,null,null,null,null,null,null,null,null,null,null,null,null,null,null,null,null,null,null,null,null,null,null,null,null,null,null,null,null,null,null,null,null,null,null,null,null,null,null,null,null,null,null,null,null,null,null,null,1]
[null,null,null,null,null,null,null,null,null,null,null,null,null,null,null,null,null,null,null,null,null,null,null,null,null,null,null,null,null,null,null,null,null,null,null,null,null,null,null,null,null,null,null,null,null,null,null,null,null,null,null,null,null,null,null,null,null,null,null,null,null,null,null,null,null,null,null,null,null,null,null,null,null,null,null,1]
[null,null,null,null,null,null,null,null,null,null,null,null,null,null,null,null,null,null,null,null,null,null,null,null,null,null,null,null,null,null,null,null,null,null,null,null,null,null,null,null,null,null,null,null,null,null,null,null,null,null,null,null,null,null,null,null,null,null,null,null,null,null,null,null,null,null,null,null,null,null,null,null,null,null,null,1]
[null,null,null,null,null,null,null,null,null,null,null,null,null,null,null,null,null,null,null,null,null,null,null,null,null,null,null,null,null,null,null,null,null,null,null,null,null,null,null,null,null,null,null,null,null,null,null,null,null,null,null,null,null,null,null,null,null,null,null,null,null,null,null,null,null,null,null,null,null,null,null,null,null,null,null,1]
[null,null,null,null,null,null,null,null,null,null,null,null,null,null,null,null,null,null,null,null,null,null,null,null,null,null,null,null,null,null,null,null,null,null,null,null,null,null,null,null,null,null,null,null,null,null,null,null,null,null,null,null,null,null,null,null,null,null,null,null,null,null,null,null,null,null,null,null,null,null,null,null,null,null,null,1]
[null,null,null,null,null,null,null,null,null,null,null,null,null,null,null,null,null,null,null,null,null,null,null,null,null,null,null,null,null,null,null,null,null,null,null,null,null,null,null,null,null,null,null,null,null,null,null,null,null,null,null,null,null,null,null,null,null,null,null,null,null,null,null,null,null,null,null,null,null,null,null,null,null,null,null,1]
[null,null,null,null,null,null,null,null,null,null,null,null,null,null,null,null,null,null,null,null,null,null,null,null,null,null,null,null,null,null,null,null,null,null,null,null,null,null,null,null,null,null,null,null,null,null,null,null,null,null,null,null,null,null,null,null,null,null,null,null,null,null,null,null,null,null,null,null,null,null,null,null,null,null,null,1]
[null,null,null,null,null,null,null,null,null,null,null,null,null,null,null,null,null,null,null,null,null,null,null,null,null,null,null,null,null,null,null,null,null,null,null,null,null,null,null,null,null,null,null,null,null,null,null,null,null,null,null,null,null,null,null,null,null,null,null,null,null,null,null,null,null,null,null,null,null,null,null,null,null,null,null,1]
[null,null,null,null,null,null,null,null,null,null,null,null,null,null,null,null,null,null,null,null,null,null,null,null,null,null,null,null,null,null,null,null,null,null,null,null,null,null,null,null,null,null,null,null,null,null,null,null,null,null,null,null,null,null,null,null,null,null,null,null,null,null,null,null,null,null,null,null,null,null,null,null,null,null,null,1]
[null,null,null,null,null,null,null,null,null,null,null,null,null,null,null,null,null,null,null,null,null,null,null,null,null,null,null,null,null,null,null,null,null,null,null,null,null,null,null,null,null,null,null,null,null,null,null,null,null,null,null,null,null,null,null,null,null,null,null,null,null,null,null,null,null,null,null,null,null,null,null,null,null,null,null,1]
[null,null,null,null,null,null,null,null,null,null,null,null,null,null,null,null,null,null,null,null,null,null,null,null,null,null,null,null,null,null,null,null,null,null,null,null,null,null,null,null,null,null,null,null,null,null,null,null,null,null,null,null,null,null,null,null,null,null,null,null,null,null,null,null,null,null,null,null,null,null,null,null,null,null,null,1]
[null,null,null,null,null,null,null,null,null,null,null,null,null,null,null,null,null,null,null,null,null,null,null,null,null,null,null,null,null,null,null,null,null,null,null,null,null,null,null,null,null,null,null,null,null,null,null,null,null,null,null,null,null,null,null,null,null,null,null,null,null,null,null,null,null,null,null,null,null,null,null,null,null,null,null,1]
[null,null,null,null,null,null,null,null,null,null,null,null,null,null,null,null,null,null,null,null,null,null,null,null,null,null,null,null,null,null,null,null,null,null,null,null,null,null,null,null,null,null,null,null,null,null,null,null,null,null,null,null,null,null,null,null,null,null,null,null,null,null,null,null,null,null,null,null,null,null,null,null,null,null,null,1]
[null,null,null,null,null,null,null,null,null,null,null,null,null,null,null,null,null,null,null,null,null,null,null,null,null,null,null,null,null,null,null,null,null,null,null,null,null,null,null,null,null,null,null,null,null,null,null,null,null,null,null,null,null,null,null,null,null,null,null,null,null,null,null,null,null,null,null,null,null,null,null,null,null,null,null,1]
[null,null,null,null,null,null,null,null,null,null,null,null,null,null,null,null,null,null,null,null,null,null,null,null,null,null,null,null,null,null,null,null,null,null,null,null,null,null,null,null,null,null,null,null,null,null,null,null,null,null,null,null,null,null,null,null,null,null,null,null,null,null,null,null,null,null,null,null,null,null,null,null,null,null,null,1]
[null,null,null,null,null,null,null,null,null,null,null,null,null,null,null,null,null,null,null,null,null,null,null,null,null,null,null,null,null,null,null,null,null,null,null,null,null,null,null,null,null,null,null,null,null,null,null,null,null,null,null,null,null,null,null,null,null,null,null,null,null,null,null,null,null,null,null,null,null,null,null,null,null,null,null,1]
[null,null,null,null,null,null,null,null,null,null,null,null,null,null,null,null,null,null,null,null,null,null,null,null,null,null,null,null,null,null,null,null,null,null,null,null,null,null,null,null,null,null,null,null,null,null,null,null,null,null,null,null,null,null,null,null,null,null,null,null,null,null,null,null,null,null,null,null,null,null,null,null,null,null,null,1]
[null,null,null,null,null,null,null,null,null,null,null,null,null,null,null,null,null,null,null,null,null,null,null,null,null,null,null,null,null,null,null,null,null,null,null,null,null,null,null,null,null,null,null,null,null,null,null,null,null,null,null,null,null,null,null,null,null,null,null,null,null,null,null,null,null,null,null,null,null,null,null,null,null,null,null,1]
[null,null,null,null,null,null,null,null,null,null,null,null,null,null,null,null,null,null,null,null,null,null,null,null,null,null,null,null,null,null,null,null,null,null,null,null,null,null,null,null,null,null,null,null,null,null,null,null,null,null,null,null,null,null,null,null,null,null,null,null,null,null,null,null,null,null,null,null,null,null,null,null,null,null,null,1]
[null,null,null,null,null,null,null,null,null,null,null,null,null,null,null,null,null,null,null,null,null,null,null,null,null,null,null,null,null,null,null,null,null,null,null,null,null,null,null,null,null,null,null,null,null,null,null,null,null,null,null,null,null,null,null,null,null,null,null,null,null,null,null,null,null,null,null,null,null,null,null,null,null,null,null,1]
[null,null,null,null,null,null,null,null,null,null,null,null,null,null,null,null,null,null,null,null,null,null,null,null,null,null,null,null,null,null,null,null,null,null,null,null,null,null,null,null,null,null,null,null,null,null,null,null,null,null,null,null,null,null,null,null,null,null,null,null,null,null,null,null,null,null,null,null,null,null,null,null,null,null,null,1]
[null,null,null,null,null,null,null,null,null,null,null,null,null,null,null,null,null,null,null,null,null,null,null,null,null,null,null,null,null,null,null,null,null,null,null,null,null,null,null,null,null,null,null,null,null,null,null,null,null,null,null,null,null,null,null,null,null,null,null,null,null,null,null,null,null,null,null,null,null,null,null,null,null,null,null,1]
[null,null,null,null,null,null,null,null,null,null,null,null,null,null,null,null,null,null,null,null,null,null,null,null,null,null,null,null,null,null,null,null,null,null,null,null,null,null,null,null,null,null,null,null,null,null,null,null,null,null,null,null,null,null,null,null,null,null,null,null,null,null,null,null,null,null,null,null,null,null,null,null,null,null,null,1]
[null,null,null,null,null,null,null,null,null,null,null,null,null,null,null,null,null,null,null,null,null,null,null,null,null,null,null,null,null,null,null,null,null,null,null,null,null,null,null,null,null,null,null,null,null,null,null,null,null,null,null,null,null,null,null,null,null,null,null,null,null,null,null,null,null,null,null,null,null,null,null,null,null,null,null,1]
[null,null,null,null,null,null,null,null,null,null,null,null,null,null,null,null,null,null,null,null,null,null,null,null,null,null,null,null,null,null,null,null,null,null,null,null,null,null,null,null,null,null,null,null,null,null,null,null,null,null,null,null,null,null,null,null,null,null,null,null,null,null,null,null,null,null,null,null,null,null,null,null,null,null,null,1]
[null,null,null,null,null,null,null,null,null,null,null,null,null,null,null,null,null,null,null,null,null,null,null,null,null,null,null,null,null,null,null,null,null,null,null,null,null,null,null,null,null,null,null,null,null,null,null,null,null,null,null,null,null,null,null,null,null,null,null,null,null,null,null,null,null,null,null,null,null,null,null,null,null,null,null,1]
[null,null,null,null,null,null,null,null,null,null,null,null,null,null,null,null,null,null,null,null,null,null,null,null,null,null,null,null,null,null,null,null,null,null,null,null,null,null,null,null,null,null,null,null,null,null,null,null,null,null,null,null,null,null,null,null,null,null,null,null,null,null,null,null,null,null,null,null,null,null,null,null,null,null,null,1]
[null,null,null,null,null,null,null,null,null,null,null,null,null,null,null,null,null,null,null,null,null,null,null,null,null,null,null,null,null,null,null,null,null,null,null,null,null,null,null,null,null,null,null,null,null,null,null,null,null,null,null,null,null,null,null,null,null,null,null,null,null,null,null,null,null,null,null,null,null,null,null,null,null,null,null,1]
[null,null,null,null,null,null,null,null,null,null,null,null,null,null,null,null,null,null,null,null,null,null,null,null,null,null,null,null,null,null,null,null,null,null,null,null,null,null,null,null,null,null,null,null,null,null,null,null,null,null,null,null,null,null,null,null,null,null,null,null,null,null,null,null,null,null,null,null,null,null,null,null,null,null,null,1]
[null,null,null,null,null,null,null,null,null,null,null,null,null,null,null,null,null,null,null,null,null,null,null,null,null,null,null,null,null,null,null,null,null,null,null,null,null,null,null,null,null,null,null,null,null,null,null,null,null,null,null,null,null,null,null,null,null,null,null,null,null,null,null,null,null,null,null,null,null,null,null,null,null,null,null,1]
[null,null,null,null,null,null,null,null,null,null,null,null,null,null,null,null,null,null,null,null,null,null,null,null,null,null,null,null,null,null,null,null,null,null,null,null,null,null,null,null,null,null,null,null,null,null,null,null,null,null,null,null,null,null,null,null,null,null,null,null,null,null,null,null,null,null,null,null,null,null,null,null,null,null,null,1]
[null,null,null,null,null,null,null,null,null,null,null,null,null,null,null,null,null,null,null,null,null,null,null,null,null,null,null,null,null,null,null,null,null,null,null,null,null,null,null,null,null,null,null,null,null,null,null,null,null,null,null,null,null,null,null,null,null,null,null,null,null,null,null,null,null,null,null,null,null,null,null,null,null,null,null,1]
[null,null,null,null,null,null,null,null,null,null,null,null,null,null,null,null,null,null,null,null,null,null,null,null,null,null,null,null,null,null,null,null,null,null,null,null,null,null,null,null,null,null,null,null,null,null,null,null,null,null,null,null,null,null,null,null,null,null,null,null,null,null,null,null,null,null,null,null,null,null,null,null,null,null,null,1]
[null,null,null,null,null,null,null,null,null,null,null,null,null,null,null,null,null,null,null,null,null,null,null,null,null,null,null,null,null,null,null,null,null,null,null,null,null,null,null,null,null,null,null,null,null,null,null,null,null,null,null,null,null,null,null,null,null,null,null,null,null,null,null,null,null,null,null,null,null,null,null,null,null,null,null,1]
[null,null,null,null,null,null,null,null,null,null,null,null,null,null,null,null,null,null,null,null,null,null,null,null,null,null,null,null,null,null,null,null,null,null,null,null,null,null,null,null,null,null,null,null,null,null,null,null,null,null,null,null,null,null,null,null,null,null,null,null,null,null,null,null,null,null,null,null,null,null,null,null,null,null,null,1]
[null,null,null,null,null,null,null,null,null,null,null,null,null,null,null,null,null,null,null,null,null,null,null,null,null,null,null,null,null,null,null,null,null,null,null,null,null,null,null,null,null,null,null,null,null,null,null,null,null,null,null,null,null,null,null,null,null,null,null,null,null,null,null,null,null,null,null,null,null,null,null,null,null,null,null,1]
[null,null,null,null,null,null,null,null,null,null,null,null,null,null,null,null,null,null,null,null,null,null,null,null,null,null,null,null,null,null,null,null,null,null,null,null,null,null,null,null,null,null,null,null,null,null,null,null,null,null,null,null,null,null,null,null,null,null,null,null,null,null,null,null,null,null,null,null,null,null,null,null,null,null,null,1]
[null,null,null,null,null,null,null,null,null,null,null,null,null,null,null,null,null,null,null,null,null,null,null,null,null,null,null,null,null,null,null,null,null,null,null,null,null,null,null,null,null,null,null,null,null,null,null,null,null,null,null,null,null,null,null,null,null,null,null,null,null,null,null,null,null,null,null,null,null,null,null,null,null,null,null,1]
[null,null,null,null,null,null,null,null,null,null,null,null,null,null,null,null,null,null,null,null,null,null,null,null,null,null,null,null,null,null,null,null,null,null,null,null,null,null,null,null,null,null,null,null,null,null,null,null,null,null,null,null,null,null,null,null,null,null,null,null,null,null,null,null,null,null,null,null,null,null,null,null,null,null,null,1]
[null,null,null,null,null,null,null,null,null,null,null,null,null,null,null,null,null,null,null,null,null,null,null,null,null,null,null,null,null,null,null,null,null,null,null,null,null,null,null,null,null,null,null,null,null,null,null,null,null,null,null,null,null,null,null,null,null,null,null,null,null,null,null,null,null,null,null,null,null,null,null,null,null,null,null,1]
[null,null,null,null,null,null,null,null,null,null,null,null,null,null,null,null,null,null,null,null,null,null,null,null,null,null,null,null,null,null,null,null,null,null,null,null,null,null,null,null,null,null,null,null,null,null,null,null,null,null,null,null,null,null,null,null,null,null,null,null,null,null,null,null,null,null,null,null,null,null,null,null,null,null,null,1]
[null,null,null,null,null,null,null,null,null,null,null,null,null,null,null,null,null,null,null,null,null,null,null,null,null,null,null,null,null,null,null,null,null,null,null,null,null,null,null,null,null,null,null,null,null,null,null,null,null,null,null,null,null,null,null,null,null,null,null,null,null,null,null,null,null,null,null,null,null,null,null,null,null,null,null,1]
[null,null,null,null,null,null,null,null,null,null,null,null,null,null,null,null,null,null,null,null,null,null,null,null,null,null,null,null,null,null,null,null,null,null,null,null,null,null,null,null,null,null,null,null,null,null,null,null,null,null,null,null,null,null,null,null,null,null,null,null,null,null,null,null,null,null,null,null,null,null,null,null,null,null,null,1]
[null,null,null,null,null,null,null,null,null,null,null,null,null,null,null,null,null,null,null,null,null,null,null,null,null,null,null,null,null,null,null,null,null,null,null,null,null,null,null,null,null,null,null,null,null,null,null,null,null,null,null,null,null,null,null,null,null,null,null,null,null,null,null,null,null,null,null,null,null,null,null,null,null,null,null,1]
[null,null,null,null,null,null,null,null,null,null,null,null,null,null,null,null,null,null,null,null,null,null,null,null,null,null,null,null,null,null,null,null,null,null,null,null,null,null,null,null,null,null,null,null,null,null,null,null,null,null,null,null,null,null,null,null,null,null,null,null,null,null,null,null,null,null,null,null,null,null,null,null,null,null,null,1]
[null,null,null,null,null,null,null,null,null,null,null,null,null,null,null,null,null,null,null,null,null,null,null,null,null,null,null,null,null,null,null,null,null,null,null,null,null,null,null,null,null,null,null,null,null,null,null,null,null,null,null,null,null,null,null,null,null,null,null,null,null,null,null,null,null,null,null,null,null,null,null,null,null,null,null,1]
[null,null,null,null,null,null,null,null,null,null,null,null,null,null,null,null,null,null,null,null,null,null,null,null,null,null,null,null,null,null,null,null,null,null,null,null,null,null,null,null,null,null,null,null,null,null,null,null,null,null,null,null,null,null,null,null,null,null,null,null,null,null,null,null,null,null,null,null,null,null,null,null,null,null,null,1]
[null,null,null,null,null,null,null,null,null,null,null,null,null,null,null,null,null,null,null,null,null,null,null,null,null,null,null,null,null,null,null,null,null,null,null,null,null,null,null,null,null,null,null,null,null,null,null,null,null,null,null,null,null,null,null,null,null,null,null,null,null,null,null,null,null,null,null,null,null,null,null,null,null,null,null,1]
[null,null,null,null,null,null,null,null,null,null,null,null,null,null,null,null,null,null,null,null,null,null,null,null,null,null,null,null,null,null,null,null,null,null,null,null,null,null,null,null,null,null,null,null,null,null,null,null,null,null,null,null,null,null,null,null,null,null,null,null,null,null,null,null,null,null,null,null,null,null,null,null,null,null,null,1]
[null,null,null,null,null,null,null,null,null,null,null,null,null,null,null,null,null,null,null,null,null,null,null,null,null,null,null,null,null,null,null,null,null,null,null,null,null,null,null,null,null,null,null,null,null,null,null,null,null,null,null,null,null,null,null,null,null,null,null,null,null,null,null,null,null,null,null,null,null,null,null,null,null,null,null,1]
[null,null,null,null,null,null,null,null,null,null,null,null,null,null,null,null,null,null,null,null,null,null,null,null,null,null,null,null,null,null,null,null,null,null,null,null,null,null,null,null,null,null,null,null,null,null,null,null,null,null,null,null,null,null,null,null,null,null,null,null,null,null,null,null,null,null,null,null,null,null,null,null,null,null,null,1]
[null,null,null,null,null,null,null,null,null,null,null,null,null,null,null,null,null,null,null,null,null,null,null,null,null,null,null,null,null,null,null,null,null,null,null,null,null,null,null,null,null,null,null,null,null,null,null,null,null,null,null,null,null,null,null,null,null,null,null,null,null,null,null,null,null,null,null,null,null,null,null,null,null,null,null,1]
[null,null,null,null,null,null,null,null,null,null,null,null,null,null,null,null,null,null,null,null,null,null,null,null,null,null,null,null,null,null,null,null,null,null,null,null,null,null,null,null,null,null,null,null,null,null,null,null,null,null,null,null,null,null,null,null,null,null,null,null,null,null,null,null,null,null,null,null,null,null,null,null,null,null,null,1]
[null,null,null,null,null,null,null,null,null,null,null,null,null,null,null,null,null,null,null,null,null,null,null,null,null,null,null,null,null,null,null,null,null,null,null,null,null,null,null,null,null,null,null,null,null,null,null,null,null,null,null,null,null,null,null,null,null,null,null,null,null,null,null,null,null,null,null,null,null,null,null,null,null,null,null,1]
[null,null,null,null,null,null,null,null,null,null,null,null,null,null,null,null,null,null,null,null,null,null,null,null,null,null,null,null,null,null,null,null,null,null,null,null,null,null,null,null,null,null,null,null,null,null,null,null,null,null,null,null,null,null,null,null,null,null,null,null,null,null,null,null,null,null,null,null,null,null,null,null,null,null,null,1]
[null,null,null,null,null,null,null,null,null,null,null,null,null,null,null,null,null,null,null,null,null,null,null,null,null,null,null,null,null,null,null,null,null,null,null,null,null,null,null,null,null,null,null,null,null,null,null,null,null,null,null,null,null,null,null,null,null,null,null,null,null,null,null,null,null,null,null,null,null,null,null,null,null,null,null,1]
[null,null,null,null,null,null,null,null,null,null,null,null,null,null,null,null,null,null,null,null,null,null,null,null,null,null,null,null,null,null,null,null,null,null,null,null,null,null,null,null,null,null,null,null,null,null,null,null,null,null,null,null,null,null,null,null,null,null,null,null,null,null,null,null,null,null,null,null,null,null,null,null,null,null,null,1]
[null,null,null,null,null,null,null,null,null,null,null,null,null,null,null,null,null,null,null,null,null,null,null,null,null,null,null,null,null,null,null,null,null,null,null,null,null,null,null,null,null,null,null,null,null,null,null,null,null,null,null,null,null,null,null,null,null,null,null,null,null,null,null,null,null,null,null,null,null,null,null,null,null,null,null,1]
[null,null,null,null,null,null,null,null,null,null,null,null,null,null,null,null,null,null,null,null,null,null,null,null,null,null,null,null,null,null,null,null,null,null,null,null,null,null,null,null,null,null,null,null,null,null,null,null,null,null,null,null,null,null,null,null,null,null,null,null,null,null,null,null,null,null,null,null,null,null,null,null,null,null,null,1]
[null,null,null,null,null,null,null,null,null,null,null,null,null,null,null,null,null,null,null,null,null,null,null,null,null,null,null,null,null,null,null,null,null,null,null,null,null,null,null,null,null,null,null,null,null,null,null,null,null,null,null,null,null,null,null,null,null,null,null,null,null,null,null,null,null,null,null,null,null,null,null,null,null,null,null,1]
[null,null,null,null,null,null,null,null,null,null,null,null,null,null,null,null,null,null,null,null,null,null,null,null,null,null,null,null,null,null,null,null,null,null,null,null,null,null,null,null,null,null,null,null,null,null,null,null,null,null,null,null,null,null,null,null,null,null,null,null,null,null,null,null,null,null,null,null,null,null,null,null,null,null,null,1]
[null,null,null,null,null,null,null,null,null,null,null,null,null,null,null,null,null,null,null,null,null,null,null,null,null,null,null,null,null,null,null,null,null,null,null,null,null,null,null,null,null,null,null,null,null,null,null,null,null,null,null,null,null,null,null,null,null,null,null,null,null,null,null,null,null,null,null,null,null,null,null,null,null,null,null,1]
[null,null,null,null,null,null,null,null,null,null,null,null,null,null,null,null,null,null,null,null,null,null,null,null,null,null,null,null,null,null,null,null,null,null,null,null,null,null,null,null,null,null,null,null,null,null,null,null,null,null,null,null,null,null,null,null,null,null,null,null,null,null,null,null,null,null,null,null,null,null,null,null,null,null,null,1]
[null,null,null,null,null,null,null,null,null,null,null,null,null,null,null,null,null,null,null,null,null,null,null,null,null,null,null,null,null,null,null,null,null,null,null,null,null,null,null,null,null,null,null,null,null,null,null,null,null,null,null,null,null,null,null,null,null,null,null,null,null,null,null,null,null,null,null,null,null,null,null,null,null,null,null,1]
[null,null,null,null,null,null,null,null,null,null,null,null,null,null,null,null,null,null,null,null,null,null,null,null,null,null,null,null,null,null,null,null,null,null,null,null,null,null,null,null,null,null,null,null,null,null,null,null,null,null,null,null,null,null,null,null,null,null,null,null,null,null,null,null,null,null,null,null,null,null,null,null,null,null,null,1]
[null,null,null,null,null,null,null,null,null,null,null,null,null,null,null,null,null,null,null,null,null,null,null,null,null,null,null,null,null,null,null,null,null,null,null,null,null,null,null,null,null,null,null,null,null,null,null,null,null,null,null,null,null,null,null,null,null,null,null,null,null,null,null,null,null,null,null,null,null,null,null,null,null,null,null,1]
[null,null,null,null,null,null,null,null,null,null,null,null,null,null,null,null,null,null,null,null,null,null,null,null,null,null,null,null,null,null,null,null,null,null,null,null,null,null,null,null,null,null,null,null,null,null,null,null,null,null,null,null,null,null,null,null,null,null,null,null,null,null,null,null,null,null,null,null,null,null,null,null,null,null,null,1]
[null,null,null,null,null,null,null,null,null,null,null,null,null,null,null,null,null,null,null,null,null,null,null,null,null,null,null,null,null,null,null,null,null,null,null,null,null,null,null,null,null,null,null,null,null,null,null,null,null,null,null,null,null,null,null,null,null,null,null,null,null,null,null,null,null,null,null,null,null,null,null,null,null,null,null,1]
[null,null,null,null,null,null,null,null,null,null,null,null,null,null,null,null,null,null,null,null,null,null,null,null,null,null,null,null,null,null,null,null,null,null,null,null,null,null,null,null,null,null,null,null,null,null,null,null,null,null,null,null,null,null,null,null,null,null,null,null,null,null,null,null,null,null,null,null,null,null,null,null,null,null,null,1]
[null,null,null,null,null,null,null,null,null,null,null,null,null,null,null,null,null,null,null,null,null,null,null,null,null,null,null,null,null,null,null,null,null,null,null,null,null,null,null,null,null,null,null,null,null,null,null,null,null,null,null,null,null,null,null,null,null,null,null,null,null,null,null,null,null,null,null,null,null,null,null,null,null,null,null,1]
[null,null,null,null,null,null,null,null,null,null,null,null,null,null,null,null,null,null,null,null,null,null,null,null,null,null,null,null,null,null,null,null,null,null,null,null,null,null,null,null,null,null,null,null,null,null,null,null,null,null,null,null,null,null,null,null,null,null,null,null,null,null,null,null,null,null,null,null,null,null,null,null,null,null,null,1]
[null,null,null,null,null,null,null,null,null,null,null,null,null,null,null,null,null,null,null,null,null,null,null,null,null,null,null,null,null,null,null,null,null,null,null,null,null,null,null,null,null,null,null,null,null,null,null,null,null,null,null,null,null,null,null,null,null,null,null,null,null,null,null,null,null,null,null,null,null,null,null,null,null,null,null,1]
[null,null,null,null,null,null,null,null,null,null,null,null,null,null,null,null,null,null,null,null,null,null,null,null,null,null,null,null,null,null,null,null,null,null,null,null,null,null,null,null,null,null,null,null,null,null,null,null,null,null,null,null,null,null,null,null,null,null,null,null,null,null,null,null,null,null,null,null,null,null,null,null,null,null,null,1]
[null,null,null,null,null,null,null,null,null,null,null,null,null,null,null,null,null,null,null,null,null,null,null,null,null,null,null,null,null,null,null,null,null,null,null,null,null,null,null,null,null,null,null,null,null,null,null,null,null,null,null,null,null,null,null,null,null,null,null,null,null,null,null,null,null,null,null,null,null,null,null,null,null,null,null,1]
[null,null,null,null,null,null,null,null,null,null,null,null,null,null,null,null,null,null,null,null,null,null,null,null,null,null,null,null,null,null,null,null,null,null,null,null,null,null,null,null,null,null,null,null,null,null,null,null,null,null,null,null,null,null,null,null,null,null,null,null,null,null,null,null,null,null,null,null,null,null,null,null,null,null,null,1]
[null,null,null,null,null,null,null,null,null,null,null,null,null,null,null,null,null,null,null,null,null,null,null,null,null,null,null,null,null,null,null,null,null,null,null,null,null,null,null,null,null,null,null,null,null,null,null,null,null,null,null,null,null,null,null,null,null,null,null,null,null,null,null,null,null,null,null,null,null,null,null,null,null,null,null,1]
[null,null,null,null,null,null,null,null,null,null,null,null,null,null,null,null,null,null,null,null,null,null,null,null,null,null,null,null,null,null,null,null,null,null,null,null,null,null,null,null,null,null,null,null,null,null,null,null,null,null,null,null,null,null,null,null,null,null,null,null,null,null,null,null,null,null,null,null,null,null,null,null,null,null,null,1]
[null,null,null,null,null,null,null,null,null,null,null,null,null,null,null,null,null,null,null,null,null,null,null,null,null,null,null,null,null,null,null,null,null,null,null,null,null,null,null,null,null,null,null,null,null,null,null,null,null,null,null,null,null,null,null,null,null,null,null,null,null,null,null,null,null,null,null,null,null,null,null,null,null,null,null,1]
[null,null,null,null,null,null,null,null,null,null,null,null,null,null,null,null,null,null,null,null,null,null,null,null,null,null,null,null,null,null,null,null,null,null,null,null,null,null,null,null,null,null,null,null,null,null,null,null,null,null,null,null,null,null,null,null,null,null,null,null,null,null,null,null,null,null,null,null,null,null,null,null,null,null,null,1]
[null,null,null,null,null,null,null,null,null,null,null,null,null,null,null,null,null,null,null,null,null,null,null,null,null,null,null,null,null,null,null,null,null,null,null,null,null,null,null,null,null,null,null,null,null,null,null,null,null,null,null,null,null,null,null,null,null,null,null,null,null,null,null,null,null,null,null,null,null,null,null,null,null,null,null,1]
[null,null,null,null,null,null,null,null,null,null,null,null,null,null,null,null,null,null,null,null,null,null,null,null,null,null,null,null,null,null,null,null,null,null,null,null,null,null,null,null,null,null,null,null,null,null,null,null,null,null,null,null,null,null,null,null,null,null,null,null,null,null,null,null,null,null,null,null,null,null,null,null,null,null,null,1]
[null,null,null,null,null,null,null,null,null,null,null,null,null,null,null,null,null,null,null,null,null,null,null,null,null,null,null,null,null,null,null,null,null,null,null,null,null,null,null,null,null,null,null,null,null,null,null,null,null,null,null,null,null,null,null,null,null,null,null,null,null,null,null,null,null,null,null,null,null,null,null,null,null,null,null,1]
[null,null,null,null,null,null,null,null,null,null,null,null,null,null,null,null,null,null,null,null,null,null,null,null,null,null,null,null,null,null,null,null,null,null,null,null,null,null,null,null,null,null,null,null,null,null,null,null,null,null,null,null,null,null,null,null,null,null,null,null,null,null,null,null,null,null,null,null,null,null,null,null,null,null,null,1]
[null,null,null,null,null,null,null,null,null,null,null,null,null,null,null,null,null,null,null,null,null,null,null,null,null,null,null,null,null,null,null,null,null,null,null,null,null,null,null,null,null,null,null,null,null,null,null,null,null,null,null,null,null,null,null,null,null,null,null,null,null,null,null,null,null,null,null,null,null,null,null,null,null,null,null,1]
[null,null,null,null,null,null,null,null,null,null,null,null,null,null,null,null,null,null,null,null,null,null,null,null,null,null,null,null,null,null,null,null,null,null,null,null,null,null,null,null,null,null,null,null,null,null,null,null,null,null,null,null,null,null,null,null,null,null,null,null,null,null,null,null,null,null,null,null,null,null,null,null,null,null,null,1]
[null,null,null,null,null,null,null,null,null,null,null,null,null,null,null,null,null,null,null,null,null,null,null,null,null,null,null,null,null,null,null,null,null,null,null,null,null,null,null,null,null,null,null,null,null,null,null,null,null,null,null,null,null,null,null,null,null,null,null,null,null,null,null,null,null,null,null,null,null,null,null,null,null,null,null,1]
[null,null,null,null,null,null,null,null,null,null,null,null,null,null,null,null,null,null,null,null,null,null,null,null,null,null,null,null,null,null,null,null,null,null,null,null,null,null,null,null,null,null,null,null,null,null,null,null,null,null,null,null,null,null,null,null,null,null,null,null,null,null,null,null,null,null,null,null,null,null,null,null,null,null,null,1]
[null,null,null,null,null,null,null,null,null,null,null,null,null,null,null,null,null,null,null,null,null,null,null,null,null,null,null,null,null,null,null,null,null,null,null,null,null,null,null,null,null,null,null,null,null,null,null,null,null,null,null,null,null,null,null,null,null,null,null,null,null,null,null,null,null,null,null,null,null,null,null,null,null,null,null,1]
[null,null,null,null,null,null,null,null,null,null,null,null,null,null,null,null,null,null,null,null,null,null,null,null,null,null,null,null,null,null,null,null,null,null,null,null,null,null,null,null,null,null,null,null,null,null,null,null,null,null,null,null,null,null,null,null,null,null,null,null,null,null,null,null,null,null,null,null,null,null,null,null,null,null,null,1]
[null,null,null,null,null,null,null,null,null,null,null,null,null,null,null,null,null,null,null,null,null,null,null,null,null,null,null,null,null,null,null,null,null,null,null,null,null,null,null,null,null,null,null,null,null,null,null,null,null,null,null,null,null,null,null,null,null,null,null,null,null,null,null,null,null,null,null,null,null,null,null,null,null,null,null,1]
[null,null,null,null,null,null,null,null,null,null,null,null,null,null,null,null,null,null,null,null,null,null,null,null,null,null,null,null,null,null,null,null,null,null,null,null,null,null,null,null,null,null,null,null,null,null,null,null,null,null,null,null,null,null,null,null,null,null,null,null,null,null,null,null,null,null,null,null,null,null,null,null,null,null,null,1]
[null,null,null,null,null,null,null,null,null,null,null,null,null,null,null,null,null,null,null,null,null,null,null,null,null,null,null,null,null,null,null,null,null,null,null,null,null,null,null,null,null,null,null,null,null,null,null,null,null,null,null,null,null,null,null,null,null,null,null,null,null,null,null,null,null,null,null,null,null,null,null,null,null,null,null,1]
[null,null,null,null,null,null,null,null,null,null,null,null,null,null,null,null,null,null,null,null,null,null,null,null,null,null,null,null,null,null,null,null,null,null,null,null,null,null,null,null,null,null,null,null,null,null,null,null,null,null,null,null,null,null,null,null,null,null,null,null,null,null,null,null,null,null,null,null,null,null,null,null,null,null,null,1]
[]
[]
[null,null,null,null,null,null,null,null,null,null,null,null,null,null,null,null,null,null,null,null,null,null,null,null,null,null,null,null,null,null,null,null,null,null,null,null,null,null,null,null,null,null,null,null,null,null,null,null,null,null,null,null,null,null,null,null,null,null,null,null,null,null,null,null,null,null,null,null,null,null,null,null,null,null,null,{"$f":"SUM(BX107:BX244)","v":111}]

{"sheet":"Comparisons","index":1,"n_rows":425,"n_cols":191,"rows_kept":425,"cut":false,"hidden":false,"merged":[[304,7,304,9],[410,7,410,9],[59,7,59,9],[73,7,73,9],[89,7,89,9],[175,7,175,9],[181,7,181,9],[197,7,197,9]]}
[]
[null,null,null,null,null,null,null,null,null,null,{"$f":"IF(K3=0,0,1)","v":1},{"$f":"IF(L3=0,0,1)","v":1},1,1,1,1,1,1,1,1,1,1,1,1,1,1,1,1,1,1,1,1,1,1,1,1,1,1,1,1,1,1,1,1,1,1,0,0,null,null,null,null,null,null,null,null,null,null,null,null,null,null,null,null,null,null,null,null,null,null,null,null,null,null,null,{"$f":"IF(BX3=0,0,1)","v":1},1,1,1,1,1,1,1,1,1,1,1]
["Formulas",null,null,null,null,"Date",null,"Opponents","Venue / Result",null,{"$f":"$FX$5","v":"Aris"},{"$f":"$FX$6","v":"Berry"},{"$f":"$FX$7","v":"Bircham"},{"$f":"$FX$8","v":"Bowry"},{"$f":"$FX$9","v":"Bright"},{"$f":"$FX$10","v":"Cadette"},{"$f":"$FX$11","v":"Canoville"},{"$f":"$FX$12","v":"Carter"},{"$f":"$FX$13","v":"Crawford"},{"$f":"$FX$14","v":"Dair"},{"$f":"$FX$15","v":"Dolby"},{"$f":"$FX$16","v":"Doyle"},{"$f":"$FX$17","v":"Fitzgerald"},{"$f":"$FX$18","v":"Forbes"},{"$f":"$FX$19","v":"Harle"},{"$f":"$FX$20","v":"Hartley"},{"$f":"$FX$21","v":"Hockton"},{"$f":"$FX$22","v":"Huckerby"},{"$f":"$FX$23","v":"Iga"},{"$f":"$FX$24","v":"Lavin"},{"$f":"$FX$25","v":"Malkin"},{"$f":"$FX$26","v":"McLeary"},{"$f":"$FX$27","v":"McRobert"},{"$f":"$FX$28","v":"Neill"},{"$f":"$FX$29","v":"Newman"},{"$f":"$FX$30","v":"Robertson"},{"$f":"$FX$31","v":"Roche"},{"$f":"$FX$32","v":"Rogan"},{"$f":"$FX$33","v":"Sadlier"},{"$f":"$FX$34","v":"Savage"},{"$f":"$FX$35","v":"Sinclair"},{"$f":"$FX$36","v":"Stevens"},{"$f":"$FX$37","v":"Van Blerk"},{"$f":"$FX$38","v":"Webber"},{"$f":"$FX$39","v":"Wilkins"},{"$f":"$FX$40","v":"Witter"},{"$f":"$FX$41","v":0},{"$f":"$FX$42","v":0},null,null,null,null,null,{"$f":"$FV$5","v":"Aris {**"},{"$f":"$FV$6","v":"Berry {**"},{"$f":"$FV$7","v":"Bircham {**"},{"$f":"$FV$8","v":"Bowry {**"},{"$f":"$FV$9","v":"Bright {**"},{"$f":"$FV$10","v":"Cadette {**"},{"$f":"$FV$11","v":"Canoville {**"},{"$f":"$FV$12","v":"Carter {**"},{"$f":"$FV$13","v":"Crawford {**"},{"$f":"$FV$14","v":"Dair {**"},{"$f":"$FV$15","v":"Dolby {**"},{"$f":"$FV$16","v":"Doyle {**"},{"$f":"$FV$17","v":"Fitzgerald {**"},{"$f":"$FV$18","v":"Forbes {**"},{"$f":"$FV$19","v":"Harle {**"},{"$f":"$FV$20","v":"Hartley {**"},{"$f":"$FV$21","v":"Hockton {**"},{"$f":"$FV$22","v":"Huckerby {**"},{"$f":"$FV$23","v":"Iga {**"},{"$f":"$FV$24","v":"Lavin {**"},{"$f":"$FV$25","v":"Malkin {**"},{"$f":"$FV$26","v":"McLeary {**"},{"$f":"$FV$27","v":"McRobert {**"},{"$f":"$FV$28","v":"Neill {**"},{"$f":"$FV$29","v":"Newman {**"},{"$f":"$FV$30","v":"Robertson {**"},{"$f":"$FV$31","v":"Roche {**"},{"$f":"$FV$32","v":"Rogan {**"},{"$f":"$FV$33","v":"Sadlier {**"},{"$f":"$FV$34","v":"Savage {**"},{"$f":"$FV$35","v":"Sinclair {**"},{"$f":"$FV$36","v":"Stevens {**"},{"$f":"$FV$37","v":"Van Blerk {**"},{"$f":"$FV$38","v":"Webber {**"},{"$f":"$FV$39","v":"Wilkins {**"},{"$f":"$FV$40","v":"Witter {**"},{"$f":"$FV$41","v":"0 {**"},{"$f":"$FV$42","v":"0 {**"},null,null,{"$f":"$FY$5","v":"Aris (**"},{"$f":"$FY$6","v":"Berry (**"},{"$f":"$FY$7","v":"Bircham (**"},{"$f":"$FY$8","v":"Bowry (**"},{"$f":"$FY$9","v":"Bright (**"},{"$f":"$FY$10","v":"Cadette (**"},{"$f":"$FY$11","v":"Canoville (**"},{"$f":"$FY$12","v":"Carter (**"},{"$f":"$FY$13","v":"Crawford (**"},{"$f":"$FY$14","v":"Dair (**"},{"$f":"$FY$15","v":"Dolby (**"},{"$f":"$FY$16","v":"Doyle (**"},{"$f":"$FY$17","v":"Fitzgerald (**"},{"$f":"$FY$18","v":"Forbes (**"},{"$f":"$FY$19","v":"Harle (**"},{"$f":"$FY$20","v":"Hartley (**"},{"$f":"$FY$21","v":"Hockton (**"},{"$f":"$FY$22","v":"Huckerby (**"},{"$f":"$FY$23","v":"Iga (**"},{"$f":"$FY$24","v":"Lavin (**"},{"$f":"$FY$25","v":"Malkin (**"},{"$f":"$FY$26","v":"McLeary (**"},{"$f":"$FY$27","v":"McRobert (**"},{"$f":"$FY$28","v":"Neill (**"},{"$f":"$FY$29","v":"Newman (**"},{"$f":"$FY$30","v":"Robertson (**"},{"$f":"$FY$31","v":"Roche (**"},{"$f":"$FY$32","v":"Rogan (**"},{"$f":"$FY$33","v":"Sadlier (**"},{"$f":"$FY$34","v":"Savage (**"},{"$f":"$FY$35","v":"Sinclair (**"},{"$f":"$FY$36","v":"Stevens (**"},{"$f":"$FY$37","v":"Van Blerk (**"},{"$f":"$FY$38","v":"Webber (**"},{"$f":"$FY$39","v":"Wilkins (**"},{"$f":"$FY$40","v":"Witter (**"},{"$f":"$FY$41","v":"0 (**"},{"$f":"$FY$42","v":"0 (**"},null,null,{"$f":"$FW$5","v":"Aris [**"},{"$f":"$FW$6","v":"Berry [**"},{"$f":"$FW$7","v":"Bircham [**"},{"$f":"$FW$8","v":"Bowry [**"},{"$f":"$FW$9","v":"Bright [**"},{"$f":"$FW$10","v":"Cadette [**"},{"$f":"$FW$11","v":"Canoville [**"},{"$f":"$FW$12","v":"Carter [**"},{"$f":"$FW$13","v":"Crawford [**"},{"$f":"$FW$14","v":"Dair [**"},{"$f":"$FW$15","v":"Dolby [**"},{"$f":"$FW$16","v":"Doyle [**"},{"$f":"$FW$17","v":"Fitzgerald [**"},{"$f":"$FW$18","v":"Forbes [**"},{"$f":"$FW$19","v":"Harle [**"},{"$f":"$FW$20","v":"Hartley [**"},{"$f":"$FW$21","v":"Hockton [**"},{"$f":"$FW$22","v":"Huckerby [**"},{"$f":"$FW$23","v":"Iga [**"},{"$f":"$FW$24","v":"Lavin [**"},{"$f":"$FW$25","v":"Malkin [**"},{"$f":"$FW$26","v":"McLeary [**"},{"$f":"$FW$27","v":"McRobert [**"},{"$f":"$FW$28","v":"Neill [**"},{"$f":"$FW$29","v":"Newman [**"},{"$f":"$FW$30","v":"Robertson [**"},{"$f":"$FW$31","v":"Roche [**"},{"$f":"$FW$32","v":"Rogan [**"},{"$f":"$FW$33","v":"Sadlier [**"},{"$f":"$FW$34","v":"Savage [**"},{"$f":"$FW$35","v":"Sinclair [**"},{"$f":"$FW$36","v":"Stevens [**"},{"$f":"$FW$37","v":"Van Blerk [**"},{"$f":"$FW$38","v":"Webber [**"},{"$f":"$FW$39","v":"Wilkins [**"},{"$f":"$FW$40","v":"Witter [**"},{"$f":"$FW$41","v":"0 [**"},{"$f":"$FW$42","v":"0 [**"}]
[null,null,1,null,null,null,null,null,null,null,{"$f":"$FX$5&\"**\"","v":"Aris**"},{"$f":"$FX$6&\"**\"","v":"Berry**"},{"$f":"$FX$7&\"**\"","v":"Bircham**"},{"$f":"$FX$8&\"**\"","v":"Bowry**"},{"$f":"$FX$9&\"**\"","v":"Bright**"},{"$f":"$FX$10&\"**\"","v":"Cadette**"},{"$f":"$FX$11&\"**\"","v":"Canoville**"},{"$f":"$FX$12&\"**\"","v":"Carter**"},{"$f":"$FX$13&\"**\"","v":"Crawford**"},{"$f":"$FX$14&\"**\"","v":"Dair**"},{"$f":"$FX$15&\"**\"","v":"Dolby**"},{"$f":"$FX$16&\"**\"","v":"Doyle**"},{"$f":"$FX$17&\"**\"","v":"Fitzgerald**"},{"$f":"$FX$18&\"**\"","v":"Forbes**"},{"$f":"$FX$19&\"**\"","v":"Harle**"},{"$f":"$FX$20&\"**\"","v":"Hartley**"},{"$f":"$FX$21&\"**\"","v":"Hockton**"},{"$f":"$FX$22&\"**\"","v":"Huckerby**"},{"$f":"$FX$23&\"**\"","v":"Iga**"},{"$f":"$FX$24&\"**\"","v":"Lavin**"},{"$f":"$FX$25&\"**\"","v":"Malkin**"},{"$f":"$FX$26&\"**\"","v":"McLeary**"},{"$f":"$FX$27&\"**\"","v":"McRobert**"},{"$f":"$FX$28&\"**\"","v":"Neill**"},{"$f":"$FX$29&\"**\"","v":"Newman**"},{"$f":"$FX$30&\"**\"","v":"Robertson**"},{"$f":"$FX$31&\"**\"","v":"Roche**"},{"$f":"$FX$32&\"**\"","v":"Rogan**"},{"$f":"$FX$33&\"**\"","v":"Sadlier**"},{"$f":"$FX$34&\"**\"","v":"Savage**"},{"$f":"$FX$35&\"**\"","v":"Sinclair**"},{"$f":"$FX$36&\"**\"","v":"Stevens**"},{"$f":"$FX$37&\"**\"","v":"Van Blerk**"},{"$f":"$FX$38&\"**\"","v":"Webber**"},{"$f":"$FX$39&\"**\"","v":"Wilkins**"},{"$f":"$FX$40&\"**\"","v":"Witter**"},{"$f":"$FX$41&\"**\"","v":"0**"},{"$f":"$FX$42&\"**\"","v":"0**"},null,null,null,null,null,{"$f":"$FZ$5","v":"Aris**"},{"$f":"$FZ$6","v":"Berry**"},{"$f":"$FZ$7","v":"Bircham**"},{"$f":"$FZ$8","v":"Bowry**"},{"$f":"$FZ$9","v":"Bright**"},{"$f":"$FZ$10","v":"Cadette**"},{"$f":"$FZ$11","v":"Canoville**"},{"$f":"$FZ$12","v":"Carter**"},{"$f":"$FZ$13","v":"Crawford**"},{"$f":"$FZ$14","v":"Dair**"},{"$f":"$FZ$15","v":"Dolby**"},{"$f":"$FZ$16","v":"Doyle**"},{"$f":"$FZ$17","v":"Fitzgerald**"},{"$f":"$FZ$18","v":"Forbes**"},{"$f":"$FZ$19","v":"Harle**"},{"$f":"$FZ$20","v":"Hartley**"},{"$f":"$FZ$21","v":"Hockton**"},{"$f":"$FZ$22","v":"Huckerby**"},{"$f":"$FZ$23","v":"Iga**"},{"$f":"$FZ$24","v":"Lavin**"},{"$f":"$FZ$25","v":"Malkin**"},{"$f":"$FZ$26","v":"McLeary**"},{"$f":"$FZ$27","v":"McRobert**"},{"$f":"$FZ$28","v":"Neill**"},{"$f":"$FZ$29","v":"Newman**"},{"$f":"$FZ$30","v":"Robertson**"},{"$f":"$FZ$31","v":"Roche**"},{"$f":"$FZ$32","v":"Rogan**"},{"$f":"$FZ$33","v":"Sadlier**"},{"$f":"$FZ$34","v":"Savage**"},{"$f":"$FZ$35","v":"Sinclair**"},{"$f":"$FZ$36","v":"Stevens**"},{"$f":"$FZ$37","v":"Van Blerk**"},{"$f":"$FZ$38","v":"Webber**"},{"$f":"$FZ$39","v":"Wilkins**"},{"$f":"$FZ$40","v":"Witter**"},{"$f":"$FZ$41","v":"0**"},{"$f":"$FZ$42","v":"0**"}]
[null,null,{"$f":"IF(J5=0,1,0)","v":0},1,null,{"$f":"Millwall!AD75","v":"1996-08-17"},null,{"$f":"Millwall!AE75","v":"Wrexham"},{"$f":"Millwall!AF75","v":"(H)"},{"$f":"Millwall!AG75","v":"D 1-1"},{"$f":"MATCH($K$4,Millwall!$AH$75:$AW$75,0)","v":{"$error":"#N/A"}},{"$f":"MATCH($L$4,Millwall!$AH$75:$AW$75,0)","v":{"$error":"#N/A"}},{"$f":"MATCH($M$4,Millwall!$AH$75:$AW$75,0)","v":{"$error":"#N/A"}},{"$f":"MATCH($N$4,Millwall!$AH$75:$AW$75,0)","v":7},{"$f":"MATCH($O$4,Millwall!$AH$75:$AW$75,0)","v":{"$error":"#N/A"}},{"$f":"MATCH($P$4,Millwall!$AH$75:$AW$75,0)","v":{"$error":"#N/A"}},{"$f":"MATCH($Q$4,Millwall!$AH$75:$AW$75,0)","v":{"$error":"#N/A"}},{"$f":"MATCH($R$4,Millwall!$AH$75:$AW$75,0)","v":1},{"$f":"MATCH($S$4,Millwall!$AH$75:$AW$75,0)","v":10},{"$f":"MATCH($T$4,Millwall!$AH$75:$AW$75,0)","v":11},{"$f":"MATCH($U$4,Millwall!$AH$75:$AW$75,0)","v":12},{"$f":"MATCH($V$4,Millwall!$AH$75:$AW$75,0)","v":2},{"$f":"MATCH($W$4,Millwall!$AH$75:$AW$75,0)","v":{"$error":"#N/A"}},{"$f":"MATCH($X$4,Millwall!$AH$75:$AW$75,0)","v":{"$error":"#N/A"}},{"$f":"MATCH($Y$4,Millwall!$AH$75:$AW$75,0)","v":{"$error":"#N/A"}},{"$f":"MATCH($Z$4,Millwall!$AH$75:$AW$75,0)","v":13},{"$f":"MATCH($AA$4,Millwall!$AH$75:$AW$75,0)","v":{"$error":"#N/A"}},{"$f":"MATCH($AB$4,Millwall!$AH$75:$AW$75,0)","v":{"$error":"#N/A"}},{"$f":"MATCH($AC$4,Millwall!$AH$75:$AW$75,0)","v":{"$error":"#N/A"}},{"$f":"MATCH($AD$4,Millwall!$AH$75:$AW$75,0)","v":{"$error":"#N/A"}},{"$f":"MATCH($AE$4,Millwall!$AH$75:$AW$75,0)","v":9},{"$f":"MATCH($AF$4,Millwall!$AH$75:$AW$75,0)","v":{"$error":"#N/A"}},{"$f":"MATCH($AG$4,Millwall!$AH$75:$AW$75,0)","v":{"$error":"#N/A"}},{"$f":"MATCH($AH$4,Millwall!$AH$75:$AW$75,0)","v":14},{"$f":"MATCH($AI$4,Millwall!$AH$75:$AW$75,0)","v":3},{"$f":"MATCH($AJ$4,Millwall!$AH$75:$AW$75,0)","v":{"$error":"#N/A"}},{"$f":"MATCH($AK$4,Millwall!$AH$75:$AW$75,0)","v":{"$error":"#N/A"}},{"$f":"MATCH($AL$4,Millwall!$AH$75:$AW$75,0)","v":{"$error":"#N/A"}},{"$f":"MATCH($AM$4,Millwall!$AH$75:$AW$75,0)","v":{"$error":"#N/A"}},{"$f":"MATCH($AN$4,Millwall!$AH$75:$AW$75,0)","v":8},{"$f":"MATCH($AO$4,Millwall!$AH$75:$AW$75,0)","v":4},{"$f":"MATCH($AP$4,Millwall!$AH$75:$AW$75,0)","v":6},{"$f":"MATCH($AQ$4,Millwall!$AH$75:$AW$75,0)","v":{"$error":"#N/A"}},{"$f":"MATCH($AR$4,Millwall!$AH$75:$AW$75,0)","v":{"$error":"#N/A"}},{"$f":"MATCH($AS$4,Millwall!$AH$75:$AW$75,0)","v":{"$error":"#N/A"}},{"$f":"MATCH($AT$4,Millwall!$AH$75:$AW$75,0)","v":5},{"$f":"MATCH($AU$4,Millwall!$AH$75:$AW$75,0)","v":{"$error":"#N/A"}},{"$f":"MATCH($AV$4,Millwall!$AH$75:$AW$75,0)","v":{"$error":"#N/A"}},null,null,null,null,null,{"$f":"MATCH(BB$3,Millwall!$AH75:$AW75,0)","v":{"$error":"#N/A"}},{"$f":"MATCH(BC$3,Millwall!$AH75:$AW75,0)","v":{"$error":"#N/A"}},{"$f":"MATCH(BD$3,Millwall!$AH75:$AW75,0)","v":{"$error":"#N/A"}},{"$f":"MATCH(BE$3,Millwall!$AH75:$AW75,0)","v":{"$error":"#N/A"}},{"$f":"MATCH(BF$3,Millwall!$AH75:$AW75,0)","v":{"$error":"#N/A"}},{"$f":"MATCH(BG$3,Millwall!$AH75:$AW75,0)","v":{"$error":"#N/A"}},{"$f":"MATCH(BH$3,Millwall!$AH75:$AW75,0)","v":{"$error":"#N/A"}},{"$f":"MATCH(BI$3,Millwall!$AH75:$AW75,0)","v":{"$error":"#N/A"}},{"$f":"MATCH(BJ$3,Millwall!$AH75:$AW75,0)","v":{"$error":"#N/A"}},{"$f":"MATCH(BK$3,Millwall!$AH75:$AW75,0)","v":{"$error":"#N/A"}},{"$f":"MATCH(BL$3,Millwall!$AH75:$AW75,0)","v":{"$error":"#N/A"}},{"$f":"MATCH(BM$3,Millwall!$AH75:$AW75,0)","v":{"$error":"#N/A"}},{"$f":"MATCH(BN$3,Millwall!$AH75:$AW75,0)","v":{"$error":"#N/A"}},{"$f":"MATCH(BO$3,Millwall!$AH75:$AW75,0)","v":{"$error":"#N/A"}},{"$f":"MATCH(BP$3,Millwall!$AH75:$AW75,0)","v":{"$error":"#N/A"}},{"$f":"MATCH(BQ$3,Millwall!$AH75:$AW75,0)","v":{"$error":"#N/A"}},{"$f":"MATCH(BR$3,Millwall!$AH75:$AW75,0)","v":{"$error":"#N/A"}},{"$f":"MATCH(BS$3,Millwall!$AH75:$AW75,0)","v":{"$error":"#N/A"}},{"$f":"MATCH(BT$3,Millwall!$AH75:$AW75,0)","v":{"$error":"#N/A"}},{"$f":"MATCH(BU$3,Millwall!$AH75:$AW75,0)","v":{"$error":"#N/A"}},{"$f":"MATCH(BV$3,Millwall!$AH75:$AW75,0)","v":{"$error":"#N/A"}},{"$f":"MATCH(BW$3,Millwall!$AH75:$AW75,0)","v":{"$error":"#N/A"}},{"$f":"MATCH(BX$3,Millwall!$AH75:$AW75,0)","v":{"$error":"#N/A"}},{"$f":"MATCH(BY$3,Millwall!$AH75:$AW75,0)","v":{"$error":"#N/A"}},{"$f":"MATCH(BZ$3,Millwall!$AH75:$AW75,0)","v":{"$error":"#N/A"}},{"$f":"MATCH(CA$3,Millwall!$AH75:$AW75,0)","v":{"$error":"#N/A"}},{"$f":"MATCH(CB$3,Millwall!$AH75:$AW75,0)","v":{"$error":"#N/A"}},{"$f":"MATCH(CC$3,Millwall!$AH75:$AW75,0)","v":{"$error":"#N/A"}},{"$f":"MATCH(CD$3,Millwall!$AH75:$AW75,0)","v":{"$error":"#N/A"}},{"$f":"MATCH(CE$3,Millwall!$AH75:$AW75,0)","v":{"$error":"#N/A"}},{"$f":"MATCH(CF$3,Millwall!$AH75:$AW75,0)","v":{"$error":"#N/A"}},{"$f":"MATCH(CG$3,Millwall!$AH75:$AW75,0)","v":{"$error":"#N/A"}},{"$f":"MATCH(CH$3,Millwall!$AH75:$AW75,0)","v":{"$error":"#N/A"}},{"$f":"MATCH(CI$3,Millwall!$AH75:$AW75,0)","v":{"$error":"#N/A"}},{"$f":"MATCH(CJ$3,Millwall!$AH75:$AW75,0)","v":{"$error":"#N/A"}},{"$f":"MATCH(CK$3,Millwall!$AH75:$AW75,0)","v":{"$error":"#N/A"}},{"$f":"MATCH(CL$3,Millwall!$AH75:$AW75,0)","v":{"$error":"#N/A"}},{"$f":"MATCH(CM$3,Millwall!$AH75:$AW75,0)","v":{"$error":"#N/A"}},null,null,{"$f":"MATCH($CP$3,Millwall!$AH$75:$AW$75,0)","v":{"$error":"#N/A"}},{"$f":"MATCH($CQ$3,Millwall!$AH$75:$AW$75,0)","v":{"$error":"#N/A"}},{"$f":"MATCH($CR$3,Millwall!$AH$75:$AW$75,0)","v":{"$error":"#N/A"}},{"$f":"MATCH($CS$3,Millwall!$AH$75:$AW$75,0)","v":{"$error":"#N/A"}},{"$f":"MATCH($CT$3,Millwall!$AH$75:$AW$75,0)","v":{"$error":"#N/A"}},{"$f":"MATCH($CU$3,Millwall!$AH$75:$AW$75,0)","v":{"$error":"#N/A"}},{"$f":"MATCH($CV$3,Millwall!$AH$75:$AW$75,0)","v":{"$error":"#N/A"}},{"$f":"MATCH($CW$3,Millwall!$AH$75:$AW$75,0)","v":{"$error":"#N/A"}},{"$f":"MATCH($CX$3,Millwall!$AH$75:$AW$75,0)","v":{"$error":"#N/A"}},{"$f":"MATCH($CY$3,Millwall!$AH$75:$AW$75,0)","v":11},{"$f":"MATCH($CZ$3,Millwall!$AH$75:$AW$75,0)","v":{"$error":"#N/A"}},{"$f":"MATCH($DA$3,Millwall!$AH$75:$AW$75,0)","v":{"$error":"#N/A"}},{"$f":"MATCH($DB$3,Millwall!$AH$75:$AW$75,0)","v":{"$error":"#N/A"}},{"$f":"MATCH($DC$3,Millwall!$AH$75:$AW$75,0)","v":{"$error":"#N/A"}},{"$f":"MATCH($DD$3,Millwall!$AH$75:$AW$75,0)","v":{"$error":"#N/A"}},{"$f":"MATCH($DE$3,Millwall!$AH$75:$AW$75,0)","v":13},{"$f":"MATCH($DF$3,Millwall!$AH$75:$AW$75,0)","v":{"$error":"#N/A"}},{"$f":"MATCH($DG$3,Millwall!$AH$75:$AW$75,0)","v":{"$error":"#N/A"}},{"$f":"MATCH($DH$3,Millwall!$AH$75:$AW$75,0)","v":{"$error":"#N/A"}},{"$f":"MATCH($DI$3,Millwall!$AH$75:$AW$75,0)","v":{"$error":"#N/A"}},{"$f":"MATCH($DJ$3,Millwall!$AH$75:$AW$75,0)","v":{"$error":"#N/A"}},{"$f":"MATCH($DK$3,Millwall!$AH$75:$AW$75,0)","v":{"$error":"#N/A"}},{"$f":"MATCH($DL$3,Millwall!$AH$75:$AW$75,0)","v":{"$error":"#N/A"}},{"$f":"MATCH($DM$3,Millwall!$AH$75:$AW$75,0)","v":{"$error":"#N/A"}},{"$f":"MATCH($DN$3,Millwall!$AH$75:$AW$75,0)","v":{"$error":"#N/A"}},{"$f":"MATCH($DO$3,Millwall!$AH$75:$AW$75,0)","v":{"$error":"#N/A"}},{"$f":"MATCH($DP$3,Millwall!$AH$75:$AW$75,0)","v":{"$error":"#N/A"}},{"$f":"MATCH($DQ$3,Millwall!$AH$75:$AW$75,0)","v":{"$error":"#N/A"}},{"$f":"MATCH($DR$3,Millwall!$AH$75:$AW$75,0)","v":{"$error":"#N/A"}},{"$f":"MATCH($DS$3,Millwall!$AH$75:$AW$75,0)","v":{"$error":"#N/A"}},{"$f":"MATCH($DT$3,Millwall!$AH$75:$AW$75,0)","v":4},{"$f":"MATCH($DU$3,Millwall!$AH$75:$AW$75,0)","v":{"$error":"#N/A"}},{"$f":"MATCH($DV$3,Millwall!$AH$75:$AW$75,0)","v":{"$error":"#N/A"}},{"$f":"MATCH($DW$3,Millwall!$AH$75:$AW$75,0)","v":{"$error":"#N/A"}},{"$f":"MATCH($DX$3,Millwall!$AH$75:$AW$75,0)","v":{"$error":"#N/A"}},{"$f":"MATCH($DY$3,Millwall!$AH$75:$AW$75,0)","v":{"$error":"#N/A"}},{"$f":"MATCH($DZ$3,Millwall!$AH$75:$AW$75,0)","v":{"$error":"#N/A"}},{"$f":"MATCH($EA$3,Millwall!$AH$75:$AW$75,0)","v":{"$error":"#N/A"}},null,null,{"$f":"MATCH(ED$3,Millwall!$AH$75:$AW$75,0)","v":{"$error":"#N/A"}},{"$f":"MATCH(EE$3,Millwall!$AH$75:$AW$75,0)","v":{"$error":"#N/A"}},{"$f":"MATCH(EF$3,Millwall!$AH$75:$AW$75,0)","v":{"$error":"#N/A"}},{"$f":"MATCH(EG$3,Millwall!$AH$75:$AW$75,0)","v":{"$error":"#N/A"}},{"$f":"MATCH(EH$3,Millwall!$AH$75:$AW$75,0)","v":{"$error":"#N/A"}},{"$f":"MATCH(EI$3,Millwall!$AH$75:$AW$75,0)","v":{"$error":"#N/A"}},{"$f":"MATCH(EJ$3,Millwall!$AH$75:$AW$75,0)","v":{"$error":"#N/A"}},{"$f":"MATCH(EK$3,Millwall!$AH$75:$AW$75,0)","v":{"$error":"#N/A"}},{"$f":"MATCH(EL$3,Millwall!$AH$75:$AW$75,0)","v":{"$error":"#N/A"}},{"$f":"MATCH(EM$3,Millwall!$AH$75:$AW$75,0)","v":{"$error":"#N/A"}},{"$f":"MATCH(EN$3,Millwall!$AH$75:$AW$75,0)","v":{"$error":"#N/A"}},{"$f":"MATCH(EO$3,Millwall!$AH$75:$AW$75,0)","v":{"$error":"#N/A"}},{"$f":"MATCH(EP$3,Millwall!$AH$75:$AW$75,0)","v":{"$error":"#N/A"}},{"$f":"MATCH(EQ$3,Millwall!$AH$75:$AW$75,0)","v":{"$error":"#N/A"}},{"$f":"MATCH(ER$3,Millwall!$AH$75:$AW$75,0)","v":{"$error":"#N/A"}},{"$f":"MATCH(ES$3,Millwall!$AH$75:$AW$75,0)","v":{"$error":"#N/A"}},{"$f":"MATCH(ET$3,Millwall!$AH$75:$AW$75,0)","v":{"$error":"#N/A"}},{"$f":"MATCH(EU$3,Millwall!$AH$75:$AW$75,0)","v":{"$error":"#N/A"}},{"$f":"MATCH(EV$3,Millwall!$AH$75:$AW$75,0)","v":{"$error":"#N/A"}},{"$f":"MATCH(EW$3,Millwall!$AH$75:$AW$75,0)","v":{"$error":"#N/A"}},{"$f":"MATCH(EX$3,Millwall!$AH$75:$AW$75,0)","v":{"$error":"#N/A"}},{"$f":"MATCH(EY$3,Millwall!$AH$75:$AW$75,0)","v":{"$error":"#N/A"}},{"$f":"MATCH(EZ$3,Millwall!$AH$75:$AW$75,0)","v":{"$error":"#N/A"}},{"$f":"MATCH(FA$3,Millwall!$AH$75:$AW$75,0)","v":14},{"$f":"MATCH(FB$3,Millwall!$AH$75:$AW$75,0)","v":{"$error":"#N/A"}},{"$f":"MATCH(FC$3,Millwall!$AH$75:$AW$75,0)","v":{"$error":"#N/A"}},{"$f":"MATCH(FD$3,Millwall!$AH$75:$AW$75,0)","v":{"$error":"#N/A"}},{"$f":"MATCH(FE$3,Millwall!$AH$75:$AW$75,0)","v":{"$error":"#N/A"}},{"$f":"MATCH(FF$3,Millwall!$AH$75:$AW$75,0)","v":{"$error":"#N/A"}},{"$f":"MATCH(FG$3,Millwall!$AH$75:$AW$75,0)","v":{"$error":"#N/A"}},{"$f":"MATCH(FH$3,Millwall!$AH$75:$AW$75,0)","v":{"$error":"#N/A"}},{"$f":"MATCH(FI$3,Millwall!$AH$75:$AW$75,0)","v":{"$error":"#N/A"}},{"$f":"MATCH(FJ$3,Millwall!$AH$75:$AW$75,0)","v":{"$error":"#N/A"}},{"$f":"MATCH(FK$3,Millwall!$AH$75:$AW$75,0)","v":{"$error":"#N/A"}},{"$f":"MATCH(FL$3,Millwall!$AH$75:$AW$75,0)","v":{"$error":"#N/A"}},{"$f":"MATCH(FM$3,Millwall!$AH$75:$AW$75,0)","v":{"$error":"#N/A"}},{"$f":"MATCH(FN$3,Millwall!$AH$75:$AW$75,0)","v":{"$error":"#N/A"}},{"$f":"MATCH(FO$3,Millwall!$AH$75:$AW$75,0)","v":{"$error":"#N/A"}},null,null,null,null,null,null,{"$f":"$FX$5&\" {**\"","v":"Aris {**"},{"$f":"$FX$5&\" [**\"","v":"Aris [**"},{"$f":"Millwall!$BY60","v":"Aris"},{"$f":"FX5&\" (**\"","v":"Aris (**"},{"$f":"$FX$5&\"**\"","v":"Aris**"},null,{"$f":"$FX$5","v":"Aris"},{"$f":"$FY$5","v":"Aris (**"},{"$f":"$FZ$5","v":"Aris**"},null,{"$f":"Millwall!CC6","v":0},{"$f":"Millwall!CH6","v":0},{"$f":"Millwall!CR6","v":0},{"$f":"Millwall!CW6","v":0}]
[null,null,0,2,null,{"$f":"Millwall!AD76","v":"1996-08-24"},null,{"$f":"Millwall!AE76","v":"Watford"},{"$f":"Millwall!AF76","v":"(A)"},{"$f":"Millwall!AG76","v":"W 2-0"},{"$f":"MATCH($K$4,Millwall!$AH$76:$AW$76,0)","v":{"$error":"#N/A"}},{"$f":"MATCH($L$4,Millwall!$AH$76:$AW$76,0)","v":{"$error":"#N/A"}},{"$f":"MATCH($M$4,Millwall!$AH$76:$AW$76,0)","v":{"$error":"#N/A"}},{"$f":"MATCH($N$4,Millwall!$AH$76:$AW$76,0)","v":7},{"$f":"MATCH($O$4,Millwall!$AH$76:$AW$76,0)","v":{"$error":"#N/A"}},{"$f":"MATCH($P$4,Millwall!$AH$76:$AW$76,0)","v":{"$error":"#N/A"}},{"$f":"MATCH($Q$4,Millwall!$AH$76:$AW$76,0)","v":{"$error":"#N/A"}},{"$f":"MATCH($R$4,Millwall!$AH$76:$AW$76,0)","v":1},{"$f":"MATCH($S$4,Millwall!$AH$76:$AW$76,0)","v":10},{"$f":"MATCH($T$4,Millwall!$AH$76:$AW$76,0)","v":11},{"$f":"MATCH($U$4,Millwall!$AH$76:$AW$76,0)","v":{"$error":"#N/A"}},{"$f":"MATCH($V$4,Millwall!$AH$76:$AW$76,0)","v":12},{"$f":"MATCH($W$4,Millwall!$AH$76:$AW$76,0)","v":{"$error":"#N/A"}},{"$f":"MATCH($X$4,Millwall!$AH$76:$AW$76,0)","v":{"$error":"#N/A"}},{"$f":"MATCH($Y$4,Millwall!$AH$76:$AW$76,0)","v":3},{"$f":"MATCH($Z$4,Millwall!$AH$76:$AW$76,0)","v":13},{"$f":"MATCH($AA$4,Millwall!$AH$76:$AW$76,0)","v":{"$error":"#N/A"}},{"$f":"MATCH($AB$4,Millwall!$AH$76:$AW$76,0)","v":{"$error":"#N/A"}},{"$f":"MATCH($AC$4,Millwall!$AH$76:$AW$76,0)","v":{"$error":"#N/A"}},{"$f":"MATCH($AD$4,Millwall!$AH$76:$AW$76,0)","v":{"$error":"#N/A"}},{"$f":"MATCH($AE$4,Millwall!$AH$76:$AW$76,0)","v":9},{"$f":"MATCH($AF$4,Millwall!$AH$76:$AW$76,0)","v":{"$error":"#N/A"}},{"$f":"MATCH($AG$4,Millwall!$AH$76:$AW$76,0)","v":{"$error":"#N/A"}},{"$f":"MATCH($AH$4,Millwall!$AH$76:$AW$76,0)","v":14},{"$f":"MATCH($AI$4,Millwall!$AH$76:$AW$76,0)","v":2},{"$f":"MATCH($AJ$4,Millwall!$AH$76:$AW$76,0)","v":{"$error":"#N/A"}},{"$f":"MATCH($AK$4,Millwall!$AH$76:$AW$76,0)","v":{"$error":"#N/A"}},{"$f":"MATCH($AL$4,Millwall!$AH$76:$AW$76,0)","v":{"$error":"#N/A"}},{"$f":"MATCH($AM$4,Millwall!$AH$76:$AW$76,0)","v":{"$error":"#N/A"}},{"$f":"MATCH($AN$4,Millwall!$AH$76:$AW$76,0)","v":8},{"$f":"MATCH($AO$4,Millwall!$AH$76:$AW$76,0)","v":{"$error":"#N/A"}},{"$f":"MATCH($AP$4,Millwall!$AH$76:$AW$76,0)","v":6},{"$f":"MATCH($AQ$4,Millwall!$AH$76:$AW$76,0)","v":{"$error":"#N/A"}},{"$f":"MATCH($AR$4,Millwall!$AH$76:$AW$76,0)","v":4},{"$f":"MATCH($AS$4,Millwall!$AH$76:$AW$76,0)","v":{"$error":"#N/A"}},{"$f":"MATCH($AT$4,Millwall!$AH$76:$AW$76,0)","v":5},{"$f":"MATCH($AU$4,Millwall!$AH$76:$AW$76,0)","v":{"$error":"#N/A"}},{"$f":"MATCH($AV$4,Millwall!$AH$76:$AW$76,0)","v":{"$error":"#N/A"}},null,null,null,null,null,{"$f":"MATCH(BB$3,Millwall!$AH76:$AW76,0)","v":{"$error":"#N/A"}},{"$f":"MATCH(BC$3,Millwall!$AH76:$AW76,0)","v":{"$error":"#N/A"}},{"$f":"MATCH(BD$3,Millwall!$AH76:$AW76,0)","v":{"$error":"#N/A"}},{"$f":"MATCH(BE$3,Millwall!$AH76:$AW76,0)","v":{"$error":"#N/A"}},{"$f":"MATCH(BF$3,Millwall!$AH76:$AW76,0)","v":{"$error":"#N/A"}},{"$f":"MATCH(BG$3,Millwall!$AH76:$AW76,0)","v":{"$error":"#N/A"}},{"$f":"MATCH(BH$3,Millwall!$AH76:$AW76,0)","v":{"$error":"#N/A"}},{"$f":"MATCH(BI$3,Millwall!$AH76:$AW76,0)","v":{"$error":"#N/A"}},{"$f":"MATCH(BJ$3,Millwall!$AH76:$AW76,0)","v":{"$error":"#N/A"}},{"$f":"MATCH(BK$3,Millwall!$AH76:$AW76,0)","v":{"$error":"#N/A"}},{"$f":"MATCH(BL$3,Millwall!$AH76:$AW76,0)","v":{"$error":"#N/A"}},{"$f":"MATCH(BM$3,Millwall!$AH76:$AW76,0)","v":{"$error":"#N/A"}},{"$f":"MATCH(BN$3,Millwall!$AH76:$AW76,0)","v":{"$error":"#N/A"}},{"$f":"MATCH(BO$3,Millwall!$AH76:$AW76,0)","v":{"$error":"#N/A"}},{"$f":"MATCH(BP$3,Millwall!$AH76:$AW76,0)","v":{"$error":"#N/A"}},{"$f":"MATCH(BQ$3,Millwall!$AH76:$AW76,0)","v":{"$error":"#N/A"}},{"$f":"MATCH(BR$3,Millwall!$AH76:$AW76,0)","v":{"$error":"#N/A"}},{"$f":"MATCH(BS$3,Millwall!$AH76:$AW76,0)","v":{"$error":"#N/A"}},{"$f":"MATCH(BT$3,Millwall!$AH76:$AW76,0)","v":{"$error":"#N/A"}},{"$f":"MATCH(BU$3,Millwall!$AH76:$AW76,0)","v":{"$error":"#N/A"}},{"$f":"MATCH(BV$3,Millwall!$AH76:$AW76,0)","v":{"$error":"#N/A"}},{"$f":"MATCH(BW$3,Millwall!$AH76:$AW76,0)","v":{"$error":"#N/A"}},{"$f":"MATCH(BX$3,Millwall!$AH76:$AW76,0)","v":{"$error":"#N/A"}},{"$f":"MATCH(BY$3,Millwall!$AH76:$AW76,0)","v":{"$error":"#N/A"}},{"$f":"MATCH(BZ$3,Millwall!$AH76:$AW76,0)","v":{"$error":"#N/A"}},{"$f":"MATCH(CA$3,Millwall!$AH76:$AW76,0)","v":{"$error":"#N/A"}},{"$f":"MATCH(CB$3,Millwall!$AH76:$AW76,0)","v":{"$error":"#N/A"}},{"$f":"MATCH(CC$3,Millwall!$AH76:$AW76,0)","v":{"$error":"#N/A"}},{"$f":"MATCH(CD$3,Millwall!$AH76:$AW76,0)","v":{"$error":"#N/A"}},{"$f":"MATCH(CE$3,Millwall!$AH76:$AW76,0)","v":{"$error":"#N/A"}},{"$f":"MATCH(CF$3,Millwall!$AH76:$AW76,0)","v":{"$error":"#N/A"}},{"$f":"MATCH(CG$3,Millwall!$AH76:$AW76,0)","v":{"$error":"#N/A"}},{"$f":"MATCH(CH$3,Millwall!$AH76:$AW76,0)","v":{"$error":"#N/A"}},{"$f":"MATCH(CI$3,Millwall!$AH76:$AW76,0)","v":{"$error":"#N/A"}},{"$f":"MATCH(CJ$3,Millwall!$AH76:$AW76,0)","v":{"$error":"#N/A"}},{"$f":"MATCH(CK$3,Millwall!$AH76:$AW76,0)","v":{"$error":"#N/A"}},{"$f":"MATCH(CL$3,Millwall!$AH76:$AW76,0)","v":{"$error":"#N/A"}},{"$f":"MATCH(CM$3,Millwall!$AH76:$AW76,0)","v":{"$error":"#N/A"}},null,null,{"$f":"MATCH($CP$3,Millwall!$AH$76:$AW$76,0)","v":{"$error":"#N/A"}},{"$f":"MATCH($CQ$3,Millwall!$AH$76:$AW$76,0)","v":{"$error":"#N/A"}},{"$f":"MATCH($CR$3,Millwall!$AH$76:$AW$76,0)","v":{"$error":"#N/A"}},{"$f":"MATCH($CS$3,Millwall!$AH$76:$AW$76,0)","v":{"$error":"#N/A"}},{"$f":"MATCH($CT$3,Millwall!$AH$76:$AW$76,0)","v":{"$error":"#N/A"}},{"$f":"MATCH($CU$3,Millwall!$AH$76:$AW$76,0)","v":{"$error":"#N/A"}},{"$f":"MATCH($CV$3,Millwall!$AH$76:$AW$76,0)","v":{"$error":"#N/A"}},{"$f":"MATCH($CW$3,Millwall!$AH$76:$AW$76,0)","v":{"$error":"#N/A"}},{"$f":"MATCH($CX$3,Millwall!$AH$76:$AW$76,0)","v":10},{"$f":"MATCH($CY$3,Millwall!$AH$76:$AW$76,0)","v":{"$error":"#N/A"}},{"$f":"MATCH($CZ$3,Millwall!$AH$76:$AW$76,0)","v":{"$error":"#N/A"}},{"$f":"MATCH($DA$3,Millwall!$AH$76:$AW$76,0)","v":{"$error":"#N/A"}},{"$f":"MATCH($DB$3,Millwall!$AH$76:$AW$76,0)","v":{"$error":"#N/A"}},{"$f":"MATCH($DC$3,Millwall!$AH$76:$AW$76,0)","v":{"$error":"#N/A"}},{"$f":"MATCH($DD$3,Millwall!$AH$76:$AW$76,0)","v":{"$error":"#N/A"}},{"$f":"MATCH($DE$3,Millwall!$AH$76:$AW$76,0)","v":13},{"$f":"MATCH($DF$3,Millwall!$AH$76:$AW$76,0)","v":{"$error":"#N/A"}},{"$f":"MATCH($DG$3,Millwall!$AH$76:$AW$76,0)","v":{"$error":"#N/A"}},{"$f":"MATCH($DH$3,Millwall!$AH$76:$AW$76,0)","v":{"$error":"#N/A"}},{"$f":"MATCH($DI$3,Millwall!$AH$76:$AW$76,0)","v":{"$error":"#N/A"}},{"$f":"MATCH($DJ$3,Millwall!$AH$76:$AW$76,0)","v":{"$error":"#N/A"}},{"$f":"MATCH($DK$3,Millwall!$AH$76:$AW$76,0)","v":{"$error":"#N/A"}},{"$f":"MATCH($DL$3,Millwall!$AH$76:$AW$76,0)","v":{"$error":"#N/A"}},{"$f":"MATCH($DM$3,Millwall!$AH$76:$AW$76,0)","v":{"$error":"#N/A"}},{"$f":"MATCH($DN$3,Millwall!$AH$76:$AW$76,0)","v":{"$error":"#N/A"}},{"$f":"MATCH($DO$3,Millwall!$AH$76:$AW$76,0)","v":{"$error":"#N/A"}},{"$f":"MATCH($DP$3,Millwall!$AH$76:$AW$76,0)","v":{"$error":"#N/A"}},{"$f":"MATCH($DQ$3,Millwall!$AH$76:$AW$76,0)","v":{"$error":"#N/A"}},{"$f":"MATCH($DR$3,Millwall!$AH$76:$AW$76,0)","v":{"$error":"#N/A"}},{"$f":"MATCH($DS$3,Millwall!$AH$76:$AW$76,0)","v":{"$error":"#N/A"}},{"$f":"MATCH($DT$3,Millwall!$AH$76:$AW$76,0)","v":{"$error":"#N/A"}},{"$f":"MATCH($DU$3,Millwall!$AH$76:$AW$76,0)","v":{"$error":"#N/A"}},{"$f":"MATCH($DV$3,Millwall!$AH$76:$AW$76,0)","v":{"$error":"#N/A"}},{"$f":"MATCH($DW$3,Millwall!$AH$76:$AW$76,0)","v":{"$error":"#N/A"}},{"$f":"MATCH($DX$3,Millwall!$AH$76:$AW$76,0)","v":{"$error":"#N/A"}},{"$f":"MATCH($DY$3,Millwall!$AH$76:$AW$76,0)","v":{"$error":"#N/A"}},{"$f":"MATCH($DZ$3,Millwall!$AH$76:$AW$76,0)","v":{"$error":"#N/A"}},{"$f":"MATCH($EA$3,Millwall!$AH$76:$AW$76,0)","v":{"$error":"#N/A"}},null,null,{"$f":"MATCH(ED$3,Millwall!$AH$76:$AW$76,0)","v":{"$error":"#N/A"}},{"$f":"MATCH(EE$3,Millwall!$AH$76:$AW$76,0)","v":{"$error":"#N/A"}},{"$f":"MATCH(EF$3,Millwall!$AH$76:$AW$76,0)","v":{"$error":"#N/A"}},{"$f":"MATCH(EG$3,Millwall!$AH$76:$AW$76,0)","v":{"$error":"#N/A"}},{"$f":"MATCH(EH$3,Millwall!$AH$76:$AW$76,0)","v":{"$error":"#N/A"}},{"$f":"MATCH(EI$3,Millwall!$AH$76:$AW$76,0)","v":{"$error":"#N/A"}},{"$f":"MATCH(EJ$3,Millwall!$AH$76:$AW$76,0)","v":{"$error":"#N/A"}},{"$f":"MATCH(EK$3,Millwall!$AH$76:$AW$76,0)","v":{"$error":"#N/A"}},{"$f":"MATCH(EL$3,Millwall!$AH$76:$AW$76,0)","v":{"$error":"#N/A"}},{"$f":"MATCH(EM$3,Millwall!$AH$76:$AW$76,0)","v":{"$error":"#N/A"}},{"$f":"MATCH(EN$3,Millwall!$AH$76:$AW$76,0)","v":{"$error":"#N/A"}},{"$f":"MATCH(EO$3,Millwall!$AH$76:$AW$76,0)","v":{"$error":"#N/A"}},{"$f":"MATCH(EP$3,Millwall!$AH$76:$AW$76,0)","v":{"$error":"#N/A"}},{"$f":"MATCH(EQ$3,Millwall!$AH$76:$AW$76,0)","v":{"$error":"#N/A"}},{"$f":"MATCH(ER$3,Millwall!$AH$76:$AW$76,0)","v":{"$error":"#N/A"}},{"$f":"MATCH(ES$3,Millwall!$AH$76:$AW$76,0)","v":{"$error":"#N/A"}},{"$f":"MATCH(ET$3,Millwall!$AH$76:$AW$76,0)","v":{"$error":"#N/A"}},{"$f":"MATCH(EU$3,Millwall!$AH$76:$AW$76,0)","v":{"$error":"#N/A"}},{"$f":"MATCH(EV$3,Millwall!$AH$76:$AW$76,0)","v":{"$error":"#N/A"}},{"$f":"MATCH(EW$3,Millwall!$AH$76:$AW$76,0)","v":{"$error":"#N/A"}},{"$f":"MATCH(EX$3,Millwall!$AH$76:$AW$76,0)","v":{"$error":"#N/A"}},{"$f":"MATCH(EY$3,Millwall!$AH$76:$AW$76,0)","v":{"$error":"#N/A"}},{"$f":"MATCH(EZ$3,Millwall!$AH$76:$AW$76,0)","v":{"$error":"#N/A"}},{"$f":"MATCH(FA$3,Millwall!$AH$76:$AW$76,0)","v":14},{"$f":"MATCH(FB$3,Millwall!$AH$76:$AW$76,0)","v":{"$error":"#N/A"}},{"$f":"MATCH(FC$3,Millwall!$AH$76:$AW$76,0)","v":{"$error":"#N/A"}},{"$f":"MATCH(FD$3,Millwall!$AH$76:$AW$76,0)","v":{"$error":"#N/A"}},{"$f":"MATCH(FE$3,Millwall!$AH$76:$AW$76,0)","v":{"$error":"#N/A"}},{"$f":"MATCH(FF$3,Millwall!$AH$76:$AW$76,0)","v":{"$error":"#N/A"}},{"$f":"MATCH(FG$3,Millwall!$AH$76:$AW$76,0)","v":8},{"$f":"MATCH(FH$3,Millwall!$AH$76:$AW$76,0)","v":{"$error":"#N/A"}},{"$f":"MATCH(FI$3,Millwall!$AH$76:$AW$76,0)","v":{"$error":"#N/A"}},{"$f":"MATCH(FJ$3,Millwall!$AH$76:$AW$76,0)","v":{"$error":"#N/A"}},{"$f":"MATCH(FK$3,Millwall!$AH$76:$AW$76,0)","v":{"$error":"#N/A"}},{"$f":"MATCH(FL$3,Millwall!$AH$76:$AW$76,0)","v":{"$error":"#N/A"}},{"$f":"MATCH(FM$3,Millwall!$AH$76:$AW$76,0)","v":{"$error":"#N/A"}},{"$f":"MATCH(FN$3,Millwall!$AH$76:$AW$76,0)","v":{"$error":"#N/A"}},{"$f":"MATCH(FO$3,Millwall!$AH$76:$AW$76,0)","v":{"$error":"#N/A"}},null,null,null,null,null,null,{"$f":"$FX$6&\" {**\"","v":"Berry {**"},{"$f":"$FX$6&\" [**\"","v":"Berry [**"},{"$f":"Millwall!$BY61","v":"Berry"},{"$f":"FX6&\" (**\"","v":"Berry (**"},{"$f":"$FX$6&\"**\"","v":"Berry**"},null,{"$f":"$FX$6","v":"Berry"},{"$f":"$FY$6","v":"Berry (**"},{"$f":"$FZ$6","v":"Berry**"},null,{"$f":"Millwall!CC7","v":0},{"$f":"Millwall!CH7","v":0},{"$f":"Millwall!CR7","v":0},{"$f":"Millwall!CW7","v":0}]
[null,null,0,3,null,{"$f":"Millwall!AD77","v":"1996-08-27"},null,{"$f":"Millwall!AE77","v":"York"},{"$f":"Millwall!AF77","v":"(A)"},{"$f":"Millwall!AG77","v":"L 2-3"},{"$f":"MATCH($K$4,Millwall!$AH$77:$AW$77,0)","v":{"$error":"#N/A"}},{"$f":"MATCH($L$4,Millwall!$AH$77:$AW$77,0)","v":{"$error":"#N/A"}},{"$f":"MATCH($M$4,Millwall!$AH$77:$AW$77,0)","v":{"$error":"#N/A"}},{"$f":"MATCH($N$4,Millwall!$AH$77:$AW$77,0)","v":7},{"$f":"MATCH($O$4,Millwall!$AH$77:$AW$77,0)","v":{"$error":"#N/A"}},{"$f":"MATCH($P$4,Millwall!$AH$77:$AW$77,0)","v":{"$error":"#N/A"}},{"$f":"MATCH($Q$4,Millwall!$AH$77:$AW$77,0)","v":{"$error":"#N/A"}},{"$f":"MATCH($R$4,Millwall!$AH$77:$AW$77,0)","v":1},{"$f":"MATCH($S$4,Millwall!$AH$77:$AW$77,0)","v":10},{"$f":"MATCH($T$4,Millwall!$AH$77:$AW$77,0)","v":11},{"$f":"MATCH($U$4,Millwall!$AH$77:$AW$77,0)","v":{"$error":"#N/A"}},{"$f":"MATCH($V$4,Millwall!$AH$77:$AW$77,0)","v":12},{"$f":"MATCH($W$4,Millwall!$AH$77:$AW$77,0)","v":{"$error":"#N/A"}},{"$f":"MATCH($X$4,Millwall!$AH$77:$AW$77,0)","v":{"$error":"#N/A"}},{"$f":"MATCH($Y$4,Millwall!$AH$77:$AW$77,0)","v":3},{"$f":"MATCH($Z$4,Millwall!$AH$77:$AW$77,0)","v":14},{"$f":"MATCH($AA$4,Millwall!$AH$77:$AW$77,0)","v":{"$error":"#N/A"}},{"$f":"MATCH($AB$4,Millwall!$AH$77:$AW$77,0)","v":{"$error":"#N/A"}},{"$f":"MATCH($AC$4,Millwall!$AH$77:$AW$77,0)","v":{"$error":"#N/A"}},{"$f":"MATCH($AD$4,Millwall!$AH$77:$AW$77,0)","v":{"$error":"#N/A"}},{"$f":"MATCH($AE$4,Millwall!$AH$77:$AW$77,0)","v":9},{"$f":"MATCH($AF$4,Millwall!$AH$77:$AW$77,0)","v":{"$error":"#N/A"}},{"$f":"MATCH($AG$4,Millwall!$AH$77:$AW$77,0)","v":{"$error":"#N/A"}},{"$f":"MATCH($AH$4,Millwall!$AH$77:$AW$77,0)","v":13},{"$f":"MATCH($AI$4,Millwall!$AH$77:$AW$77,0)","v":2},{"$f":"MATCH($AJ$4,Millwall!$AH$77:$AW$77,0)","v":{"$error":"#N/A"}},{"$f":"MATCH($AK$4,Millwall!$AH$77:$AW$77,0)","v":{"$error":"#N/A"}},{"$f":"MATCH($AL$4,Millwall!$AH$77:$AW$77,0)","v":{"$error":"#N/A"}},{"$f":"MATCH($AM$4,Millwall!$AH$77:$AW$77,0)","v":{"$error":"#N/A"}},{"$f":"MATCH($AN$4,Millwall!$AH$77:$AW$77,0)","v":8},{"$f":"MATCH($AO$4,Millwall!$AH$77:$AW$77,0)","v":{"$error":"#N/A"}},{"$f":"MATCH($AP$4,Millwall!$AH$77:$AW$77,0)","v":6},{"$f":"MATCH($AQ$4,Millwall!$AH$77:$AW$77,0)","v":{"$error":"#N/A"}},{"$f":"MATCH($AR$4,Millwall!$AH$77:$AW$77,0)","v":4},{"$f":"MATCH($AS$4,Millwall!$AH$77:$AW$77,0)","v":{"$error":"#N/A"}},{"$f":"MATCH($AT$4,Millwall!$AH$77:$AW$77,0)","v":5},{"$f":"MATCH($AU$4,Millwall!$AH$77:$AW$77,0)","v":{"$error":"#N/A"}},{"$f":"MATCH($AV$4,Millwall!$AH$77:$AW$77,0)","v":{"$error":"#N/A"}},null,null,null,null,null,{"$f":"MATCH(BB$3,Millwall!$AH77:$AW77,0)","v":{"$error":"#N/A"}},{"$f":"MATCH(BC$3,Millwall!$AH77:$AW77,0)","v":{"$error":"#N/A"}},{"$f":"MATCH(BD$3,Millwall!$AH77:$AW77,0)","v":{"$error":"#N/A"}},{"$f":"MATCH(BE$3,Millwall!$AH77:$AW77,0)","v":{"$error":"#N/A"}},{"$f":"MATCH(BF$3,Millwall!$AH77:$AW77,0)","v":{"$error":"#N/A"}},{"$f":"MATCH(BG$3,Millwall!$AH77:$AW77,0)","v":{"$error":"#N/A"}},{"$f":"MATCH(BH$3,Millwall!$AH77:$AW77,0)","v":{"$error":"#N/A"}},{"$f":"MATCH(BI$3,Millwall!$AH77:$AW77,0)","v":{"$error":"#N/A"}},{"$f":"MATCH(BJ$3,Millwall!$AH77:$AW77,0)","v":{"$error":"#N/A"}},{"$f":"MATCH(BK$3,Millwall!$AH77:$AW77,0)","v":{"$error":"#N/A"}},{"$f":"MATCH(BL$3,Millwall!$AH77:$AW77,0)","v":{"$error":"#N/A"}},{"$f":"MATCH(BM$3,Millwall!$AH77:$AW77,0)","v":12},{"$f":"MATCH(BN$3,Millwall!$AH77:$AW77,0)","v":{"$error":"#N/A"}},{"$f":"MATCH(BO$3,Millwall!$AH77:$AW77,0)","v":{"$error":"#N/A"}},{"$f":"MATCH(BP$3,Millwall!$AH77:$AW77,0)","v":3},{"$f":"MATCH(BQ$3,Millwall!$AH77:$AW77,0)","v":{"$error":"#N/A"}},{"$f":"MATCH(BR$3,Millwall!$AH77:$AW77,0)","v":{"$error":"#N/A"}},{"$f":"MATCH(BS$3,Millwall!$AH77:$AW77,0)","v":{"$error":"#N/A"}},{"$f":"MATCH(BT$3,Millwall!$AH77:$AW77,0)","v":{"$error":"#N/A"}},{"$f":"MATCH(BU$3,Millwall!$AH77:$AW77,0)","v":{"$error":"#N/A"}},{"$f":"MATCH(BV$3,Millwall!$AH77:$AW77,0)","v":{"$error":"#N/A"}},{"$f":"MATCH(BW$3,Millwall!$AH77:$AW77,0)","v":{"$error":"#N/A"}},{"$f":"MATCH(BX$3,Millwall!$AH77:$AW77,0)","v":{"$error":"#N/A"}},{"$f":"MATCH(BY$3,Millwall!$AH77:$AW77,0)","v":{"$error":"#N/A"}},{"$f":"MATCH(BZ$3,Millwall!$AH77:$AW77,0)","v":{"$error":"#N/A"}},{"$f":"MATCH(CA$3,Millwall!$AH77:$AW77,0)","v":{"$error":"#N/A"}},{"$f":"MATCH(CB$3,Millwall!$AH77:$AW77,0)","v":{"$error":"#N/A"}},{"$f":"MATCH(CC$3,Millwall!$AH77:$AW77,0)","v":{"$error":"#N/A"}},{"$f":"MATCH(CD$3,Millwall!$AH77:$AW77,0)","v":{"$error":"#N/A"}},{"$f":"MATCH(CE$3,Millwall!$AH77:$AW77,0)","v":{"$error":"#N/A"}},{"$f":"MATCH(CF$3,Millwall!$AH77:$AW77,0)","v":{"$error":"#N/A"}},{"$f":"MATCH(CG$3,Millwall!$AH77:$AW77,0)","v":{"$error":"#N/A"}},{"$f":"MATCH(CH$3,Millwall!$AH77:$AW77,0)","v":{"$error":"#N/A"}},{"$f":"MATCH(CI$3,Millwall!$AH77:$AW77,0)","v":{"$error":"#N/A"}},{"$f":"MATCH(CJ$3,Millwall!$AH77:$AW77,0)","v":{"$error":"#N/A"}},{"$f":"MATCH(CK$3,Millwall!$AH77:$AW77,0)","v":{"$error":"#N/A"}},{"$f":"MATCH(CL$3,Millwall!$AH77:$AW77,0)","v":{"$error":"#N/A"}},{"$f":"MATCH(CM$3,Millwall!$AH77:$AW77,0)","v":{"$error":"#N/A"}},null,null,{"$f":"MATCH($CP$3,Millwall!$AH$77:$AW$77,0)","v":{"$error":"#N/A"}},{"$f":"MATCH($CQ$3,Millwall!$AH$77:$AW$77,0)","v":{"$error":"#N/A"}},{"$f":"MATCH($CR$3,Millwall!$AH$77:$AW$77,0)","v":{"$error":"#N/A"}},{"$f":"MATCH($CS$3,Millwall!$AH$77:$AW$77,0)","v":{"$error":"#N/A"}},{"$f":"MATCH($CT$3,Millwall!$AH$77:$AW$77,0)","v":{"$error":"#N/A"}},{"$f":"MATCH($CU$3,Millwall!$AH$77:$AW$77,0)","v":{"$error":"#N/A"}},{"$f":"MATCH($CV$3,Millwall!$AH$77:$AW$77,0)","v":{"$error":"#N/A"}},{"$f":"MATCH($CW$3,Millwall!$AH$77:$AW$77,0)","v":{"$error":"#N/A"}},{"$f":"MATCH($CX$3,Millwall!$AH$77:$AW$77,0)","v":{"$error":"#N/A"}},{"$f":"MATCH($CY$3,Millwall!$AH$77:$AW$77,0)","v":{"$error":"#N/A"}},{"$f":"MATCH($CZ$3,Millwall!$AH$77:$AW$77,0)","v":{"$error":"#N/A"}},{"$f":"MATCH($DA$3,Millwall!$AH$77:$AW$77,0)","v":{"$error":"#N/A"}},{"$f":"MATCH($DB$3,Millwall!$AH$77:$AW$77,0)","v":{"$error":"#N/A"}},{"$f":"MATCH($DC$3,Millwall!$AH$77:$AW$77,0)","v":{"$error":"#N/A"}},{"$f":"MATCH($DD$3,Millwall!$AH$77:$AW$77,0)","v":{"$error":"#N/A"}},{"$f":"MATCH($DE$3,Millwall!$AH$77:$AW$77,0)","v":{"$error":"#N/A"}},{"$f":"MATCH($DF$3,Millwall!$AH$77:$AW$77,0)","v":{"$error":"#N/A"}},{"$f":"MATCH($DG$3,Millwall!$AH$77:$AW$77,0)","v":{"$error":"#N/A"}},{"$f":"MATCH($DH$3,Millwall!$AH$77:$AW$77,0)","v":{"$error":"#N/A"}},{"$f":"MATCH($DI$3,Millwall!$AH$77:$AW$77,0)","v":{"$error":"#N/A"}},{"$f":"MATCH($DJ$3,Millwall!$AH$77:$AW$77,0)","v":{"$error":"#N/A"}},{"$f":"MATCH($DK$3,Millwall!$AH$77:$AW$77,0)","v":{"$error":"#N/A"}},{"$f":"MATCH($DL$3,Millwall!$AH$77:$AW$77,0)","v":{"$error":"#N/A"}},{"$f":"MATCH($DM$3,Millwall!$AH$77:$AW$77,0)","v":13},{"$f":"MATCH($DN$3,Millwall!$AH$77:$AW$77,0)","v":{"$error":"#N/A"}},{"$f":"MATCH($DO$3,Millwall!$AH$77:$AW$77,0)","v":{"$error":"#N/A"}},{"$f":"MATCH($DP$3,Millwall!$AH$77:$AW$77,0)","v":{"$error":"#N/A"}},{"$f":"MATCH($DQ$3,Millwall!$AH$77:$AW$77,0)","v":{"$error":"#N/A"}},{"$f":"MATCH($DR$3,Millwall!$AH$77:$AW$77,0)","v":{"$error":"#N/A"}},{"$f":"MATCH($DS$3,Millwall!$AH$77:$AW$77,0)","v":8},{"$f":"MATCH($DT$3,Millwall!$AH$77:$AW$77,0)","v":{"$error":"#N/A"}},{"$f":"MATCH($DU$3,Millwall!$AH$77:$AW$77,0)","v":{"$error":"#N/A"}},{"$f":"MATCH($DV$3,Millwall!$AH$77:$AW$77,0)","v":{"$error":"#N/A"}},{"$f":"MATCH($DW$3,Millwall!$AH$77:$AW$77,0)","v":{"$error":"#N/A"}},{"$f":"MATCH($DX$3,Millwall!$AH$77:$AW$77,0)","v":{"$error":"#N/A"}},{"$f":"MATCH($DY$3,Millwall!$AH$77:$AW$77,0)","v":{"$error":"#N/A"}},{"$f":"MATCH($DZ$3,Millwall!$AH$77:$AW$77,0)","v":{"$error":"#N/A"}},{"$f":"MATCH($EA$3,Millwall!$AH$77:$AW$77,0)","v":{"$error":"#N/A"}},null,null,{"$f":"MATCH(ED$3,Millwall!$AH$77:$AW$77,0)","v":{"$error":"#N/A"}},{"$f":"MATCH(EE$3,Millwall!$AH$77:$AW$77,0)","v":{"$error":"#N/A"}},{"$f":"MATCH(EF$3,Millwall!$AH$77:$AW$77,0)","v":{"$error":"#N/A"}},{"$f":"MATCH(EG$3,Millwall!$AH$77:$AW$77,0)","v":{"$error":"#N/A"}},{"$f":"MATCH(EH$3,Millwall!$AH$77:$AW$77,0)","v":{"$error":"#N/A"}},{"$f":"MATCH(EI$3,Millwall!$AH$77:$AW$77,0)","v":{"$error":"#N/A"}},{"$f":"MATCH(EJ$3,Millwall!$AH$77:$AW$77,0)","v":{"$error":"#N/A"}},{"$f":"MATCH(EK$3,Millwall!$AH$77:$AW$77,0)","v":{"$error":"#N/A"}},{"$f":"MATCH(EL$3,Millwall!$AH$77:$AW$77,0)","v":{"$error":"#N/A"}},{"$f":"MATCH(EM$3,Millwall!$AH$77:$AW$77,0)","v":11},{"$f":"MATCH(EN$3,Millwall!$AH$77:$AW$77,0)","v":{"$error":"#N/A"}},{"$f":"MATCH(EO$3,Millwall!$AH$77:$AW$77,0)","v":{"$error":"#N/A"}},{"$f":"MATCH(EP$3,Millwall!$AH$77:$AW$77,0)","v":{"$error":"#N/A"}},{"$f":"MATCH(EQ$3,Millwall!$AH$77:$AW$77,0)","v":{"$error":"#N/A"}},{"$f":"MATCH(ER$3,Millwall!$AH$77:$AW$77,0)","v":{"$error":"#N/A"}},{"$f":"MATCH(ES$3,Millwall!$AH$77:$AW$77,0)","v":14},{"$f":"MATCH(ET$3,Millwall!$AH$77:$AW$77,0)","v":{"$error":"#N/A"}},{"$f":"MATCH(EU$3,Millwall!$AH$77:$AW$77,0)","v":{"$error":"#N/A"}},{"$f":"MATCH(EV$3,Millwall!$AH$77:$AW$77,0)","v":{"$error":"#N/A"}},{"$f":"MATCH(EW$3,Millwall!$AH$77:$AW$77,0)","v":{"$error":"#N/A"}},{"$f":"MATCH(EX$3,Millwall!$AH$77:$AW$77,0)","v":{"$error":"#N/A"}},{"$f":"MATCH(EY$3,Millwall!$AH$77:$AW$77,0)","v":{"$error":"#N/A"}},{"$f":"MATCH(EZ$3,Millwall!$AH$77:$AW$77,0)","v":{"$error":"#N/A"}},{"$f":"MATCH(FA$3,Millwall!$AH$77:$AW$77,0)","v":{"$error":"#N/A"}},{"$f":"MATCH(FB$3,Millwall!$AH$77:$AW$77,0)","v":{"$error":"#N/A"}},{"$f":"MATCH(FC$3,Millwall!$AH$77:$AW$77,0)","v":{"$error":"#N/A"}},{"$f":"MATCH(FD$3,Millwall!$AH$77:$AW$77,0)","v":{"$error":"#N/A"}},{"$f":"MATCH(FE$3,Millwall!$AH$77:$AW$77,0)","v":{"$error":"#N/A"}},{"$f":"MATCH(FF$3,Millwall!$AH$77:$AW$77,0)","v":{"$error":"#N/A"}},{"$f":"MATCH(FG$3,Millwall!$AH$77:$AW$77,0)","v":{"$error":"#N/A"}},{"$f":"MATCH(FH$3,Millwall!$AH$77:$AW$77,0)","v":{"$error":"#N/A"}},{"$f":"MATCH(FI$3,Millwall!$AH$77:$AW$77,0)","v":{"$error":"#N/A"}},{"$f":"MATCH(FJ$3,Millwall!$AH$77:$AW$77,0)","v":{"$error":"#N/A"}},{"$f":"MATCH(FK$3,Millwall!$AH$77:$AW$77,0)","v":{"$error":"#N/A"}},{"$f":"MATCH(FL$3,Millwall!$AH$77:$AW$77,0)","v":{"$error":"#N/A"}},{"$f":"MATCH(FM$3,Millwall!$AH$77:$AW$77,0)","v":{"$error":"#N/A"}},{"$f":"MATCH(FN$3,Millwall!$AH$77:$AW$77,0)","v":{"$error":"#N/A"}},{"$f":"MATCH(FO$3,Millwall!$AH$77:$AW$77,0)","v":{"$error":"#N/A"}},null,null,null,null,null,null,{"$f":"$FX$7&\" {**\"","v":"Bircham {**"},{"$f":"$FX$7&\" [**\"","v":"Bircham [**"},{"$f":"Millwall!$BY62","v":"Bircham"},"Bircham (**",{"$f":"$FX$7&\"**\"","v":"Bircham**"},null,{"$f":"$FX$7","v":"Bircham"},{"$f":"$FY$7","v":"Bircham (**"},{"$f":"$FZ$7","v":"Bircham**"},null,{"$f":"Millwall!CC8","v":0},{"$f":"Millwall!CH8","v":0},{"$f":"Millwall!CR8","v":0},{"$f":"Millwall!CW8","v":0}]
[null,null,0,4,null,{"$f":"Millwall!AD78","v":"1996-08-31"},null,{"$f":"Millwall!AE78","v":"Burnley"},{"$f":"Millwall!AF78","v":"(H)"},{"$f":"Millwall!AG78","v":"W 2-1"},{"$f":"MATCH($K$4,Millwall!$AH$78:$AW$78,0)","v":{"$error":"#N/A"}},{"$f":"MATCH($L$4,Millwall!$AH$78:$AW$78,0)","v":{"$error":"#N/A"}},{"$f":"MATCH($M$4,Millwall!$AH$78:$AW$78,0)","v":{"$error":"#N/A"}},{"$f":"MATCH($N$4,Millwall!$AH$78:$AW$78,0)","v":7},{"$f":"MATCH($O$4,Millwall!$AH$78:$AW$78,0)","v":{"$error":"#N/A"}},{"$f":"MATCH($P$4,Millwall!$AH$78:$AW$78,0)","v":{"$error":"#N/A"}},{"$f":"MATCH($Q$4,Millwall!$AH$78:$AW$78,0)","v":{"$error":"#N/A"}},{"$f":"MATCH($R$4,Millwall!$AH$78:$AW$78,0)","v":1},{"$f":"MATCH($S$4,Millwall!$AH$78:$AW$78,0)","v":10},{"$f":"MATCH($T$4,Millwall!$AH$78:$AW$78,0)","v":11},{"$f":"MATCH($U$4,Millwall!$AH$78:$AW$78,0)","v":13},{"$f":"MATCH($V$4,Millwall!$AH$78:$AW$78,0)","v":14},{"$f":"MATCH($W$4,Millwall!$AH$78:$AW$78,0)","v":{"$error":"#N/A"}},{"$f":"MATCH($X$4,Millwall!$AH$78:$AW$78,0)","v":{"$error":"#N/A"}},{"$f":"MATCH($Y$4,Millwall!$AH$78:$AW$78,0)","v":12},{"$f":"MATCH($Z$4,Millwall!$AH$78:$AW$78,0)","v":{"$error":"#N/A"}},{"$f":"MATCH($AA$4,Millwall!$AH$78:$AW$78,0)","v":{"$error":"#N/A"}},{"$f":"MATCH($AB$4,Millwall!$AH$78:$AW$78,0)","v":{"$error":"#N/A"}},{"$f":"MATCH($AC$4,Millwall!$AH$78:$AW$78,0)","v":{"$error":"#N/A"}},{"$f":"MATCH($AD$4,Millwall!$AH$78:$AW$78,0)","v":{"$error":"#N/A"}},{"$f":"MATCH($AE$4,Millwall!$AH$78:$AW$78,0)","v":9},{"$f":"MATCH($AF$4,Millwall!$AH$78:$AW$78,0)","v":{"$error":"#N/A"}},{"$f":"MATCH($AG$4,Millwall!$AH$78:$AW$78,0)","v":{"$error":"#N/A"}},{"$f":"MATCH($AH$4,Millwall!$AH$78:$AW$78,0)","v":3},{"$f":"MATCH($AI$4,Millwall!$AH$78:$AW$78,0)","v":2},{"$f":"MATCH($AJ$4,Millwall!$AH$78:$AW$78,0)","v":{"$error":"#N/A"}},{"$f":"MATCH($AK$4,Millwall!$AH$78:$AW$78,0)","v":{"$error":"#N/A"}},{"$f":"MATCH($AL$4,Millwall!$AH$78:$AW$78,0)","v":{"$error":"#N/A"}},{"$f":"MATCH($AM$4,Millwall!$AH$78:$AW$78,0)","v":{"$error":"#N/A"}},{"$f":"MATCH($AN$4,Millwall!$AH$78:$AW$78,0)","v":8},{"$f":"MATCH($AO$4,Millwall!$AH$78:$AW$78,0)","v":{"$error":"#N/A"}},{"$f":"MATCH($AP$4,Millwall!$AH$78:$AW$78,0)","v":6},{"$f":"MATCH($AQ$4,Millwall!$AH$78:$AW$78,0)","v":{"$error":"#N/A"}},{"$f":"MATCH($AR$4,Millwall!$AH$78:$AW$78,0)","v":4},{"$f":"MATCH($AS$4,Millwall!$AH$78:$AW$78,0)","v":{"$error":"#N/A"}},{"$f":"MATCH($AT$4,Millwall!$AH$78:$AW$78,0)","v":5},{"$f":"MATCH($AU$4,Millwall!$AH$78:$AW$78,0)","v":{"$error":"#N/A"}},{"$f":"MATCH($AV$4,Millwall!$AH$78:$AW$78,0)","v":{"$error":"#N/A"}},null,null,null,null,null,{"$f":"MATCH(BB$3,Millwall!$AH78:$AW78,0)","v":{"$error":"#N/A"}},{"$f":"MATCH(BC$3,Millwall!$AH78:$AW78,0)","v":{"$error":"#N/A"}},{"$f":"MATCH(BD$3,Millwall!$AH78:$AW78,0)","v":{"$error":"#N/A"}},{"$f":"MATCH(BE$3,Millwall!$AH78:$AW78,0)","v":{"$error":"#N/A"}},{"$f":"MATCH(BF$3,Millwall!$AH78:$AW78,0)","v":{"$error":"#N/A"}},{"$f":"MATCH(BG$3,Millwall!$AH78:$AW78,0)","v":{"$error":"#N/A"}},{"$f":"MATCH(BH$3,Millwall!$AH78:$AW78,0)","v":{"$error":"#N/A"}},{"$f":"MATCH(BI$3,Millwall!$AH78:$AW78,0)","v":{"$error":"#N/A"}},{"$f":"MATCH(BJ$3,Millwall!$AH78:$AW78,0)","v":{"$error":"#N/A"}},{"$f":"MATCH(BK$3,Millwall!$AH78:$AW78,0)","v":11},{"$f":"MATCH(BL$3,Millwall!$AH78:$AW78,0)","v":{"$error":"#N/A"}},{"$f":"MATCH(BM$3,Millwall!$AH78:$AW78,0)","v":{"$error":"#N/A"}},{"$f":"MATCH(BN$3,Millwall!$AH78:$AW78,0)","v":{"$error":"#N/A"}},{"$f":"MATCH(BO$3,Millwall!$AH78:$AW78,0)","v":{"$error":"#N/A"}},{"$f":"MATCH(BP$3,Millwall!$AH78:$AW78,0)","v":12},{"$f":"MATCH(BQ$3,Millwall!$AH78:$AW78,0)","v":{"$error":"#N/A"}},{"$f":"MATCH(BR$3,Millwall!$AH78:$AW78,0)","v":{"$error":"#N/A"}},{"$f":"MATCH(BS$3,Millwall!$AH78:$AW78,0)","v":{"$error":"#N/A"}},{"$f":"MATCH(BT$3,Millwall!$AH78:$AW78,0)","v":{"$error":"#N/A"}},{"$f":"MATCH(BU$3,Millwall!$AH78:$AW78,0)","v":{"$error":"#N/A"}},{"$f":"MATCH(BV$3,Millwall!$AH78:$AW78,0)","v":{"$error":"#N/A"}},{"$f":"MATCH(BW$3,Millwall!$AH78:$AW78,0)","v":{"$error":"#N/A"}},{"$f":"MATCH(BX$3,Millwall!$AH78:$AW78,0)","v":{"$error":"#N/A"}},{"$f":"MATCH(BY$3,Millwall!$AH78:$AW78,0)","v":{"$error":"#N/A"}},{"$f":"MATCH(BZ$3,Millwall!$AH78:$AW78,0)","v":{"$error":"#N/A"}},{"$f":"MATCH(CA$3,Millwall!$AH78:$AW78,0)","v":{"$error":"#N/A"}},{"$f":"MATCH(CB$3,Millwall!$AH78:$AW78,0)","v":{"$error":"#N/A"}},{"$f":"MATCH(CC$3,Millwall!$AH78:$AW78,0)","v":{"$error":"#N/A"}},{"$f":"MATCH(CD$3,Millwall!$AH78:$AW78,0)","v":{"$error":"#N/A"}},{"$f":"MATCH(CE$3,Millwall!$AH78:$AW78,0)","v":{"$error":"#N/A"}},{"$f":"MATCH(CF$3,Millwall!$AH78:$AW78,0)","v":{"$error":"#N/A"}},{"$f":"MATCH(CG$3,Millwall!$AH78:$AW78,0)","v":{"$error":"#N/A"}},{"$f":"MATCH(CH$3,Millwall!$AH78:$AW78,0)","v":{"$error":"#N/A"}},{"$f":"MATCH(CI$3,Millwall!$AH78:$AW78,0)","v":{"$error":"#N/A"}},{"$f":"MATCH(CJ$3,Millwall!$AH78:$AW78,0)","v":{"$error":"#N/A"}},{"$f":"MATCH(CK$3,Millwall!$AH78:$AW78,0)","v":{"$error":"#N/A"}},{"$f":"MATCH(CL$3,Millwall!$AH78:$AW78,0)","v":{"$error":"#N/A"}},{"$f":"MATCH(CM$3,Millwall!$AH78:$AW78,0)","v":{"$error":"#N/A"}},null,null,{"$f":"MATCH($CP$3,Millwall!$AH$78:$AW$78,0)","v":{"$error":"#N/A"}},{"$f":"MATCH($CQ$3,Millwall!$AH$78:$AW$78,0)","v":{"$error":"#N/A"}},{"$f":"MATCH($CR$3,Millwall!$AH$78:$AW$78,0)","v":{"$error":"#N/A"}},{"$f":"MATCH($CS$3,Millwall!$AH$78:$AW$78,0)","v":{"$error":"#N/A"}},{"$f":"MATCH($CT$3,Millwall!$AH$78:$AW$78,0)","v":{"$error":"#N/A"}},{"$f":"MATCH($CU$3,Millwall!$AH$78:$AW$78,0)","v":{"$error":"#N/A"}},{"$f":"MATCH($CV$3,Millwall!$AH$78:$AW$78,0)","v":{"$error":"#N/A"}},{"$f":"MATCH($CW$3,Millwall!$AH$78:$AW$78,0)","v":{"$error":"#N/A"}},{"$f":"MATCH($CX$3,Millwall!$AH$78:$AW$78,0)","v":10},{"$f":"MATCH($CY$3,Millwall!$AH$78:$AW$78,0)","v":{"$error":"#N/A"}},{"$f":"MATCH($CZ$3,Millwall!$AH$78:$AW$78,0)","v":13},{"$f":"MATCH($DA$3,Millwall!$AH$78:$AW$78,0)","v":{"$error":"#N/A"}},{"$f":"MATCH($DB$3,Millwall!$AH$78:$AW$78,0)","v":{"$error":"#N/A"}},{"$f":"MATCH($DC$3,Millwall!$AH$78:$AW$78,0)","v":{"$error":"#N/A"}},{"$f":"MATCH($DD$3,Millwall!$AH$78:$AW$78,0)","v":{"$error":"#N/A"}},{"$f":"MATCH($DE$3,Millwall!$AH$78:$AW$78,0)","v":{"$error":"#N/A"}},{"$f":"MATCH($DF$3,Millwall!$AH$78:$AW$78,0)","v":{"$error":"#N/A"}},{"$f":"MATCH($DG$3,Millwall!$AH$78:$AW$78,0)","v":{"$error":"#N/A"}},{"$f":"MATCH($DH$3,Millwall!$AH$78:$AW$78,0)","v":{"$error":"#N/A"}},{"$f":"MATCH($DI$3,Millwall!$AH$78:$AW$78,0)","v":{"$error":"#N/A"}},{"$f":"MATCH($DJ$3,Millwall!$AH$78:$AW$78,0)","v":{"$error":"#N/A"}},{"$f":"MATCH($DK$3,Millwall!$AH$78:$AW$78,0)","v":{"$error":"#N/A"}},{"$f":"MATCH($DL$3,Millwall!$AH$78:$AW$78,0)","v":{"$error":"#N/A"}},{"$f":"MATCH($DM$3,Millwall!$AH$78:$AW$78,0)","v":{"$error":"#N/A"}},{"$f":"MATCH($DN$3,Millwall!$AH$78:$AW$78,0)","v":{"$error":"#N/A"}},{"$f":"MATCH($DO$3,Millwall!$AH$78:$AW$78,0)","v":{"$error":"#N/A"}},{"$f":"MATCH($DP$3,Millwall!$AH$78:$AW$78,0)","v":{"$error":"#N/A"}},{"$f":"MATCH($DQ$3,Millwall!$AH$78:$AW$78,0)","v":{"$error":"#N/A"}},{"$f":"MATCH($DR$3,Millwall!$AH$78:$AW$78,0)","v":{"$error":"#N/A"}},{"$f":"MATCH($DS$3,Millwall!$AH$78:$AW$78,0)","v":{"$error":"#N/A"}},{"$f":"MATCH($DT$3,Millwall!$AH$78:$AW$78,0)","v":{"$error":"#N/A"}},{"$f":"MATCH($DU$3,Millwall!$AH$78:$AW$78,0)","v":{"$error":"#N/A"}},{"$f":"MATCH($DV$3,Millwall!$AH$78:$AW$78,0)","v":{"$error":"#N/A"}},{"$f":"MATCH($DW$3,Millwall!$AH$78:$AW$78,0)","v":{"$error":"#N/A"}},{"$f":"MATCH($DX$3,Millwall!$AH$78:$AW$78,0)","v":{"$error":"#N/A"}},{"$f":"MATCH($DY$3,Millwall!$AH$78:$AW$78,0)","v":{"$error":"#N/A"}},{"$f":"MATCH($DZ$3,Millwall!$AH$78:$AW$78,0)","v":{"$error":"#N/A"}},{"$f":"MATCH($EA$3,Millwall!$AH$78:$AW$78,0)","v":{"$error":"#N/A"}},null,null,{"$f":"MATCH(ED$3,Millwall!$AH$78:$AW$78,0)","v":{"$error":"#N/A"}},{"$f":"MATCH(EE$3,Millwall!$AH$78:$AW$78,0)","v":{"$error":"#N/A"}},{"$f":"MATCH(EF$3,Millwall!$AH$78:$AW$78,0)","v":{"$error":"#N/A"}},{"$f":"MATCH(EG$3,Millwall!$AH$78:$AW$78,0)","v":{"$error":"#N/A"}},{"$f":"MATCH(EH$3,Millwall!$AH$78:$AW$78,0)","v":{"$error":"#N/A"}},{"$f":"MATCH(EI$3,Millwall!$AH$78:$AW$78,0)","v":{"$error":"#N/A"}},{"$f":"MATCH(EJ$3,Millwall!$AH$78:$AW$78,0)","v":{"$error":"#N/A"}},{"$f":"MATCH(EK$3,Millwall!$AH$78:$AW$78,0)","v":{"$error":"#N/A"}},{"$f":"MATCH(EL$3,Millwall!$AH$78:$AW$78,0)","v":{"$error":"#N/A"}},{"$f":"MATCH(EM$3,Millwall!$AH$78:$AW$78,0)","v":{"$error":"#N/A"}},{"$f":"MATCH(EN$3,Millwall!$AH$78:$AW$78,0)","v":{"$error":"#N/A"}},{"$f":"MATCH(EO$3,Millwall!$AH$78:$AW$78,0)","v":14},{"$f":"MATCH(EP$3,Millwall!$AH$78:$AW$78,0)","v":{"$error":"#N/A"}},{"$f":"MATCH(EQ$3,Millwall!$AH$78:$AW$78,0)","v":{"$error":"#N/A"}},{"$f":"MATCH(ER$3,Millwall!$AH$78:$AW$78,0)","v":{"$error":"#N/A"}},{"$f":"MATCH(ES$3,Millwall!$AH$78:$AW$78,0)","v":{"$error":"#N/A"}},{"$f":"MATCH(ET$3,Millwall!$AH$78:$AW$78,0)","v":{"$error":"#N/A"}},{"$f":"MATCH(EU$3,Millwall!$AH$78:$AW$78,0)","v":{"$error":"#N/A"}},{"$f":"MATCH(EV$3,Millwall!$AH$78:$AW$78,0)","v":{"$error":"#N/A"}},{"$f":"MATCH(EW$3,Millwall!$AH$78:$AW$78,0)","v":{"$error":"#N/A"}},{"$f":"MATCH(EX$3,Millwall!$AH$78:$AW$78,0)","v":{"$error":"#N/A"}},{"$f":"MATCH(EY$3,Millwall!$AH$78:$AW$78,0)","v":{"$error":"#N/A"}},{"$f":"MATCH(EZ$3,Millwall!$AH$78:$AW$78,0)","v":{"$error":"#N/A"}},{"$f":"MATCH(FA$3,Millwall!$AH$78:$AW$78,0)","v":{"$error":"#N/A"}},{"$f":"MATCH(FB$3,Millwall!$AH$78:$AW$78,0)","v":{"$error":"#N/A"}},{"$f":"MATCH(FC$3,Millwall!$AH$78:$AW$78,0)","v":{"$error":"#N/A"}},{"$f":"MATCH(FD$3,Millwall!$AH$78:$AW$78,0)","v":{"$error":"#N/A"}},{"$f":"MATCH(FE$3,Millwall!$AH$78:$AW$78,0)","v":{"$error":"#N/A"}},{"$f":"MATCH(FF$3,Millwall!$AH$78:$AW$78,0)","v":{"$error":"#N/A"}},{"$f":"MATCH(FG$3,Millwall!$AH$78:$AW$78,0)","v":8},{"$f":"MATCH(FH$3,Millwall!$AH$78:$AW$78,0)","v":{"$error":"#N/A"}},{"$f":"MATCH(FI$3,Millwall!$AH$78:$AW$78,0)","v":{"$error":"#N/A"}},{"$f":"MATCH(FJ$3,Millwall!$AH$78:$AW$78,0)","v":{"$error":"#N/A"}},{"$f":"MATCH(FK$3,Millwall!$AH$78:$AW$78,0)","v":{"$error":"#N/A"}},{"$f":"MATCH(FL$3,Millwall!$AH$78:$AW$78,0)","v":{"$error":"#N/A"}},{"$f":"MATCH(FM$3,Millwall!$AH$78:$AW$78,0)","v":{"$error":"#N/A"}},{"$f":"MATCH(FN$3,Millwall!$AH$78:$AW$78,0)","v":{"$error":"#N/A"}},{"$f":"MATCH(FO$3,Millwall!$AH$78:$AW$78,0)","v":{"$error":"#N/A"}},null,null,null,null,null,null,{"$f":"$FX$8&\" {**\"","v":"Bowry {**"},{"$f":"$FX$8&\" [**\"","v":"Bowry [**"},{"$f":"Millwall!$BY63","v":"Bowry"},"Bowry (**",{"$f":"$FX$8&\"**\"","v":"Bowry**"},null,{"$f":"$FX$8","v":"Bowry"},{"$f":"$FY$8","v":"Bowry (**"},{"$f":"$FZ$8","v":"Bowry**"},null,{"$f":"Millwall!CC9","v":1},{"$f":"Millwall!CH9","v":1},{"$f":"Millwall!CR9","v":0},{"$f":"Millwall!CW9","v":0}]
[null,null,0,5,null,{"$f":"Millwall!AD79","v":"1996-09-07"},null,{"$f":"Millwall!AE79","v":"Bristol R"},{"$f":"Millwall!AF79","v":"(H)"},{"$f":"Millwall!AG79","v":"W 2-0"},{"$f":"MATCH($K$4,Millwall!$AH$79:$AW$79,0)","v":{"$error":"#N/A"}},{"$f":"MATCH($L$4,Millwall!$AH$79:$AW$79,0)","v":{"$error":"#N/A"}},{"$f":"MATCH($M$4,Millwall!$AH$79:$AW$79,0)","v":{"$error":"#N/A"}},{"$f":"MATCH($N$4,Millwall!$AH$79:$AW$79,0)","v":7},{"$f":"MATCH($O$4,Millwall!$AH$79:$AW$79,0)","v":{"$error":"#N/A"}},{"$f":"MATCH($P$4,Millwall!$AH$79:$AW$79,0)","v":{"$error":"#N/A"}},{"$f":"MATCH($Q$4,Millwall!$AH$79:$AW$79,0)","v":{"$error":"#N/A"}},{"$f":"MATCH($R$4,Millwall!$AH$79:$AW$79,0)","v":1},{"$f":"MATCH($S$4,Millwall!$AH$79:$AW$79,0)","v":{"$error":"#N/A"}},{"$f":"MATCH($T$4,Millwall!$AH$79:$AW$79,0)","v":10},{"$f":"MATCH($U$4,Millwall!$AH$79:$AW$79,0)","v":{"$error":"#N/A"}},{"$f":"MATCH($V$4,Millwall!$AH$79:$AW$79,0)","v":14},{"$f":"MATCH($W$4,Millwall!$AH$79:$AW$79,0)","v":{"$error":"#N/A"}},{"$f":"MATCH($X$4,Millwall!$AH$79:$AW$79,0)","v":{"$error":"#N/A"}},{"$f":"MATCH($Y$4,Millwall!$AH$79:$AW$79,0)","v":13},{"$f":"MATCH($Z$4,Millwall!$AH$79:$AW$79,0)","v":11},{"$f":"MATCH($AA$4,Millwall!$AH$79:$AW$79,0)","v":{"$error":"#N/A"}},{"$f":"MATCH($AB$4,Millwall!$AH$79:$AW$79,0)","v":9},{"$f":"MATCH($AC$4,Millwall!$AH$79:$AW$79,0)","v":{"$error":"#N/A"}},{"$f":"MATCH($AD$4,Millwall!$AH$79:$AW$79,0)","v":{"$error":"#N/A"}},{"$f":"MATCH($AE$4,Millwall!$AH$79:$AW$79,0)","v":12},{"$f":"MATCH($AF$4,Millwall!$AH$79:$AW$79,0)","v":{"$error":"#N/A"}},{"$f":"MATCH($AG$4,Millwall!$AH$79:$AW$79,0)","v":{"$error":"#N/A"}},{"$f":"MATCH($AH$4,Millwall!$AH$79:$AW$79,0)","v":8},{"$f":"MATCH($AI$4,Millwall!$AH$79:$AW$79,0)","v":2},{"$f":"MATCH($AJ$4,Millwall!$AH$79:$AW$79,0)","v":{"$error":"#N/A"}},{"$f":"MATCH($AK$4,Millwall!$AH$79:$AW$79,0)","v":{"$error":"#N/A"}},{"$f":"MATCH($AL$4,Millwall!$AH$79:$AW$79,0)","v":3},{"$f":"MATCH($AM$4,Millwall!$AH$79:$AW$79,0)","v":{"$error":"#N/A"}},{"$f":"MATCH($AN$4,Millwall!$AH$79:$AW$79,0)","v":{"$error":"#N/A"}},{"$f":"MATCH($AO$4,Millwall!$AH$79:$AW$79,0)","v":{"$error":"#N/A"}},{"$f":"MATCH($AP$4,Millwall!$AH$79:$AW$79,0)","v":6},{"$f":"MATCH($AQ$4,Millwall!$AH$79:$AW$79,0)","v":{"$error":"#N/A"}},{"$f":"MATCH($AR$4,Millwall!$AH$79:$AW$79,0)","v":4},{"$f":"MATCH($AS$4,Millwall!$AH$79:$AW$79,0)","v":{"$error":"#N/A"}},{"$f":"MATCH($AT$4,Millwall!$AH$79:$AW$79,0)","v":5},{"$f":"MATCH($AU$4,Millwall!$AH$79:$AW$79,0)","v":{"$error":"#N/A"}},{"$f":"MATCH($AV$4,Millwall!$AH$79:$AW$79,0)","v":{"$error":"#N/A"}},null,null,null,null,null,{"$f":"MATCH(BB$3,Millwall!$AH79:$AW79,0)","v":{"$error":"#N/A"}},{"$f":"MATCH(BC$3,Millwall!$AH79:$AW79,0)","v":{"$error":"#N/A"}},{"$f":"MATCH(BD$3,Millwall!$AH79:$AW79,0)","v":{"$error":"#N/A"}},{"$f":"MATCH(BE$3,Millwall!$AH79:$AW79,0)","v":{"$error":"#N/A"}},{"$f":"MATCH(BF$3,Millwall!$AH79:$AW79,0)","v":{"$error":"#N/A"}},{"$f":"MATCH(BG$3,Millwall!$AH79:$AW79,0)","v":{"$error":"#N/A"}},{"$f":"MATCH(BH$3,Millwall!$AH79:$AW79,0)","v":{"$error":"#N/A"}},{"$f":"MATCH(BI$3,Millwall!$AH79:$AW79,0)","v":{"$error":"#N/A"}},{"$f":"MATCH(BJ$3,Millwall!$AH79:$AW79,0)","v":{"$error":"#N/A"}},{"$f":"MATCH(BK$3,Millwall!$AH79:$AW79,0)","v":{"$error":"#N/A"}},{"$f":"MATCH(BL$3,Millwall!$AH79:$AW79,0)","v":{"$error":"#N/A"}},{"$f":"MATCH(BM$3,Millwall!$AH79:$AW79,0)","v":{"$error":"#N/A"}},{"$f":"MATCH(BN$3,Millwall!$AH79:$AW79,0)","v":{"$error":"#N/A"}},{"$f":"MATCH(BO$3,Millwall!$AH79:$AW79,0)","v":{"$error":"#N/A"}},{"$f":"MATCH(BP$3,Millwall!$AH79:$AW79,0)","v":{"$error":"#N/A"}},{"$f":"MATCH(BQ$3,Millwall!$AH79:$AW79,0)","v":{"$error":"#N/A"}},{"$f":"MATCH(BR$3,Millwall!$AH79:$AW79,0)","v":{"$error":"#N/A"}},{"$f":"MATCH(BS$3,Millwall!$AH79:$AW79,0)","v":{"$error":"#N/A"}},{"$f":"MATCH(BT$3,Millwall!$AH79:$AW79,0)","v":{"$error":"#N/A"}},{"$f":"MATCH(BU$3,Millwall!$AH79:$AW79,0)","v":{"$error":"#N/A"}},{"$f":"MATCH(BV$3,Millwall!$AH79:$AW79,0)","v":12},{"$f":"MATCH(BW$3,Millwall!$AH79:$AW79,0)","v":{"$error":"#N/A"}},{"$f":"MATCH(BX$3,Millwall!$AH79:$AW79,0)","v":{"$error":"#N/A"}},{"$f":"MATCH(BY$3,Millwall!$AH79:$AW79,0)","v":{"$error":"#N/A"}},{"$f":"MATCH(BZ$3,Millwall!$AH79:$AW79,0)","v":{"$error":"#N/A"}},{"$f":"MATCH(CA$3,Millwall!$AH79:$AW79,0)","v":{"$error":"#N/A"}},{"$f":"MATCH(CB$3,Millwall!$AH79:$AW79,0)","v":{"$error":"#N/A"}},{"$f":"MATCH(CC$3,Millwall!$AH79:$AW79,0)","v":{"$error":"#N/A"}},{"$f":"MATCH(CD$3,Millwall!$AH79:$AW79,0)","v":{"$error":"#N/A"}},{"$f":"MATCH(CE$3,Millwall!$AH79:$AW79,0)","v":{"$error":"#N/A"}},{"$f":"MATCH(CF$3,Millwall!$AH79:$AW79,0)","v":{"$error":"#N/A"}},{"$f":"MATCH(CG$3,Millwall!$AH79:$AW79,0)","v":6},{"$f":"MATCH(CH$3,Millwall!$AH79:$AW79,0)","v":{"$error":"#N/A"}},{"$f":"MATCH(CI$3,Millwall!$AH79:$AW79,0)","v":{"$error":"#N/A"}},{"$f":"MATCH(CJ$3,Millwall!$AH79:$AW79,0)","v":{"$error":"#N/A"}},{"$f":"MATCH(CK$3,Millwall!$AH79:$AW79,0)","v":{"$error":"#N/A"}},{"$f":"MATCH(CL$3,Millwall!$AH79:$AW79,0)","v":{"$error":"#N/A"}},{"$f":"MATCH(CM$3,Millwall!$AH79:$AW79,0)","v":{"$error":"#N/A"}},null,null,{"$f":"MATCH($CP$3,Millwall!$AH$79:$AW$79,0)","v":{"$error":"#N/A"}},{"$f":"MATCH($CQ$3,Millwall!$AH$79:$AW$79,0)","v":{"$error":"#N/A"}},{"$f":"MATCH($CR$3,Millwall!$AH$79:$AW$79,0)","v":{"$error":"#N/A"}},{"$f":"MATCH($CS$3,Millwall!$AH$79:$AW$79,0)","v":7},{"$f":"MATCH($CT$3,Millwall!$AH$79:$AW$79,0)","v":{"$error":"#N/A"}},{"$f":"MATCH($CU$3,Millwall!$AH$79:$AW$79,0)","v":{"$error":"#N/A"}},{"$f":"MATCH($CV$3,Millwall!$AH$79:$AW$79,0)","v":{"$error":"#N/A"}},{"$f":"MATCH($CW$3,Millwall!$AH$79:$AW$79,0)","v":{"$error":"#N/A"}},{"$f":"MATCH($CX$3,Millwall!$AH$79:$AW$79,0)","v":{"$error":"#N/A"}},{"$f":"MATCH($CY$3,Millwall!$AH$79:$AW$79,0)","v":{"$error":"#N/A"}},{"$f":"MATCH($CZ$3,Millwall!$AH$79:$AW$79,0)","v":{"$error":"#N/A"}},{"$f":"MATCH($DA$3,Millwall!$AH$79:$AW$79,0)","v":{"$error":"#N/A"}},{"$f":"MATCH($DB$3,Millwall!$AH$79:$AW$79,0)","v":{"$error":"#N/A"}},{"$f":"MATCH($DC$3,Millwall!$AH$79:$AW$79,0)","v":{"$error":"#N/A"}},{"$f":"MATCH($DD$3,Millwall!$AH$79:$AW$79,0)","v":13},{"$f":"MATCH($DE$3,Millwall!$AH$79:$AW$79,0)","v":{"$error":"#N/A"}},{"$f":"MATCH($DF$3,Millwall!$AH$79:$AW$79,0)","v":{"$error":"#N/A"}},{"$f":"MATCH($DG$3,Millwall!$AH$79:$AW$79,0)","v":{"$error":"#N/A"}},{"$f":"MATCH($DH$3,Millwall!$AH$79:$AW$79,0)","v":{"$error":"#N/A"}},{"$f":"MATCH($DI$3,Millwall!$AH$79:$AW$79,0)","v":{"$error":"#N/A"}},{"$f":"MATCH($DJ$3,Millwall!$AH$79:$AW$79,0)","v":{"$error":"#N/A"}},{"$f":"MATCH($DK$3,Millwall!$AH$79:$AW$79,0)","v":{"$error":"#N/A"}},{"$f":"MATCH($DL$3,Millwall!$AH$79:$AW$79,0)","v":{"$error":"#N/A"}},{"$f":"MATCH($DM$3,Millwall!$AH$79:$AW$79,0)","v":{"$error":"#N/A"}},{"$f":"MATCH($DN$3,Millwall!$AH$79:$AW$79,0)","v":{"$error":"#N/A"}},{"$f":"MATCH($DO$3,Millwall!$AH$79:$AW$79,0)","v":{"$error":"#N/A"}},{"$f":"MATCH($DP$3,Millwall!$AH$79:$AW$79,0)","v":{"$error":"#N/A"}},{"$f":"MATCH($DQ$3,Millwall!$AH$79:$AW$79,0)","v":{"$error":"#N/A"}},{"$f":"MATCH($DR$3,Millwall!$AH$79:$AW$79,0)","v":{"$error":"#N/A"}},{"$f":"MATCH($DS$3,Millwall!$AH$79:$AW$79,0)","v":{"$error":"#N/A"}},{"$f":"MATCH($DT$3,Millwall!$AH$79:$AW$79,0)","v":{"$error":"#N/A"}},{"$f":"MATCH($DU$3,Millwall!$AH$79:$AW$79,0)","v":{"$error":"#N/A"}},{"$f":"MATCH($DV$3,Millwall!$AH$79:$AW$79,0)","v":{"$error":"#N/A"}},{"$f":"MATCH($DW$3,Millwall!$AH$79:$AW$79,0)","v":{"$error":"#N/A"}},{"$f":"MATCH($DX$3,Millwall!$AH$79:$AW$79,0)","v":{"$error":"#N/A"}},{"$f":"MATCH($DY$3,Millwall!$AH$79:$AW$79,0)","v":{"$error":"#N/A"}},{"$f":"MATCH($DZ$3,Millwall!$AH$79:$AW$79,0)","v":{"$error":"#N/A"}},{"$f":"MATCH($EA$3,Millwall!$AH$79:$AW$79,0)","v":{"$error":"#N/A"}},null,null,{"$f":"MATCH(ED$3,Millwall!$AH$79:$AW$79,0)","v":{"$error":"#N/A"}},{"$f":"MATCH(EE$3,Millwall!$AH$79:$AW$79,0)","v":{"$error":"#N/A"}},{"$f":"MATCH(EF$3,Millwall!$AH$79:$AW$79,0)","v":{"$error":"#N/A"}},{"$f":"MATCH(EG$3,Millwall!$AH$79:$AW$79,0)","v":{"$error":"#N/A"}},{"$f":"MATCH(EH$3,Millwall!$AH$79:$AW$79,0)","v":{"$error":"#N/A"}},{"$f":"MATCH(EI$3,Millwall!$AH$79:$AW$79,0)","v":{"$error":"#N/A"}},{"$f":"MATCH(EJ$3,Millwall!$AH$79:$AW$79,0)","v":{"$error":"#N/A"}},{"$f":"MATCH(EK$3,Millwall!$AH$79:$AW$79,0)","v":{"$error":"#N/A"}},{"$f":"MATCH(EL$3,Millwall!$AH$79:$AW$79,0)","v":{"$error":"#N/A"}},{"$f":"MATCH(EM$3,Millwall!$AH$79:$AW$79,0)","v":{"$error":"#N/A"}},{"$f":"MATCH(EN$3,Millwall!$AH$79:$AW$79,0)","v":{"$error":"#N/A"}},{"$f":"MATCH(EO$3,Millwall!$AH$79:$AW$79,0)","v":14},{"$f":"MATCH(EP$3,Millwall!$AH$79:$AW$79,0)","v":{"$error":"#N/A"}},{"$f":"MATCH(EQ$3,Millwall!$AH$79:$AW$79,0)","v":{"$error":"#N/A"}},{"$f":"MATCH(ER$3,Millwall!$AH$79:$AW$79,0)","v":{"$error":"#N/A"}},{"$f":"MATCH(ES$3,Millwall!$AH$79:$AW$79,0)","v":11},{"$f":"MATCH(ET$3,Millwall!$AH$79:$AW$79,0)","v":{"$error":"#N/A"}},{"$f":"MATCH(EU$3,Millwall!$AH$79:$AW$79,0)","v":{"$error":"#N/A"}},{"$f":"MATCH(EV$3,Millwall!$AH$79:$AW$79,0)","v":{"$error":"#N/A"}},{"$f":"MATCH(EW$3,Millwall!$AH$79:$AW$79,0)","v":{"$error":"#N/A"}},{"$f":"MATCH(EX$3,Millwall!$AH$79:$AW$79,0)","v":{"$error":"#N/A"}},{"$f":"MATCH(EY$3,Millwall!$AH$79:$AW$79,0)","v":{"$error":"#N/A"}},{"$f":"MATCH(EZ$3,Millwall!$AH$79:$AW$79,0)","v":{"$error":"#N/A"}},{"$f":"MATCH(FA$3,Millwall!$AH$79:$AW$79,0)","v":{"$error":"#N/A"}},{"$f":"MATCH(FB$3,Millwall!$AH$79:$AW$79,0)","v":{"$error":"#N/A"}},{"$f":"MATCH(FC$3,Millwall!$AH$79:$AW$79,0)","v":{"$error":"#N/A"}},{"$f":"MATCH(FD$3,Millwall!$AH$79:$AW$79,0)","v":{"$error":"#N/A"}},{"$f":"MATCH(FE$3,Millwall!$AH$79:$AW$79,0)","v":{"$error":"#N/A"}},{"$f":"MATCH(FF$3,Millwall!$AH$79:$AW$79,0)","v":{"$error":"#N/A"}},{"$f":"MATCH(FG$3,Millwall!$AH$79:$AW$79,0)","v":{"$error":"#N/A"}},{"$f":"MATCH(FH$3,Millwall!$AH$79:$AW$79,0)","v":{"$error":"#N/A"}},{"$f":"MATCH(FI$3,Millwall!$AH$79:$AW$79,0)","v":{"$error":"#N/A"}},{"$f":"MATCH(FJ$3,Millwall!$AH$79:$AW$79,0)","v":{"$error":"#N/A"}},{"$f":"MATCH(FK$3,Millwall!$AH$79:$AW$79,0)","v":{"$error":"#N/A"}},{"$f":"MATCH(FL$3,Millwall!$AH$79:$AW$79,0)","v":{"$error":"#N/A"}},{"$f":"MATCH(FM$3,Millwall!$AH$79:$AW$79,0)","v":{"$error":"#N/A"}},{"$f":"MATCH(FN$3,Millwall!$AH$79:$AW$79,0)","v":{"$error":"#N/A"}},{"$f":"MATCH(FO$3,Millwall!$AH$79:$AW$79,0)","v":{"$error":"#N/A"}},null,null,null,null,null,null,{"$f":"$FX$9&\" {**\"","v":"Bright {**"},{"$f":"$FX$9&\" [**\"","v":"Bright [**"},{"$f":"Millwall!$BY64","v":"Bright"},"Bright (**",{"$f":"$FX$9&\"**\"","v":"Bright**"},null,{"$f":"$FX$9","v":"Bright"},{"$f":"$FY$9","v":"Bright (**"},{"$f":"$FZ$9","v":"Bright**"},null,{"$f":"Millwall!CC10","v":1},{"$f":"Millwall!CH10","v":1},{"$f":"Millwall!CR10","v":0},{"$f":"Millwall!CW10","v":0}]
[null,null,0,6,null,{"$f":"Millwall!AD80","v":"1996-09-10"},null,{"$f":"Millwall!AE80","v":"Peterborough"},{"$f":"Millwall!AF80","v":"(A)"},{"$f":"Millwall!AG80","v":"D 3-3"},{"$f":"MATCH($K$4,Millwall!$AH$80:$AW$80,0)","v":{"$error":"#N/A"}},{"$f":"MATCH($L$4,Millwall!$AH$80:$AW$80,0)","v":{"$error":"#N/A"}},{"$f":"MATCH($M$4,Millwall!$AH$80:$AW$80,0)","v":{"$error":"#N/A"}},{"$f":"MATCH($N$4,Millwall!$AH$80:$AW$80,0)","v":7},{"$f":"MATCH($O$4,Millwall!$AH$80:$AW$80,0)","v":{"$error":"#N/A"}},{"$f":"MATCH($P$4,Millwall!$AH$80:$AW$80,0)","v":{"$error":"#N/A"}},{"$f":"MATCH($Q$4,Millwall!$AH$80:$AW$80,0)","v":{"$error":"#N/A"}},{"$f":"MATCH($R$4,Millwall!$AH$80:$AW$80,0)","v":1},{"$f":"MATCH($S$4,Millwall!$AH$80:$AW$80,0)","v":14},{"$f":"MATCH($T$4,Millwall!$AH$80:$AW$80,0)","v":11},{"$f":"MATCH($U$4,Millwall!$AH$80:$AW$80,0)","v":{"$error":"#N/A"}},{"$f":"MATCH($V$4,Millwall!$AH$80:$AW$80,0)","v":6},{"$f":"MATCH($W$4,Millwall!$AH$80:$AW$80,0)","v":{"$error":"#N/A"}},{"$f":"MATCH($X$4,Millwall!$AH$80:$AW$80,0)","v":{"$error":"#N/A"}},{"$f":"MATCH($Y$4,Millwall!$AH$80:$AW$80,0)","v":12},{"$f":"MATCH($Z$4,Millwall!$AH$80:$AW$80,0)","v":13},{"$f":"MATCH($AA$4,Millwall!$AH$80:$AW$80,0)","v":{"$error":"#N/A"}},{"$f":"MATCH($AB$4,Millwall!$AH$80:$AW$80,0)","v":10},{"$f":"MATCH($AC$4,Millwall!$AH$80:$AW$80,0)","v":{"$error":"#N/A"}},{"$f":"MATCH($AD$4,Millwall!$AH$80:$AW$80,0)","v":{"$error":"#N/A"}},{"$f":"MATCH($AE$4,Millwall!$AH$80:$AW$80,0)","v":9},{"$f":"MATCH($AF$4,Millwall!$AH$80:$AW$80,0)","v":{"$error":"#N/A"}},{"$f":"MATCH($AG$4,Millwall!$AH$80:$AW$80,0)","v":{"$error":"#N/A"}},{"$f":"MATCH($AH$4,Millwall!$AH$80:$AW$80,0)","v":8},{"$f":"MATCH($AI$4,Millwall!$AH$80:$AW$80,0)","v":2},{"$f":"MATCH($AJ$4,Millwall!$AH$80:$AW$80,0)","v":{"$error":"#N/A"}},{"$f":"MATCH($AK$4,Millwall!$AH$80:$AW$80,0)","v":{"$error":"#N/A"}},{"$f":"MATCH($AL$4,Millwall!$AH$80:$AW$80,0)","v":3},{"$f":"MATCH($AM$4,Millwall!$AH$80:$AW$80,0)","v":{"$error":"#N/A"}},{"$f":"MATCH($AN$4,Millwall!$AH$80:$AW$80,0)","v":{"$error":"#N/A"}},{"$f":"MATCH($AO$4,Millwall!$AH$80:$AW$80,0)","v":{"$error":"#N/A"}},{"$f":"MATCH($AP$4,Millwall!$AH$80:$AW$80,0)","v":{"$error":"#N/A"}},{"$f":"MATCH($AQ$4,Millwall!$AH$80:$AW$80,0)","v":{"$error":"#N/A"}},{"$f":"MATCH($AR$4,Millwall!$AH$80:$AW$80,0)","v":4},{"$f":"MATCH($AS$4,Millwall!$AH$80:$AW$80,0)","v":{"$error":"#N/A"}},{"$f":"MATCH($AT$4,Millwall!$AH$80:$AW$80,0)","v":5},{"$f":"MATCH($AU$4,Millwall!$AH$80:$AW$80,0)","v":{"$error":"#N/A"}},{"$f":"MATCH($AV$4,Millwall!$AH$80:$AW$80,0)","v":{"$error":"#N/A"}},null,null,null,null,null,{"$f":"MATCH(BB$3,Millwall!$AH80:$AW80,0)","v":{"$error":"#N/A"}},{"$f":"MATCH(BC$3,Millwall!$AH80:$AW80,0)","v":{"$error":"#N/A"}},{"$f":"MATCH(BD$3,Millwall!$AH80:$AW80,0)","v":{"$error":"#N/A"}},{"$f":"MATCH(BE$3,Millwall!$AH80:$AW80,0)","v":{"$error":"#N/A"}},{"$f":"MATCH(BF$3,Millwall!$AH80:$AW80,0)","v":{"$error":"#N/A"}},{"$f":"MATCH(BG$3,Millwall!$AH80:$AW80,0)","v":{"$error":"#N/A"}},{"$f":"MATCH(BH$3,Millwall!$AH80:$AW80,0)","v":{"$error":"#N/A"}},{"$f":"MATCH(BI$3,Millwall!$AH80:$AW80,0)","v":{"$error":"#N/A"}},{"$f":"MATCH(BJ$3,Millwall!$AH80:$AW80,0)","v":{"$error":"#N/A"}},{"$f":"MATCH(BK$3,Millwall!$AH80:$AW80,0)","v":{"$error":"#N/A"}},{"$f":"MATCH(BL$3,Millwall!$AH80:$AW80,0)","v":{"$error":"#N/A"}},{"$f":"MATCH(BM$3,Millwall!$AH80:$AW80,0)","v":{"$error":"#N/A"}},{"$f":"MATCH(BN$3,Millwall!$AH80:$AW80,0)","v":{"$error":"#N/A"}},{"$f":"MATCH(BO$3,Millwall!$AH80:$AW80,0)","v":{"$error":"#N/A"}},{"$f":"MATCH(BP$3,Millwall!$AH80:$AW80,0)","v":{"$error":"#N/A"}},{"$f":"MATCH(BQ$3,Millwall!$AH80:$AW80,0)","v":{"$error":"#N/A"}},{"$f":"MATCH(BR$3,Millwall!$AH80:$AW80,0)","v":{"$error":"#N/A"}},{"$f":"MATCH(BS$3,Millwall!$AH80:$AW80,0)","v":{"$error":"#N/A"}},{"$f":"MATCH(BT$3,Millwall!$AH80:$AW80,0)","v":{"$error":"#N/A"}},{"$f":"MATCH(BU$3,Millwall!$AH80:$AW80,0)","v":{"$error":"#N/A"}},{"$f":"MATCH(BV$3,Millwall!$AH80:$AW80,0)","v":{"$error":"#N/A"}},{"$f":"MATCH(BW$3,Millwall!$AH80:$AW80,0)","v":{"$error":"#N/A"}},{"$f":"MATCH(BX$3,Millwall!$AH80:$AW80,0)","v":{"$error":"#N/A"}},{"$f":"MATCH(BY$3,Millwall!$AH80:$AW80,0)","v":{"$error":"#N/A"}},{"$f":"MATCH(BZ$3,Millwall!$AH80:$AW80,0)","v":{"$error":"#N/A"}},{"$f":"MATCH(CA$3,Millwall!$AH80:$AW80,0)","v":{"$error":"#N/A"}},{"$f":"MATCH(CB$3,Millwall!$AH80:$AW80,0)","v":{"$error":"#N/A"}},{"$f":"MATCH(CC$3,Millwall!$AH80:$AW80,0)","v":{"$error":"#N/A"}},{"$f":"MATCH(CD$3,Millwall!$AH80:$AW80,0)","v":{"$error":"#N/A"}},{"$f":"MATCH(CE$3,Millwall!$AH80:$AW80,0)","v":{"$error":"#N/A"}},{"$f":"MATCH(CF$3,Millwall!$AH80:$AW80,0)","v":{"$error":"#N/A"}},{"$f":"MATCH(CG$3,Millwall!$AH80:$AW80,0)","v":{"$error":"#N/A"}},{"$f":"MATCH(CH$3,Millwall!$AH80:$AW80,0)","v":{"$error":"#N/A"}},{"$f":"MATCH(CI$3,Millwall!$AH80:$AW80,0)","v":{"$error":"#N/A"}},{"$f":"MATCH(CJ$3,Millwall!$AH80:$AW80,0)","v":{"$error":"#N/A"}},{"$f":"MATCH(CK$3,Millwall!$AH80:$AW80,0)","v":{"$error":"#N/A"}},{"$f":"MATCH(CL$3,Millwall!$AH80:$AW80,0)","v":{"$error":"#N/A"}},{"$f":"MATCH(CM$3,Millwall!$AH80:$AW80,0)","v":{"$error":"#N/A"}},null,null,{"$f":"MATCH($CP$3,Millwall!$AH$80:$AW$80,0)","v":{"$error":"#N/A"}},{"$f":"MATCH($CQ$3,Millwall!$AH$80:$AW$80,0)","v":{"$error":"#N/A"}},{"$f":"MATCH($CR$3,Millwall!$AH$80:$AW$80,0)","v":{"$error":"#N/A"}},{"$f":"MATCH($CS$3,Millwall!$AH$80:$AW$80,0)","v":{"$error":"#N/A"}},{"$f":"MATCH($CT$3,Millwall!$AH$80:$AW$80,0)","v":{"$error":"#N/A"}},{"$f":"MATCH($CU$3,Millwall!$AH$80:$AW$80,0)","v":{"$error":"#N/A"}},{"$f":"MATCH($CV$3,Millwall!$AH$80:$AW$80,0)","v":{"$error":"#N/A"}},{"$f":"MATCH($CW$3,Millwall!$AH$80:$AW$80,0)","v":{"$error":"#N/A"}},{"$f":"MATCH($CX$3,Millwall!$AH$80:$AW$80,0)","v":{"$error":"#N/A"}},{"$f":"MATCH($CY$3,Millwall!$AH$80:$AW$80,0)","v":{"$error":"#N/A"}},{"$f":"MATCH($CZ$3,Millwall!$AH$80:$AW$80,0)","v":{"$error":"#N/A"}},{"$f":"MATCH($DA$3,Millwall!$AH$80:$AW$80,0)","v":6},{"$f":"MATCH($DB$3,Millwall!$AH$80:$AW$80,0)","v":{"$error":"#N/A"}},{"$f":"MATCH($DC$3,Millwall!$AH$80:$AW$80,0)","v":{"$error":"#N/A"}},{"$f":"MATCH($DD$3,Millwall!$AH$80:$AW$80,0)","v":{"$error":"#N/A"}},{"$f":"MATCH($DE$3,Millwall!$AH$80:$AW$80,0)","v":13},{"$f":"MATCH($DF$3,Millwall!$AH$80:$AW$80,0)","v":{"$error":"#N/A"}},{"$f":"MATCH($DG$3,Millwall!$AH$80:$AW$80,0)","v":{"$error":"#N/A"}},{"$f":"MATCH($DH$3,Millwall!$AH$80:$AW$80,0)","v":{"$error":"#N/A"}},{"$f":"MATCH($DI$3,Millwall!$AH$80:$AW$80,0)","v":{"$error":"#N/A"}},{"$f":"MATCH($DJ$3,Millwall!$AH$80:$AW$80,0)","v":{"$error":"#N/A"}},{"$f":"MATCH($DK$3,Millwall!$AH$80:$AW$80,0)","v":{"$error":"#N/A"}},{"$f":"MATCH($DL$3,Millwall!$AH$80:$AW$80,0)","v":{"$error":"#N/A"}},{"$f":"MATCH($DM$3,Millwall!$AH$80:$AW$80,0)","v":{"$error":"#N/A"}},{"$f":"MATCH($DN$3,Millwall!$AH$80:$AW$80,0)","v":{"$error":"#N/A"}},{"$f":"MATCH($DO$3,Millwall!$AH$80:$AW$80,0)","v":{"$error":"#N/A"}},{"$f":"MATCH($DP$3,Millwall!$AH$80:$AW$80,0)","v":{"$error":"#N/A"}},{"$f":"MATCH($DQ$3,Millwall!$AH$80:$AW$80,0)","v":{"$error":"#N/A"}},{"$f":"MATCH($DR$3,Millwall!$AH$80:$AW$80,0)","v":{"$error":"#N/A"}},{"$f":"MATCH($DS$3,Millwall!$AH$80:$AW$80,0)","v":{"$error":"#N/A"}},{"$f":"MATCH($DT$3,Millwall!$AH$80:$AW$80,0)","v":{"$error":"#N/A"}},{"$f":"MATCH($DU$3,Millwall!$AH$80:$AW$80,0)","v":{"$error":"#N/A"}},{"$f":"MATCH($DV$3,Millwall!$AH$80:$AW$80,0)","v":{"$error":"#N/A"}},{"$f":"MATCH($DW$3,Millwall!$AH$80:$AW$80,0)","v":{"$error":"#N/A"}},{"$f":"MATCH($DX$3,Millwall!$AH$80:$AW$80,0)","v":{"$error":"#N/A"}},{"$f":"MATCH($DY$3,Millwall!$AH$80:$AW$80,0)","v":{"$error":"#N/A"}},{"$f":"MATCH($DZ$3,Millwall!$AH$80:$AW$80,0)","v":{"$error":"#N/A"}},{"$f":"MATCH($EA$3,Millwall!$AH$80:$AW$80,0)","v":{"$error":"#N/A"}},null,null,{"$f":"MATCH(ED$3,Millwall!$AH$80:$AW$80,0)","v":{"$error":"#N/A"}},{"$f":"MATCH(EE$3,Millwall!$AH$80:$AW$80,0)","v":{"$error":"#N/A"}},{"$f":"MATCH(EF$3,Millwall!$AH$80:$AW$80,0)","v":{"$error":"#N/A"}},{"$f":"MATCH(EG$3,Millwall!$AH$80:$AW$80,0)","v":{"$error":"#N/A"}},{"$f":"MATCH(EH$3,Millwall!$AH$80:$AW$80,0)","v":{"$error":"#N/A"}},{"$f":"MATCH(EI$3,Millwall!$AH$80:$AW$80,0)","v":{"$error":"#N/A"}},{"$f":"MATCH(EJ$3,Millwall!$AH$80:$AW$80,0)","v":{"$error":"#N/A"}},{"$f":"MATCH(EK$3,Millwall!$AH$80:$AW$80,0)","v":{"$error":"#N/A"}},{"$f":"MATCH(EL$3,Millwall!$AH$80:$AW$80,0)","v":14},{"$f":"MATCH(EM$3,Millwall!$AH$80:$AW$80,0)","v":11},{"$f":"MATCH(EN$3,Millwall!$AH$80:$AW$80,0)","v":{"$error":"#N/A"}},{"$f":"MATCH(EO$3,Millwall!$AH$80:$AW$80,0)","v":{"$error":"#N/A"}},{"$f":"MATCH(EP$3,Millwall!$AH$80:$AW$80,0)","v":{"$error":"#N/A"}},{"$f":"MATCH(EQ$3,Millwall!$AH$80:$AW$80,0)","v":{"$error":"#N/A"}},{"$f":"MATCH(ER$3,Millwall!$AH$80:$AW$80,0)","v":{"$error":"#N/A"}},{"$f":"MATCH(ES$3,Millwall!$AH$80:$AW$80,0)","v":{"$error":"#N/A"}},{"$f":"MATCH(ET$3,Millwall!$AH$80:$AW$80,0)","v":{"$error":"#N/A"}},{"$f":"MATCH(EU$3,Millwall!$AH$80:$AW$80,0)","v":{"$error":"#N/A"}},{"$f":"MATCH(EV$3,Millwall!$AH$80:$AW$80,0)","v":{"$error":"#N/A"}},{"$f":"MATCH(EW$3,Millwall!$AH$80:$AW$80,0)","v":{"$error":"#N/A"}},{"$f":"MATCH(EX$3,Millwall!$AH$80:$AW$80,0)","v":{"$error":"#N/A"}},{"$f":"MATCH(EY$3,Millwall!$AH$80:$AW$80,0)","v":{"$error":"#N/A"}},{"$f":"MATCH(EZ$3,Millwall!$AH$80:$AW$80,0)","v":{"$error":"#N/A"}},{"$f":"MATCH(FA$3,Millwall!$AH$80:$AW$80,0)","v":{"$error":"#N/A"}},{"$f":"MATCH(FB$3,Millwall!$AH$80:$AW$80,0)","v":{"$error":"#N/A"}},{"$f":"MATCH(FC$3,Millwall!$AH$80:$AW$80,0)","v":{"$error":"#N/A"}},{"$f":"MATCH(FD$3,Millwall!$AH$80:$AW$80,0)","v":{"$error":"#N/A"}},{"$f":"MATCH(FE$3,Millwall!$AH$80:$AW$80,0)","v":{"$error":"#N/A"}},{"$f":"MATCH(FF$3,Millwall!$AH$80:$AW$80,0)","v":{"$error":"#N/A"}},{"$f":"MATCH(FG$3,Millwall!$AH$80:$AW$80,0)","v":{"$error":"#N/A"}},{"$f":"MATCH(FH$3,Millwall!$AH$80:$AW$80,0)","v":{"$error":"#N/A"}},{"$f":"MATCH(FI$3,Millwall!$AH$80:$AW$80,0)","v":{"$error":"#N/A"}},{"$f":"MATCH(FJ$3,Millwall!$AH$80:$AW$80,0)","v":{"$error":"#N/A"}},{"$f":"MATCH(FK$3,Millwall!$AH$80:$AW$80,0)","v":{"$error":"#N/A"}},{"$f":"MATCH(FL$3,Millwall!$AH$80:$AW$80,0)","v":{"$error":"#N/A"}},{"$f":"MATCH(FM$3,Millwall!$AH$80:$AW$80,0)","v":{"$error":"#N/A"}},{"$f":"MATCH(FN$3,Millwall!$AH$80:$AW$80,0)","v":{"$error":"#N/A"}},{"$f":"MATCH(FO$3,Millwall!$AH$80:$AW$80,0)","v":{"$error":"#N/A"}},null,null,null,null,null,null,{"$f":"$FX$10&\" {**\"","v":"Cadette {**"},{"$f":"$FX$10&\" [**\"","v":"Cadette [**"},{"$f":"Millwall!$BY65","v":"Cadette"},"Cadette (**",{"$f":"$FX$10&\"**\"","v":"Cadette**"},null,{"$f":"$FX$10","v":"Cadette"},{"$f":"$FY$10","v":"Cadette (**"},{"$f":"$FZ$10","v":"Cadette**"},null,{"$f":"Millwall!CC11","v":1},{"$f":"Millwall!CH11","v":1},{"$f":"Millwall!CR11","v":0},{"$f":"Millwall!CW11","v":0}]
[null,null,0,7,null,{"$f":"Millwall!AD81","v":"1996-09-14"},null,{"$f":"Millwall!AE81","v":"Notts Co"},{"$f":"Millwall!AF81","v":"(A)"},{"$f":"Millwall!AG81","v":"W 2-1"},{"$f":"MATCH($K$4,Millwall!$AH$81:$AW$81,0)","v":{"$error":"#N/A"}},{"$f":"MATCH($L$4,Millwall!$AH$81:$AW$81,0)","v":{"$error":"#N/A"}},{"$f":"MATCH($M$4,Millwall!$AH$81:$AW$81,0)","v":{"$error":"#N/A"}},{"$f":"MATCH($N$4,Millwall!$AH$81:$AW$81,0)","v":7},{"$f":"MATCH($O$4,Millwall!$AH$81:$AW$81,0)","v":{"$error":"#N/A"}},{"$f":"MATCH($P$4,Millwall!$AH$81:$AW$81,0)","v":{"$error":"#N/A"}},{"$f":"MATCH($Q$4,Millwall!$AH$81:$AW$81,0)","v":{"$error":"#N/A"}},{"$f":"MATCH($R$4,Millwall!$AH$81:$AW$81,0)","v":1},{"$f":"MATCH($S$4,Millwall!$AH$81:$AW$81,0)","v":14},{"$f":"MATCH($T$4,Millwall!$AH$81:$AW$81,0)","v":11},{"$f":"MATCH($U$4,Millwall!$AH$81:$AW$81,0)","v":{"$error":"#N/A"}},{"$f":"MATCH($V$4,Millwall!$AH$81:$AW$81,0)","v":4},{"$f":"MATCH($W$4,Millwall!$AH$81:$AW$81,0)","v":{"$error":"#N/A"}},{"$f":"MATCH($X$4,Millwall!$AH$81:$AW$81,0)","v":{"$error":"#N/A"}},{"$f":"MATCH($Y$4,Millwall!$AH$81:$AW$81,0)","v":12},{"$f":"MATCH($Z$4,Millwall!$AH$81:$AW$81,0)","v":13},{"$f":"MATCH($AA$4,Millwall!$AH$81:$AW$81,0)","v":{"$error":"#N/A"}},{"$f":"MATCH($AB$4,Millwall!$AH$81:$AW$81,0)","v":10},{"$f":"MATCH($AC$4,Millwall!$AH$81:$AW$81,0)","v":{"$error":"#N/A"}},{"$f":"MATCH($AD$4,Millwall!$AH$81:$AW$81,0)","v":{"$error":"#N/A"}},{"$f":"MATCH($AE$4,Millwall!$AH$81:$AW$81,0)","v":9},{"$f":"MATCH($AF$4,Millwall!$AH$81:$AW$81,0)","v":{"$error":"#N/A"}},{"$f":"MATCH($AG$4,Millwall!$AH$81:$AW$81,0)","v":{"$error":"#N/A"}},{"$f":"MATCH($AH$4,Millwall!$AH$81:$AW$81,0)","v":8},{"$f":"MATCH($AI$4,Millwall!$AH$81:$AW$81,0)","v":2},{"$f":"MATCH($AJ$4,Millwall!$AH$81:$AW$81,0)","v":{"$error":"#N/A"}},{"$f":"MATCH($AK$4,Millwall!$AH$81:$AW$81,0)","v":{"$error":"#N/A"}},{"$f":"MATCH($AL$4,Millwall!$AH$81:$AW$81,0)","v":3},{"$f":"MATCH($AM$4,Millwall!$AH$81:$AW$81,0)","v":{"$error":"#N/A"}},{"$f":"MATCH($AN$4,Millwall!$AH$81:$AW$81,0)","v":{"$error":"#N/A"}},{"$f":"MATCH($AO$4,Millwall!$AH$81:$AW$81,0)","v":{"$error":"#N/A"}},{"$f":"MATCH($AP$4,Millwall!$AH$81:$AW$81,0)","v":{"$error":"#N/A"}},{"$f":"MATCH($AQ$4,Millwall!$AH$81:$AW$81,0)","v":{"$error":"#N/A"}},{"$f":"MATCH($AR$4,Millwall!$AH$81:$AW$81,0)","v":6},{"$f":"MATCH($AS$4,Millwall!$AH$81:$AW$81,0)","v":{"$error":"#N/A"}},{"$f":"MATCH($AT$4,Millwall!$AH$81:$AW$81,0)","v":5},{"$f":"MATCH($AU$4,Millwall!$AH$81:$AW$81,0)","v":{"$error":"#N/A"}},{"$f":"MATCH($AV$4,Millwall!$AH$81:$AW$81,0)","v":{"$error":"#N/A"}},null,null,null,null,null,{"$f":"MATCH(BB$3,Millwall!$AH81:$AW81,0)","v":{"$error":"#N/A"}},{"$f":"MATCH(BC$3,Millwall!$AH81:$AW81,0)","v":{"$error":"#N/A"}},{"$f":"MATCH(BD$3,Millwall!$AH81:$AW81,0)","v":{"$error":"#N/A"}},{"$f":"MATCH(BE$3,Millwall!$AH81:$AW81,0)","v":{"$error":"#N/A"}},{"$f":"MATCH(BF$3,Millwall!$AH81:$AW81,0)","v":{"$error":"#N/A"}},{"$f":"MATCH(BG$3,Millwall!$AH81:$AW81,0)","v":{"$error":"#N/A"}},{"$f":"MATCH(BH$3,Millwall!$AH81:$AW81,0)","v":{"$error":"#N/A"}},{"$f":"MATCH(BI$3,Millwall!$AH81:$AW81,0)","v":{"$error":"#N/A"}},{"$f":"MATCH(BJ$3,Millwall!$AH81:$AW81,0)","v":{"$error":"#N/A"}},{"$f":"MATCH(BK$3,Millwall!$AH81:$AW81,0)","v":{"$error":"#N/A"}},{"$f":"MATCH(BL$3,Millwall!$AH81:$AW81,0)","v":{"$error":"#N/A"}},{"$f":"MATCH(BM$3,Millwall!$AH81:$AW81,0)","v":{"$error":"#N/A"}},{"$f":"MATCH(BN$3,Millwall!$AH81:$AW81,0)","v":{"$error":"#N/A"}},{"$f":"MATCH(BO$3,Millwall!$AH81:$AW81,0)","v":{"$error":"#N/A"}},{"$f":"MATCH(BP$3,Millwall!$AH81:$AW81,0)","v":{"$error":"#N/A"}},{"$f":"MATCH(BQ$3,Millwall!$AH81:$AW81,0)","v":{"$error":"#N/A"}},{"$f":"MATCH(BR$3,Millwall!$AH81:$AW81,0)","v":{"$error":"#N/A"}},{"$f":"MATCH(BS$3,Millwall!$AH81:$AW81,0)","v":{"$error":"#N/A"}},{"$f":"MATCH(BT$3,Millwall!$AH81:$AW81,0)","v":{"$error":"#N/A"}},{"$f":"MATCH(BU$3,Millwall!$AH81:$AW81,0)","v":{"$error":"#N/A"}},{"$f":"MATCH(BV$3,Millwall!$AH81:$AW81,0)","v":{"$error":"#N/A"}},{"$f":"MATCH(BW$3,Millwall!$AH81:$AW81,0)","v":{"$error":"#N/A"}},{"$f":"MATCH(BX$3,Millwall!$AH81:$AW81,0)","v":{"$error":"#N/A"}},{"$f":"MATCH(BY$3,Millwall!$AH81:$AW81,0)","v":{"$error":"#N/A"}},{"$f":"MATCH(BZ$3,Millwall!$AH81:$AW81,0)","v":{"$error":"#N/A"}},{"$f":"MATCH(CA$3,Millwall!$AH81:$AW81,0)","v":{"$error":"#N/A"}},{"$f":"MATCH(CB$3,Millwall!$AH81:$AW81,0)","v":{"$error":"#N/A"}},{"$f":"MATCH(CC$3,Millwall!$AH81:$AW81,0)","v":{"$error":"#N/A"}},{"$f":"MATCH(CD$3,Millwall!$AH81:$AW81,0)","v":{"$error":"#N/A"}},{"$f":"MATCH(CE$3,Millwall!$AH81:$AW81,0)","v":{"$error":"#N/A"}},{"$f":"MATCH(CF$3,Millwall!$AH81:$AW81,0)","v":{"$error":"#N/A"}},{"$f":"MATCH(CG$3,Millwall!$AH81:$AW81,0)","v":{"$error":"#N/A"}},{"$f":"MATCH(CH$3,Millwall!$AH81:$AW81,0)","v":{"$error":"#N/A"}},{"$f":"MATCH(CI$3,Millwall!$AH81:$AW81,0)","v":{"$error":"#N/A"}},{"$f":"MATCH(CJ$3,Millwall!$AH81:$AW81,0)","v":{"$error":"#N/A"}},{"$f":"MATCH(CK$3,Millwall!$AH81:$AW81,0)","v":{"$error":"#N/A"}},{"$f":"MATCH(CL$3,Millwall!$AH81:$AW81,0)","v":{"$error":"#N/A"}},{"$f":"MATCH(CM$3,Millwall!$AH81:$AW81,0)","v":{"$error":"#N/A"}},null,null,{"$f":"MATCH($CP$3,Millwall!$AH$81:$AW$81,0)","v":{"$error":"#N/A"}},{"$f":"MATCH($CQ$3,Millwall!$AH$81:$AW$81,0)","v":{"$error":"#N/A"}},{"$f":"MATCH($CR$3,Millwall!$AH$81:$AW$81,0)","v":{"$error":"#N/A"}},{"$f":"MATCH($CS$3,Millwall!$AH$81:$AW$81,0)","v":{"$error":"#N/A"}},{"$f":"MATCH($CT$3,Millwall!$AH$81:$AW$81,0)","v":{"$error":"#N/A"}},{"$f":"MATCH($CU$3,Millwall!$AH$81:$AW$81,0)","v":{"$error":"#N/A"}},{"$f":"MATCH($CV$3,Millwall!$AH$81:$AW$81,0)","v":{"$error":"#N/A"}},{"$f":"MATCH($CW$3,Millwall!$AH$81:$AW$81,0)","v":{"$error":"#N/A"}},{"$f":"MATCH($CX$3,Millwall!$AH$81:$AW$81,0)","v":{"$error":"#N/A"}},{"$f":"MATCH($CY$3,Millwall!$AH$81:$AW$81,0)","v":{"$error":"#N/A"}},{"$f":"MATCH($CZ$3,Millwall!$AH$81:$AW$81,0)","v":{"$error":"#N/A"}},{"$f":"MATCH($DA$3,Millwall!$AH$81:$AW$81,0)","v":{"$error":"#N/A"}},{"$f":"MATCH($DB$3,Millwall!$AH$81:$AW$81,0)","v":{"$error":"#N/A"}},{"$f":"MATCH($DC$3,Millwall!$AH$81:$AW$81,0)","v":{"$error":"#N/A"}},{"$f":"MATCH($DD$3,Millwall!$AH$81:$AW$81,0)","v":{"$error":"#N/A"}},{"$f":"MATCH($DE$3,Millwall!$AH$81:$AW$81,0)","v":13},{"$f":"MATCH($DF$3,Millwall!$AH$81:$AW$81,0)","v":{"$error":"#N/A"}},{"$f":"MATCH($DG$3,Millwall!$AH$81:$AW$81,0)","v":{"$error":"#N/A"}},{"$f":"MATCH($DH$3,Millwall!$AH$81:$AW$81,0)","v":{"$error":"#N/A"}},{"$f":"MATCH($DI$3,Millwall!$AH$81:$AW$81,0)","v":{"$error":"#N/A"}},{"$f":"MATCH($DJ$3,Millwall!$AH$81:$AW$81,0)","v":{"$error":"#N/A"}},{"$f":"MATCH($DK$3,Millwall!$AH$81:$AW$81,0)","v":{"$error":"#N/A"}},{"$f":"MATCH($DL$3,Millwall!$AH$81:$AW$81,0)","v":{"$error":"#N/A"}},{"$f":"MATCH($DM$3,Millwall!$AH$81:$AW$81,0)","v":8},{"$f":"MATCH($DN$3,Millwall!$AH$81:$AW$81,0)","v":{"$error":"#N/A"}},{"$f":"MATCH($DO$3,Millwall!$AH$81:$AW$81,0)","v":{"$error":"#N/A"}},{"$f":"MATCH($DP$3,Millwall!$AH$81:$AW$81,0)","v":{"$error":"#N/A"}},{"$f":"MATCH($DQ$3,Millwall!$AH$81:$AW$81,0)","v":{"$error":"#N/A"}},{"$f":"MATCH($DR$3,Millwall!$AH$81:$AW$81,0)","v":{"$error":"#N/A"}},{"$f":"MATCH($DS$3,Millwall!$AH$81:$AW$81,0)","v":{"$error":"#N/A"}},{"$f":"MATCH($DT$3,Millwall!$AH$81:$AW$81,0)","v":{"$error":"#N/A"}},{"$f":"MATCH($DU$3,Millwall!$AH$81:$AW$81,0)","v":{"$error":"#N/A"}},{"$f":"MATCH($DV$3,Millwall!$AH$81:$AW$81,0)","v":{"$error":"#N/A"}},{"$f":"MATCH($DW$3,Millwall!$AH$81:$AW$81,0)","v":{"$error":"#N/A"}},{"$f":"MATCH($DX$3,Millwall!$AH$81:$AW$81,0)","v":{"$error":"#N/A"}},{"$f":"MATCH($DY$3,Millwall!$AH$81:$AW$81,0)","v":{"$error":"#N/A"}},{"$f":"MATCH($DZ$3,Millwall!$AH$81:$AW$81,0)","v":{"$error":"#N/A"}},{"$f":"MATCH($EA$3,Millwall!$AH$81:$AW$81,0)","v":{"$error":"#N/A"}},null,null,{"$f":"MATCH(ED$3,Millwall!$AH$81:$AW$81,0)","v":{"$error":"#N/A"}},{"$f":"MATCH(EE$3,Millwall!$AH$81:$AW$81,0)","v":{"$error":"#N/A"}},{"$f":"MATCH(EF$3,Millwall!$AH$81:$AW$81,0)","v":{"$error":"#N/A"}},{"$f":"MATCH(EG$3,Millwall!$AH$81:$AW$81,0)","v":{"$error":"#N/A"}},{"$f":"MATCH(EH$3,Millwall!$AH$81:$AW$81,0)","v":{"$error":"#N/A"}},{"$f":"MATCH(EI$3,Millwall!$AH$81:$AW$81,0)","v":{"$error":"#N/A"}},{"$f":"MATCH(EJ$3,Millwall!$AH$81:$AW$81,0)","v":{"$error":"#N/A"}},{"$f":"MATCH(EK$3,Millwall!$AH$81:$AW$81,0)","v":{"$error":"#N/A"}},{"$f":"MATCH(EL$3,Millwall!$AH$81:$AW$81,0)","v":14},{"$f":"MATCH(EM$3,Millwall!$AH$81:$AW$81,0)","v":{"$error":"#N/A"}},{"$f":"MATCH(EN$3,Millwall!$AH$81:$AW$81,0)","v":{"$error":"#N/A"}},{"$f":"MATCH(EO$3,Millwall!$AH$81:$AW$81,0)","v":{"$error":"#N/A"}},{"$f":"MATCH(EP$3,Millwall!$AH$81:$AW$81,0)","v":{"$error":"#N/A"}},{"$f":"MATCH(EQ$3,Millwall!$AH$81:$AW$81,0)","v":{"$error":"#N/A"}},{"$f":"MATCH(ER$3,Millwall!$AH$81:$AW$81,0)","v":{"$error":"#N/A"}},{"$f":"MATCH(ES$3,Millwall!$AH$81:$AW$81,0)","v":{"$error":"#N/A"}},{"$f":"MATCH(ET$3,Millwall!$AH$81:$AW$81,0)","v":{"$error":"#N/A"}},{"$f":"MATCH(EU$3,Millwall!$AH$81:$AW$81,0)","v":10},{"$f":"MATCH(EV$3,Millwall!$AH$81:$AW$81,0)","v":{"$error":"#N/A"}},{"$f":"MATCH(EW$3,Millwall!$AH$81:$AW$81,0)","v":{"$error":"#N/A"}},{"$f":"MATCH(EX$3,Millwall!$AH$81:$AW$81,0)","v":{"$error":"#N/A"}},{"$f":"MATCH(EY$3,Millwall!$AH$81:$AW$81,0)","v":{"$error":"#N/A"}},{"$f":"MATCH(EZ$3,Millwall!$AH$81:$AW$81,0)","v":{"$error":"#N/A"}},{"$f":"MATCH(FA$3,Millwall!$AH$81:$AW$81,0)","v":{"$error":"#N/A"}},{"$f":"MATCH(FB$3,Millwall!$AH$81:$AW$81,0)","v":{"$error":"#N/A"}},{"$f":"MATCH(FC$3,Millwall!$AH$81:$AW$81,0)","v":{"$error":"#N/A"}},{"$f":"MATCH(FD$3,Millwall!$AH$81:$AW$81,0)","v":{"$error":"#N/A"}},{"$f":"MATCH(FE$3,Millwall!$AH$81:$AW$81,0)","v":{"$error":"#N/A"}},{"$f":"MATCH(FF$3,Millwall!$AH$81:$AW$81,0)","v":{"$error":"#N/A"}},{"$f":"MATCH(FG$3,Millwall!$AH$81:$AW$81,0)","v":{"$error":"#N/A"}},{"$f":"MATCH(FH$3,Millwall!$AH$81:$AW$81,0)","v":{"$error":"#N/A"}},{"$f":"MATCH(FI$3,Millwall!$AH$81:$AW$81,0)","v":{"$error":"#N/A"}},{"$f":"MATCH(FJ$3,Millwall!$AH$81:$AW$81,0)","v":{"$error":"#N/A"}},{"$f":"MATCH(FK$3,Millwall!$AH$81:$AW$81,0)","v":{"$error":"#N/A"}},{"$f":"MATCH(FL$3,Millwall!$AH$81:$AW$81,0)","v":{"$error":"#N/A"}},{"$f":"MATCH(FM$3,Millwall!$AH$81:$AW$81,0)","v":{"$error":"#N/A"}},{"$f":"MATCH(FN$3,Millwall!$AH$81:$AW$81,0)","v":{"$error":"#N/A"}},{"$f":"MATCH(FO$3,Millwall!$AH$81:$AW$81,0)","v":{"$error":"#N/A"}},null,null,null,null,null,null,{"$f":"$FX$11&\" {**\"","v":"Canoville {**"},{"$f":"$FX$11&\" [**\"","v":"Canoville [**"},{"$f":"Millwall!$BY66","v":"Canoville"},"Canoville (**",{"$f":"$FX$11&\"**\"","v":"Canoville**"},null,{"$f":"$FX$11","v":"Canoville"},{"$f":"$FY$11","v":"Canoville (**"},{"$f":"$FZ$11","v":"Canoville**"},null,{"$f":"Millwall!CC12","v":0},{"$f":"Millwall!CH12","v":0},{"$f":"Millwall!CR12","v":0},{"$f":"Millwall!CW12","v":0}]
[null,null,0,8,null,{"$f":"Millwall!AD82","v":"1996-09-21"},null,{"$f":"Millwall!AE82","v":"Crewe"},{"$f":"Millwall!AF82","v":"(H)"},{"$f":"Millwall!AG82","v":"W 2-0"},{"$f":"MATCH($K$4,Millwall!$AH$82:$AW$82,0)","v":{"$error":"#N/A"}},{"$f":"MATCH($L$4,Millwall!$AH$82:$AW$82,0)","v":{"$error":"#N/A"}},{"$f":"MATCH($M$4,Millwall!$AH$82:$AW$82,0)","v":{"$error":"#N/A"}},{"$f":"MATCH($N$4,Millwall!$AH$82:$AW$82,0)","v":7},{"$f":"MATCH($O$4,Millwall!$AH$82:$AW$82,0)","v":{"$error":"#N/A"}},{"$f":"MATCH($P$4,Millwall!$AH$82:$AW$82,0)","v":{"$error":"#N/A"}},{"$f":"MATCH($Q$4,Millwall!$AH$82:$AW$82,0)","v":{"$error":"#N/A"}},{"$f":"MATCH($R$4,Millwall!$AH$82:$AW$82,0)","v":1},{"$f":"MATCH($S$4,Millwall!$AH$82:$AW$82,0)","v":9},{"$f":"MATCH($T$4,Millwall!$AH$82:$AW$82,0)","v":11},{"$f":"MATCH($U$4,Millwall!$AH$82:$AW$82,0)","v":{"$error":"#N/A"}},{"$f":"MATCH($V$4,Millwall!$AH$82:$AW$82,0)","v":2},{"$f":"MATCH($W$4,Millwall!$AH$82:$AW$82,0)","v":{"$error":"#N/A"}},{"$f":"MATCH($X$4,Millwall!$AH$82:$AW$82,0)","v":{"$error":"#N/A"}},{"$f":"MATCH($Y$4,Millwall!$AH$82:$AW$82,0)","v":13},{"$f":"MATCH($Z$4,Millwall!$AH$82:$AW$82,0)","v":14},{"$f":"MATCH($AA$4,Millwall!$AH$82:$AW$82,0)","v":{"$error":"#N/A"}},{"$f":"MATCH($AB$4,Millwall!$AH$82:$AW$82,0)","v":10},{"$f":"MATCH($AC$4,Millwall!$AH$82:$AW$82,0)","v":{"$error":"#N/A"}},{"$f":"MATCH($AD$4,Millwall!$AH$82:$AW$82,0)","v":{"$error":"#N/A"}},{"$f":"MATCH($AE$4,Millwall!$AH$82:$AW$82,0)","v":12},{"$f":"MATCH($AF$4,Millwall!$AH$82:$AW$82,0)","v":{"$error":"#N/A"}},{"$f":"MATCH($AG$4,Millwall!$AH$82:$AW$82,0)","v":{"$error":"#N/A"}},{"$f":"MATCH($AH$4,Millwall!$AH$82:$AW$82,0)","v":8},{"$f":"MATCH($AI$4,Millwall!$AH$82:$AW$82,0)","v":4},{"$f":"MATCH($AJ$4,Millwall!$AH$82:$AW$82,0)","v":{"$error":"#N/A"}},{"$f":"MATCH($AK$4,Millwall!$AH$82:$AW$82,0)","v":{"$error":"#N/A"}},{"$f":"MATCH($AL$4,Millwall!$AH$82:$AW$82,0)","v":3},{"$f":"MATCH($AM$4,Millwall!$AH$82:$AW$82,0)","v":{"$error":"#N/A"}},{"$f":"MATCH($AN$4,Millwall!$AH$82:$AW$82,0)","v":{"$error":"#N/A"}},{"$f":"MATCH($AO$4,Millwall!$AH$82:$AW$82,0)","v":{"$error":"#N/A"}},{"$f":"MATCH($AP$4,Millwall!$AH$82:$AW$82,0)","v":{"$error":"#N/A"}},{"$f":"MATCH($AQ$4,Millwall!$AH$82:$AW$82,0)","v":{"$error":"#N/A"}},{"$f":"MATCH($AR$4,Millwall!$AH$82:$AW$82,0)","v":6},{"$f":"MATCH($AS$4,Millwall!$AH$82:$AW$82,0)","v":{"$error":"#N/A"}},{"$f":"MATCH($AT$4,Millwall!$AH$82:$AW$82,0)","v":5},{"$f":"MATCH($AU$4,Millwall!$AH$82:$AW$82,0)","v":{"$error":"#N/A"}},{"$f":"MATCH($AV$4,Millwall!$AH$82:$AW$82,0)","v":{"$error":"#N/A"}},null,null,null,null,null,{"$f":"MATCH(BB$3,Millwall!$AH82:$AW82,0)","v":{"$error":"#N/A"}},{"$f":"MATCH(BC$3,Millwall!$AH82:$AW82,0)","v":{"$error":"#N/A"}},{"$f":"MATCH(BD$3,Millwall!$AH82:$AW82,0)","v":{"$error":"#N/A"}},{"$f":"MATCH(BE$3,Millwall!$AH82:$AW82,0)","v":{"$error":"#N/A"}},{"$f":"MATCH(BF$3,Millwall!$AH82:$AW82,0)","v":{"$error":"#N/A"}},{"$f":"MATCH(BG$3,Millwall!$AH82:$AW82,0)","v":{"$error":"#N/A"}},{"$f":"MATCH(BH$3,Millwall!$AH82:$AW82,0)","v":{"$error":"#N/A"}},{"$f":"MATCH(BI$3,Millwall!$AH82:$AW82,0)","v":{"$error":"#N/A"}},{"$f":"MATCH(BJ$3,Millwall!$AH82:$AW82,0)","v":9},{"$f":"MATCH(BK$3,Millwall!$AH82:$AW82,0)","v":{"$error":"#N/A"}},{"$f":"MATCH(BL$3,Millwall!$AH82:$AW82,0)","v":{"$error":"#N/A"}},{"$f":"MATCH(BM$3,Millwall!$AH82:$AW82,0)","v":{"$error":"#N/A"}},{"$f":"MATCH(BN$3,Millwall!$AH82:$AW82,0)","v":{"$error":"#N/A"}},{"$f":"MATCH(BO$3,Millwall!$AH82:$AW82,0)","v":{"$error":"#N/A"}},{"$f":"MATCH(BP$3,Millwall!$AH82:$AW82,0)","v":{"$error":"#N/A"}},{"$f":"MATCH(BQ$3,Millwall!$AH82:$AW82,0)","v":{"$error":"#N/A"}},{"$f":"MATCH(BR$3,Millwall!$AH82:$AW82,0)","v":{"$error":"#N/A"}},{"$f":"MATCH(BS$3,Millwall!$AH82:$AW82,0)","v":{"$error":"#N/A"}},{"$f":"MATCH(BT$3,Millwall!$AH82:$AW82,0)","v":{"$error":"#N/A"}},{"$f":"MATCH(BU$3,Millwall!$AH82:$AW82,0)","v":{"$error":"#N/A"}},{"$f":"MATCH(BV$3,Millwall!$AH82:$AW82,0)","v":12},{"$f":"MATCH(BW$3,Millwall!$AH82:$AW82,0)","v":{"$error":"#N/A"}},{"$f":"MATCH(BX$3,Millwall!$AH82:$AW82,0)","v":{"$error":"#N/A"}},{"$f":"MATCH(BY$3,Millwall!$AH82:$AW82,0)","v":{"$error":"#N/A"}},{"$f":"MATCH(BZ$3,Millwall!$AH82:$AW82,0)","v":{"$error":"#N/A"}},{"$f":"MATCH(CA$3,Millwall!$AH82:$AW82,0)","v":{"$error":"#N/A"}},{"$f":"MATCH(CB$3,Millwall!$AH82:$AW82,0)","v":{"$error":"#N/A"}},{"$f":"MATCH(CC$3,Millwall!$AH82:$AW82,0)","v":{"$error":"#N/A"}},{"$f":"MATCH(CD$3,Millwall!$AH82:$AW82,0)","v":{"$error":"#N/A"}},{"$f":"MATCH(CE$3,Millwall!$AH82:$AW82,0)","v":{"$error":"#N/A"}},{"$f":"MATCH(CF$3,Millwall!$AH82:$AW82,0)","v":{"$error":"#N/A"}},{"$f":"MATCH(CG$3,Millwall!$AH82:$AW82,0)","v":{"$error":"#N/A"}},{"$f":"MATCH(CH$3,Millwall!$AH82:$AW82,0)","v":{"$error":"#N/A"}},{"$f":"MATCH(CI$3,Millwall!$AH82:$AW82,0)","v":{"$error":"#N/A"}},{"$f":"MATCH(CJ$3,Millwall!$AH82:$AW82,0)","v":{"$error":"#N/A"}},{"$f":"MATCH(CK$3,Millwall!$AH82:$AW82,0)","v":{"$error":"#N/A"}},{"$f":"MATCH(CL$3,Millwall!$AH82:$AW82,0)","v":{"$error":"#N/A"}},{"$f":"MATCH(CM$3,Millwall!$AH82:$AW82,0)","v":{"$error":"#N/A"}},null,null,{"$f":"MATCH($CP$3,Millwall!$AH$82:$AW$82,0)","v":{"$error":"#N/A"}},{"$f":"MATCH($CQ$3,Millwall!$AH$82:$AW$82,0)","v":{"$error":"#N/A"}},{"$f":"MATCH($CR$3,Millwall!$AH$82:$AW$82,0)","v":{"$error":"#N/A"}},{"$f":"MATCH($CS$3,Millwall!$AH$82:$AW$82,0)","v":{"$error":"#N/A"}},{"$f":"MATCH($CT$3,Millwall!$AH$82:$AW$82,0)","v":{"$error":"#N/A"}},{"$f":"MATCH($CU$3,Millwall!$AH$82:$AW$82,0)","v":{"$error":"#N/A"}},{"$f":"MATCH($CV$3,Millwall!$AH$82:$AW$82,0)","v":{"$error":"#N/A"}},{"$f":"MATCH($CW$3,Millwall!$AH$82:$AW$82,0)","v":{"$error":"#N/A"}},{"$f":"MATCH($CX$3,Millwall!$AH$82:$AW$82,0)","v":{"$error":"#N/A"}},{"$f":"MATCH($CY$3,Millwall!$AH$82:$AW$82,0)","v":{"$error":"#N/A"}},{"$f":"MATCH($CZ$3,Millwall!$AH$82:$AW$82,0)","v":{"$error":"#N/A"}},{"$f":"MATCH($DA$3,Millwall!$AH$82:$AW$82,0)","v":{"$error":"#N/A"}},{"$f":"MATCH($DB$3,Millwall!$AH$82:$AW$82,0)","v":{"$error":"#N/A"}},{"$f":"MATCH($DC$3,Millwall!$AH$82:$AW$82,0)","v":{"$error":"#N/A"}},{"$f":"MATCH($DD$3,Millwall!$AH$82:$AW$82,0)","v":13},{"$f":"MATCH($DE$3,Millwall!$AH$82:$AW$82,0)","v":{"$error":"#N/A"}},{"$f":"MATCH($DF$3,Millwall!$AH$82:$AW$82,0)","v":{"$error":"#N/A"}},{"$f":"MATCH($DG$3,Millwall!$AH$82:$AW$82,0)","v":{"$error":"#N/A"}},{"$f":"MATCH($DH$3,Millwall!$AH$82:$AW$82,0)","v":{"$error":"#N/A"}},{"$f":"MATCH($DI$3,Millwall!$AH$82:$AW$82,0)","v":{"$error":"#N/A"}},{"$f":"MATCH($DJ$3,Millwall!$AH$82:$AW$82,0)","v":{"$error":"#N/A"}},{"$f":"MATCH($DK$3,Millwall!$AH$82:$AW$82,0)","v":{"$error":"#N/A"}},{"$f":"MATCH($DL$3,Millwall!$AH$82:$AW$82,0)","v":{"$error":"#N/A"}},{"$f":"MATCH($DM$3,Millwall!$AH$82:$AW$82,0)","v":{"$error":"#N/A"}},{"$f":"MATCH($DN$3,Millwall!$AH$82:$AW$82,0)","v":{"$error":"#N/A"}},{"$f":"MATCH($DO$3,Millwall!$AH$82:$AW$82,0)","v":{"$error":"#N/A"}},{"$f":"MATCH($DP$3,Millwall!$AH$82:$AW$82,0)","v":{"$error":"#N/A"}},{"$f":"MATCH($DQ$3,Millwall!$AH$82:$AW$82,0)","v":3},{"$f":"MATCH($DR$3,Millwall!$AH$82:$AW$82,0)","v":{"$error":"#N/A"}},{"$f":"MATCH($DS$3,Millwall!$AH$82:$AW$82,0)","v":{"$error":"#N/A"}},{"$f":"MATCH($DT$3,Millwall!$AH$82:$AW$82,0)","v":{"$error":"#N/A"}},{"$f":"MATCH($DU$3,Millwall!$AH$82:$AW$82,0)","v":{"$error":"#N/A"}},{"$f":"MATCH($DV$3,Millwall!$AH$82:$AW$82,0)","v":{"$error":"#N/A"}},{"$f":"MATCH($DW$3,Millwall!$AH$82:$AW$82,0)","v":{"$error":"#N/A"}},{"$f":"MATCH($DX$3,Millwall!$AH$82:$AW$82,0)","v":{"$error":"#N/A"}},{"$f":"MATCH($DY$3,Millwall!$AH$82:$AW$82,0)","v":{"$error":"#N/A"}},{"$f":"MATCH($DZ$3,Millwall!$AH$82:$AW$82,0)","v":{"$error":"#N/A"}},{"$f":"MATCH($EA$3,Millwall!$AH$82:$AW$82,0)","v":{"$error":"#N/A"}},null,null,{"$f":"MATCH(ED$3,Millwall!$AH$82:$AW$82,0)","v":{"$error":"#N/A"}},{"$f":"MATCH(EE$3,Millwall!$AH$82:$AW$82,0)","v":{"$error":"#N/A"}},{"$f":"MATCH(EF$3,Millwall!$AH$82:$AW$82,0)","v":{"$error":"#N/A"}},{"$f":"MATCH(EG$3,Millwall!$AH$82:$AW$82,0)","v":{"$error":"#N/A"}},{"$f":"MATCH(EH$3,Millwall!$AH$82:$AW$82,0)","v":{"$error":"#N/A"}},{"$f":"MATCH(EI$3,Millwall!$AH$82:$AW$82,0)","v":{"$error":"#N/A"}},{"$f":"MATCH(EJ$3,Millwall!$AH$82:$AW$82,0)","v":{"$error":"#N/A"}},{"$f":"MATCH(EK$3,Millwall!$AH$82:$AW$82,0)","v":{"$error":"#N/A"}},{"$f":"MATCH(EL$3,Millwall!$AH$82:$AW$82,0)","v":{"$error":"#N/A"}},{"$f":"MATCH(EM$3,Millwall!$AH$82:$AW$82,0)","v":{"$error":"#N/A"}},{"$f":"MATCH(EN$3,Millwall!$AH$82:$AW$82,0)","v":{"$error":"#N/A"}},{"$f":"MATCH(EO$3,Millwall!$AH$82:$AW$82,0)","v":{"$error":"#N/A"}},{"$f":"MATCH(EP$3,Millwall!$AH$82:$AW$82,0)","v":{"$error":"#N/A"}},{"$f":"MATCH(EQ$3,Millwall!$AH$82:$AW$82,0)","v":{"$error":"#N/A"}},{"$f":"MATCH(ER$3,Millwall!$AH$82:$AW$82,0)","v":{"$error":"#N/A"}},{"$f":"MATCH(ES$3,Millwall!$AH$82:$AW$82,0)","v":{"$error":"#N/A"}},{"$f":"MATCH(ET$3,Millwall!$AH$82:$AW$82,0)","v":{"$error":"#N/A"}},{"$f":"MATCH(EU$3,Millwall!$AH$82:$AW$82,0)","v":{"$error":"#N/A"}},{"$f":"MATCH(EV$3,Millwall!$AH$82:$AW$82,0)","v":{"$error":"#N/A"}},{"$f":"MATCH(EW$3,Millwall!$AH$82:$AW$82,0)","v":{"$error":"#N/A"}},{"$f":"MATCH(EX$3,Millwall!$AH$82:$AW$82,0)","v":{"$error":"#N/A"}},{"$f":"MATCH(EY$3,Millwall!$AH$82:$AW$82,0)","v":{"$error":"#N/A"}},{"$f":"MATCH(EZ$3,Millwall!$AH$82:$AW$82,0)","v":{"$error":"#N/A"}},{"$f":"MATCH(FA$3,Millwall!$AH$82:$AW$82,0)","v":{"$error":"#N/A"}},{"$f":"MATCH(FB$3,Millwall!$AH$82:$AW$82,0)","v":{"$error":"#N/A"}},{"$f":"MATCH(FC$3,Millwall!$AH$82:$AW$82,0)","v":{"$error":"#N/A"}},{"$f":"MATCH(FD$3,Millwall!$AH$82:$AW$82,0)","v":{"$error":"#N/A"}},{"$f":"MATCH(FE$3,Millwall!$AH$82:$AW$82,0)","v":{"$error":"#N/A"}},{"$f":"MATCH(FF$3,Millwall!$AH$82:$AW$82,0)","v":{"$error":"#N/A"}},{"$f":"MATCH(FG$3,Millwall!$AH$82:$AW$82,0)","v":{"$error":"#N/A"}},{"$f":"MATCH(FH$3,Millwall!$AH$82:$AW$82,0)","v":{"$error":"#N/A"}},{"$f":"MATCH(FI$3,Millwall!$AH$82:$AW$82,0)","v":{"$error":"#N/A"}},{"$f":"MATCH(FJ$3,Millwall!$AH$82:$AW$82,0)","v":{"$error":"#N/A"}},{"$f":"MATCH(FK$3,Millwall!$AH$82:$AW$82,0)","v":{"$error":"#N/A"}},{"$f":"MATCH(FL$3,Millwall!$AH$82:$AW$82,0)","v":{"$error":"#N/A"}},{"$f":"MATCH(FM$3,Millwall!$AH$82:$AW$82,0)","v":{"$error":"#N/A"}},{"$f":"MATCH(FN$3,Millwall!$AH$82:$AW$82,0)","v":{"$error":"#N/A"}},{"$f":"MATCH(FO$3,Millwall!$AH$82:$AW$82,0)","v":{"$error":"#N/A"}},null,null,null,null,null,null,{"$f":"$FX$12&\" {**\"","v":"Carter {**"},{"$f":"$FX$12&\" [**\"","v":"Carter [**"},{"$f":"Millwall!$BY67","v":"Carter"},"Carter (**",{"$f":"$FX$12&\"**\"","v":"Carter**"},null,{"$f":"$FX$12","v":"Carter"},{"$f":"$FY$12","v":"Carter (**"},{"$f":"$FZ$12","v":"Carter**"},null,{"$f":"Millwall!CC13","v":0},{"$f":"Millwall!CH13","v":0},{"$f":"Millwall!CR13","v":0},{"$f":"Millwall!CW13","v":0}]
[null,null,0,9,null,{"$f":"Millwall!AD83","v":"1996-09-28"},null,{"$f":"Millwall!AE83","v":"Preston"},{"$f":"Millwall!AF83","v":"(A)"},{"$f":"Millwall!AG83","v":"L 1-2"},{"$f":"MATCH($K$4,Millwall!$AH$83:$AW$83,0)","v":{"$error":"#N/A"}},{"$f":"MATCH($L$4,Millwall!$AH$83:$AW$83,0)","v":{"$error":"#N/A"}},{"$f":"MATCH($M$4,Millwall!$AH$83:$AW$83,0)","v":{"$error":"#N/A"}},{"$f":"MATCH($N$4,Millwall!$AH$83:$AW$83,0)","v":7},{"$f":"MATCH($O$4,Millwall!$AH$83:$AW$83,0)","v":{"$error":"#N/A"}},{"$f":"MATCH($P$4,Millwall!$AH$83:$AW$83,0)","v":{"$error":"#N/A"}},{"$f":"MATCH($Q$4,Millwall!$AH$83:$AW$83,0)","v":{"$error":"#N/A"}},{"$f":"MATCH($R$4,Millwall!$AH$83:$AW$83,0)","v":1},{"$f":"MATCH($S$4,Millwall!$AH$83:$AW$83,0)","v":8},{"$f":"MATCH($T$4,Millwall!$AH$83:$AW$83,0)","v":11},{"$f":"MATCH($U$4,Millwall!$AH$83:$AW$83,0)","v":{"$error":"#N/A"}},{"$f":"MATCH($V$4,Millwall!$AH$83:$AW$83,0)","v":2},{"$f":"MATCH($W$4,Millwall!$AH$83:$AW$83,0)","v":{"$error":"#N/A"}},{"$f":"MATCH($X$4,Millwall!$AH$83:$AW$83,0)","v":{"$error":"#N/A"}},{"$f":"MATCH($Y$4,Millwall!$AH$83:$AW$83,0)","v":{"$error":"#N/A"}},{"$f":"MATCH($Z$4,Millwall!$AH$83:$AW$83,0)","v":13},{"$f":"MATCH($AA$4,Millwall!$AH$83:$AW$83,0)","v":{"$error":"#N/A"}},{"$f":"MATCH($AB$4,Millwall!$AH$83:$AW$83,0)","v":10},{"$f":"MATCH($AC$4,Millwall!$AH$83:$AW$83,0)","v":{"$error":"#N/A"}},{"$f":"MATCH($AD$4,Millwall!$AH$83:$AW$83,0)","v":{"$error":"#N/A"}},{"$f":"MATCH($AE$4,Millwall!$AH$83:$AW$83,0)","v":9},{"$f":"MATCH($AF$4,Millwall!$AH$83:$AW$83,0)","v":{"$error":"#N/A"}},{"$f":"MATCH($AG$4,Millwall!$AH$83:$AW$83,0)","v":{"$error":"#N/A"}},{"$f":"MATCH($AH$4,Millwall!$AH$83:$AW$83,0)","v":{"$error":"#N/A"}},{"$f":"MATCH($AI$4,Millwall!$AH$83:$AW$83,0)","v":4},{"$f":"MATCH($AJ$4,Millwall!$AH$83:$AW$83,0)","v":{"$error":"#N/A"}},{"$f":"MATCH($AK$4,Millwall!$AH$83:$AW$83,0)","v":{"$error":"#N/A"}},{"$f":"MATCH($AL$4,Millwall!$AH$83:$AW$83,0)","v":3},{"$f":"MATCH($AM$4,Millwall!$AH$83:$AW$83,0)","v":{"$error":"#N/A"}},{"$f":"MATCH($AN$4,Millwall!$AH$83:$AW$83,0)","v":14},{"$f":"MATCH($AO$4,Millwall!$AH$83:$AW$83,0)","v":12},{"$f":"MATCH($AP$4,Millwall!$AH$83:$AW$83,0)","v":{"$error":"#N/A"}},{"$f":"MATCH($AQ$4,Millwall!$AH$83:$AW$83,0)","v":{"$error":"#N/A"}},{"$f":"MATCH($AR$4,Millwall!$AH$83:$AW$83,0)","v":6},{"$f":"MATCH($AS$4,Millwall!$AH$83:$AW$83,0)","v":{"$error":"#N/A"}},{"$f":"MATCH($AT$4,Millwall!$AH$83:$AW$83,0)","v":5},{"$f":"MATCH($AU$4,Millwall!$AH$83:$AW$83,0)","v":{"$error":"#N/A"}},{"$f":"MATCH($AV$4,Millwall!$AH$83:$AW$83,0)","v":{"$error":"#N/A"}},null,null,null,null,null,{"$f":"MATCH(BB$3,Millwall!$AH83:$AW83,0)","v":{"$error":"#N/A"}},{"$f":"MATCH(BC$3,Millwall!$AH83:$AW83,0)","v":{"$error":"#N/A"}},{"$f":"MATCH(BD$3,Millwall!$AH83:$AW83,0)","v":{"$error":"#N/A"}},{"$f":"MATCH(BE$3,Millwall!$AH83:$AW83,0)","v":{"$error":"#N/A"}},{"$f":"MATCH(BF$3,Millwall!$AH83:$AW83,0)","v":{"$error":"#N/A"}},{"$f":"MATCH(BG$3,Millwall!$AH83:$AW83,0)","v":{"$error":"#N/A"}},{"$f":"MATCH(BH$3,Millwall!$AH83:$AW83,0)","v":{"$error":"#N/A"}},{"$f":"MATCH(BI$3,Millwall!$AH83:$AW83,0)","v":{"$error":"#N/A"}},{"$f":"MATCH(BJ$3,Millwall!$AH83:$AW83,0)","v":{"$error":"#N/A"}},{"$f":"MATCH(BK$3,Millwall!$AH83:$AW83,0)","v":{"$error":"#N/A"}},{"$f":"MATCH(BL$3,Millwall!$AH83:$AW83,0)","v":{"$error":"#N/A"}},{"$f":"MATCH(BM$3,Millwall!$AH83:$AW83,0)","v":2},{"$f":"MATCH(BN$3,Millwall!$AH83:$AW83,0)","v":{"$error":"#N/A"}},{"$f":"MATCH(BO$3,Millwall!$AH83:$AW83,0)","v":{"$error":"#N/A"}},{"$f":"MATCH(BP$3,Millwall!$AH83:$AW83,0)","v":{"$error":"#N/A"}},{"$f":"MATCH(BQ$3,Millwall!$AH83:$AW83,0)","v":{"$error":"#N/A"}},{"$f":"MATCH(BR$3,Millwall!$AH83:$AW83,0)","v":{"$error":"#N/A"}},{"$f":"MATCH(BS$3,Millwall!$AH83:$AW83,0)","v":{"$error":"#N/A"}},{"$f":"MATCH(BT$3,Millwall!$AH83:$AW83,0)","v":{"$error":"#N/A"}},{"$f":"MATCH(BU$3,Millwall!$AH83:$AW83,0)","v":{"$error":"#N/A"}},{"$f":"MATCH(BV$3,Millwall!$AH83:$AW83,0)","v":{"$error":"#N/A"}},{"$f":"MATCH(BW$3,Millwall!$AH83:$AW83,0)","v":{"$error":"#N/A"}},{"$f":"MATCH(BX$3,Millwall!$AH83:$AW83,0)","v":{"$error":"#N/A"}},{"$f":"MATCH(BY$3,Millwall!$AH83:$AW83,0)","v":{"$error":"#N/A"}},{"$f":"MATCH(BZ$3,Millwall!$AH83:$AW83,0)","v":{"$error":"#N/A"}},{"$f":"MATCH(CA$3,Millwall!$AH83:$AW83,0)","v":{"$error":"#N/A"}},{"$f":"MATCH(CB$3,Millwall!$AH83:$AW83,0)","v":{"$error":"#N/A"}},{"$f":"MATCH(CC$3,Millwall!$AH83:$AW83,0)","v":{"$error":"#N/A"}},{"$f":"MATCH(CD$3,Millwall!$AH83:$AW83,0)","v":{"$error":"#N/A"}},{"$f":"MATCH(CE$3,Millwall!$AH83:$AW83,0)","v":{"$error":"#N/A"}},{"$f":"MATCH(CF$3,Millwall!$AH83:$AW83,0)","v":12},{"$f":"MATCH(CG$3,Millwall!$AH83:$AW83,0)","v":{"$error":"#N/A"}},{"$f":"MATCH(CH$3,Millwall!$AH83:$AW83,0)","v":{"$error":"#N/A"}},{"$f":"MATCH(CI$3,Millwall!$AH83:$AW83,0)","v":{"$error":"#N/A"}},{"$f":"MATCH(CJ$3,Millwall!$AH83:$AW83,0)","v":{"$error":"#N/A"}},{"$f":"MATCH(CK$3,Millwall!$AH83:$AW83,0)","v":{"$error":"#N/A"}},{"$f":"MATCH(CL$3,Millwall!$AH83:$AW83,0)","v":{"$error":"#N/A"}},{"$f":"MATCH(CM$3,Millwall!$AH83:$AW83,0)","v":{"$error":"#N/A"}},null,null,{"$f":"MATCH($CP$3,Millwall!$AH$83:$AW$83,0)","v":{"$error":"#N/A"}},{"$f":"MATCH($CQ$3,Millwall!$AH$83:$AW$83,0)","v":{"$error":"#N/A"}},{"$f":"MATCH($CR$3,Millwall!$AH$83:$AW$83,0)","v":{"$error":"#N/A"}},{"$f":"MATCH($CS$3,Millwall!$AH$83:$AW$83,0)","v":{"$error":"#N/A"}},{"$f":"MATCH($CT$3,Millwall!$AH$83:$AW$83,0)","v":{"$error":"#N/A"}},{"$f":"MATCH($CU$3,Millwall!$AH$83:$AW$83,0)","v":{"$error":"#N/A"}},{"$f":"MATCH($CV$3,Millwall!$AH$83:$AW$83,0)","v":{"$error":"#N/A"}},{"$f":"MATCH($CW$3,Millwall!$AH$83:$AW$83,0)","v":{"$error":"#N/A"}},{"$f":"MATCH($CX$3,Millwall!$AH$83:$AW$83,0)","v":8},{"$f":"MATCH($CY$3,Millwall!$AH$83:$AW$83,0)","v":{"$error":"#N/A"}},{"$f":"MATCH($CZ$3,Millwall!$AH$83:$AW$83,0)","v":{"$error":"#N/A"}},{"$f":"MATCH($DA$3,Millwall!$AH$83:$AW$83,0)","v":{"$error":"#N/A"}},{"$f":"MATCH($DB$3,Millwall!$AH$83:$AW$83,0)","v":{"$error":"#N/A"}},{"$f":"MATCH($DC$3,Millwall!$AH$83:$AW$83,0)","v":{"$error":"#N/A"}},{"$f":"MATCH($DD$3,Millwall!$AH$83:$AW$83,0)","v":{"$error":"#N/A"}},{"$f":"MATCH($DE$3,Millwall!$AH$83:$AW$83,0)","v":13},{"$f":"MATCH($DF$3,Millwall!$AH$83:$AW$83,0)","v":{"$error":"#N/A"}},{"$f":"MATCH($DG$3,Millwall!$AH$83:$AW$83,0)","v":{"$error":"#N/A"}},{"$f":"MATCH($DH$3,Millwall!$AH$83:$AW$83,0)","v":{"$error":"#N/A"}},{"$f":"MATCH($DI$3,Millwall!$AH$83:$AW$83,0)","v":{"$error":"#N/A"}},{"$f":"MATCH($DJ$3,Millwall!$AH$83:$AW$83,0)","v":{"$error":"#N/A"}},{"$f":"MATCH($DK$3,Millwall!$AH$83:$AW$83,0)","v":{"$error":"#N/A"}},{"$f":"MATCH($DL$3,Millwall!$AH$83:$AW$83,0)","v":{"$error":"#N/A"}},{"$f":"MATCH($DM$3,Millwall!$AH$83:$AW$83,0)","v":{"$error":"#N/A"}},{"$f":"MATCH($DN$3,Millwall!$AH$83:$AW$83,0)","v":{"$error":"#N/A"}},{"$f":"MATCH($DO$3,Millwall!$AH$83:$AW$83,0)","v":{"$error":"#N/A"}},{"$f":"MATCH($DP$3,Millwall!$AH$83:$AW$83,0)","v":{"$error":"#N/A"}},{"$f":"MATCH($DQ$3,Millwall!$AH$83:$AW$83,0)","v":{"$error":"#N/A"}},{"$f":"MATCH($DR$3,Millwall!$AH$83:$AW$83,0)","v":{"$error":"#N/A"}},{"$f":"MATCH($DS$3,Millwall!$AH$83:$AW$83,0)","v":{"$error":"#N/A"}},{"$f":"MATCH($DT$3,Millwall!$AH$83:$AW$83,0)","v":{"$error":"#N/A"}},{"$f":"MATCH($DU$3,Millwall!$AH$83:$AW$83,0)","v":{"$error":"#N/A"}},{"$f":"MATCH($DV$3,Millwall!$AH$83:$AW$83,0)","v":{"$error":"#N/A"}},{"$f":"MATCH($DW$3,Millwall!$AH$83:$AW$83,0)","v":{"$error":"#N/A"}},{"$f":"MATCH($DX$3,Millwall!$AH$83:$AW$83,0)","v":{"$error":"#N/A"}},{"$f":"MATCH($DY$3,Millwall!$AH$83:$AW$83,0)","v":{"$error":"#N/A"}},{"$f":"MATCH($DZ$3,Millwall!$AH$83:$AW$83,0)","v":{"$error":"#N/A"}},{"$f":"MATCH($EA$3,Millwall!$AH$83:$AW$83,0)","v":{"$error":"#N/A"}},null,null,{"$f":"MATCH(ED$3,Millwall!$AH$83:$AW$83,0)","v":{"$error":"#N/A"}},{"$f":"MATCH(EE$3,Millwall!$AH$83:$AW$83,0)","v":{"$error":"#N/A"}},{"$f":"MATCH(EF$3,Millwall!$AH$83:$AW$83,0)","v":{"$error":"#N/A"}},{"$f":"MATCH(EG$3,Millwall!$AH$83:$AW$83,0)","v":{"$error":"#N/A"}},{"$f":"MATCH(EH$3,Millwall!$AH$83:$AW$83,0)","v":{"$error":"#N/A"}},{"$f":"MATCH(EI$3,Millwall!$AH$83:$AW$83,0)","v":{"$error":"#N/A"}},{"$f":"MATCH(EJ$3,Millwall!$AH$83:$AW$83,0)","v":{"$error":"#N/A"}},{"$f":"MATCH(EK$3,Millwall!$AH$83:$AW$83,0)","v":{"$error":"#N/A"}},{"$f":"MATCH(EL$3,Millwall!$AH$83:$AW$83,0)","v":{"$error":"#N/A"}},{"$f":"MATCH(EM$3,Millwall!$AH$83:$AW$83,0)","v":11},{"$f":"MATCH(EN$3,Millwall!$AH$83:$AW$83,0)","v":{"$error":"#N/A"}},{"$f":"MATCH(EO$3,Millwall!$AH$83:$AW$83,0)","v":{"$error":"#N/A"}},{"$f":"MATCH(EP$3,Millwall!$AH$83:$AW$83,0)","v":{"$error":"#N/A"}},{"$f":"MATCH(EQ$3,Millwall!$AH$83:$AW$83,0)","v":{"$error":"#N/A"}},{"$f":"MATCH(ER$3,Millwall!$AH$83:$AW$83,0)","v":{"$error":"#N/A"}},{"$f":"MATCH(ES$3,Millwall!$AH$83:$AW$83,0)","v":{"$error":"#N/A"}},{"$f":"MATCH(ET$3,Millwall!$AH$83:$AW$83,0)","v":{"$error":"#N/A"}},{"$f":"MATCH(EU$3,Millwall!$AH$83:$AW$83,0)","v":{"$error":"#N/A"}},{"$f":"MATCH(EV$3,Millwall!$AH$83:$AW$83,0)","v":{"$error":"#N/A"}},{"$f":"MATCH(EW$3,Millwall!$AH$83:$AW$83,0)","v":{"$error":"#N/A"}},{"$f":"MATCH(EX$3,Millwall!$AH$83:$AW$83,0)","v":{"$error":"#N/A"}},{"$f":"MATCH(EY$3,Millwall!$AH$83:$AW$83,0)","v":{"$error":"#N/A"}},{"$f":"MATCH(EZ$3,Millwall!$AH$83:$AW$83,0)","v":{"$error":"#N/A"}},{"$f":"MATCH(FA$3,Millwall!$AH$83:$AW$83,0)","v":{"$error":"#N/A"}},{"$f":"MATCH(FB$3,Millwall!$AH$83:$AW$83,0)","v":{"$error":"#N/A"}},{"$f":"MATCH(FC$3,Millwall!$AH$83:$AW$83,0)","v":{"$error":"#N/A"}},{"$f":"MATCH(FD$3,Millwall!$AH$83:$AW$83,0)","v":{"$error":"#N/A"}},{"$f":"MATCH(FE$3,Millwall!$AH$83:$AW$83,0)","v":{"$error":"#N/A"}},{"$f":"MATCH(FF$3,Millwall!$AH$83:$AW$83,0)","v":{"$error":"#N/A"}},{"$f":"MATCH(FG$3,Millwall!$AH$83:$AW$83,0)","v":14},{"$f":"MATCH(FH$3,Millwall!$AH$83:$AW$83,0)","v":{"$error":"#N/A"}},{"$f":"MATCH(FI$3,Millwall!$AH$83:$AW$83,0)","v":{"$error":"#N/A"}},{"$f":"MATCH(FJ$3,Millwall!$AH$83:$AW$83,0)","v":{"$error":"#N/A"}},{"$f":"MATCH(FK$3,Millwall!$AH$83:$AW$83,0)","v":{"$error":"#N/A"}},{"$f":"MATCH(FL$3,Millwall!$AH$83:$AW$83,0)","v":{"$error":"#N/A"}},{"$f":"MATCH(FM$3,Millwall!$AH$83:$AW$83,0)","v":{"$error":"#N/A"}},{"$f":"MATCH(FN$3,Millwall!$AH$83:$AW$83,0)","v":{"$error":"#N/A"}},{"$f":"MATCH(FO$3,Millwall!$AH$83:$AW$83,0)","v":{"$error":"#N/A"}},null,null,null,null,null,null,{"$f":"$FX$13&\" {**\"","v":"Crawford {**"},{"$f":"$FX$13&\" [**\"","v":"Crawford [**"},{"$f":"Millwall!$BY68","v":"Crawford"},"Crawford (**",{"$f":"$FX$13&\"**\"","v":"Crawford**"},null,{"$f":"$FX$13","v":"Crawford"},{"$f":"$FY$13","v":"Crawford (**"},{"$f":"$FZ$13","v":"Crawford**"},null,{"$f":"Millwall!CC14","v":15},{"$f":"Millwall!CH14","v":11},{"$f":"Millwall!CR14","v":0},{"$f":"Millwall!CW14","v":3}]
[null,null,0,10,null,{"$f":"Millwall!AD84","v":"1996-10-02"},null,{"$f":"Millwall!AE84","v":"Stockport"},{"$f":"Millwall!AF84","v":"(H)"},{"$f":"Millwall!AG84","v":"L 3-4"},{"$f":"MATCH($K$4,Millwall!$AH$84:$AW$84,0)","v":{"$error":"#N/A"}},{"$f":"MATCH($L$4,Millwall!$AH$84:$AW$84,0)","v":{"$error":"#N/A"}},{"$f":"MATCH($M$4,Millwall!$AH$84:$AW$84,0)","v":{"$error":"#N/A"}},{"$f":"MATCH($N$4,Millwall!$AH$84:$AW$84,0)","v":7},{"$f":"MATCH($O$4,Millwall!$AH$84:$AW$84,0)","v":{"$error":"#N/A"}},{"$f":"MATCH($P$4,Millwall!$AH$84:$AW$84,0)","v":{"$error":"#N/A"}},{"$f":"MATCH($Q$4,Millwall!$AH$84:$AW$84,0)","v":{"$error":"#N/A"}},{"$f":"MATCH($R$4,Millwall!$AH$84:$AW$84,0)","v":1},{"$f":"MATCH($S$4,Millwall!$AH$84:$AW$84,0)","v":9},{"$f":"MATCH($T$4,Millwall!$AH$84:$AW$84,0)","v":{"$error":"#N/A"}},{"$f":"MATCH($U$4,Millwall!$AH$84:$AW$84,0)","v":{"$error":"#N/A"}},{"$f":"MATCH($V$4,Millwall!$AH$84:$AW$84,0)","v":2},{"$f":"MATCH($W$4,Millwall!$AH$84:$AW$84,0)","v":{"$error":"#N/A"}},{"$f":"MATCH($X$4,Millwall!$AH$84:$AW$84,0)","v":{"$error":"#N/A"}},{"$f":"MATCH($Y$4,Millwall!$AH$84:$AW$84,0)","v":12},{"$f":"MATCH($Z$4,Millwall!$AH$84:$AW$84,0)","v":13},{"$f":"MATCH($AA$4,Millwall!$AH$84:$AW$84,0)","v":14},{"$f":"MATCH($AB$4,Millwall!$AH$84:$AW$84,0)","v":10},{"$f":"MATCH($AC$4,Millwall!$AH$84:$AW$84,0)","v":{"$error":"#N/A"}},{"$f":"MATCH($AD$4,Millwall!$AH$84:$AW$84,0)","v":{"$error":"#N/A"}},{"$f":"MATCH($AE$4,Millwall!$AH$84:$AW$84,0)","v":{"$error":"#N/A"}},{"$f":"MATCH($AF$4,Millwall!$AH$84:$AW$84,0)","v":{"$error":"#N/A"}},{"$f":"MATCH($AG$4,Millwall!$AH$84:$AW$84,0)","v":{"$error":"#N/A"}},{"$f":"MATCH($AH$4,Millwall!$AH$84:$AW$84,0)","v":8},{"$f":"MATCH($AI$4,Millwall!$AH$84:$AW$84,0)","v":4},{"$f":"MATCH($AJ$4,Millwall!$AH$84:$AW$84,0)","v":{"$error":"#N/A"}},{"$f":"MATCH($AK$4,Millwall!$AH$84:$AW$84,0)","v":{"$error":"#N/A"}},{"$f":"MATCH($AL$4,Millwall!$AH$84:$AW$84,0)","v":3},{"$f":"MATCH($AM$4,Millwall!$AH$84:$AW$84,0)","v":{"$error":"#N/A"}},{"$f":"MATCH($AN$4,Millwall!$AH$84:$AW$84,0)","v":11},{"$f":"MATCH($AO$4,Millwall!$AH$84:$AW$84,0)","v":{"$error":"#N/A"}},{"$f":"MATCH($AP$4,Millwall!$AH$84:$AW$84,0)","v":{"$error":"#N/A"}},{"$f":"MATCH($AQ$4,Millwall!$AH$84:$AW$84,0)","v":{"$error":"#N/A"}},{"$f":"MATCH($AR$4,Millwall!$AH$84:$AW$84,0)","v":6},{"$f":"MATCH($AS$4,Millwall!$AH$84:$AW$84,0)","v":{"$error":"#N/A"}},{"$f":"MATCH($AT$4,Millwall!$AH$84:$AW$84,0)","v":5},{"$f":"MATCH($AU$4,Millwall!$AH$84:$AW$84,0)","v":{"$error":"#N/A"}},{"$f":"MATCH($AV$4,Millwall!$AH$84:$AW$84,0)","v":{"$error":"#N/A"}},null,null,null,null,null,{"$f":"MATCH(BB$3,Millwall!$AH84:$AW84,0)","v":{"$error":"#N/A"}},{"$f":"MATCH(BC$3,Millwall!$AH84:$AW84,0)","v":{"$error":"#N/A"}},{"$f":"MATCH(BD$3,Millwall!$AH84:$AW84,0)","v":{"$error":"#N/A"}},{"$f":"MATCH(BE$3,Millwall!$AH84:$AW84,0)","v":{"$error":"#N/A"}},{"$f":"MATCH(BF$3,Millwall!$AH84:$AW84,0)","v":{"$error":"#N/A"}},{"$f":"MATCH(BG$3,Millwall!$AH84:$AW84,0)","v":{"$error":"#N/A"}},{"$f":"MATCH(BH$3,Millwall!$AH84:$AW84,0)","v":{"$error":"#N/A"}},{"$f":"MATCH(BI$3,Millwall!$AH84:$AW84,0)","v":{"$error":"#N/A"}},{"$f":"MATCH(BJ$3,Millwall!$AH84:$AW84,0)","v":{"$error":"#N/A"}},{"$f":"MATCH(BK$3,Millwall!$AH84:$AW84,0)","v":{"$error":"#N/A"}},{"$f":"MATCH(BL$3,Millwall!$AH84:$AW84,0)","v":{"$error":"#N/A"}},{"$f":"MATCH(BM$3,Millwall!$AH84:$AW84,0)","v":{"$error":"#N/A"}},{"$f":"MATCH(BN$3,Millwall!$AH84:$AW84,0)","v":{"$error":"#N/A"}},{"$f":"MATCH(BO$3,Millwall!$AH84:$AW84,0)","v":{"$error":"#N/A"}},{"$f":"MATCH(BP$3,Millwall!$AH84:$AW84,0)","v":{"$error":"#N/A"}},{"$f":"MATCH(BQ$3,Millwall!$AH84:$AW84,0)","v":{"$error":"#N/A"}},{"$f":"MATCH(BR$3,Millwall!$AH84:$AW84,0)","v":{"$error":"#N/A"}},{"$f":"MATCH(BS$3,Millwall!$AH84:$AW84,0)","v":{"$error":"#N/A"}},{"$f":"MATCH(BT$3,Millwall!$AH84:$AW84,0)","v":{"$error":"#N/A"}},{"$f":"MATCH(BU$3,Millwall!$AH84:$AW84,0)","v":{"$error":"#N/A"}},{"$f":"MATCH(BV$3,Millwall!$AH84:$AW84,0)","v":{"$error":"#N/A"}},{"$f":"MATCH(BW$3,Millwall!$AH84:$AW84,0)","v":{"$error":"#N/A"}},{"$f":"MATCH(BX$3,Millwall!$AH84:$AW84,0)","v":{"$error":"#N/A"}},{"$f":"MATCH(BY$3,Millwall!$AH84:$AW84,0)","v":{"$error":"#N/A"}},{"$f":"MATCH(BZ$3,Millwall!$AH84:$AW84,0)","v":{"$error":"#N/A"}},{"$f":"MATCH(CA$3,Millwall!$AH84:$AW84,0)","v":{"$error":"#N/A"}},{"$f":"MATCH(CB$3,Millwall!$AH84:$AW84,0)","v":{"$error":"#N/A"}},{"$f":"MATCH(CC$3,Millwall!$AH84:$AW84,0)","v":{"$error":"#N/A"}},{"$f":"MATCH(CD$3,Millwall!$AH84:$AW84,0)","v":{"$error":"#N/A"}},{"$f":"MATCH(CE$3,Millwall!$AH84:$AW84,0)","v":{"$error":"#N/A"}},{"$f":"MATCH(CF$3,Millwall!$AH84:$AW84,0)","v":{"$error":"#N/A"}},{"$f":"MATCH(CG$3,Millwall!$AH84:$AW84,0)","v":{"$error":"#N/A"}},{"$f":"MATCH(CH$3,Millwall!$AH84:$AW84,0)","v":{"$error":"#N/A"}},{"$f":"MATCH(CI$3,Millwall!$AH84:$AW84,0)","v":{"$error":"#N/A"}},{"$f":"MATCH(CJ$3,Millwall!$AH84:$AW84,0)","v":{"$error":"#N/A"}},{"$f":"MATCH(CK$3,Millwall!$AH84:$AW84,0)","v":{"$error":"#N/A"}},{"$f":"MATCH(CL$3,Millwall!$AH84:$AW84,0)","v":{"$error":"#N/A"}},{"$f":"MATCH(CM$3,Millwall!$AH84:$AW84,0)","v":{"$error":"#N/A"}},null,null,{"$f":"MATCH($CP$3,Millwall!$AH$84:$AW$84,0)","v":{"$error":"#N/A"}},{"$f":"MATCH($CQ$3,Millwall!$AH$84:$AW$84,0)","v":{"$error":"#N/A"}},{"$f":"MATCH($CR$3,Millwall!$AH$84:$AW$84,0)","v":{"$error":"#N/A"}},{"$f":"MATCH($CS$3,Millwall!$AH$84:$AW$84,0)","v":{"$error":"#N/A"}},{"$f":"MATCH($CT$3,Millwall!$AH$84:$AW$84,0)","v":{"$error":"#N/A"}},{"$f":"MATCH($CU$3,Millwall!$AH$84:$AW$84,0)","v":{"$error":"#N/A"}},{"$f":"MATCH($CV$3,Millwall!$AH$84:$AW$84,0)","v":{"$error":"#N/A"}},{"$f":"MATCH($CW$3,Millwall!$AH$84:$AW$84,0)","v":{"$error":"#N/A"}},{"$f":"MATCH($CX$3,Millwall!$AH$84:$AW$84,0)","v":{"$error":"#N/A"}},{"$f":"MATCH($CY$3,Millwall!$AH$84:$AW$84,0)","v":{"$error":"#N/A"}},{"$f":"MATCH($CZ$3,Millwall!$AH$84:$AW$84,0)","v":{"$error":"#N/A"}},{"$f":"MATCH($DA$3,Millwall!$AH$84:$AW$84,0)","v":{"$error":"#N/A"}},{"$f":"MATCH($DB$3,Millwall!$AH$84:$AW$84,0)","v":{"$error":"#N/A"}},{"$f":"MATCH($DC$3,Millwall!$AH$84:$AW$84,0)","v":{"$error":"#N/A"}},{"$f":"MATCH($DD$3,Millwall!$AH$84:$AW$84,0)","v":{"$error":"#N/A"}},{"$f":"MATCH($DE$3,Millwall!$AH$84:$AW$84,0)","v":13},{"$f":"MATCH($DF$3,Millwall!$AH$84:$AW$84,0)","v":{"$error":"#N/A"}},{"$f":"MATCH($DG$3,Millwall!$AH$84:$AW$84,0)","v":{"$error":"#N/A"}},{"$f":"MATCH($DH$3,Millwall!$AH$84:$AW$84,0)","v":{"$error":"#N/A"}},{"$f":"MATCH($DI$3,Millwall!$AH$84:$AW$84,0)","v":{"$error":"#N/A"}},{"$f":"MATCH($DJ$3,Millwall!$AH$84:$AW$84,0)","v":{"$error":"#N/A"}},{"$f":"MATCH($DK$3,Millwall!$AH$84:$AW$84,0)","v":{"$error":"#N/A"}},{"$f":"MATCH($DL$3,Millwall!$AH$84:$AW$84,0)","v":{"$error":"#N/A"}},{"$f":"MATCH($DM$3,Millwall!$AH$84:$AW$84,0)","v":{"$error":"#N/A"}},{"$f":"MATCH($DN$3,Millwall!$AH$84:$AW$84,0)","v":4},{"$f":"MATCH($DO$3,Millwall!$AH$84:$AW$84,0)","v":{"$error":"#N/A"}},{"$f":"MATCH($DP$3,Millwall!$AH$84:$AW$84,0)","v":{"$error":"#N/A"}},{"$f":"MATCH($DQ$3,Millwall!$AH$84:$AW$84,0)","v":{"$error":"#N/A"}},{"$f":"MATCH($DR$3,Millwall!$AH$84:$AW$84,0)","v":{"$error":"#N/A"}},{"$f":"MATCH($DS$3,Millwall!$AH$84:$AW$84,0)","v":{"$error":"#N/A"}},{"$f":"MATCH($DT$3,Millwall!$AH$84:$AW$84,0)","v":{"$error":"#N/A"}},{"$f":"MATCH($DU$3,Millwall!$AH$84:$AW$84,0)","v":{"$error":"#N/A"}},{"$f":"MATCH($DV$3,Millwall!$AH$84:$AW$84,0)","v":{"$error":"#N/A"}},{"$f":"MATCH($DW$3,Millwall!$AH$84:$AW$84,0)","v":{"$error":"#N/A"}},{"$f":"MATCH($DX$3,Millwall!$AH$84:$AW$84,0)","v":{"$error":"#N/A"}},{"$f":"MATCH($DY$3,Millwall!$AH$84:$AW$84,0)","v":{"$error":"#N/A"}},{"$f":"MATCH($DZ$3,Millwall!$AH$84:$AW$84,0)","v":{"$error":"#N/A"}},{"$f":"MATCH($EA$3,Millwall!$AH$84:$AW$84,0)","v":{"$error":"#N/A"}},null,null,{"$f":"MATCH(ED$3,Millwall!$AH$84:$AW$84,0)","v":{"$error":"#N/A"}},{"$f":"MATCH(EE$3,Millwall!$AH$84:$AW$84,0)","v":{"$error":"#N/A"}},{"$f":"MATCH(EF$3,Millwall!$AH$84:$AW$84,0)","v":{"$error":"#N/A"}},{"$f":"MATCH(EG$3,Millwall!$AH$84:$AW$84,0)","v":{"$error":"#N/A"}},{"$f":"MATCH(EH$3,Millwall!$AH$84:$AW$84,0)","v":{"$error":"#N/A"}},{"$f":"MATCH(EI$3,Millwall!$AH$84:$AW$84,0)","v":{"$error":"#N/A"}},{"$f":"MATCH(EJ$3,Millwall!$AH$84:$AW$84,0)","v":{"$error":"#N/A"}},{"$f":"MATCH(EK$3,Millwall!$AH$84:$AW$84,0)","v":{"$error":"#N/A"}},{"$f":"MATCH(EL$3,Millwall!$AH$84:$AW$84,0)","v":{"$error":"#N/A"}},{"$f":"MATCH(EM$3,Millwall!$AH$84:$AW$84,0)","v":{"$error":"#N/A"}},{"$f":"MATCH(EN$3,Millwall!$AH$84:$AW$84,0)","v":{"$error":"#N/A"}},{"$f":"MATCH(EO$3,Millwall!$AH$84:$AW$84,0)","v":{"$error":"#N/A"}},{"$f":"MATCH(EP$3,Millwall!$AH$84:$AW$84,0)","v":{"$error":"#N/A"}},{"$f":"MATCH(EQ$3,Millwall!$AH$84:$AW$84,0)","v":{"$error":"#N/A"}},{"$f":"MATCH(ER$3,Millwall!$AH$84:$AW$84,0)","v":{"$error":"#N/A"}},{"$f":"MATCH(ES$3,Millwall!$AH$84:$AW$84,0)","v":{"$error":"#N/A"}},{"$f":"MATCH(ET$3,Millwall!$AH$84:$AW$84,0)","v":14},{"$f":"MATCH(EU$3,Millwall!$AH$84:$AW$84,0)","v":{"$error":"#N/A"}},{"$f":"MATCH(EV$3,Millwall!$AH$84:$AW$84,0)","v":{"$error":"#N/A"}},{"$f":"MATCH(EW$3,Millwall!$AH$84:$AW$84,0)","v":{"$error":"#N/A"}},{"$f":"MATCH(EX$3,Millwall!$AH$84:$AW$84,0)","v":{"$error":"#N/A"}},{"$f":"MATCH(EY$3,Millwall!$AH$84:$AW$84,0)","v":{"$error":"#N/A"}},{"$f":"MATCH(EZ$3,Millwall!$AH$84:$AW$84,0)","v":{"$error":"#N/A"}},{"$f":"MATCH(FA$3,Millwall!$AH$84:$AW$84,0)","v":8},{"$f":"MATCH(FB$3,Millwall!$AH$84:$AW$84,0)","v":{"$error":"#N/A"}},{"$f":"MATCH(FC$3,Millwall!$AH$84:$AW$84,0)","v":{"$error":"#N/A"}},{"$f":"MATCH(FD$3,Millwall!$AH$84:$AW$84,0)","v":{"$error":"#N/A"}},{"$f":"MATCH(FE$3,Millwall!$AH$84:$AW$84,0)","v":{"$error":"#N/A"}},{"$f":"MATCH(FF$3,Millwall!$AH$84:$AW$84,0)","v":{"$error":"#N/A"}},{"$f":"MATCH(FG$3,Millwall!$AH$84:$AW$84,0)","v":{"$error":"#N/A"}},{"$f":"MATCH(FH$3,Millwall!$AH$84:$AW$84,0)","v":{"$error":"#N/A"}},{"$f":"MATCH(FI$3,Millwall!$AH$84:$AW$84,0)","v":{"$error":"#N/A"}},{"$f":"MATCH(FJ$3,Millwall!$AH$84:$AW$84,0)","v":{"$error":"#N/A"}},{"$f":"MATCH(FK$3,Millwall!$AH$84:$AW$84,0)","v":{"$error":"#N/A"}},{"$f":"MATCH(FL$3,Millwall!$AH$84:$AW$84,0)","v":{"$error":"#N/A"}},{"$f":"MATCH(FM$3,Millwall!$AH$84:$AW$84,0)","v":{"$error":"#N/A"}},{"$f":"MATCH(FN$3,Millwall!$AH$84:$AW$84,0)","v":{"$error":"#N/A"}},{"$f":"MATCH(FO$3,Millwall!$AH$84:$AW$84,0)","v":{"$error":"#N/A"}},null,null,null,null,null,null,{"$f":"$FX$14&\" {**\"","v":"Dair {**"},{"$f":"$FX$14&\" [**\"","v":"Dair [**"},{"$f":"Millwall!$BY69","v":"Dair"},"Dair (**",{"$f":"$FX$14&\"**\"","v":"Dair**"},null,{"$f":"$FX$14","v":"Dair"},{"$f":"$FY$14","v":"Dair (**"},{"$f":"$FZ$14","v":"Dair**"},null,{"$f":"Millwall!CC15","v":3},{"$f":"Millwall!CH15","v":1},{"$f":"Millwall!CR15","v":0},{"$f":"Millwall!CW15","v":2}]
[null,null,0,11,null,{"$f":"Millwall!AD85","v":"1996-10-05"},null,{"$f":"Millwall!AE85","v":"Plymouth"},{"$f":"Millwall!AF85","v":"(A)"},{"$f":"Millwall!AG85","v":"D 0-0"},{"$f":"MATCH($K$4,Millwall!$AH$85:$AW$85,0)","v":{"$error":"#N/A"}},{"$f":"MATCH($L$4,Millwall!$AH$85:$AW$85,0)","v":{"$error":"#N/A"}},{"$f":"MATCH($M$4,Millwall!$AH$85:$AW$85,0)","v":{"$error":"#N/A"}},{"$f":"MATCH($N$4,Millwall!$AH$85:$AW$85,0)","v":7},{"$f":"MATCH($O$4,Millwall!$AH$85:$AW$85,0)","v":{"$error":"#N/A"}},{"$f":"MATCH($P$4,Millwall!$AH$85:$AW$85,0)","v":{"$error":"#N/A"}},{"$f":"MATCH($Q$4,Millwall!$AH$85:$AW$85,0)","v":{"$error":"#N/A"}},{"$f":"MATCH($R$4,Millwall!$AH$85:$AW$85,0)","v":1},{"$f":"MATCH($S$4,Millwall!$AH$85:$AW$85,0)","v":{"$error":"#N/A"}},{"$f":"MATCH($T$4,Millwall!$AH$85:$AW$85,0)","v":11},{"$f":"MATCH($U$4,Millwall!$AH$85:$AW$85,0)","v":10},{"$f":"MATCH($V$4,Millwall!$AH$85:$AW$85,0)","v":2},{"$f":"MATCH($W$4,Millwall!$AH$85:$AW$85,0)","v":{"$error":"#N/A"}},{"$f":"MATCH($X$4,Millwall!$AH$85:$AW$85,0)","v":{"$error":"#N/A"}},{"$f":"MATCH($Y$4,Millwall!$AH$85:$AW$85,0)","v":5},{"$f":"MATCH($Z$4,Millwall!$AH$85:$AW$85,0)","v":9},{"$f":"MATCH($AA$4,Millwall!$AH$85:$AW$85,0)","v":14},{"$f":"MATCH($AB$4,Millwall!$AH$85:$AW$85,0)","v":{"$error":"#N/A"}},{"$f":"MATCH($AC$4,Millwall!$AH$85:$AW$85,0)","v":{"$error":"#N/A"}},{"$f":"MATCH($AD$4,Millwall!$AH$85:$AW$85,0)","v":{"$error":"#N/A"}},{"$f":"MATCH($AE$4,Millwall!$AH$85:$AW$85,0)","v":{"$error":"#N/A"}},{"$f":"MATCH($AF$4,Millwall!$AH$85:$AW$85,0)","v":{"$error":"#N/A"}},{"$f":"MATCH($AG$4,Millwall!$AH$85:$AW$85,0)","v":{"$error":"#N/A"}},{"$f":"MATCH($AH$4,Millwall!$AH$85:$AW$85,0)","v":8},{"$f":"MATCH($AI$4,Millwall!$AH$85:$AW$85,0)","v":12},{"$f":"MATCH($AJ$4,Millwall!$AH$85:$AW$85,0)","v":13},{"$f":"MATCH($AK$4,Millwall!$AH$85:$AW$85,0)","v":{"$error":"#N/A"}},{"$f":"MATCH($AL$4,Millwall!$AH$85:$AW$85,0)","v":3},{"$f":"MATCH($AM$4,Millwall!$AH$85:$AW$85,0)","v":{"$error":"#N/A"}},{"$f":"MATCH($AN$4,Millwall!$AH$85:$AW$85,0)","v":6},{"$f":"MATCH($AO$4,Millwall!$AH$85:$AW$85,0)","v":{"$error":"#N/A"}},{"$f":"MATCH($AP$4,Millwall!$AH$85:$AW$85,0)","v":{"$error":"#N/A"}},{"$f":"MATCH($AQ$4,Millwall!$AH$85:$AW$85,0)","v":{"$error":"#N/A"}},{"$f":"MATCH($AR$4,Millwall!$AH$85:$AW$85,0)","v":4},{"$f":"MATCH($AS$4,Millwall!$AH$85:$AW$85,0)","v":{"$error":"#N/A"}},{"$f":"MATCH($AT$4,Millwall!$AH$85:$AW$85,0)","v":{"$error":"#N/A"}},{"$f":"MATCH($AU$4,Millwall!$AH$85:$AW$85,0)","v":{"$error":"#N/A"}},{"$f":"MATCH($AV$4,Millwall!$AH$85:$AW$85,0)","v":{"$error":"#N/A"}},null,null,null,null,null,{"$f":"MATCH(BB$3,Millwall!$AH85:$AW85,0)","v":{"$error":"#N/A"}},{"$f":"MATCH(BC$3,Millwall!$AH85:$AW85,0)","v":{"$error":"#N/A"}},{"$f":"MATCH(BD$3,Millwall!$AH85:$AW85,0)","v":{"$error":"#N/A"}},{"$f":"MATCH(BE$3,Millwall!$AH85:$AW85,0)","v":{"$error":"#N/A"}},{"$f":"MATCH(BF$3,Millwall!$AH85:$AW85,0)","v":{"$error":"#N/A"}},{"$f":"MATCH(BG$3,Millwall!$AH85:$AW85,0)","v":{"$error":"#N/A"}},{"$f":"MATCH(BH$3,Millwall!$AH85:$AW85,0)","v":{"$error":"#N/A"}},{"$f":"MATCH(BI$3,Millwall!$AH85:$AW85,0)","v":{"$error":"#N/A"}},{"$f":"MATCH(BJ$3,Millwall!$AH85:$AW85,0)","v":{"$error":"#N/A"}},{"$f":"MATCH(BK$3,Millwall!$AH85:$AW85,0)","v":{"$error":"#N/A"}},{"$f":"MATCH(BL$3,Millwall!$AH85:$AW85,0)","v":{"$error":"#N/A"}},{"$f":"MATCH(BM$3,Millwall!$AH85:$AW85,0)","v":{"$error":"#N/A"}},{"$f":"MATCH(BN$3,Millwall!$AH85:$AW85,0)","v":{"$error":"#N/A"}},{"$f":"MATCH(BO$3,Millwall!$AH85:$AW85,0)","v":{"$error":"#N/A"}},{"$f":"MATCH(BP$3,Millwall!$AH85:$AW85,0)","v":{"$error":"#N/A"}},{"$f":"MATCH(BQ$3,Millwall!$AH85:$AW85,0)","v":{"$error":"#N/A"}},{"$f":"MATCH(BR$3,Millwall!$AH85:$AW85,0)","v":{"$error":"#N/A"}},{"$f":"MATCH(BS$3,Millwall!$AH85:$AW85,0)","v":{"$error":"#N/A"}},{"$f":"MATCH(BT$3,Millwall!$AH85:$AW85,0)","v":{"$error":"#N/A"}},{"$f":"MATCH(BU$3,Millwall!$AH85:$AW85,0)","v":{"$error":"#N/A"}},{"$f":"MATCH(BV$3,Millwall!$AH85:$AW85,0)","v":{"$error":"#N/A"}},{"$f":"MATCH(BW$3,Millwall!$AH85:$AW85,0)","v":{"$error":"#N/A"}},{"$f":"MATCH(BX$3,Millwall!$AH85:$AW85,0)","v":{"$error":"#N/A"}},{"$f":"MATCH(BY$3,Millwall!$AH85:$AW85,0)","v":{"$error":"#N/A"}},{"$f":"MATCH(BZ$3,Millwall!$AH85:$AW85,0)","v":12},{"$f":"MATCH(CA$3,Millwall!$AH85:$AW85,0)","v":{"$error":"#N/A"}},{"$f":"MATCH(CB$3,Millwall!$AH85:$AW85,0)","v":{"$error":"#N/A"}},{"$f":"MATCH(CC$3,Millwall!$AH85:$AW85,0)","v":3},{"$f":"MATCH(CD$3,Millwall!$AH85:$AW85,0)","v":{"$error":"#N/A"}},{"$f":"MATCH(CE$3,Millwall!$AH85:$AW85,0)","v":{"$error":"#N/A"}},{"$f":"MATCH(CF$3,Millwall!$AH85:$AW85,0)","v":{"$error":"#N/A"}},{"$f":"MATCH(CG$3,Millwall!$AH85:$AW85,0)","v":{"$error":"#N/A"}},{"$f":"MATCH(CH$3,Millwall!$AH85:$AW85,0)","v":{"$error":"#N/A"}},{"$f":"MATCH(CI$3,Millwall!$AH85:$AW85,0)","v":{"$error":"#N/A"}},{"$f":"MATCH(CJ$3,Millwall!$AH85:$AW85,0)","v":{"$error":"#N/A"}},{"$f":"MATCH(CK$3,Millwall!$AH85:$AW85,0)","v":{"$error":"#N/A"}},{"$f":"MATCH(CL$3,Millwall!$AH85:$AW85,0)","v":{"$error":"#N/A"}},{"$f":"MATCH(CM$3,Millwall!$AH85:$AW85,0)","v":{"$error":"#N/A"}},null,null,{"$f":"MATCH($CP$3,Millwall!$AH$85:$AW$85,0)","v":{"$error":"#N/A"}},{"$f":"MATCH($CQ$3,Millwall!$AH$85:$AW$85,0)","v":{"$error":"#N/A"}},{"$f":"MATCH($CR$3,Millwall!$AH$85:$AW$85,0)","v":{"$error":"#N/A"}},{"$f":"MATCH($CS$3,Millwall!$AH$85:$AW$85,0)","v":{"$error":"#N/A"}},{"$f":"MATCH($CT$3,Millwall!$AH$85:$AW$85,0)","v":{"$error":"#N/A"}},{"$f":"MATCH($CU$3,Millwall!$AH$85:$AW$85,0)","v":{"$error":"#N/A"}},{"$f":"MATCH($CV$3,Millwall!$AH$85:$AW$85,0)","v":{"$error":"#N/A"}},{"$f":"MATCH($CW$3,Millwall!$AH$85:$AW$85,0)","v":{"$error":"#N/A"}},{"$f":"MATCH($CX$3,Millwall!$AH$85:$AW$85,0)","v":{"$error":"#N/A"}},{"$f":"MATCH($CY$3,Millwall!$AH$85:$AW$85,0)","v":11},{"$f":"MATCH($CZ$3,Millwall!$AH$85:$AW$85,0)","v":{"$error":"#N/A"}},{"$f":"MATCH($DA$3,Millwall!$AH$85:$AW$85,0)","v":{"$error":"#N/A"}},{"$f":"MATCH($DB$3,Millwall!$AH$85:$AW$85,0)","v":{"$error":"#N/A"}},{"$f":"MATCH($DC$3,Millwall!$AH$85:$AW$85,0)","v":{"$error":"#N/A"}},{"$f":"MATCH($DD$3,Millwall!$AH$85:$AW$85,0)","v":{"$error":"#N/A"}},{"$f":"MATCH($DE$3,Millwall!$AH$85:$AW$85,0)","v":{"$error":"#N/A"}},{"$f":"MATCH($DF$3,Millwall!$AH$85:$AW$85,0)","v":{"$error":"#N/A"}},{"$f":"MATCH($DG$3,Millwall!$AH$85:$AW$85,0)","v":{"$error":"#N/A"}},{"$f":"MATCH($DH$3,Millwall!$AH$85:$AW$85,0)","v":{"$error":"#N/A"}},{"$f":"MATCH($DI$3,Millwall!$AH$85:$AW$85,0)","v":{"$error":"#N/A"}},{"$f":"MATCH($DJ$3,Millwall!$AH$85:$AW$85,0)","v":{"$error":"#N/A"}},{"$f":"MATCH($DK$3,Millwall!$AH$85:$AW$85,0)","v":{"$error":"#N/A"}},{"$f":"MATCH($DL$3,Millwall!$AH$85:$AW$85,0)","v":{"$error":"#N/A"}},{"$f":"MATCH($DM$3,Millwall!$AH$85:$AW$85,0)","v":{"$error":"#N/A"}},{"$f":"MATCH($DN$3,Millwall!$AH$85:$AW$85,0)","v":{"$error":"#N/A"}},{"$f":"MATCH($DO$3,Millwall!$AH$85:$AW$85,0)","v":13},{"$f":"MATCH($DP$3,Millwall!$AH$85:$AW$85,0)","v":{"$error":"#N/A"}},{"$f":"MATCH($DQ$3,Millwall!$AH$85:$AW$85,0)","v":{"$error":"#N/A"}},{"$f":"MATCH($DR$3,Millwall!$AH$85:$AW$85,0)","v":{"$error":"#N/A"}},{"$f":"MATCH($DS$3,Millwall!$AH$85:$AW$85,0)","v":{"$error":"#N/A"}},{"$f":"MATCH($DT$3,Millwall!$AH$85:$AW$85,0)","v":{"$error":"#N/A"}},{"$f":"MATCH($DU$3,Millwall!$AH$85:$AW$85,0)","v":{"$error":"#N/A"}},{"$f":"MATCH($DV$3,Millwall!$AH$85:$AW$85,0)","v":{"$error":"#N/A"}},{"$f":"MATCH($DW$3,Millwall!$AH$85:$AW$85,0)","v":{"$error":"#N/A"}},{"$f":"MATCH($DX$3,Millwall!$AH$85:$AW$85,0)","v":{"$error":"#N/A"}},{"$f":"MATCH($DY$3,Millwall!$AH$85:$AW$85,0)","v":{"$error":"#N/A"}},{"$f":"MATCH($DZ$3,Millwall!$AH$85:$AW$85,0)","v":{"$error":"#N/A"}},{"$f":"MATCH($EA$3,Millwall!$AH$85:$AW$85,0)","v":{"$error":"#N/A"}},null,null,{"$f":"MATCH(ED$3,Millwall!$AH$85:$AW$85,0)","v":{"$error":"#N/A"}},{"$f":"MATCH(EE$3,Millwall!$AH$85:$AW$85,0)","v":{"$error":"#N/A"}},{"$f":"MATCH(EF$3,Millwall!$AH$85:$AW$85,0)","v":{"$error":"#N/A"}},{"$f":"MATCH(EG$3,Millwall!$AH$85:$AW$85,0)","v":{"$error":"#N/A"}},{"$f":"MATCH(EH$3,Millwall!$AH$85:$AW$85,0)","v":{"$error":"#N/A"}},{"$f":"MATCH(EI$3,Millwall!$AH$85:$AW$85,0)","v":{"$error":"#N/A"}},{"$f":"MATCH(EJ$3,Millwall!$AH$85:$AW$85,0)","v":{"$error":"#N/A"}},{"$f":"MATCH(EK$3,Millwall!$AH$85:$AW$85,0)","v":{"$error":"#N/A"}},{"$f":"MATCH(EL$3,Millwall!$AH$85:$AW$85,0)","v":{"$error":"#N/A"}},{"$f":"MATCH(EM$3,Millwall!$AH$85:$AW$85,0)","v":{"$error":"#N/A"}},{"$f":"MATCH(EN$3,Millwall!$AH$85:$AW$85,0)","v":{"$error":"#N/A"}},{"$f":"MATCH(EO$3,Millwall!$AH$85:$AW$85,0)","v":{"$error":"#N/A"}},{"$f":"MATCH(EP$3,Millwall!$AH$85:$AW$85,0)","v":{"$error":"#N/A"}},{"$f":"MATCH(EQ$3,Millwall!$AH$85:$AW$85,0)","v":{"$error":"#N/A"}},{"$f":"MATCH(ER$3,Millwall!$AH$85:$AW$85,0)","v":{"$error":"#N/A"}},{"$f":"MATCH(ES$3,Millwall!$AH$85:$AW$85,0)","v":{"$error":"#N/A"}},{"$f":"MATCH(ET$3,Millwall!$AH$85:$AW$85,0)","v":14},{"$f":"MATCH(EU$3,Millwall!$AH$85:$AW$85,0)","v":{"$error":"#N/A"}},{"$f":"MATCH(EV$3,Millwall!$AH$85:$AW$85,0)","v":{"$error":"#N/A"}},{"$f":"MATCH(EW$3,Millwall!$AH$85:$AW$85,0)","v":{"$error":"#N/A"}},{"$f":"MATCH(EX$3,Millwall!$AH$85:$AW$85,0)","v":{"$error":"#N/A"}},{"$f":"MATCH(EY$3,Millwall!$AH$85:$AW$85,0)","v":{"$error":"#N/A"}},{"$f":"MATCH(EZ$3,Millwall!$AH$85:$AW$85,0)","v":{"$error":"#N/A"}},{"$f":"MATCH(FA$3,Millwall!$AH$85:$AW$85,0)","v":{"$error":"#N/A"}},{"$f":"MATCH(FB$3,Millwall!$AH$85:$AW$85,0)","v":{"$error":"#N/A"}},{"$f":"MATCH(FC$3,Millwall!$AH$85:$AW$85,0)","v":{"$error":"#N/A"}},{"$f":"MATCH(FD$3,Millwall!$AH$85:$AW$85,0)","v":{"$error":"#N/A"}},{"$f":"MATCH(FE$3,Millwall!$AH$85:$AW$85,0)","v":{"$error":"#N/A"}},{"$f":"MATCH(FF$3,Millwall!$AH$85:$AW$85,0)","v":{"$error":"#N/A"}},{"$f":"MATCH(FG$3,Millwall!$AH$85:$AW$85,0)","v":{"$error":"#N/A"}},{"$f":"MATCH(FH$3,Millwall!$AH$85:$AW$85,0)","v":{"$error":"#N/A"}},{"$f":"MATCH(FI$3,Millwall!$AH$85:$AW$85,0)","v":{"$error":"#N/A"}},{"$f":"MATCH(FJ$3,Millwall!$AH$85:$AW$85,0)","v":{"$error":"#N/A"}},{"$f":"MATCH(FK$3,Millwall!$AH$85:$AW$85,0)","v":4},{"$f":"MATCH(FL$3,Millwall!$AH$85:$AW$85,0)","v":{"$error":"#N/A"}},{"$f":"MATCH(FM$3,Millwall!$AH$85:$AW$85,0)","v":{"$error":"#N/A"}},{"$f":"MATCH(FN$3,Millwall!$AH$85:$AW$85,0)","v":{"$error":"#N/A"}},{"$f":"MATCH(FO$3,Millwall!$AH$85:$AW$85,0)","v":{"$error":"#N/A"}},null,null,null,null,null,null,{"$f":"$FX$15&\" {**\"","v":"Dolby {**"},{"$f":"$FX$15&\" [**\"","v":"Dolby [**"},{"$f":"Millwall!$BY70","v":"Dolby"},"Dolby (**",{"$f":"$FX$15&\"**\"","v":"Dolby**"},null,{"$f":"$FX$15","v":"Dolby"},{"$f":"$FY$15","v":"Dolby (**"},{"$f":"$FZ$15","v":"Dolby**"},null,{"$f":"Millwall!CC16","v":2},{"$f":"Millwall!CH16","v":2},{"$f":"Millwall!CR16","v":0},{"$f":"Millwall!CW16","v":0}]
[null,null,0,12,null,{"$f":"Millwall!AD86","v":"1996-10-12"},null,{"$f":"Millwall!AE86","v":"Chesterfield"},{"$f":"Millwall!AF86","v":"(H)"},{"$f":"Millwall!AG86","v":"W 2-1"},{"$f":"MATCH($K$4,Millwall!$AH$86:$AW$86,0)","v":{"$error":"#N/A"}},{"$f":"MATCH($L$4,Millwall!$AH$86:$AW$86,0)","v":{"$error":"#N/A"}},{"$f":"MATCH($M$4,Millwall!$AH$86:$AW$86,0)","v":{"$error":"#N/A"}},{"$f":"MATCH($N$4,Millwall!$AH$86:$AW$86,0)","v":7},{"$f":"MATCH($O$4,Millwall!$AH$86:$AW$86,0)","v":{"$error":"#N/A"}},{"$f":"MATCH($P$4,Millwall!$AH$86:$AW$86,0)","v":{"$error":"#N/A"}},{"$f":"MATCH($Q$4,Millwall!$AH$86:$AW$86,0)","v":{"$error":"#N/A"}},{"$f":"MATCH($R$4,Millwall!$AH$86:$AW$86,0)","v":1},{"$f":"MATCH($S$4,Millwall!$AH$86:$AW$86,0)","v":9},{"$f":"MATCH($T$4,Millwall!$AH$86:$AW$86,0)","v":13},{"$f":"MATCH($U$4,Millwall!$AH$86:$AW$86,0)","v":10},{"$f":"MATCH($V$4,Millwall!$AH$86:$AW$86,0)","v":12},{"$f":"MATCH($W$4,Millwall!$AH$86:$AW$86,0)","v":6},{"$f":"MATCH($X$4,Millwall!$AH$86:$AW$86,0)","v":{"$error":"#N/A"}},{"$f":"MATCH($Y$4,Millwall!$AH$86:$AW$86,0)","v":14},{"$f":"MATCH($Z$4,Millwall!$AH$86:$AW$86,0)","v":11},{"$f":"MATCH($AA$4,Millwall!$AH$86:$AW$86,0)","v":{"$error":"#N/A"}},{"$f":"MATCH($AB$4,Millwall!$AH$86:$AW$86,0)","v":{"$error":"#N/A"}},{"$f":"MATCH($AC$4,Millwall!$AH$86:$AW$86,0)","v":{"$error":"#N/A"}},{"$f":"MATCH($AD$4,Millwall!$AH$86:$AW$86,0)","v":{"$error":"#N/A"}},{"$f":"MATCH($AE$4,Millwall!$AH$86:$AW$86,0)","v":{"$error":"#N/A"}},{"$f":"MATCH($AF$4,Millwall!$AH$86:$AW$86,0)","v":{"$error":"#N/A"}},{"$f":"MATCH($AG$4,Millwall!$AH$86:$AW$86,0)","v":{"$error":"#N/A"}},{"$f":"MATCH($AH$4,Millwall!$AH$86:$AW$86,0)","v":8},{"$f":"MATCH($AI$4,Millwall!$AH$86:$AW$86,0)","v":2},{"$f":"MATCH($AJ$4,Millwall!$AH$86:$AW$86,0)","v":{"$error":"#N/A"}},{"$f":"MATCH($AK$4,Millwall!$AH$86:$AW$86,0)","v":{"$error":"#N/A"}},{"$f":"MATCH($AL$4,Millwall!$AH$86:$AW$86,0)","v":3},{"$f":"MATCH($AM$4,Millwall!$AH$86:$AW$86,0)","v":{"$error":"#N/A"}},{"$f":"MATCH($AN$4,Millwall!$AH$86:$AW$86,0)","v":4},{"$f":"MATCH($AO$4,Millwall!$AH$86:$AW$86,0)","v":{"$error":"#N/A"}},{"$f":"MATCH($AP$4,Millwall!$AH$86:$AW$86,0)","v":{"$error":"#N/A"}},{"$f":"MATCH($AQ$4,Millwall!$AH$86:$AW$86,0)","v":{"$error":"#N/A"}},{"$f":"MATCH($AR$4,Millwall!$AH$86:$AW$86,0)","v":{"$error":"#N/A"}},{"$f":"MATCH($AS$4,Millwall!$AH$86:$AW$86,0)","v":{"$error":"#N/A"}},{"$f":"MATCH($AT$4,Millwall!$AH$86:$AW$86,0)","v":5},{"$f":"MATCH($AU$4,Millwall!$AH$86:$AW$86,0)","v":{"$error":"#N/A"}},{"$f":"MATCH($AV$4,Millwall!$AH$86:$AW$86,0)","v":{"$error":"#N/A"}},null,null,null,null,null,{"$f":"MATCH(BB$3,Millwall!$AH86:$AW86,0)","v":{"$error":"#N/A"}},{"$f":"MATCH(BC$3,Millwall!$AH86:$AW86,0)","v":{"$error":"#N/A"}},{"$f":"MATCH(BD$3,Millwall!$AH86:$AW86,0)","v":{"$error":"#N/A"}},{"$f":"MATCH(BE$3,Millwall!$AH86:$AW86,0)","v":{"$error":"#N/A"}},{"$f":"MATCH(BF$3,Millwall!$AH86:$AW86,0)","v":{"$error":"#N/A"}},{"$f":"MATCH(BG$3,Millwall!$AH86:$AW86,0)","v":{"$error":"#N/A"}},{"$f":"MATCH(BH$3,Millwall!$AH86:$AW86,0)","v":{"$error":"#N/A"}},{"$f":"MATCH(BI$3,Millwall!$AH86:$AW86,0)","v":{"$error":"#N/A"}},{"$f":"MATCH(BJ$3,Millwall!$AH86:$AW86,0)","v":{"$error":"#N/A"}},{"$f":"MATCH(BK$3,Millwall!$AH86:$AW86,0)","v":{"$error":"#N/A"}},{"$f":"MATCH(BL$3,Millwall!$AH86:$AW86,0)","v":{"$error":"#N/A"}},{"$f":"MATCH(BM$3,Millwall!$AH86:$AW86,0)","v":12},{"$f":"MATCH(BN$3,Millwall!$AH86:$AW86,0)","v":{"$error":"#N/A"}},{"$f":"MATCH(BO$3,Millwall!$AH86:$AW86,0)","v":{"$error":"#N/A"}},{"$f":"MATCH(BP$3,Millwall!$AH86:$AW86,0)","v":{"$error":"#N/A"}},{"$f":"MATCH(BQ$3,Millwall!$AH86:$AW86,0)","v":{"$error":"#N/A"}},{"$f":"MATCH(BR$3,Millwall!$AH86:$AW86,0)","v":{"$error":"#N/A"}},{"$f":"MATCH(BS$3,Millwall!$AH86:$AW86,0)","v":{"$error":"#N/A"}},{"$f":"MATCH(BT$3,Millwall!$AH86:$AW86,0)","v":{"$error":"#N/A"}},{"$f":"MATCH(BU$3,Millwall!$AH86:$AW86,0)","v":{"$error":"#N/A"}},{"$f":"MATCH(BV$3,Millwall!$AH86:$AW86,0)","v":{"$error":"#N/A"}},{"$f":"MATCH(BW$3,Millwall!$AH86:$AW86,0)","v":{"$error":"#N/A"}},{"$f":"MATCH(BX$3,Millwall!$AH86:$AW86,0)","v":{"$error":"#N/A"}},{"$f":"MATCH(BY$3,Millwall!$AH86:$AW86,0)","v":{"$error":"#N/A"}},{"$f":"MATCH(BZ$3,Millwall!$AH86:$AW86,0)","v":{"$error":"#N/A"}},{"$f":"MATCH(CA$3,Millwall!$AH86:$AW86,0)","v":{"$error":"#N/A"}},{"$f":"MATCH(CB$3,Millwall!$AH86:$AW86,0)","v":{"$error":"#N/A"}},{"$f":"MATCH(CC$3,Millwall!$AH86:$AW86,0)","v":{"$error":"#N/A"}},{"$f":"MATCH(CD$3,Millwall!$AH86:$AW86,0)","v":{"$error":"#N/A"}},{"$f":"MATCH(CE$3,Millwall!$AH86:$AW86,0)","v":4},{"$f":"MATCH(CF$3,Millwall!$AH86:$AW86,0)","v":{"$error":"#N/A"}},{"$f":"MATCH(CG$3,Millwall!$AH86:$AW86,0)","v":{"$error":"#N/A"}},{"$f":"MATCH(CH$3,Millwall!$AH86:$AW86,0)","v":{"$error":"#N/A"}},{"$f":"MATCH(CI$3,Millwall!$AH86:$AW86,0)","v":{"$error":"#N/A"}},{"$f":"MATCH(CJ$3,Millwall!$AH86:$AW86,0)","v":{"$error":"#N/A"}},{"$f":"MATCH(CK$3,Millwall!$AH86:$AW86,0)","v":{"$error":"#N/A"}},{"$f":"MATCH(CL$3,Millwall!$AH86:$AW86,0)","v":{"$error":"#N/A"}},{"$f":"MATCH(CM$3,Millwall!$AH86:$AW86,0)","v":{"$error":"#N/A"}},null,null,{"$f":"MATCH($CP$3,Millwall!$AH$86:$AW$86,0)","v":{"$error":"#N/A"}},{"$f":"MATCH($CQ$3,Millwall!$AH$86:$AW$86,0)","v":{"$error":"#N/A"}},{"$f":"MATCH($CR$3,Millwall!$AH$86:$AW$86,0)","v":{"$error":"#N/A"}},{"$f":"MATCH($CS$3,Millwall!$AH$86:$AW$86,0)","v":{"$error":"#N/A"}},{"$f":"MATCH($CT$3,Millwall!$AH$86:$AW$86,0)","v":{"$error":"#N/A"}},{"$f":"MATCH($CU$3,Millwall!$AH$86:$AW$86,0)","v":{"$error":"#N/A"}},{"$f":"MATCH($CV$3,Millwall!$AH$86:$AW$86,0)","v":{"$error":"#N/A"}},{"$f":"MATCH($CW$3,Millwall!$AH$86:$AW$86,0)","v":{"$error":"#N/A"}},{"$f":"MATCH($CX$3,Millwall!$AH$86:$AW$86,0)","v":{"$error":"#N/A"}},{"$f":"MATCH($CY$3,Millwall!$AH$86:$AW$86,0)","v":{"$error":"#N/A"}},{"$f":"MATCH($CZ$3,Millwall!$AH$86:$AW$86,0)","v":{"$error":"#N/A"}},{"$f":"MATCH($DA$3,Millwall!$AH$86:$AW$86,0)","v":{"$error":"#N/A"}},{"$f":"MATCH($DB$3,Millwall!$AH$86:$AW$86,0)","v":{"$error":"#N/A"}},{"$f":"MATCH($DC$3,Millwall!$AH$86:$AW$86,0)","v":{"$error":"#N/A"}},{"$f":"MATCH($DD$3,Millwall!$AH$86:$AW$86,0)","v":{"$error":"#N/A"}},{"$f":"MATCH($DE$3,Millwall!$AH$86:$AW$86,0)","v":{"$error":"#N/A"}},{"$f":"MATCH($DF$3,Millwall!$AH$86:$AW$86,0)","v":{"$error":"#N/A"}},{"$f":"MATCH($DG$3,Millwall!$AH$86:$AW$86,0)","v":{"$error":"#N/A"}},{"$f":"MATCH($DH$3,Millwall!$AH$86:$AW$86,0)","v":{"$error":"#N/A"}},{"$f":"MATCH($DI$3,Millwall!$AH$86:$AW$86,0)","v":{"$error":"#N/A"}},{"$f":"MATCH($DJ$3,Millwall!$AH$86:$AW$86,0)","v":{"$error":"#N/A"}},{"$f":"MATCH($DK$3,Millwall!$AH$86:$AW$86,0)","v":{"$error":"#N/A"}},{"$f":"MATCH($DL$3,Millwall!$AH$86:$AW$86,0)","v":{"$error":"#N/A"}},{"$f":"MATCH($DM$3,Millwall!$AH$86:$AW$86,0)","v":{"$error":"#N/A"}},{"$f":"MATCH($DN$3,Millwall!$AH$86:$AW$86,0)","v":{"$error":"#N/A"}},{"$f":"MATCH($DO$3,Millwall!$AH$86:$AW$86,0)","v":{"$error":"#N/A"}},{"$f":"MATCH($DP$3,Millwall!$AH$86:$AW$86,0)","v":{"$error":"#N/A"}},{"$f":"MATCH($DQ$3,Millwall!$AH$86:$AW$86,0)","v":{"$error":"#N/A"}},{"$f":"MATCH($DR$3,Millwall!$AH$86:$AW$86,0)","v":{"$error":"#N/A"}},{"$f":"MATCH($DS$3,Millwall!$AH$86:$AW$86,0)","v":{"$error":"#N/A"}},{"$f":"MATCH($DT$3,Millwall!$AH$86:$AW$86,0)","v":{"$error":"#N/A"}},{"$f":"MATCH($DU$3,Millwall!$AH$86:$AW$86,0)","v":{"$error":"#N/A"}},{"$f":"MATCH($DV$3,Millwall!$AH$86:$AW$86,0)","v":{"$error":"#N/A"}},{"$f":"MATCH($DW$3,Millwall!$AH$86:$AW$86,0)","v":{"$error":"#N/A"}},{"$f":"MATCH($DX$3,Millwall!$AH$86:$AW$86,0)","v":{"$error":"#N/A"}},{"$f":"MATCH($DY$3,Millwall!$AH$86:$AW$86,0)","v":{"$error":"#N/A"}},{"$f":"MATCH($DZ$3,Millwall!$AH$86:$AW$86,0)","v":{"$error":"#N/A"}},{"$f":"MATCH($EA$3,Millwall!$AH$86:$AW$86,0)","v":{"$error":"#N/A"}},null,null,{"$f":"MATCH(ED$3,Millwall!$AH$86:$AW$86,0)","v":{"$error":"#N/A"}},{"$f":"MATCH(EE$3,Millwall!$AH$86:$AW$86,0)","v":{"$error":"#N/A"}},{"$f":"MATCH(EF$3,Millwall!$AH$86:$AW$86,0)","v":{"$error":"#N/A"}},{"$f":"MATCH(EG$3,Millwall!$AH$86:$AW$86,0)","v":{"$error":"#N/A"}},{"$f":"MATCH(EH$3,Millwall!$AH$86:$AW$86,0)","v":{"$error":"#N/A"}},{"$f":"MATCH(EI$3,Millwall!$AH$86:$AW$86,0)","v":{"$error":"#N/A"}},{"$f":"MATCH(EJ$3,Millwall!$AH$86:$AW$86,0)","v":{"$error":"#N/A"}},{"$f":"MATCH(EK$3,Millwall!$AH$86:$AW$86,0)","v":{"$error":"#N/A"}},{"$f":"MATCH(EL$3,Millwall!$AH$86:$AW$86,0)","v":{"$error":"#N/A"}},{"$f":"MATCH(EM$3,Millwall!$AH$86:$AW$86,0)","v":{"$error":"#N/A"}},{"$f":"MATCH(EN$3,Millwall!$AH$86:$AW$86,0)","v":{"$error":"#N/A"}},{"$f":"MATCH(EO$3,Millwall!$AH$86:$AW$86,0)","v":{"$error":"#N/A"}},{"$f":"MATCH(EP$3,Millwall!$AH$86:$AW$86,0)","v":{"$error":"#N/A"}},{"$f":"MATCH(EQ$3,Millwall!$AH$86:$AW$86,0)","v":{"$error":"#N/A"}},{"$f":"MATCH(ER$3,Millwall!$AH$86:$AW$86,0)","v":{"$error":"#N/A"}},{"$f":"MATCH(ES$3,Millwall!$AH$86:$AW$86,0)","v":{"$error":"#N/A"}},{"$f":"MATCH(ET$3,Millwall!$AH$86:$AW$86,0)","v":{"$error":"#N/A"}},{"$f":"MATCH(EU$3,Millwall!$AH$86:$AW$86,0)","v":{"$error":"#N/A"}},{"$f":"MATCH(EV$3,Millwall!$AH$86:$AW$86,0)","v":{"$error":"#N/A"}},{"$f":"MATCH(EW$3,Millwall!$AH$86:$AW$86,0)","v":{"$error":"#N/A"}},{"$f":"MATCH(EX$3,Millwall!$AH$86:$AW$86,0)","v":{"$error":"#N/A"}},{"$f":"MATCH(EY$3,Millwall!$AH$86:$AW$86,0)","v":{"$error":"#N/A"}},{"$f":"MATCH(EZ$3,Millwall!$AH$86:$AW$86,0)","v":{"$error":"#N/A"}},{"$f":"MATCH(FA$3,Millwall!$AH$86:$AW$86,0)","v":{"$error":"#N/A"}},{"$f":"MATCH(FB$3,Millwall!$AH$86:$AW$86,0)","v":{"$error":"#N/A"}},{"$f":"MATCH(FC$3,Millwall!$AH$86:$AW$86,0)","v":{"$error":"#N/A"}},{"$f":"MATCH(FD$3,Millwall!$AH$86:$AW$86,0)","v":{"$error":"#N/A"}},{"$f":"MATCH(FE$3,Millwall!$AH$86:$AW$86,0)","v":{"$error":"#N/A"}},{"$f":"MATCH(FF$3,Millwall!$AH$86:$AW$86,0)","v":{"$error":"#N/A"}},{"$f":"MATCH(FG$3,Millwall!$AH$86:$AW$86,0)","v":{"$error":"#N/A"}},{"$f":"MATCH(FH$3,Millwall!$AH$86:$AW$86,0)","v":{"$error":"#N/A"}},{"$f":"MATCH(FI$3,Millwall!$AH$86:$AW$86,0)","v":{"$error":"#N/A"}},{"$f":"MATCH(FJ$3,Millwall!$AH$86:$AW$86,0)","v":{"$error":"#N/A"}},{"$f":"MATCH(FK$3,Millwall!$AH$86:$AW$86,0)","v":{"$error":"#N/A"}},{"$f":"MATCH(FL$3,Millwall!$AH$86:$AW$86,0)","v":{"$error":"#N/A"}},{"$f":"MATCH(FM$3,Millwall!$AH$86:$AW$86,0)","v":{"$error":"#N/A"}},{"$f":"MATCH(FN$3,Millwall!$AH$86:$AW$86,0)","v":{"$error":"#N/A"}},{"$f":"MATCH(FO$3,Millwall!$AH$86:$AW$86,0)","v":{"$error":"#N/A"}},null,null,null,null,null,null,{"$f":"$FX$16&\" {**\"","v":"Doyle {**"},{"$f":"$FX$16&\" [**\"","v":"Doyle [**"},{"$f":"Millwall!$BY71","v":"Doyle"},"Doyle (**",{"$f":"$FX$16&\"**\"","v":"Doyle**"},null,{"$f":"$FX$16","v":"Doyle"},{"$f":"$FY$16","v":"Doyle (**"},{"$f":"$FZ$16","v":"Doyle**"},null,{"$f":"Millwall!CC17","v":1},{"$f":"Millwall!CH17","v":1},{"$f":"Millwall!CR17","v":0},{"$f":"Millwall!CW17","v":0}]
[null,null,0,13,null,{"$f":"Millwall!AD87","v":"1996-10-16"},null,{"$f":"Millwall!AE87","v":"Bury"},{"$f":"Millwall!AF87","v":"(H)"},{"$f":"Millwall!AG87","v":"W 1-0"},{"$f":"MATCH($K$4,Millwall!$AH$87:$AW$87,0)","v":{"$error":"#N/A"}},{"$f":"MATCH($L$4,Millwall!$AH$87:$AW$87,0)","v":{"$error":"#N/A"}},{"$f":"MATCH($M$4,Millwall!$AH$87:$AW$87,0)","v":{"$error":"#N/A"}},{"$f":"MATCH($N$4,Millwall!$AH$87:$AW$87,0)","v":7},{"$f":"MATCH($O$4,Millwall!$AH$87:$AW$87,0)","v":{"$error":"#N/A"}},{"$f":"MATCH($P$4,Millwall!$AH$87:$AW$87,0)","v":{"$error":"#N/A"}},{"$f":"MATCH($Q$4,Millwall!$AH$87:$AW$87,0)","v":{"$error":"#N/A"}},{"$f":"MATCH($R$4,Millwall!$AH$87:$AW$87,0)","v":1},{"$f":"MATCH($S$4,Millwall!$AH$87:$AW$87,0)","v":9},{"$f":"MATCH($T$4,Millwall!$AH$87:$AW$87,0)","v":13},{"$f":"MATCH($U$4,Millwall!$AH$87:$AW$87,0)","v":11},{"$f":"MATCH($V$4,Millwall!$AH$87:$AW$87,0)","v":12},{"$f":"MATCH($W$4,Millwall!$AH$87:$AW$87,0)","v":6},{"$f":"MATCH($X$4,Millwall!$AH$87:$AW$87,0)","v":{"$error":"#N/A"}},{"$f":"MATCH($Y$4,Millwall!$AH$87:$AW$87,0)","v":14},{"$f":"MATCH($Z$4,Millwall!$AH$87:$AW$87,0)","v":10},{"$f":"MATCH($AA$4,Millwall!$AH$87:$AW$87,0)","v":{"$error":"#N/A"}},{"$f":"MATCH($AB$4,Millwall!$AH$87:$AW$87,0)","v":{"$error":"#N/A"}},{"$f":"MATCH($AC$4,Millwall!$AH$87:$AW$87,0)","v":{"$error":"#N/A"}},{"$f":"MATCH($AD$4,Millwall!$AH$87:$AW$87,0)","v":{"$error":"#N/A"}},{"$f":"MATCH($AE$4,Millwall!$AH$87:$AW$87,0)","v":{"$error":"#N/A"}},{"$f":"MATCH($AF$4,Millwall!$AH$87:$AW$87,0)","v":{"$error":"#N/A"}},{"$f":"MATCH($AG$4,Millwall!$AH$87:$AW$87,0)","v":{"$error":"#N/A"}},{"$f":"MATCH($AH$4,Millwall!$AH$87:$AW$87,0)","v":8},{"$f":"MATCH($AI$4,Millwall!$AH$87:$AW$87,0)","v":2},{"$f":"MATCH($AJ$4,Millwall!$AH$87:$AW$87,0)","v":{"$error":"#N/A"}},{"$f":"MATCH($AK$4,Millwall!$AH$87:$AW$87,0)","v":{"$error":"#N/A"}},{"$f":"MATCH($AL$4,Millwall!$AH$87:$AW$87,0)","v":3},{"$f":"MATCH($AM$4,Millwall!$AH$87:$AW$87,0)","v":{"$error":"#N/A"}},{"$f":"MATCH($AN$4,Millwall!$AH$87:$AW$87,0)","v":4},{"$f":"MATCH($AO$4,Millwall!$AH$87:$AW$87,0)","v":{"$error":"#N/A"}},{"$f":"MATCH($AP$4,Millwall!$AH$87:$AW$87,0)","v":{"$error":"#N/A"}},{"$f":"MATCH($AQ$4,Millwall!$AH$87:$AW$87,0)","v":{"$error":"#N/A"}},{"$f":"MATCH($AR$4,Millwall!$AH$87:$AW$87,0)","v":{"$error":"#N/A"}},{"$f":"MATCH($AS$4,Millwall!$AH$87:$AW$87,0)","v":{"$error":"#N/A"}},{"$f":"MATCH($AT$4,Millwall!$AH$87:$AW$87,0)","v":5},{"$f":"MATCH($AU$4,Millwall!$AH$87:$AW$87,0)","v":{"$error":"#N/A"}},{"$f":"MATCH($AV$4,Millwall!$AH$87:$AW$87,0)","v":{"$error":"#N/A"}},null,null,null,null,null,{"$f":"MATCH(BB$3,Millwall!$AH87:$AW87,0)","v":{"$error":"#N/A"}},{"$f":"MATCH(BC$3,Millwall!$AH87:$AW87,0)","v":{"$error":"#N/A"}},{"$f":"MATCH(BD$3,Millwall!$AH87:$AW87,0)","v":{"$error":"#N/A"}},{"$f":"MATCH(BE$3,Millwall!$AH87:$AW87,0)","v":{"$error":"#N/A"}},{"$f":"MATCH(BF$3,Millwall!$AH87:$AW87,0)","v":{"$error":"#N/A"}},{"$f":"MATCH(BG$3,Millwall!$AH87:$AW87,0)","v":{"$error":"#N/A"}},{"$f":"MATCH(BH$3,Millwall!$AH87:$AW87,0)","v":{"$error":"#N/A"}},{"$f":"MATCH(BI$3,Millwall!$AH87:$AW87,0)","v":{"$error":"#N/A"}},{"$f":"MATCH(BJ$3,Millwall!$AH87:$AW87,0)","v":{"$error":"#N/A"}},{"$f":"MATCH(BK$3,Millwall!$AH87:$AW87,0)","v":{"$error":"#N/A"}},{"$f":"MATCH(BL$3,Millwall!$AH87:$AW87,0)","v":{"$error":"#N/A"}},{"$f":"MATCH(BM$3,Millwall!$AH87:$AW87,0)","v":{"$error":"#N/A"}},{"$f":"MATCH(BN$3,Millwall!$AH87:$AW87,0)","v":{"$error":"#N/A"}},{"$f":"MATCH(BO$3,Millwall!$AH87:$AW87,0)","v":{"$error":"#N/A"}},{"$f":"MATCH(BP$3,Millwall!$AH87:$AW87,0)","v":{"$error":"#N/A"}},{"$f":"MATCH(BQ$3,Millwall!$AH87:$AW87,0)","v":{"$error":"#N/A"}},{"$f":"MATCH(BR$3,Millwall!$AH87:$AW87,0)","v":{"$error":"#N/A"}},{"$f":"MATCH(BS$3,Millwall!$AH87:$AW87,0)","v":{"$error":"#N/A"}},{"$f":"MATCH(BT$3,Millwall!$AH87:$AW87,0)","v":{"$error":"#N/A"}},{"$f":"MATCH(BU$3,Millwall!$AH87:$AW87,0)","v":{"$error":"#N/A"}},{"$f":"MATCH(BV$3,Millwall!$AH87:$AW87,0)","v":{"$error":"#N/A"}},{"$f":"MATCH(BW$3,Millwall!$AH87:$AW87,0)","v":{"$error":"#N/A"}},{"$f":"MATCH(BX$3,Millwall!$AH87:$AW87,0)","v":{"$error":"#N/A"}},{"$f":"MATCH(BY$3,Millwall!$AH87:$AW87,0)","v":{"$error":"#N/A"}},{"$f":"MATCH(BZ$3,Millwall!$AH87:$AW87,0)","v":{"$error":"#N/A"}},{"$f":"MATCH(CA$3,Millwall!$AH87:$AW87,0)","v":{"$error":"#N/A"}},{"$f":"MATCH(CB$3,Millwall!$AH87:$AW87,0)","v":{"$error":"#N/A"}},{"$f":"MATCH(CC$3,Millwall!$AH87:$AW87,0)","v":{"$error":"#N/A"}},{"$f":"MATCH(CD$3,Millwall!$AH87:$AW87,0)","v":{"$error":"#N/A"}},{"$f":"MATCH(CE$3,Millwall!$AH87:$AW87,0)","v":{"$error":"#N/A"}},{"$f":"MATCH(CF$3,Millwall!$AH87:$AW87,0)","v":{"$error":"#N/A"}},{"$f":"MATCH(CG$3,Millwall!$AH87:$AW87,0)","v":{"$error":"#N/A"}},{"$f":"MATCH(CH$3,Millwall!$AH87:$AW87,0)","v":{"$error":"#N/A"}},{"$f":"MATCH(CI$3,Millwall!$AH87:$AW87,0)","v":{"$error":"#N/A"}},{"$f":"MATCH(CJ$3,Millwall!$AH87:$AW87,0)","v":{"$error":"#N/A"}},{"$f":"MATCH(CK$3,Millwall!$AH87:$AW87,0)","v":{"$error":"#N/A"}},{"$f":"MATCH(CL$3,Millwall!$AH87:$AW87,0)","v":{"$error":"#N/A"}},{"$f":"MATCH(CM$3,Millwall!$AH87:$AW87,0)","v":{"$error":"#N/A"}},null,null,{"$f":"MATCH($CP$3,Millwall!$AH$87:$AW$87,0)","v":{"$error":"#N/A"}},{"$f":"MATCH($CQ$3,Millwall!$AH$87:$AW$87,0)","v":{"$error":"#N/A"}},{"$f":"MATCH($CR$3,Millwall!$AH$87:$AW$87,0)","v":{"$error":"#N/A"}},{"$f":"MATCH($CS$3,Millwall!$AH$87:$AW$87,0)","v":{"$error":"#N/A"}},{"$f":"MATCH($CT$3,Millwall!$AH$87:$AW$87,0)","v":{"$error":"#N/A"}},{"$f":"MATCH($CU$3,Millwall!$AH$87:$AW$87,0)","v":{"$error":"#N/A"}},{"$f":"MATCH($CV$3,Millwall!$AH$87:$AW$87,0)","v":{"$error":"#N/A"}},{"$f":"MATCH($CW$3,Millwall!$AH$87:$AW$87,0)","v":{"$error":"#N/A"}},{"$f":"MATCH($CX$3,Millwall!$AH$87:$AW$87,0)","v":{"$error":"#N/A"}},{"$f":"MATCH($CY$3,Millwall!$AH$87:$AW$87,0)","v":13},{"$f":"MATCH($CZ$3,Millwall!$AH$87:$AW$87,0)","v":{"$error":"#N/A"}},{"$f":"MATCH($DA$3,Millwall!$AH$87:$AW$87,0)","v":{"$error":"#N/A"}},{"$f":"MATCH($DB$3,Millwall!$AH$87:$AW$87,0)","v":{"$error":"#N/A"}},{"$f":"MATCH($DC$3,Millwall!$AH$87:$AW$87,0)","v":{"$error":"#N/A"}},{"$f":"MATCH($DD$3,Millwall!$AH$87:$AW$87,0)","v":{"$error":"#N/A"}},{"$f":"MATCH($DE$3,Millwall!$AH$87:$AW$87,0)","v":{"$error":"#N/A"}},{"$f":"MATCH($DF$3,Millwall!$AH$87:$AW$87,0)","v":{"$error":"#N/A"}},{"$f":"MATCH($DG$3,Millwall!$AH$87:$AW$87,0)","v":{"$error":"#N/A"}},{"$f":"MATCH($DH$3,Millwall!$AH$87:$AW$87,0)","v":{"$error":"#N/A"}},{"$f":"MATCH($DI$3,Millwall!$AH$87:$AW$87,0)","v":{"$error":"#N/A"}},{"$f":"MATCH($DJ$3,Millwall!$AH$87:$AW$87,0)","v":{"$error":"#N/A"}},{"$f":"MATCH($DK$3,Millwall!$AH$87:$AW$87,0)","v":{"$error":"#N/A"}},{"$f":"MATCH($DL$3,Millwall!$AH$87:$AW$87,0)","v":{"$error":"#N/A"}},{"$f":"MATCH($DM$3,Millwall!$AH$87:$AW$87,0)","v":{"$error":"#N/A"}},{"$f":"MATCH($DN$3,Millwall!$AH$87:$AW$87,0)","v":{"$error":"#N/A"}},{"$f":"MATCH($DO$3,Millwall!$AH$87:$AW$87,0)","v":{"$error":"#N/A"}},{"$f":"MATCH($DP$3,Millwall!$AH$87:$AW$87,0)","v":{"$error":"#N/A"}},{"$f":"MATCH($DQ$3,Millwall!$AH$87:$AW$87,0)","v":{"$error":"#N/A"}},{"$f":"MATCH($DR$3,Millwall!$AH$87:$AW$87,0)","v":{"$error":"#N/A"}},{"$f":"MATCH($DS$3,Millwall!$AH$87:$AW$87,0)","v":4},{"$f":"MATCH($DT$3,Millwall!$AH$87:$AW$87,0)","v":{"$error":"#N/A"}},{"$f":"MATCH($DU$3,Millwall!$AH$87:$AW$87,0)","v":{"$error":"#N/A"}},{"$f":"MATCH($DV$3,Millwall!$AH$87:$AW$87,0)","v":{"$error":"#N/A"}},{"$f":"MATCH($DW$3,Millwall!$AH$87:$AW$87,0)","v":{"$error":"#N/A"}},{"$f":"MATCH($DX$3,Millwall!$AH$87:$AW$87,0)","v":{"$error":"#N/A"}},{"$f":"MATCH($DY$3,Millwall!$AH$87:$AW$87,0)","v":{"$error":"#N/A"}},{"$f":"MATCH($DZ$3,Millwall!$AH$87:$AW$87,0)","v":{"$error":"#N/A"}},{"$f":"MATCH($EA$3,Millwall!$AH$87:$AW$87,0)","v":{"$error":"#N/A"}},null,null,{"$f":"MATCH(ED$3,Millwall!$AH$87:$AW$87,0)","v":{"$error":"#N/A"}},{"$f":"MATCH(EE$3,Millwall!$AH$87:$AW$87,0)","v":{"$error":"#N/A"}},{"$f":"MATCH(EF$3,Millwall!$AH$87:$AW$87,0)","v":{"$error":"#N/A"}},{"$f":"MATCH(EG$3,Millwall!$AH$87:$AW$87,0)","v":{"$error":"#N/A"}},{"$f":"MATCH(EH$3,Millwall!$AH$87:$AW$87,0)","v":{"$error":"#N/A"}},{"$f":"MATCH(EI$3,Millwall!$AH$87:$AW$87,0)","v":{"$error":"#N/A"}},{"$f":"MATCH(EJ$3,Millwall!$AH$87:$AW$87,0)","v":{"$error":"#N/A"}},{"$f":"MATCH(EK$3,Millwall!$AH$87:$AW$87,0)","v":{"$error":"#N/A"}},{"$f":"MATCH(EL$3,Millwall!$AH$87:$AW$87,0)","v":{"$error":"#N/A"}},{"$f":"MATCH(EM$3,Millwall!$AH$87:$AW$87,0)","v":{"$error":"#N/A"}},{"$f":"MATCH(EN$3,Millwall!$AH$87:$AW$87,0)","v":11},{"$f":"MATCH(EO$3,Millwall!$AH$87:$AW$87,0)","v":{"$error":"#N/A"}},{"$f":"MATCH(EP$3,Millwall!$AH$87:$AW$87,0)","v":{"$error":"#N/A"}},{"$f":"MATCH(EQ$3,Millwall!$AH$87:$AW$87,0)","v":{"$error":"#N/A"}},{"$f":"MATCH(ER$3,Millwall!$AH$87:$AW$87,0)","v":14},{"$f":"MATCH(ES$3,Millwall!$AH$87:$AW$87,0)","v":{"$error":"#N/A"}},{"$f":"MATCH(ET$3,Millwall!$AH$87:$AW$87,0)","v":{"$error":"#N/A"}},{"$f":"MATCH(EU$3,Millwall!$AH$87:$AW$87,0)","v":{"$error":"#N/A"}},{"$f":"MATCH(EV$3,Millwall!$AH$87:$AW$87,0)","v":{"$error":"#N/A"}},{"$f":"MATCH(EW$3,Millwall!$AH$87:$AW$87,0)","v":{"$error":"#N/A"}},{"$f":"MATCH(EX$3,Millwall!$AH$87:$AW$87,0)","v":{"$error":"#N/A"}},{"$f":"MATCH(EY$3,Millwall!$AH$87:$AW$87,0)","v":{"$error":"#N/A"}},{"$f":"MATCH(EZ$3,Millwall!$AH$87:$AW$87,0)","v":{"$error":"#N/A"}},{"$f":"MATCH(FA$3,Millwall!$AH$87:$AW$87,0)","v":{"$error":"#N/A"}},{"$f":"MATCH(FB$3,Millwall!$AH$87:$AW$87,0)","v":{"$error":"#N/A"}},{"$f":"MATCH(FC$3,Millwall!$AH$87:$AW$87,0)","v":{"$error":"#N/A"}},{"$f":"MATCH(FD$3,Millwall!$AH$87:$AW$87,0)","v":{"$error":"#N/A"}},{"$f":"MATCH(FE$3,Millwall!$AH$87:$AW$87,0)","v":{"$error":"#N/A"}},{"$f":"MATCH(FF$3,Millwall!$AH$87:$AW$87,0)","v":{"$error":"#N/A"}},{"$f":"MATCH(FG$3,Millwall!$AH$87:$AW$87,0)","v":{"$error":"#N/A"}},{"$f":"MATCH(FH$3,Millwall!$AH$87:$AW$87,0)","v":{"$error":"#N/A"}},{"$f":"MATCH(FI$3,Millwall!$AH$87:$AW$87,0)","v":{"$error":"#N/A"}},{"$f":"MATCH(FJ$3,Millwall!$AH$87:$AW$87,0)","v":{"$error":"#N/A"}},{"$f":"MATCH(FK$3,Millwall!$AH$87:$AW$87,0)","v":{"$error":"#N/A"}},{"$f":"MATCH(FL$3,Millwall!$AH$87:$AW$87,0)","v":{"$error":"#N/A"}},{"$f":"MATCH(FM$3,Millwall!$AH$87:$AW$87,0)","v":{"$error":"#N/A"}},{"$f":"MATCH(FN$3,Millwall!$AH$87:$AW$87,0)","v":{"$error":"#N/A"}},{"$f":"MATCH(FO$3,Millwall!$AH$87:$AW$87,0)","v":{"$error":"#N/A"}},null,null,null,null,null,null,{"$f":"$FX$17&\" {**\"","v":"Fitzgerald {**"},{"$f":"$FX$17&\" [**\"","v":"Fitzgerald [**"},{"$f":"Millwall!$BY72","v":"Fitzgerald"},"Fitzgerald (**",{"$f":"$FX$17&\"**\"","v":"Fitzgerald**"},null,{"$f":"$FX$17","v":"Fitzgerald"},{"$f":"$FY$17","v":"Fitzgerald (**"},{"$f":"$FZ$17","v":"Fitzgerald**"},null,{"$f":"Millwall!CC18","v":0},{"$f":"Millwall!CH18","v":0},{"$f":"Millwall!CR18","v":0},{"$f":"Millwall!CW18","v":0}]
[null,null,0,14,null,{"$f":"Millwall!AD88","v":"1996-10-19"},null,{"$f":"Millwall!AE88","v":"Gillingham"},{"$f":"Millwall!AF88","v":"(A)"},{"$f":"Millwall!AG88","v":"W 3-2"},{"$f":"MATCH($K$4,Millwall!$AH$88:$AW$88,0)","v":{"$error":"#N/A"}},{"$f":"MATCH($L$4,Millwall!$AH$88:$AW$88,0)","v":{"$error":"#N/A"}},{"$f":"MATCH($M$4,Millwall!$AH$88:$AW$88,0)","v":{"$error":"#N/A"}},{"$f":"MATCH($N$4,Millwall!$AH$88:$AW$88,0)","v":7},{"$f":"MATCH($O$4,Millwall!$AH$88:$AW$88,0)","v":{"$error":"#N/A"}},{"$f":"MATCH($P$4,Millwall!$AH$88:$AW$88,0)","v":{"$error":"#N/A"}},{"$f":"MATCH($Q$4,Millwall!$AH$88:$AW$88,0)","v":{"$error":"#N/A"}},{"$f":"MATCH($R$4,Millwall!$AH$88:$AW$88,0)","v":1},{"$f":"MATCH($S$4,Millwall!$AH$88:$AW$88,0)","v":9},{"$f":"MATCH($T$4,Millwall!$AH$88:$AW$88,0)","v":13},{"$f":"MATCH($U$4,Millwall!$AH$88:$AW$88,0)","v":11},{"$f":"MATCH($V$4,Millwall!$AH$88:$AW$88,0)","v":12},{"$f":"MATCH($W$4,Millwall!$AH$88:$AW$88,0)","v":6},{"$f":"MATCH($X$4,Millwall!$AH$88:$AW$88,0)","v":{"$error":"#N/A"}},{"$f":"MATCH($Y$4,Millwall!$AH$88:$AW$88,0)","v":14},{"$f":"MATCH($Z$4,Millwall!$AH$88:$AW$88,0)","v":10},{"$f":"MATCH($AA$4,Millwall!$AH$88:$AW$88,0)","v":{"$error":"#N/A"}},{"$f":"MATCH($AB$4,Millwall!$AH$88:$AW$88,0)","v":{"$error":"#N/A"}},{"$f":"MATCH($AC$4,Millwall!$AH$88:$AW$88,0)","v":{"$error":"#N/A"}},{"$f":"MATCH($AD$4,Millwall!$AH$88:$AW$88,0)","v":{"$error":"#N/A"}},{"$f":"MATCH($AE$4,Millwall!$AH$88:$AW$88,0)","v":{"$error":"#N/A"}},{"$f":"MATCH($AF$4,Millwall!$AH$88:$AW$88,0)","v":{"$error":"#N/A"}},{"$f":"MATCH($AG$4,Millwall!$AH$88:$AW$88,0)","v":{"$error":"#N/A"}},{"$f":"MATCH($AH$4,Millwall!$AH$88:$AW$88,0)","v":8},{"$f":"MATCH($AI$4,Millwall!$AH$88:$AW$88,0)","v":2},{"$f":"MATCH($AJ$4,Millwall!$AH$88:$AW$88,0)","v":{"$error":"#N/A"}},{"$f":"MATCH($AK$4,Millwall!$AH$88:$AW$88,0)","v":{"$error":"#N/A"}},{"$f":"MATCH($AL$4,Millwall!$AH$88:$AW$88,0)","v":3},{"$f":"MATCH($AM$4,Millwall!$AH$88:$AW$88,0)","v":{"$error":"#N/A"}},{"$f":"MATCH($AN$4,Millwall!$AH$88:$AW$88,0)","v":4},{"$f":"MATCH($AO$4,Millwall!$AH$88:$AW$88,0)","v":{"$error":"#N/A"}},{"$f":"MATCH($AP$4,Millwall!$AH$88:$AW$88,0)","v":{"$error":"#N/A"}},{"$f":"MATCH($AQ$4,Millwall!$AH$88:$AW$88,0)","v":{"$error":"#N/A"}},{"$f":"MATCH($AR$4,Millwall!$AH$88:$AW$88,0)","v":{"$error":"#N/A"}},{"$f":"MATCH($AS$4,Millwall!$AH$88:$AW$88,0)","v":{"$error":"#N/A"}},{"$f":"MATCH($AT$4,Millwall!$AH$88:$AW$88,0)","v":5},{"$f":"MATCH($AU$4,Millwall!$AH$88:$AW$88,0)","v":{"$error":"#N/A"}},{"$f":"MATCH($AV$4,Millwall!$AH$88:$AW$88,0)","v":{"$error":"#N/A"}},null,null,null,null,null,{"$f":"MATCH(BB$3,Millwall!$AH88:$AW88,0)","v":{"$error":"#N/A"}},{"$f":"MATCH(BC$3,Millwall!$AH88:$AW88,0)","v":{"$error":"#N/A"}},{"$f":"MATCH(BD$3,Millwall!$AH88:$AW88,0)","v":{"$error":"#N/A"}},{"$f":"MATCH(BE$3,Millwall!$AH88:$AW88,0)","v":{"$error":"#N/A"}},{"$f":"MATCH(BF$3,Millwall!$AH88:$AW88,0)","v":{"$error":"#N/A"}},{"$f":"MATCH(BG$3,Millwall!$AH88:$AW88,0)","v":{"$error":"#N/A"}},{"$f":"MATCH(BH$3,Millwall!$AH88:$AW88,0)","v":{"$error":"#N/A"}},{"$f":"MATCH(BI$3,Millwall!$AH88:$AW88,0)","v":{"$error":"#N/A"}},{"$f":"MATCH(BJ$3,Millwall!$AH88:$AW88,0)","v":{"$error":"#N/A"}},{"$f":"MATCH(BK$3,Millwall!$AH88:$AW88,0)","v":{"$error":"#N/A"}},{"$f":"MATCH(BL$3,Millwall!$AH88:$AW88,0)","v":{"$error":"#N/A"}},{"$f":"MATCH(BM$3,Millwall!$AH88:$AW88,0)","v":{"$error":"#N/A"}},{"$f":"MATCH(BN$3,Millwall!$AH88:$AW88,0)","v":{"$error":"#N/A"}},{"$f":"MATCH(BO$3,Millwall!$AH88:$AW88,0)","v":{"$error":"#N/A"}},{"$f":"MATCH(BP$3,Millwall!$AH88:$AW88,0)","v":{"$error":"#N/A"}},{"$f":"MATCH(BQ$3,Millwall!$AH88:$AW88,0)","v":{"$error":"#N/A"}},{"$f":"MATCH(BR$3,Millwall!$AH88:$AW88,0)","v":{"$error":"#N/A"}},{"$f":"MATCH(BS$3,Millwall!$AH88:$AW88,0)","v":{"$error":"#N/A"}},{"$f":"MATCH(BT$3,Millwall!$AH88:$AW88,0)","v":{"$error":"#N/A"}},{"$f":"MATCH(BU$3,Millwall!$AH88:$AW88,0)","v":{"$error":"#N/A"}},{"$f":"MATCH(BV$3,Millwall!$AH88:$AW88,0)","v":{"$error":"#N/A"}},{"$f":"MATCH(BW$3,Millwall!$AH88:$AW88,0)","v":{"$error":"#N/A"}},{"$f":"MATCH(BX$3,Millwall!$AH88:$AW88,0)","v":{"$error":"#N/A"}},{"$f":"MATCH(BY$3,Millwall!$AH88:$AW88,0)","v":{"$error":"#N/A"}},{"$f":"MATCH(BZ$3,Millwall!$AH88:$AW88,0)","v":{"$error":"#N/A"}},{"$f":"MATCH(CA$3,Millwall!$AH88:$AW88,0)","v":{"$error":"#N/A"}},{"$f":"MATCH(CB$3,Millwall!$AH88:$AW88,0)","v":{"$error":"#N/A"}},{"$f":"MATCH(CC$3,Millwall!$AH88:$AW88,0)","v":{"$error":"#N/A"}},{"$f":"MATCH(CD$3,Millwall!$AH88:$AW88,0)","v":{"$error":"#N/A"}},{"$f":"MATCH(CE$3,Millwall!$AH88:$AW88,0)","v":{"$error":"#N/A"}},{"$f":"MATCH(CF$3,Millwall!$AH88:$AW88,0)","v":{"$error":"#N/A"}},{"$f":"MATCH(CG$3,Millwall!$AH88:$AW88,0)","v":{"$error":"#N/A"}},{"$f":"MATCH(CH$3,Millwall!$AH88:$AW88,0)","v":{"$error":"#N/A"}},{"$f":"MATCH(CI$3,Millwall!$AH88:$AW88,0)","v":{"$error":"#N/A"}},{"$f":"MATCH(CJ$3,Millwall!$AH88:$AW88,0)","v":{"$error":"#N/A"}},{"$f":"MATCH(CK$3,Millwall!$AH88:$AW88,0)","v":{"$error":"#N/A"}},{"$f":"MATCH(CL$3,Millwall!$AH88:$AW88,0)","v":{"$error":"#N/A"}},{"$f":"MATCH(CM$3,Millwall!$AH88:$AW88,0)","v":{"$error":"#N/A"}},null,null,{"$f":"MATCH($CP$3,Millwall!$AH$88:$AW$88,0)","v":{"$error":"#N/A"}},{"$f":"MATCH($CQ$3,Millwall!$AH$88:$AW$88,0)","v":{"$error":"#N/A"}},{"$f":"MATCH($CR$3,Millwall!$AH$88:$AW$88,0)","v":{"$error":"#N/A"}},{"$f":"MATCH($CS$3,Millwall!$AH$88:$AW$88,0)","v":{"$error":"#N/A"}},{"$f":"MATCH($CT$3,Millwall!$AH$88:$AW$88,0)","v":{"$error":"#N/A"}},{"$f":"MATCH($CU$3,Millwall!$AH$88:$AW$88,0)","v":{"$error":"#N/A"}},{"$f":"MATCH($CV$3,Millwall!$AH$88:$AW$88,0)","v":{"$error":"#N/A"}},{"$f":"MATCH($CW$3,Millwall!$AH$88:$AW$88,0)","v":{"$error":"#N/A"}},{"$f":"MATCH($CX$3,Millwall!$AH$88:$AW$88,0)","v":{"$error":"#N/A"}},{"$f":"MATCH($CY$3,Millwall!$AH$88:$AW$88,0)","v":{"$error":"#N/A"}},{"$f":"MATCH($CZ$3,Millwall!$AH$88:$AW$88,0)","v":{"$error":"#N/A"}},{"$f":"MATCH($DA$3,Millwall!$AH$88:$AW$88,0)","v":{"$error":"#N/A"}},{"$f":"MATCH($DB$3,Millwall!$AH$88:$AW$88,0)","v":{"$error":"#N/A"}},{"$f":"MATCH($DC$3,Millwall!$AH$88:$AW$88,0)","v":{"$error":"#N/A"}},{"$f":"MATCH($DD$3,Millwall!$AH$88:$AW$88,0)","v":{"$error":"#N/A"}},{"$f":"MATCH($DE$3,Millwall!$AH$88:$AW$88,0)","v":{"$error":"#N/A"}},{"$f":"MATCH($DF$3,Millwall!$AH$88:$AW$88,0)","v":{"$error":"#N/A"}},{"$f":"MATCH($DG$3,Millwall!$AH$88:$AW$88,0)","v":{"$error":"#N/A"}},{"$f":"MATCH($DH$3,Millwall!$AH$88:$AW$88,0)","v":{"$error":"#N/A"}},{"$f":"MATCH($DI$3,Millwall!$AH$88:$AW$88,0)","v":{"$error":"#N/A"}},{"$f":"MATCH($DJ$3,Millwall!$AH$88:$AW$88,0)","v":{"$error":"#N/A"}},{"$f":"MATCH($DK$3,Millwall!$AH$88:$AW$88,0)","v":{"$error":"#N/A"}},{"$f":"MATCH($DL$3,Millwall!$AH$88:$AW$88,0)","v":{"$error":"#N/A"}},{"$f":"MATCH($DM$3,Millwall!$AH$88:$AW$88,0)","v":{"$error":"#N/A"}},{"$f":"MATCH($DN$3,Millwall!$AH$88:$AW$88,0)","v":{"$error":"#N/A"}},{"$f":"MATCH($DO$3,Millwall!$AH$88:$AW$88,0)","v":{"$error":"#N/A"}},{"$f":"MATCH($DP$3,Millwall!$AH$88:$AW$88,0)","v":{"$error":"#N/A"}},{"$f":"MATCH($DQ$3,Millwall!$AH$88:$AW$88,0)","v":{"$error":"#N/A"}},{"$f":"MATCH($DR$3,Millwall!$AH$88:$AW$88,0)","v":{"$error":"#N/A"}},{"$f":"MATCH($DS$3,Millwall!$AH$88:$AW$88,0)","v":4},{"$f":"MATCH($DT$3,Millwall!$AH$88:$AW$88,0)","v":{"$error":"#N/A"}},{"$f":"MATCH($DU$3,Millwall!$AH$88:$AW$88,0)","v":{"$error":"#N/A"}},{"$f":"MATCH($DV$3,Millwall!$AH$88:$AW$88,0)","v":{"$error":"#N/A"}},{"$f":"MATCH($DW$3,Millwall!$AH$88:$AW$88,0)","v":{"$error":"#N/A"}},{"$f":"MATCH($DX$3,Millwall!$AH$88:$AW$88,0)","v":{"$error":"#N/A"}},{"$f":"MATCH($DY$3,Millwall!$AH$88:$AW$88,0)","v":{"$error":"#N/A"}},{"$f":"MATCH($DZ$3,Millwall!$AH$88:$AW$88,0)","v":{"$error":"#N/A"}},{"$f":"MATCH($EA$3,Millwall!$AH$88:$AW$88,0)","v":{"$error":"#N/A"}},null,null,{"$f":"MATCH(ED$3,Millwall!$AH$88:$AW$88,0)","v":{"$error":"#N/A"}},{"$f":"MATCH(EE$3,Millwall!$AH$88:$AW$88,0)","v":{"$error":"#N/A"}},{"$f":"MATCH(EF$3,Millwall!$AH$88:$AW$88,0)","v":{"$error":"#N/A"}},{"$f":"MATCH(EG$3,Millwall!$AH$88:$AW$88,0)","v":{"$error":"#N/A"}},{"$f":"MATCH(EH$3,Millwall!$AH$88:$AW$88,0)","v":{"$error":"#N/A"}},{"$f":"MATCH(EI$3,Millwall!$AH$88:$AW$88,0)","v":{"$error":"#N/A"}},{"$f":"MATCH(EJ$3,Millwall!$AH$88:$AW$88,0)","v":{"$error":"#N/A"}},{"$f":"MATCH(EK$3,Millwall!$AH$88:$AW$88,0)","v":{"$error":"#N/A"}},{"$f":"MATCH(EL$3,Millwall!$AH$88:$AW$88,0)","v":{"$error":"#N/A"}},{"$f":"MATCH(EM$3,Millwall!$AH$88:$AW$88,0)","v":{"$error":"#N/A"}},{"$f":"MATCH(EN$3,Millwall!$AH$88:$AW$88,0)","v":{"$error":"#N/A"}},{"$f":"MATCH(EO$3,Millwall!$AH$88:$AW$88,0)","v":{"$error":"#N/A"}},{"$f":"MATCH(EP$3,Millwall!$AH$88:$AW$88,0)","v":{"$error":"#N/A"}},{"$f":"MATCH(EQ$3,Millwall!$AH$88:$AW$88,0)","v":{"$error":"#N/A"}},{"$f":"MATCH(ER$3,Millwall!$AH$88:$AW$88,0)","v":14},{"$f":"MATCH(ES$3,Millwall!$AH$88:$AW$88,0)","v":{"$error":"#N/A"}},{"$f":"MATCH(ET$3,Millwall!$AH$88:$AW$88,0)","v":{"$error":"#N/A"}},{"$f":"MATCH(EU$3,Millwall!$AH$88:$AW$88,0)","v":{"$error":"#N/A"}},{"$f":"MATCH(EV$3,Millwall!$AH$88:$AW$88,0)","v":{"$error":"#N/A"}},{"$f":"MATCH(EW$3,Millwall!$AH$88:$AW$88,0)","v":{"$error":"#N/A"}},{"$f":"MATCH(EX$3,Millwall!$AH$88:$AW$88,0)","v":{"$error":"#N/A"}},{"$f":"MATCH(EY$3,Millwall!$AH$88:$AW$88,0)","v":{"$error":"#N/A"}},{"$f":"MATCH(EZ$3,Millwall!$AH$88:$AW$88,0)","v":{"$error":"#N/A"}},{"$f":"MATCH(FA$3,Millwall!$AH$88:$AW$88,0)","v":{"$error":"#N/A"}},{"$f":"MATCH(FB$3,Millwall!$AH$88:$AW$88,0)","v":{"$error":"#N/A"}},{"$f":"MATCH(FC$3,Millwall!$AH$88:$AW$88,0)","v":{"$error":"#N/A"}},{"$f":"MATCH(FD$3,Millwall!$AH$88:$AW$88,0)","v":{"$error":"#N/A"}},{"$f":"MATCH(FE$3,Millwall!$AH$88:$AW$88,0)","v":{"$error":"#N/A"}},{"$f":"MATCH(FF$3,Millwall!$AH$88:$AW$88,0)","v":{"$error":"#N/A"}},{"$f":"MATCH(FG$3,Millwall!$AH$88:$AW$88,0)","v":{"$error":"#N/A"}},{"$f":"MATCH(FH$3,Millwall!$AH$88:$AW$88,0)","v":{"$error":"#N/A"}},{"$f":"MATCH(FI$3,Millwall!$AH$88:$AW$88,0)","v":{"$error":"#N/A"}},{"$f":"MATCH(FJ$3,Millwall!$AH$88:$AW$88,0)","v":{"$error":"#N/A"}},{"$f":"MATCH(FK$3,Millwall!$AH$88:$AW$88,0)","v":{"$error":"#N/A"}},{"$f":"MATCH(FL$3,Millwall!$AH$88:$AW$88,0)","v":{"$error":"#N/A"}},{"$f":"MATCH(FM$3,Millwall!$AH$88:$AW$88,0)","v":{"$error":"#N/A"}},{"$f":"MATCH(FN$3,Millwall!$AH$88:$AW$88,0)","v":{"$error":"#N/A"}},{"$f":"MATCH(FO$3,Millwall!$AH$88:$AW$88,0)","v":{"$error":"#N/A"}},null,null,null,null,null,null,{"$f":"$FX$18&\" {**\"","v":"Forbes {**"},{"$f":"$FX$18&\" [**\"","v":"Forbes [**"},{"$f":"Millwall!$BY73","v":"Forbes"},"Forbes (**",{"$f":"$FX$18&\"**\"","v":"Forbes**"},null,{"$f":"$FX$18","v":"Forbes"},{"$f":"$FY$18","v":"Forbes (**"},{"$f":"$FZ$18","v":"Forbes**"},null,{"$f":"Millwall!CC19","v":0},{"$f":"Millwall!CH19","v":0},{"$f":"Millwall!CR19","v":0},{"$f":"Millwall!CW19","v":0}]
[null,null,0,15,null,{"$f":"Millwall!AD89","v":"1996-10-26"},null,{"$f":"Millwall!AE89","v":"Brentford"},{"$f":"Millwall!AF89","v":"(A)"},{"$f":"Millwall!AG89","v":"D 0-0"},{"$f":"MATCH($K$4,Millwall!$AH$89:$AW$89,0)","v":{"$error":"#N/A"}},{"$f":"MATCH($L$4,Millwall!$AH$89:$AW$89,0)","v":{"$error":"#N/A"}},{"$f":"MATCH($M$4,Millwall!$AH$89:$AW$89,0)","v":{"$error":"#N/A"}},{"$f":"MATCH($N$4,Millwall!$AH$89:$AW$89,0)","v":7},{"$f":"MATCH($O$4,Millwall!$AH$89:$AW$89,0)","v":{"$error":"#N/A"}},{"$f":"MATCH($P$4,Millwall!$AH$89:$AW$89,0)","v":{"$error":"#N/A"}},{"$f":"MATCH($Q$4,Millwall!$AH$89:$AW$89,0)","v":{"$error":"#N/A"}},{"$f":"MATCH($R$4,Millwall!$AH$89:$AW$89,0)","v":1},{"$f":"MATCH($S$4,Millwall!$AH$89:$AW$89,0)","v":9},{"$f":"MATCH($T$4,Millwall!$AH$89:$AW$89,0)","v":13},{"$f":"MATCH($U$4,Millwall!$AH$89:$AW$89,0)","v":11},{"$f":"MATCH($V$4,Millwall!$AH$89:$AW$89,0)","v":12},{"$f":"MATCH($W$4,Millwall!$AH$89:$AW$89,0)","v":6},{"$f":"MATCH($X$4,Millwall!$AH$89:$AW$89,0)","v":{"$error":"#N/A"}},{"$f":"MATCH($Y$4,Millwall!$AH$89:$AW$89,0)","v":14},{"$f":"MATCH($Z$4,Millwall!$AH$89:$AW$89,0)","v":10},{"$f":"MATCH($AA$4,Millwall!$AH$89:$AW$89,0)","v":{"$error":"#N/A"}},{"$f":"MATCH($AB$4,Millwall!$AH$89:$AW$89,0)","v":{"$error":"#N/A"}},{"$f":"MATCH($AC$4,Millwall!$AH$89:$AW$89,0)","v":{"$error":"#N/A"}},{"$f":"MATCH($AD$4,Millwall!$AH$89:$AW$89,0)","v":{"$error":"#N/A"}},{"$f":"MATCH($AE$4,Millwall!$AH$89:$AW$89,0)","v":{"$error":"#N/A"}},{"$f":"MATCH($AF$4,Millwall!$AH$89:$AW$89,0)","v":{"$error":"#N/A"}},{"$f":"MATCH($AG$4,Millwall!$AH$89:$AW$89,0)","v":{"$error":"#N/A"}},{"$f":"MATCH($AH$4,Millwall!$AH$89:$AW$89,0)","v":8},{"$f":"MATCH($AI$4,Millwall!$AH$89:$AW$89,0)","v":2},{"$f":"MATCH($AJ$4,Millwall!$AH$89:$AW$89,0)","v":{"$error":"#N/A"}},{"$f":"MATCH($AK$4,Millwall!$AH$89:$AW$89,0)","v":{"$error":"#N/A"}},{"$f":"MATCH($AL$4,Millwall!$AH$89:$AW$89,0)","v":3},{"$f":"MATCH($AM$4,Millwall!$AH$89:$AW$89,0)","v":{"$error":"#N/A"}},{"$f":"MATCH($AN$4,Millwall!$AH$89:$AW$89,0)","v":4},{"$f":"MATCH($AO$4,Millwall!$AH$89:$AW$89,0)","v":{"$error":"#N/A"}},{"$f":"MATCH($AP$4,Millwall!$AH$89:$AW$89,0)","v":{"$error":"#N/A"}},{"$f":"MATCH($AQ$4,Millwall!$AH$89:$AW$89,0)","v":{"$error":"#N/A"}},{"$f":"MATCH($AR$4,Millwall!$AH$89:$AW$89,0)","v":{"$error":"#N/A"}},{"$f":"MATCH($AS$4,Millwall!$AH$89:$AW$89,0)","v":{"$error":"#N/A"}},{"$f":"MATCH($AT$4,Millwall!$AH$89:$AW$89,0)","v":5},{"$f":"MATCH($AU$4,Millwall!$AH$89:$AW$89,0)","v":{"$error":"#N/A"}},{"$f":"MATCH($AV$4,Millwall!$AH$89:$AW$89,0)","v":{"$error":"#N/A"}},null,null,null,null,null,{"$f":"MATCH(BB$3,Millwall!$AH89:$AW89,0)","v":{"$error":"#N/A"}},{"$f":"MATCH(BC$3,Millwall!$AH89:$AW89,0)","v":{"$error":"#N/A"}},{"$f":"MATCH(BD$3,Millwall!$AH89:$AW89,0)","v":{"$error":"#N/A"}},{"$f":"MATCH(BE$3,Millwall!$AH89:$AW89,0)","v":{"$error":"#N/A"}},{"$f":"MATCH(BF$3,Millwall!$AH89:$AW89,0)","v":{"$error":"#N/A"}},{"$f":"MATCH(BG$3,Millwall!$AH89:$AW89,0)","v":{"$error":"#N/A"}},{"$f":"MATCH(BH$3,Millwall!$AH89:$AW89,0)","v":{"$error":"#N/A"}},{"$f":"MATCH(BI$3,Millwall!$AH89:$AW89,0)","v":{"$error":"#N/A"}},{"$f":"MATCH(BJ$3,Millwall!$AH89:$AW89,0)","v":{"$error":"#N/A"}},{"$f":"MATCH(BK$3,Millwall!$AH89:$AW89,0)","v":{"$error":"#N/A"}},{"$f":"MATCH(BL$3,Millwall!$AH89:$AW89,0)","v":{"$error":"#N/A"}},{"$f":"MATCH(BM$3,Millwall!$AH89:$AW89,0)","v":{"$error":"#N/A"}},{"$f":"MATCH(BN$3,Millwall!$AH89:$AW89,0)","v":{"$error":"#N/A"}},{"$f":"MATCH(BO$3,Millwall!$AH89:$AW89,0)","v":{"$error":"#N/A"}},{"$f":"MATCH(BP$3,Millwall!$AH89:$AW89,0)","v":{"$error":"#N/A"}},{"$f":"MATCH(BQ$3,Millwall!$AH89:$AW89,0)","v":{"$error":"#N/A"}},{"$f":"MATCH(BR$3,Millwall!$AH89:$AW89,0)","v":{"$error":"#N/A"}},{"$f":"MATCH(BS$3,Millwall!$AH89:$AW89,0)","v":{"$error":"#N/A"}},{"$f":"MATCH(BT$3,Millwall!$AH89:$AW89,0)","v":{"$error":"#N/A"}},{"$f":"MATCH(BU$3,Millwall!$AH89:$AW89,0)","v":{"$error":"#N/A"}},{"$f":"MATCH(BV$3,Millwall!$AH89:$AW89,0)","v":{"$error":"#N/A"}},{"$f":"MATCH(BW$3,Millwall!$AH89:$AW89,0)","v":{"$error":"#N/A"}},{"$f":"MATCH(BX$3,Millwall!$AH89:$AW89,0)","v":{"$error":"#N/A"}},{"$f":"MATCH(BY$3,Millwall!$AH89:$AW89,0)","v":{"$error":"#N/A"}},{"$f":"MATCH(BZ$3,Millwall!$AH89:$AW89,0)","v":{"$error":"#N/A"}},{"$f":"MATCH(CA$3,Millwall!$AH89:$AW89,0)","v":{"$error":"#N/A"}},{"$f":"MATCH(CB$3,Millwall!$AH89:$AW89,0)","v":{"$error":"#N/A"}},{"$f":"MATCH(CC$3,Millwall!$AH89:$AW89,0)","v":{"$error":"#N/A"}},{"$f":"MATCH(CD$3,Millwall!$AH89:$AW89,0)","v":{"$error":"#N/A"}},{"$f":"MATCH(CE$3,Millwall!$AH89:$AW89,0)","v":{"$error":"#N/A"}},{"$f":"MATCH(CF$3,Millwall!$AH89:$AW89,0)","v":{"$error":"#N/A"}},{"$f":"MATCH(CG$3,Millwall!$AH89:$AW89,0)","v":{"$error":"#N/A"}},{"$f":"MATCH(CH$3,Millwall!$AH89:$AW89,0)","v":{"$error":"#N/A"}},{"$f":"MATCH(CI$3,Millwall!$AH89:$AW89,0)","v":{"$error":"#N/A"}},{"$f":"MATCH(CJ$3,Millwall!$AH89:$AW89,0)","v":{"$error":"#N/A"}},{"$f":"MATCH(CK$3,Millwall!$AH89:$AW89,0)","v":{"$error":"#N/A"}},{"$f":"MATCH(CL$3,Millwall!$AH89:$AW89,0)","v":{"$error":"#N/A"}},{"$f":"MATCH(CM$3,Millwall!$AH89:$AW89,0)","v":{"$error":"#N/A"}},null,null,{"$f":"MATCH($CP$3,Millwall!$AH$89:$AW$89,0)","v":{"$error":"#N/A"}},{"$f":"MATCH($CQ$3,Millwall!$AH$89:$AW$89,0)","v":{"$error":"#N/A"}},{"$f":"MATCH($CR$3,Millwall!$AH$89:$AW$89,0)","v":{"$error":"#N/A"}},{"$f":"MATCH($CS$3,Millwall!$AH$89:$AW$89,0)","v":{"$error":"#N/A"}},{"$f":"MATCH($CT$3,Millwall!$AH$89:$AW$89,0)","v":{"$error":"#N/A"}},{"$f":"MATCH($CU$3,Millwall!$AH$89:$AW$89,0)","v":{"$error":"#N/A"}},{"$f":"MATCH($CV$3,Millwall!$AH$89:$AW$89,0)","v":{"$error":"#N/A"}},{"$f":"MATCH($CW$3,Millwall!$AH$89:$AW$89,0)","v":{"$error":"#N/A"}},{"$f":"MATCH($CX$3,Millwall!$AH$89:$AW$89,0)","v":{"$error":"#N/A"}},{"$f":"MATCH($CY$3,Millwall!$AH$89:$AW$89,0)","v":13},{"$f":"MATCH($CZ$3,Millwall!$AH$89:$AW$89,0)","v":11},{"$f":"MATCH($DA$3,Millwall!$AH$89:$AW$89,0)","v":{"$error":"#N/A"}},{"$f":"MATCH($DB$3,Millwall!$AH$89:$AW$89,0)","v":{"$error":"#N/A"}},{"$f":"MATCH($DC$3,Millwall!$AH$89:$AW$89,0)","v":{"$error":"#N/A"}},{"$f":"MATCH($DD$3,Millwall!$AH$89:$AW$89,0)","v":{"$error":"#N/A"}},{"$f":"MATCH($DE$3,Millwall!$AH$89:$AW$89,0)","v":{"$error":"#N/A"}},{"$f":"MATCH($DF$3,Millwall!$AH$89:$AW$89,0)","v":{"$error":"#N/A"}},{"$f":"MATCH($DG$3,Millwall!$AH$89:$AW$89,0)","v":{"$error":"#N/A"}},{"$f":"MATCH($DH$3,Millwall!$AH$89:$AW$89,0)","v":{"$error":"#N/A"}},{"$f":"MATCH($DI$3,Millwall!$AH$89:$AW$89,0)","v":{"$error":"#N/A"}},{"$f":"MATCH($DJ$3,Millwall!$AH$89:$AW$89,0)","v":{"$error":"#N/A"}},{"$f":"MATCH($DK$3,Millwall!$AH$89:$AW$89,0)","v":{"$error":"#N/A"}},{"$f":"MATCH($DL$3,Millwall!$AH$89:$AW$89,0)","v":{"$error":"#N/A"}},{"$f":"MATCH($DM$3,Millwall!$AH$89:$AW$89,0)","v":{"$error":"#N/A"}},{"$f":"MATCH($DN$3,Millwall!$AH$89:$AW$89,0)","v":{"$error":"#N/A"}},{"$f":"MATCH($DO$3,Millwall!$AH$89:$AW$89,0)","v":{"$error":"#N/A"}},{"$f":"MATCH($DP$3,Millwall!$AH$89:$AW$89,0)","v":{"$error":"#N/A"}},{"$f":"MATCH($DQ$3,Millwall!$AH$89:$AW$89,0)","v":{"$error":"#N/A"}},{"$f":"MATCH($DR$3,Millwall!$AH$89:$AW$89,0)","v":{"$error":"#N/A"}},{"$f":"MATCH($DS$3,Millwall!$AH$89:$AW$89,0)","v":{"$error":"#N/A"}},{"$f":"MATCH($DT$3,Millwall!$AH$89:$AW$89,0)","v":{"$error":"#N/A"}},{"$f":"MATCH($DU$3,Millwall!$AH$89:$AW$89,0)","v":{"$error":"#N/A"}},{"$f":"MATCH($DV$3,Millwall!$AH$89:$AW$89,0)","v":{"$error":"#N/A"}},{"$f":"MATCH($DW$3,Millwall!$AH$89:$AW$89,0)","v":{"$error":"#N/A"}},{"$f":"MATCH($DX$3,Millwall!$AH$89:$AW$89,0)","v":{"$error":"#N/A"}},{"$f":"MATCH($DY$3,Millwall!$AH$89:$AW$89,0)","v":{"$error":"#N/A"}},{"$f":"MATCH($DZ$3,Millwall!$AH$89:$AW$89,0)","v":{"$error":"#N/A"}},{"$f":"MATCH($EA$3,Millwall!$AH$89:$AW$89,0)","v":{"$error":"#N/A"}},null,null,{"$f":"MATCH(ED$3,Millwall!$AH$89:$AW$89,0)","v":{"$error":"#N/A"}},{"$f":"MATCH(EE$3,Millwall!$AH$89:$AW$89,0)","v":{"$error":"#N/A"}},{"$f":"MATCH(EF$3,Millwall!$AH$89:$AW$89,0)","v":{"$error":"#N/A"}},{"$f":"MATCH(EG$3,Millwall!$AH$89:$AW$89,0)","v":{"$error":"#N/A"}},{"$f":"MATCH(EH$3,Millwall!$AH$89:$AW$89,0)","v":{"$error":"#N/A"}},{"$f":"MATCH(EI$3,Millwall!$AH$89:$AW$89,0)","v":{"$error":"#N/A"}},{"$f":"MATCH(EJ$3,Millwall!$AH$89:$AW$89,0)","v":{"$error":"#N/A"}},{"$f":"MATCH(EK$3,Millwall!$AH$89:$AW$89,0)","v":{"$error":"#N/A"}},{"$f":"MATCH(EL$3,Millwall!$AH$89:$AW$89,0)","v":{"$error":"#N/A"}},{"$f":"MATCH(EM$3,Millwall!$AH$89:$AW$89,0)","v":{"$error":"#N/A"}},{"$f":"MATCH(EN$3,Millwall!$AH$89:$AW$89,0)","v":{"$error":"#N/A"}},{"$f":"MATCH(EO$3,Millwall!$AH$89:$AW$89,0)","v":{"$error":"#N/A"}},{"$f":"MATCH(EP$3,Millwall!$AH$89:$AW$89,0)","v":{"$error":"#N/A"}},{"$f":"MATCH(EQ$3,Millwall!$AH$89:$AW$89,0)","v":{"$error":"#N/A"}},{"$f":"MATCH(ER$3,Millwall!$AH$89:$AW$89,0)","v":{"$error":"#N/A"}},{"$f":"MATCH(ES$3,Millwall!$AH$89:$AW$89,0)","v":{"$error":"#N/A"}},{"$f":"MATCH(ET$3,Millwall!$AH$89:$AW$89,0)","v":{"$error":"#N/A"}},{"$f":"MATCH(EU$3,Millwall!$AH$89:$AW$89,0)","v":{"$error":"#N/A"}},{"$f":"MATCH(EV$3,Millwall!$AH$89:$AW$89,0)","v":{"$error":"#N/A"}},{"$f":"MATCH(EW$3,Millwall!$AH$89:$AW$89,0)","v":{"$error":"#N/A"}},{"$f":"MATCH(EX$3,Millwall!$AH$89:$AW$89,0)","v":{"$error":"#N/A"}},{"$f":"MATCH(EY$3,Millwall!$AH$89:$AW$89,0)","v":{"$error":"#N/A"}},{"$f":"MATCH(EZ$3,Millwall!$AH$89:$AW$89,0)","v":{"$error":"#N/A"}},{"$f":"MATCH(FA$3,Millwall!$AH$89:$AW$89,0)","v":{"$error":"#N/A"}},{"$f":"MATCH(FB$3,Millwall!$AH$89:$AW$89,0)","v":{"$error":"#N/A"}},{"$f":"MATCH(FC$3,Millwall!$AH$89:$AW$89,0)","v":{"$error":"#N/A"}},{"$f":"MATCH(FD$3,Millwall!$AH$89:$AW$89,0)","v":{"$error":"#N/A"}},{"$f":"MATCH(FE$3,Millwall!$AH$89:$AW$89,0)","v":{"$error":"#N/A"}},{"$f":"MATCH(FF$3,Millwall!$AH$89:$AW$89,0)","v":{"$error":"#N/A"}},{"$f":"MATCH(FG$3,Millwall!$AH$89:$AW$89,0)","v":{"$error":"#N/A"}},{"$f":"MATCH(FH$3,Millwall!$AH$89:$AW$89,0)","v":{"$error":"#N/A"}},{"$f":"MATCH(FI$3,Millwall!$AH$89:$AW$89,0)","v":{"$error":"#N/A"}},{"$f":"MATCH(FJ$3,Millwall!$AH$89:$AW$89,0)","v":{"$error":"#N/A"}},{"$f":"MATCH(FK$3,Millwall!$AH$89:$AW$89,0)","v":{"$error":"#N/A"}},{"$f":"MATCH(FL$3,Millwall!$AH$89:$AW$89,0)","v":{"$error":"#N/A"}},{"$f":"MATCH(FM$3,Millwall!$AH$89:$AW$89,0)","v":{"$error":"#N/A"}},{"$f":"MATCH(FN$3,Millwall!$AH$89:$AW$89,0)","v":{"$error":"#N/A"}},{"$f":"MATCH(FO$3,Millwall!$AH$89:$AW$89,0)","v":{"$error":"#N/A"}},null,null,null,null,null,null,{"$f":"$FX$19&\" {**\"","v":"Harle {**"},{"$f":"$FX$19&\" [**\"","v":"Harle [**"},{"$f":"Millwall!$BY74","v":"Harle"},"Harle (**",{"$f":"$FX$19&\"**\"","v":"Harle**"},null,{"$f":"$FX$19","v":"Harle"},{"$f":"$FY$19","v":"Harle (**"},{"$f":"$FZ$19","v":"Harle**"},null,{"$f":"Millwall!CC20","v":1},{"$f":"Millwall!CH20","v":1},{"$f":"Millwall!CR20","v":0},{"$f":"Millwall!CW20","v":0}]
[null,null,0,16,null,{"$f":"Millwall!AD90","v":"1996-10-30"},null,{"$f":"Millwall!AE90","v":"Blackpool"},{"$f":"Millwall!AF90","v":"(H)"},{"$f":"Millwall!AG90","v":"W 2-1"},{"$f":"MATCH($K$4,Millwall!$AH$90:$AW$90,0)","v":{"$error":"#N/A"}},{"$f":"MATCH($L$4,Millwall!$AH$90:$AW$90,0)","v":{"$error":"#N/A"}},{"$f":"MATCH($M$4,Millwall!$AH$90:$AW$90,0)","v":{"$error":"#N/A"}},{"$f":"MATCH($N$4,Millwall!$AH$90:$AW$90,0)","v":7},{"$f":"MATCH($O$4,Millwall!$AH$90:$AW$90,0)","v":{"$error":"#N/A"}},{"$f":"MATCH($P$4,Millwall!$AH$90:$AW$90,0)","v":{"$error":"#N/A"}},{"$f":"MATCH($Q$4,Millwall!$AH$90:$AW$90,0)","v":{"$error":"#N/A"}},{"$f":"MATCH($R$4,Millwall!$AH$90:$AW$90,0)","v":1},{"$f":"MATCH($S$4,Millwall!$AH$90:$AW$90,0)","v":9},{"$f":"MATCH($T$4,Millwall!$AH$90:$AW$90,0)","v":13},{"$f":"MATCH($U$4,Millwall!$AH$90:$AW$90,0)","v":11},{"$f":"MATCH($V$4,Millwall!$AH$90:$AW$90,0)","v":12},{"$f":"MATCH($W$4,Millwall!$AH$90:$AW$90,0)","v":6},{"$f":"MATCH($X$4,Millwall!$AH$90:$AW$90,0)","v":{"$error":"#N/A"}},{"$f":"MATCH($Y$4,Millwall!$AH$90:$AW$90,0)","v":14},{"$f":"MATCH($Z$4,Millwall!$AH$90:$AW$90,0)","v":10},{"$f":"MATCH($AA$4,Millwall!$AH$90:$AW$90,0)","v":{"$error":"#N/A"}},{"$f":"MATCH($AB$4,Millwall!$AH$90:$AW$90,0)","v":{"$error":"#N/A"}},{"$f":"MATCH($AC$4,Millwall!$AH$90:$AW$90,0)","v":{"$error":"#N/A"}},{"$f":"MATCH($AD$4,Millwall!$AH$90:$AW$90,0)","v":{"$error":"#N/A"}},{"$f":"MATCH($AE$4,Millwall!$AH$90:$AW$90,0)","v":{"$error":"#N/A"}},{"$f":"MATCH($AF$4,Millwall!$AH$90:$AW$90,0)","v":{"$error":"#N/A"}},{"$f":"MATCH($AG$4,Millwall!$AH$90:$AW$90,0)","v":{"$error":"#N/A"}},{"$f":"MATCH($AH$4,Millwall!$AH$90:$AW$90,0)","v":8},{"$f":"MATCH($AI$4,Millwall!$AH$90:$AW$90,0)","v":2},{"$f":"MATCH($AJ$4,Millwall!$AH$90:$AW$90,0)","v":{"$error":"#N/A"}},{"$f":"MATCH($AK$4,Millwall!$AH$90:$AW$90,0)","v":{"$error":"#N/A"}},{"$f":"MATCH($AL$4,Millwall!$AH$90:$AW$90,0)","v":3},{"$f":"MATCH($AM$4,Millwall!$AH$90:$AW$90,0)","v":{"$error":"#N/A"}},{"$f":"MATCH($AN$4,Millwall!$AH$90:$AW$90,0)","v":4},{"$f":"MATCH($AO$4,Millwall!$AH$90:$AW$90,0)","v":{"$error":"#N/A"}},{"$f":"MATCH($AP$4,Millwall!$AH$90:$AW$90,0)","v":{"$error":"#N/A"}},{"$f":"MATCH($AQ$4,Millwall!$AH$90:$AW$90,0)","v":{"$error":"#N/A"}},{"$f":"MATCH($AR$4,Millwall!$AH$90:$AW$90,0)","v":{"$error":"#N/A"}},{"$f":"MATCH($AS$4,Millwall!$AH$90:$AW$90,0)","v":{"$error":"#N/A"}},{"$f":"MATCH($AT$4,Millwall!$AH$90:$AW$90,0)","v":5},{"$f":"MATCH($AU$4,Millwall!$AH$90:$AW$90,0)","v":{"$error":"#N/A"}},{"$f":"MATCH($AV$4,Millwall!$AH$90:$AW$90,0)","v":{"$error":"#N/A"}},null,null,null,null,null,{"$f":"MATCH(BB$3,Millwall!$AH90:$AW90,0)","v":{"$error":"#N/A"}},{"$f":"MATCH(BC$3,Millwall!$AH90:$AW90,0)","v":{"$error":"#N/A"}},{"$f":"MATCH(BD$3,Millwall!$AH90:$AW90,0)","v":{"$error":"#N/A"}},{"$f":"MATCH(BE$3,Millwall!$AH90:$AW90,0)","v":{"$error":"#N/A"}},{"$f":"MATCH(BF$3,Millwall!$AH90:$AW90,0)","v":{"$error":"#N/A"}},{"$f":"MATCH(BG$3,Millwall!$AH90:$AW90,0)","v":{"$error":"#N/A"}},{"$f":"MATCH(BH$3,Millwall!$AH90:$AW90,0)","v":{"$error":"#N/A"}},{"$f":"MATCH(BI$3,Millwall!$AH90:$AW90,0)","v":{"$error":"#N/A"}},{"$f":"MATCH(BJ$3,Millwall!$AH90:$AW90,0)","v":{"$error":"#N/A"}},{"$f":"MATCH(BK$3,Millwall!$AH90:$AW90,0)","v":{"$error":"#N/A"}},{"$f":"MATCH(BL$3,Millwall!$AH90:$AW90,0)","v":{"$error":"#N/A"}},{"$f":"MATCH(BM$3,Millwall!$AH90:$AW90,0)","v":{"$error":"#N/A"}},{"$f":"MATCH(BN$3,Millwall!$AH90:$AW90,0)","v":{"$error":"#N/A"}},{"$f":"MATCH(BO$3,Millwall!$AH90:$AW90,0)","v":{"$error":"#N/A"}},{"$f":"MATCH(BP$3,Millwall!$AH90:$AW90,0)","v":{"$error":"#N/A"}},{"$f":"MATCH(BQ$3,Millwall!$AH90:$AW90,0)","v":{"$error":"#N/A"}},{"$f":"MATCH(BR$3,Millwall!$AH90:$AW90,0)","v":{"$error":"#N/A"}},{"$f":"MATCH(BS$3,Millwall!$AH90:$AW90,0)","v":{"$error":"#N/A"}},{"$f":"MATCH(BT$3,Millwall!$AH90:$AW90,0)","v":{"$error":"#N/A"}},{"$f":"MATCH(BU$3,Millwall!$AH90:$AW90,0)","v":{"$error":"#N/A"}},{"$f":"MATCH(BV$3,Millwall!$AH90:$AW90,0)","v":{"$error":"#N/A"}},{"$f":"MATCH(BW$3,Millwall!$AH90:$AW90,0)","v":{"$error":"#N/A"}},{"$f":"MATCH(BX$3,Millwall!$AH90:$AW90,0)","v":{"$error":"#N/A"}},{"$f":"MATCH(BY$3,Millwall!$AH90:$AW90,0)","v":{"$error":"#N/A"}},{"$f":"MATCH(BZ$3,Millwall!$AH90:$AW90,0)","v":{"$error":"#N/A"}},{"$f":"MATCH(CA$3,Millwall!$AH90:$AW90,0)","v":{"$error":"#N/A"}},{"$f":"MATCH(CB$3,Millwall!$AH90:$AW90,0)","v":{"$error":"#N/A"}},{"$f":"MATCH(CC$3,Millwall!$AH90:$AW90,0)","v":{"$error":"#N/A"}},{"$f":"MATCH(CD$3,Millwall!$AH90:$AW90,0)","v":{"$error":"#N/A"}},{"$f":"MATCH(CE$3,Millwall!$AH90:$AW90,0)","v":{"$error":"#N/A"}},{"$f":"MATCH(CF$3,Millwall!$AH90:$AW90,0)","v":{"$error":"#N/A"}},{"$f":"MATCH(CG$3,Millwall!$AH90:$AW90,0)","v":{"$error":"#N/A"}},{"$f":"MATCH(CH$3,Millwall!$AH90:$AW90,0)","v":{"$error":"#N/A"}},{"$f":"MATCH(CI$3,Millwall!$AH90:$AW90,0)","v":{"$error":"#N/A"}},{"$f":"MATCH(CJ$3,Millwall!$AH90:$AW90,0)","v":{"$error":"#N/A"}},{"$f":"MATCH(CK$3,Millwall!$AH90:$AW90,0)","v":{"$error":"#N/A"}},{"$f":"MATCH(CL$3,Millwall!$AH90:$AW90,0)","v":{"$error":"#N/A"}},{"$f":"MATCH(CM$3,Millwall!$AH90:$AW90,0)","v":{"$error":"#N/A"}},null,null,{"$f":"MATCH($CP$3,Millwall!$AH$90:$AW$90,0)","v":{"$error":"#N/A"}},{"$f":"MATCH($CQ$3,Millwall!$AH$90:$AW$90,0)","v":{"$error":"#N/A"}},{"$f":"MATCH($CR$3,Millwall!$AH$90:$AW$90,0)","v":{"$error":"#N/A"}},{"$f":"MATCH($CS$3,Millwall!$AH$90:$AW$90,0)","v":{"$error":"#N/A"}},{"$f":"MATCH($CT$3,Millwall!$AH$90:$AW$90,0)","v":{"$error":"#N/A"}},{"$f":"MATCH($CU$3,Millwall!$AH$90:$AW$90,0)","v":{"$error":"#N/A"}},{"$f":"MATCH($CV$3,Millwall!$AH$90:$AW$90,0)","v":{"$error":"#N/A"}},{"$f":"MATCH($CW$3,Millwall!$AH$90:$AW$90,0)","v":{"$error":"#N/A"}},{"$f":"MATCH($CX$3,Millwall!$AH$90:$AW$90,0)","v":{"$error":"#N/A"}},{"$f":"MATCH($CY$3,Millwall!$AH$90:$AW$90,0)","v":13},{"$f":"MATCH($CZ$3,Millwall!$AH$90:$AW$90,0)","v":{"$error":"#N/A"}},{"$f":"MATCH($DA$3,Millwall!$AH$90:$AW$90,0)","v":{"$error":"#N/A"}},{"$f":"MATCH($DB$3,Millwall!$AH$90:$AW$90,0)","v":{"$error":"#N/A"}},{"$f":"MATCH($DC$3,Millwall!$AH$90:$AW$90,0)","v":{"$error":"#N/A"}},{"$f":"MATCH($DD$3,Millwall!$AH$90:$AW$90,0)","v":{"$error":"#N/A"}},{"$f":"MATCH($DE$3,Millwall!$AH$90:$AW$90,0)","v":{"$error":"#N/A"}},{"$f":"MATCH($DF$3,Millwall!$AH$90:$AW$90,0)","v":{"$error":"#N/A"}},{"$f":"MATCH($DG$3,Millwall!$AH$90:$AW$90,0)","v":{"$error":"#N/A"}},{"$f":"MATCH($DH$3,Millwall!$AH$90:$AW$90,0)","v":{"$error":"#N/A"}},{"$f":"MATCH($DI$3,Millwall!$AH$90:$AW$90,0)","v":{"$error":"#N/A"}},{"$f":"MATCH($DJ$3,Millwall!$AH$90:$AW$90,0)","v":{"$error":"#N/A"}},{"$f":"MATCH($DK$3,Millwall!$AH$90:$AW$90,0)","v":{"$error":"#N/A"}},{"$f":"MATCH($DL$3,Millwall!$AH$90:$AW$90,0)","v":{"$error":"#N/A"}},{"$f":"MATCH($DM$3,Millwall!$AH$90:$AW$90,0)","v":{"$error":"#N/A"}},{"$f":"MATCH($DN$3,Millwall!$AH$90:$AW$90,0)","v":{"$error":"#N/A"}},{"$f":"MATCH($DO$3,Millwall!$AH$90:$AW$90,0)","v":{"$error":"#N/A"}},{"$f":"MATCH($DP$3,Millwall!$AH$90:$AW$90,0)","v":{"$error":"#N/A"}},{"$f":"MATCH($DQ$3,Millwall!$AH$90:$AW$90,0)","v":{"$error":"#N/A"}},{"$f":"MATCH($DR$3,Millwall!$AH$90:$AW$90,0)","v":{"$error":"#N/A"}},{"$f":"MATCH($DS$3,Millwall!$AH$90:$AW$90,0)","v":4},{"$f":"MATCH($DT$3,Millwall!$AH$90:$AW$90,0)","v":{"$error":"#N/A"}},{"$f":"MATCH($DU$3,Millwall!$AH$90:$AW$90,0)","v":{"$error":"#N/A"}},{"$f":"MATCH($DV$3,Millwall!$AH$90:$AW$90,0)","v":{"$error":"#N/A"}},{"$f":"MATCH($DW$3,Millwall!$AH$90:$AW$90,0)","v":{"$error":"#N/A"}},{"$f":"MATCH($DX$3,Millwall!$AH$90:$AW$90,0)","v":{"$error":"#N/A"}},{"$f":"MATCH($DY$3,Millwall!$AH$90:$AW$90,0)","v":{"$error":"#N/A"}},{"$f":"MATCH($DZ$3,Millwall!$AH$90:$AW$90,0)","v":{"$error":"#N/A"}},{"$f":"MATCH($EA$3,Millwall!$AH$90:$AW$90,0)","v":{"$error":"#N/A"}},null,null,{"$f":"MATCH(ED$3,Millwall!$AH$90:$AW$90,0)","v":{"$error":"#N/A"}},{"$f":"MATCH(EE$3,Millwall!$AH$90:$AW$90,0)","v":{"$error":"#N/A"}},{"$f":"MATCH(EF$3,Millwall!$AH$90:$AW$90,0)","v":{"$error":"#N/A"}},{"$f":"MATCH(EG$3,Millwall!$AH$90:$AW$90,0)","v":{"$error":"#N/A"}},{"$f":"MATCH(EH$3,Millwall!$AH$90:$AW$90,0)","v":{"$error":"#N/A"}},{"$f":"MATCH(EI$3,Millwall!$AH$90:$AW$90,0)","v":{"$error":"#N/A"}},{"$f":"MATCH(EJ$3,Millwall!$AH$90:$AW$90,0)","v":{"$error":"#N/A"}},{"$f":"MATCH(EK$3,Millwall!$AH$90:$AW$90,0)","v":{"$error":"#N/A"}},{"$f":"MATCH(EL$3,Millwall!$AH$90:$AW$90,0)","v":{"$error":"#N/A"}},{"$f":"MATCH(EM$3,Millwall!$AH$90:$AW$90,0)","v":{"$error":"#N/A"}},{"$f":"MATCH(EN$3,Millwall!$AH$90:$AW$90,0)","v":{"$error":"#N/A"}},{"$f":"MATCH(EO$3,Millwall!$AH$90:$AW$90,0)","v":{"$error":"#N/A"}},{"$f":"MATCH(EP$3,Millwall!$AH$90:$AW$90,0)","v":{"$error":"#N/A"}},{"$f":"MATCH(EQ$3,Millwall!$AH$90:$AW$90,0)","v":{"$error":"#N/A"}},{"$f":"MATCH(ER$3,Millwall!$AH$90:$AW$90,0)","v":{"$error":"#N/A"}},{"$f":"MATCH(ES$3,Millwall!$AH$90:$AW$90,0)","v":{"$error":"#N/A"}},{"$f":"MATCH(ET$3,Millwall!$AH$90:$AW$90,0)","v":{"$error":"#N/A"}},{"$f":"MATCH(EU$3,Millwall!$AH$90:$AW$90,0)","v":{"$error":"#N/A"}},{"$f":"MATCH(EV$3,Millwall!$AH$90:$AW$90,0)","v":{"$error":"#N/A"}},{"$f":"MATCH(EW$3,Millwall!$AH$90:$AW$90,0)","v":{"$error":"#N/A"}},{"$f":"MATCH(EX$3,Millwall!$AH$90:$AW$90,0)","v":{"$error":"#N/A"}},{"$f":"MATCH(EY$3,Millwall!$AH$90:$AW$90,0)","v":{"$error":"#N/A"}},{"$f":"MATCH(EZ$3,Millwall!$AH$90:$AW$90,0)","v":{"$error":"#N/A"}},{"$f":"MATCH(FA$3,Millwall!$AH$90:$AW$90,0)","v":{"$error":"#N/A"}},{"$f":"MATCH(FB$3,Millwall!$AH$90:$AW$90,0)","v":{"$error":"#N/A"}},{"$f":"MATCH(FC$3,Millwall!$AH$90:$AW$90,0)","v":{"$error":"#N/A"}},{"$f":"MATCH(FD$3,Millwall!$AH$90:$AW$90,0)","v":{"$error":"#N/A"}},{"$f":"MATCH(FE$3,Millwall!$AH$90:$AW$90,0)","v":{"$error":"#N/A"}},{"$f":"MATCH(FF$3,Millwall!$AH$90:$AW$90,0)","v":{"$error":"#N/A"}},{"$f":"MATCH(FG$3,Millwall!$AH$90:$AW$90,0)","v":{"$error":"#N/A"}},{"$f":"MATCH(FH$3,Millwall!$AH$90:$AW$90,0)","v":{"$error":"#N/A"}},{"$f":"MATCH(FI$3,Millwall!$AH$90:$AW$90,0)","v":{"$error":"#N/A"}},{"$f":"MATCH(FJ$3,Millwall!$AH$90:$AW$90,0)","v":{"$error":"#N/A"}},{"$f":"MATCH(FK$3,Millwall!$AH$90:$AW$90,0)","v":{"$error":"#N/A"}},{"$f":"MATCH(FL$3,Millwall!$AH$90:$AW$90,0)","v":{"$error":"#N/A"}},{"$f":"MATCH(FM$3,Millwall!$AH$90:$AW$90,0)","v":{"$error":"#N/A"}},{"$f":"MATCH(FN$3,Millwall!$AH$90:$AW$90,0)","v":{"$error":"#N/A"}},{"$f":"MATCH(FO$3,Millwall!$AH$90:$AW$90,0)","v":{"$error":"#N/A"}},null,null,null,null,null,null,{"$f":"$FX$20&\" {**\"","v":"Hartley {**"},{"$f":"$FX$20&\" [**\"","v":"Hartley [**"},{"$f":"Millwall!$BY75","v":"Hartley"},"Hartley (**",{"$f":"$FX$20&\"**\"","v":"Hartley**"},null,{"$f":"$FX$20","v":"Hartley"},{"$f":"$FY$20","v":"Hartley (**"},{"$f":"$FZ$20","v":"Hartley**"},null,{"$f":"Millwall!CC21","v":4},{"$f":"Millwall!CH21","v":4},{"$f":"Millwall!CR21","v":0},{"$f":"Millwall!CW21","v":0}]
[null,null,0,17,null,{"$f":"Millwall!AD91","v":"1996-11-02"},null,{"$f":"Millwall!AE91","v":"Walsall"},{"$f":"Millwall!AF91","v":"(H)"},{"$f":"Millwall!AG91","v":"W 1-0"},{"$f":"MATCH($K$4,Millwall!$AH$91:$AW$91,0)","v":{"$error":"#N/A"}},{"$f":"MATCH($L$4,Millwall!$AH$91:$AW$91,0)","v":{"$error":"#N/A"}},{"$f":"MATCH($M$4,Millwall!$AH$91:$AW$91,0)","v":{"$error":"#N/A"}},{"$f":"MATCH($N$4,Millwall!$AH$91:$AW$91,0)","v":7},{"$f":"MATCH($O$4,Millwall!$AH$91:$AW$91,0)","v":{"$error":"#N/A"}},{"$f":"MATCH($P$4,Millwall!$AH$91:$AW$91,0)","v":{"$error":"#N/A"}},{"$f":"MATCH($Q$4,Millwall!$AH$91:$AW$91,0)","v":{"$error":"#N/A"}},{"$f":"MATCH($R$4,Millwall!$AH$91:$AW$91,0)","v":1},{"$f":"MATCH($S$4,Millwall!$AH$91:$AW$91,0)","v":9},{"$f":"MATCH($T$4,Millwall!$AH$91:$AW$91,0)","v":4},{"$f":"MATCH($U$4,Millwall!$AH$91:$AW$91,0)","v":10},{"$f":"MATCH($V$4,Millwall!$AH$91:$AW$91,0)","v":{"$error":"#N/A"}},{"$f":"MATCH($W$4,Millwall!$AH$91:$AW$91,0)","v":6},{"$f":"MATCH($X$4,Millwall!$AH$91:$AW$91,0)","v":{"$error":"#N/A"}},{"$f":"MATCH($Y$4,Millwall!$AH$91:$AW$91,0)","v":12},{"$f":"MATCH($Z$4,Millwall!$AH$91:$AW$91,0)","v":11},{"$f":"MATCH($AA$4,Millwall!$AH$91:$AW$91,0)","v":14},{"$f":"MATCH($AB$4,Millwall!$AH$91:$AW$91,0)","v":{"$error":"#N/A"}},{"$f":"MATCH($AC$4,Millwall!$AH$91:$AW$91,0)","v":{"$error":"#N/A"}},{"$f":"MATCH($AD$4,Millwall!$AH$91:$AW$91,0)","v":13},{"$f":"MATCH($AE$4,Millwall!$AH$91:$AW$91,0)","v":{"$error":"#N/A"}},{"$f":"MATCH($AF$4,Millwall!$AH$91:$AW$91,0)","v":{"$error":"#N/A"}},{"$f":"MATCH($AG$4,Millwall!$AH$91:$AW$91,0)","v":{"$error":"#N/A"}},{"$f":"MATCH($AH$4,Millwall!$AH$91:$AW$91,0)","v":8},{"$f":"MATCH($AI$4,Millwall!$AH$91:$AW$91,0)","v":2},{"$f":"MATCH($AJ$4,Millwall!$AH$91:$AW$91,0)","v":{"$error":"#N/A"}},{"$f":"MATCH($AK$4,Millwall!$AH$91:$AW$91,0)","v":{"$error":"#N/A"}},{"$f":"MATCH($AL$4,Millwall!$AH$91:$AW$91,0)","v":3},{"$f":"MATCH($AM$4,Millwall!$AH$91:$AW$91,0)","v":{"$error":"#N/A"}},{"$f":"MATCH($AN$4,Millwall!$AH$91:$AW$91,0)","v":{"$error":"#N/A"}},{"$f":"MATCH($AO$4,Millwall!$AH$91:$AW$91,0)","v":{"$error":"#N/A"}},{"$f":"MATCH($AP$4,Millwall!$AH$91:$AW$91,0)","v":{"$error":"#N/A"}},{"$f":"MATCH($AQ$4,Millwall!$AH$91:$AW$91,0)","v":{"$error":"#N/A"}},{"$f":"MATCH($AR$4,Millwall!$AH$91:$AW$91,0)","v":{"$error":"#N/A"}},{"$f":"MATCH($AS$4,Millwall!$AH$91:$AW$91,0)","v":{"$error":"#N/A"}},{"$f":"MATCH($AT$4,Millwall!$AH$91:$AW$91,0)","v":5},{"$f":"MATCH($AU$4,Millwall!$AH$91:$AW$91,0)","v":{"$error":"#N/A"}},{"$f":"MATCH($AV$4,Millwall!$AH$91:$AW$91,0)","v":{"$error":"#N/A"}},null,null,null,null,null,{"$f":"MATCH(BB$3,Millwall!$AH91:$AW91,0)","v":{"$error":"#N/A"}},{"$f":"MATCH(BC$3,Millwall!$AH91:$AW91,0)","v":{"$error":"#N/A"}},{"$f":"MATCH(BD$3,Millwall!$AH91:$AW91,0)","v":{"$error":"#N/A"}},{"$f":"MATCH(BE$3,Millwall!$AH91:$AW91,0)","v":{"$error":"#N/A"}},{"$f":"MATCH(BF$3,Millwall!$AH91:$AW91,0)","v":{"$error":"#N/A"}},{"$f":"MATCH(BG$3,Millwall!$AH91:$AW91,0)","v":{"$error":"#N/A"}},{"$f":"MATCH(BH$3,Millwall!$AH91:$AW91,0)","v":{"$error":"#N/A"}},{"$f":"MATCH(BI$3,Millwall!$AH91:$AW91,0)","v":{"$error":"#N/A"}},{"$f":"MATCH(BJ$3,Millwall!$AH91:$AW91,0)","v":{"$error":"#N/A"}},{"$f":"MATCH(BK$3,Millwall!$AH91:$AW91,0)","v":{"$error":"#N/A"}},{"$f":"MATCH(BL$3,Millwall!$AH91:$AW91,0)","v":{"$error":"#N/A"}},{"$f":"MATCH(BM$3,Millwall!$AH91:$AW91,0)","v":{"$error":"#N/A"}},{"$f":"MATCH(BN$3,Millwall!$AH91:$AW91,0)","v":{"$error":"#N/A"}},{"$f":"MATCH(BO$3,Millwall!$AH91:$AW91,0)","v":{"$error":"#N/A"}},{"$f":"MATCH(BP$3,Millwall!$AH91:$AW91,0)","v":{"$error":"#N/A"}},{"$f":"MATCH(BQ$3,Millwall!$AH91:$AW91,0)","v":{"$error":"#N/A"}},{"$f":"MATCH(BR$3,Millwall!$AH91:$AW91,0)","v":{"$error":"#N/A"}},{"$f":"MATCH(BS$3,Millwall!$AH91:$AW91,0)","v":{"$error":"#N/A"}},{"$f":"MATCH(BT$3,Millwall!$AH91:$AW91,0)","v":{"$error":"#N/A"}},{"$f":"MATCH(BU$3,Millwall!$AH91:$AW91,0)","v":{"$error":"#N/A"}},{"$f":"MATCH(BV$3,Millwall!$AH91:$AW91,0)","v":{"$error":"#N/A"}},{"$f":"MATCH(BW$3,Millwall!$AH91:$AW91,0)","v":{"$error":"#N/A"}},{"$f":"MATCH(BX$3,Millwall!$AH91:$AW91,0)","v":{"$error":"#N/A"}},{"$f":"MATCH(BY$3,Millwall!$AH91:$AW91,0)","v":{"$error":"#N/A"}},{"$f":"MATCH(BZ$3,Millwall!$AH91:$AW91,0)","v":{"$error":"#N/A"}},{"$f":"MATCH(CA$3,Millwall!$AH91:$AW91,0)","v":{"$error":"#N/A"}},{"$f":"MATCH(CB$3,Millwall!$AH91:$AW91,0)","v":{"$error":"#N/A"}},{"$f":"MATCH(CC$3,Millwall!$AH91:$AW91,0)","v":{"$error":"#N/A"}},{"$f":"MATCH(CD$3,Millwall!$AH91:$AW91,0)","v":{"$error":"#N/A"}},{"$f":"MATCH(CE$3,Millwall!$AH91:$AW91,0)","v":{"$error":"#N/A"}},{"$f":"MATCH(CF$3,Millwall!$AH91:$AW91,0)","v":{"$error":"#N/A"}},{"$f":"MATCH(CG$3,Millwall!$AH91:$AW91,0)","v":{"$error":"#N/A"}},{"$f":"MATCH(CH$3,Millwall!$AH91:$AW91,0)","v":{"$error":"#N/A"}},{"$f":"MATCH(CI$3,Millwall!$AH91:$AW91,0)","v":{"$error":"#N/A"}},{"$f":"MATCH(CJ$3,Millwall!$AH91:$AW91,0)","v":{"$error":"#N/A"}},{"$f":"MATCH(CK$3,Millwall!$AH91:$AW91,0)","v":{"$error":"#N/A"}},{"$f":"MATCH(CL$3,Millwall!$AH91:$AW91,0)","v":{"$error":"#N/A"}},{"$f":"MATCH(CM$3,Millwall!$AH91:$AW91,0)","v":{"$error":"#N/A"}},null,null,{"$f":"MATCH($CP$3,Millwall!$AH$91:$AW$91,0)","v":{"$error":"#N/A"}},{"$f":"MATCH($CQ$3,Millwall!$AH$91:$AW$91,0)","v":{"$error":"#N/A"}},{"$f":"MATCH($CR$3,Millwall!$AH$91:$AW$91,0)","v":{"$error":"#N/A"}},{"$f":"MATCH($CS$3,Millwall!$AH$91:$AW$91,0)","v":{"$error":"#N/A"}},{"$f":"MATCH($CT$3,Millwall!$AH$91:$AW$91,0)","v":{"$error":"#N/A"}},{"$f":"MATCH($CU$3,Millwall!$AH$91:$AW$91,0)","v":{"$error":"#N/A"}},{"$f":"MATCH($CV$3,Millwall!$AH$91:$AW$91,0)","v":{"$error":"#N/A"}},{"$f":"MATCH($CW$3,Millwall!$AH$91:$AW$91,0)","v":{"$error":"#N/A"}},{"$f":"MATCH($CX$3,Millwall!$AH$91:$AW$91,0)","v":{"$error":"#N/A"}},{"$f":"MATCH($CY$3,Millwall!$AH$91:$AW$91,0)","v":{"$error":"#N/A"}},{"$f":"MATCH($CZ$3,Millwall!$AH$91:$AW$91,0)","v":10},{"$f":"MATCH($DA$3,Millwall!$AH$91:$AW$91,0)","v":{"$error":"#N/A"}},{"$f":"MATCH($DB$3,Millwall!$AH$91:$AW$91,0)","v":{"$error":"#N/A"}},{"$f":"MATCH($DC$3,Millwall!$AH$91:$AW$91,0)","v":{"$error":"#N/A"}},{"$f":"MATCH($DD$3,Millwall!$AH$91:$AW$91,0)","v":{"$error":"#N/A"}},{"$f":"MATCH($DE$3,Millwall!$AH$91:$AW$91,0)","v":{"$error":"#N/A"}},{"$f":"MATCH($DF$3,Millwall!$AH$91:$AW$91,0)","v":{"$error":"#N/A"}},{"$f":"MATCH($DG$3,Millwall!$AH$91:$AW$91,0)","v":{"$error":"#N/A"}},{"$f":"MATCH($DH$3,Millwall!$AH$91:$AW$91,0)","v":{"$error":"#N/A"}},{"$f":"MATCH($DI$3,Millwall!$AH$91:$AW$91,0)","v":13},{"$f":"MATCH($DJ$3,Millwall!$AH$91:$AW$91,0)","v":{"$error":"#N/A"}},{"$f":"MATCH($DK$3,Millwall!$AH$91:$AW$91,0)","v":{"$error":"#N/A"}},{"$f":"MATCH($DL$3,Millwall!$AH$91:$AW$91,0)","v":{"$error":"#N/A"}},{"$f":"MATCH($DM$3,Millwall!$AH$91:$AW$91,0)","v":{"$error":"#N/A"}},{"$f":"MATCH($DN$3,Millwall!$AH$91:$AW$91,0)","v":{"$error":"#N/A"}},{"$f":"MATCH($DO$3,Millwall!$AH$91:$AW$91,0)","v":{"$error":"#N/A"}},{"$f":"MATCH($DP$3,Millwall!$AH$91:$AW$91,0)","v":{"$error":"#N/A"}},{"$f":"MATCH($DQ$3,Millwall!$AH$91:$AW$91,0)","v":{"$error":"#N/A"}},{"$f":"MATCH($DR$3,Millwall!$AH$91:$AW$91,0)","v":{"$error":"#N/A"}},{"$f":"MATCH($DS$3,Millwall!$AH$91:$AW$91,0)","v":{"$error":"#N/A"}},{"$f":"MATCH($DT$3,Millwall!$AH$91:$AW$91,0)","v":{"$error":"#N/A"}},{"$f":"MATCH($DU$3,Millwall!$AH$91:$AW$91,0)","v":{"$error":"#N/A"}},{"$f":"MATCH($DV$3,Millwall!$AH$91:$AW$91,0)","v":{"$error":"#N/A"}},{"$f":"MATCH($DW$3,Millwall!$AH$91:$AW$91,0)","v":{"$error":"#N/A"}},{"$f":"MATCH($DX$3,Millwall!$AH$91:$AW$91,0)","v":{"$error":"#N/A"}},{"$f":"MATCH($DY$3,Millwall!$AH$91:$AW$91,0)","v":{"$error":"#N/A"}},{"$f":"MATCH($DZ$3,Millwall!$AH$91:$AW$91,0)","v":{"$error":"#N/A"}},{"$f":"MATCH($EA$3,Millwall!$AH$91:$AW$91,0)","v":{"$error":"#N/A"}},null,null,{"$f":"MATCH(ED$3,Millwall!$AH$91:$AW$91,0)","v":{"$error":"#N/A"}},{"$f":"MATCH(EE$3,Millwall!$AH$91:$AW$91,0)","v":{"$error":"#N/A"}},{"$f":"MATCH(EF$3,Millwall!$AH$91:$AW$91,0)","v":{"$error":"#N/A"}},{"$f":"MATCH(EG$3,Millwall!$AH$91:$AW$91,0)","v":{"$error":"#N/A"}},{"$f":"MATCH(EH$3,Millwall!$AH$91:$AW$91,0)","v":{"$error":"#N/A"}},{"$f":"MATCH(EI$3,Millwall!$AH$91:$AW$91,0)","v":{"$error":"#N/A"}},{"$f":"MATCH(EJ$3,Millwall!$AH$91:$AW$91,0)","v":{"$error":"#N/A"}},{"$f":"MATCH(EK$3,Millwall!$AH$91:$AW$91,0)","v":{"$error":"#N/A"}},{"$f":"MATCH(EL$3,Millwall!$AH$91:$AW$91,0)","v":{"$error":"#N/A"}},{"$f":"MATCH(EM$3,Millwall!$AH$91:$AW$91,0)","v":{"$error":"#N/A"}},{"$f":"MATCH(EN$3,Millwall!$AH$91:$AW$91,0)","v":{"$error":"#N/A"}},{"$f":"MATCH(EO$3,Millwall!$AH$91:$AW$91,0)","v":{"$error":"#N/A"}},{"$f":"MATCH(EP$3,Millwall!$AH$91:$AW$91,0)","v":{"$error":"#N/A"}},{"$f":"MATCH(EQ$3,Millwall!$AH$91:$AW$91,0)","v":{"$error":"#N/A"}},{"$f":"MATCH(ER$3,Millwall!$AH$91:$AW$91,0)","v":{"$error":"#N/A"}},{"$f":"MATCH(ES$3,Millwall!$AH$91:$AW$91,0)","v":{"$error":"#N/A"}},{"$f":"MATCH(ET$3,Millwall!$AH$91:$AW$91,0)","v":{"$error":"#N/A"}},{"$f":"MATCH(EU$3,Millwall!$AH$91:$AW$91,0)","v":{"$error":"#N/A"}},{"$f":"MATCH(EV$3,Millwall!$AH$91:$AW$91,0)","v":{"$error":"#N/A"}},{"$f":"MATCH(EW$3,Millwall!$AH$91:$AW$91,0)","v":{"$error":"#N/A"}},{"$f":"MATCH(EX$3,Millwall!$AH$91:$AW$91,0)","v":{"$error":"#N/A"}},{"$f":"MATCH(EY$3,Millwall!$AH$91:$AW$91,0)","v":{"$error":"#N/A"}},{"$f":"MATCH(EZ$3,Millwall!$AH$91:$AW$91,0)","v":{"$error":"#N/A"}},{"$f":"MATCH(FA$3,Millwall!$AH$91:$AW$91,0)","v":{"$error":"#N/A"}},{"$f":"MATCH(FB$3,Millwall!$AH$91:$AW$91,0)","v":{"$error":"#N/A"}},{"$f":"MATCH(FC$3,Millwall!$AH$91:$AW$91,0)","v":{"$error":"#N/A"}},{"$f":"MATCH(FD$3,Millwall!$AH$91:$AW$91,0)","v":{"$error":"#N/A"}},{"$f":"MATCH(FE$3,Millwall!$AH$91:$AW$91,0)","v":{"$error":"#N/A"}},{"$f":"MATCH(FF$3,Millwall!$AH$91:$AW$91,0)","v":{"$error":"#N/A"}},{"$f":"MATCH(FG$3,Millwall!$AH$91:$AW$91,0)","v":{"$error":"#N/A"}},{"$f":"MATCH(FH$3,Millwall!$AH$91:$AW$91,0)","v":{"$error":"#N/A"}},{"$f":"MATCH(FI$3,Millwall!$AH$91:$AW$91,0)","v":{"$error":"#N/A"}},{"$f":"MATCH(FJ$3,Millwall!$AH$91:$AW$91,0)","v":{"$error":"#N/A"}},{"$f":"MATCH(FK$3,Millwall!$AH$91:$AW$91,0)","v":{"$error":"#N/A"}},{"$f":"MATCH(FL$3,Millwall!$AH$91:$AW$91,0)","v":{"$error":"#N/A"}},{"$f":"MATCH(FM$3,Millwall!$AH$91:$AW$91,0)","v":{"$error":"#N/A"}},{"$f":"MATCH(FN$3,Millwall!$AH$91:$AW$91,0)","v":{"$error":"#N/A"}},{"$f":"MATCH(FO$3,Millwall!$AH$91:$AW$91,0)","v":{"$error":"#N/A"}},null,null,null,null,null,null,{"$f":"$FX$21&\" {**\"","v":"Hockton {**"},{"$f":"$FX$21&\" [**\"","v":"Hockton [**"},{"$f":"Millwall!$BY76","v":"Hockton"},"Hockton (**",{"$f":"$FX$21&\"**\"","v":"Hockton**"},null,{"$f":"$FX$21","v":"Hockton"},{"$f":"$FY$21","v":"Hockton (**"},{"$f":"$FZ$21","v":"Hockton**"},null,{"$f":"Millwall!CC22","v":0},{"$f":"Millwall!CH22","v":0},{"$f":"Millwall!CR22","v":0},{"$f":"Millwall!CW22","v":0}]
[null,null,0,18,null,{"$f":"Millwall!AD92","v":"1996-11-09"},null,{"$f":"Millwall!AE92","v":"Bristol C"},{"$f":"Millwall!AF92","v":"(A)"},{"$f":"Millwall!AG92","v":"D 1-1"},{"$f":"MATCH($K$4,Millwall!$AH$92:$AW$92,0)","v":{"$error":"#N/A"}},{"$f":"MATCH($L$4,Millwall!$AH$92:$AW$92,0)","v":{"$error":"#N/A"}},{"$f":"MATCH($M$4,Millwall!$AH$92:$AW$92,0)","v":{"$error":"#N/A"}},{"$f":"MATCH($N$4,Millwall!$AH$92:$AW$92,0)","v":7},{"$f":"MATCH($O$4,Millwall!$AH$92:$AW$92,0)","v":{"$error":"#N/A"}},{"$f":"MATCH($P$4,Millwall!$AH$92:$AW$92,0)","v":{"$error":"#N/A"}},{"$f":"MATCH($Q$4,Millwall!$AH$92:$AW$92,0)","v":{"$error":"#N/A"}},{"$f":"MATCH($R$4,Millwall!$AH$92:$AW$92,0)","v":1},{"$f":"MATCH($S$4,Millwall!$AH$92:$AW$92,0)","v":9},{"$f":"MATCH($T$4,Millwall!$AH$92:$AW$92,0)","v":10},{"$f":"MATCH($U$4,Millwall!$AH$92:$AW$92,0)","v":{"$error":"#N/A"}},{"$f":"MATCH($V$4,Millwall!$AH$92:$AW$92,0)","v":{"$error":"#N/A"}},{"$f":"MATCH($W$4,Millwall!$AH$92:$AW$92,0)","v":6},{"$f":"MATCH($X$4,Millwall!$AH$92:$AW$92,0)","v":{"$error":"#N/A"}},{"$f":"MATCH($Y$4,Millwall!$AH$92:$AW$92,0)","v":3},{"$f":"MATCH($Z$4,Millwall!$AH$92:$AW$92,0)","v":11},{"$f":"MATCH($AA$4,Millwall!$AH$92:$AW$92,0)","v":{"$error":"#N/A"}},{"$f":"MATCH($AB$4,Millwall!$AH$92:$AW$92,0)","v":{"$error":"#N/A"}},{"$f":"MATCH($AC$4,Millwall!$AH$92:$AW$92,0)","v":{"$error":"#N/A"}},{"$f":"MATCH($AD$4,Millwall!$AH$92:$AW$92,0)","v":12},{"$f":"MATCH($AE$4,Millwall!$AH$92:$AW$92,0)","v":{"$error":"#N/A"}},{"$f":"MATCH($AF$4,Millwall!$AH$92:$AW$92,0)","v":{"$error":"#N/A"}},{"$f":"MATCH($AG$4,Millwall!$AH$92:$AW$92,0)","v":{"$error":"#N/A"}},{"$f":"MATCH($AH$4,Millwall!$AH$92:$AW$92,0)","v":8},{"$f":"MATCH($AI$4,Millwall!$AH$92:$AW$92,0)","v":2},{"$f":"MATCH($AJ$4,Millwall!$AH$92:$AW$92,0)","v":{"$error":"#N/A"}},{"$f":"MATCH($AK$4,Millwall!$AH$92:$AW$92,0)","v":{"$error":"#N/A"}},{"$f":"MATCH($AL$4,Millwall!$AH$92:$AW$92,0)","v":{"$error":"#N/A"}},{"$f":"MATCH($AM$4,Millwall!$AH$92:$AW$92,0)","v":{"$error":"#N/A"}},{"$f":"MATCH($AN$4,Millwall!$AH$92:$AW$92,0)","v":4},{"$f":"MATCH($AO$4,Millwall!$AH$92:$AW$92,0)","v":{"$error":"#N/A"}},{"$f":"MATCH($AP$4,Millwall!$AH$92:$AW$92,0)","v":{"$error":"#N/A"}},{"$f":"MATCH($AQ$4,Millwall!$AH$92:$AW$92,0)","v":13},{"$f":"MATCH($AR$4,Millwall!$AH$92:$AW$92,0)","v":14},{"$f":"MATCH($AS$4,Millwall!$AH$92:$AW$92,0)","v":{"$error":"#N/A"}},{"$f":"MATCH($AT$4,Millwall!$AH$92:$AW$92,0)","v":5},{"$f":"MATCH($AU$4,Millwall!$AH$92:$AW$92,0)","v":{"$error":"#N/A"}},{"$f":"MATCH($AV$4,Millwall!$AH$92:$AW$92,0)","v":{"$error":"#N/A"}},null,null,null,null,null,{"$f":"MATCH(BB$3,Millwall!$AH92:$AW92,0)","v":{"$error":"#N/A"}},{"$f":"MATCH(BC$3,Millwall!$AH92:$AW92,0)","v":{"$error":"#N/A"}},{"$f":"MATCH(BD$3,Millwall!$AH92:$AW92,0)","v":{"$error":"#N/A"}},{"$f":"MATCH(BE$3,Millwall!$AH92:$AW92,0)","v":{"$error":"#N/A"}},{"$f":"MATCH(BF$3,Millwall!$AH92:$AW92,0)","v":{"$error":"#N/A"}},{"$f":"MATCH(BG$3,Millwall!$AH92:$AW92,0)","v":{"$error":"#N/A"}},{"$f":"MATCH(BH$3,Millwall!$AH92:$AW92,0)","v":{"$error":"#N/A"}},{"$f":"MATCH(BI$3,Millwall!$AH92:$AW92,0)","v":{"$error":"#N/A"}},{"$f":"MATCH(BJ$3,Millwall!$AH92:$AW92,0)","v":{"$error":"#N/A"}},{"$f":"MATCH(BK$3,Millwall!$AH92:$AW92,0)","v":{"$error":"#N/A"}},{"$f":"MATCH(BL$3,Millwall!$AH92:$AW92,0)","v":{"$error":"#N/A"}},{"$f":"MATCH(BM$3,Millwall!$AH92:$AW92,0)","v":{"$error":"#N/A"}},{"$f":"MATCH(BN$3,Millwall!$AH92:$AW92,0)","v":6},{"$f":"MATCH(BO$3,Millwall!$AH92:$AW92,0)","v":{"$error":"#N/A"}},{"$f":"MATCH(BP$3,Millwall!$AH92:$AW92,0)","v":{"$error":"#N/A"}},{"$f":"MATCH(BQ$3,Millwall!$AH92:$AW92,0)","v":{"$error":"#N/A"}},{"$f":"MATCH(BR$3,Millwall!$AH92:$AW92,0)","v":{"$error":"#N/A"}},{"$f":"MATCH(BS$3,Millwall!$AH92:$AW92,0)","v":{"$error":"#N/A"}},{"$f":"MATCH(BT$3,Millwall!$AH92:$AW92,0)","v":{"$error":"#N/A"}},{"$f":"MATCH(BU$3,Millwall!$AH92:$AW92,0)","v":12},{"$f":"MATCH(BV$3,Millwall!$AH92:$AW92,0)","v":{"$error":"#N/A"}},{"$f":"MATCH(BW$3,Millwall!$AH92:$AW92,0)","v":{"$error":"#N/A"}},{"$f":"MATCH(BX$3,Millwall!$AH92:$AW92,0)","v":{"$error":"#N/A"}},{"$f":"MATCH(BY$3,Millwall!$AH92:$AW92,0)","v":{"$error":"#N/A"}},{"$f":"MATCH(BZ$3,Millwall!$AH92:$AW92,0)","v":{"$error":"#N/A"}},{"$f":"MATCH(CA$3,Millwall!$AH92:$AW92,0)","v":{"$error":"#N/A"}},{"$f":"MATCH(CB$3,Millwall!$AH92:$AW92,0)","v":{"$error":"#N/A"}},{"$f":"MATCH(CC$3,Millwall!$AH92:$AW92,0)","v":{"$error":"#N/A"}},{"$f":"MATCH(CD$3,Millwall!$AH92:$AW92,0)","v":{"$error":"#N/A"}},{"$f":"MATCH(CE$3,Millwall!$AH92:$AW92,0)","v":{"$error":"#N/A"}},{"$f":"MATCH(CF$3,Millwall!$AH92:$AW92,0)","v":{"$error":"#N/A"}},{"$f":"MATCH(CG$3,Millwall!$AH92:$AW92,0)","v":{"$error":"#N/A"}},{"$f":"MATCH(CH$3,Millwall!$AH92:$AW92,0)","v":{"$error":"#N/A"}},{"$f":"MATCH(CI$3,Millwall!$AH92:$AW92,0)","v":{"$error":"#N/A"}},{"$f":"MATCH(CJ$3,Millwall!$AH92:$AW92,0)","v":{"$error":"#N/A"}},{"$f":"MATCH(CK$3,Millwall!$AH92:$AW92,0)","v":{"$error":"#N/A"}},{"$f":"MATCH(CL$3,Millwall!$AH92:$AW92,0)","v":{"$error":"#N/A"}},{"$f":"MATCH(CM$3,Millwall!$AH92:$AW92,0)","v":{"$error":"#N/A"}},null,null,{"$f":"MATCH($CP$3,Millwall!$AH$92:$AW$92,0)","v":{"$error":"#N/A"}},{"$f":"MATCH($CQ$3,Millwall!$AH$92:$AW$92,0)","v":{"$error":"#N/A"}},{"$f":"MATCH($CR$3,Millwall!$AH$92:$AW$92,0)","v":{"$error":"#N/A"}},{"$f":"MATCH($CS$3,Millwall!$AH$92:$AW$92,0)","v":{"$error":"#N/A"}},{"$f":"MATCH($CT$3,Millwall!$AH$92:$AW$92,0)","v":{"$error":"#N/A"}},{"$f":"MATCH($CU$3,Millwall!$AH$92:$AW$92,0)","v":{"$error":"#N/A"}},{"$f":"MATCH($CV$3,Millwall!$AH$92:$AW$92,0)","v":{"$error":"#N/A"}},{"$f":"MATCH($CW$3,Millwall!$AH$92:$AW$92,0)","v":{"$error":"#N/A"}},{"$f":"MATCH($CX$3,Millwall!$AH$92:$AW$92,0)","v":{"$error":"#N/A"}},{"$f":"MATCH($CY$3,Millwall!$AH$92:$AW$92,0)","v":{"$error":"#N/A"}},{"$f":"MATCH($CZ$3,Millwall!$AH$92:$AW$92,0)","v":{"$error":"#N/A"}},{"$f":"MATCH($DA$3,Millwall!$AH$92:$AW$92,0)","v":{"$error":"#N/A"}},{"$f":"MATCH($DB$3,Millwall!$AH$92:$AW$92,0)","v":{"$error":"#N/A"}},{"$f":"MATCH($DC$3,Millwall!$AH$92:$AW$92,0)","v":{"$error":"#N/A"}},{"$f":"MATCH($DD$3,Millwall!$AH$92:$AW$92,0)","v":{"$error":"#N/A"}},{"$f":"MATCH($DE$3,Millwall!$AH$92:$AW$92,0)","v":{"$error":"#N/A"}},{"$f":"MATCH($DF$3,Millwall!$AH$92:$AW$92,0)","v":{"$error":"#N/A"}},{"$f":"MATCH($DG$3,Millwall!$AH$92:$AW$92,0)","v":{"$error":"#N/A"}},{"$f":"MATCH($DH$3,Millwall!$AH$92:$AW$92,0)","v":{"$error":"#N/A"}},{"$f":"MATCH($DI$3,Millwall!$AH$92:$AW$92,0)","v":{"$error":"#N/A"}},{"$f":"MATCH($DJ$3,Millwall!$AH$92:$AW$92,0)","v":{"$error":"#N/A"}},{"$f":"MATCH($DK$3,Millwall!$AH$92:$AW$92,0)","v":{"$error":"#N/A"}},{"$f":"MATCH($DL$3,Millwall!$AH$92:$AW$92,0)","v":{"$error":"#N/A"}},{"$f":"MATCH($DM$3,Millwall!$AH$92:$AW$92,0)","v":{"$error":"#N/A"}},{"$f":"MATCH($DN$3,Millwall!$AH$92:$AW$92,0)","v":{"$error":"#N/A"}},{"$f":"MATCH($DO$3,Millwall!$AH$92:$AW$92,0)","v":{"$error":"#N/A"}},{"$f":"MATCH($DP$3,Millwall!$AH$92:$AW$92,0)","v":{"$error":"#N/A"}},{"$f":"MATCH($DQ$3,Millwall!$AH$92:$AW$92,0)","v":{"$error":"#N/A"}},{"$f":"MATCH($DR$3,Millwall!$AH$92:$AW$92,0)","v":{"$error":"#N/A"}},{"$f":"MATCH($DS$3,Millwall!$AH$92:$AW$92,0)","v":{"$error":"#N/A"}},{"$f":"MATCH($DT$3,Millwall!$AH$92:$AW$92,0)","v":{"$error":"#N/A"}},{"$f":"MATCH($DU$3,Millwall!$AH$92:$AW$92,0)","v":{"$error":"#N/A"}},{"$f":"MATCH($DV$3,Millwall!$AH$92:$AW$92,0)","v":{"$error":"#N/A"}},{"$f":"MATCH($DW$3,Millwall!$AH$92:$AW$92,0)","v":{"$error":"#N/A"}},{"$f":"MATCH($DX$3,Millwall!$AH$92:$AW$92,0)","v":{"$error":"#N/A"}},{"$f":"MATCH($DY$3,Millwall!$AH$92:$AW$92,0)","v":{"$error":"#N/A"}},{"$f":"MATCH($DZ$3,Millwall!$AH$92:$AW$92,0)","v":{"$error":"#N/A"}},{"$f":"MATCH($EA$3,Millwall!$AH$92:$AW$92,0)","v":{"$error":"#N/A"}},null,null,{"$f":"MATCH(ED$3,Millwall!$AH$92:$AW$92,0)","v":{"$error":"#N/A"}},{"$f":"MATCH(EE$3,Millwall!$AH$92:$AW$92,0)","v":{"$error":"#N/A"}},{"$f":"MATCH(EF$3,Millwall!$AH$92:$AW$92,0)","v":{"$error":"#N/A"}},{"$f":"MATCH(EG$3,Millwall!$AH$92:$AW$92,0)","v":{"$error":"#N/A"}},{"$f":"MATCH(EH$3,Millwall!$AH$92:$AW$92,0)","v":{"$error":"#N/A"}},{"$f":"MATCH(EI$3,Millwall!$AH$92:$AW$92,0)","v":{"$error":"#N/A"}},{"$f":"MATCH(EJ$3,Millwall!$AH$92:$AW$92,0)","v":{"$error":"#N/A"}},{"$f":"MATCH(EK$3,Millwall!$AH$92:$AW$92,0)","v":{"$error":"#N/A"}},{"$f":"MATCH(EL$3,Millwall!$AH$92:$AW$92,0)","v":{"$error":"#N/A"}},{"$f":"MATCH(EM$3,Millwall!$AH$92:$AW$92,0)","v":{"$error":"#N/A"}},{"$f":"MATCH(EN$3,Millwall!$AH$92:$AW$92,0)","v":{"$error":"#N/A"}},{"$f":"MATCH(EO$3,Millwall!$AH$92:$AW$92,0)","v":{"$error":"#N/A"}},{"$f":"MATCH(EP$3,Millwall!$AH$92:$AW$92,0)","v":{"$error":"#N/A"}},{"$f":"MATCH(EQ$3,Millwall!$AH$92:$AW$92,0)","v":{"$error":"#N/A"}},{"$f":"MATCH(ER$3,Millwall!$AH$92:$AW$92,0)","v":{"$error":"#N/A"}},{"$f":"MATCH(ES$3,Millwall!$AH$92:$AW$92,0)","v":{"$error":"#N/A"}},{"$f":"MATCH(ET$3,Millwall!$AH$92:$AW$92,0)","v":{"$error":"#N/A"}},{"$f":"MATCH(EU$3,Millwall!$AH$92:$AW$92,0)","v":{"$error":"#N/A"}},{"$f":"MATCH(EV$3,Millwall!$AH$92:$AW$92,0)","v":{"$error":"#N/A"}},{"$f":"MATCH(EW$3,Millwall!$AH$92:$AW$92,0)","v":{"$error":"#N/A"}},{"$f":"MATCH(EX$3,Millwall!$AH$92:$AW$92,0)","v":{"$error":"#N/A"}},{"$f":"MATCH(EY$3,Millwall!$AH$92:$AW$92,0)","v":{"$error":"#N/A"}},{"$f":"MATCH(EZ$3,Millwall!$AH$92:$AW$92,0)","v":{"$error":"#N/A"}},{"$f":"MATCH(FA$3,Millwall!$AH$92:$AW$92,0)","v":{"$error":"#N/A"}},{"$f":"MATCH(FB$3,Millwall!$AH$92:$AW$92,0)","v":{"$error":"#N/A"}},{"$f":"MATCH(FC$3,Millwall!$AH$92:$AW$92,0)","v":{"$error":"#N/A"}},{"$f":"MATCH(FD$3,Millwall!$AH$92:$AW$92,0)","v":{"$error":"#N/A"}},{"$f":"MATCH(FE$3,Millwall!$AH$92:$AW$92,0)","v":{"$error":"#N/A"}},{"$f":"MATCH(FF$3,Millwall!$AH$92:$AW$92,0)","v":{"$error":"#N/A"}},{"$f":"MATCH(FG$3,Millwall!$AH$92:$AW$92,0)","v":{"$error":"#N/A"}},{"$f":"MATCH(FH$3,Millwall!$AH$92:$AW$92,0)","v":{"$error":"#N/A"}},{"$f":"MATCH(FI$3,Millwall!$AH$92:$AW$92,0)","v":{"$error":"#N/A"}},{"$f":"MATCH(FJ$3,Millwall!$AH$92:$AW$92,0)","v":{"$error":"#N/A"}},{"$f":"MATCH(FK$3,Millwall!$AH$92:$AW$92,0)","v":{"$error":"#N/A"}},{"$f":"MATCH(FL$3,Millwall!$AH$92:$AW$92,0)","v":{"$error":"#N/A"}},{"$f":"MATCH(FM$3,Millwall!$AH$92:$AW$92,0)","v":{"$error":"#N/A"}},{"$f":"MATCH(FN$3,Millwall!$AH$92:$AW$92,0)","v":{"$error":"#N/A"}},{"$f":"MATCH(FO$3,Millwall!$AH$92:$AW$92,0)","v":{"$error":"#N/A"}},null,null,null,null,null,null,{"$f":"$FX$22&\" {**\"","v":"Huckerby {**"},{"$f":"$FX$22&\" [**\"","v":"Huckerby [**"},{"$f":"Millwall!$BY77","v":"Huckerby"},"Huckerby (**",{"$f":"$FX$22&\"**\"","v":"Huckerby**"},null,{"$f":"$FX$22","v":"Huckerby"},{"$f":"$FY$22","v":"Huckerby (**"},{"$f":"$FZ$22","v":"Huckerby**"},null,{"$f":"Millwall!CC23","v":3},{"$f":"Millwall!CH23","v":3},{"$f":"Millwall!CR23","v":0},{"$f":"Millwall!CW23","v":0}]
[null,null,0,19,null,{"$f":"Millwall!AD93","v":"1996-11-20"},null,{"$f":"Millwall!AE93","v":"Shrewsbury"},{"$f":"Millwall!AF93","v":"(H)"},{"$f":"Millwall!AG93","v":"W 2-1"},{"$f":"MATCH($K$4,Millwall!$AH$93:$AW$93,0)","v":{"$error":"#N/A"}},{"$f":"MATCH($L$4,Millwall!$AH$93:$AW$93,0)","v":{"$error":"#N/A"}},{"$f":"MATCH($M$4,Millwall!$AH$93:$AW$93,0)","v":{"$error":"#N/A"}},{"$f":"MATCH($N$4,Millwall!$AH$93:$AW$93,0)","v":7},{"$f":"MATCH($O$4,Millwall!$AH$93:$AW$93,0)","v":{"$error":"#N/A"}},{"$f":"MATCH($P$4,Millwall!$AH$93:$AW$93,0)","v":{"$error":"#N/A"}},{"$f":"MATCH($Q$4,Millwall!$AH$93:$AW$93,0)","v":{"$error":"#N/A"}},{"$f":"MATCH($R$4,Millwall!$AH$93:$AW$93,0)","v":1},{"$f":"MATCH($S$4,Millwall!$AH$93:$AW$93,0)","v":9},{"$f":"MATCH($T$4,Millwall!$AH$93:$AW$93,0)","v":10},{"$f":"MATCH($U$4,Millwall!$AH$93:$AW$93,0)","v":14},{"$f":"MATCH($V$4,Millwall!$AH$93:$AW$93,0)","v":12},{"$f":"MATCH($W$4,Millwall!$AH$93:$AW$93,0)","v":{"$error":"#N/A"}},{"$f":"MATCH($X$4,Millwall!$AH$93:$AW$93,0)","v":{"$error":"#N/A"}},{"$f":"MATCH($Y$4,Millwall!$AH$93:$AW$93,0)","v":{"$error":"#N/A"}},{"$f":"MATCH($Z$4,Millwall!$AH$93:$AW$93,0)","v":11},{"$f":"MATCH($AA$4,Millwall!$AH$93:$AW$93,0)","v":{"$error":"#N/A"}},{"$f":"MATCH($AB$4,Millwall!$AH$93:$AW$93,0)","v":{"$error":"#N/A"}},{"$f":"MATCH($AC$4,Millwall!$AH$93:$AW$93,0)","v":{"$error":"#N/A"}},{"$f":"MATCH($AD$4,Millwall!$AH$93:$AW$93,0)","v":2},{"$f":"MATCH($AE$4,Millwall!$AH$93:$AW$93,0)","v":{"$error":"#N/A"}},{"$f":"MATCH($AF$4,Millwall!$AH$93:$AW$93,0)","v":{"$error":"#N/A"}},{"$f":"MATCH($AG$4,Millwall!$AH$93:$AW$93,0)","v":{"$error":"#N/A"}},{"$f":"MATCH($AH$4,Millwall!$AH$93:$AW$93,0)","v":8},{"$f":"MATCH($AI$4,Millwall!$AH$93:$AW$93,0)","v":6},{"$f":"MATCH($AJ$4,Millwall!$AH$93:$AW$93,0)","v":{"$error":"#N/A"}},{"$f":"MATCH($AK$4,Millwall!$AH$93:$AW$93,0)","v":{"$error":"#N/A"}},{"$f":"MATCH($AL$4,Millwall!$AH$93:$AW$93,0)","v":3},{"$f":"MATCH($AM$4,Millwall!$AH$93:$AW$93,0)","v":{"$error":"#N/A"}},{"$f":"MATCH($AN$4,Millwall!$AH$93:$AW$93,0)","v":4},{"$f":"MATCH($AO$4,Millwall!$AH$93:$AW$93,0)","v":13},{"$f":"MATCH($AP$4,Millwall!$AH$93:$AW$93,0)","v":{"$error":"#N/A"}},{"$f":"MATCH($AQ$4,Millwall!$AH$93:$AW$93,0)","v":{"$error":"#N/A"}},{"$f":"MATCH($AR$4,Millwall!$AH$93:$AW$93,0)","v":5},{"$f":"MATCH($AS$4,Millwall!$AH$93:$AW$93,0)","v":{"$error":"#N/A"}},{"$f":"MATCH($AT$4,Millwall!$AH$93:$AW$93,0)","v":{"$error":"#N/A"}},{"$f":"MATCH($AU$4,Millwall!$AH$93:$AW$93,0)","v":{"$error":"#N/A"}},{"$f":"MATCH($AV$4,Millwall!$AH$93:$AW$93,0)","v":{"$error":"#N/A"}},null,null,null,null,null,{"$f":"MATCH(BB$3,Millwall!$AH93:$AW93,0)","v":{"$error":"#N/A"}},{"$f":"MATCH(BC$3,Millwall!$AH93:$AW93,0)","v":{"$error":"#N/A"}},{"$f":"MATCH(BD$3,Millwall!$AH93:$AW93,0)","v":{"$error":"#N/A"}},{"$f":"MATCH(BE$3,Millwall!$AH93:$AW93,0)","v":{"$error":"#N/A"}},{"$f":"MATCH(BF$3,Millwall!$AH93:$AW93,0)","v":{"$error":"#N/A"}},{"$f":"MATCH(BG$3,Millwall!$AH93:$AW93,0)","v":{"$error":"#N/A"}},{"$f":"MATCH(BH$3,Millwall!$AH93:$AW93,0)","v":{"$error":"#N/A"}},{"$f":"MATCH(BI$3,Millwall!$AH93:$AW93,0)","v":{"$error":"#N/A"}},{"$f":"MATCH(BJ$3,Millwall!$AH93:$AW93,0)","v":{"$error":"#N/A"}},{"$f":"MATCH(BK$3,Millwall!$AH93:$AW93,0)","v":{"$error":"#N/A"}},{"$f":"MATCH(BL$3,Millwall!$AH93:$AW93,0)","v":{"$error":"#N/A"}},{"$f":"MATCH(BM$3,Millwall!$AH93:$AW93,0)","v":12},{"$f":"MATCH(BN$3,Millwall!$AH93:$AW93,0)","v":{"$error":"#N/A"}},{"$f":"MATCH(BO$3,Millwall!$AH93:$AW93,0)","v":{"$error":"#N/A"}},{"$f":"MATCH(BP$3,Millwall!$AH93:$AW93,0)","v":{"$error":"#N/A"}},{"$f":"MATCH(BQ$3,Millwall!$AH93:$AW93,0)","v":{"$error":"#N/A"}},{"$f":"MATCH(BR$3,Millwall!$AH93:$AW93,0)","v":{"$error":"#N/A"}},{"$f":"MATCH(BS$3,Millwall!$AH93:$AW93,0)","v":{"$error":"#N/A"}},{"$f":"MATCH(BT$3,Millwall!$AH93:$AW93,0)","v":{"$error":"#N/A"}},{"$f":"MATCH(BU$3,Millwall!$AH93:$AW93,0)","v":{"$error":"#N/A"}},{"$f":"MATCH(BV$3,Millwall!$AH93:$AW93,0)","v":{"$error":"#N/A"}},{"$f":"MATCH(BW$3,Millwall!$AH93:$AW93,0)","v":{"$error":"#N/A"}},{"$f":"MATCH(BX$3,Millwall!$AH93:$AW93,0)","v":{"$error":"#N/A"}},{"$f":"MATCH(BY$3,Millwall!$AH93:$AW93,0)","v":8},{"$f":"MATCH(BZ$3,Millwall!$AH93:$AW93,0)","v":{"$error":"#N/A"}},{"$f":"MATCH(CA$3,Millwall!$AH93:$AW93,0)","v":{"$error":"#N/A"}},{"$f":"MATCH(CB$3,Millwall!$AH93:$AW93,0)","v":{"$error":"#N/A"}},{"$f":"MATCH(CC$3,Millwall!$AH93:$AW93,0)","v":{"$error":"#N/A"}},{"$f":"MATCH(CD$3,Millwall!$AH93:$AW93,0)","v":{"$error":"#N/A"}},{"$f":"MATCH(CE$3,Millwall!$AH93:$AW93,0)","v":{"$error":"#N/A"}},{"$f":"MATCH(CF$3,Millwall!$AH93:$AW93,0)","v":{"$error":"#N/A"}},{"$f":"MATCH(CG$3,Millwall!$AH93:$AW93,0)","v":{"$error":"#N/A"}},{"$f":"MATCH(CH$3,Millwall!$AH93:$AW93,0)","v":{"$error":"#N/A"}},{"$f":"MATCH(CI$3,Millwall!$AH93:$AW93,0)","v":{"$error":"#N/A"}},{"$f":"MATCH(CJ$3,Millwall!$AH93:$AW93,0)","v":{"$error":"#N/A"}},{"$f":"MATCH(CK$3,Millwall!$AH93:$AW93,0)","v":{"$error":"#N/A"}},{"$f":"MATCH(CL$3,Millwall!$AH93:$AW93,0)","v":{"$error":"#N/A"}},{"$f":"MATCH(CM$3,Millwall!$AH93:$AW93,0)","v":{"$error":"#N/A"}},null,null,{"$f":"MATCH($CP$3,Millwall!$AH$93:$AW$93,0)","v":{"$error":"#N/A"}},{"$f":"MATCH($CQ$3,Millwall!$AH$93:$AW$93,0)","v":{"$error":"#N/A"}},{"$f":"MATCH($CR$3,Millwall!$AH$93:$AW$93,0)","v":{"$error":"#N/A"}},{"$f":"MATCH($CS$3,Millwall!$AH$93:$AW$93,0)","v":{"$error":"#N/A"}},{"$f":"MATCH($CT$3,Millwall!$AH$93:$AW$93,0)","v":{"$error":"#N/A"}},{"$f":"MATCH($CU$3,Millwall!$AH$93:$AW$93,0)","v":{"$error":"#N/A"}},{"$f":"MATCH($CV$3,Millwall!$AH$93:$AW$93,0)","v":{"$error":"#N/A"}},{"$f":"MATCH($CW$3,Millwall!$AH$93:$AW$93,0)","v":{"$error":"#N/A"}},{"$f":"MATCH($CX$3,Millwall!$AH$93:$AW$93,0)","v":{"$error":"#N/A"}},{"$f":"MATCH($CY$3,Millwall!$AH$93:$AW$93,0)","v":{"$error":"#N/A"}},{"$f":"MATCH($CZ$3,Millwall!$AH$93:$AW$93,0)","v":{"$error":"#N/A"}},{"$f":"MATCH($DA$3,Millwall!$AH$93:$AW$93,0)","v":{"$error":"#N/A"}},{"$f":"MATCH($DB$3,Millwall!$AH$93:$AW$93,0)","v":{"$error":"#N/A"}},{"$f":"MATCH($DC$3,Millwall!$AH$93:$AW$93,0)","v":{"$error":"#N/A"}},{"$f":"MATCH($DD$3,Millwall!$AH$93:$AW$93,0)","v":{"$error":"#N/A"}},{"$f":"MATCH($DE$3,Millwall!$AH$93:$AW$93,0)","v":{"$error":"#N/A"}},{"$f":"MATCH($DF$3,Millwall!$AH$93:$AW$93,0)","v":{"$error":"#N/A"}},{"$f":"MATCH($DG$3,Millwall!$AH$93:$AW$93,0)","v":{"$error":"#N/A"}},{"$f":"MATCH($DH$3,Millwall!$AH$93:$AW$93,0)","v":{"$error":"#N/A"}},{"$f":"MATCH($DI$3,Millwall!$AH$93:$AW$93,0)","v":{"$error":"#N/A"}},{"$f":"MATCH($DJ$3,Millwall!$AH$93:$AW$93,0)","v":{"$error":"#N/A"}},{"$f":"MATCH($DK$3,Millwall!$AH$93:$AW$93,0)","v":{"$error":"#N/A"}},{"$f":"MATCH($DL$3,Millwall!$AH$93:$AW$93,0)","v":{"$error":"#N/A"}},{"$f":"MATCH($DM$3,Millwall!$AH$93:$AW$93,0)","v":{"$error":"#N/A"}},{"$f":"MATCH($DN$3,Millwall!$AH$93:$AW$93,0)","v":{"$error":"#N/A"}},{"$f":"MATCH($DO$3,Millwall!$AH$93:$AW$93,0)","v":{"$error":"#N/A"}},{"$f":"MATCH($DP$3,Millwall!$AH$93:$AW$93,0)","v":{"$error":"#N/A"}},{"$f":"MATCH($DQ$3,Millwall!$AH$93:$AW$93,0)","v":{"$error":"#N/A"}},{"$f":"MATCH($DR$3,Millwall!$AH$93:$AW$93,0)","v":{"$error":"#N/A"}},{"$f":"MATCH($DS$3,Millwall!$AH$93:$AW$93,0)","v":{"$error":"#N/A"}},{"$f":"MATCH($DT$3,Millwall!$AH$93:$AW$93,0)","v":{"$error":"#N/A"}},{"$f":"MATCH($DU$3,Millwall!$AH$93:$AW$93,0)","v":{"$error":"#N/A"}},{"$f":"MATCH($DV$3,Millwall!$AH$93:$AW$93,0)","v":{"$error":"#N/A"}},{"$f":"MATCH($DW$3,Millwall!$AH$93:$AW$93,0)","v":{"$error":"#N/A"}},{"$f":"MATCH($DX$3,Millwall!$AH$93:$AW$93,0)","v":{"$error":"#N/A"}},{"$f":"MATCH($DY$3,Millwall!$AH$93:$AW$93,0)","v":{"$error":"#N/A"}},{"$f":"MATCH($DZ$3,Millwall!$AH$93:$AW$93,0)","v":{"$error":"#N/A"}},{"$f":"MATCH($EA$3,Millwall!$AH$93:$AW$93,0)","v":{"$error":"#N/A"}},null,null,{"$f":"MATCH(ED$3,Millwall!$AH$93:$AW$93,0)","v":{"$error":"#N/A"}},{"$f":"MATCH(EE$3,Millwall!$AH$93:$AW$93,0)","v":{"$error":"#N/A"}},{"$f":"MATCH(EF$3,Millwall!$AH$93:$AW$93,0)","v":{"$error":"#N/A"}},{"$f":"MATCH(EG$3,Millwall!$AH$93:$AW$93,0)","v":{"$error":"#N/A"}},{"$f":"MATCH(EH$3,Millwall!$AH$93:$AW$93,0)","v":{"$error":"#N/A"}},{"$f":"MATCH(EI$3,Millwall!$AH$93:$AW$93,0)","v":{"$error":"#N/A"}},{"$f":"MATCH(EJ$3,Millwall!$AH$93:$AW$93,0)","v":{"$error":"#N/A"}},{"$f":"MATCH(EK$3,Millwall!$AH$93:$AW$93,0)","v":{"$error":"#N/A"}},{"$f":"MATCH(EL$3,Millwall!$AH$93:$AW$93,0)","v":{"$error":"#N/A"}},{"$f":"MATCH(EM$3,Millwall!$AH$93:$AW$93,0)","v":{"$error":"#N/A"}},{"$f":"MATCH(EN$3,Millwall!$AH$93:$AW$93,0)","v":14},{"$f":"MATCH(EO$3,Millwall!$AH$93:$AW$93,0)","v":{"$error":"#N/A"}},{"$f":"MATCH(EP$3,Millwall!$AH$93:$AW$93,0)","v":{"$error":"#N/A"}},{"$f":"MATCH(EQ$3,Millwall!$AH$93:$AW$93,0)","v":{"$error":"#N/A"}},{"$f":"MATCH(ER$3,Millwall!$AH$93:$AW$93,0)","v":{"$error":"#N/A"}},{"$f":"MATCH(ES$3,Millwall!$AH$93:$AW$93,0)","v":{"$error":"#N/A"}},{"$f":"MATCH(ET$3,Millwall!$AH$93:$AW$93,0)","v":{"$error":"#N/A"}},{"$f":"MATCH(EU$3,Millwall!$AH$93:$AW$93,0)","v":{"$error":"#N/A"}},{"$f":"MATCH(EV$3,Millwall!$AH$93:$AW$93,0)","v":{"$error":"#N/A"}},{"$f":"MATCH(EW$3,Millwall!$AH$93:$AW$93,0)","v":{"$error":"#N/A"}},{"$f":"MATCH(EX$3,Millwall!$AH$93:$AW$93,0)","v":{"$error":"#N/A"}},{"$f":"MATCH(EY$3,Millwall!$AH$93:$AW$93,0)","v":{"$error":"#N/A"}},{"$f":"MATCH(EZ$3,Millwall!$AH$93:$AW$93,0)","v":{"$error":"#N/A"}},{"$f":"MATCH(FA$3,Millwall!$AH$93:$AW$93,0)","v":{"$error":"#N/A"}},{"$f":"MATCH(FB$3,Millwall!$AH$93:$AW$93,0)","v":{"$error":"#N/A"}},{"$f":"MATCH(FC$3,Millwall!$AH$93:$AW$93,0)","v":{"$error":"#N/A"}},{"$f":"MATCH(FD$3,Millwall!$AH$93:$AW$93,0)","v":{"$error":"#N/A"}},{"$f":"MATCH(FE$3,Millwall!$AH$93:$AW$93,0)","v":{"$error":"#N/A"}},{"$f":"MATCH(FF$3,Millwall!$AH$93:$AW$93,0)","v":{"$error":"#N/A"}},{"$f":"MATCH(FG$3,Millwall!$AH$93:$AW$93,0)","v":4},{"$f":"MATCH(FH$3,Millwall!$AH$93:$AW$93,0)","v":{"$error":"#N/A"}},{"$f":"MATCH(FI$3,Millwall!$AH$93:$AW$93,0)","v":{"$error":"#N/A"}},{"$f":"MATCH(FJ$3,Millwall!$AH$93:$AW$93,0)","v":{"$error":"#N/A"}},{"$f":"MATCH(FK$3,Millwall!$AH$93:$AW$93,0)","v":{"$error":"#N/A"}},{"$f":"MATCH(FL$3,Millwall!$AH$93:$AW$93,0)","v":{"$error":"#N/A"}},{"$f":"MATCH(FM$3,Millwall!$AH$93:$AW$93,0)","v":{"$error":"#N/A"}},{"$f":"MATCH(FN$3,Millwall!$AH$93:$AW$93,0)","v":{"$error":"#N/A"}},{"$f":"MATCH(FO$3,Millwall!$AH$93:$AW$93,0)","v":{"$error":"#N/A"}},null,null,null,null,null,null,{"$f":"$FX$23&\" {**\"","v":"Iga {**"},{"$f":"$FX$23&\" [**\"","v":"Iga [**"},{"$f":"Millwall!$BY78","v":"Iga"},"Iga (**",{"$f":"$FX$23&\"**\"","v":"Iga**"},null,{"$f":"$FX$23","v":"Iga"},{"$f":"$FY$23","v":"Iga (**"},{"$f":"$FZ$23","v":"Iga**"},null,{"$f":"Millwall!CC24","v":0},{"$f":"Millwall!CH24","v":0},{"$f":"Millwall!CR24","v":0},{"$f":"Millwall!CW24","v":0}]
[null,null,0,20,null,{"$f":"Millwall!AD94","v":"1996-11-23"},null,{"$f":"Millwall!AE94","v":"Rotherham"},{"$f":"Millwall!AF94","v":"(A)"},{"$f":"Millwall!AG94","v":"D 0-0"},{"$f":"MATCH($K$4,Millwall!$AH$94:$AW$94,0)","v":{"$error":"#N/A"}},{"$f":"MATCH($L$4,Millwall!$AH$94:$AW$94,0)","v":{"$error":"#N/A"}},{"$f":"MATCH($M$4,Millwall!$AH$94:$AW$94,0)","v":{"$error":"#N/A"}},{"$f":"MATCH($N$4,Millwall!$AH$94:$AW$94,0)","v":7},{"$f":"MATCH($O$4,Millwall!$AH$94:$AW$94,0)","v":{"$error":"#N/A"}},{"$f":"MATCH($P$4,Millwall!$AH$94:$AW$94,0)","v":{"$error":"#N/A"}},{"$f":"MATCH($Q$4,Millwall!$AH$94:$AW$94,0)","v":{"$error":"#N/A"}},{"$f":"MATCH($R$4,Millwall!$AH$94:$AW$94,0)","v":1},{"$f":"MATCH($S$4,Millwall!$AH$94:$AW$94,0)","v":9},{"$f":"MATCH($T$4,Millwall!$AH$94:$AW$94,0)","v":10},{"$f":"MATCH($U$4,Millwall!$AH$94:$AW$94,0)","v":14},{"$f":"MATCH($V$4,Millwall!$AH$94:$AW$94,0)","v":12},{"$f":"MATCH($W$4,Millwall!$AH$94:$AW$94,0)","v":{"$error":"#N/A"}},{"$f":"MATCH($X$4,Millwall!$AH$94:$AW$94,0)","v":{"$error":"#N/A"}},{"$f":"MATCH($Y$4,Millwall!$AH$94:$AW$94,0)","v":{"$error":"#N/A"}},{"$f":"MATCH($Z$4,Millwall!$AH$94:$AW$94,0)","v":11},{"$f":"MATCH($AA$4,Millwall!$AH$94:$AW$94,0)","v":{"$error":"#N/A"}},{"$f":"MATCH($AB$4,Millwall!$AH$94:$AW$94,0)","v":{"$error":"#N/A"}},{"$f":"MATCH($AC$4,Millwall!$AH$94:$AW$94,0)","v":{"$error":"#N/A"}},{"$f":"MATCH($AD$4,Millwall!$AH$94:$AW$94,0)","v":2},{"$f":"MATCH($AE$4,Millwall!$AH$94:$AW$94,0)","v":{"$error":"#N/A"}},{"$f":"MATCH($AF$4,Millwall!$AH$94:$AW$94,0)","v":{"$error":"#N/A"}},{"$f":"MATCH($AG$4,Millwall!$AH$94:$AW$94,0)","v":{"$error":"#N/A"}},{"$f":"MATCH($AH$4,Millwall!$AH$94:$AW$94,0)","v":8},{"$f":"MATCH($AI$4,Millwall!$AH$94:$AW$94,0)","v":6},{"$f":"MATCH($AJ$4,Millwall!$AH$94:$AW$94,0)","v":{"$error":"#N/A"}},{"$f":"MATCH($AK$4,Millwall!$AH$94:$AW$94,0)","v":{"$error":"#N/A"}},{"$f":"MATCH($AL$4,Millwall!$AH$94:$AW$94,0)","v":3},{"$f":"MATCH($AM$4,Millwall!$AH$94:$AW$94,0)","v":{"$error":"#N/A"}},{"$f":"MATCH($AN$4,Millwall!$AH$94:$AW$94,0)","v":4},{"$f":"MATCH($AO$4,Millwall!$AH$94:$AW$94,0)","v":13},{"$f":"MATCH($AP$4,Millwall!$AH$94:$AW$94,0)","v":{"$error":"#N/A"}},{"$f":"MATCH($AQ$4,Millwall!$AH$94:$AW$94,0)","v":{"$error":"#N/A"}},{"$f":"MATCH($AR$4,Millwall!$AH$94:$AW$94,0)","v":5},{"$f":"MATCH($AS$4,Millwall!$AH$94:$AW$94,0)","v":{"$error":"#N/A"}},{"$f":"MATCH($AT$4,Millwall!$AH$94:$AW$94,0)","v":{"$error":"#N/A"}},{"$f":"MATCH($AU$4,Millwall!$AH$94:$AW$94,0)","v":{"$error":"#N/A"}},{"$f":"MATCH($AV$4,Millwall!$AH$94:$AW$94,0)","v":{"$error":"#N/A"}},null,null,null,null,null,{"$f":"MATCH(BB$3,Millwall!$AH94:$AW94,0)","v":{"$error":"#N/A"}},{"$f":"MATCH(BC$3,Millwall!$AH94:$AW94,0)","v":{"$error":"#N/A"}},{"$f":"MATCH(BD$3,Millwall!$AH94:$AW94,0)","v":{"$error":"#N/A"}},{"$f":"MATCH(BE$3,Millwall!$AH94:$AW94,0)","v":{"$error":"#N/A"}},{"$f":"MATCH(BF$3,Millwall!$AH94:$AW94,0)","v":{"$error":"#N/A"}},{"$f":"MATCH(BG$3,Millwall!$AH94:$AW94,0)","v":{"$error":"#N/A"}},{"$f":"MATCH(BH$3,Millwall!$AH94:$AW94,0)","v":{"$error":"#N/A"}},{"$f":"MATCH(BI$3,Millwall!$AH94:$AW94,0)","v":{"$error":"#N/A"}},{"$f":"MATCH(BJ$3,Millwall!$AH94:$AW94,0)","v":{"$error":"#N/A"}},{"$f":"MATCH(BK$3,Millwall!$AH94:$AW94,0)","v":{"$error":"#N/A"}},{"$f":"MATCH(BL$3,Millwall!$AH94:$AW94,0)","v":{"$error":"#N/A"}},{"$f":"MATCH(BM$3,Millwall!$AH94:$AW94,0)","v":{"$error":"#N/A"}},{"$f":"MATCH(BN$3,Millwall!$AH94:$AW94,0)","v":{"$error":"#N/A"}},{"$f":"MATCH(BO$3,Millwall!$AH94:$AW94,0)","v":{"$error":"#N/A"}},{"$f":"MATCH(BP$3,Millwall!$AH94:$AW94,0)","v":{"$error":"#N/A"}},{"$f":"MATCH(BQ$3,Millwall!$AH94:$AW94,0)","v":{"$error":"#N/A"}},{"$f":"MATCH(BR$3,Millwall!$AH94:$AW94,0)","v":{"$error":"#N/A"}},{"$f":"MATCH(BS$3,Millwall!$AH94:$AW94,0)","v":{"$error":"#N/A"}},{"$f":"MATCH(BT$3,Millwall!$AH94:$AW94,0)","v":{"$error":"#N/A"}},{"$f":"MATCH(BU$3,Millwall!$AH94:$AW94,0)","v":{"$error":"#N/A"}},{"$f":"MATCH(BV$3,Millwall!$AH94:$AW94,0)","v":{"$error":"#N/A"}},{"$f":"MATCH(BW$3,Millwall!$AH94:$AW94,0)","v":{"$error":"#N/A"}},{"$f":"MATCH(BX$3,Millwall!$AH94:$AW94,0)","v":{"$error":"#N/A"}},{"$f":"MATCH(BY$3,Millwall!$AH94:$AW94,0)","v":{"$error":"#N/A"}},{"$f":"MATCH(BZ$3,Millwall!$AH94:$AW94,0)","v":{"$error":"#N/A"}},{"$f":"MATCH(CA$3,Millwall!$AH94:$AW94,0)","v":{"$error":"#N/A"}},{"$f":"MATCH(CB$3,Millwall!$AH94:$AW94,0)","v":{"$error":"#N/A"}},{"$f":"MATCH(CC$3,Millwall!$AH94:$AW94,0)","v":{"$error":"#N/A"}},{"$f":"MATCH(CD$3,Millwall!$AH94:$AW94,0)","v":{"$error":"#N/A"}},{"$f":"MATCH(CE$3,Millwall!$AH94:$AW94,0)","v":{"$error":"#N/A"}},{"$f":"MATCH(CF$3,Millwall!$AH94:$AW94,0)","v":{"$error":"#N/A"}},{"$f":"MATCH(CG$3,Millwall!$AH94:$AW94,0)","v":{"$error":"#N/A"}},{"$f":"MATCH(CH$3,Millwall!$AH94:$AW94,0)","v":{"$error":"#N/A"}},{"$f":"MATCH(CI$3,Millwall!$AH94:$AW94,0)","v":{"$error":"#N/A"}},{"$f":"MATCH(CJ$3,Millwall!$AH94:$AW94,0)","v":{"$error":"#N/A"}},{"$f":"MATCH(CK$3,Millwall!$AH94:$AW94,0)","v":{"$error":"#N/A"}},{"$f":"MATCH(CL$3,Millwall!$AH94:$AW94,0)","v":{"$error":"#N/A"}},{"$f":"MATCH(CM$3,Millwall!$AH94:$AW94,0)","v":{"$error":"#N/A"}},null,null,{"$f":"MATCH($CP$3,Millwall!$AH$94:$AW$94,0)","v":{"$error":"#N/A"}},{"$f":"MATCH($CQ$3,Millwall!$AH$94:$AW$94,0)","v":{"$error":"#N/A"}},{"$f":"MATCH($CR$3,Millwall!$AH$94:$AW$94,0)","v":{"$error":"#N/A"}},{"$f":"MATCH($CS$3,Millwall!$AH$94:$AW$94,0)","v":{"$error":"#N/A"}},{"$f":"MATCH($CT$3,Millwall!$AH$94:$AW$94,0)","v":{"$error":"#N/A"}},{"$f":"MATCH($CU$3,Millwall!$AH$94:$AW$94,0)","v":{"$error":"#N/A"}},{"$f":"MATCH($CV$3,Millwall!$AH$94:$AW$94,0)","v":{"$error":"#N/A"}},{"$f":"MATCH($CW$3,Millwall!$AH$94:$AW$94,0)","v":{"$error":"#N/A"}},{"$f":"MATCH($CX$3,Millwall!$AH$94:$AW$94,0)","v":{"$error":"#N/A"}},{"$f":"MATCH($CY$3,Millwall!$AH$94:$AW$94,0)","v":{"$error":"#N/A"}},{"$f":"MATCH($CZ$3,Millwall!$AH$94:$AW$94,0)","v":{"$error":"#N/A"}},{"$f":"MATCH($DA$3,Millwall!$AH$94:$AW$94,0)","v":{"$error":"#N/A"}},{"$f":"MATCH($DB$3,Millwall!$AH$94:$AW$94,0)","v":{"$error":"#N/A"}},{"$f":"MATCH($DC$3,Millwall!$AH$94:$AW$94,0)","v":{"$error":"#N/A"}},{"$f":"MATCH($DD$3,Millwall!$AH$94:$AW$94,0)","v":{"$error":"#N/A"}},{"$f":"MATCH($DE$3,Millwall!$AH$94:$AW$94,0)","v":{"$error":"#N/A"}},{"$f":"MATCH($DF$3,Millwall!$AH$94:$AW$94,0)","v":{"$error":"#N/A"}},{"$f":"MATCH($DG$3,Millwall!$AH$94:$AW$94,0)","v":{"$error":"#N/A"}},{"$f":"MATCH($DH$3,Millwall!$AH$94:$AW$94,0)","v":{"$error":"#N/A"}},{"$f":"MATCH($DI$3,Millwall!$AH$94:$AW$94,0)","v":{"$error":"#N/A"}},{"$f":"MATCH($DJ$3,Millwall!$AH$94:$AW$94,0)","v":{"$error":"#N/A"}},{"$f":"MATCH($DK$3,Millwall!$AH$94:$AW$94,0)","v":{"$error":"#N/A"}},{"$f":"MATCH($DL$3,Millwall!$AH$94:$AW$94,0)","v":{"$error":"#N/A"}},{"$f":"MATCH($DM$3,Millwall!$AH$94:$AW$94,0)","v":{"$error":"#N/A"}},{"$f":"MATCH($DN$3,Millwall!$AH$94:$AW$94,0)","v":{"$error":"#N/A"}},{"$f":"MATCH($DO$3,Millwall!$AH$94:$AW$94,0)","v":{"$error":"#N/A"}},{"$f":"MATCH($DP$3,Millwall!$AH$94:$AW$94,0)","v":{"$error":"#N/A"}},{"$f":"MATCH($DQ$3,Millwall!$AH$94:$AW$94,0)","v":{"$error":"#N/A"}},{"$f":"MATCH($DR$3,Millwall!$AH$94:$AW$94,0)","v":{"$error":"#N/A"}},{"$f":"MATCH($DS$3,Millwall!$AH$94:$AW$94,0)","v":{"$error":"#N/A"}},{"$f":"MATCH($DT$3,Millwall!$AH$94:$AW$94,0)","v":{"$error":"#N/A"}},{"$f":"MATCH($DU$3,Millwall!$AH$94:$AW$94,0)","v":{"$error":"#N/A"}},{"$f":"MATCH($DV$3,Millwall!$AH$94:$AW$94,0)","v":{"$error":"#N/A"}},{"$f":"MATCH($DW$3,Millwall!$AH$94:$AW$94,0)","v":{"$error":"#N/A"}},{"$f":"MATCH($DX$3,Millwall!$AH$94:$AW$94,0)","v":{"$error":"#N/A"}},{"$f":"MATCH($DY$3,Millwall!$AH$94:$AW$94,0)","v":{"$error":"#N/A"}},{"$f":"MATCH($DZ$3,Millwall!$AH$94:$AW$94,0)","v":{"$error":"#N/A"}},{"$f":"MATCH($EA$3,Millwall!$AH$94:$AW$94,0)","v":{"$error":"#N/A"}},null,null,{"$f":"MATCH(ED$3,Millwall!$AH$94:$AW$94,0)","v":{"$error":"#N/A"}},{"$f":"MATCH(EE$3,Millwall!$AH$94:$AW$94,0)","v":{"$error":"#N/A"}},{"$f":"MATCH(EF$3,Millwall!$AH$94:$AW$94,0)","v":{"$error":"#N/A"}},{"$f":"MATCH(EG$3,Millwall!$AH$94:$AW$94,0)","v":{"$error":"#N/A"}},{"$f":"MATCH(EH$3,Millwall!$AH$94:$AW$94,0)","v":{"$error":"#N/A"}},{"$f":"MATCH(EI$3,Millwall!$AH$94:$AW$94,0)","v":{"$error":"#N/A"}},{"$f":"MATCH(EJ$3,Millwall!$AH$94:$AW$94,0)","v":{"$error":"#N/A"}},{"$f":"MATCH(EK$3,Millwall!$AH$94:$AW$94,0)","v":{"$error":"#N/A"}},{"$f":"MATCH(EL$3,Millwall!$AH$94:$AW$94,0)","v":{"$error":"#N/A"}},{"$f":"MATCH(EM$3,Millwall!$AH$94:$AW$94,0)","v":{"$error":"#N/A"}},{"$f":"MATCH(EN$3,Millwall!$AH$94:$AW$94,0)","v":{"$error":"#N/A"}},{"$f":"MATCH(EO$3,Millwall!$AH$94:$AW$94,0)","v":{"$error":"#N/A"}},{"$f":"MATCH(EP$3,Millwall!$AH$94:$AW$94,0)","v":{"$error":"#N/A"}},{"$f":"MATCH(EQ$3,Millwall!$AH$94:$AW$94,0)","v":{"$error":"#N/A"}},{"$f":"MATCH(ER$3,Millwall!$AH$94:$AW$94,0)","v":{"$error":"#N/A"}},{"$f":"MATCH(ES$3,Millwall!$AH$94:$AW$94,0)","v":{"$error":"#N/A"}},{"$f":"MATCH(ET$3,Millwall!$AH$94:$AW$94,0)","v":{"$error":"#N/A"}},{"$f":"MATCH(EU$3,Millwall!$AH$94:$AW$94,0)","v":{"$error":"#N/A"}},{"$f":"MATCH(EV$3,Millwall!$AH$94:$AW$94,0)","v":{"$error":"#N/A"}},{"$f":"MATCH(EW$3,Millwall!$AH$94:$AW$94,0)","v":{"$error":"#N/A"}},{"$f":"MATCH(EX$3,Millwall!$AH$94:$AW$94,0)","v":{"$error":"#N/A"}},{"$f":"MATCH(EY$3,Millwall!$AH$94:$AW$94,0)","v":{"$error":"#N/A"}},{"$f":"MATCH(EZ$3,Millwall!$AH$94:$AW$94,0)","v":{"$error":"#N/A"}},{"$f":"MATCH(FA$3,Millwall!$AH$94:$AW$94,0)","v":{"$error":"#N/A"}},{"$f":"MATCH(FB$3,Millwall!$AH$94:$AW$94,0)","v":{"$error":"#N/A"}},{"$f":"MATCH(FC$3,Millwall!$AH$94:$AW$94,0)","v":{"$error":"#N/A"}},{"$f":"MATCH(FD$3,Millwall!$AH$94:$AW$94,0)","v":{"$error":"#N/A"}},{"$f":"MATCH(FE$3,Millwall!$AH$94:$AW$94,0)","v":{"$error":"#N/A"}},{"$f":"MATCH(FF$3,Millwall!$AH$94:$AW$94,0)","v":{"$error":"#N/A"}},{"$f":"MATCH(FG$3,Millwall!$AH$94:$AW$94,0)","v":{"$error":"#N/A"}},{"$f":"MATCH(FH$3,Millwall!$AH$94:$AW$94,0)","v":{"$error":"#N/A"}},{"$f":"MATCH(FI$3,Millwall!$AH$94:$AW$94,0)","v":{"$error":"#N/A"}},{"$f":"MATCH(FJ$3,Millwall!$AH$94:$AW$94,0)","v":{"$error":"#N/A"}},{"$f":"MATCH(FK$3,Millwall!$AH$94:$AW$94,0)","v":{"$error":"#N/A"}},{"$f":"MATCH(FL$3,Millwall!$AH$94:$AW$94,0)","v":{"$error":"#N/A"}},{"$f":"MATCH(FM$3,Millwall!$AH$94:$AW$94,0)","v":{"$error":"#N/A"}},{"$f":"MATCH(FN$3,Millwall!$AH$94:$AW$94,0)","v":{"$error":"#N/A"}},{"$f":"MATCH(FO$3,Millwall!$AH$94:$AW$94,0)","v":{"$error":"#N/A"}},null,null,null,null,null,null,{"$f":"$FX$24&\" {**\"","v":"Lavin {**"},{"$f":"$FX$24&\" [**\"","v":"Lavin [**"},{"$f":"Millwall!$BY79","v":"Lavin"},"Lavin (**",{"$f":"$FX$24&\"**\"","v":"Lavin**"},null,{"$f":"$FX$24","v":"Lavin"},{"$f":"$FY$24","v":"Lavin (**"},{"$f":"$FZ$24","v":"Lavin**"},null,{"$f":"Millwall!CC25","v":0},{"$f":"Millwall!CH25","v":0},{"$f":"Millwall!CR25","v":0},{"$f":"Millwall!CW25","v":0}]
[null,null,0,21,null,{"$f":"Millwall!AD95","v":"1996-11-29"},null,{"$f":"Millwall!AE95","v":"Brentford"},{"$f":"Millwall!AF95","v":"(H)"},{"$f":"Millwall!AG95","v":"D 0-0"},{"$f":"MATCH($K$4,Millwall!$AH$95:$AW$95,0)","v":{"$error":"#N/A"}},{"$f":"MATCH($L$4,Millwall!$AH$95:$AW$95,0)","v":{"$error":"#N/A"}},{"$f":"MATCH($M$4,Millwall!$AH$95:$AW$95,0)","v":{"$error":"#N/A"}},{"$f":"MATCH($N$4,Millwall!$AH$95:$AW$95,0)","v":{"$error":"#N/A"}},{"$f":"MATCH($O$4,Millwall!$AH$95:$AW$95,0)","v":{"$error":"#N/A"}},{"$f":"MATCH($P$4,Millwall!$AH$95:$AW$95,0)","v":{"$error":"#N/A"}},{"$f":"MATCH($Q$4,Millwall!$AH$95:$AW$95,0)","v":{"$error":"#N/A"}},{"$f":"MATCH($R$4,Millwall!$AH$95:$AW$95,0)","v":1},{"$f":"MATCH($S$4,Millwall!$AH$95:$AW$95,0)","v":9},{"$f":"MATCH($T$4,Millwall!$AH$95:$AW$95,0)","v":10},{"$f":"MATCH($U$4,Millwall!$AH$95:$AW$95,0)","v":12},{"$f":"MATCH($V$4,Millwall!$AH$95:$AW$95,0)","v":13},{"$f":"MATCH($W$4,Millwall!$AH$95:$AW$95,0)","v":{"$error":"#N/A"}},{"$f":"MATCH($X$4,Millwall!$AH$95:$AW$95,0)","v":{"$error":"#N/A"}},{"$f":"MATCH($Y$4,Millwall!$AH$95:$AW$95,0)","v":{"$error":"#N/A"}},{"$f":"MATCH($Z$4,Millwall!$AH$95:$AW$95,0)","v":11},{"$f":"MATCH($AA$4,Millwall!$AH$95:$AW$95,0)","v":{"$error":"#N/A"}},{"$f":"MATCH($AB$4,Millwall!$AH$95:$AW$95,0)","v":{"$error":"#N/A"}},{"$f":"MATCH($AC$4,Millwall!$AH$95:$AW$95,0)","v":{"$error":"#N/A"}},{"$f":"MATCH($AD$4,Millwall!$AH$95:$AW$95,0)","v":2},{"$f":"MATCH($AE$4,Millwall!$AH$95:$AW$95,0)","v":{"$error":"#N/A"}},{"$f":"MATCH($AF$4,Millwall!$AH$95:$AW$95,0)","v":{"$error":"#N/A"}},{"$f":"MATCH($AG$4,Millwall!$AH$95:$AW$95,0)","v":{"$error":"#N/A"}},{"$f":"MATCH($AH$4,Millwall!$AH$95:$AW$95,0)","v":8},{"$f":"MATCH($AI$4,Millwall!$AH$95:$AW$95,0)","v":4},{"$f":"MATCH($AJ$4,Millwall!$AH$95:$AW$95,0)","v":{"$error":"#N/A"}},{"$f":"MATCH($AK$4,Millwall!$AH$95:$AW$95,0)","v":{"$error":"#N/A"}},{"$f":"MATCH($AL$4,Millwall!$AH$95:$AW$95,0)","v":3},{"$f":"MATCH($AM$4,Millwall!$AH$95:$AW$95,0)","v":{"$error":"#N/A"}},{"$f":"MATCH($AN$4,Millwall!$AH$95:$AW$95,0)","v":7},{"$f":"MATCH($AO$4,Millwall!$AH$95:$AW$95,0)","v":6},{"$f":"MATCH($AP$4,Millwall!$AH$95:$AW$95,0)","v":{"$error":"#N/A"}},{"$f":"MATCH($AQ$4,Millwall!$AH$95:$AW$95,0)","v":14},{"$f":"MATCH($AR$4,Millwall!$AH$95:$AW$95,0)","v":5},{"$f":"MATCH($AS$4,Millwall!$AH$95:$AW$95,0)","v":{"$error":"#N/A"}},{"$f":"MATCH($AT$4,Millwall!$AH$95:$AW$95,0)","v":{"$error":"#N/A"}},{"$f":"MATCH($AU$4,Millwall!$AH$95:$AW$95,0)","v":{"$error":"#N/A"}},{"$f":"MATCH($AV$4,Millwall!$AH$95:$AW$95,0)","v":{"$error":"#N/A"}},null,null,null,null,null,{"$f":"MATCH(BB$3,Millwall!$AH95:$AW95,0)","v":{"$error":"#N/A"}},{"$f":"MATCH(BC$3,Millwall!$AH95:$AW95,0)","v":{"$error":"#N/A"}},{"$f":"MATCH(BD$3,Millwall!$AH95:$AW95,0)","v":{"$error":"#N/A"}},{"$f":"MATCH(BE$3,Millwall!$AH95:$AW95,0)","v":{"$error":"#N/A"}},{"$f":"MATCH(BF$3,Millwall!$AH95:$AW95,0)","v":{"$error":"#N/A"}},{"$f":"MATCH(BG$3,Millwall!$AH95:$AW95,0)","v":{"$error":"#N/A"}},{"$f":"MATCH(BH$3,Millwall!$AH95:$AW95,0)","v":{"$error":"#N/A"}},{"$f":"MATCH(BI$3,Millwall!$AH95:$AW95,0)","v":{"$error":"#N/A"}},{"$f":"MATCH(BJ$3,Millwall!$AH95:$AW95,0)","v":{"$error":"#N/A"}},{"$f":"MATCH(BK$3,Millwall!$AH95:$AW95,0)","v":{"$error":"#N/A"}},{"$f":"MATCH(BL$3,Millwall!$AH95:$AW95,0)","v":{"$error":"#N/A"}},{"$f":"MATCH(BM$3,Millwall!$AH95:$AW95,0)","v":{"$error":"#N/A"}},{"$f":"MATCH(BN$3,Millwall!$AH95:$AW95,0)","v":{"$error":"#N/A"}},{"$f":"MATCH(BO$3,Millwall!$AH95:$AW95,0)","v":{"$error":"#N/A"}},{"$f":"MATCH(BP$3,Millwall!$AH95:$AW95,0)","v":{"$error":"#N/A"}},{"$f":"MATCH(BQ$3,Millwall!$AH95:$AW95,0)","v":{"$error":"#N/A"}},{"$f":"MATCH(BR$3,Millwall!$AH95:$AW95,0)","v":{"$error":"#N/A"}},{"$f":"MATCH(BS$3,Millwall!$AH95:$AW95,0)","v":{"$error":"#N/A"}},{"$f":"MATCH(BT$3,Millwall!$AH95:$AW95,0)","v":{"$error":"#N/A"}},{"$f":"MATCH(BU$3,Millwall!$AH95:$AW95,0)","v":{"$error":"#N/A"}},{"$f":"MATCH(BV$3,Millwall!$AH95:$AW95,0)","v":{"$error":"#N/A"}},{"$f":"MATCH(BW$3,Millwall!$AH95:$AW95,0)","v":{"$error":"#N/A"}},{"$f":"MATCH(BX$3,Millwall!$AH95:$AW95,0)","v":{"$error":"#N/A"}},{"$f":"MATCH(BY$3,Millwall!$AH95:$AW95,0)","v":{"$error":"#N/A"}},{"$f":"MATCH(BZ$3,Millwall!$AH95:$AW95,0)","v":{"$error":"#N/A"}},{"$f":"MATCH(CA$3,Millwall!$AH95:$AW95,0)","v":{"$error":"#N/A"}},{"$f":"MATCH(CB$3,Millwall!$AH95:$AW95,0)","v":{"$error":"#N/A"}},{"$f":"MATCH(CC$3,Millwall!$AH95:$AW95,0)","v":{"$error":"#N/A"}},{"$f":"MATCH(CD$3,Millwall!$AH95:$AW95,0)","v":{"$error":"#N/A"}},{"$f":"MATCH(CE$3,Millwall!$AH95:$AW95,0)","v":{"$error":"#N/A"}},{"$f":"MATCH(CF$3,Millwall!$AH95:$AW95,0)","v":{"$error":"#N/A"}},{"$f":"MATCH(CG$3,Millwall!$AH95:$AW95,0)","v":{"$error":"#N/A"}},{"$f":"MATCH(CH$3,Millwall!$AH95:$AW95,0)","v":{"$error":"#N/A"}},{"$f":"MATCH(CI$3,Millwall!$AH95:$AW95,0)","v":{"$error":"#N/A"}},{"$f":"MATCH(CJ$3,Millwall!$AH95:$AW95,0)","v":{"$error":"#N/A"}},{"$f":"MATCH(CK$3,Millwall!$AH95:$AW95,0)","v":{"$error":"#N/A"}},{"$f":"MATCH(CL$3,Millwall!$AH95:$AW95,0)","v":{"$error":"#N/A"}},{"$f":"MATCH(CM$3,Millwall!$AH95:$AW95,0)","v":{"$error":"#N/A"}},null,null,{"$f":"MATCH($CP$3,Millwall!$AH$95:$AW$95,0)","v":{"$error":"#N/A"}},{"$f":"MATCH($CQ$3,Millwall!$AH$95:$AW$95,0)","v":{"$error":"#N/A"}},{"$f":"MATCH($CR$3,Millwall!$AH$95:$AW$95,0)","v":{"$error":"#N/A"}},{"$f":"MATCH($CS$3,Millwall!$AH$95:$AW$95,0)","v":{"$error":"#N/A"}},{"$f":"MATCH($CT$3,Millwall!$AH$95:$AW$95,0)","v":{"$error":"#N/A"}},{"$f":"MATCH($CU$3,Millwall!$AH$95:$AW$95,0)","v":{"$error":"#N/A"}},{"$f":"MATCH($CV$3,Millwall!$AH$95:$AW$95,0)","v":{"$error":"#N/A"}},{"$f":"MATCH($CW$3,Millwall!$AH$95:$AW$95,0)","v":{"$error":"#N/A"}},{"$f":"MATCH($CX$3,Millwall!$AH$95:$AW$95,0)","v":{"$error":"#N/A"}},{"$f":"MATCH($CY$3,Millwall!$AH$95:$AW$95,0)","v":{"$error":"#N/A"}},{"$f":"MATCH($CZ$3,Millwall!$AH$95:$AW$95,0)","v":{"$error":"#N/A"}},{"$f":"MATCH($DA$3,Millwall!$AH$95:$AW$95,0)","v":{"$error":"#N/A"}},{"$f":"MATCH($DB$3,Millwall!$AH$95:$AW$95,0)","v":{"$error":"#N/A"}},{"$f":"MATCH($DC$3,Millwall!$AH$95:$AW$95,0)","v":{"$error":"#N/A"}},{"$f":"MATCH($DD$3,Millwall!$AH$95:$AW$95,0)","v":{"$error":"#N/A"}},{"$f":"MATCH($DE$3,Millwall!$AH$95:$AW$95,0)","v":{"$error":"#N/A"}},{"$f":"MATCH($DF$3,Millwall!$AH$95:$AW$95,0)","v":{"$error":"#N/A"}},{"$f":"MATCH($DG$3,Millwall!$AH$95:$AW$95,0)","v":{"$error":"#N/A"}},{"$f":"MATCH($DH$3,Millwall!$AH$95:$AW$95,0)","v":{"$error":"#N/A"}},{"$f":"MATCH($DI$3,Millwall!$AH$95:$AW$95,0)","v":{"$error":"#N/A"}},{"$f":"MATCH($DJ$3,Millwall!$AH$95:$AW$95,0)","v":{"$error":"#N/A"}},{"$f":"MATCH($DK$3,Millwall!$AH$95:$AW$95,0)","v":{"$error":"#N/A"}},{"$f":"MATCH($DL$3,Millwall!$AH$95:$AW$95,0)","v":{"$error":"#N/A"}},{"$f":"MATCH($DM$3,Millwall!$AH$95:$AW$95,0)","v":{"$error":"#N/A"}},{"$f":"MATCH($DN$3,Millwall!$AH$95:$AW$95,0)","v":{"$error":"#N/A"}},{"$f":"MATCH($DO$3,Millwall!$AH$95:$AW$95,0)","v":{"$error":"#N/A"}},{"$f":"MATCH($DP$3,Millwall!$AH$95:$AW$95,0)","v":{"$error":"#N/A"}},{"$f":"MATCH($DQ$3,Millwall!$AH$95:$AW$95,0)","v":{"$error":"#N/A"}},{"$f":"MATCH($DR$3,Millwall!$AH$95:$AW$95,0)","v":{"$error":"#N/A"}},{"$f":"MATCH($DS$3,Millwall!$AH$95:$AW$95,0)","v":{"$error":"#N/A"}},{"$f":"MATCH($DT$3,Millwall!$AH$95:$AW$95,0)","v":{"$error":"#N/A"}},{"$f":"MATCH($DU$3,Millwall!$AH$95:$AW$95,0)","v":{"$error":"#N/A"}},{"$f":"MATCH($DV$3,Millwall!$AH$95:$AW$95,0)","v":{"$error":"#N/A"}},{"$f":"MATCH($DW$3,Millwall!$AH$95:$AW$95,0)","v":{"$error":"#N/A"}},{"$f":"MATCH($DX$3,Millwall!$AH$95:$AW$95,0)","v":{"$error":"#N/A"}},{"$f":"MATCH($DY$3,Millwall!$AH$95:$AW$95,0)","v":{"$error":"#N/A"}},{"$f":"MATCH($DZ$3,Millwall!$AH$95:$AW$95,0)","v":{"$error":"#N/A"}},{"$f":"MATCH($EA$3,Millwall!$AH$95:$AW$95,0)","v":{"$error":"#N/A"}},null,null,{"$f":"MATCH(ED$3,Millwall!$AH$95:$AW$95,0)","v":{"$error":"#N/A"}},{"$f":"MATCH(EE$3,Millwall!$AH$95:$AW$95,0)","v":{"$error":"#N/A"}},{"$f":"MATCH(EF$3,Millwall!$AH$95:$AW$95,0)","v":{"$error":"#N/A"}},{"$f":"MATCH(EG$3,Millwall!$AH$95:$AW$95,0)","v":{"$error":"#N/A"}},{"$f":"MATCH(EH$3,Millwall!$AH$95:$AW$95,0)","v":{"$error":"#N/A"}},{"$f":"MATCH(EI$3,Millwall!$AH$95:$AW$95,0)","v":{"$error":"#N/A"}},{"$f":"MATCH(EJ$3,Millwall!$AH$95:$AW$95,0)","v":{"$error":"#N/A"}},{"$f":"MATCH(EK$3,Millwall!$AH$95:$AW$95,0)","v":{"$error":"#N/A"}},{"$f":"MATCH(EL$3,Millwall!$AH$95:$AW$95,0)","v":{"$error":"#N/A"}},{"$f":"MATCH(EM$3,Millwall!$AH$95:$AW$95,0)","v":{"$error":"#N/A"}},{"$f":"MATCH(EN$3,Millwall!$AH$95:$AW$95,0)","v":{"$error":"#N/A"}},{"$f":"MATCH(EO$3,Millwall!$AH$95:$AW$95,0)","v":{"$error":"#N/A"}},{"$f":"MATCH(EP$3,Millwall!$AH$95:$AW$95,0)","v":{"$error":"#N/A"}},{"$f":"MATCH(EQ$3,Millwall!$AH$95:$AW$95,0)","v":{"$error":"#N/A"}},{"$f":"MATCH(ER$3,Millwall!$AH$95:$AW$95,0)","v":{"$error":"#N/A"}},{"$f":"MATCH(ES$3,Millwall!$AH$95:$AW$95,0)","v":{"$error":"#N/A"}},{"$f":"MATCH(ET$3,Millwall!$AH$95:$AW$95,0)","v":{"$error":"#N/A"}},{"$f":"MATCH(EU$3,Millwall!$AH$95:$AW$95,0)","v":{"$error":"#N/A"}},{"$f":"MATCH(EV$3,Millwall!$AH$95:$AW$95,0)","v":{"$error":"#N/A"}},{"$f":"MATCH(EW$3,Millwall!$AH$95:$AW$95,0)","v":{"$error":"#N/A"}},{"$f":"MATCH(EX$3,Millwall!$AH$95:$AW$95,0)","v":{"$error":"#N/A"}},{"$f":"MATCH(EY$3,Millwall!$AH$95:$AW$95,0)","v":{"$error":"#N/A"}},{"$f":"MATCH(EZ$3,Millwall!$AH$95:$AW$95,0)","v":{"$error":"#N/A"}},{"$f":"MATCH(FA$3,Millwall!$AH$95:$AW$95,0)","v":{"$error":"#N/A"}},{"$f":"MATCH(FB$3,Millwall!$AH$95:$AW$95,0)","v":{"$error":"#N/A"}},{"$f":"MATCH(FC$3,Millwall!$AH$95:$AW$95,0)","v":{"$error":"#N/A"}},{"$f":"MATCH(FD$3,Millwall!$AH$95:$AW$95,0)","v":{"$error":"#N/A"}},{"$f":"MATCH(FE$3,Millwall!$AH$95:$AW$95,0)","v":{"$error":"#N/A"}},{"$f":"MATCH(FF$3,Millwall!$AH$95:$AW$95,0)","v":{"$error":"#N/A"}},{"$f":"MATCH(FG$3,Millwall!$AH$95:$AW$95,0)","v":7},{"$f":"MATCH(FH$3,Millwall!$AH$95:$AW$95,0)","v":{"$error":"#N/A"}},{"$f":"MATCH(FI$3,Millwall!$AH$95:$AW$95,0)","v":{"$error":"#N/A"}},{"$f":"MATCH(FJ$3,Millwall!$AH$95:$AW$95,0)","v":14},{"$f":"MATCH(FK$3,Millwall!$AH$95:$AW$95,0)","v":{"$error":"#N/A"}},{"$f":"MATCH(FL$3,Millwall!$AH$95:$AW$95,0)","v":{"$error":"#N/A"}},{"$f":"MATCH(FM$3,Millwall!$AH$95:$AW$95,0)","v":{"$error":"#N/A"}},{"$f":"MATCH(FN$3,Millwall!$AH$95:$AW$95,0)","v":{"$error":"#N/A"}},{"$f":"MATCH(FO$3,Millwall!$AH$95:$AW$95,0)","v":{"$error":"#N/A"}},null,null,null,null,null,null,{"$f":"$FX$25&\" {**\"","v":"Malkin {**"},{"$f":"$FX$25&\" [**\"","v":"Malkin [**"},{"$f":"Millwall!$BY80","v":"Malkin"},"Malkin (**",{"$f":"$FX$25&\"**\"","v":"Malkin**"},null,{"$f":"$FX$25","v":"Malkin"},{"$f":"$FY$25","v":"Malkin (**"},{"$f":"$FZ$25","v":"Malkin**"},null,{"$f":"Millwall!CC26","v":3},{"$f":"Millwall!CH26","v":2},{"$f":"Millwall!CR26","v":1},{"$f":"Millwall!CW26","v":0}]
[null,null,0,22,null,{"$f":"Millwall!AD96","v":"1996-12-03"},null,{"$f":"Millwall!AE96","v":"Wycombe"},{"$f":"Millwall!AF96","v":"(A)"},{"$f":"Millwall!AG96","v":"L 0-1"},{"$f":"MATCH($K$4,Millwall!$AH$96:$AW$96,0)","v":{"$error":"#N/A"}},{"$f":"MATCH($L$4,Millwall!$AH$96:$AW$96,0)","v":{"$error":"#N/A"}},{"$f":"MATCH($M$4,Millwall!$AH$96:$AW$96,0)","v":{"$error":"#N/A"}},{"$f":"MATCH($N$4,Millwall!$AH$96:$AW$96,0)","v":7},{"$f":"MATCH($O$4,Millwall!$AH$96:$AW$96,0)","v":{"$error":"#N/A"}},{"$f":"MATCH($P$4,Millwall!$AH$96:$AW$96,0)","v":{"$error":"#N/A"}},{"$f":"MATCH($Q$4,Millwall!$AH$96:$AW$96,0)","v":{"$error":"#N/A"}},{"$f":"MATCH($R$4,Millwall!$AH$96:$AW$96,0)","v":1},{"$f":"MATCH($S$4,Millwall!$AH$96:$AW$96,0)","v":9},{"$f":"MATCH($T$4,Millwall!$AH$96:$AW$96,0)","v":10},{"$f":"MATCH($U$4,Millwall!$AH$96:$AW$96,0)","v":13},{"$f":"MATCH($V$4,Millwall!$AH$96:$AW$96,0)","v":12},{"$f":"MATCH($W$4,Millwall!$AH$96:$AW$96,0)","v":{"$error":"#N/A"}},{"$f":"MATCH($X$4,Millwall!$AH$96:$AW$96,0)","v":{"$error":"#N/A"}},{"$f":"MATCH($Y$4,Millwall!$AH$96:$AW$96,0)","v":{"$error":"#N/A"}},{"$f":"MATCH($Z$4,Millwall!$AH$96:$AW$96,0)","v":11},{"$f":"MATCH($AA$4,Millwall!$AH$96:$AW$96,0)","v":{"$error":"#N/A"}},{"$f":"MATCH($AB$4,Millwall!$AH$96:$AW$96,0)","v":{"$error":"#N/A"}},{"$f":"MATCH($AC$4,Millwall!$AH$96:$AW$96,0)","v":{"$error":"#N/A"}},{"$f":"MATCH($AD$4,Millwall!$AH$96:$AW$96,0)","v":2},{"$f":"MATCH($AE$4,Millwall!$AH$96:$AW$96,0)","v":{"$error":"#N/A"}},{"$f":"MATCH($AF$4,Millwall!$AH$96:$AW$96,0)","v":{"$error":"#N/A"}},{"$f":"MATCH($AG$4,Millwall!$AH$96:$AW$96,0)","v":{"$error":"#N/A"}},{"$f":"MATCH($AH$4,Millwall!$AH$96:$AW$96,0)","v":8},{"$f":"MATCH($AI$4,Millwall!$AH$96:$AW$96,0)","v":{"$error":"#N/A"}},{"$f":"MATCH($AJ$4,Millwall!$AH$96:$AW$96,0)","v":{"$error":"#N/A"}},{"$f":"MATCH($AK$4,Millwall!$AH$96:$AW$96,0)","v":{"$error":"#N/A"}},{"$f":"MATCH($AL$4,Millwall!$AH$96:$AW$96,0)","v":3},{"$f":"MATCH($AM$4,Millwall!$AH$96:$AW$96,0)","v":{"$error":"#N/A"}},{"$f":"MATCH($AN$4,Millwall!$AH$96:$AW$96,0)","v":4},{"$f":"MATCH($AO$4,Millwall!$AH$96:$AW$96,0)","v":6},{"$f":"MATCH($AP$4,Millwall!$AH$96:$AW$96,0)","v":{"$error":"#N/A"}},{"$f":"MATCH($AQ$4,Millwall!$AH$96:$AW$96,0)","v":14},{"$f":"MATCH($AR$4,Millwall!$AH$96:$AW$96,0)","v":5},{"$f":"MATCH($AS$4,Millwall!$AH$96:$AW$96,0)","v":{"$error":"#N/A"}},{"$f":"MATCH($AT$4,Millwall!$AH$96:$AW$96,0)","v":{"$error":"#N/A"}},{"$f":"MATCH($AU$4,Millwall!$AH$96:$AW$96,0)","v":{"$error":"#N/A"}},{"$f":"MATCH($AV$4,Millwall!$AH$96:$AW$96,0)","v":{"$error":"#N/A"}},null,null,null,null,null,{"$f":"MATCH(BB$3,Millwall!$AH96:$AW96,0)","v":{"$error":"#N/A"}},{"$f":"MATCH(BC$3,Millwall!$AH96:$AW96,0)","v":{"$error":"#N/A"}},{"$f":"MATCH(BD$3,Millwall!$AH96:$AW96,0)","v":{"$error":"#N/A"}},{"$f":"MATCH(BE$3,Millwall!$AH96:$AW96,0)","v":7},{"$f":"MATCH(BF$3,Millwall!$AH96:$AW96,0)","v":{"$error":"#N/A"}},{"$f":"MATCH(BG$3,Millwall!$AH96:$AW96,0)","v":{"$error":"#N/A"}},{"$f":"MATCH(BH$3,Millwall!$AH96:$AW96,0)","v":{"$error":"#N/A"}},{"$f":"MATCH(BI$3,Millwall!$AH96:$AW96,0)","v":{"$error":"#N/A"}},{"$f":"MATCH(BJ$3,Millwall!$AH96:$AW96,0)","v":{"$error":"#N/A"}},{"$f":"MATCH(BK$3,Millwall!$AH96:$AW96,0)","v":{"$error":"#N/A"}},{"$f":"MATCH(BL$3,Millwall!$AH96:$AW96,0)","v":{"$error":"#N/A"}},{"$f":"MATCH(BM$3,Millwall!$AH96:$AW96,0)","v":12},{"$f":"MATCH(BN$3,Millwall!$AH96:$AW96,0)","v":{"$error":"#N/A"}},{"$f":"MATCH(BO$3,Millwall!$AH96:$AW96,0)","v":{"$error":"#N/A"}},{"$f":"MATCH(BP$3,Millwall!$AH96:$AW96,0)","v":{"$error":"#N/A"}},{"$f":"MATCH(BQ$3,Millwall!$AH96:$AW96,0)","v":{"$error":"#N/A"}},{"$f":"MATCH(BR$3,Millwall!$AH96:$AW96,0)","v":{"$error":"#N/A"}},{"$f":"MATCH(BS$3,Millwall!$AH96:$AW96,0)","v":{"$error":"#N/A"}},{"$f":"MATCH(BT$3,Millwall!$AH96:$AW96,0)","v":{"$error":"#N/A"}},{"$f":"MATCH(BU$3,Millwall!$AH96:$AW96,0)","v":{"$error":"#N/A"}},{"$f":"MATCH(BV$3,Millwall!$AH96:$AW96,0)","v":{"$error":"#N/A"}},{"$f":"MATCH(BW$3,Millwall!$AH96:$AW96,0)","v":{"$error":"#N/A"}},{"$f":"MATCH(BX$3,Millwall!$AH96:$AW96,0)","v":{"$error":"#N/A"}},{"$f":"MATCH(BY$3,Millwall!$AH96:$AW96,0)","v":{"$error":"#N/A"}},{"$f":"MATCH(BZ$3,Millwall!$AH96:$AW96,0)","v":{"$error":"#N/A"}},{"$f":"MATCH(CA$3,Millwall!$AH96:$AW96,0)","v":{"$error":"#N/A"}},{"$f":"MATCH(CB$3,Millwall!$AH96:$AW96,0)","v":{"$error":"#N/A"}},{"$f":"MATCH(CC$3,Millwall!$AH96:$AW96,0)","v":{"$error":"#N/A"}},{"$f":"MATCH(CD$3,Millwall!$AH96:$AW96,0)","v":{"$error":"#N/A"}},{"$f":"MATCH(CE$3,Millwall!$AH96:$AW96,0)","v":{"$error":"#N/A"}},{"$f":"MATCH(CF$3,Millwall!$AH96:$AW96,0)","v":{"$error":"#N/A"}},{"$f":"MATCH(CG$3,Millwall!$AH96:$AW96,0)","v":{"$error":"#N/A"}},{"$f":"MATCH(CH$3,Millwall!$AH96:$AW96,0)","v":{"$error":"#N/A"}},{"$f":"MATCH(CI$3,Millwall!$AH96:$AW96,0)","v":{"$error":"#N/A"}},{"$f":"MATCH(CJ$3,Millwall!$AH96:$AW96,0)","v":{"$error":"#N/A"}},{"$f":"MATCH(CK$3,Millwall!$AH96:$AW96,0)","v":{"$error":"#N/A"}},{"$f":"MATCH(CL$3,Millwall!$AH96:$AW96,0)","v":{"$error":"#N/A"}},{"$f":"MATCH(CM$3,Millwall!$AH96:$AW96,0)","v":{"$error":"#N/A"}},null,null,{"$f":"MATCH($CP$3,Millwall!$AH$96:$AW$96,0)","v":{"$error":"#N/A"}},{"$f":"MATCH($CQ$3,Millwall!$AH$96:$AW$96,0)","v":{"$error":"#N/A"}},{"$f":"MATCH($CR$3,Millwall!$AH$96:$AW$96,0)","v":{"$error":"#N/A"}},{"$f":"MATCH($CS$3,Millwall!$AH$96:$AW$96,0)","v":{"$error":"#N/A"}},{"$f":"MATCH($CT$3,Millwall!$AH$96:$AW$96,0)","v":{"$error":"#N/A"}},{"$f":"MATCH($CU$3,Millwall!$AH$96:$AW$96,0)","v":{"$error":"#N/A"}},{"$f":"MATCH($CV$3,Millwall!$AH$96:$AW$96,0)","v":{"$error":"#N/A"}},{"$f":"MATCH($CW$3,Millwall!$AH$96:$AW$96,0)","v":{"$error":"#N/A"}},{"$f":"MATCH($CX$3,Millwall!$AH$96:$AW$96,0)","v":{"$error":"#N/A"}},{"$f":"MATCH($CY$3,Millwall!$AH$96:$AW$96,0)","v":{"$error":"#N/A"}},{"$f":"MATCH($CZ$3,Millwall!$AH$96:$AW$96,0)","v":{"$error":"#N/A"}},{"$f":"MATCH($DA$3,Millwall!$AH$96:$AW$96,0)","v":{"$error":"#N/A"}},{"$f":"MATCH($DB$3,Millwall!$AH$96:$AW$96,0)","v":{"$error":"#N/A"}},{"$f":"MATCH($DC$3,Millwall!$AH$96:$AW$96,0)","v":{"$error":"#N/A"}},{"$f":"MATCH($DD$3,Millwall!$AH$96:$AW$96,0)","v":{"$error":"#N/A"}},{"$f":"MATCH($DE$3,Millwall!$AH$96:$AW$96,0)","v":{"$error":"#N/A"}},{"$f":"MATCH($DF$3,Millwall!$AH$96:$AW$96,0)","v":{"$error":"#N/A"}},{"$f":"MATCH($DG$3,Millwall!$AH$96:$AW$96,0)","v":{"$error":"#N/A"}},{"$f":"MATCH($DH$3,Millwall!$AH$96:$AW$96,0)","v":{"$error":"#N/A"}},{"$f":"MATCH($DI$3,Millwall!$AH$96:$AW$96,0)","v":{"$error":"#N/A"}},{"$f":"MATCH($DJ$3,Millwall!$AH$96:$AW$96,0)","v":{"$error":"#N/A"}},{"$f":"MATCH($DK$3,Millwall!$AH$96:$AW$96,0)","v":{"$error":"#N/A"}},{"$f":"MATCH($DL$3,Millwall!$AH$96:$AW$96,0)","v":{"$error":"#N/A"}},{"$f":"MATCH($DM$3,Millwall!$AH$96:$AW$96,0)","v":{"$error":"#N/A"}},{"$f":"MATCH($DN$3,Millwall!$AH$96:$AW$96,0)","v":{"$error":"#N/A"}},{"$f":"MATCH($DO$3,Millwall!$AH$96:$AW$96,0)","v":{"$error":"#N/A"}},{"$f":"MATCH($DP$3,Millwall!$AH$96:$AW$96,0)","v":{"$error":"#N/A"}},{"$f":"MATCH($DQ$3,Millwall!$AH$96:$AW$96,0)","v":{"$error":"#N/A"}},{"$f":"MATCH($DR$3,Millwall!$AH$96:$AW$96,0)","v":{"$error":"#N/A"}},{"$f":"MATCH($DS$3,Millwall!$AH$96:$AW$96,0)","v":{"$error":"#N/A"}},{"$f":"MATCH($DT$3,Millwall!$AH$96:$AW$96,0)","v":{"$error":"#N/A"}},{"$f":"MATCH($DU$3,Millwall!$AH$96:$AW$96,0)","v":{"$error":"#N/A"}},{"$f":"MATCH($DV$3,Millwall!$AH$96:$AW$96,0)","v":{"$error":"#N/A"}},{"$f":"MATCH($DW$3,Millwall!$AH$96:$AW$96,0)","v":{"$error":"#N/A"}},{"$f":"MATCH($DX$3,Millwall!$AH$96:$AW$96,0)","v":{"$error":"#N/A"}},{"$f":"MATCH($DY$3,Millwall!$AH$96:$AW$96,0)","v":{"$error":"#N/A"}},{"$f":"MATCH($DZ$3,Millwall!$AH$96:$AW$96,0)","v":{"$error":"#N/A"}},{"$f":"MATCH($EA$3,Millwall!$AH$96:$AW$96,0)","v":{"$error":"#N/A"}},null,null,{"$f":"MATCH(ED$3,Millwall!$AH$96:$AW$96,0)","v":{"$error":"#N/A"}},{"$f":"MATCH(EE$3,Millwall!$AH$96:$AW$96,0)","v":{"$error":"#N/A"}},{"$f":"MATCH(EF$3,Millwall!$AH$96:$AW$96,0)","v":{"$error":"#N/A"}},{"$f":"MATCH(EG$3,Millwall!$AH$96:$AW$96,0)","v":{"$error":"#N/A"}},{"$f":"MATCH(EH$3,Millwall!$AH$96:$AW$96,0)","v":{"$error":"#N/A"}},{"$f":"MATCH(EI$3,Millwall!$AH$96:$AW$96,0)","v":{"$error":"#N/A"}},{"$f":"MATCH(EJ$3,Millwall!$AH$96:$AW$96,0)","v":{"$error":"#N/A"}},{"$f":"MATCH(EK$3,Millwall!$AH$96:$AW$96,0)","v":{"$error":"#N/A"}},{"$f":"MATCH(EL$3,Millwall!$AH$96:$AW$96,0)","v":{"$error":"#N/A"}},{"$f":"MATCH(EM$3,Millwall!$AH$96:$AW$96,0)","v":10},{"$f":"MATCH(EN$3,Millwall!$AH$96:$AW$96,0)","v":{"$error":"#N/A"}},{"$f":"MATCH(EO$3,Millwall!$AH$96:$AW$96,0)","v":{"$error":"#N/A"}},{"$f":"MATCH(EP$3,Millwall!$AH$96:$AW$96,0)","v":{"$error":"#N/A"}},{"$f":"MATCH(EQ$3,Millwall!$AH$96:$AW$96,0)","v":{"$error":"#N/A"}},{"$f":"MATCH(ER$3,Millwall!$AH$96:$AW$96,0)","v":{"$error":"#N/A"}},{"$f":"MATCH(ES$3,Millwall!$AH$96:$AW$96,0)","v":{"$error":"#N/A"}},{"$f":"MATCH(ET$3,Millwall!$AH$96:$AW$96,0)","v":{"$error":"#N/A"}},{"$f":"MATCH(EU$3,Millwall!$AH$96:$AW$96,0)","v":{"$error":"#N/A"}},{"$f":"MATCH(EV$3,Millwall!$AH$96:$AW$96,0)","v":{"$error":"#N/A"}},{"$f":"MATCH(EW$3,Millwall!$AH$96:$AW$96,0)","v":{"$error":"#N/A"}},{"$f":"MATCH(EX$3,Millwall!$AH$96:$AW$96,0)","v":{"$error":"#N/A"}},{"$f":"MATCH(EY$3,Millwall!$AH$96:$AW$96,0)","v":{"$error":"#N/A"}},{"$f":"MATCH(EZ$3,Millwall!$AH$96:$AW$96,0)","v":{"$error":"#N/A"}},{"$f":"MATCH(FA$3,Millwall!$AH$96:$AW$96,0)","v":{"$error":"#N/A"}},{"$f":"MATCH(FB$3,Millwall!$AH$96:$AW$96,0)","v":{"$error":"#N/A"}},{"$f":"MATCH(FC$3,Millwall!$AH$96:$AW$96,0)","v":{"$error":"#N/A"}},{"$f":"MATCH(FD$3,Millwall!$AH$96:$AW$96,0)","v":{"$error":"#N/A"}},{"$f":"MATCH(FE$3,Millwall!$AH$96:$AW$96,0)","v":{"$error":"#N/A"}},{"$f":"MATCH(FF$3,Millwall!$AH$96:$AW$96,0)","v":{"$error":"#N/A"}},{"$f":"MATCH(FG$3,Millwall!$AH$96:$AW$96,0)","v":{"$error":"#N/A"}},{"$f":"MATCH(FH$3,Millwall!$AH$96:$AW$96,0)","v":{"$error":"#N/A"}},{"$f":"MATCH(FI$3,Millwall!$AH$96:$AW$96,0)","v":{"$error":"#N/A"}},{"$f":"MATCH(FJ$3,Millwall!$AH$96:$AW$96,0)","v":14},{"$f":"MATCH(FK$3,Millwall!$AH$96:$AW$96,0)","v":{"$error":"#N/A"}},{"$f":"MATCH(FL$3,Millwall!$AH$96:$AW$96,0)","v":{"$error":"#N/A"}},{"$f":"MATCH(FM$3,Millwall!$AH$96:$AW$96,0)","v":{"$error":"#N/A"}},{"$f":"MATCH(FN$3,Millwall!$AH$96:$AW$96,0)","v":{"$error":"#N/A"}},{"$f":"MATCH(FO$3,Millwall!$AH$96:$AW$96,0)","v":{"$error":"#N/A"}},null,null,null,null,null,null,{"$f":"$FX$26&\" {**\"","v":"McLeary {**"},{"$f":"$FX$26&\" [**\"","v":"McLeary [**"},{"$f":"Millwall!$BY81","v":"McLeary"},"McLeary (**",{"$f":"$FX$26&\"**\"","v":"McLeary**"},null,{"$f":"$FX$26","v":"McLeary"},{"$f":"$FY$26","v":"McLeary (**"},{"$f":"$FZ$26","v":"McLeary**"},null,{"$f":"Millwall!CC27","v":0},{"$f":"Millwall!CH27","v":0},{"$f":"Millwall!CR27","v":0},{"$f":"Millwall!CW27","v":0}]
[null,null,0,23,null,{"$f":"Millwall!AD97","v":"1996-12-14"},null,{"$f":"Millwall!AE97","v":"Bournemouth"},{"$f":"Millwall!AF97","v":"(A)"},{"$f":"Millwall!AG97","v":"D 1-1"},{"$f":"MATCH($K$4,Millwall!$AH$97:$AW$97,0)","v":{"$error":"#N/A"}},{"$f":"MATCH($L$4,Millwall!$AH$97:$AW$97,0)","v":{"$error":"#N/A"}},{"$f":"MATCH($M$4,Millwall!$AH$97:$AW$97,0)","v":{"$error":"#N/A"}},{"$f":"MATCH($N$4,Millwall!$AH$97:$AW$97,0)","v":{"$error":"#N/A"}},{"$f":"MATCH($O$4,Millwall!$AH$97:$AW$97,0)","v":10},{"$f":"MATCH($P$4,Millwall!$AH$97:$AW$97,0)","v":{"$error":"#N/A"}},{"$f":"MATCH($Q$4,Millwall!$AH$97:$AW$97,0)","v":{"$error":"#N/A"}},{"$f":"MATCH($R$4,Millwall!$AH$97:$AW$97,0)","v":1},{"$f":"MATCH($S$4,Millwall!$AH$97:$AW$97,0)","v":9},{"$f":"MATCH($T$4,Millwall!$AH$97:$AW$97,0)","v":11},{"$f":"MATCH($U$4,Millwall!$AH$97:$AW$97,0)","v":12},{"$f":"MATCH($V$4,Millwall!$AH$97:$AW$97,0)","v":14},{"$f":"MATCH($W$4,Millwall!$AH$97:$AW$97,0)","v":{"$error":"#N/A"}},{"$f":"MATCH($X$4,Millwall!$AH$97:$AW$97,0)","v":{"$error":"#N/A"}},{"$f":"MATCH($Y$4,Millwall!$AH$97:$AW$97,0)","v":{"$error":"#N/A"}},{"$f":"MATCH($Z$4,Millwall!$AH$97:$AW$97,0)","v":13},{"$f":"MATCH($AA$4,Millwall!$AH$97:$AW$97,0)","v":{"$error":"#N/A"}},{"$f":"MATCH($AB$4,Millwall!$AH$97:$AW$97,0)","v":{"$error":"#N/A"}},{"$f":"MATCH($AC$4,Millwall!$AH$97:$AW$97,0)","v":{"$error":"#N/A"}},{"$f":"MATCH($AD$4,Millwall!$AH$97:$AW$97,0)","v":2},{"$f":"MATCH($AE$4,Millwall!$AH$97:$AW$97,0)","v":{"$error":"#N/A"}},{"$f":"MATCH($AF$4,Millwall!$AH$97:$AW$97,0)","v":{"$error":"#N/A"}},{"$f":"MATCH($AG$4,Millwall!$AH$97:$AW$97,0)","v":{"$error":"#N/A"}},{"$f":"MATCH($AH$4,Millwall!$AH$97:$AW$97,0)","v":8},{"$f":"MATCH($AI$4,Millwall!$AH$97:$AW$97,0)","v":7},{"$f":"MATCH($AJ$4,Millwall!$AH$97:$AW$97,0)","v":{"$error":"#N/A"}},{"$f":"MATCH($AK$4,Millwall!$AH$97:$AW$97,0)","v":{"$error":"#N/A"}},{"$f":"MATCH($AL$4,Millwall!$AH$97:$AW$97,0)","v":{"$error":"#N/A"}},{"$f":"MATCH($AM$4,Millwall!$AH$97:$AW$97,0)","v":{"$error":"#N/A"}},{"$f":"MATCH($AN$4,Millwall!$AH$97:$AW$97,0)","v":4},{"$f":"MATCH($AO$4,Millwall!$AH$97:$AW$97,0)","v":6},{"$f":"MATCH($AP$4,Millwall!$AH$97:$AW$97,0)","v":{"$error":"#N/A"}},{"$f":"MATCH($AQ$4,Millwall!$AH$97:$AW$97,0)","v":3},{"$f":"MATCH($AR$4,Millwall!$AH$97:$AW$97,0)","v":5},{"$f":"MATCH($AS$4,Millwall!$AH$97:$AW$97,0)","v":{"$error":"#N/A"}},{"$f":"MATCH($AT$4,Millwall!$AH$97:$AW$97,0)","v":{"$error":"#N/A"}},{"$f":"MATCH($AU$4,Millwall!$AH$97:$AW$97,0)","v":{"$error":"#N/A"}},{"$f":"MATCH($AV$4,Millwall!$AH$97:$AW$97,0)","v":{"$error":"#N/A"}},null,null,null,null,null,{"$f":"MATCH(BB$3,Millwall!$AH97:$AW97,0)","v":{"$error":"#N/A"}},{"$f":"MATCH(BC$3,Millwall!$AH97:$AW97,0)","v":{"$error":"#N/A"}},{"$f":"MATCH(BD$3,Millwall!$AH97:$AW97,0)","v":{"$error":"#N/A"}},{"$f":"MATCH(BE$3,Millwall!$AH97:$AW97,0)","v":{"$error":"#N/A"}},{"$f":"MATCH(BF$3,Millwall!$AH97:$AW97,0)","v":{"$error":"#N/A"}},{"$f":"MATCH(BG$3,Millwall!$AH97:$AW97,0)","v":{"$error":"#N/A"}},{"$f":"MATCH(BH$3,Millwall!$AH97:$AW97,0)","v":{"$error":"#N/A"}},{"$f":"MATCH(BI$3,Millwall!$AH97:$AW97,0)","v":{"$error":"#N/A"}},{"$f":"MATCH(BJ$3,Millwall!$AH97:$AW97,0)","v":{"$error":"#N/A"}},{"$f":"MATCH(BK$3,Millwall!$AH97:$AW97,0)","v":{"$error":"#N/A"}},{"$f":"MATCH(BL$3,Millwall!$AH97:$AW97,0)","v":{"$error":"#N/A"}},{"$f":"MATCH(BM$3,Millwall!$AH97:$AW97,0)","v":{"$error":"#N/A"}},{"$f":"MATCH(BN$3,Millwall!$AH97:$AW97,0)","v":{"$error":"#N/A"}},{"$f":"MATCH(BO$3,Millwall!$AH97:$AW97,0)","v":{"$error":"#N/A"}},{"$f":"MATCH(BP$3,Millwall!$AH97:$AW97,0)","v":{"$error":"#N/A"}},{"$f":"MATCH(BQ$3,Millwall!$AH97:$AW97,0)","v":{"$error":"#N/A"}},{"$f":"MATCH(BR$3,Millwall!$AH97:$AW97,0)","v":{"$error":"#N/A"}},{"$f":"MATCH(BS$3,Millwall!$AH97:$AW97,0)","v":{"$error":"#N/A"}},{"$f":"MATCH(BT$3,Millwall!$AH97:$AW97,0)","v":{"$error":"#N/A"}},{"$f":"MATCH(BU$3,Millwall!$AH97:$AW97,0)","v":{"$error":"#N/A"}},{"$f":"MATCH(BV$3,Millwall!$AH97:$AW97,0)","v":{"$error":"#N/A"}},{"$f":"MATCH(BW$3,Millwall!$AH97:$AW97,0)","v":{"$error":"#N/A"}},{"$f":"MATCH(BX$3,Millwall!$AH97:$AW97,0)","v":{"$error":"#N/A"}},{"$f":"MATCH(BY$3,Millwall!$AH97:$AW97,0)","v":{"$error":"#N/A"}},{"$f":"MATCH(BZ$3,Millwall!$AH97:$AW97,0)","v":{"$error":"#N/A"}},{"$f":"MATCH(CA$3,Millwall!$AH97:$AW97,0)","v":{"$error":"#N/A"}},{"$f":"MATCH(CB$3,Millwall!$AH97:$AW97,0)","v":{"$error":"#N/A"}},{"$f":"MATCH(CC$3,Millwall!$AH97:$AW97,0)","v":{"$error":"#N/A"}},{"$f":"MATCH(CD$3,Millwall!$AH97:$AW97,0)","v":{"$error":"#N/A"}},{"$f":"MATCH(CE$3,Millwall!$AH97:$AW97,0)","v":{"$error":"#N/A"}},{"$f":"MATCH(CF$3,Millwall!$AH97:$AW97,0)","v":{"$error":"#N/A"}},{"$f":"MATCH(CG$3,Millwall!$AH97:$AW97,0)","v":{"$error":"#N/A"}},{"$f":"MATCH(CH$3,Millwall!$AH97:$AW97,0)","v":{"$error":"#N/A"}},{"$f":"MATCH(CI$3,Millwall!$AH97:$AW97,0)","v":{"$error":"#N/A"}},{"$f":"MATCH(CJ$3,Millwall!$AH97:$AW97,0)","v":{"$error":"#N/A"}},{"$f":"MATCH(CK$3,Millwall!$AH97:$AW97,0)","v":{"$error":"#N/A"}},{"$f":"MATCH(CL$3,Millwall!$AH97:$AW97,0)","v":{"$error":"#N/A"}},{"$f":"MATCH(CM$3,Millwall!$AH97:$AW97,0)","v":{"$error":"#N/A"}},null,null,{"$f":"MATCH($CP$3,Millwall!$AH$97:$AW$97,0)","v":{"$error":"#N/A"}},{"$f":"MATCH($CQ$3,Millwall!$AH$97:$AW$97,0)","v":{"$error":"#N/A"}},{"$f":"MATCH($CR$3,Millwall!$AH$97:$AW$97,0)","v":{"$error":"#N/A"}},{"$f":"MATCH($CS$3,Millwall!$AH$97:$AW$97,0)","v":{"$error":"#N/A"}},{"$f":"MATCH($CT$3,Millwall!$AH$97:$AW$97,0)","v":{"$error":"#N/A"}},{"$f":"MATCH($CU$3,Millwall!$AH$97:$AW$97,0)","v":{"$error":"#N/A"}},{"$f":"MATCH($CV$3,Millwall!$AH$97:$AW$97,0)","v":{"$error":"#N/A"}},{"$f":"MATCH($CW$3,Millwall!$AH$97:$AW$97,0)","v":{"$error":"#N/A"}},{"$f":"MATCH($CX$3,Millwall!$AH$97:$AW$97,0)","v":{"$error":"#N/A"}},{"$f":"MATCH($CY$3,Millwall!$AH$97:$AW$97,0)","v":{"$error":"#N/A"}},{"$f":"MATCH($CZ$3,Millwall!$AH$97:$AW$97,0)","v":{"$error":"#N/A"}},{"$f":"MATCH($DA$3,Millwall!$AH$97:$AW$97,0)","v":{"$error":"#N/A"}},{"$f":"MATCH($DB$3,Millwall!$AH$97:$AW$97,0)","v":{"$error":"#N/A"}},{"$f":"MATCH($DC$3,Millwall!$AH$97:$AW$97,0)","v":{"$error":"#N/A"}},{"$f":"MATCH($DD$3,Millwall!$AH$97:$AW$97,0)","v":{"$error":"#N/A"}},{"$f":"MATCH($DE$3,Millwall!$AH$97:$AW$97,0)","v":13},{"$f":"MATCH($DF$3,Millwall!$AH$97:$AW$97,0)","v":{"$error":"#N/A"}},{"$f":"MATCH($DG$3,Millwall!$AH$97:$AW$97,0)","v":{"$error":"#N/A"}},{"$f":"MATCH($DH$3,Millwall!$AH$97:$AW$97,0)","v":{"$error":"#N/A"}},{"$f":"MATCH($DI$3,Millwall!$AH$97:$AW$97,0)","v":{"$error":"#N/A"}},{"$f":"MATCH($DJ$3,Millwall!$AH$97:$AW$97,0)","v":{"$error":"#N/A"}},{"$f":"MATCH($DK$3,Millwall!$AH$97:$AW$97,0)","v":{"$error":"#N/A"}},{"$f":"MATCH($DL$3,Millwall!$AH$97:$AW$97,0)","v":{"$error":"#N/A"}},{"$f":"MATCH($DM$3,Millwall!$AH$97:$AW$97,0)","v":{"$error":"#N/A"}},{"$f":"MATCH($DN$3,Millwall!$AH$97:$AW$97,0)","v":{"$error":"#N/A"}},{"$f":"MATCH($DO$3,Millwall!$AH$97:$AW$97,0)","v":{"$error":"#N/A"}},{"$f":"MATCH($DP$3,Millwall!$AH$97:$AW$97,0)","v":{"$error":"#N/A"}},{"$f":"MATCH($DQ$3,Millwall!$AH$97:$AW$97,0)","v":{"$error":"#N/A"}},{"$f":"MATCH($DR$3,Millwall!$AH$97:$AW$97,0)","v":{"$error":"#N/A"}},{"$f":"MATCH($DS$3,Millwall!$AH$97:$AW$97,0)","v":{"$error":"#N/A"}},{"$f":"MATCH($DT$3,Millwall!$AH$97:$AW$97,0)","v":{"$error":"#N/A"}},{"$f":"MATCH($DU$3,Millwall!$AH$97:$AW$97,0)","v":{"$error":"#N/A"}},{"$f":"MATCH($DV$3,Millwall!$AH$97:$AW$97,0)","v":{"$error":"#N/A"}},{"$f":"MATCH($DW$3,Millwall!$AH$97:$AW$97,0)","v":5},{"$f":"MATCH($DX$3,Millwall!$AH$97:$AW$97,0)","v":{"$error":"#N/A"}},{"$f":"MATCH($DY$3,Millwall!$AH$97:$AW$97,0)","v":{"$error":"#N/A"}},{"$f":"MATCH($DZ$3,Millwall!$AH$97:$AW$97,0)","v":{"$error":"#N/A"}},{"$f":"MATCH($EA$3,Millwall!$AH$97:$AW$97,0)","v":{"$error":"#N/A"}},null,null,{"$f":"MATCH(ED$3,Millwall!$AH$97:$AW$97,0)","v":{"$error":"#N/A"}},{"$f":"MATCH(EE$3,Millwall!$AH$97:$AW$97,0)","v":{"$error":"#N/A"}},{"$f":"MATCH(EF$3,Millwall!$AH$97:$AW$97,0)","v":{"$error":"#N/A"}},{"$f":"MATCH(EG$3,Millwall!$AH$97:$AW$97,0)","v":{"$error":"#N/A"}},{"$f":"MATCH(EH$3,Millwall!$AH$97:$AW$97,0)","v":{"$error":"#N/A"}},{"$f":"MATCH(EI$3,Millwall!$AH$97:$AW$97,0)","v":{"$error":"#N/A"}},{"$f":"MATCH(EJ$3,Millwall!$AH$97:$AW$97,0)","v":{"$error":"#N/A"}},{"$f":"MATCH(EK$3,Millwall!$AH$97:$AW$97,0)","v":{"$error":"#N/A"}},{"$f":"MATCH(EL$3,Millwall!$AH$97:$AW$97,0)","v":{"$error":"#N/A"}},{"$f":"MATCH(EM$3,Millwall!$AH$97:$AW$97,0)","v":{"$error":"#N/A"}},{"$f":"MATCH(EN$3,Millwall!$AH$97:$AW$97,0)","v":{"$error":"#N/A"}},{"$f":"MATCH(EO$3,Millwall!$AH$97:$AW$97,0)","v":{"$error":"#N/A"}},{"$f":"MATCH(EP$3,Millwall!$AH$97:$AW$97,0)","v":{"$error":"#N/A"}},{"$f":"MATCH(EQ$3,Millwall!$AH$97:$AW$97,0)","v":{"$error":"#N/A"}},{"$f":"MATCH(ER$3,Millwall!$AH$97:$AW$97,0)","v":{"$error":"#N/A"}},{"$f":"MATCH(ES$3,Millwall!$AH$97:$AW$97,0)","v":{"$error":"#N/A"}},{"$f":"MATCH(ET$3,Millwall!$AH$97:$AW$97,0)","v":{"$error":"#N/A"}},{"$f":"MATCH(EU$3,Millwall!$AH$97:$AW$97,0)","v":{"$error":"#N/A"}},{"$f":"MATCH(EV$3,Millwall!$AH$97:$AW$97,0)","v":{"$error":"#N/A"}},{"$f":"MATCH(EW$3,Millwall!$AH$97:$AW$97,0)","v":{"$error":"#N/A"}},{"$f":"MATCH(EX$3,Millwall!$AH$97:$AW$97,0)","v":{"$error":"#N/A"}},{"$f":"MATCH(EY$3,Millwall!$AH$97:$AW$97,0)","v":{"$error":"#N/A"}},{"$f":"MATCH(EZ$3,Millwall!$AH$97:$AW$97,0)","v":{"$error":"#N/A"}},{"$f":"MATCH(FA$3,Millwall!$AH$97:$AW$97,0)","v":{"$error":"#N/A"}},{"$f":"MATCH(FB$3,Millwall!$AH$97:$AW$97,0)","v":{"$error":"#N/A"}},{"$f":"MATCH(FC$3,Millwall!$AH$97:$AW$97,0)","v":{"$error":"#N/A"}},{"$f":"MATCH(FD$3,Millwall!$AH$97:$AW$97,0)","v":{"$error":"#N/A"}},{"$f":"MATCH(FE$3,Millwall!$AH$97:$AW$97,0)","v":{"$error":"#N/A"}},{"$f":"MATCH(FF$3,Millwall!$AH$97:$AW$97,0)","v":{"$error":"#N/A"}},{"$f":"MATCH(FG$3,Millwall!$AH$97:$AW$97,0)","v":{"$error":"#N/A"}},{"$f":"MATCH(FH$3,Millwall!$AH$97:$AW$97,0)","v":{"$error":"#N/A"}},{"$f":"MATCH(FI$3,Millwall!$AH$97:$AW$97,0)","v":{"$error":"#N/A"}},{"$f":"MATCH(FJ$3,Millwall!$AH$97:$AW$97,0)","v":{"$error":"#N/A"}},{"$f":"MATCH(FK$3,Millwall!$AH$97:$AW$97,0)","v":{"$error":"#N/A"}},{"$f":"MATCH(FL$3,Millwall!$AH$97:$AW$97,0)","v":{"$error":"#N/A"}},{"$f":"MATCH(FM$3,Millwall!$AH$97:$AW$97,0)","v":{"$error":"#N/A"}},{"$f":"MATCH(FN$3,Millwall!$AH$97:$AW$97,0)","v":{"$error":"#N/A"}},{"$f":"MATCH(FO$3,Millwall!$AH$97:$AW$97,0)","v":{"$error":"#N/A"}},null,null,null,null,null,null,{"$f":"$FX$27&\" {**\"","v":"McRobert {**"},{"$f":"$FX$27&\" [**\"","v":"McRobert [**"},{"$f":"Millwall!$BY82","v":"McRobert"},"McRobert (**",{"$f":"$FX$27&\"**\"","v":"McRobert**"},null,{"$f":"$FX$27","v":"McRobert"},{"$f":"$FY$27","v":"McRobert (**"},{"$f":"$FZ$27","v":"McRobert**"},null,{"$f":"Millwall!CC28","v":0},{"$f":"Millwall!CH28","v":0},{"$f":"Millwall!CR28","v":0},{"$f":"Millwall!CW28","v":0}]
[null,null,0,24,null,{"$f":"Millwall!AD98","v":"1996-12-18"},null,{"$f":"Millwall!AE98","v":"Luton"},{"$f":"Millwall!AF98","v":"(H)"},{"$f":"Millwall!AG98","v":"L 0-1"},{"$f":"MATCH($K$4,Millwall!$AH$98:$AW$98,0)","v":{"$error":"#N/A"}},{"$f":"MATCH($L$4,Millwall!$AH$98:$AW$98,0)","v":{"$error":"#N/A"}},{"$f":"MATCH($M$4,Millwall!$AH$98:$AW$98,0)","v":{"$error":"#N/A"}},{"$f":"MATCH($N$4,Millwall!$AH$98:$AW$98,0)","v":{"$error":"#N/A"}},{"$f":"MATCH($O$4,Millwall!$AH$98:$AW$98,0)","v":10},{"$f":"MATCH($P$4,Millwall!$AH$98:$AW$98,0)","v":{"$error":"#N/A"}},{"$f":"MATCH($Q$4,Millwall!$AH$98:$AW$98,0)","v":{"$error":"#N/A"}},{"$f":"MATCH($R$4,Millwall!$AH$98:$AW$98,0)","v":1},{"$f":"MATCH($S$4,Millwall!$AH$98:$AW$98,0)","v":9},{"$f":"MATCH($T$4,Millwall!$AH$98:$AW$98,0)","v":11},{"$f":"MATCH($U$4,Millwall!$AH$98:$AW$98,0)","v":14},{"$f":"MATCH($V$4,Millwall!$AH$98:$AW$98,0)","v":{"$error":"#N/A"}},{"$f":"MATCH($W$4,Millwall!$AH$98:$AW$98,0)","v":{"$error":"#N/A"}},{"$f":"MATCH($X$4,Millwall!$AH$98:$AW$98,0)","v":{"$error":"#N/A"}},{"$f":"MATCH($Y$4,Millwall!$AH$98:$AW$98,0)","v":13},{"$f":"MATCH($Z$4,Millwall!$AH$98:$AW$98,0)","v":7},{"$f":"MATCH($AA$4,Millwall!$AH$98:$AW$98,0)","v":{"$error":"#N/A"}},{"$f":"MATCH($AB$4,Millwall!$AH$98:$AW$98,0)","v":{"$error":"#N/A"}},{"$f":"MATCH($AC$4,Millwall!$AH$98:$AW$98,0)","v":{"$error":"#N/A"}},{"$f":"MATCH($AD$4,Millwall!$AH$98:$AW$98,0)","v":2},{"$f":"MATCH($AE$4,Millwall!$AH$98:$AW$98,0)","v":{"$error":"#N/A"}},{"$f":"MATCH($AF$4,Millwall!$AH$98:$AW$98,0)","v":{"$error":"#N/A"}},{"$f":"MATCH($AG$4,Millwall!$AH$98:$AW$98,0)","v":{"$error":"#N/A"}},{"$f":"MATCH($AH$4,Millwall!$AH$98:$AW$98,0)","v":8},{"$f":"MATCH($AI$4,Millwall!$AH$98:$AW$98,0)","v":4},{"$f":"MATCH($AJ$4,Millwall!$AH$98:$AW$98,0)","v":{"$error":"#N/A"}},{"$f":"MATCH($AK$4,Millwall!$AH$98:$AW$98,0)","v":{"$error":"#N/A"}},{"$f":"MATCH($AL$4,Millwall!$AH$98:$AW$98,0)","v":6},{"$f":"MATCH($AM$4,Millwall!$AH$98:$AW$98,0)","v":{"$error":"#N/A"}},{"$f":"MATCH($AN$4,Millwall!$AH$98:$AW$98,0)","v":12},{"$f":"MATCH($AO$4,Millwall!$AH$98:$AW$98,0)","v":5},{"$f":"MATCH($AP$4,Millwall!$AH$98:$AW$98,0)","v":{"$error":"#N/A"}},{"$f":"MATCH($AQ$4,Millwall!$AH$98:$AW$98,0)","v":3},{"$f":"MATCH($AR$4,Millwall!$AH$98:$AW$98,0)","v":{"$error":"#N/A"}},{"$f":"MATCH($AS$4,Millwall!$AH$98:$AW$98,0)","v":{"$error":"#N/A"}},{"$f":"MATCH($AT$4,Millwall!$AH$98:$AW$98,0)","v":{"$error":"#N/A"}},{"$f":"MATCH($AU$4,Millwall!$AH$98:$AW$98,0)","v":{"$error":"#N/A"}},{"$f":"MATCH($AV$4,Millwall!$AH$98:$AW$98,0)","v":{"$error":"#N/A"}},null,null,null,null,null,{"$f":"MATCH(BB$3,Millwall!$AH98:$AW98,0)","v":{"$error":"#N/A"}},{"$f":"MATCH(BC$3,Millwall!$AH98:$AW98,0)","v":{"$error":"#N/A"}},{"$f":"MATCH(BD$3,Millwall!$AH98:$AW98,0)","v":{"$error":"#N/A"}},{"$f":"MATCH(BE$3,Millwall!$AH98:$AW98,0)","v":{"$error":"#N/A"}},{"$f":"MATCH(BF$3,Millwall!$AH98:$AW98,0)","v":{"$error":"#N/A"}},{"$f":"MATCH(BG$3,Millwall!$AH98:$AW98,0)","v":{"$error":"#N/A"}},{"$f":"MATCH(BH$3,Millwall!$AH98:$AW98,0)","v":{"$error":"#N/A"}},{"$f":"MATCH(BI$3,Millwall!$AH98:$AW98,0)","v":{"$error":"#N/A"}},{"$f":"MATCH(BJ$3,Millwall!$AH98:$AW98,0)","v":{"$error":"#N/A"}},{"$f":"MATCH(BK$3,Millwall!$AH98:$AW98,0)","v":{"$error":"#N/A"}},{"$f":"MATCH(BL$3,Millwall!$AH98:$AW98,0)","v":{"$error":"#N/A"}},{"$f":"MATCH(BM$3,Millwall!$AH98:$AW98,0)","v":{"$error":"#N/A"}},{"$f":"MATCH(BN$3,Millwall!$AH98:$AW98,0)","v":{"$error":"#N/A"}},{"$f":"MATCH(BO$3,Millwall!$AH98:$AW98,0)","v":{"$error":"#N/A"}},{"$f":"MATCH(BP$3,Millwall!$AH98:$AW98,0)","v":{"$error":"#N/A"}},{"$f":"MATCH(BQ$3,Millwall!$AH98:$AW98,0)","v":7},{"$f":"MATCH(BR$3,Millwall!$AH98:$AW98,0)","v":{"$error":"#N/A"}},{"$f":"MATCH(BS$3,Millwall!$AH98:$AW98,0)","v":{"$error":"#N/A"}},{"$f":"MATCH(BT$3,Millwall!$AH98:$AW98,0)","v":{"$error":"#N/A"}},{"$f":"MATCH(BU$3,Millwall!$AH98:$AW98,0)","v":{"$error":"#N/A"}},{"$f":"MATCH(BV$3,Millwall!$AH98:$AW98,0)","v":{"$error":"#N/A"}},{"$f":"MATCH(BW$3,Millwall!$AH98:$AW98,0)","v":{"$error":"#N/A"}},{"$f":"MATCH(BX$3,Millwall!$AH98:$AW98,0)","v":{"$error":"#N/A"}},{"$f":"MATCH(BY$3,Millwall!$AH98:$AW98,0)","v":{"$error":"#N/A"}},{"$f":"MATCH(BZ$3,Millwall!$AH98:$AW98,0)","v":{"$error":"#N/A"}},{"$f":"MATCH(CA$3,Millwall!$AH98:$AW98,0)","v":{"$error":"#N/A"}},{"$f":"MATCH(CB$3,Millwall!$AH98:$AW98,0)","v":{"$error":"#N/A"}},{"$f":"MATCH(CC$3,Millwall!$AH98:$AW98,0)","v":{"$error":"#N/A"}},{"$f":"MATCH(CD$3,Millwall!$AH98:$AW98,0)","v":{"$error":"#N/A"}},{"$f":"MATCH(CE$3,Millwall!$AH98:$AW98,0)","v":12},{"$f":"MATCH(CF$3,Millwall!$AH98:$AW98,0)","v":{"$error":"#N/A"}},{"$f":"MATCH(CG$3,Millwall!$AH98:$AW98,0)","v":{"$error":"#N/A"}},{"$f":"MATCH(CH$3,Millwall!$AH98:$AW98,0)","v":{"$error":"#N/A"}},{"$f":"MATCH(CI$3,Millwall!$AH98:$AW98,0)","v":{"$error":"#N/A"}},{"$f":"MATCH(CJ$3,Millwall!$AH98:$AW98,0)","v":{"$error":"#N/A"}},{"$f":"MATCH(CK$3,Millwall!$AH98:$AW98,0)","v":{"$error":"#N/A"}},{"$f":"MATCH(CL$3,Millwall!$AH98:$AW98,0)","v":{"$error":"#N/A"}},{"$f":"MATCH(CM$3,Millwall!$AH98:$AW98,0)","v":{"$error":"#N/A"}},null,null,{"$f":"MATCH($CP$3,Millwall!$AH$98:$AW$98,0)","v":{"$error":"#N/A"}},{"$f":"MATCH($CQ$3,Millwall!$AH$98:$AW$98,0)","v":{"$error":"#N/A"}},{"$f":"MATCH($CR$3,Millwall!$AH$98:$AW$98,0)","v":{"$error":"#N/A"}},{"$f":"MATCH($CS$3,Millwall!$AH$98:$AW$98,0)","v":{"$error":"#N/A"}},{"$f":"MATCH($CT$3,Millwall!$AH$98:$AW$98,0)","v":{"$error":"#N/A"}},{"$f":"MATCH($CU$3,Millwall!$AH$98:$AW$98,0)","v":{"$error":"#N/A"}},{"$f":"MATCH($CV$3,Millwall!$AH$98:$AW$98,0)","v":{"$error":"#N/A"}},{"$f":"MATCH($CW$3,Millwall!$AH$98:$AW$98,0)","v":{"$error":"#N/A"}},{"$f":"MATCH($CX$3,Millwall!$AH$98:$AW$98,0)","v":{"$error":"#N/A"}},{"$f":"MATCH($CY$3,Millwall!$AH$98:$AW$98,0)","v":{"$error":"#N/A"}},{"$f":"MATCH($CZ$3,Millwall!$AH$98:$AW$98,0)","v":{"$error":"#N/A"}},{"$f":"MATCH($DA$3,Millwall!$AH$98:$AW$98,0)","v":{"$error":"#N/A"}},{"$f":"MATCH($DB$3,Millwall!$AH$98:$AW$98,0)","v":{"$error":"#N/A"}},{"$f":"MATCH($DC$3,Millwall!$AH$98:$AW$98,0)","v":{"$error":"#N/A"}},{"$f":"MATCH($DD$3,Millwall!$AH$98:$AW$98,0)","v":13},{"$f":"MATCH($DE$3,Millwall!$AH$98:$AW$98,0)","v":{"$error":"#N/A"}},{"$f":"MATCH($DF$3,Millwall!$AH$98:$AW$98,0)","v":{"$error":"#N/A"}},{"$f":"MATCH($DG$3,Millwall!$AH$98:$AW$98,0)","v":{"$error":"#N/A"}},{"$f":"MATCH($DH$3,Millwall!$AH$98:$AW$98,0)","v":{"$error":"#N/A"}},{"$f":"MATCH($DI$3,Millwall!$AH$98:$AW$98,0)","v":{"$error":"#N/A"}},{"$f":"MATCH($DJ$3,Millwall!$AH$98:$AW$98,0)","v":{"$error":"#N/A"}},{"$f":"MATCH($DK$3,Millwall!$AH$98:$AW$98,0)","v":{"$error":"#N/A"}},{"$f":"MATCH($DL$3,Millwall!$AH$98:$AW$98,0)","v":{"$error":"#N/A"}},{"$f":"MATCH($DM$3,Millwall!$AH$98:$AW$98,0)","v":8},{"$f":"MATCH($DN$3,Millwall!$AH$98:$AW$98,0)","v":{"$error":"#N/A"}},{"$f":"MATCH($DO$3,Millwall!$AH$98:$AW$98,0)","v":{"$error":"#N/A"}},{"$f":"MATCH($DP$3,Millwall!$AH$98:$AW$98,0)","v":{"$error":"#N/A"}},{"$f":"MATCH($DQ$3,Millwall!$AH$98:$AW$98,0)","v":{"$error":"#N/A"}},{"$f":"MATCH($DR$3,Millwall!$AH$98:$AW$98,0)","v":{"$error":"#N/A"}},{"$f":"MATCH($DS$3,Millwall!$AH$98:$AW$98,0)","v":{"$error":"#N/A"}},{"$f":"MATCH($DT$3,Millwall!$AH$98:$AW$98,0)","v":{"$error":"#N/A"}},{"$f":"MATCH($DU$3,Millwall!$AH$98:$AW$98,0)","v":{"$error":"#N/A"}},{"$f":"MATCH($DV$3,Millwall!$AH$98:$AW$98,0)","v":{"$error":"#N/A"}},{"$f":"MATCH($DW$3,Millwall!$AH$98:$AW$98,0)","v":{"$error":"#N/A"}},{"$f":"MATCH($DX$3,Millwall!$AH$98:$AW$98,0)","v":{"$error":"#N/A"}},{"$f":"MATCH($DY$3,Millwall!$AH$98:$AW$98,0)","v":{"$error":"#N/A"}},{"$f":"MATCH($DZ$3,Millwall!$AH$98:$AW$98,0)","v":{"$error":"#N/A"}},{"$f":"MATCH($EA$3,Millwall!$AH$98:$AW$98,0)","v":{"$error":"#N/A"}},null,null,{"$f":"MATCH(ED$3,Millwall!$AH$98:$AW$98,0)","v":{"$error":"#N/A"}},{"$f":"MATCH(EE$3,Millwall!$AH$98:$AW$98,0)","v":{"$error":"#N/A"}},{"$f":"MATCH(EF$3,Millwall!$AH$98:$AW$98,0)","v":{"$error":"#N/A"}},{"$f":"MATCH(EG$3,Millwall!$AH$98:$AW$98,0)","v":{"$error":"#N/A"}},{"$f":"MATCH(EH$3,Millwall!$AH$98:$AW$98,0)","v":{"$error":"#N/A"}},{"$f":"MATCH(EI$3,Millwall!$AH$98:$AW$98,0)","v":{"$error":"#N/A"}},{"$f":"MATCH(EJ$3,Millwall!$AH$98:$AW$98,0)","v":{"$error":"#N/A"}},{"$f":"MATCH(EK$3,Millwall!$AH$98:$AW$98,0)","v":{"$error":"#N/A"}},{"$f":"MATCH(EL$3,Millwall!$AH$98:$AW$98,0)","v":{"$error":"#N/A"}},{"$f":"MATCH(EM$3,Millwall!$AH$98:$AW$98,0)","v":11},{"$f":"MATCH(EN$3,Millwall!$AH$98:$AW$98,0)","v":14},{"$f":"MATCH(EO$3,Millwall!$AH$98:$AW$98,0)","v":{"$error":"#N/A"}},{"$f":"MATCH(EP$3,Millwall!$AH$98:$AW$98,0)","v":{"$error":"#N/A"}},{"$f":"MATCH(EQ$3,Millwall!$AH$98:$AW$98,0)","v":{"$error":"#N/A"}},{"$f":"MATCH(ER$3,Millwall!$AH$98:$AW$98,0)","v":{"$error":"#N/A"}},{"$f":"MATCH(ES$3,Millwall!$AH$98:$AW$98,0)","v":{"$error":"#N/A"}},{"$f":"MATCH(ET$3,Millwall!$AH$98:$AW$98,0)","v":{"$error":"#N/A"}},{"$f":"MATCH(EU$3,Millwall!$AH$98:$AW$98,0)","v":{"$error":"#N/A"}},{"$f":"MATCH(EV$3,Millwall!$AH$98:$AW$98,0)","v":{"$error":"#N/A"}},{"$f":"MATCH(EW$3,Millwall!$AH$98:$AW$98,0)","v":{"$error":"#N/A"}},{"$f":"MATCH(EX$3,Millwall!$AH$98:$AW$98,0)","v":{"$error":"#N/A"}},{"$f":"MATCH(EY$3,Millwall!$AH$98:$AW$98,0)","v":{"$error":"#N/A"}},{"$f":"MATCH(EZ$3,Millwall!$AH$98:$AW$98,0)","v":{"$error":"#N/A"}},{"$f":"MATCH(FA$3,Millwall!$AH$98:$AW$98,0)","v":{"$error":"#N/A"}},{"$f":"MATCH(FB$3,Millwall!$AH$98:$AW$98,0)","v":{"$error":"#N/A"}},{"$f":"MATCH(FC$3,Millwall!$AH$98:$AW$98,0)","v":{"$error":"#N/A"}},{"$f":"MATCH(FD$3,Millwall!$AH$98:$AW$98,0)","v":{"$error":"#N/A"}},{"$f":"MATCH(FE$3,Millwall!$AH$98:$AW$98,0)","v":{"$error":"#N/A"}},{"$f":"MATCH(FF$3,Millwall!$AH$98:$AW$98,0)","v":{"$error":"#N/A"}},{"$f":"MATCH(FG$3,Millwall!$AH$98:$AW$98,0)","v":{"$error":"#N/A"}},{"$f":"MATCH(FH$3,Millwall!$AH$98:$AW$98,0)","v":{"$error":"#N/A"}},{"$f":"MATCH(FI$3,Millwall!$AH$98:$AW$98,0)","v":{"$error":"#N/A"}},{"$f":"MATCH(FJ$3,Millwall!$AH$98:$AW$98,0)","v":{"$error":"#N/A"}},{"$f":"MATCH(FK$3,Millwall!$AH$98:$AW$98,0)","v":{"$error":"#N/A"}},{"$f":"MATCH(FL$3,Millwall!$AH$98:$AW$98,0)","v":{"$error":"#N/A"}},{"$f":"MATCH(FM$3,Millwall!$AH$98:$AW$98,0)","v":{"$error":"#N/A"}},{"$f":"MATCH(FN$3,Millwall!$AH$98:$AW$98,0)","v":{"$error":"#N/A"}},{"$f":"MATCH(FO$3,Millwall!$AH$98:$AW$98,0)","v":{"$error":"#N/A"}},null,null,null,null,null,null,{"$f":"$FX$28&\" {**\"","v":"Neill {**"},{"$f":"$FX$28&\" [**\"","v":"Neill [**"},{"$f":"Millwall!$BY83","v":"Neill"},"Neill (**",{"$f":"$FX$28&\"**\"","v":"Neill**"},null,{"$f":"$FX$28","v":"Neill"},{"$f":"$FY$28","v":"Neill (**"},{"$f":"$FZ$28","v":"Neill**"},null,{"$f":"Millwall!CC29","v":4},{"$f":"Millwall!CH29","v":4},{"$f":"Millwall!CR29","v":0},{"$f":"Millwall!CW29","v":0}]
[null,null,0,25,null,{"$f":"Millwall!AD99","v":"1996-12-26"},null,{"$f":"Millwall!AE99","v":"Peterborough"},{"$f":"Millwall!AF99","v":"(H)"},{"$f":"Millwall!AG99","v":"L 0-2"},{"$f":"MATCH($K$4,Millwall!$AH$99:$AW$99,0)","v":{"$error":"#N/A"}},{"$f":"MATCH($L$4,Millwall!$AH$99:$AW$99,0)","v":{"$error":"#N/A"}},{"$f":"MATCH($M$4,Millwall!$AH$99:$AW$99,0)","v":{"$error":"#N/A"}},{"$f":"MATCH($N$4,Millwall!$AH$99:$AW$99,0)","v":{"$error":"#N/A"}},{"$f":"MATCH($O$4,Millwall!$AH$99:$AW$99,0)","v":10},{"$f":"MATCH($P$4,Millwall!$AH$99:$AW$99,0)","v":{"$error":"#N/A"}},{"$f":"MATCH($Q$4,Millwall!$AH$99:$AW$99,0)","v":{"$error":"#N/A"}},{"$f":"MATCH($R$4,Millwall!$AH$99:$AW$99,0)","v":1},{"$f":"MATCH($S$4,Millwall!$AH$99:$AW$99,0)","v":9},{"$f":"MATCH($T$4,Millwall!$AH$99:$AW$99,0)","v":11},{"$f":"MATCH($U$4,Millwall!$AH$99:$AW$99,0)","v":14},{"$f":"MATCH($V$4,Millwall!$AH$99:$AW$99,0)","v":{"$error":"#N/A"}},{"$f":"MATCH($W$4,Millwall!$AH$99:$AW$99,0)","v":{"$error":"#N/A"}},{"$f":"MATCH($X$4,Millwall!$AH$99:$AW$99,0)","v":{"$error":"#N/A"}},{"$f":"MATCH($Y$4,Millwall!$AH$99:$AW$99,0)","v":6},{"$f":"MATCH($Z$4,Millwall!$AH$99:$AW$99,0)","v":7},{"$f":"MATCH($AA$4,Millwall!$AH$99:$AW$99,0)","v":{"$error":"#N/A"}},{"$f":"MATCH($AB$4,Millwall!$AH$99:$AW$99,0)","v":{"$error":"#N/A"}},{"$f":"MATCH($AC$4,Millwall!$AH$99:$AW$99,0)","v":13},{"$f":"MATCH($AD$4,Millwall!$AH$99:$AW$99,0)","v":2},{"$f":"MATCH($AE$4,Millwall!$AH$99:$AW$99,0)","v":{"$error":"#N/A"}},{"$f":"MATCH($AF$4,Millwall!$AH$99:$AW$99,0)","v":{"$error":"#N/A"}},{"$f":"MATCH($AG$4,Millwall!$AH$99:$AW$99,0)","v":{"$error":"#N/A"}},{"$f":"MATCH($AH$4,Millwall!$AH$99:$AW$99,0)","v":{"$error":"#N/A"}},{"$f":"MATCH($AI$4,Millwall!$AH$99:$AW$99,0)","v":8},{"$f":"MATCH($AJ$4,Millwall!$AH$99:$AW$99,0)","v":{"$error":"#N/A"}},{"$f":"MATCH($AK$4,Millwall!$AH$99:$AW$99,0)","v":{"$error":"#N/A"}},{"$f":"MATCH($AL$4,Millwall!$AH$99:$AW$99,0)","v":3},{"$f":"MATCH($AM$4,Millwall!$AH$99:$AW$99,0)","v":{"$error":"#N/A"}},{"$f":"MATCH($AN$4,Millwall!$AH$99:$AW$99,0)","v":{"$error":"#N/A"}},{"$f":"MATCH($AO$4,Millwall!$AH$99:$AW$99,0)","v":4},{"$f":"MATCH($AP$4,Millwall!$AH$99:$AW$99,0)","v":{"$error":"#N/A"}},{"$f":"MATCH($AQ$4,Millwall!$AH$99:$AW$99,0)","v":12},{"$f":"MATCH($AR$4,Millwall!$AH$99:$AW$99,0)","v":5},{"$f":"MATCH($AS$4,Millwall!$AH$99:$AW$99,0)","v":{"$error":"#N/A"}},{"$f":"MATCH($AT$4,Millwall!$AH$99:$AW$99,0)","v":{"$error":"#N/A"}},{"$f":"MATCH($AU$4,Millwall!$AH$99:$AW$99,0)","v":{"$error":"#N/A"}},{"$f":"MATCH($AV$4,Millwall!$AH$99:$AW$99,0)","v":{"$error":"#N/A"}},null,null,null,null,null,{"$f":"MATCH(BB$3,Millwall!$AH99:$AW99,0)","v":{"$error":"#N/A"}},{"$f":"MATCH(BC$3,Millwall!$AH99:$AW99,0)","v":{"$error":"#N/A"}},{"$f":"MATCH(BD$3,Millwall!$AH99:$AW99,0)","v":{"$error":"#N/A"}},{"$f":"MATCH(BE$3,Millwall!$AH99:$AW99,0)","v":{"$error":"#N/A"}},{"$f":"MATCH(BF$3,Millwall!$AH99:$AW99,0)","v":{"$error":"#N/A"}},{"$f":"MATCH(BG$3,Millwall!$AH99:$AW99,0)","v":{"$error":"#N/A"}},{"$f":"MATCH(BH$3,Millwall!$AH99:$AW99,0)","v":{"$error":"#N/A"}},{"$f":"MATCH(BI$3,Millwall!$AH99:$AW99,0)","v":{"$error":"#N/A"}},{"$f":"MATCH(BJ$3,Millwall!$AH99:$AW99,0)","v":{"$error":"#N/A"}},{"$f":"MATCH(BK$3,Millwall!$AH99:$AW99,0)","v":{"$error":"#N/A"}},{"$f":"MATCH(BL$3,Millwall!$AH99:$AW99,0)","v":{"$error":"#N/A"}},{"$f":"MATCH(BM$3,Millwall!$AH99:$AW99,0)","v":{"$error":"#N/A"}},{"$f":"MATCH(BN$3,Millwall!$AH99:$AW99,0)","v":{"$error":"#N/A"}},{"$f":"MATCH(BO$3,Millwall!$AH99:$AW99,0)","v":{"$error":"#N/A"}},{"$f":"MATCH(BP$3,Millwall!$AH99:$AW99,0)","v":{"$error":"#N/A"}},{"$f":"MATCH(BQ$3,Millwall!$AH99:$AW99,0)","v":{"$error":"#N/A"}},{"$f":"MATCH(BR$3,Millwall!$AH99:$AW99,0)","v":{"$error":"#N/A"}},{"$f":"MATCH(BS$3,Millwall!$AH99:$AW99,0)","v":{"$error":"#N/A"}},{"$f":"MATCH(BT$3,Millwall!$AH99:$AW99,0)","v":{"$error":"#N/A"}},{"$f":"MATCH(BU$3,Millwall!$AH99:$AW99,0)","v":2},{"$f":"MATCH(BV$3,Millwall!$AH99:$AW99,0)","v":{"$error":"#N/A"}},{"$f":"MATCH(BW$3,Millwall!$AH99:$AW99,0)","v":{"$error":"#N/A"}},{"$f":"MATCH(BX$3,Millwall!$AH99:$AW99,0)","v":{"$error":"#N/A"}},{"$f":"MATCH(BY$3,Millwall!$AH99:$AW99,0)","v":{"$error":"#N/A"}},{"$f":"MATCH(BZ$3,Millwall!$AH99:$AW99,0)","v":{"$error":"#N/A"}},{"$f":"MATCH(CA$3,Millwall!$AH99:$AW99,0)","v":{"$error":"#N/A"}},{"$f":"MATCH(CB$3,Millwall!$AH99:$AW99,0)","v":{"$error":"#N/A"}},{"$f":"MATCH(CC$3,Millwall!$AH99:$AW99,0)","v":{"$error":"#N/A"}},{"$f":"MATCH(CD$3,Millwall!$AH99:$AW99,0)","v":{"$error":"#N/A"}},{"$f":"MATCH(CE$3,Millwall!$AH99:$AW99,0)","v":{"$error":"#N/A"}},{"$f":"MATCH(CF$3,Millwall!$AH99:$AW99,0)","v":{"$error":"#N/A"}},{"$f":"MATCH(CG$3,Millwall!$AH99:$AW99,0)","v":{"$error":"#N/A"}},{"$f":"MATCH(CH$3,Millwall!$AH99:$AW99,0)","v":12},{"$f":"MATCH(CI$3,Millwall!$AH99:$AW99,0)","v":{"$error":"#N/A"}},{"$f":"MATCH(CJ$3,Millwall!$AH99:$AW99,0)","v":{"$error":"#N/A"}},{"$f":"MATCH(CK$3,Millwall!$AH99:$AW99,0)","v":{"$error":"#N/A"}},{"$f":"MATCH(CL$3,Millwall!$AH99:$AW99,0)","v":{"$error":"#N/A"}},{"$f":"MATCH(CM$3,Millwall!$AH99:$AW99,0)","v":{"$error":"#N/A"}},null,null,{"$f":"MATCH($CP$3,Millwall!$AH$99:$AW$99,0)","v":{"$error":"#N/A"}},{"$f":"MATCH($CQ$3,Millwall!$AH$99:$AW$99,0)","v":{"$error":"#N/A"}},{"$f":"MATCH($CR$3,Millwall!$AH$99:$AW$99,0)","v":{"$error":"#N/A"}},{"$f":"MATCH($CS$3,Millwall!$AH$99:$AW$99,0)","v":{"$error":"#N/A"}},{"$f":"MATCH($CT$3,Millwall!$AH$99:$AW$99,0)","v":{"$error":"#N/A"}},{"$f":"MATCH($CU$3,Millwall!$AH$99:$AW$99,0)","v":{"$error":"#N/A"}},{"$f":"MATCH($CV$3,Millwall!$AH$99:$AW$99,0)","v":{"$error":"#N/A"}},{"$f":"MATCH($CW$3,Millwall!$AH$99:$AW$99,0)","v":1},{"$f":"MATCH($CX$3,Millwall!$AH$99:$AW$99,0)","v":{"$error":"#N/A"}},{"$f":"MATCH($CY$3,Millwall!$AH$99:$AW$99,0)","v":{"$error":"#N/A"}},{"$f":"MATCH($CZ$3,Millwall!$AH$99:$AW$99,0)","v":{"$error":"#N/A"}},{"$f":"MATCH($DA$3,Millwall!$AH$99:$AW$99,0)","v":{"$error":"#N/A"}},{"$f":"MATCH($DB$3,Millwall!$AH$99:$AW$99,0)","v":{"$error":"#N/A"}},{"$f":"MATCH($DC$3,Millwall!$AH$99:$AW$99,0)","v":{"$error":"#N/A"}},{"$f":"MATCH($DD$3,Millwall!$AH$99:$AW$99,0)","v":{"$error":"#N/A"}},{"$f":"MATCH($DE$3,Millwall!$AH$99:$AW$99,0)","v":{"$error":"#N/A"}},{"$f":"MATCH($DF$3,Millwall!$AH$99:$AW$99,0)","v":{"$error":"#N/A"}},{"$f":"MATCH($DG$3,Millwall!$AH$99:$AW$99,0)","v":{"$error":"#N/A"}},{"$f":"MATCH($DH$3,Millwall!$AH$99:$AW$99,0)","v":13},{"$f":"MATCH($DI$3,Millwall!$AH$99:$AW$99,0)","v":{"$error":"#N/A"}},{"$f":"MATCH($DJ$3,Millwall!$AH$99:$AW$99,0)","v":{"$error":"#N/A"}},{"$f":"MATCH($DK$3,Millwall!$AH$99:$AW$99,0)","v":{"$error":"#N/A"}},{"$f":"MATCH($DL$3,Millwall!$AH$99:$AW$99,0)","v":{"$error":"#N/A"}},{"$f":"MATCH($DM$3,Millwall!$AH$99:$AW$99,0)","v":{"$error":"#N/A"}},{"$f":"MATCH($DN$3,Millwall!$AH$99:$AW$99,0)","v":{"$error":"#N/A"}},{"$f":"MATCH($DO$3,Millwall!$AH$99:$AW$99,0)","v":{"$error":"#N/A"}},{"$f":"MATCH($DP$3,Millwall!$AH$99:$AW$99,0)","v":{"$error":"#N/A"}},{"$f":"MATCH($DQ$3,Millwall!$AH$99:$AW$99,0)","v":{"$error":"#N/A"}},{"$f":"MATCH($DR$3,Millwall!$AH$99:$AW$99,0)","v":{"$error":"#N/A"}},{"$f":"MATCH($DS$3,Millwall!$AH$99:$AW$99,0)","v":{"$error":"#N/A"}},{"$f":"MATCH($DT$3,Millwall!$AH$99:$AW$99,0)","v":{"$error":"#N/A"}},{"$f":"MATCH($DU$3,Millwall!$AH$99:$AW$99,0)","v":{"$error":"#N/A"}},{"$f":"MATCH($DV$3,Millwall!$AH$99:$AW$99,0)","v":{"$error":"#N/A"}},{"$f":"MATCH($DW$3,Millwall!$AH$99:$AW$99,0)","v":{"$error":"#N/A"}},{"$f":"MATCH($DX$3,Millwall!$AH$99:$AW$99,0)","v":{"$error":"#N/A"}},{"$f":"MATCH($DY$3,Millwall!$AH$99:$AW$99,0)","v":{"$error":"#N/A"}},{"$f":"MATCH($DZ$3,Millwall!$AH$99:$AW$99,0)","v":{"$error":"#N/A"}},{"$f":"MATCH($EA$3,Millwall!$AH$99:$AW$99,0)","v":{"$error":"#N/A"}},null,null,{"$f":"MATCH(ED$3,Millwall!$AH$99:$AW$99,0)","v":{"$error":"#N/A"}},{"$f":"MATCH(EE$3,Millwall!$AH$99:$AW$99,0)","v":{"$error":"#N/A"}},{"$f":"MATCH(EF$3,Millwall!$AH$99:$AW$99,0)","v":{"$error":"#N/A"}},{"$f":"MATCH(EG$3,Millwall!$AH$99:$AW$99,0)","v":{"$error":"#N/A"}},{"$f":"MATCH(EH$3,Millwall!$AH$99:$AW$99,0)","v":{"$error":"#N/A"}},{"$f":"MATCH(EI$3,Millwall!$AH$99:$AW$99,0)","v":{"$error":"#N/A"}},{"$f":"MATCH(EJ$3,Millwall!$AH$99:$AW$99,0)","v":{"$error":"#N/A"}},{"$f":"MATCH(EK$3,Millwall!$AH$99:$AW$99,0)","v":{"$error":"#N/A"}},{"$f":"MATCH(EL$3,Millwall!$AH$99:$AW$99,0)","v":{"$error":"#N/A"}},{"$f":"MATCH(EM$3,Millwall!$AH$99:$AW$99,0)","v":11},{"$f":"MATCH(EN$3,Millwall!$AH$99:$AW$99,0)","v":14},{"$f":"MATCH(EO$3,Millwall!$AH$99:$AW$99,0)","v":{"$error":"#N/A"}},{"$f":"MATCH(EP$3,Millwall!$AH$99:$AW$99,0)","v":{"$error":"#N/A"}},{"$f":"MATCH(EQ$3,Millwall!$AH$99:$AW$99,0)","v":{"$error":"#N/A"}},{"$f":"MATCH(ER$3,Millwall!$AH$99:$AW$99,0)","v":{"$error":"#N/A"}},{"$f":"MATCH(ES$3,Millwall!$AH$99:$AW$99,0)","v":{"$error":"#N/A"}},{"$f":"MATCH(ET$3,Millwall!$AH$99:$AW$99,0)","v":{"$error":"#N/A"}},{"$f":"MATCH(EU$3,Millwall!$AH$99:$AW$99,0)","v":{"$error":"#N/A"}},{"$f":"MATCH(EV$3,Millwall!$AH$99:$AW$99,0)","v":{"$error":"#N/A"}},{"$f":"MATCH(EW$3,Millwall!$AH$99:$AW$99,0)","v":{"$error":"#N/A"}},{"$f":"MATCH(EX$3,Millwall!$AH$99:$AW$99,0)","v":{"$error":"#N/A"}},{"$f":"MATCH(EY$3,Millwall!$AH$99:$AW$99,0)","v":{"$error":"#N/A"}},{"$f":"MATCH(EZ$3,Millwall!$AH$99:$AW$99,0)","v":{"$error":"#N/A"}},{"$f":"MATCH(FA$3,Millwall!$AH$99:$AW$99,0)","v":{"$error":"#N/A"}},{"$f":"MATCH(FB$3,Millwall!$AH$99:$AW$99,0)","v":{"$error":"#N/A"}},{"$f":"MATCH(FC$3,Millwall!$AH$99:$AW$99,0)","v":{"$error":"#N/A"}},{"$f":"MATCH(FD$3,Millwall!$AH$99:$AW$99,0)","v":{"$error":"#N/A"}},{"$f":"MATCH(FE$3,Millwall!$AH$99:$AW$99,0)","v":{"$error":"#N/A"}},{"$f":"MATCH(FF$3,Millwall!$AH$99:$AW$99,0)","v":{"$error":"#N/A"}},{"$f":"MATCH(FG$3,Millwall!$AH$99:$AW$99,0)","v":{"$error":"#N/A"}},{"$f":"MATCH(FH$3,Millwall!$AH$99:$AW$99,0)","v":{"$error":"#N/A"}},{"$f":"MATCH(FI$3,Millwall!$AH$99:$AW$99,0)","v":{"$error":"#N/A"}},{"$f":"MATCH(FJ$3,Millwall!$AH$99:$AW$99,0)","v":{"$error":"#N/A"}},{"$f":"MATCH(FK$3,Millwall!$AH$99:$AW$99,0)","v":{"$error":"#N/A"}},{"$f":"MATCH(FL$3,Millwall!$AH$99:$AW$99,0)","v":{"$error":"#N/A"}},{"$f":"MATCH(FM$3,Millwall!$AH$99:$AW$99,0)","v":{"$error":"#N/A"}},{"$f":"MATCH(FN$3,Millwall!$AH$99:$AW$99,0)","v":{"$error":"#N/A"}},{"$f":"MATCH(FO$3,Millwall!$AH$99:$AW$99,0)","v":{"$error":"#N/A"}},null,null,null,null,null,null,{"$f":"$FX$29&\" {**\"","v":"Newman {**"},{"$f":"$FX$29&\" [**\"","v":"Newman [**"},{"$f":"Millwall!$BY84","v":"Newman"},"Newman (**",{"$f":"$FX$29&\"**\"","v":"Newman**"},null,{"$f":"$FX$29","v":"Newman"},{"$f":"$FY$29","v":"Newman (**"},{"$f":"$FZ$29","v":"Newman**"},null,{"$f":"Millwall!CC30","v":3},{"$f":"Millwall!CH30","v":3},{"$f":"Millwall!CR30","v":0},{"$f":"Millwall!CW30","v":0}]
[null,null,0,26,null,{"$f":"Millwall!AD100","v":"1997-01-11"},null,{"$f":"Millwall!AE100","v":"Preston"},{"$f":"Millwall!AF100","v":"(H)"},{"$f":"Millwall!AG100","v":"W 3-2"},{"$f":"MATCH($K$4,Millwall!$AH$100:$AW$100,0)","v":{"$error":"#N/A"}},{"$f":"MATCH($L$4,Millwall!$AH$100:$AW$100,0)","v":{"$error":"#N/A"}},{"$f":"MATCH($M$4,Millwall!$AH$100:$AW$100,0)","v":2},{"$f":"MATCH($N$4,Millwall!$AH$100:$AW$100,0)","v":14},{"$f":"MATCH($O$4,Millwall!$AH$100:$AW$100,0)","v":{"$error":"#N/A"}},{"$f":"MATCH($P$4,Millwall!$AH$100:$AW$100,0)","v":10},{"$f":"MATCH($Q$4,Millwall!$AH$100:$AW$100,0)","v":{"$error":"#N/A"}},{"$f":"MATCH($R$4,Millwall!$AH$100:$AW$100,0)","v":1},{"$f":"MATCH($S$4,Millwall!$AH$100:$AW$100,0)","v":9},{"$f":"MATCH($T$4,Millwall!$AH$100:$AW$100,0)","v":{"$error":"#N/A"}},{"$f":"MATCH($U$4,Millwall!$AH$100:$AW$100,0)","v":13},{"$f":"MATCH($V$4,Millwall!$AH$100:$AW$100,0)","v":{"$error":"#N/A"}},{"$f":"MATCH($W$4,Millwall!$AH$100:$AW$100,0)","v":{"$error":"#N/A"}},{"$f":"MATCH($X$4,Millwall!$AH$100:$AW$100,0)","v":{"$error":"#N/A"}},{"$f":"MATCH($Y$4,Millwall!$AH$100:$AW$100,0)","v":6},{"$f":"MATCH($Z$4,Millwall!$AH$100:$AW$100,0)","v":11},{"$f":"MATCH($AA$4,Millwall!$AH$100:$AW$100,0)","v":{"$error":"#N/A"}},{"$f":"MATCH($AB$4,Millwall!$AH$100:$AW$100,0)","v":{"$error":"#N/A"}},{"$f":"MATCH($AC$4,Millwall!$AH$100:$AW$100,0)","v":{"$error":"#N/A"}},{"$f":"MATCH($AD$4,Millwall!$AH$100:$AW$100,0)","v":{"$error":"#N/A"}},{"$f":"MATCH($AE$4,Millwall!$AH$100:$AW$100,0)","v":{"$error":"#N/A"}},{"$f":"MATCH($AF$4,Millwall!$AH$100:$AW$100,0)","v":{"$error":"#N/A"}},{"$f":"MATCH($AG$4,Millwall!$AH$100:$AW$100,0)","v":{"$error":"#N/A"}},{"$f":"MATCH($AH$4,Millwall!$AH$100:$AW$100,0)","v":{"$error":"#N/A"}},{"$f":"MATCH($AI$4,Millwall!$AH$100:$AW$100,0)","v":4},{"$f":"MATCH($AJ$4,Millwall!$AH$100:$AW$100,0)","v":{"$error":"#N/A"}},{"$f":"MATCH($AK$4,Millwall!$AH$100:$AW$100,0)","v":3},{"$f":"MATCH($AL$4,Millwall!$AH$100:$AW$100,0)","v":{"$error":"#N/A"}},{"$f":"MATCH($AM$4,Millwall!$AH$100:$AW$100,0)","v":{"$error":"#N/A"}},{"$f":"MATCH($AN$4,Millwall!$AH$100:$AW$100,0)","v":7},{"$f":"MATCH($AO$4,Millwall!$AH$100:$AW$100,0)","v":12},{"$f":"MATCH($AP$4,Millwall!$AH$100:$AW$100,0)","v":{"$error":"#N/A"}},{"$f":"MATCH($AQ$4,Millwall!$AH$100:$AW$100,0)","v":{"$error":"#N/A"}},{"$f":"MATCH($AR$4,Millwall!$AH$100:$AW$100,0)","v":5},{"$f":"MATCH($AS$4,Millwall!$AH$100:$AW$100,0)","v":8},{"$f":"MATCH($AT$4,Millwall!$AH$100:$AW$100,0)","v":{"$error":"#N/A"}},{"$f":"MATCH($AU$4,Millwall!$AH$100:$AW$100,0)","v":{"$error":"#N/A"}},{"$f":"MATCH($AV$4,Millwall!$AH$100:$AW$100,0)","v":{"$error":"#N/A"}},null,null,null,null,null,{"$f":"MATCH(BB$3,Millwall!$AH100:$AW100,0)","v":{"$error":"#N/A"}},{"$f":"MATCH(BC$3,Millwall!$AH100:$AW100,0)","v":{"$error":"#N/A"}},{"$f":"MATCH(BD$3,Millwall!$AH100:$AW100,0)","v":{"$error":"#N/A"}},{"$f":"MATCH(BE$3,Millwall!$AH100:$AW100,0)","v":{"$error":"#N/A"}},{"$f":"MATCH(BF$3,Millwall!$AH100:$AW100,0)","v":{"$error":"#N/A"}},{"$f":"MATCH(BG$3,Millwall!$AH100:$AW100,0)","v":{"$error":"#N/A"}},{"$f":"MATCH(BH$3,Millwall!$AH100:$AW100,0)","v":{"$error":"#N/A"}},{"$f":"MATCH(BI$3,Millwall!$AH100:$AW100,0)","v":{"$error":"#N/A"}},{"$f":"MATCH(BJ$3,Millwall!$AH100:$AW100,0)","v":{"$error":"#N/A"}},{"$f":"MATCH(BK$3,Millwall!$AH100:$AW100,0)","v":{"$error":"#N/A"}},{"$f":"MATCH(BL$3,Millwall!$AH100:$AW100,0)","v":{"$error":"#N/A"}},{"$f":"MATCH(BM$3,Millwall!$AH100:$AW100,0)","v":{"$error":"#N/A"}},{"$f":"MATCH(BN$3,Millwall!$AH100:$AW100,0)","v":{"$error":"#N/A"}},{"$f":"MATCH(BO$3,Millwall!$AH100:$AW100,0)","v":{"$error":"#N/A"}},{"$f":"MATCH(BP$3,Millwall!$AH100:$AW100,0)","v":{"$error":"#N/A"}},{"$f":"MATCH(BQ$3,Millwall!$AH100:$AW100,0)","v":{"$error":"#N/A"}},{"$f":"MATCH(BR$3,Millwall!$AH100:$AW100,0)","v":{"$error":"#N/A"}},{"$f":"MATCH(BS$3,Millwall!$AH100:$AW100,0)","v":{"$error":"#N/A"}},{"$f":"MATCH(BT$3,Millwall!$AH100:$AW100,0)","v":{"$error":"#N/A"}},{"$f":"MATCH(BU$3,Millwall!$AH100:$AW100,0)","v":{"$error":"#N/A"}},{"$f":"MATCH(BV$3,Millwall!$AH100:$AW100,0)","v":{"$error":"#N/A"}},{"$f":"MATCH(BW$3,Millwall!$AH100:$AW100,0)","v":{"$error":"#N/A"}},{"$f":"MATCH(BX$3,Millwall!$AH100:$AW100,0)","v":{"$error":"#N/A"}},{"$f":"MATCH(BY$3,Millwall!$AH100:$AW100,0)","v":{"$error":"#N/A"}},{"$f":"MATCH(BZ$3,Millwall!$AH100:$AW100,0)","v":{"$error":"#N/A"}},{"$f":"MATCH(CA$3,Millwall!$AH100:$AW100,0)","v":{"$error":"#N/A"}},{"$f":"MATCH(CB$3,Millwall!$AH100:$AW100,0)","v":{"$error":"#N/A"}},{"$f":"MATCH(CC$3,Millwall!$AH100:$AW100,0)","v":{"$error":"#N/A"}},{"$f":"MATCH(CD$3,Millwall!$AH100:$AW100,0)","v":{"$error":"#N/A"}},{"$f":"MATCH(CE$3,Millwall!$AH100:$AW100,0)","v":{"$error":"#N/A"}},{"$f":"MATCH(CF$3,Millwall!$AH100:$AW100,0)","v":{"$error":"#N/A"}},{"$f":"MATCH(CG$3,Millwall!$AH100:$AW100,0)","v":{"$error":"#N/A"}},{"$f":"MATCH(CH$3,Millwall!$AH100:$AW100,0)","v":{"$error":"#N/A"}},{"$f":"MATCH(CI$3,Millwall!$AH100:$AW100,0)","v":{"$error":"#N/A"}},{"$f":"MATCH(CJ$3,Millwall!$AH100:$AW100,0)","v":{"$error":"#N/A"}},{"$f":"MATCH(CK$3,Millwall!$AH100:$AW100,0)","v":{"$error":"#N/A"}},{"$f":"MATCH(CL$3,Millwall!$AH100:$AW100,0)","v":{"$error":"#N/A"}},{"$f":"MATCH(CM$3,Millwall!$AH100:$AW100,0)","v":{"$error":"#N/A"}},null,null,{"$f":"MATCH($CP$3,Millwall!$AH$100:$AW$100,0)","v":{"$error":"#N/A"}},{"$f":"MATCH($CQ$3,Millwall!$AH$100:$AW$100,0)","v":{"$error":"#N/A"}},{"$f":"MATCH($CR$3,Millwall!$AH$100:$AW$100,0)","v":{"$error":"#N/A"}},{"$f":"MATCH($CS$3,Millwall!$AH$100:$AW$100,0)","v":{"$error":"#N/A"}},{"$f":"MATCH($CT$3,Millwall!$AH$100:$AW$100,0)","v":{"$error":"#N/A"}},{"$f":"MATCH($CU$3,Millwall!$AH$100:$AW$100,0)","v":{"$error":"#N/A"}},{"$f":"MATCH($CV$3,Millwall!$AH$100:$AW$100,0)","v":{"$error":"#N/A"}},{"$f":"MATCH($CW$3,Millwall!$AH$100:$AW$100,0)","v":{"$error":"#N/A"}},{"$f":"MATCH($CX$3,Millwall!$AH$100:$AW$100,0)","v":{"$error":"#N/A"}},{"$f":"MATCH($CY$3,Millwall!$AH$100:$AW$100,0)","v":{"$error":"#N/A"}},{"$f":"MATCH($CZ$3,Millwall!$AH$100:$AW$100,0)","v":{"$error":"#N/A"}},{"$f":"MATCH($DA$3,Millwall!$AH$100:$AW$100,0)","v":{"$error":"#N/A"}},{"$f":"MATCH($DB$3,Millwall!$AH$100:$AW$100,0)","v":{"$error":"#N/A"}},{"$f":"MATCH($DC$3,Millwall!$AH$100:$AW$100,0)","v":{"$error":"#N/A"}},{"$f":"MATCH($DD$3,Millwall!$AH$100:$AW$100,0)","v":{"$error":"#N/A"}},{"$f":"MATCH($DE$3,Millwall!$AH$100:$AW$100,0)","v":{"$error":"#N/A"}},{"$f":"MATCH($DF$3,Millwall!$AH$100:$AW$100,0)","v":{"$error":"#N/A"}},{"$f":"MATCH($DG$3,Millwall!$AH$100:$AW$100,0)","v":{"$error":"#N/A"}},{"$f":"MATCH($DH$3,Millwall!$AH$100:$AW$100,0)","v":{"$error":"#N/A"}},{"$f":"MATCH($DI$3,Millwall!$AH$100:$AW$100,0)","v":{"$error":"#N/A"}},{"$f":"MATCH($DJ$3,Millwall!$AH$100:$AW$100,0)","v":{"$error":"#N/A"}},{"$f":"MATCH($DK$3,Millwall!$AH$100:$AW$100,0)","v":{"$error":"#N/A"}},{"$f":"MATCH($DL$3,Millwall!$AH$100:$AW$100,0)","v":{"$error":"#N/A"}},{"$f":"MATCH($DM$3,Millwall!$AH$100:$AW$100,0)","v":{"$error":"#N/A"}},{"$f":"MATCH($DN$3,Millwall!$AH$100:$AW$100,0)","v":{"$error":"#N/A"}},{"$f":"MATCH($DO$3,Millwall!$AH$100:$AW$100,0)","v":{"$error":"#N/A"}},{"$f":"MATCH($DP$3,Millwall!$AH$100:$AW$100,0)","v":{"$error":"#N/A"}},{"$f":"MATCH($DQ$3,Millwall!$AH$100:$AW$100,0)","v":{"$error":"#N/A"}},{"$f":"MATCH($DR$3,Millwall!$AH$100:$AW$100,0)","v":{"$error":"#N/A"}},{"$f":"MATCH($DS$3,Millwall!$AH$100:$AW$100,0)","v":{"$error":"#N/A"}},{"$f":"MATCH($DT$3,Millwall!$AH$100:$AW$100,0)","v":{"$error":"#N/A"}},{"$f":"MATCH($DU$3,Millwall!$AH$100:$AW$100,0)","v":{"$error":"#N/A"}},{"$f":"MATCH($DV$3,Millwall!$AH$100:$AW$100,0)","v":{"$error":"#N/A"}},{"$f":"MATCH($DW$3,Millwall!$AH$100:$AW$100,0)","v":{"$error":"#N/A"}},{"$f":"MATCH($DX$3,Millwall!$AH$100:$AW$100,0)","v":{"$error":"#N/A"}},{"$f":"MATCH($DY$3,Millwall!$AH$100:$AW$100,0)","v":{"$error":"#N/A"}},{"$f":"MATCH($DZ$3,Millwall!$AH$100:$AW$100,0)","v":{"$error":"#N/A"}},{"$f":"MATCH($EA$3,Millwall!$AH$100:$AW$100,0)","v":{"$error":"#N/A"}},null,null,{"$f":"MATCH(ED$3,Millwall!$AH$100:$AW$100,0)","v":{"$error":"#N/A"}},{"$f":"MATCH(EE$3,Millwall!$AH$100:$AW$100,0)","v":{"$error":"#N/A"}},{"$f":"MATCH(EF$3,Millwall!$AH$100:$AW$100,0)","v":{"$error":"#N/A"}},{"$f":"MATCH(EG$3,Millwall!$AH$100:$AW$100,0)","v":14},{"$f":"MATCH(EH$3,Millwall!$AH$100:$AW$100,0)","v":{"$error":"#N/A"}},{"$f":"MATCH(EI$3,Millwall!$AH$100:$AW$100,0)","v":{"$error":"#N/A"}},{"$f":"MATCH(EJ$3,Millwall!$AH$100:$AW$100,0)","v":{"$error":"#N/A"}},{"$f":"MATCH(EK$3,Millwall!$AH$100:$AW$100,0)","v":{"$error":"#N/A"}},{"$f":"MATCH(EL$3,Millwall!$AH$100:$AW$100,0)","v":9},{"$f":"MATCH(EM$3,Millwall!$AH$100:$AW$100,0)","v":{"$error":"#N/A"}},{"$f":"MATCH(EN$3,Millwall!$AH$100:$AW$100,0)","v":{"$error":"#N/A"}},{"$f":"MATCH(EO$3,Millwall!$AH$100:$AW$100,0)","v":{"$error":"#N/A"}},{"$f":"MATCH(EP$3,Millwall!$AH$100:$AW$100,0)","v":{"$error":"#N/A"}},{"$f":"MATCH(EQ$3,Millwall!$AH$100:$AW$100,0)","v":{"$error":"#N/A"}},{"$f":"MATCH(ER$3,Millwall!$AH$100:$AW$100,0)","v":{"$error":"#N/A"}},{"$f":"MATCH(ES$3,Millwall!$AH$100:$AW$100,0)","v":{"$error":"#N/A"}},{"$f":"MATCH(ET$3,Millwall!$AH$100:$AW$100,0)","v":{"$error":"#N/A"}},{"$f":"MATCH(EU$3,Millwall!$AH$100:$AW$100,0)","v":{"$error":"#N/A"}},{"$f":"MATCH(EV$3,Millwall!$AH$100:$AW$100,0)","v":{"$error":"#N/A"}},{"$f":"MATCH(EW$3,Millwall!$AH$100:$AW$100,0)","v":{"$error":"#N/A"}},{"$f":"MATCH(EX$3,Millwall!$AH$100:$AW$100,0)","v":{"$error":"#N/A"}},{"$f":"MATCH(EY$3,Millwall!$AH$100:$AW$100,0)","v":{"$error":"#N/A"}},{"$f":"MATCH(EZ$3,Millwall!$AH$100:$AW$100,0)","v":{"$error":"#N/A"}},{"$f":"MATCH(FA$3,Millwall!$AH$100:$AW$100,0)","v":{"$error":"#N/A"}},{"$f":"MATCH(FB$3,Millwall!$AH$100:$AW$100,0)","v":{"$error":"#N/A"}},{"$f":"MATCH(FC$3,Millwall!$AH$100:$AW$100,0)","v":{"$error":"#N/A"}},{"$f":"MATCH(FD$3,Millwall!$AH$100:$AW$100,0)","v":{"$error":"#N/A"}},{"$f":"MATCH(FE$3,Millwall!$AH$100:$AW$100,0)","v":{"$error":"#N/A"}},{"$f":"MATCH(FF$3,Millwall!$AH$100:$AW$100,0)","v":{"$error":"#N/A"}},{"$f":"MATCH(FG$3,Millwall!$AH$100:$AW$100,0)","v":{"$error":"#N/A"}},{"$f":"MATCH(FH$3,Millwall!$AH$100:$AW$100,0)","v":{"$error":"#N/A"}},{"$f":"MATCH(FI$3,Millwall!$AH$100:$AW$100,0)","v":{"$error":"#N/A"}},{"$f":"MATCH(FJ$3,Millwall!$AH$100:$AW$100,0)","v":{"$error":"#N/A"}},{"$f":"MATCH(FK$3,Millwall!$AH$100:$AW$100,0)","v":{"$error":"#N/A"}},{"$f":"MATCH(FL$3,Millwall!$AH$100:$AW$100,0)","v":{"$error":"#N/A"}},{"$f":"MATCH(FM$3,Millwall!$AH$100:$AW$100,0)","v":{"$error":"#N/A"}},{"$f":"MATCH(FN$3,Millwall!$AH$100:$AW$100,0)","v":{"$error":"#N/A"}},{"$f":"MATCH(FO$3,Millwall!$AH$100:$AW$100,0)","v":{"$error":"#N/A"}},null,null,null,null,null,null,{"$f":"$FX$30&\" {**\"","v":"Robertson {**"},{"$f":"$FX$30&\" [**\"","v":"Robertson [**"},{"$f":"Millwall!$BY85","v":"Robertson"},"Robertson (**",{"$f":"$FX$30&\"**\"","v":"Robertson**"},null,{"$f":"$FX$30","v":"Robertson"},{"$f":"$FY$30","v":"Robertson (**"},{"$f":"$FZ$30","v":"Robertson**"},null,{"$f":"Millwall!CC31","v":0},{"$f":"Millwall!CH31","v":0},{"$f":"Millwall!CR31","v":0},{"$f":"Millwall!CW31","v":0}]
[null,null,0,27,null,{"$f":"Millwall!AD101","v":"1997-01-18"},null,{"$f":"Millwall!AE101","v":"Stockport"},{"$f":"Millwall!AF101","v":"(A)"},{"$f":"Millwall!AG101","v":"L 1-5"},{"$f":"MATCH($K$4,Millwall!$AH$101:$AW$101,0)","v":{"$error":"#N/A"}},{"$f":"MATCH($L$4,Millwall!$AH$101:$AW$101,0)","v":{"$error":"#N/A"}},{"$f":"MATCH($M$4,Millwall!$AH$101:$AW$101,0)","v":2},{"$f":"MATCH($N$4,Millwall!$AH$101:$AW$101,0)","v":14},{"$f":"MATCH($O$4,Millwall!$AH$101:$AW$101,0)","v":{"$error":"#N/A"}},{"$f":"MATCH($P$4,Millwall!$AH$101:$AW$101,0)","v":10},{"$f":"MATCH($Q$4,Millwall!$AH$101:$AW$101,0)","v":{"$error":"#N/A"}},{"$f":"MATCH($R$4,Millwall!$AH$101:$AW$101,0)","v":1},{"$f":"MATCH($S$4,Millwall!$AH$101:$AW$101,0)","v":9},{"$f":"MATCH($T$4,Millwall!$AH$101:$AW$101,0)","v":{"$error":"#N/A"}},{"$f":"MATCH($U$4,Millwall!$AH$101:$AW$101,0)","v":13},{"$f":"MATCH($V$4,Millwall!$AH$101:$AW$101,0)","v":{"$error":"#N/A"}},{"$f":"MATCH($W$4,Millwall!$AH$101:$AW$101,0)","v":{"$error":"#N/A"}},{"$f":"MATCH($X$4,Millwall!$AH$101:$AW$101,0)","v":{"$error":"#N/A"}},{"$f":"MATCH($Y$4,Millwall!$AH$101:$AW$101,0)","v":6},{"$f":"MATCH($Z$4,Millwall!$AH$101:$AW$101,0)","v":11},{"$f":"MATCH($AA$4,Millwall!$AH$101:$AW$101,0)","v":{"$error":"#N/A"}},{"$f":"MATCH($AB$4,Millwall!$AH$101:$AW$101,0)","v":{"$error":"#N/A"}},{"$f":"MATCH($AC$4,Millwall!$AH$101:$AW$101,0)","v":{"$error":"#N/A"}},{"$f":"MATCH($AD$4,Millwall!$AH$101:$AW$101,0)","v":{"$error":"#N/A"}},{"$f":"MATCH($AE$4,Millwall!$AH$101:$AW$101,0)","v":{"$error":"#N/A"}},{"$f":"MATCH($AF$4,Millwall!$AH$101:$AW$101,0)","v":{"$error":"#N/A"}},{"$f":"MATCH($AG$4,Millwall!$AH$101:$AW$101,0)","v":{"$error":"#N/A"}},{"$f":"MATCH($AH$4,Millwall!$AH$101:$AW$101,0)","v":{"$error":"#N/A"}},{"$f":"MATCH($AI$4,Millwall!$AH$101:$AW$101,0)","v":4},{"$f":"MATCH($AJ$4,Millwall!$AH$101:$AW$101,0)","v":{"$error":"#N/A"}},{"$f":"MATCH($AK$4,Millwall!$AH$101:$AW$101,0)","v":3},{"$f":"MATCH($AL$4,Millwall!$AH$101:$AW$101,0)","v":{"$error":"#N/A"}},{"$f":"MATCH($AM$4,Millwall!$AH$101:$AW$101,0)","v":{"$error":"#N/A"}},{"$f":"MATCH($AN$4,Millwall!$AH$101:$AW$101,0)","v":7},{"$f":"MATCH($AO$4,Millwall!$AH$101:$AW$101,0)","v":12},{"$f":"MATCH($AP$4,Millwall!$AH$101:$AW$101,0)","v":{"$error":"#N/A"}},{"$f":"MATCH($AQ$4,Millwall!$AH$101:$AW$101,0)","v":{"$error":"#N/A"}},{"$f":"MATCH($AR$4,Millwall!$AH$101:$AW$101,0)","v":5},{"$f":"MATCH($AS$4,Millwall!$AH$101:$AW$101,0)","v":8},{"$f":"MATCH($AT$4,Millwall!$AH$101:$AW$101,0)","v":{"$error":"#N/A"}},{"$f":"MATCH($AU$4,Millwall!$AH$101:$AW$101,0)","v":{"$error":"#N/A"}},{"$f":"MATCH($AV$4,Millwall!$AH$101:$AW$101,0)","v":{"$error":"#N/A"}},null,null,null,null,null,{"$f":"MATCH(BB$3,Millwall!$AH101:$AW101,0)","v":{"$error":"#N/A"}},{"$f":"MATCH(BC$3,Millwall!$AH101:$AW101,0)","v":{"$error":"#N/A"}},{"$f":"MATCH(BD$3,Millwall!$AH101:$AW101,0)","v":{"$error":"#N/A"}},{"$f":"MATCH(BE$3,Millwall!$AH101:$AW101,0)","v":{"$error":"#N/A"}},{"$f":"MATCH(BF$3,Millwall!$AH101:$AW101,0)","v":{"$error":"#N/A"}},{"$f":"MATCH(BG$3,Millwall!$AH101:$AW101,0)","v":{"$error":"#N/A"}},{"$f":"MATCH(BH$3,Millwall!$AH101:$AW101,0)","v":{"$error":"#N/A"}},{"$f":"MATCH(BI$3,Millwall!$AH101:$AW101,0)","v":{"$error":"#N/A"}},{"$f":"MATCH(BJ$3,Millwall!$AH101:$AW101,0)","v":{"$error":"#N/A"}},{"$f":"MATCH(BK$3,Millwall!$AH101:$AW101,0)","v":{"$error":"#N/A"}},{"$f":"MATCH(BL$3,Millwall!$AH101:$AW101,0)","v":{"$error":"#N/A"}},{"$f":"MATCH(BM$3,Millwall!$AH101:$AW101,0)","v":{"$error":"#N/A"}},{"$f":"MATCH(BN$3,Millwall!$AH101:$AW101,0)","v":{"$error":"#N/A"}},{"$f":"MATCH(BO$3,Millwall!$AH101:$AW101,0)","v":{"$error":"#N/A"}},{"$f":"MATCH(BP$3,Millwall!$AH101:$AW101,0)","v":{"$error":"#N/A"}},{"$f":"MATCH(BQ$3,Millwall!$AH101:$AW101,0)","v":{"$error":"#N/A"}},{"$f":"MATCH(BR$3,Millwall!$AH101:$AW101,0)","v":{"$error":"#N/A"}},{"$f":"MATCH(BS$3,Millwall!$AH101:$AW101,0)","v":{"$error":"#N/A"}},{"$f":"MATCH(BT$3,Millwall!$AH101:$AW101,0)","v":{"$error":"#N/A"}},{"$f":"MATCH(BU$3,Millwall!$AH101:$AW101,0)","v":{"$error":"#N/A"}},{"$f":"MATCH(BV$3,Millwall!$AH101:$AW101,0)","v":{"$error":"#N/A"}},{"$f":"MATCH(BW$3,Millwall!$AH101:$AW101,0)","v":{"$error":"#N/A"}},{"$f":"MATCH(BX$3,Millwall!$AH101:$AW101,0)","v":{"$error":"#N/A"}},{"$f":"MATCH(BY$3,Millwall!$AH101:$AW101,0)","v":{"$error":"#N/A"}},{"$f":"MATCH(BZ$3,Millwall!$AH101:$AW101,0)","v":{"$error":"#N/A"}},{"$f":"MATCH(CA$3,Millwall!$AH101:$AW101,0)","v":{"$error":"#N/A"}},{"$f":"MATCH(CB$3,Millwall!$AH101:$AW101,0)","v":3},{"$f":"MATCH(CC$3,Millwall!$AH101:$AW101,0)","v":{"$error":"#N/A"}},{"$f":"MATCH(CD$3,Millwall!$AH101:$AW101,0)","v":{"$error":"#N/A"}},{"$f":"MATCH(CE$3,Millwall!$AH101:$AW101,0)","v":{"$error":"#N/A"}},{"$f":"MATCH(CF$3,Millwall!$AH101:$AW101,0)","v":12},{"$f":"MATCH(CG$3,Millwall!$AH101:$AW101,0)","v":{"$error":"#N/A"}},{"$f":"MATCH(CH$3,Millwall!$AH101:$AW101,0)","v":{"$error":"#N/A"}},{"$f":"MATCH(CI$3,Millwall!$AH101:$AW101,0)","v":{"$error":"#N/A"}},{"$f":"MATCH(CJ$3,Millwall!$AH101:$AW101,0)","v":{"$error":"#N/A"}},{"$f":"MATCH(CK$3,Millwall!$AH101:$AW101,0)","v":{"$error":"#N/A"}},{"$f":"MATCH(CL$3,Millwall!$AH101:$AW101,0)","v":{"$error":"#N/A"}},{"$f":"MATCH(CM$3,Millwall!$AH101:$AW101,0)","v":{"$error":"#N/A"}},null,null,{"$f":"MATCH($CP$3,Millwall!$AH$101:$AW$101,0)","v":{"$error":"#N/A"}},{"$f":"MATCH($CQ$3,Millwall!$AH$101:$AW$101,0)","v":{"$error":"#N/A"}},{"$f":"MATCH($CR$3,Millwall!$AH$101:$AW$101,0)","v":{"$error":"#N/A"}},{"$f":"MATCH($CS$3,Millwall!$AH$101:$AW$101,0)","v":{"$error":"#N/A"}},{"$f":"MATCH($CT$3,Millwall!$AH$101:$AW$101,0)","v":{"$error":"#N/A"}},{"$f":"MATCH($CU$3,Millwall!$AH$101:$AW$101,0)","v":{"$error":"#N/A"}},{"$f":"MATCH($CV$3,Millwall!$AH$101:$AW$101,0)","v":{"$error":"#N/A"}},{"$f":"MATCH($CW$3,Millwall!$AH$101:$AW$101,0)","v":{"$error":"#N/A"}},{"$f":"MATCH($CX$3,Millwall!$AH$101:$AW$101,0)","v":{"$error":"#N/A"}},{"$f":"MATCH($CY$3,Millwall!$AH$101:$AW$101,0)","v":{"$error":"#N/A"}},{"$f":"MATCH($CZ$3,Millwall!$AH$101:$AW$101,0)","v":{"$error":"#N/A"}},{"$f":"MATCH($DA$3,Millwall!$AH$101:$AW$101,0)","v":{"$error":"#N/A"}},{"$f":"MATCH($DB$3,Millwall!$AH$101:$AW$101,0)","v":{"$error":"#N/A"}},{"$f":"MATCH($DC$3,Millwall!$AH$101:$AW$101,0)","v":{"$error":"#N/A"}},{"$f":"MATCH($DD$3,Millwall!$AH$101:$AW$101,0)","v":{"$error":"#N/A"}},{"$f":"MATCH($DE$3,Millwall!$AH$101:$AW$101,0)","v":{"$error":"#N/A"}},{"$f":"MATCH($DF$3,Millwall!$AH$101:$AW$101,0)","v":{"$error":"#N/A"}},{"$f":"MATCH($DG$3,Millwall!$AH$101:$AW$101,0)","v":{"$error":"#N/A"}},{"$f":"MATCH($DH$3,Millwall!$AH$101:$AW$101,0)","v":{"$error":"#N/A"}},{"$f":"MATCH($DI$3,Millwall!$AH$101:$AW$101,0)","v":{"$error":"#N/A"}},{"$f":"MATCH($DJ$3,Millwall!$AH$101:$AW$101,0)","v":{"$error":"#N/A"}},{"$f":"MATCH($DK$3,Millwall!$AH$101:$AW$101,0)","v":{"$error":"#N/A"}},{"$f":"MATCH($DL$3,Millwall!$AH$101:$AW$101,0)","v":{"$error":"#N/A"}},{"$f":"MATCH($DM$3,Millwall!$AH$101:$AW$101,0)","v":{"$error":"#N/A"}},{"$f":"MATCH($DN$3,Millwall!$AH$101:$AW$101,0)","v":{"$error":"#N/A"}},{"$f":"MATCH($DO$3,Millwall!$AH$101:$AW$101,0)","v":{"$error":"#N/A"}},{"$f":"MATCH($DP$3,Millwall!$AH$101:$AW$101,0)","v":{"$error":"#N/A"}},{"$f":"MATCH($DQ$3,Millwall!$AH$101:$AW$101,0)","v":{"$error":"#N/A"}},{"$f":"MATCH($DR$3,Millwall!$AH$101:$AW$101,0)","v":{"$error":"#N/A"}},{"$f":"MATCH($DS$3,Millwall!$AH$101:$AW$101,0)","v":{"$error":"#N/A"}},{"$f":"MATCH($DT$3,Millwall!$AH$101:$AW$101,0)","v":{"$error":"#N/A"}},{"$f":"MATCH($DU$3,Millwall!$AH$101:$AW$101,0)","v":{"$error":"#N/A"}},{"$f":"MATCH($DV$3,Millwall!$AH$101:$AW$101,0)","v":{"$error":"#N/A"}},{"$f":"MATCH($DW$3,Millwall!$AH$101:$AW$101,0)","v":{"$error":"#N/A"}},{"$f":"MATCH($DX$3,Millwall!$AH$101:$AW$101,0)","v":{"$error":"#N/A"}},{"$f":"MATCH($DY$3,Millwall!$AH$101:$AW$101,0)","v":{"$error":"#N/A"}},{"$f":"MATCH($DZ$3,Millwall!$AH$101:$AW$101,0)","v":{"$error":"#N/A"}},{"$f":"MATCH($EA$3,Millwall!$AH$101:$AW$101,0)","v":{"$error":"#N/A"}},null,null,{"$f":"MATCH(ED$3,Millwall!$AH$101:$AW$101,0)","v":{"$error":"#N/A"}},{"$f":"MATCH(EE$3,Millwall!$AH$101:$AW$101,0)","v":{"$error":"#N/A"}},{"$f":"MATCH(EF$3,Millwall!$AH$101:$AW$101,0)","v":{"$error":"#N/A"}},{"$f":"MATCH(EG$3,Millwall!$AH$101:$AW$101,0)","v":14},{"$f":"MATCH(EH$3,Millwall!$AH$101:$AW$101,0)","v":{"$error":"#N/A"}},{"$f":"MATCH(EI$3,Millwall!$AH$101:$AW$101,0)","v":10},{"$f":"MATCH(EJ$3,Millwall!$AH$101:$AW$101,0)","v":{"$error":"#N/A"}},{"$f":"MATCH(EK$3,Millwall!$AH$101:$AW$101,0)","v":{"$error":"#N/A"}},{"$f":"MATCH(EL$3,Millwall!$AH$101:$AW$101,0)","v":{"$error":"#N/A"}},{"$f":"MATCH(EM$3,Millwall!$AH$101:$AW$101,0)","v":{"$error":"#N/A"}},{"$f":"MATCH(EN$3,Millwall!$AH$101:$AW$101,0)","v":{"$error":"#N/A"}},{"$f":"MATCH(EO$3,Millwall!$AH$101:$AW$101,0)","v":{"$error":"#N/A"}},{"$f":"MATCH(EP$3,Millwall!$AH$101:$AW$101,0)","v":{"$error":"#N/A"}},{"$f":"MATCH(EQ$3,Millwall!$AH$101:$AW$101,0)","v":{"$error":"#N/A"}},{"$f":"MATCH(ER$3,Millwall!$AH$101:$AW$101,0)","v":{"$error":"#N/A"}},{"$f":"MATCH(ES$3,Millwall!$AH$101:$AW$101,0)","v":{"$error":"#N/A"}},{"$f":"MATCH(ET$3,Millwall!$AH$101:$AW$101,0)","v":{"$error":"#N/A"}},{"$f":"MATCH(EU$3,Millwall!$AH$101:$AW$101,0)","v":{"$error":"#N/A"}},{"$f":"MATCH(EV$3,Millwall!$AH$101:$AW$101,0)","v":{"$error":"#N/A"}},{"$f":"MATCH(EW$3,Millwall!$AH$101:$AW$101,0)","v":{"$error":"#N/A"}},{"$f":"MATCH(EX$3,Millwall!$AH$101:$AW$101,0)","v":{"$error":"#N/A"}},{"$f":"MATCH(EY$3,Millwall!$AH$101:$AW$101,0)","v":{"$error":"#N/A"}},{"$f":"MATCH(EZ$3,Millwall!$AH$101:$AW$101,0)","v":{"$error":"#N/A"}},{"$f":"MATCH(FA$3,Millwall!$AH$101:$AW$101,0)","v":{"$error":"#N/A"}},{"$f":"MATCH(FB$3,Millwall!$AH$101:$AW$101,0)","v":{"$error":"#N/A"}},{"$f":"MATCH(FC$3,Millwall!$AH$101:$AW$101,0)","v":{"$error":"#N/A"}},{"$f":"MATCH(FD$3,Millwall!$AH$101:$AW$101,0)","v":{"$error":"#N/A"}},{"$f":"MATCH(FE$3,Millwall!$AH$101:$AW$101,0)","v":{"$error":"#N/A"}},{"$f":"MATCH(FF$3,Millwall!$AH$101:$AW$101,0)","v":{"$error":"#N/A"}},{"$f":"MATCH(FG$3,Millwall!$AH$101:$AW$101,0)","v":{"$error":"#N/A"}},{"$f":"MATCH(FH$3,Millwall!$AH$101:$AW$101,0)","v":{"$error":"#N/A"}},{"$f":"MATCH(FI$3,Millwall!$AH$101:$AW$101,0)","v":{"$error":"#N/A"}},{"$f":"MATCH(FJ$3,Millwall!$AH$101:$AW$101,0)","v":{"$error":"#N/A"}},{"$f":"MATCH(FK$3,Millwall!$AH$101:$AW$101,0)","v":{"$error":"#N/A"}},{"$f":"MATCH(FL$3,Millwall!$AH$101:$AW$101,0)","v":{"$error":"#N/A"}},{"$f":"MATCH(FM$3,Millwall!$AH$101:$AW$101,0)","v":{"$error":"#N/A"}},{"$f":"MATCH(FN$3,Millwall!$AH$101:$AW$101,0)","v":{"$error":"#N/A"}},{"$f":"MATCH(FO$3,Millwall!$AH$101:$AW$101,0)","v":{"$error":"#N/A"}},null,null,null,null,null,null,{"$f":"$FX$31&\" {**\"","v":"Roche {**"},{"$f":"$FX$31&\" [**\"","v":"Roche [**"},{"$f":"Millwall!$BY86","v":"Roche"},"Roche (**",{"$f":"$FX$31&\"**\"","v":"Roche**"},null,{"$f":"$FX$31","v":"Roche"},{"$f":"$FY$31","v":"Roche (**"},{"$f":"$FZ$31","v":"Roche**"},null,{"$f":"Millwall!CC32","v":0},{"$f":"Millwall!CH32","v":0},{"$f":"Millwall!CR32","v":0},{"$f":"Millwall!CW32","v":0}]
[null,null,0,28,null,{"$f":"Millwall!AD102","v":"1997-01-25"},null,{"$f":"Millwall!AE102","v":"Blackpool"},{"$f":"Millwall!AF102","v":"(A)"},{"$f":"Millwall!AG102","v":"L 0-3"},{"$f":"MATCH($K$4,Millwall!$AH$102:$AW$102,0)","v":{"$error":"#N/A"}},{"$f":"MATCH($L$4,Millwall!$AH$102:$AW$102,0)","v":{"$error":"#N/A"}},{"$f":"MATCH($M$4,Millwall!$AH$102:$AW$102,0)","v":{"$error":"#N/A"}},{"$f":"MATCH($N$4,Millwall!$AH$102:$AW$102,0)","v":7},{"$f":"MATCH($O$4,Millwall!$AH$102:$AW$102,0)","v":{"$error":"#N/A"}},{"$f":"MATCH($P$4,Millwall!$AH$102:$AW$102,0)","v":10},{"$f":"MATCH($Q$4,Millwall!$AH$102:$AW$102,0)","v":{"$error":"#N/A"}},{"$f":"MATCH($R$4,Millwall!$AH$102:$AW$102,0)","v":1},{"$f":"MATCH($S$4,Millwall!$AH$102:$AW$102,0)","v":9},{"$f":"MATCH($T$4,Millwall!$AH$102:$AW$102,0)","v":{"$error":"#N/A"}},{"$f":"MATCH($U$4,Millwall!$AH$102:$AW$102,0)","v":12},{"$f":"MATCH($V$4,Millwall!$AH$102:$AW$102,0)","v":{"$error":"#N/A"}},{"$f":"MATCH($W$4,Millwall!$AH$102:$AW$102,0)","v":{"$error":"#N/A"}},{"$f":"MATCH($X$4,Millwall!$AH$102:$AW$102,0)","v":{"$error":"#N/A"}},{"$f":"MATCH($Y$4,Millwall!$AH$102:$AW$102,0)","v":3},{"$f":"MATCH($Z$4,Millwall!$AH$102:$AW$102,0)","v":11},{"$f":"MATCH($AA$4,Millwall!$AH$102:$AW$102,0)","v":{"$error":"#N/A"}},{"$f":"MATCH($AB$4,Millwall!$AH$102:$AW$102,0)","v":{"$error":"#N/A"}},{"$f":"MATCH($AC$4,Millwall!$AH$102:$AW$102,0)","v":{"$error":"#N/A"}},{"$f":"MATCH($AD$4,Millwall!$AH$102:$AW$102,0)","v":{"$error":"#N/A"}},{"$f":"MATCH($AE$4,Millwall!$AH$102:$AW$102,0)","v":{"$error":"#N/A"}},{"$f":"MATCH($AF$4,Millwall!$AH$102:$AW$102,0)","v":{"$error":"#N/A"}},{"$f":"MATCH($AG$4,Millwall!$AH$102:$AW$102,0)","v":{"$error":"#N/A"}},{"$f":"MATCH($AH$4,Millwall!$AH$102:$AW$102,0)","v":14},{"$f":"MATCH($AI$4,Millwall!$AH$102:$AW$102,0)","v":2},{"$f":"MATCH($AJ$4,Millwall!$AH$102:$AW$102,0)","v":{"$error":"#N/A"}},{"$f":"MATCH($AK$4,Millwall!$AH$102:$AW$102,0)","v":{"$error":"#N/A"}},{"$f":"MATCH($AL$4,Millwall!$AH$102:$AW$102,0)","v":6},{"$f":"MATCH($AM$4,Millwall!$AH$102:$AW$102,0)","v":{"$error":"#N/A"}},{"$f":"MATCH($AN$4,Millwall!$AH$102:$AW$102,0)","v":4},{"$f":"MATCH($AO$4,Millwall!$AH$102:$AW$102,0)","v":13},{"$f":"MATCH($AP$4,Millwall!$AH$102:$AW$102,0)","v":{"$error":"#N/A"}},{"$f":"MATCH($AQ$4,Millwall!$AH$102:$AW$102,0)","v":{"$error":"#N/A"}},{"$f":"MATCH($AR$4,Millwall!$AH$102:$AW$102,0)","v":5},{"$f":"MATCH($AS$4,Millwall!$AH$102:$AW$102,0)","v":8},{"$f":"MATCH($AT$4,Millwall!$AH$102:$AW$102,0)","v":{"$error":"#N/A"}},{"$f":"MATCH($AU$4,Millwall!$AH$102:$AW$102,0)","v":{"$error":"#N/A"}},{"$f":"MATCH($AV$4,Millwall!$AH$102:$AW$102,0)","v":{"$error":"#N/A"}},null,null,null,null,null,{"$f":"MATCH(BB$3,Millwall!$AH102:$AW102,0)","v":{"$error":"#N/A"}},{"$f":"MATCH(BC$3,Millwall!$AH102:$AW102,0)","v":{"$error":"#N/A"}},{"$f":"MATCH(BD$3,Millwall!$AH102:$AW102,0)","v":{"$error":"#N/A"}},{"$f":"MATCH(BE$3,Millwall!$AH102:$AW102,0)","v":{"$error":"#N/A"}},{"$f":"MATCH(BF$3,Millwall!$AH102:$AW102,0)","v":{"$error":"#N/A"}},{"$f":"MATCH(BG$3,Millwall!$AH102:$AW102,0)","v":{"$error":"#N/A"}},{"$f":"MATCH(BH$3,Millwall!$AH102:$AW102,0)","v":{"$error":"#N/A"}},{"$f":"MATCH(BI$3,Millwall!$AH102:$AW102,0)","v":{"$error":"#N/A"}},{"$f":"MATCH(BJ$3,Millwall!$AH102:$AW102,0)","v":{"$error":"#N/A"}},{"$f":"MATCH(BK$3,Millwall!$AH102:$AW102,0)","v":{"$error":"#N/A"}},{"$f":"MATCH(BL$3,Millwall!$AH102:$AW102,0)","v":12},{"$f":"MATCH(BM$3,Millwall!$AH102:$AW102,0)","v":{"$error":"#N/A"}},{"$f":"MATCH(BN$3,Millwall!$AH102:$AW102,0)","v":{"$error":"#N/A"}},{"$f":"MATCH(BO$3,Millwall!$AH102:$AW102,0)","v":{"$error":"#N/A"}},{"$f":"MATCH(BP$3,Millwall!$AH102:$AW102,0)","v":{"$error":"#N/A"}},{"$f":"MATCH(BQ$3,Millwall!$AH102:$AW102,0)","v":{"$error":"#N/A"}},{"$f":"MATCH(BR$3,Millwall!$AH102:$AW102,0)","v":{"$error":"#N/A"}},{"$f":"MATCH(BS$3,Millwall!$AH102:$AW102,0)","v":{"$error":"#N/A"}},{"$f":"MATCH(BT$3,Millwall!$AH102:$AW102,0)","v":{"$error":"#N/A"}},{"$f":"MATCH(BU$3,Millwall!$AH102:$AW102,0)","v":{"$error":"#N/A"}},{"$f":"MATCH(BV$3,Millwall!$AH102:$AW102,0)","v":{"$error":"#N/A"}},{"$f":"MATCH(BW$3,Millwall!$AH102:$AW102,0)","v":{"$error":"#N/A"}},{"$f":"MATCH(BX$3,Millwall!$AH102:$AW102,0)","v":{"$error":"#N/A"}},{"$f":"MATCH(BY$3,Millwall!$AH102:$AW102,0)","v":{"$error":"#N/A"}},{"$f":"MATCH(BZ$3,Millwall!$AH102:$AW102,0)","v":{"$error":"#N/A"}},{"$f":"MATCH(CA$3,Millwall!$AH102:$AW102,0)","v":{"$error":"#N/A"}},{"$f":"MATCH(CB$3,Millwall!$AH102:$AW102,0)","v":{"$error":"#N/A"}},{"$f":"MATCH(CC$3,Millwall!$AH102:$AW102,0)","v":{"$error":"#N/A"}},{"$f":"MATCH(CD$3,Millwall!$AH102:$AW102,0)","v":{"$error":"#N/A"}},{"$f":"MATCH(CE$3,Millwall!$AH102:$AW102,0)","v":4},{"$f":"MATCH(CF$3,Millwall!$AH102:$AW102,0)","v":{"$error":"#N/A"}},{"$f":"MATCH(CG$3,Millwall!$AH102:$AW102,0)","v":{"$error":"#N/A"}},{"$f":"MATCH(CH$3,Millwall!$AH102:$AW102,0)","v":{"$error":"#N/A"}},{"$f":"MATCH(CI$3,Millwall!$AH102:$AW102,0)","v":{"$error":"#N/A"}},{"$f":"MATCH(CJ$3,Millwall!$AH102:$AW102,0)","v":{"$error":"#N/A"}},{"$f":"MATCH(CK$3,Millwall!$AH102:$AW102,0)","v":{"$error":"#N/A"}},{"$f":"MATCH(CL$3,Millwall!$AH102:$AW102,0)","v":{"$error":"#N/A"}},{"$f":"MATCH(CM$3,Millwall!$AH102:$AW102,0)","v":{"$error":"#N/A"}},null,null,{"$f":"MATCH($CP$3,Millwall!$AH$102:$AW$102,0)","v":{"$error":"#N/A"}},{"$f":"MATCH($CQ$3,Millwall!$AH$102:$AW$102,0)","v":{"$error":"#N/A"}},{"$f":"MATCH($CR$3,Millwall!$AH$102:$AW$102,0)","v":{"$error":"#N/A"}},{"$f":"MATCH($CS$3,Millwall!$AH$102:$AW$102,0)","v":{"$error":"#N/A"}},{"$f":"MATCH($CT$3,Millwall!$AH$102:$AW$102,0)","v":{"$error":"#N/A"}},{"$f":"MATCH($CU$3,Millwall!$AH$102:$AW$102,0)","v":{"$error":"#N/A"}},{"$f":"MATCH($CV$3,Millwall!$AH$102:$AW$102,0)","v":{"$error":"#N/A"}},{"$f":"MATCH($CW$3,Millwall!$AH$102:$AW$102,0)","v":{"$error":"#N/A"}},{"$f":"MATCH($CX$3,Millwall!$AH$102:$AW$102,0)","v":{"$error":"#N/A"}},{"$f":"MATCH($CY$3,Millwall!$AH$102:$AW$102,0)","v":{"$error":"#N/A"}},{"$f":"MATCH($CZ$3,Millwall!$AH$102:$AW$102,0)","v":{"$error":"#N/A"}},{"$f":"MATCH($DA$3,Millwall!$AH$102:$AW$102,0)","v":{"$error":"#N/A"}},{"$f":"MATCH($DB$3,Millwall!$AH$102:$AW$102,0)","v":{"$error":"#N/A"}},{"$f":"MATCH($DC$3,Millwall!$AH$102:$AW$102,0)","v":{"$error":"#N/A"}},{"$f":"MATCH($DD$3,Millwall!$AH$102:$AW$102,0)","v":{"$error":"#N/A"}},{"$f":"MATCH($DE$3,Millwall!$AH$102:$AW$102,0)","v":{"$error":"#N/A"}},{"$f":"MATCH($DF$3,Millwall!$AH$102:$AW$102,0)","v":{"$error":"#N/A"}},{"$f":"MATCH($DG$3,Millwall!$AH$102:$AW$102,0)","v":{"$error":"#N/A"}},{"$f":"MATCH($DH$3,Millwall!$AH$102:$AW$102,0)","v":{"$error":"#N/A"}},{"$f":"MATCH($DI$3,Millwall!$AH$102:$AW$102,0)","v":{"$error":"#N/A"}},{"$f":"MATCH($DJ$3,Millwall!$AH$102:$AW$102,0)","v":{"$error":"#N/A"}},{"$f":"MATCH($DK$3,Millwall!$AH$102:$AW$102,0)","v":{"$error":"#N/A"}},{"$f":"MATCH($DL$3,Millwall!$AH$102:$AW$102,0)","v":{"$error":"#N/A"}},{"$f":"MATCH($DM$3,Millwall!$AH$102:$AW$102,0)","v":{"$error":"#N/A"}},{"$f":"MATCH($DN$3,Millwall!$AH$102:$AW$102,0)","v":{"$error":"#N/A"}},{"$f":"MATCH($DO$3,Millwall!$AH$102:$AW$102,0)","v":{"$error":"#N/A"}},{"$f":"MATCH($DP$3,Millwall!$AH$102:$AW$102,0)","v":{"$error":"#N/A"}},{"$f":"MATCH($DQ$3,Millwall!$AH$102:$AW$102,0)","v":{"$error":"#N/A"}},{"$f":"MATCH($DR$3,Millwall!$AH$102:$AW$102,0)","v":{"$error":"#N/A"}},{"$f":"MATCH($DS$3,Millwall!$AH$102:$AW$102,0)","v":{"$error":"#N/A"}},{"$f":"MATCH($DT$3,Millwall!$AH$102:$AW$102,0)","v":{"$error":"#N/A"}},{"$f":"MATCH($DU$3,Millwall!$AH$102:$AW$102,0)","v":{"$error":"#N/A"}},{"$f":"MATCH($DV$3,Millwall!$AH$102:$AW$102,0)","v":{"$error":"#N/A"}},{"$f":"MATCH($DW$3,Millwall!$AH$102:$AW$102,0)","v":{"$error":"#N/A"}},{"$f":"MATCH($DX$3,Millwall!$AH$102:$AW$102,0)","v":{"$error":"#N/A"}},{"$f":"MATCH($DY$3,Millwall!$AH$102:$AW$102,0)","v":{"$error":"#N/A"}},{"$f":"MATCH($DZ$3,Millwall!$AH$102:$AW$102,0)","v":{"$error":"#N/A"}},{"$f":"MATCH($EA$3,Millwall!$AH$102:$AW$102,0)","v":{"$error":"#N/A"}},null,null,{"$f":"MATCH(ED$3,Millwall!$AH$102:$AW$102,0)","v":{"$error":"#N/A"}},{"$f":"MATCH(EE$3,Millwall!$AH$102:$AW$102,0)","v":{"$error":"#N/A"}},{"$f":"MATCH(EF$3,Millwall!$AH$102:$AW$102,0)","v":{"$error":"#N/A"}},{"$f":"MATCH(EG$3,Millwall!$AH$102:$AW$102,0)","v":{"$error":"#N/A"}},{"$f":"MATCH(EH$3,Millwall!$AH$102:$AW$102,0)","v":{"$error":"#N/A"}},{"$f":"MATCH(EI$3,Millwall!$AH$102:$AW$102,0)","v":10},{"$f":"MATCH(EJ$3,Millwall!$AH$102:$AW$102,0)","v":{"$error":"#N/A"}},{"$f":"MATCH(EK$3,Millwall!$AH$102:$AW$102,0)","v":{"$error":"#N/A"}},{"$f":"MATCH(EL$3,Millwall!$AH$102:$AW$102,0)","v":{"$error":"#N/A"}},{"$f":"MATCH(EM$3,Millwall!$AH$102:$AW$102,0)","v":{"$error":"#N/A"}},{"$f":"MATCH(EN$3,Millwall!$AH$102:$AW$102,0)","v":{"$error":"#N/A"}},{"$f":"MATCH(EO$3,Millwall!$AH$102:$AW$102,0)","v":{"$error":"#N/A"}},{"$f":"MATCH(EP$3,Millwall!$AH$102:$AW$102,0)","v":{"$error":"#N/A"}},{"$f":"MATCH(EQ$3,Millwall!$AH$102:$AW$102,0)","v":{"$error":"#N/A"}},{"$f":"MATCH(ER$3,Millwall!$AH$102:$AW$102,0)","v":{"$error":"#N/A"}},{"$f":"MATCH(ES$3,Millwall!$AH$102:$AW$102,0)","v":{"$error":"#N/A"}},{"$f":"MATCH(ET$3,Millwall!$AH$102:$AW$102,0)","v":{"$error":"#N/A"}},{"$f":"MATCH(EU$3,Millwall!$AH$102:$AW$102,0)","v":{"$error":"#N/A"}},{"$f":"MATCH(EV$3,Millwall!$AH$102:$AW$102,0)","v":{"$error":"#N/A"}},{"$f":"MATCH(EW$3,Millwall!$AH$102:$AW$102,0)","v":{"$error":"#N/A"}},{"$f":"MATCH(EX$3,Millwall!$AH$102:$AW$102,0)","v":{"$error":"#N/A"}},{"$f":"MATCH(EY$3,Millwall!$AH$102:$AW$102,0)","v":{"$error":"#N/A"}},{"$f":"MATCH(EZ$3,Millwall!$AH$102:$AW$102,0)","v":{"$error":"#N/A"}},{"$f":"MATCH(FA$3,Millwall!$AH$102:$AW$102,0)","v":14},{"$f":"MATCH(FB$3,Millwall!$AH$102:$AW$102,0)","v":{"$error":"#N/A"}},{"$f":"MATCH(FC$3,Millwall!$AH$102:$AW$102,0)","v":{"$error":"#N/A"}},{"$f":"MATCH(FD$3,Millwall!$AH$102:$AW$102,0)","v":{"$error":"#N/A"}},{"$f":"MATCH(FE$3,Millwall!$AH$102:$AW$102,0)","v":{"$error":"#N/A"}},{"$f":"MATCH(FF$3,Millwall!$AH$102:$AW$102,0)","v":{"$error":"#N/A"}},{"$f":"MATCH(FG$3,Millwall!$AH$102:$AW$102,0)","v":{"$error":"#N/A"}},{"$f":"MATCH(FH$3,Millwall!$AH$102:$AW$102,0)","v":{"$error":"#N/A"}},{"$f":"MATCH(FI$3,Millwall!$AH$102:$AW$102,0)","v":{"$error":"#N/A"}},{"$f":"MATCH(FJ$3,Millwall!$AH$102:$AW$102,0)","v":{"$error":"#N/A"}},{"$f":"MATCH(FK$3,Millwall!$AH$102:$AW$102,0)","v":{"$error":"#N/A"}},{"$f":"MATCH(FL$3,Millwall!$AH$102:$AW$102,0)","v":{"$error":"#N/A"}},{"$f":"MATCH(FM$3,Millwall!$AH$102:$AW$102,0)","v":{"$error":"#N/A"}},{"$f":"MATCH(FN$3,Millwall!$AH$102:$AW$102,0)","v":{"$error":"#N/A"}},{"$f":"MATCH(FO$3,Millwall!$AH$102:$AW$102,0)","v":{"$error":"#N/A"}},null,null,null,null,null,null,{"$f":"$FX$32&\" {**\"","v":"Rogan {**"},{"$f":"$FX$32&\" [**\"","v":"Rogan [**"},{"$f":"Millwall!$BY87","v":"Rogan"},"Rogan (**",{"$f":"$FX$32&\"**\"","v":"Rogan**"},null,{"$f":"$FX$32","v":"Rogan"},{"$f":"$FY$32","v":"Rogan (**"},{"$f":"$FZ$32","v":"Rogan**"},null,{"$f":"Millwall!CC33","v":8},{"$f":"Millwall!CH33","v":8},{"$f":"Millwall!CR33","v":0},{"$f":"Millwall!CW33","v":0}]
[null,null,0,29,null,{"$f":"Millwall!AD103","v":"1997-02-01"},null,{"$f":"Millwall!AE103","v":"Bristol C"},{"$f":"Millwall!AF103","v":"(H)"},{"$f":"Millwall!AG103","v":"L 0-2"},{"$f":"MATCH($K$4,Millwall!$AH$103:$AW$103,0)","v":{"$error":"#N/A"}},{"$f":"MATCH($L$4,Millwall!$AH$103:$AW$103,0)","v":{"$error":"#N/A"}},{"$f":"MATCH($M$4,Millwall!$AH$103:$AW$103,0)","v":{"$error":"#N/A"}},{"$f":"MATCH($N$4,Millwall!$AH$103:$AW$103,0)","v":8},{"$f":"MATCH($O$4,Millwall!$AH$103:$AW$103,0)","v":{"$error":"#N/A"}},{"$f":"MATCH($P$4,Millwall!$AH$103:$AW$103,0)","v":{"$error":"#N/A"}},{"$f":"MATCH($Q$4,Millwall!$AH$103:$AW$103,0)","v":{"$error":"#N/A"}},{"$f":"MATCH($R$4,Millwall!$AH$103:$AW$103,0)","v":1},{"$f":"MATCH($S$4,Millwall!$AH$103:$AW$103,0)","v":9},{"$f":"MATCH($T$4,Millwall!$AH$103:$AW$103,0)","v":10},{"$f":"MATCH($U$4,Millwall!$AH$103:$AW$103,0)","v":11},{"$f":"MATCH($V$4,Millwall!$AH$103:$AW$103,0)","v":{"$error":"#N/A"}},{"$f":"MATCH($W$4,Millwall!$AH$103:$AW$103,0)","v":{"$error":"#N/A"}},{"$f":"MATCH($X$4,Millwall!$AH$103:$AW$103,0)","v":{"$error":"#N/A"}},{"$f":"MATCH($Y$4,Millwall!$AH$103:$AW$103,0)","v":12},{"$f":"MATCH($Z$4,Millwall!$AH$103:$AW$103,0)","v":13},{"$f":"MATCH($AA$4,Millwall!$AH$103:$AW$103,0)","v":{"$error":"#N/A"}},{"$f":"MATCH($AB$4,Millwall!$AH$103:$AW$103,0)","v":{"$error":"#N/A"}},{"$f":"MATCH($AC$4,Millwall!$AH$103:$AW$103,0)","v":{"$error":"#N/A"}},{"$f":"MATCH($AD$4,Millwall!$AH$103:$AW$103,0)","v":{"$error":"#N/A"}},{"$f":"MATCH($AE$4,Millwall!$AH$103:$AW$103,0)","v":{"$error":"#N/A"}},{"$f":"MATCH($AF$4,Millwall!$AH$103:$AW$103,0)","v":{"$error":"#N/A"}},{"$f":"MATCH($AG$4,Millwall!$AH$103:$AW$103,0)","v":{"$error":"#N/A"}},{"$f":"MATCH($AH$4,Millwall!$AH$103:$AW$103,0)","v":7},{"$f":"MATCH($AI$4,Millwall!$AH$103:$AW$103,0)","v":2},{"$f":"MATCH($AJ$4,Millwall!$AH$103:$AW$103,0)","v":{"$error":"#N/A"}},{"$f":"MATCH($AK$4,Millwall!$AH$103:$AW$103,0)","v":{"$error":"#N/A"}},{"$f":"MATCH($AL$4,Millwall!$AH$103:$AW$103,0)","v":3},{"$f":"MATCH($AM$4,Millwall!$AH$103:$AW$103,0)","v":14},{"$f":"MATCH($AN$4,Millwall!$AH$103:$AW$103,0)","v":4},{"$f":"MATCH($AO$4,Millwall!$AH$103:$AW$103,0)","v":{"$error":"#N/A"}},{"$f":"MATCH($AP$4,Millwall!$AH$103:$AW$103,0)","v":6},{"$f":"MATCH($AQ$4,Millwall!$AH$103:$AW$103,0)","v":{"$error":"#N/A"}},{"$f":"MATCH($AR$4,Millwall!$AH$103:$AW$103,0)","v":{"$error":"#N/A"}},{"$f":"MATCH($AS$4,Millwall!$AH$103:$AW$103,0)","v":{"$error":"#N/A"}},{"$f":"MATCH($AT$4,Millwall!$AH$103:$AW$103,0)","v":5},{"$f":"MATCH($AU$4,Millwall!$AH$103:$AW$103,0)","v":{"$error":"#N/A"}},{"$f":"MATCH($AV$4,Millwall!$AH$103:$AW$103,0)","v":{"$error":"#N/A"}},null,null,null,null,null,{"$f":"MATCH(BB$3,Millwall!$AH103:$AW103,0)","v":{"$error":"#N/A"}},{"$f":"MATCH(BC$3,Millwall!$AH103:$AW103,0)","v":{"$error":"#N/A"}},{"$f":"MATCH(BD$3,Millwall!$AH103:$AW103,0)","v":{"$error":"#N/A"}},{"$f":"MATCH(BE$3,Millwall!$AH103:$AW103,0)","v":{"$error":"#N/A"}},{"$f":"MATCH(BF$3,Millwall!$AH103:$AW103,0)","v":{"$error":"#N/A"}},{"$f":"MATCH(BG$3,Millwall!$AH103:$AW103,0)","v":{"$error":"#N/A"}},{"$f":"MATCH(BH$3,Millwall!$AH103:$AW103,0)","v":{"$error":"#N/A"}},{"$f":"MATCH(BI$3,Millwall!$AH103:$AW103,0)","v":{"$error":"#N/A"}},{"$f":"MATCH(BJ$3,Millwall!$AH103:$AW103,0)","v":{"$error":"#N/A"}},{"$f":"MATCH(BK$3,Millwall!$AH103:$AW103,0)","v":{"$error":"#N/A"}},{"$f":"MATCH(BL$3,Millwall!$AH103:$AW103,0)","v":{"$error":"#N/A"}},{"$f":"MATCH(BM$3,Millwall!$AH103:$AW103,0)","v":{"$error":"#N/A"}},{"$f":"MATCH(BN$3,Millwall!$AH103:$AW103,0)","v":{"$error":"#N/A"}},{"$f":"MATCH(BO$3,Millwall!$AH103:$AW103,0)","v":{"$error":"#N/A"}},{"$f":"MATCH(BP$3,Millwall!$AH103:$AW103,0)","v":12},{"$f":"MATCH(BQ$3,Millwall!$AH103:$AW103,0)","v":{"$error":"#N/A"}},{"$f":"MATCH(BR$3,Millwall!$AH103:$AW103,0)","v":{"$error":"#N/A"}},{"$f":"MATCH(BS$3,Millwall!$AH103:$AW103,0)","v":{"$error":"#N/A"}},{"$f":"MATCH(BT$3,Millwall!$AH103:$AW103,0)","v":{"$error":"#N/A"}},{"$f":"MATCH(BU$3,Millwall!$AH103:$AW103,0)","v":{"$error":"#N/A"}},{"$f":"MATCH(BV$3,Millwall!$AH103:$AW103,0)","v":{"$error":"#N/A"}},{"$f":"MATCH(BW$3,Millwall!$AH103:$AW103,0)","v":{"$error":"#N/A"}},{"$f":"MATCH(BX$3,Millwall!$AH103:$AW103,0)","v":{"$error":"#N/A"}},{"$f":"MATCH(BY$3,Millwall!$AH103:$AW103,0)","v":{"$error":"#N/A"}},{"$f":"MATCH(BZ$3,Millwall!$AH103:$AW103,0)","v":{"$error":"#N/A"}},{"$f":"MATCH(CA$3,Millwall!$AH103:$AW103,0)","v":{"$error":"#N/A"}},{"$f":"MATCH(CB$3,Millwall!$AH103:$AW103,0)","v":{"$error":"#N/A"}},{"$f":"MATCH(CC$3,Millwall!$AH103:$AW103,0)","v":{"$error":"#N/A"}},{"$f":"MATCH(CD$3,Millwall!$AH103:$AW103,0)","v":{"$error":"#N/A"}},{"$f":"MATCH(CE$3,Millwall!$AH103:$AW103,0)","v":{"$error":"#N/A"}},{"$f":"MATCH(CF$3,Millwall!$AH103:$AW103,0)","v":{"$error":"#N/A"}},{"$f":"MATCH(CG$3,Millwall!$AH103:$AW103,0)","v":6},{"$f":"MATCH(CH$3,Millwall!$AH103:$AW103,0)","v":{"$error":"#N/A"}},{"$f":"MATCH(CI$3,Millwall!$AH103:$AW103,0)","v":{"$error":"#N/A"}},{"$f":"MATCH(CJ$3,Millwall!$AH103:$AW103,0)","v":{"$error":"#N/A"}},{"$f":"MATCH(CK$3,Millwall!$AH103:$AW103,0)","v":{"$error":"#N/A"}},{"$f":"MATCH(CL$3,Millwall!$AH103:$AW103,0)","v":{"$error":"#N/A"}},{"$f":"MATCH(CM$3,Millwall!$AH103:$AW103,0)","v":{"$error":"#N/A"}},null,null,{"$f":"MATCH($CP$3,Millwall!$AH$103:$AW$103,0)","v":{"$error":"#N/A"}},{"$f":"MATCH($CQ$3,Millwall!$AH$103:$AW$103,0)","v":{"$error":"#N/A"}},{"$f":"MATCH($CR$3,Millwall!$AH$103:$AW$103,0)","v":{"$error":"#N/A"}},{"$f":"MATCH($CS$3,Millwall!$AH$103:$AW$103,0)","v":{"$error":"#N/A"}},{"$f":"MATCH($CT$3,Millwall!$AH$103:$AW$103,0)","v":{"$error":"#N/A"}},{"$f":"MATCH($CU$3,Millwall!$AH$103:$AW$103,0)","v":{"$error":"#N/A"}},{"$f":"MATCH($CV$3,Millwall!$AH$103:$AW$103,0)","v":{"$error":"#N/A"}},{"$f":"MATCH($CW$3,Millwall!$AH$103:$AW$103,0)","v":{"$error":"#N/A"}},{"$f":"MATCH($CX$3,Millwall!$AH$103:$AW$103,0)","v":{"$error":"#N/A"}},{"$f":"MATCH($CY$3,Millwall!$AH$103:$AW$103,0)","v":{"$error":"#N/A"}},{"$f":"MATCH($CZ$3,Millwall!$AH$103:$AW$103,0)","v":{"$error":"#N/A"}},{"$f":"MATCH($DA$3,Millwall!$AH$103:$AW$103,0)","v":{"$error":"#N/A"}},{"$f":"MATCH($DB$3,Millwall!$AH$103:$AW$103,0)","v":{"$error":"#N/A"}},{"$f":"MATCH($DC$3,Millwall!$AH$103:$AW$103,0)","v":{"$error":"#N/A"}},{"$f":"MATCH($DD$3,Millwall!$AH$103:$AW$103,0)","v":{"$error":"#N/A"}},{"$f":"MATCH($DE$3,Millwall!$AH$103:$AW$103,0)","v":13},{"$f":"MATCH($DF$3,Millwall!$AH$103:$AW$103,0)","v":{"$error":"#N/A"}},{"$f":"MATCH($DG$3,Millwall!$AH$103:$AW$103,0)","v":{"$error":"#N/A"}},{"$f":"MATCH($DH$3,Millwall!$AH$103:$AW$103,0)","v":{"$error":"#N/A"}},{"$f":"MATCH($DI$3,Millwall!$AH$103:$AW$103,0)","v":{"$error":"#N/A"}},{"$f":"MATCH($DJ$3,Millwall!$AH$103:$AW$103,0)","v":{"$error":"#N/A"}},{"$f":"MATCH($DK$3,Millwall!$AH$103:$AW$103,0)","v":{"$error":"#N/A"}},{"$f":"MATCH($DL$3,Millwall!$AH$103:$AW$103,0)","v":{"$error":"#N/A"}},{"$f":"MATCH($DM$3,Millwall!$AH$103:$AW$103,0)","v":{"$error":"#N/A"}},{"$f":"MATCH($DN$3,Millwall!$AH$103:$AW$103,0)","v":{"$error":"#N/A"}},{"$f":"MATCH($DO$3,Millwall!$AH$103:$AW$103,0)","v":{"$error":"#N/A"}},{"$f":"MATCH($DP$3,Millwall!$AH$103:$AW$103,0)","v":{"$error":"#N/A"}},{"$f":"MATCH($DQ$3,Millwall!$AH$103:$AW$103,0)","v":{"$error":"#N/A"}},{"$f":"MATCH($DR$3,Millwall!$AH$103:$AW$103,0)","v":{"$error":"#N/A"}},{"$f":"MATCH($DS$3,Millwall!$AH$103:$AW$103,0)","v":4},{"$f":"MATCH($DT$3,Millwall!$AH$103:$AW$103,0)","v":{"$error":"#N/A"}},{"$f":"MATCH($DU$3,Millwall!$AH$103:$AW$103,0)","v":{"$error":"#N/A"}},{"$f":"MATCH($DV$3,Millwall!$AH$103:$AW$103,0)","v":{"$error":"#N/A"}},{"$f":"MATCH($DW$3,Millwall!$AH$103:$AW$103,0)","v":{"$error":"#N/A"}},{"$f":"MATCH($DX$3,Millwall!$AH$103:$AW$103,0)","v":{"$error":"#N/A"}},{"$f":"MATCH($DY$3,Millwall!$AH$103:$AW$103,0)","v":{"$error":"#N/A"}},{"$f":"MATCH($DZ$3,Millwall!$AH$103:$AW$103,0)","v":{"$error":"#N/A"}},{"$f":"MATCH($EA$3,Millwall!$AH$103:$AW$103,0)","v":{"$error":"#N/A"}},null,null,{"$f":"MATCH(ED$3,Millwall!$AH$103:$AW$103,0)","v":{"$error":"#N/A"}},{"$f":"MATCH(EE$3,Millwall!$AH$103:$AW$103,0)","v":{"$error":"#N/A"}},{"$f":"MATCH(EF$3,Millwall!$AH$103:$AW$103,0)","v":{"$error":"#N/A"}},{"$f":"MATCH(EG$3,Millwall!$AH$103:$AW$103,0)","v":{"$error":"#N/A"}},{"$f":"MATCH(EH$3,Millwall!$AH$103:$AW$103,0)","v":{"$error":"#N/A"}},{"$f":"MATCH(EI$3,Millwall!$AH$103:$AW$103,0)","v":{"$error":"#N/A"}},{"$f":"MATCH(EJ$3,Millwall!$AH$103:$AW$103,0)","v":{"$error":"#N/A"}},{"$f":"MATCH(EK$3,Millwall!$AH$103:$AW$103,0)","v":{"$error":"#N/A"}},{"$f":"MATCH(EL$3,Millwall!$AH$103:$AW$103,0)","v":{"$error":"#N/A"}},{"$f":"MATCH(EM$3,Millwall!$AH$103:$AW$103,0)","v":{"$error":"#N/A"}},{"$f":"MATCH(EN$3,Millwall!$AH$103:$AW$103,0)","v":{"$error":"#N/A"}},{"$f":"MATCH(EO$3,Millwall!$AH$103:$AW$103,0)","v":{"$error":"#N/A"}},{"$f":"MATCH(EP$3,Millwall!$AH$103:$AW$103,0)","v":{"$error":"#N/A"}},{"$f":"MATCH(EQ$3,Millwall!$AH$103:$AW$103,0)","v":{"$error":"#N/A"}},{"$f":"MATCH(ER$3,Millwall!$AH$103:$AW$103,0)","v":{"$error":"#N/A"}},{"$f":"MATCH(ES$3,Millwall!$AH$103:$AW$103,0)","v":{"$error":"#N/A"}},{"$f":"MATCH(ET$3,Millwall!$AH$103:$AW$103,0)","v":{"$error":"#N/A"}},{"$f":"MATCH(EU$3,Millwall!$AH$103:$AW$103,0)","v":{"$error":"#N/A"}},{"$f":"MATCH(EV$3,Millwall!$AH$103:$AW$103,0)","v":{"$error":"#N/A"}},{"$f":"MATCH(EW$3,Millwall!$AH$103:$AW$103,0)","v":{"$error":"#N/A"}},{"$f":"MATCH(EX$3,Millwall!$AH$103:$AW$103,0)","v":{"$error":"#N/A"}},{"$f":"MATCH(EY$3,Millwall!$AH$103:$AW$103,0)","v":{"$error":"#N/A"}},{"$f":"MATCH(EZ$3,Millwall!$AH$103:$AW$103,0)","v":{"$error":"#N/A"}},{"$f":"MATCH(FA$3,Millwall!$AH$103:$AW$103,0)","v":{"$error":"#N/A"}},{"$f":"MATCH(FB$3,Millwall!$AH$103:$AW$103,0)","v":2},{"$f":"MATCH(FC$3,Millwall!$AH$103:$AW$103,0)","v":{"$error":"#N/A"}},{"$f":"MATCH(FD$3,Millwall!$AH$103:$AW$103,0)","v":{"$error":"#N/A"}},{"$f":"MATCH(FE$3,Millwall!$AH$103:$AW$103,0)","v":{"$error":"#N/A"}},{"$f":"MATCH(FF$3,Millwall!$AH$103:$AW$103,0)","v":14},{"$f":"MATCH(FG$3,Millwall!$AH$103:$AW$103,0)","v":{"$error":"#N/A"}},{"$f":"MATCH(FH$3,Millwall!$AH$103:$AW$103,0)","v":{"$error":"#N/A"}},{"$f":"MATCH(FI$3,Millwall!$AH$103:$AW$103,0)","v":{"$error":"#N/A"}},{"$f":"MATCH(FJ$3,Millwall!$AH$103:$AW$103,0)","v":{"$error":"#N/A"}},{"$f":"MATCH(FK$3,Millwall!$AH$103:$AW$103,0)","v":{"$error":"#N/A"}},{"$f":"MATCH(FL$3,Millwall!$AH$103:$AW$103,0)","v":{"$error":"#N/A"}},{"$f":"MATCH(FM$3,Millwall!$AH$103:$AW$103,0)","v":{"$error":"#N/A"}},{"$f":"MATCH(FN$3,Millwall!$AH$103:$AW$103,0)","v":{"$error":"#N/A"}},{"$f":"MATCH(FO$3,Millwall!$AH$103:$AW$103,0)","v":{"$error":"#N/A"}},null,null,null,null,null,null,{"$f":"$FX$33&\" {**\"","v":"Sadlier {**"},{"$f":"$FX$33&\" [**\"","v":"Sadlier [**"},{"$f":"Millwall!$BY88","v":"Sadlier"},"Sadlier (**",{"$f":"$FX$33&\"**\"","v":"Sadlier**"},null,{"$f":"$FX$33","v":"Sadlier"},{"$f":"$FY$33","v":"Sadlier (**"},{"$f":"$FZ$33","v":"Sadlier**"},null,{"$f":"Millwall!CC34","v":0},{"$f":"Millwall!CH34","v":0},{"$f":"Millwall!CR34","v":0},{"$f":"Millwall!CW34","v":0}]
[null,null,0,30,null,{"$f":"Millwall!AD104","v":"1997-02-08"},null,{"$f":"Millwall!AE104","v":"Walsall"},{"$f":"Millwall!AF104","v":"(A)"},{"$f":"Millwall!AG104","v":"L 1-2"},{"$f":"MATCH($K$4,Millwall!$AH$104:$AW$104,0)","v":{"$error":"#N/A"}},{"$f":"MATCH($L$4,Millwall!$AH$104:$AW$104,0)","v":{"$error":"#N/A"}},{"$f":"MATCH($M$4,Millwall!$AH$104:$AW$104,0)","v":{"$error":"#N/A"}},{"$f":"MATCH($N$4,Millwall!$AH$104:$AW$104,0)","v":4},{"$f":"MATCH($O$4,Millwall!$AH$104:$AW$104,0)","v":{"$error":"#N/A"}},{"$f":"MATCH($P$4,Millwall!$AH$104:$AW$104,0)","v":{"$error":"#N/A"}},{"$f":"MATCH($Q$4,Millwall!$AH$104:$AW$104,0)","v":{"$error":"#N/A"}},{"$f":"MATCH($R$4,Millwall!$AH$104:$AW$104,0)","v":1},{"$f":"MATCH($S$4,Millwall!$AH$104:$AW$104,0)","v":9},{"$f":"MATCH($T$4,Millwall!$AH$104:$AW$104,0)","v":11},{"$f":"MATCH($U$4,Millwall!$AH$104:$AW$104,0)","v":10},{"$f":"MATCH($V$4,Millwall!$AH$104:$AW$104,0)","v":{"$error":"#N/A"}},{"$f":"MATCH($W$4,Millwall!$AH$104:$AW$104,0)","v":{"$error":"#N/A"}},{"$f":"MATCH($X$4,Millwall!$AH$104:$AW$104,0)","v":{"$error":"#N/A"}},{"$f":"MATCH($Y$4,Millwall!$AH$104:$AW$104,0)","v":12},{"$f":"MATCH($Z$4,Millwall!$AH$104:$AW$104,0)","v":8},{"$f":"MATCH($AA$4,Millwall!$AH$104:$AW$104,0)","v":{"$error":"#N/A"}},{"$f":"MATCH($AB$4,Millwall!$AH$104:$AW$104,0)","v":{"$error":"#N/A"}},{"$f":"MATCH($AC$4,Millwall!$AH$104:$AW$104,0)","v":{"$error":"#N/A"}},{"$f":"MATCH($AD$4,Millwall!$AH$104:$AW$104,0)","v":{"$error":"#N/A"}},{"$f":"MATCH($AE$4,Millwall!$AH$104:$AW$104,0)","v":{"$error":"#N/A"}},{"$f":"MATCH($AF$4,Millwall!$AH$104:$AW$104,0)","v":{"$error":"#N/A"}},{"$f":"MATCH($AG$4,Millwall!$AH$104:$AW$104,0)","v":13},{"$f":"MATCH($AH$4,Millwall!$AH$104:$AW$104,0)","v":2},{"$f":"MATCH($AI$4,Millwall!$AH$104:$AW$104,0)","v":6},{"$f":"MATCH($AJ$4,Millwall!$AH$104:$AW$104,0)","v":{"$error":"#N/A"}},{"$f":"MATCH($AK$4,Millwall!$AH$104:$AW$104,0)","v":{"$error":"#N/A"}},{"$f":"MATCH($AL$4,Millwall!$AH$104:$AW$104,0)","v":3},{"$f":"MATCH($AM$4,Millwall!$AH$104:$AW$104,0)","v":14},{"$f":"MATCH($AN$4,Millwall!$AH$104:$AW$104,0)","v":7},{"$f":"MATCH($AO$4,Millwall!$AH$104:$AW$104,0)","v":{"$error":"#N/A"}},{"$f":"MATCH($AP$4,Millwall!$AH$104:$AW$104,0)","v":{"$error":"#N/A"}},{"$f":"MATCH($AQ$4,Millwall!$AH$104:$AW$104,0)","v":{"$error":"#N/A"}},{"$f":"MATCH($AR$4,Millwall!$AH$104:$AW$104,0)","v":5},{"$f":"MATCH($AS$4,Millwall!$AH$104:$AW$104,0)","v":{"$error":"#N/A"}},{"$f":"MATCH($AT$4,Millwall!$AH$104:$AW$104,0)","v":{"$error":"#N/A"}},{"$f":"MATCH($AU$4,Millwall!$AH$104:$AW$104,0)","v":{"$error":"#N/A"}},{"$f":"MATCH($AV$4,Millwall!$AH$104:$AW$104,0)","v":{"$error":"#N/A"}},null,null,null,null,null,{"$f":"MATCH(BB$3,Millwall!$AH104:$AW104,0)","v":{"$error":"#N/A"}},{"$f":"MATCH(BC$3,Millwall!$AH104:$AW104,0)","v":{"$error":"#N/A"}},{"$f":"MATCH(BD$3,Millwall!$AH104:$AW104,0)","v":{"$error":"#N/A"}},{"$f":"MATCH(BE$3,Millwall!$AH104:$AW104,0)","v":{"$error":"#N/A"}},{"$f":"MATCH(BF$3,Millwall!$AH104:$AW104,0)","v":{"$error":"#N/A"}},{"$f":"MATCH(BG$3,Millwall!$AH104:$AW104,0)","v":{"$error":"#N/A"}},{"$f":"MATCH(BH$3,Millwall!$AH104:$AW104,0)","v":{"$error":"#N/A"}},{"$f":"MATCH(BI$3,Millwall!$AH104:$AW104,0)","v":{"$error":"#N/A"}},{"$f":"MATCH(BJ$3,Millwall!$AH104:$AW104,0)","v":{"$error":"#N/A"}},{"$f":"MATCH(BK$3,Millwall!$AH104:$AW104,0)","v":{"$error":"#N/A"}},{"$f":"MATCH(BL$3,Millwall!$AH104:$AW104,0)","v":{"$error":"#N/A"}},{"$f":"MATCH(BM$3,Millwall!$AH104:$AW104,0)","v":{"$error":"#N/A"}},{"$f":"MATCH(BN$3,Millwall!$AH104:$AW104,0)","v":{"$error":"#N/A"}},{"$f":"MATCH(BO$3,Millwall!$AH104:$AW104,0)","v":{"$error":"#N/A"}},{"$f":"MATCH(BP$3,Millwall!$AH104:$AW104,0)","v":12},{"$f":"MATCH(BQ$3,Millwall!$AH104:$AW104,0)","v":{"$error":"#N/A"}},{"$f":"MATCH(BR$3,Millwall!$AH104:$AW104,0)","v":{"$error":"#N/A"}},{"$f":"MATCH(BS$3,Millwall!$AH104:$AW104,0)","v":{"$error":"#N/A"}},{"$f":"MATCH(BT$3,Millwall!$AH104:$AW104,0)","v":{"$error":"#N/A"}},{"$f":"MATCH(BU$3,Millwall!$AH104:$AW104,0)","v":{"$error":"#N/A"}},{"$f":"MATCH(BV$3,Millwall!$AH104:$AW104,0)","v":{"$error":"#N/A"}},{"$f":"MATCH(BW$3,Millwall!$AH104:$AW104,0)","v":{"$error":"#N/A"}},{"$f":"MATCH(BX$3,Millwall!$AH104:$AW104,0)","v":{"$error":"#N/A"}},{"$f":"MATCH(BY$3,Millwall!$AH104:$AW104,0)","v":{"$error":"#N/A"}},{"$f":"MATCH(BZ$3,Millwall!$AH104:$AW104,0)","v":{"$error":"#N/A"}},{"$f":"MATCH(CA$3,Millwall!$AH104:$AW104,0)","v":{"$error":"#N/A"}},{"$f":"MATCH(CB$3,Millwall!$AH104:$AW104,0)","v":{"$error":"#N/A"}},{"$f":"MATCH(CC$3,Millwall!$AH104:$AW104,0)","v":3},{"$f":"MATCH(CD$3,Millwall!$AH104:$AW104,0)","v":{"$error":"#N/A"}},{"$f":"MATCH(CE$3,Millwall!$AH104:$AW104,0)","v":{"$error":"#N/A"}},{"$f":"MATCH(CF$3,Millwall!$AH104:$AW104,0)","v":{"$error":"#N/A"}},{"$f":"MATCH(CG$3,Millwall!$AH104:$AW104,0)","v":{"$error":"#N/A"}},{"$f":"MATCH(CH$3,Millwall!$AH104:$AW104,0)","v":{"$error":"#N/A"}},{"$f":"MATCH(CI$3,Millwall!$AH104:$AW104,0)","v":{"$error":"#N/A"}},{"$f":"MATCH(CJ$3,Millwall!$AH104:$AW104,0)","v":{"$error":"#N/A"}},{"$f":"MATCH(CK$3,Millwall!$AH104:$AW104,0)","v":{"$error":"#N/A"}},{"$f":"MATCH(CL$3,Millwall!$AH104:$AW104,0)","v":{"$error":"#N/A"}},{"$f":"MATCH(CM$3,Millwall!$AH104:$AW104,0)","v":{"$error":"#N/A"}},null,null,{"$f":"MATCH($CP$3,Millwall!$AH$104:$AW$104,0)","v":{"$error":"#N/A"}},{"$f":"MATCH($CQ$3,Millwall!$AH$104:$AW$104,0)","v":{"$error":"#N/A"}},{"$f":"MATCH($CR$3,Millwall!$AH$104:$AW$104,0)","v":{"$error":"#N/A"}},{"$f":"MATCH($CS$3,Millwall!$AH$104:$AW$104,0)","v":{"$error":"#N/A"}},{"$f":"MATCH($CT$3,Millwall!$AH$104:$AW$104,0)","v":{"$error":"#N/A"}},{"$f":"MATCH($CU$3,Millwall!$AH$104:$AW$104,0)","v":{"$error":"#N/A"}},{"$f":"MATCH($CV$3,Millwall!$AH$104:$AW$104,0)","v":{"$error":"#N/A"}},{"$f":"MATCH($CW$3,Millwall!$AH$104:$AW$104,0)","v":{"$error":"#N/A"}},{"$f":"MATCH($CX$3,Millwall!$AH$104:$AW$104,0)","v":{"$error":"#N/A"}},{"$f":"MATCH($CY$3,Millwall!$AH$104:$AW$104,0)","v":{"$error":"#N/A"}},{"$f":"MATCH($CZ$3,Millwall!$AH$104:$AW$104,0)","v":{"$error":"#N/A"}},{"$f":"MATCH($DA$3,Millwall!$AH$104:$AW$104,0)","v":{"$error":"#N/A"}},{"$f":"MATCH($DB$3,Millwall!$AH$104:$AW$104,0)","v":{"$error":"#N/A"}},{"$f":"MATCH($DC$3,Millwall!$AH$104:$AW$104,0)","v":{"$error":"#N/A"}},{"$f":"MATCH($DD$3,Millwall!$AH$104:$AW$104,0)","v":{"$error":"#N/A"}},{"$f":"MATCH($DE$3,Millwall!$AH$104:$AW$104,0)","v":{"$error":"#N/A"}},{"$f":"MATCH($DF$3,Millwall!$AH$104:$AW$104,0)","v":{"$error":"#N/A"}},{"$f":"MATCH($DG$3,Millwall!$AH$104:$AW$104,0)","v":{"$error":"#N/A"}},{"$f":"MATCH($DH$3,Millwall!$AH$104:$AW$104,0)","v":{"$error":"#N/A"}},{"$f":"MATCH($DI$3,Millwall!$AH$104:$AW$104,0)","v":{"$error":"#N/A"}},{"$f":"MATCH($DJ$3,Millwall!$AH$104:$AW$104,0)","v":{"$error":"#N/A"}},{"$f":"MATCH($DK$3,Millwall!$AH$104:$AW$104,0)","v":{"$error":"#N/A"}},{"$f":"MATCH($DL$3,Millwall!$AH$104:$AW$104,0)","v":13},{"$f":"MATCH($DM$3,Millwall!$AH$104:$AW$104,0)","v":{"$error":"#N/A"}},{"$f":"MATCH($DN$3,Millwall!$AH$104:$AW$104,0)","v":{"$error":"#N/A"}},{"$f":"MATCH($DO$3,Millwall!$AH$104:$AW$104,0)","v":{"$error":"#N/A"}},{"$f":"MATCH($DP$3,Millwall!$AH$104:$AW$104,0)","v":{"$error":"#N/A"}},{"$f":"MATCH($DQ$3,Millwall!$AH$104:$AW$104,0)","v":{"$error":"#N/A"}},{"$f":"MATCH($DR$3,Millwall!$AH$104:$AW$104,0)","v":{"$error":"#N/A"}},{"$f":"MATCH($DS$3,Millwall!$AH$104:$AW$104,0)","v":{"$error":"#N/A"}},{"$f":"MATCH($DT$3,Millwall!$AH$104:$AW$104,0)","v":{"$error":"#N/A"}},{"$f":"MATCH($DU$3,Millwall!$AH$104:$AW$104,0)","v":{"$error":"#N/A"}},{"$f":"MATCH($DV$3,Millwall!$AH$104:$AW$104,0)","v":{"$error":"#N/A"}},{"$f":"MATCH($DW$3,Millwall!$AH$104:$AW$104,0)","v":{"$error":"#N/A"}},{"$f":"MATCH($DX$3,Millwall!$AH$104:$AW$104,0)","v":{"$error":"#N/A"}},{"$f":"MATCH($DY$3,Millwall!$AH$104:$AW$104,0)","v":{"$error":"#N/A"}},{"$f":"MATCH($DZ$3,Millwall!$AH$104:$AW$104,0)","v":{"$error":"#N/A"}},{"$f":"MATCH($EA$3,Millwall!$AH$104:$AW$104,0)","v":{"$error":"#N/A"}},null,null,{"$f":"MATCH(ED$3,Millwall!$AH$104:$AW$104,0)","v":{"$error":"#N/A"}},{"$f":"MATCH(EE$3,Millwall!$AH$104:$AW$104,0)","v":{"$error":"#N/A"}},{"$f":"MATCH(EF$3,Millwall!$AH$104:$AW$104,0)","v":{"$error":"#N/A"}},{"$f":"MATCH(EG$3,Millwall!$AH$104:$AW$104,0)","v":4},{"$f":"MATCH(EH$3,Millwall!$AH$104:$AW$104,0)","v":{"$error":"#N/A"}},{"$f":"MATCH(EI$3,Millwall!$AH$104:$AW$104,0)","v":{"$error":"#N/A"}},{"$f":"MATCH(EJ$3,Millwall!$AH$104:$AW$104,0)","v":{"$error":"#N/A"}},{"$f":"MATCH(EK$3,Millwall!$AH$104:$AW$104,0)","v":{"$error":"#N/A"}},{"$f":"MATCH(EL$3,Millwall!$AH$104:$AW$104,0)","v":{"$error":"#N/A"}},{"$f":"MATCH(EM$3,Millwall!$AH$104:$AW$104,0)","v":{"$error":"#N/A"}},{"$f":"MATCH(EN$3,Millwall!$AH$104:$AW$104,0)","v":{"$error":"#N/A"}},{"$f":"MATCH(EO$3,Millwall!$AH$104:$AW$104,0)","v":{"$error":"#N/A"}},{"$f":"MATCH(EP$3,Millwall!$AH$104:$AW$104,0)","v":{"$error":"#N/A"}},{"$f":"MATCH(EQ$3,Millwall!$AH$104:$AW$104,0)","v":{"$error":"#N/A"}},{"$f":"MATCH(ER$3,Millwall!$AH$104:$AW$104,0)","v":{"$error":"#N/A"}},{"$f":"MATCH(ES$3,Millwall!$AH$104:$AW$104,0)","v":{"$error":"#N/A"}},{"$f":"MATCH(ET$3,Millwall!$AH$104:$AW$104,0)","v":{"$error":"#N/A"}},{"$f":"MATCH(EU$3,Millwall!$AH$104:$AW$104,0)","v":{"$error":"#N/A"}},{"$f":"MATCH(EV$3,Millwall!$AH$104:$AW$104,0)","v":{"$error":"#N/A"}},{"$f":"MATCH(EW$3,Millwall!$AH$104:$AW$104,0)","v":{"$error":"#N/A"}},{"$f":"MATCH(EX$3,Millwall!$AH$104:$AW$104,0)","v":{"$error":"#N/A"}},{"$f":"MATCH(EY$3,Millwall!$AH$104:$AW$104,0)","v":{"$error":"#N/A"}},{"$f":"MATCH(EZ$3,Millwall!$AH$104:$AW$104,0)","v":{"$error":"#N/A"}},{"$f":"MATCH(FA$3,Millwall!$AH$104:$AW$104,0)","v":{"$error":"#N/A"}},{"$f":"MATCH(FB$3,Millwall!$AH$104:$AW$104,0)","v":{"$error":"#N/A"}},{"$f":"MATCH(FC$3,Millwall!$AH$104:$AW$104,0)","v":{"$error":"#N/A"}},{"$f":"MATCH(FD$3,Millwall!$AH$104:$AW$104,0)","v":{"$error":"#N/A"}},{"$f":"MATCH(FE$3,Millwall!$AH$104:$AW$104,0)","v":{"$error":"#N/A"}},{"$f":"MATCH(FF$3,Millwall!$AH$104:$AW$104,0)","v":14},{"$f":"MATCH(FG$3,Millwall!$AH$104:$AW$104,0)","v":{"$error":"#N/A"}},{"$f":"MATCH(FH$3,Millwall!$AH$104:$AW$104,0)","v":{"$error":"#N/A"}},{"$f":"MATCH(FI$3,Millwall!$AH$104:$AW$104,0)","v":{"$error":"#N/A"}},{"$f":"MATCH(FJ$3,Millwall!$AH$104:$AW$104,0)","v":{"$error":"#N/A"}},{"$f":"MATCH(FK$3,Millwall!$AH$104:$AW$104,0)","v":{"$error":"#N/A"}},{"$f":"MATCH(FL$3,Millwall!$AH$104:$AW$104,0)","v":{"$error":"#N/A"}},{"$f":"MATCH(FM$3,Millwall!$AH$104:$AW$104,0)","v":{"$error":"#N/A"}},{"$f":"MATCH(FN$3,Millwall!$AH$104:$AW$104,0)","v":{"$error":"#N/A"}},{"$f":"MATCH(FO$3,Millwall!$AH$104:$AW$104,0)","v":{"$error":"#N/A"}},null,null,null,null,null,null,{"$f":"$FX$34&\" {**\"","v":"Savage {**"},{"$f":"$FX$34&\" [**\"","v":"Savage [**"},{"$f":"Millwall!$BY89","v":"Savage"},"Savage (**",{"$f":"$FX$34&\"**\"","v":"Savage**"},null,{"$f":"$FX$34","v":"Savage"},{"$f":"$FY$34","v":"Savage (**"},{"$f":"$FZ$34","v":"Savage**"},null,{"$f":"Millwall!CC35","v":5},{"$f":"Millwall!CH35","v":3},{"$f":"Millwall!CR35","v":0},{"$f":"Millwall!CW35","v":1}]
[null,null,0,31,null,{"$f":"Millwall!AD105","v":"1997-02-15"},null,{"$f":"Millwall!AE105","v":"Rotherham"},{"$f":"Millwall!AF105","v":"(H)"},{"$f":"Millwall!AG105","v":"W 2-0"},{"$f":"MATCH($K$4,Millwall!$AH$105:$AW$105,0)","v":{"$error":"#N/A"}},{"$f":"MATCH($L$4,Millwall!$AH$105:$AW$105,0)","v":3},{"$f":"MATCH($M$4,Millwall!$AH$105:$AW$105,0)","v":14},{"$f":"MATCH($N$4,Millwall!$AH$105:$AW$105,0)","v":{"$error":"#N/A"}},{"$f":"MATCH($O$4,Millwall!$AH$105:$AW$105,0)","v":{"$error":"#N/A"}},{"$f":"MATCH($P$4,Millwall!$AH$105:$AW$105,0)","v":10},{"$f":"MATCH($Q$4,Millwall!$AH$105:$AW$105,0)","v":{"$error":"#N/A"}},{"$f":"MATCH($R$4,Millwall!$AH$105:$AW$105,0)","v":1},{"$f":"MATCH($S$4,Millwall!$AH$105:$AW$105,0)","v":9},{"$f":"MATCH($T$4,Millwall!$AH$105:$AW$105,0)","v":13},{"$f":"MATCH($U$4,Millwall!$AH$105:$AW$105,0)","v":{"$error":"#N/A"}},{"$f":"MATCH($V$4,Millwall!$AH$105:$AW$105,0)","v":12},{"$f":"MATCH($W$4,Millwall!$AH$105:$AW$105,0)","v":{"$error":"#N/A"}},{"$f":"MATCH($X$4,Millwall!$AH$105:$AW$105,0)","v":{"$error":"#N/A"}},{"$f":"MATCH($Y$4,Millwall!$AH$105:$AW$105,0)","v":{"$error":"#N/A"}},{"$f":"MATCH($Z$4,Millwall!$AH$105:$AW$105,0)","v":7},{"$f":"MATCH($AA$4,Millwall!$AH$105:$AW$105,0)","v":{"$error":"#N/A"}},{"$f":"MATCH($AB$4,Millwall!$AH$105:$AW$105,0)","v":{"$error":"#N/A"}},{"$f":"MATCH($AC$4,Millwall!$AH$105:$AW$105,0)","v":{"$error":"#N/A"}},{"$f":"MATCH($AD$4,Millwall!$AH$105:$AW$105,0)","v":{"$error":"#N/A"}},{"$f":"MATCH($AE$4,Millwall!$AH$105:$AW$105,0)","v":{"$error":"#N/A"}},{"$f":"MATCH($AF$4,Millwall!$AH$105:$AW$105,0)","v":{"$error":"#N/A"}},{"$f":"MATCH($AG$4,Millwall!$AH$105:$AW$105,0)","v":11},{"$f":"MATCH($AH$4,Millwall!$AH$105:$AW$105,0)","v":2},{"$f":"MATCH($AI$4,Millwall!$AH$105:$AW$105,0)","v":4},{"$f":"MATCH($AJ$4,Millwall!$AH$105:$AW$105,0)","v":{"$error":"#N/A"}},{"$f":"MATCH($AK$4,Millwall!$AH$105:$AW$105,0)","v":{"$error":"#N/A"}},{"$f":"MATCH($AL$4,Millwall!$AH$105:$AW$105,0)","v":{"$error":"#N/A"}},{"$f":"MATCH($AM$4,Millwall!$AH$105:$AW$105,0)","v":{"$error":"#N/A"}},{"$f":"MATCH($AN$4,Millwall!$AH$105:$AW$105,0)","v":8},{"$f":"MATCH($AO$4,Millwall!$AH$105:$AW$105,0)","v":{"$error":"#N/A"}},{"$f":"MATCH($AP$4,Millwall!$AH$105:$AW$105,0)","v":{"$error":"#N/A"}},{"$f":"MATCH($AQ$4,Millwall!$AH$105:$AW$105,0)","v":{"$error":"#N/A"}},{"$f":"MATCH($AR$4,Millwall!$AH$105:$AW$105,0)","v":5},{"$f":"MATCH($AS$4,Millwall!$AH$105:$AW$105,0)","v":{"$error":"#N/A"}},{"$f":"MATCH($AT$4,Millwall!$AH$105:$AW$105,0)","v":6},{"$f":"MATCH($AU$4,Millwall!$AH$105:$AW$105,0)","v":{"$error":"#N/A"}},{"$f":"MATCH($AV$4,Millwall!$AH$105:$AW$105,0)","v":{"$error":"#N/A"}},null,null,null,null,null,{"$f":"MATCH(BB$3,Millwall!$AH105:$AW105,0)","v":{"$error":"#N/A"}},{"$f":"MATCH(BC$3,Millwall!$AH105:$AW105,0)","v":{"$error":"#N/A"}},{"$f":"MATCH(BD$3,Millwall!$AH105:$AW105,0)","v":{"$error":"#N/A"}},{"$f":"MATCH(BE$3,Millwall!$AH105:$AW105,0)","v":{"$error":"#N/A"}},{"$f":"MATCH(BF$3,Millwall!$AH105:$AW105,0)","v":{"$error":"#N/A"}},{"$f":"MATCH(BG$3,Millwall!$AH105:$AW105,0)","v":{"$error":"#N/A"}},{"$f":"MATCH(BH$3,Millwall!$AH105:$AW105,0)","v":{"$error":"#N/A"}},{"$f":"MATCH(BI$3,Millwall!$AH105:$AW105,0)","v":{"$error":"#N/A"}},{"$f":"MATCH(BJ$3,Millwall!$AH105:$AW105,0)","v":{"$error":"#N/A"}},{"$f":"MATCH(BK$3,Millwall!$AH105:$AW105,0)","v":{"$error":"#N/A"}},{"$f":"MATCH(BL$3,Millwall!$AH105:$AW105,0)","v":{"$error":"#N/A"}},{"$f":"MATCH(BM$3,Millwall!$AH105:$AW105,0)","v":{"$error":"#N/A"}},{"$f":"MATCH(BN$3,Millwall!$AH105:$AW105,0)","v":{"$error":"#N/A"}},{"$f":"MATCH(BO$3,Millwall!$AH105:$AW105,0)","v":{"$error":"#N/A"}},{"$f":"MATCH(BP$3,Millwall!$AH105:$AW105,0)","v":{"$error":"#N/A"}},{"$f":"MATCH(BQ$3,Millwall!$AH105:$AW105,0)","v":{"$error":"#N/A"}},{"$f":"MATCH(BR$3,Millwall!$AH105:$AW105,0)","v":{"$error":"#N/A"}},{"$f":"MATCH(BS$3,Millwall!$AH105:$AW105,0)","v":{"$error":"#N/A"}},{"$f":"MATCH(BT$3,Millwall!$AH105:$AW105,0)","v":{"$error":"#N/A"}},{"$f":"MATCH(BU$3,Millwall!$AH105:$AW105,0)","v":{"$error":"#N/A"}},{"$f":"MATCH(BV$3,Millwall!$AH105:$AW105,0)","v":{"$error":"#N/A"}},{"$f":"MATCH(BW$3,Millwall!$AH105:$AW105,0)","v":{"$error":"#N/A"}},{"$f":"MATCH(BX$3,Millwall!$AH105:$AW105,0)","v":{"$error":"#N/A"}},{"$f":"MATCH(BY$3,Millwall!$AH105:$AW105,0)","v":{"$error":"#N/A"}},{"$f":"MATCH(BZ$3,Millwall!$AH105:$AW105,0)","v":{"$error":"#N/A"}},{"$f":"MATCH(CA$3,Millwall!$AH105:$AW105,0)","v":{"$error":"#N/A"}},{"$f":"MATCH(CB$3,Millwall!$AH105:$AW105,0)","v":{"$error":"#N/A"}},{"$f":"MATCH(CC$3,Millwall!$AH105:$AW105,0)","v":{"$error":"#N/A"}},{"$f":"MATCH(CD$3,Millwall!$AH105:$AW105,0)","v":{"$error":"#N/A"}},{"$f":"MATCH(CE$3,Millwall!$AH105:$AW105,0)","v":{"$error":"#N/A"}},{"$f":"MATCH(CF$3,Millwall!$AH105:$AW105,0)","v":{"$error":"#N/A"}},{"$f":"MATCH(CG$3,Millwall!$AH105:$AW105,0)","v":{"$error":"#N/A"}},{"$f":"MATCH(CH$3,Millwall!$AH105:$AW105,0)","v":{"$error":"#N/A"}},{"$f":"MATCH(CI$3,Millwall!$AH105:$AW105,0)","v":{"$error":"#N/A"}},{"$f":"MATCH(CJ$3,Millwall!$AH105:$AW105,0)","v":{"$error":"#N/A"}},{"$f":"MATCH(CK$3,Millwall!$AH105:$AW105,0)","v":{"$error":"#N/A"}},{"$f":"MATCH(CL$3,Millwall!$AH105:$AW105,0)","v":{"$error":"#N/A"}},{"$f":"MATCH(CM$3,Millwall!$AH105:$AW105,0)","v":{"$error":"#N/A"}},null,null,{"$f":"MATCH($CP$3,Millwall!$AH$105:$AW$105,0)","v":{"$error":"#N/A"}},{"$f":"MATCH($CQ$3,Millwall!$AH$105:$AW$105,0)","v":{"$error":"#N/A"}},{"$f":"MATCH($CR$3,Millwall!$AH$105:$AW$105,0)","v":{"$error":"#N/A"}},{"$f":"MATCH($CS$3,Millwall!$AH$105:$AW$105,0)","v":{"$error":"#N/A"}},{"$f":"MATCH($CT$3,Millwall!$AH$105:$AW$105,0)","v":{"$error":"#N/A"}},{"$f":"MATCH($CU$3,Millwall!$AH$105:$AW$105,0)","v":{"$error":"#N/A"}},{"$f":"MATCH($CV$3,Millwall!$AH$105:$AW$105,0)","v":{"$error":"#N/A"}},{"$f":"MATCH($CW$3,Millwall!$AH$105:$AW$105,0)","v":{"$error":"#N/A"}},{"$f":"MATCH($CX$3,Millwall!$AH$105:$AW$105,0)","v":{"$error":"#N/A"}},{"$f":"MATCH($CY$3,Millwall!$AH$105:$AW$105,0)","v":{"$error":"#N/A"}},{"$f":"MATCH($CZ$3,Millwall!$AH$105:$AW$105,0)","v":{"$error":"#N/A"}},{"$f":"MATCH($DA$3,Millwall!$AH$105:$AW$105,0)","v":{"$error":"#N/A"}},{"$f":"MATCH($DB$3,Millwall!$AH$105:$AW$105,0)","v":{"$error":"#N/A"}},{"$f":"MATCH($DC$3,Millwall!$AH$105:$AW$105,0)","v":{"$error":"#N/A"}},{"$f":"MATCH($DD$3,Millwall!$AH$105:$AW$105,0)","v":{"$error":"#N/A"}},{"$f":"MATCH($DE$3,Millwall!$AH$105:$AW$105,0)","v":{"$error":"#N/A"}},{"$f":"MATCH($DF$3,Millwall!$AH$105:$AW$105,0)","v":{"$error":"#N/A"}},{"$f":"MATCH($DG$3,Millwall!$AH$105:$AW$105,0)","v":{"$error":"#N/A"}},{"$f":"MATCH($DH$3,Millwall!$AH$105:$AW$105,0)","v":{"$error":"#N/A"}},{"$f":"MATCH($DI$3,Millwall!$AH$105:$AW$105,0)","v":{"$error":"#N/A"}},{"$f":"MATCH($DJ$3,Millwall!$AH$105:$AW$105,0)","v":{"$error":"#N/A"}},{"$f":"MATCH($DK$3,Millwall!$AH$105:$AW$105,0)","v":{"$error":"#N/A"}},{"$f":"MATCH($DL$3,Millwall!$AH$105:$AW$105,0)","v":{"$error":"#N/A"}},{"$f":"MATCH($DM$3,Millwall!$AH$105:$AW$105,0)","v":{"$error":"#N/A"}},{"$f":"MATCH($DN$3,Millwall!$AH$105:$AW$105,0)","v":{"$error":"#N/A"}},{"$f":"MATCH($DO$3,Millwall!$AH$105:$AW$105,0)","v":{"$error":"#N/A"}},{"$f":"MATCH($DP$3,Millwall!$AH$105:$AW$105,0)","v":{"$error":"#N/A"}},{"$f":"MATCH($DQ$3,Millwall!$AH$105:$AW$105,0)","v":{"$error":"#N/A"}},{"$f":"MATCH($DR$3,Millwall!$AH$105:$AW$105,0)","v":{"$error":"#N/A"}},{"$f":"MATCH($DS$3,Millwall!$AH$105:$AW$105,0)","v":{"$error":"#N/A"}},{"$f":"MATCH($DT$3,Millwall!$AH$105:$AW$105,0)","v":{"$error":"#N/A"}},{"$f":"MATCH($DU$3,Millwall!$AH$105:$AW$105,0)","v":{"$error":"#N/A"}},{"$f":"MATCH($DV$3,Millwall!$AH$105:$AW$105,0)","v":{"$error":"#N/A"}},{"$f":"MATCH($DW$3,Millwall!$AH$105:$AW$105,0)","v":{"$error":"#N/A"}},{"$f":"MATCH($DX$3,Millwall!$AH$105:$AW$105,0)","v":{"$error":"#N/A"}},{"$f":"MATCH($DY$3,Millwall!$AH$105:$AW$105,0)","v":{"$error":"#N/A"}},{"$f":"MATCH($DZ$3,Millwall!$AH$105:$AW$105,0)","v":{"$error":"#N/A"}},{"$f":"MATCH($EA$3,Millwall!$AH$105:$AW$105,0)","v":{"$error":"#N/A"}},null,null,{"$f":"MATCH(ED$3,Millwall!$AH$105:$AW$105,0)","v":{"$error":"#N/A"}},{"$f":"MATCH(EE$3,Millwall!$AH$105:$AW$105,0)","v":{"$error":"#N/A"}},{"$f":"MATCH(EF$3,Millwall!$AH$105:$AW$105,0)","v":{"$error":"#N/A"}},{"$f":"MATCH(EG$3,Millwall!$AH$105:$AW$105,0)","v":{"$error":"#N/A"}},{"$f":"MATCH(EH$3,Millwall!$AH$105:$AW$105,0)","v":{"$error":"#N/A"}},{"$f":"MATCH(EI$3,Millwall!$AH$105:$AW$105,0)","v":{"$error":"#N/A"}},{"$f":"MATCH(EJ$3,Millwall!$AH$105:$AW$105,0)","v":{"$error":"#N/A"}},{"$f":"MATCH(EK$3,Millwall!$AH$105:$AW$105,0)","v":{"$error":"#N/A"}},{"$f":"MATCH(EL$3,Millwall!$AH$105:$AW$105,0)","v":{"$error":"#N/A"}},{"$f":"MATCH(EM$3,Millwall!$AH$105:$AW$105,0)","v":{"$error":"#N/A"}},{"$f":"MATCH(EN$3,Millwall!$AH$105:$AW$105,0)","v":{"$error":"#N/A"}},{"$f":"MATCH(EO$3,Millwall!$AH$105:$AW$105,0)","v":{"$error":"#N/A"}},{"$f":"MATCH(EP$3,Millwall!$AH$105:$AW$105,0)","v":{"$error":"#N/A"}},{"$f":"MATCH(EQ$3,Millwall!$AH$105:$AW$105,0)","v":{"$error":"#N/A"}},{"$f":"MATCH(ER$3,Millwall!$AH$105:$AW$105,0)","v":{"$error":"#N/A"}},{"$f":"MATCH(ES$3,Millwall!$AH$105:$AW$105,0)","v":{"$error":"#N/A"}},{"$f":"MATCH(ET$3,Millwall!$AH$105:$AW$105,0)","v":{"$error":"#N/A"}},{"$f":"MATCH(EU$3,Millwall!$AH$105:$AW$105,0)","v":{"$error":"#N/A"}},{"$f":"MATCH(EV$3,Millwall!$AH$105:$AW$105,0)","v":{"$error":"#N/A"}},{"$f":"MATCH(EW$3,Millwall!$AH$105:$AW$105,0)","v":{"$error":"#N/A"}},{"$f":"MATCH(EX$3,Millwall!$AH$105:$AW$105,0)","v":{"$error":"#N/A"}},{"$f":"MATCH(EY$3,Millwall!$AH$105:$AW$105,0)","v":{"$error":"#N/A"}},{"$f":"MATCH(EZ$3,Millwall!$AH$105:$AW$105,0)","v":{"$error":"#N/A"}},{"$f":"MATCH(FA$3,Millwall!$AH$105:$AW$105,0)","v":{"$error":"#N/A"}},{"$f":"MATCH(FB$3,Millwall!$AH$105:$AW$105,0)","v":{"$error":"#N/A"}},{"$f":"MATCH(FC$3,Millwall!$AH$105:$AW$105,0)","v":{"$error":"#N/A"}},{"$f":"MATCH(FD$3,Millwall!$AH$105:$AW$105,0)","v":{"$error":"#N/A"}},{"$f":"MATCH(FE$3,Millwall!$AH$105:$AW$105,0)","v":{"$error":"#N/A"}},{"$f":"MATCH(FF$3,Millwall!$AH$105:$AW$105,0)","v":{"$error":"#N/A"}},{"$f":"MATCH(FG$3,Millwall!$AH$105:$AW$105,0)","v":{"$error":"#N/A"}},{"$f":"MATCH(FH$3,Millwall!$AH$105:$AW$105,0)","v":{"$error":"#N/A"}},{"$f":"MATCH(FI$3,Millwall!$AH$105:$AW$105,0)","v":{"$error":"#N/A"}},{"$f":"MATCH(FJ$3,Millwall!$AH$105:$AW$105,0)","v":{"$error":"#N/A"}},{"$f":"MATCH(FK$3,Millwall!$AH$105:$AW$105,0)","v":{"$error":"#N/A"}},{"$f":"MATCH(FL$3,Millwall!$AH$105:$AW$105,0)","v":{"$error":"#N/A"}},{"$f":"MATCH(FM$3,Millwall!$AH$105:$AW$105,0)","v":{"$error":"#N/A"}},{"$f":"MATCH(FN$3,Millwall!$AH$105:$AW$105,0)","v":{"$error":"#N/A"}},{"$f":"MATCH(FO$3,Millwall!$AH$105:$AW$105,0)","v":{"$error":"#N/A"}},null,null,null,null,null,null,{"$f":"$FX$35&\" {**\"","v":"Sinclair {**"},{"$f":"$FX$35&\" [**\"","v":"Sinclair [**"},{"$f":"Millwall!$BY90","v":"Sinclair"},"Sinclair (**",{"$f":"$FX$35&\"**\"","v":"Sinclair**"},null,{"$f":"$FX$35","v":"Sinclair"},{"$f":"$FY$35","v":"Sinclair (**"},{"$f":"$FZ$35","v":"Sinclair**"},null,{"$f":"Millwall!CC36","v":0},{"$f":"Millwall!CH36","v":0},{"$f":"Millwall!CR36","v":0},{"$f":"Millwall!CW36","v":0}]
[null,null,0,32,null,{"$f":"Millwall!AD106","v":"1997-02-22"},null,{"$f":"Millwall!AE106","v":"Shrewsbury"},{"$f":"Millwall!AF106","v":"(A)"},{"$f":"Millwall!AG106","v":"D 1-1"},{"$f":"MATCH($K$4,Millwall!$AH$106:$AW$106,0)","v":{"$error":"#N/A"}},{"$f":"MATCH($L$4,Millwall!$AH$106:$AW$106,0)","v":3},{"$f":"MATCH($M$4,Millwall!$AH$106:$AW$106,0)","v":12},{"$f":"MATCH($N$4,Millwall!$AH$106:$AW$106,0)","v":{"$error":"#N/A"}},{"$f":"MATCH($O$4,Millwall!$AH$106:$AW$106,0)","v":{"$error":"#N/A"}},{"$f":"MATCH($P$4,Millwall!$AH$106:$AW$106,0)","v":10},{"$f":"MATCH($Q$4,Millwall!$AH$106:$AW$106,0)","v":{"$error":"#N/A"}},{"$f":"MATCH($R$4,Millwall!$AH$106:$AW$106,0)","v":1},{"$f":"MATCH($S$4,Millwall!$AH$106:$AW$106,0)","v":9},{"$f":"MATCH($T$4,Millwall!$AH$106:$AW$106,0)","v":{"$error":"#N/A"}},{"$f":"MATCH($U$4,Millwall!$AH$106:$AW$106,0)","v":{"$error":"#N/A"}},{"$f":"MATCH($V$4,Millwall!$AH$106:$AW$106,0)","v":13},{"$f":"MATCH($W$4,Millwall!$AH$106:$AW$106,0)","v":{"$error":"#N/A"}},{"$f":"MATCH($X$4,Millwall!$AH$106:$AW$106,0)","v":14},{"$f":"MATCH($Y$4,Millwall!$AH$106:$AW$106,0)","v":{"$error":"#N/A"}},{"$f":"MATCH($Z$4,Millwall!$AH$106:$AW$106,0)","v":7},{"$f":"MATCH($AA$4,Millwall!$AH$106:$AW$106,0)","v":{"$error":"#N/A"}},{"$f":"MATCH($AB$4,Millwall!$AH$106:$AW$106,0)","v":{"$error":"#N/A"}},{"$f":"MATCH($AC$4,Millwall!$AH$106:$AW$106,0)","v":{"$error":"#N/A"}},{"$f":"MATCH($AD$4,Millwall!$AH$106:$AW$106,0)","v":{"$error":"#N/A"}},{"$f":"MATCH($AE$4,Millwall!$AH$106:$AW$106,0)","v":{"$error":"#N/A"}},{"$f":"MATCH($AF$4,Millwall!$AH$106:$AW$106,0)","v":5},{"$f":"MATCH($AG$4,Millwall!$AH$106:$AW$106,0)","v":11},{"$f":"MATCH($AH$4,Millwall!$AH$106:$AW$106,0)","v":2},{"$f":"MATCH($AI$4,Millwall!$AH$106:$AW$106,0)","v":4},{"$f":"MATCH($AJ$4,Millwall!$AH$106:$AW$106,0)","v":{"$error":"#N/A"}},{"$f":"MATCH($AK$4,Millwall!$AH$106:$AW$106,0)","v":{"$error":"#N/A"}},{"$f":"MATCH($AL$4,Millwall!$AH$106:$AW$106,0)","v":{"$error":"#N/A"}},{"$f":"MATCH($AM$4,Millwall!$AH$106:$AW$106,0)","v":{"$error":"#N/A"}},{"$f":"MATCH($AN$4,Millwall!$AH$106:$AW$106,0)","v":8},{"$f":"MATCH($AO$4,Millwall!$AH$106:$AW$106,0)","v":{"$error":"#N/A"}},{"$f":"MATCH($AP$4,Millwall!$AH$106:$AW$106,0)","v":{"$error":"#N/A"}},{"$f":"MATCH($AQ$4,Millwall!$AH$106:$AW$106,0)","v":{"$error":"#N/A"}},{"$f":"MATCH($AR$4,Millwall!$AH$106:$AW$106,0)","v":{"$error":"#N/A"}},{"$f":"MATCH($AS$4,Millwall!$AH$106:$AW$106,0)","v":{"$error":"#N/A"}},{"$f":"MATCH($AT$4,Millwall!$AH$106:$AW$106,0)","v":6},{"$f":"MATCH($AU$4,Millwall!$AH$106:$AW$106,0)","v":{"$error":"#N/A"}},{"$f":"MATCH($AV$4,Millwall!$AH$106:$AW$106,0)","v":{"$error":"#N/A"}},null,null,null,null,null,{"$f":"MATCH(BB$3,Millwall!$AH106:$AW106,0)","v":{"$error":"#N/A"}},{"$f":"MATCH(BC$3,Millwall!$AH106:$AW106,0)","v":{"$error":"#N/A"}},{"$f":"MATCH(BD$3,Millwall!$AH106:$AW106,0)","v":{"$error":"#N/A"}},{"$f":"MATCH(BE$3,Millwall!$AH106:$AW106,0)","v":{"$error":"#N/A"}},{"$f":"MATCH(BF$3,Millwall!$AH106:$AW106,0)","v":{"$error":"#N/A"}},{"$f":"MATCH(BG$3,Millwall!$AH106:$AW106,0)","v":{"$error":"#N/A"}},{"$f":"MATCH(BH$3,Millwall!$AH106:$AW106,0)","v":{"$error":"#N/A"}},{"$f":"MATCH(BI$3,Millwall!$AH106:$AW106,0)","v":{"$error":"#N/A"}},{"$f":"MATCH(BJ$3,Millwall!$AH106:$AW106,0)","v":{"$error":"#N/A"}},{"$f":"MATCH(BK$3,Millwall!$AH106:$AW106,0)","v":{"$error":"#N/A"}},{"$f":"MATCH(BL$3,Millwall!$AH106:$AW106,0)","v":{"$error":"#N/A"}},{"$f":"MATCH(BM$3,Millwall!$AH106:$AW106,0)","v":{"$error":"#N/A"}},{"$f":"MATCH(BN$3,Millwall!$AH106:$AW106,0)","v":{"$error":"#N/A"}},{"$f":"MATCH(BO$3,Millwall!$AH106:$AW106,0)","v":{"$error":"#N/A"}},{"$f":"MATCH(BP$3,Millwall!$AH106:$AW106,0)","v":{"$error":"#N/A"}},{"$f":"MATCH(BQ$3,Millwall!$AH106:$AW106,0)","v":{"$error":"#N/A"}},{"$f":"MATCH(BR$3,Millwall!$AH106:$AW106,0)","v":{"$error":"#N/A"}},{"$f":"MATCH(BS$3,Millwall!$AH106:$AW106,0)","v":{"$error":"#N/A"}},{"$f":"MATCH(BT$3,Millwall!$AH106:$AW106,0)","v":{"$error":"#N/A"}},{"$f":"MATCH(BU$3,Millwall!$AH106:$AW106,0)","v":{"$error":"#N/A"}},{"$f":"MATCH(BV$3,Millwall!$AH106:$AW106,0)","v":{"$error":"#N/A"}},{"$f":"MATCH(BW$3,Millwall!$AH106:$AW106,0)","v":{"$error":"#N/A"}},{"$f":"MATCH(BX$3,Millwall!$AH106:$AW106,0)","v":{"$error":"#N/A"}},{"$f":"MATCH(BY$3,Millwall!$AH106:$AW106,0)","v":{"$error":"#N/A"}},{"$f":"MATCH(BZ$3,Millwall!$AH106:$AW106,0)","v":{"$error":"#N/A"}},{"$f":"MATCH(CA$3,Millwall!$AH106:$AW106,0)","v":{"$error":"#N/A"}},{"$f":"MATCH(CB$3,Millwall!$AH106:$AW106,0)","v":{"$error":"#N/A"}},{"$f":"MATCH(CC$3,Millwall!$AH106:$AW106,0)","v":{"$error":"#N/A"}},{"$f":"MATCH(CD$3,Millwall!$AH106:$AW106,0)","v":{"$error":"#N/A"}},{"$f":"MATCH(CE$3,Millwall!$AH106:$AW106,0)","v":{"$error":"#N/A"}},{"$f":"MATCH(CF$3,Millwall!$AH106:$AW106,0)","v":{"$error":"#N/A"}},{"$f":"MATCH(CG$3,Millwall!$AH106:$AW106,0)","v":{"$error":"#N/A"}},{"$f":"MATCH(CH$3,Millwall!$AH106:$AW106,0)","v":{"$error":"#N/A"}},{"$f":"MATCH(CI$3,Millwall!$AH106:$AW106,0)","v":{"$error":"#N/A"}},{"$f":"MATCH(CJ$3,Millwall!$AH106:$AW106,0)","v":{"$error":"#N/A"}},{"$f":"MATCH(CK$3,Millwall!$AH106:$AW106,0)","v":{"$error":"#N/A"}},{"$f":"MATCH(CL$3,Millwall!$AH106:$AW106,0)","v":{"$error":"#N/A"}},{"$f":"MATCH(CM$3,Millwall!$AH106:$AW106,0)","v":{"$error":"#N/A"}},null,null,{"$f":"MATCH($CP$3,Millwall!$AH$106:$AW$106,0)","v":{"$error":"#N/A"}},{"$f":"MATCH($CQ$3,Millwall!$AH$106:$AW$106,0)","v":{"$error":"#N/A"}},{"$f":"MATCH($CR$3,Millwall!$AH$106:$AW$106,0)","v":{"$error":"#N/A"}},{"$f":"MATCH($CS$3,Millwall!$AH$106:$AW$106,0)","v":{"$error":"#N/A"}},{"$f":"MATCH($CT$3,Millwall!$AH$106:$AW$106,0)","v":{"$error":"#N/A"}},{"$f":"MATCH($CU$3,Millwall!$AH$106:$AW$106,0)","v":{"$error":"#N/A"}},{"$f":"MATCH($CV$3,Millwall!$AH$106:$AW$106,0)","v":{"$error":"#N/A"}},{"$f":"MATCH($CW$3,Millwall!$AH$106:$AW$106,0)","v":{"$error":"#N/A"}},{"$f":"MATCH($CX$3,Millwall!$AH$106:$AW$106,0)","v":{"$error":"#N/A"}},{"$f":"MATCH($CY$3,Millwall!$AH$106:$AW$106,0)","v":{"$error":"#N/A"}},{"$f":"MATCH($CZ$3,Millwall!$AH$106:$AW$106,0)","v":{"$error":"#N/A"}},{"$f":"MATCH($DA$3,Millwall!$AH$106:$AW$106,0)","v":13},{"$f":"MATCH($DB$3,Millwall!$AH$106:$AW$106,0)","v":{"$error":"#N/A"}},{"$f":"MATCH($DC$3,Millwall!$AH$106:$AW$106,0)","v":{"$error":"#N/A"}},{"$f":"MATCH($DD$3,Millwall!$AH$106:$AW$106,0)","v":{"$error":"#N/A"}},{"$f":"MATCH($DE$3,Millwall!$AH$106:$AW$106,0)","v":{"$error":"#N/A"}},{"$f":"MATCH($DF$3,Millwall!$AH$106:$AW$106,0)","v":{"$error":"#N/A"}},{"$f":"MATCH($DG$3,Millwall!$AH$106:$AW$106,0)","v":{"$error":"#N/A"}},{"$f":"MATCH($DH$3,Millwall!$AH$106:$AW$106,0)","v":{"$error":"#N/A"}},{"$f":"MATCH($DI$3,Millwall!$AH$106:$AW$106,0)","v":{"$error":"#N/A"}},{"$f":"MATCH($DJ$3,Millwall!$AH$106:$AW$106,0)","v":{"$error":"#N/A"}},{"$f":"MATCH($DK$3,Millwall!$AH$106:$AW$106,0)","v":{"$error":"#N/A"}},{"$f":"MATCH($DL$3,Millwall!$AH$106:$AW$106,0)","v":{"$error":"#N/A"}},{"$f":"MATCH($DM$3,Millwall!$AH$106:$AW$106,0)","v":{"$error":"#N/A"}},{"$f":"MATCH($DN$3,Millwall!$AH$106:$AW$106,0)","v":{"$error":"#N/A"}},{"$f":"MATCH($DO$3,Millwall!$AH$106:$AW$106,0)","v":{"$error":"#N/A"}},{"$f":"MATCH($DP$3,Millwall!$AH$106:$AW$106,0)","v":{"$error":"#N/A"}},{"$f":"MATCH($DQ$3,Millwall!$AH$106:$AW$106,0)","v":{"$error":"#N/A"}},{"$f":"MATCH($DR$3,Millwall!$AH$106:$AW$106,0)","v":{"$error":"#N/A"}},{"$f":"MATCH($DS$3,Millwall!$AH$106:$AW$106,0)","v":8},{"$f":"MATCH($DT$3,Millwall!$AH$106:$AW$106,0)","v":{"$error":"#N/A"}},{"$f":"MATCH($DU$3,Millwall!$AH$106:$AW$106,0)","v":{"$error":"#N/A"}},{"$f":"MATCH($DV$3,Millwall!$AH$106:$AW$106,0)","v":{"$error":"#N/A"}},{"$f":"MATCH($DW$3,Millwall!$AH$106:$AW$106,0)","v":{"$error":"#N/A"}},{"$f":"MATCH($DX$3,Millwall!$AH$106:$AW$106,0)","v":{"$error":"#N/A"}},{"$f":"MATCH($DY$3,Millwall!$AH$106:$AW$106,0)","v":{"$error":"#N/A"}},{"$f":"MATCH($DZ$3,Millwall!$AH$106:$AW$106,0)","v":{"$error":"#N/A"}},{"$f":"MATCH($EA$3,Millwall!$AH$106:$AW$106,0)","v":{"$error":"#N/A"}},null,null,{"$f":"MATCH(ED$3,Millwall!$AH$106:$AW$106,0)","v":{"$error":"#N/A"}},{"$f":"MATCH(EE$3,Millwall!$AH$106:$AW$106,0)","v":{"$error":"#N/A"}},{"$f":"MATCH(EF$3,Millwall!$AH$106:$AW$106,0)","v":{"$error":"#N/A"}},{"$f":"MATCH(EG$3,Millwall!$AH$106:$AW$106,0)","v":{"$error":"#N/A"}},{"$f":"MATCH(EH$3,Millwall!$AH$106:$AW$106,0)","v":{"$error":"#N/A"}},{"$f":"MATCH(EI$3,Millwall!$AH$106:$AW$106,0)","v":{"$error":"#N/A"}},{"$f":"MATCH(EJ$3,Millwall!$AH$106:$AW$106,0)","v":{"$error":"#N/A"}},{"$f":"MATCH(EK$3,Millwall!$AH$106:$AW$106,0)","v":{"$error":"#N/A"}},{"$f":"MATCH(EL$3,Millwall!$AH$106:$AW$106,0)","v":{"$error":"#N/A"}},{"$f":"MATCH(EM$3,Millwall!$AH$106:$AW$106,0)","v":{"$error":"#N/A"}},{"$f":"MATCH(EN$3,Millwall!$AH$106:$AW$106,0)","v":{"$error":"#N/A"}},{"$f":"MATCH(EO$3,Millwall!$AH$106:$AW$106,0)","v":{"$error":"#N/A"}},{"$f":"MATCH(EP$3,Millwall!$AH$106:$AW$106,0)","v":{"$error":"#N/A"}},{"$f":"MATCH(EQ$3,Millwall!$AH$106:$AW$106,0)","v":{"$error":"#N/A"}},{"$f":"MATCH(ER$3,Millwall!$AH$106:$AW$106,0)","v":{"$error":"#N/A"}},{"$f":"MATCH(ES$3,Millwall!$AH$106:$AW$106,0)","v":{"$error":"#N/A"}},{"$f":"MATCH(ET$3,Millwall!$AH$106:$AW$106,0)","v":{"$error":"#N/A"}},{"$f":"MATCH(EU$3,Millwall!$AH$106:$AW$106,0)","v":{"$error":"#N/A"}},{"$f":"MATCH(EV$3,Millwall!$AH$106:$AW$106,0)","v":{"$error":"#N/A"}},{"$f":"MATCH(EW$3,Millwall!$AH$106:$AW$106,0)","v":{"$error":"#N/A"}},{"$f":"MATCH(EX$3,Millwall!$AH$106:$AW$106,0)","v":{"$error":"#N/A"}},{"$f":"MATCH(EY$3,Millwall!$AH$106:$AW$106,0)","v":{"$error":"#N/A"}},{"$f":"MATCH(EZ$3,Millwall!$AH$106:$AW$106,0)","v":{"$error":"#N/A"}},{"$f":"MATCH(FA$3,Millwall!$AH$106:$AW$106,0)","v":{"$error":"#N/A"}},{"$f":"MATCH(FB$3,Millwall!$AH$106:$AW$106,0)","v":{"$error":"#N/A"}},{"$f":"MATCH(FC$3,Millwall!$AH$106:$AW$106,0)","v":{"$error":"#N/A"}},{"$f":"MATCH(FD$3,Millwall!$AH$106:$AW$106,0)","v":{"$error":"#N/A"}},{"$f":"MATCH(FE$3,Millwall!$AH$106:$AW$106,0)","v":{"$error":"#N/A"}},{"$f":"MATCH(FF$3,Millwall!$AH$106:$AW$106,0)","v":{"$error":"#N/A"}},{"$f":"MATCH(FG$3,Millwall!$AH$106:$AW$106,0)","v":{"$error":"#N/A"}},{"$f":"MATCH(FH$3,Millwall!$AH$106:$AW$106,0)","v":{"$error":"#N/A"}},{"$f":"MATCH(FI$3,Millwall!$AH$106:$AW$106,0)","v":{"$error":"#N/A"}},{"$f":"MATCH(FJ$3,Millwall!$AH$106:$AW$106,0)","v":{"$error":"#N/A"}},{"$f":"MATCH(FK$3,Millwall!$AH$106:$AW$106,0)","v":{"$error":"#N/A"}},{"$f":"MATCH(FL$3,Millwall!$AH$106:$AW$106,0)","v":{"$error":"#N/A"}},{"$f":"MATCH(FM$3,Millwall!$AH$106:$AW$106,0)","v":{"$error":"#N/A"}},{"$f":"MATCH(FN$3,Millwall!$AH$106:$AW$106,0)","v":{"$error":"#N/A"}},{"$f":"MATCH(FO$3,Millwall!$AH$106:$AW$106,0)","v":{"$error":"#N/A"}},null,null,null,null,null,null,{"$f":"$FX$36&\" {**\"","v":"Stevens {**"},{"$f":"$FX$36&\" [**\"","v":"Stevens [**"},{"$f":"Millwall!$BY91","v":"Stevens"},"Stevens (**",{"$f":"$FX$36&\"**\"","v":"Stevens**"},null,{"$f":"$FX$36","v":"Stevens"},{"$f":"$FY$36","v":"Stevens (**"},{"$f":"$FZ$36","v":"Stevens**"},null,{"$f":"Millwall!CC37","v":0},{"$f":"Millwall!CH37","v":0},{"$f":"Millwall!CR37","v":0},{"$f":"Millwall!CW37","v":0}]
[null,null,0,33,null,{"$f":"Millwall!AD107","v":"1997-02-25"},null,{"$f":"Millwall!AE107","v":"Notts Co"},{"$f":"Millwall!AF107","v":"(H)"},{"$f":"Millwall!AG107","v":"W 1-0"},{"$f":"MATCH($K$4,Millwall!$AH$107:$AW$107,0)","v":{"$error":"#N/A"}},{"$f":"MATCH($L$4,Millwall!$AH$107:$AW$107,0)","v":3},{"$f":"MATCH($M$4,Millwall!$AH$107:$AW$107,0)","v":{"$error":"#N/A"}},{"$f":"MATCH($N$4,Millwall!$AH$107:$AW$107,0)","v":{"$error":"#N/A"}},{"$f":"MATCH($O$4,Millwall!$AH$107:$AW$107,0)","v":{"$error":"#N/A"}},{"$f":"MATCH($P$4,Millwall!$AH$107:$AW$107,0)","v":10},{"$f":"MATCH($Q$4,Millwall!$AH$107:$AW$107,0)","v":{"$error":"#N/A"}},{"$f":"MATCH($R$4,Millwall!$AH$107:$AW$107,0)","v":1},{"$f":"MATCH($S$4,Millwall!$AH$107:$AW$107,0)","v":9},{"$f":"MATCH($T$4,Millwall!$AH$107:$AW$107,0)","v":{"$error":"#N/A"}},{"$f":"MATCH($U$4,Millwall!$AH$107:$AW$107,0)","v":12},{"$f":"MATCH($V$4,Millwall!$AH$107:$AW$107,0)","v":13},{"$f":"MATCH($W$4,Millwall!$AH$107:$AW$107,0)","v":{"$error":"#N/A"}},{"$f":"MATCH($X$4,Millwall!$AH$107:$AW$107,0)","v":14},{"$f":"MATCH($Y$4,Millwall!$AH$107:$AW$107,0)","v":{"$error":"#N/A"}},{"$f":"MATCH($Z$4,Millwall!$AH$107:$AW$107,0)","v":7},{"$f":"MATCH($AA$4,Millwall!$AH$107:$AW$107,0)","v":{"$error":"#N/A"}},{"$f":"MATCH($AB$4,Millwall!$AH$107:$AW$107,0)","v":{"$error":"#N/A"}},{"$f":"MATCH($AC$4,Millwall!$AH$107:$AW$107,0)","v":{"$error":"#N/A"}},{"$f":"MATCH($AD$4,Millwall!$AH$107:$AW$107,0)","v":{"$error":"#N/A"}},{"$f":"MATCH($AE$4,Millwall!$AH$107:$AW$107,0)","v":{"$error":"#N/A"}},{"$f":"MATCH($AF$4,Millwall!$AH$107:$AW$107,0)","v":5},{"$f":"MATCH($AG$4,Millwall!$AH$107:$AW$107,0)","v":11},{"$f":"MATCH($AH$4,Millwall!$AH$107:$AW$107,0)","v":2},{"$f":"MATCH($AI$4,Millwall!$AH$107:$AW$107,0)","v":4},{"$f":"MATCH($AJ$4,Millwall!$AH$107:$AW$107,0)","v":{"$error":"#N/A"}},{"$f":"MATCH($AK$4,Millwall!$AH$107:$AW$107,0)","v":{"$error":"#N/A"}},{"$f":"MATCH($AL$4,Millwall!$AH$107:$AW$107,0)","v":{"$error":"#N/A"}},{"$f":"MATCH($AM$4,Millwall!$AH$107:$AW$107,0)","v":{"$error":"#N/A"}},{"$f":"MATCH($AN$4,Millwall!$AH$107:$AW$107,0)","v":8},{"$f":"MATCH($AO$4,Millwall!$AH$107:$AW$107,0)","v":{"$error":"#N/A"}},{"$f":"MATCH($AP$4,Millwall!$AH$107:$AW$107,0)","v":{"$error":"#N/A"}},{"$f":"MATCH($AQ$4,Millwall!$AH$107:$AW$107,0)","v":{"$error":"#N/A"}},{"$f":"MATCH($AR$4,Millwall!$AH$107:$AW$107,0)","v":{"$error":"#N/A"}},{"$f":"MATCH($AS$4,Millwall!$AH$107:$AW$107,0)","v":{"$error":"#N/A"}},{"$f":"MATCH($AT$4,Millwall!$AH$107:$AW$107,0)","v":6},{"$f":"MATCH($AU$4,Millwall!$AH$107:$AW$107,0)","v":{"$error":"#N/A"}},{"$f":"MATCH($AV$4,Millwall!$AH$107:$AW$107,0)","v":{"$error":"#N/A"}},null,null,null,null,null,{"$f":"MATCH(BB$3,Millwall!$AH107:$AW107,0)","v":{"$error":"#N/A"}},{"$f":"MATCH(BC$3,Millwall!$AH107:$AW107,0)","v":{"$error":"#N/A"}},{"$f":"MATCH(BD$3,Millwall!$AH107:$AW107,0)","v":{"$error":"#N/A"}},{"$f":"MATCH(BE$3,Millwall!$AH107:$AW107,0)","v":{"$error":"#N/A"}},{"$f":"MATCH(BF$3,Millwall!$AH107:$AW107,0)","v":{"$error":"#N/A"}},{"$f":"MATCH(BG$3,Millwall!$AH107:$AW107,0)","v":{"$error":"#N/A"}},{"$f":"MATCH(BH$3,Millwall!$AH107:$AW107,0)","v":{"$error":"#N/A"}},{"$f":"MATCH(BI$3,Millwall!$AH107:$AW107,0)","v":{"$error":"#N/A"}},{"$f":"MATCH(BJ$3,Millwall!$AH107:$AW107,0)","v":{"$error":"#N/A"}},{"$f":"MATCH(BK$3,Millwall!$AH107:$AW107,0)","v":{"$error":"#N/A"}},{"$f":"MATCH(BL$3,Millwall!$AH107:$AW107,0)","v":12},{"$f":"MATCH(BM$3,Millwall!$AH107:$AW107,0)","v":{"$error":"#N/A"}},{"$f":"MATCH(BN$3,Millwall!$AH107:$AW107,0)","v":{"$error":"#N/A"}},{"$f":"MATCH(BO$3,Millwall!$AH107:$AW107,0)","v":{"$error":"#N/A"}},{"$f":"MATCH(BP$3,Millwall!$AH107:$AW107,0)","v":{"$error":"#N/A"}},{"$f":"MATCH(BQ$3,Millwall!$AH107:$AW107,0)","v":{"$error":"#N/A"}},{"$f":"MATCH(BR$3,Millwall!$AH107:$AW107,0)","v":{"$error":"#N/A"}},{"$f":"MATCH(BS$3,Millwall!$AH107:$AW107,0)","v":{"$error":"#N/A"}},{"$f":"MATCH(BT$3,Millwall!$AH107:$AW107,0)","v":{"$error":"#N/A"}},{"$f":"MATCH(BU$3,Millwall!$AH107:$AW107,0)","v":{"$error":"#N/A"}},{"$f":"MATCH(BV$3,Millwall!$AH107:$AW107,0)","v":{"$error":"#N/A"}},{"$f":"MATCH(BW$3,Millwall!$AH107:$AW107,0)","v":{"$error":"#N/A"}},{"$f":"MATCH(BX$3,Millwall!$AH107:$AW107,0)","v":11},{"$f":"MATCH(BY$3,Millwall!$AH107:$AW107,0)","v":{"$error":"#N/A"}},{"$f":"MATCH(BZ$3,Millwall!$AH107:$AW107,0)","v":{"$error":"#N/A"}},{"$f":"MATCH(CA$3,Millwall!$AH107:$AW107,0)","v":{"$error":"#N/A"}},{"$f":"MATCH(CB$3,Millwall!$AH107:$AW107,0)","v":{"$error":"#N/A"}},{"$f":"MATCH(CC$3,Millwall!$AH107:$AW107,0)","v":{"$error":"#N/A"}},{"$f":"MATCH(CD$3,Millwall!$AH107:$AW107,0)","v":{"$error":"#N/A"}},{"$f":"MATCH(CE$3,Millwall!$AH107:$AW107,0)","v":{"$error":"#N/A"}},{"$f":"MATCH(CF$3,Millwall!$AH107:$AW107,0)","v":{"$error":"#N/A"}},{"$f":"MATCH(CG$3,Millwall!$AH107:$AW107,0)","v":{"$error":"#N/A"}},{"$f":"MATCH(CH$3,Millwall!$AH107:$AW107,0)","v":{"$error":"#N/A"}},{"$f":"MATCH(CI$3,Millwall!$AH107:$AW107,0)","v":{"$error":"#N/A"}},{"$f":"MATCH(CJ$3,Millwall!$AH107:$AW107,0)","v":{"$error":"#N/A"}},{"$f":"MATCH(CK$3,Millwall!$AH107:$AW107,0)","v":{"$error":"#N/A"}},{"$f":"MATCH(CL$3,Millwall!$AH107:$AW107,0)","v":{"$error":"#N/A"}},{"$f":"MATCH(CM$3,Millwall!$AH107:$AW107,0)","v":{"$error":"#N/A"}},null,null,{"$f":"MATCH($CP$3,Millwall!$AH$107:$AW$107,0)","v":{"$error":"#N/A"}},{"$f":"MATCH($CQ$3,Millwall!$AH$107:$AW$107,0)","v":{"$error":"#N/A"}},{"$f":"MATCH($CR$3,Millwall!$AH$107:$AW$107,0)","v":{"$error":"#N/A"}},{"$f":"MATCH($CS$3,Millwall!$AH$107:$AW$107,0)","v":{"$error":"#N/A"}},{"$f":"MATCH($CT$3,Millwall!$AH$107:$AW$107,0)","v":{"$error":"#N/A"}},{"$f":"MATCH($CU$3,Millwall!$AH$107:$AW$107,0)","v":{"$error":"#N/A"}},{"$f":"MATCH($CV$3,Millwall!$AH$107:$AW$107,0)","v":{"$error":"#N/A"}},{"$f":"MATCH($CW$3,Millwall!$AH$107:$AW$107,0)","v":{"$error":"#N/A"}},{"$f":"MATCH($CX$3,Millwall!$AH$107:$AW$107,0)","v":{"$error":"#N/A"}},{"$f":"MATCH($CY$3,Millwall!$AH$107:$AW$107,0)","v":{"$error":"#N/A"}},{"$f":"MATCH($CZ$3,Millwall!$AH$107:$AW$107,0)","v":{"$error":"#N/A"}},{"$f":"MATCH($DA$3,Millwall!$AH$107:$AW$107,0)","v":13},{"$f":"MATCH($DB$3,Millwall!$AH$107:$AW$107,0)","v":{"$error":"#N/A"}},{"$f":"MATCH($DC$3,Millwall!$AH$107:$AW$107,0)","v":{"$error":"#N/A"}},{"$f":"MATCH($DD$3,Millwall!$AH$107:$AW$107,0)","v":{"$error":"#N/A"}},{"$f":"MATCH($DE$3,Millwall!$AH$107:$AW$107,0)","v":{"$error":"#N/A"}},{"$f":"MATCH($DF$3,Millwall!$AH$107:$AW$107,0)","v":{"$error":"#N/A"}},{"$f":"MATCH($DG$3,Millwall!$AH$107:$AW$107,0)","v":{"$error":"#N/A"}},{"$f":"MATCH($DH$3,Millwall!$AH$107:$AW$107,0)","v":{"$error":"#N/A"}},{"$f":"MATCH($DI$3,Millwall!$AH$107:$AW$107,0)","v":{"$error":"#N/A"}},{"$f":"MATCH($DJ$3,Millwall!$AH$107:$AW$107,0)","v":{"$error":"#N/A"}},{"$f":"MATCH($DK$3,Millwall!$AH$107:$AW$107,0)","v":{"$error":"#N/A"}},{"$f":"MATCH($DL$3,Millwall!$AH$107:$AW$107,0)","v":{"$error":"#N/A"}},{"$f":"MATCH($DM$3,Millwall!$AH$107:$AW$107,0)","v":{"$error":"#N/A"}},{"$f":"MATCH($DN$3,Millwall!$AH$107:$AW$107,0)","v":{"$error":"#N/A"}},{"$f":"MATCH($DO$3,Millwall!$AH$107:$AW$107,0)","v":{"$error":"#N/A"}},{"$f":"MATCH($DP$3,Millwall!$AH$107:$AW$107,0)","v":{"$error":"#N/A"}},{"$f":"MATCH($DQ$3,Millwall!$AH$107:$AW$107,0)","v":{"$error":"#N/A"}},{"$f":"MATCH($DR$3,Millwall!$AH$107:$AW$107,0)","v":{"$error":"#N/A"}},{"$f":"MATCH($DS$3,Millwall!$AH$107:$AW$107,0)","v":8},{"$f":"MATCH($DT$3,Millwall!$AH$107:$AW$107,0)","v":{"$error":"#N/A"}},{"$f":"MATCH($DU$3,Millwall!$AH$107:$AW$107,0)","v":{"$error":"#N/A"}},{"$f":"MATCH($DV$3,Millwall!$AH$107:$AW$107,0)","v":{"$error":"#N/A"}},{"$f":"MATCH($DW$3,Millwall!$AH$107:$AW$107,0)","v":{"$error":"#N/A"}},{"$f":"MATCH($DX$3,Millwall!$AH$107:$AW$107,0)","v":{"$error":"#N/A"}},{"$f":"MATCH($DY$3,Millwall!$AH$107:$AW$107,0)","v":{"$error":"#N/A"}},{"$f":"MATCH($DZ$3,Millwall!$AH$107:$AW$107,0)","v":{"$error":"#N/A"}},{"$f":"MATCH($EA$3,Millwall!$AH$107:$AW$107,0)","v":{"$error":"#N/A"}},null,null,{"$f":"MATCH(ED$3,Millwall!$AH$107:$AW$107,0)","v":{"$error":"#N/A"}},{"$f":"MATCH(EE$3,Millwall!$AH$107:$AW$107,0)","v":{"$error":"#N/A"}},{"$f":"MATCH(EF$3,Millwall!$AH$107:$AW$107,0)","v":{"$error":"#N/A"}},{"$f":"MATCH(EG$3,Millwall!$AH$107:$AW$107,0)","v":{"$error":"#N/A"}},{"$f":"MATCH(EH$3,Millwall!$AH$107:$AW$107,0)","v":{"$error":"#N/A"}},{"$f":"MATCH(EI$3,Millwall!$AH$107:$AW$107,0)","v":{"$error":"#N/A"}},{"$f":"MATCH(EJ$3,Millwall!$AH$107:$AW$107,0)","v":{"$error":"#N/A"}},{"$f":"MATCH(EK$3,Millwall!$AH$107:$AW$107,0)","v":{"$error":"#N/A"}},{"$f":"MATCH(EL$3,Millwall!$AH$107:$AW$107,0)","v":{"$error":"#N/A"}},{"$f":"MATCH(EM$3,Millwall!$AH$107:$AW$107,0)","v":{"$error":"#N/A"}},{"$f":"MATCH(EN$3,Millwall!$AH$107:$AW$107,0)","v":{"$error":"#N/A"}},{"$f":"MATCH(EO$3,Millwall!$AH$107:$AW$107,0)","v":{"$error":"#N/A"}},{"$f":"MATCH(EP$3,Millwall!$AH$107:$AW$107,0)","v":{"$error":"#N/A"}},{"$f":"MATCH(EQ$3,Millwall!$AH$107:$AW$107,0)","v":{"$error":"#N/A"}},{"$f":"MATCH(ER$3,Millwall!$AH$107:$AW$107,0)","v":{"$error":"#N/A"}},{"$f":"MATCH(ES$3,Millwall!$AH$107:$AW$107,0)","v":{"$error":"#N/A"}},{"$f":"MATCH(ET$3,Millwall!$AH$107:$AW$107,0)","v":{"$error":"#N/A"}},{"$f":"MATCH(EU$3,Millwall!$AH$107:$AW$107,0)","v":{"$error":"#N/A"}},{"$f":"MATCH(EV$3,Millwall!$AH$107:$AW$107,0)","v":{"$error":"#N/A"}},{"$f":"MATCH(EW$3,Millwall!$AH$107:$AW$107,0)","v":{"$error":"#N/A"}},{"$f":"MATCH(EX$3,Millwall!$AH$107:$AW$107,0)","v":{"$error":"#N/A"}},{"$f":"MATCH(EY$3,Millwall!$AH$107:$AW$107,0)","v":{"$error":"#N/A"}},{"$f":"MATCH(EZ$3,Millwall!$AH$107:$AW$107,0)","v":{"$error":"#N/A"}},{"$f":"MATCH(FA$3,Millwall!$AH$107:$AW$107,0)","v":{"$error":"#N/A"}},{"$f":"MATCH(FB$3,Millwall!$AH$107:$AW$107,0)","v":{"$error":"#N/A"}},{"$f":"MATCH(FC$3,Millwall!$AH$107:$AW$107,0)","v":{"$error":"#N/A"}},{"$f":"MATCH(FD$3,Millwall!$AH$107:$AW$107,0)","v":{"$error":"#N/A"}},{"$f":"MATCH(FE$3,Millwall!$AH$107:$AW$107,0)","v":{"$error":"#N/A"}},{"$f":"MATCH(FF$3,Millwall!$AH$107:$AW$107,0)","v":{"$error":"#N/A"}},{"$f":"MATCH(FG$3,Millwall!$AH$107:$AW$107,0)","v":{"$error":"#N/A"}},{"$f":"MATCH(FH$3,Millwall!$AH$107:$AW$107,0)","v":{"$error":"#N/A"}},{"$f":"MATCH(FI$3,Millwall!$AH$107:$AW$107,0)","v":{"$error":"#N/A"}},{"$f":"MATCH(FJ$3,Millwall!$AH$107:$AW$107,0)","v":{"$error":"#N/A"}},{"$f":"MATCH(FK$3,Millwall!$AH$107:$AW$107,0)","v":{"$error":"#N/A"}},{"$f":"MATCH(FL$3,Millwall!$AH$107:$AW$107,0)","v":{"$error":"#N/A"}},{"$f":"MATCH(FM$3,Millwall!$AH$107:$AW$107,0)","v":{"$error":"#N/A"}},{"$f":"MATCH(FN$3,Millwall!$AH$107:$AW$107,0)","v":{"$error":"#N/A"}},{"$f":"MATCH(FO$3,Millwall!$AH$107:$AW$107,0)","v":{"$error":"#N/A"}},null,null,null,null,null,null,{"$f":"$FX$37&\" {**\"","v":"Van Blerk {**"},{"$f":"$FX$37&\" [**\"","v":"Van Blerk [**"},{"$f":"Millwall!$BY92","v":"Van Blerk"},"Van Blerk (**",{"$f":"$FX$37&\"**\"","v":"Van Blerk**"},null,{"$f":"$FX$37","v":"Van Blerk"},{"$f":"$FY$37","v":"Van Blerk (**"},{"$f":"$FZ$37","v":"Van Blerk**"},null,{"$f":"Millwall!CC38","v":0},{"$f":"Millwall!CH38","v":0},{"$f":"Millwall!CR38","v":0},{"$f":"Millwall!CW38","v":0}]
[null,null,0,34,null,{"$f":"Millwall!AD108","v":"1997-03-01"},null,{"$f":"Millwall!AE108","v":"Wycombe"},{"$f":"Millwall!AF108","v":"(H)"},{"$f":"Millwall!AG108","v":"W 2-1"},{"$f":"MATCH($K$4,Millwall!$AH$108:$AW$108,0)","v":{"$error":"#N/A"}},{"$f":"MATCH($L$4,Millwall!$AH$108:$AW$108,0)","v":3},{"$f":"MATCH($M$4,Millwall!$AH$108:$AW$108,0)","v":14},{"$f":"MATCH($N$4,Millwall!$AH$108:$AW$108,0)","v":{"$error":"#N/A"}},{"$f":"MATCH($O$4,Millwall!$AH$108:$AW$108,0)","v":{"$error":"#N/A"}},{"$f":"MATCH($P$4,Millwall!$AH$108:$AW$108,0)","v":10},{"$f":"MATCH($Q$4,Millwall!$AH$108:$AW$108,0)","v":{"$error":"#N/A"}},{"$f":"MATCH($R$4,Millwall!$AH$108:$AW$108,0)","v":1},{"$f":"MATCH($S$4,Millwall!$AH$108:$AW$108,0)","v":9},{"$f":"MATCH($T$4,Millwall!$AH$108:$AW$108,0)","v":{"$error":"#N/A"}},{"$f":"MATCH($U$4,Millwall!$AH$108:$AW$108,0)","v":11},{"$f":"MATCH($V$4,Millwall!$AH$108:$AW$108,0)","v":8},{"$f":"MATCH($W$4,Millwall!$AH$108:$AW$108,0)","v":{"$error":"#N/A"}},{"$f":"MATCH($X$4,Millwall!$AH$108:$AW$108,0)","v":{"$error":"#N/A"}},{"$f":"MATCH($Y$4,Millwall!$AH$108:$AW$108,0)","v":{"$error":"#N/A"}},{"$f":"MATCH($Z$4,Millwall!$AH$108:$AW$108,0)","v":7},{"$f":"MATCH($AA$4,Millwall!$AH$108:$AW$108,0)","v":{"$error":"#N/A"}},{"$f":"MATCH($AB$4,Millwall!$AH$108:$AW$108,0)","v":{"$error":"#N/A"}},{"$f":"MATCH($AC$4,Millwall!$AH$108:$AW$108,0)","v":{"$error":"#N/A"}},{"$f":"MATCH($AD$4,Millwall!$AH$108:$AW$108,0)","v":{"$error":"#N/A"}},{"$f":"MATCH($AE$4,Millwall!$AH$108:$AW$108,0)","v":{"$error":"#N/A"}},{"$f":"MATCH($AF$4,Millwall!$AH$108:$AW$108,0)","v":5},{"$f":"MATCH($AG$4,Millwall!$AH$108:$AW$108,0)","v":{"$error":"#N/A"}},{"$f":"MATCH($AH$4,Millwall!$AH$108:$AW$108,0)","v":2},{"$f":"MATCH($AI$4,Millwall!$AH$108:$AW$108,0)","v":4},{"$f":"MATCH($AJ$4,Millwall!$AH$108:$AW$108,0)","v":{"$error":"#N/A"}},{"$f":"MATCH($AK$4,Millwall!$AH$108:$AW$108,0)","v":13},{"$f":"MATCH($AL$4,Millwall!$AH$108:$AW$108,0)","v":{"$error":"#N/A"}},{"$f":"MATCH($AM$4,Millwall!$AH$108:$AW$108,0)","v":{"$error":"#N/A"}},{"$f":"MATCH($AN$4,Millwall!$AH$108:$AW$108,0)","v":{"$error":"#N/A"}},{"$f":"MATCH($AO$4,Millwall!$AH$108:$AW$108,0)","v":{"$error":"#N/A"}},{"$f":"MATCH($AP$4,Millwall!$AH$108:$AW$108,0)","v":{"$error":"#N/A"}},{"$f":"MATCH($AQ$4,Millwall!$AH$108:$AW$108,0)","v":{"$error":"#N/A"}},{"$f":"MATCH($AR$4,Millwall!$AH$108:$AW$108,0)","v":12},{"$f":"MATCH($AS$4,Millwall!$AH$108:$AW$108,0)","v":{"$error":"#N/A"}},{"$f":"MATCH($AT$4,Millwall!$AH$108:$AW$108,0)","v":6},{"$f":"MATCH($AU$4,Millwall!$AH$108:$AW$108,0)","v":{"$error":"#N/A"}},{"$f":"MATCH($AV$4,Millwall!$AH$108:$AW$108,0)","v":{"$error":"#N/A"}},null,null,null,null,null,{"$f":"MATCH(BB$3,Millwall!$AH108:$AW108,0)","v":{"$error":"#N/A"}},{"$f":"MATCH(BC$3,Millwall!$AH108:$AW108,0)","v":{"$error":"#N/A"}},{"$f":"MATCH(BD$3,Millwall!$AH108:$AW108,0)","v":{"$error":"#N/A"}},{"$f":"MATCH(BE$3,Millwall!$AH108:$AW108,0)","v":{"$error":"#N/A"}},{"$f":"MATCH(BF$3,Millwall!$AH108:$AW108,0)","v":{"$error":"#N/A"}},{"$f":"MATCH(BG$3,Millwall!$AH108:$AW108,0)","v":{"$error":"#N/A"}},{"$f":"MATCH(BH$3,Millwall!$AH108:$AW108,0)","v":{"$error":"#N/A"}},{"$f":"MATCH(BI$3,Millwall!$AH108:$AW108,0)","v":{"$error":"#N/A"}},{"$f":"MATCH(BJ$3,Millwall!$AH108:$AW108,0)","v":{"$error":"#N/A"}},{"$f":"MATCH(BK$3,Millwall!$AH108:$AW108,0)","v":{"$error":"#N/A"}},{"$f":"MATCH(BL$3,Millwall!$AH108:$AW108,0)","v":{"$error":"#N/A"}},{"$f":"MATCH(BM$3,Millwall!$AH108:$AW108,0)","v":{"$error":"#N/A"}},{"$f":"MATCH(BN$3,Millwall!$AH108:$AW108,0)","v":{"$error":"#N/A"}},{"$f":"MATCH(BO$3,Millwall!$AH108:$AW108,0)","v":{"$error":"#N/A"}},{"$f":"MATCH(BP$3,Millwall!$AH108:$AW108,0)","v":{"$error":"#N/A"}},{"$f":"MATCH(BQ$3,Millwall!$AH108:$AW108,0)","v":{"$error":"#N/A"}},{"$f":"MATCH(BR$3,Millwall!$AH108:$AW108,0)","v":{"$error":"#N/A"}},{"$f":"MATCH(BS$3,Millwall!$AH108:$AW108,0)","v":{"$error":"#N/A"}},{"$f":"MATCH(BT$3,Millwall!$AH108:$AW108,0)","v":{"$error":"#N/A"}},{"$f":"MATCH(BU$3,Millwall!$AH108:$AW108,0)","v":{"$error":"#N/A"}},{"$f":"MATCH(BV$3,Millwall!$AH108:$AW108,0)","v":{"$error":"#N/A"}},{"$f":"MATCH(BW$3,Millwall!$AH108:$AW108,0)","v":{"$error":"#N/A"}},{"$f":"MATCH(BX$3,Millwall!$AH108:$AW108,0)","v":{"$error":"#N/A"}},{"$f":"MATCH(BY$3,Millwall!$AH108:$AW108,0)","v":{"$error":"#N/A"}},{"$f":"MATCH(BZ$3,Millwall!$AH108:$AW108,0)","v":{"$error":"#N/A"}},{"$f":"MATCH(CA$3,Millwall!$AH108:$AW108,0)","v":{"$error":"#N/A"}},{"$f":"MATCH(CB$3,Millwall!$AH108:$AW108,0)","v":{"$error":"#N/A"}},{"$f":"MATCH(CC$3,Millwall!$AH108:$AW108,0)","v":{"$error":"#N/A"}},{"$f":"MATCH(CD$3,Millwall!$AH108:$AW108,0)","v":{"$error":"#N/A"}},{"$f":"MATCH(CE$3,Millwall!$AH108:$AW108,0)","v":{"$error":"#N/A"}},{"$f":"MATCH(CF$3,Millwall!$AH108:$AW108,0)","v":{"$error":"#N/A"}},{"$f":"MATCH(CG$3,Millwall!$AH108:$AW108,0)","v":{"$error":"#N/A"}},{"$f":"MATCH(CH$3,Millwall!$AH108:$AW108,0)","v":{"$error":"#N/A"}},{"$f":"MATCH(CI$3,Millwall!$AH108:$AW108,0)","v":{"$error":"#N/A"}},{"$f":"MATCH(CJ$3,Millwall!$AH108:$AW108,0)","v":{"$error":"#N/A"}},{"$f":"MATCH(CK$3,Millwall!$AH108:$AW108,0)","v":{"$error":"#N/A"}},{"$f":"MATCH(CL$3,Millwall!$AH108:$AW108,0)","v":{"$error":"#N/A"}},{"$f":"MATCH(CM$3,Millwall!$AH108:$AW108,0)","v":{"$error":"#N/A"}},null,null,{"$f":"MATCH($CP$3,Millwall!$AH$108:$AW$108,0)","v":{"$error":"#N/A"}},{"$f":"MATCH($CQ$3,Millwall!$AH$108:$AW$108,0)","v":{"$error":"#N/A"}},{"$f":"MATCH($CR$3,Millwall!$AH$108:$AW$108,0)","v":{"$error":"#N/A"}},{"$f":"MATCH($CS$3,Millwall!$AH$108:$AW$108,0)","v":{"$error":"#N/A"}},{"$f":"MATCH($CT$3,Millwall!$AH$108:$AW$108,0)","v":{"$error":"#N/A"}},{"$f":"MATCH($CU$3,Millwall!$AH$108:$AW$108,0)","v":{"$error":"#N/A"}},{"$f":"MATCH($CV$3,Millwall!$AH$108:$AW$108,0)","v":{"$error":"#N/A"}},{"$f":"MATCH($CW$3,Millwall!$AH$108:$AW$108,0)","v":{"$error":"#N/A"}},{"$f":"MATCH($CX$3,Millwall!$AH$108:$AW$108,0)","v":9},{"$f":"MATCH($CY$3,Millwall!$AH$108:$AW$108,0)","v":{"$error":"#N/A"}},{"$f":"MATCH($CZ$3,Millwall!$AH$108:$AW$108,0)","v":{"$error":"#N/A"}},{"$f":"MATCH($DA$3,Millwall!$AH$108:$AW$108,0)","v":{"$error":"#N/A"}},{"$f":"MATCH($DB$3,Millwall!$AH$108:$AW$108,0)","v":{"$error":"#N/A"}},{"$f":"MATCH($DC$3,Millwall!$AH$108:$AW$108,0)","v":{"$error":"#N/A"}},{"$f":"MATCH($DD$3,Millwall!$AH$108:$AW$108,0)","v":{"$error":"#N/A"}},{"$f":"MATCH($DE$3,Millwall!$AH$108:$AW$108,0)","v":{"$error":"#N/A"}},{"$f":"MATCH($DF$3,Millwall!$AH$108:$AW$108,0)","v":{"$error":"#N/A"}},{"$f":"MATCH($DG$3,Millwall!$AH$108:$AW$108,0)","v":{"$error":"#N/A"}},{"$f":"MATCH($DH$3,Millwall!$AH$108:$AW$108,0)","v":{"$error":"#N/A"}},{"$f":"MATCH($DI$3,Millwall!$AH$108:$AW$108,0)","v":{"$error":"#N/A"}},{"$f":"MATCH($DJ$3,Millwall!$AH$108:$AW$108,0)","v":{"$error":"#N/A"}},{"$f":"MATCH($DK$3,Millwall!$AH$108:$AW$108,0)","v":{"$error":"#N/A"}},{"$f":"MATCH($DL$3,Millwall!$AH$108:$AW$108,0)","v":{"$error":"#N/A"}},{"$f":"MATCH($DM$3,Millwall!$AH$108:$AW$108,0)","v":{"$error":"#N/A"}},{"$f":"MATCH($DN$3,Millwall!$AH$108:$AW$108,0)","v":{"$error":"#N/A"}},{"$f":"MATCH($DO$3,Millwall!$AH$108:$AW$108,0)","v":{"$error":"#N/A"}},{"$f":"MATCH($DP$3,Millwall!$AH$108:$AW$108,0)","v":13},{"$f":"MATCH($DQ$3,Millwall!$AH$108:$AW$108,0)","v":{"$error":"#N/A"}},{"$f":"MATCH($DR$3,Millwall!$AH$108:$AW$108,0)","v":{"$error":"#N/A"}},{"$f":"MATCH($DS$3,Millwall!$AH$108:$AW$108,0)","v":{"$error":"#N/A"}},{"$f":"MATCH($DT$3,Millwall!$AH$108:$AW$108,0)","v":{"$error":"#N/A"}},{"$f":"MATCH($DU$3,Millwall!$AH$108:$AW$108,0)","v":{"$error":"#N/A"}},{"$f":"MATCH($DV$3,Millwall!$AH$108:$AW$108,0)","v":{"$error":"#N/A"}},{"$f":"MATCH($DW$3,Millwall!$AH$108:$AW$108,0)","v":{"$error":"#N/A"}},{"$f":"MATCH($DX$3,Millwall!$AH$108:$AW$108,0)","v":{"$error":"#N/A"}},{"$f":"MATCH($DY$3,Millwall!$AH$108:$AW$108,0)","v":{"$error":"#N/A"}},{"$f":"MATCH($DZ$3,Millwall!$AH$108:$AW$108,0)","v":{"$error":"#N/A"}},{"$f":"MATCH($EA$3,Millwall!$AH$108:$AW$108,0)","v":{"$error":"#N/A"}},null,null,{"$f":"MATCH(ED$3,Millwall!$AH$108:$AW$108,0)","v":{"$error":"#N/A"}},{"$f":"MATCH(EE$3,Millwall!$AH$108:$AW$108,0)","v":{"$error":"#N/A"}},{"$f":"MATCH(EF$3,Millwall!$AH$108:$AW$108,0)","v":{"$error":"#N/A"}},{"$f":"MATCH(EG$3,Millwall!$AH$108:$AW$108,0)","v":{"$error":"#N/A"}},{"$f":"MATCH(EH$3,Millwall!$AH$108:$AW$108,0)","v":{"$error":"#N/A"}},{"$f":"MATCH(EI$3,Millwall!$AH$108:$AW$108,0)","v":{"$error":"#N/A"}},{"$f":"MATCH(EJ$3,Millwall!$AH$108:$AW$108,0)","v":{"$error":"#N/A"}},{"$f":"MATCH(EK$3,Millwall!$AH$108:$AW$108,0)","v":{"$error":"#N/A"}},{"$f":"MATCH(EL$3,Millwall!$AH$108:$AW$108,0)","v":{"$error":"#N/A"}},{"$f":"MATCH(EM$3,Millwall!$AH$108:$AW$108,0)","v":{"$error":"#N/A"}},{"$f":"MATCH(EN$3,Millwall!$AH$108:$AW$108,0)","v":{"$error":"#N/A"}},{"$f":"MATCH(EO$3,Millwall!$AH$108:$AW$108,0)","v":{"$error":"#N/A"}},{"$f":"MATCH(EP$3,Millwall!$AH$108:$AW$108,0)","v":{"$error":"#N/A"}},{"$f":"MATCH(EQ$3,Millwall!$AH$108:$AW$108,0)","v":{"$error":"#N/A"}},{"$f":"MATCH(ER$3,Millwall!$AH$108:$AW$108,0)","v":{"$error":"#N/A"}},{"$f":"MATCH(ES$3,Millwall!$AH$108:$AW$108,0)","v":{"$error":"#N/A"}},{"$f":"MATCH(ET$3,Millwall!$AH$108:$AW$108,0)","v":{"$error":"#N/A"}},{"$f":"MATCH(EU$3,Millwall!$AH$108:$AW$108,0)","v":{"$error":"#N/A"}},{"$f":"MATCH(EV$3,Millwall!$AH$108:$AW$108,0)","v":{"$error":"#N/A"}},{"$f":"MATCH(EW$3,Millwall!$AH$108:$AW$108,0)","v":{"$error":"#N/A"}},{"$f":"MATCH(EX$3,Millwall!$AH$108:$AW$108,0)","v":{"$error":"#N/A"}},{"$f":"MATCH(EY$3,Millwall!$AH$108:$AW$108,0)","v":{"$error":"#N/A"}},{"$f":"MATCH(EZ$3,Millwall!$AH$108:$AW$108,0)","v":{"$error":"#N/A"}},{"$f":"MATCH(FA$3,Millwall!$AH$108:$AW$108,0)","v":{"$error":"#N/A"}},{"$f":"MATCH(FB$3,Millwall!$AH$108:$AW$108,0)","v":{"$error":"#N/A"}},{"$f":"MATCH(FC$3,Millwall!$AH$108:$AW$108,0)","v":{"$error":"#N/A"}},{"$f":"MATCH(FD$3,Millwall!$AH$108:$AW$108,0)","v":{"$error":"#N/A"}},{"$f":"MATCH(FE$3,Millwall!$AH$108:$AW$108,0)","v":{"$error":"#N/A"}},{"$f":"MATCH(FF$3,Millwall!$AH$108:$AW$108,0)","v":{"$error":"#N/A"}},{"$f":"MATCH(FG$3,Millwall!$AH$108:$AW$108,0)","v":{"$error":"#N/A"}},{"$f":"MATCH(FH$3,Millwall!$AH$108:$AW$108,0)","v":{"$error":"#N/A"}},{"$f":"MATCH(FI$3,Millwall!$AH$108:$AW$108,0)","v":{"$error":"#N/A"}},{"$f":"MATCH(FJ$3,Millwall!$AH$108:$AW$108,0)","v":{"$error":"#N/A"}},{"$f":"MATCH(FK$3,Millwall!$AH$108:$AW$108,0)","v":{"$error":"#N/A"}},{"$f":"MATCH(FL$3,Millwall!$AH$108:$AW$108,0)","v":{"$error":"#N/A"}},{"$f":"MATCH(FM$3,Millwall!$AH$108:$AW$108,0)","v":{"$error":"#N/A"}},{"$f":"MATCH(FN$3,Millwall!$AH$108:$AW$108,0)","v":{"$error":"#N/A"}},{"$f":"MATCH(FO$3,Millwall!$AH$108:$AW$108,0)","v":{"$error":"#N/A"}},null,null,null,null,null,null,{"$f":"$FX$38&\" {**\"","v":"Webber {**"},{"$f":"$FX$38&\" [**\"","v":"Webber [**"},{"$f":"Millwall!$BY93","v":"Webber"},"Webber (**",{"$f":"$FX$38&\"**\"","v":"Webber**"},null,{"$f":"$FX$38","v":"Webber"},{"$f":"$FY$38","v":"Webber (**"},{"$f":"$FZ$38","v":"Webber**"},null,{"$f":"Millwall!CC39","v":2},{"$f":"Millwall!CH39","v":2},{"$f":"Millwall!CR39","v":0},{"$f":"Millwall!CW39","v":0}]
[null,null,0,35,null,{"$f":"Millwall!AD109","v":"1997-03-08"},null,{"$f":"Millwall!AE109","v":"Luton"},{"$f":"Millwall!AF109","v":"(A)"},{"$f":"Millwall!AG109","v":"W 2-0"},{"$f":"MATCH($K$4,Millwall!$AH$109:$AW$109,0)","v":{"$error":"#N/A"}},{"$f":"MATCH($L$4,Millwall!$AH$109:$AW$109,0)","v":3},{"$f":"MATCH($M$4,Millwall!$AH$109:$AW$109,0)","v":14},{"$f":"MATCH($N$4,Millwall!$AH$109:$AW$109,0)","v":{"$error":"#N/A"}},{"$f":"MATCH($O$4,Millwall!$AH$109:$AW$109,0)","v":{"$error":"#N/A"}},{"$f":"MATCH($P$4,Millwall!$AH$109:$AW$109,0)","v":{"$error":"#N/A"}},{"$f":"MATCH($Q$4,Millwall!$AH$109:$AW$109,0)","v":{"$error":"#N/A"}},{"$f":"MATCH($R$4,Millwall!$AH$109:$AW$109,0)","v":1},{"$f":"MATCH($S$4,Millwall!$AH$109:$AW$109,0)","v":9},{"$f":"MATCH($T$4,Millwall!$AH$109:$AW$109,0)","v":{"$error":"#N/A"}},{"$f":"MATCH($U$4,Millwall!$AH$109:$AW$109,0)","v":11},{"$f":"MATCH($V$4,Millwall!$AH$109:$AW$109,0)","v":8},{"$f":"MATCH($W$4,Millwall!$AH$109:$AW$109,0)","v":{"$error":"#N/A"}},{"$f":"MATCH($X$4,Millwall!$AH$109:$AW$109,0)","v":{"$error":"#N/A"}},{"$f":"MATCH($Y$4,Millwall!$AH$109:$AW$109,0)","v":{"$error":"#N/A"}},{"$f":"MATCH($Z$4,Millwall!$AH$109:$AW$109,0)","v":7},{"$f":"MATCH($AA$4,Millwall!$AH$109:$AW$109,0)","v":{"$error":"#N/A"}},{"$f":"MATCH($AB$4,Millwall!$AH$109:$AW$109,0)","v":{"$error":"#N/A"}},{"$f":"MATCH($AC$4,Millwall!$AH$109:$AW$109,0)","v":{"$error":"#N/A"}},{"$f":"MATCH($AD$4,Millwall!$AH$109:$AW$109,0)","v":{"$error":"#N/A"}},{"$f":"MATCH($AE$4,Millwall!$AH$109:$AW$109,0)","v":{"$error":"#N/A"}},{"$f":"MATCH($AF$4,Millwall!$AH$109:$AW$109,0)","v":5},{"$f":"MATCH($AG$4,Millwall!$AH$109:$AW$109,0)","v":{"$error":"#N/A"}},{"$f":"MATCH($AH$4,Millwall!$AH$109:$AW$109,0)","v":2},{"$f":"MATCH($AI$4,Millwall!$AH$109:$AW$109,0)","v":{"$error":"#N/A"}},{"$f":"MATCH($AJ$4,Millwall!$AH$109:$AW$109,0)","v":{"$error":"#N/A"}},{"$f":"MATCH($AK$4,Millwall!$AH$109:$AW$109,0)","v":10},{"$f":"MATCH($AL$4,Millwall!$AH$109:$AW$109,0)","v":{"$error":"#N/A"}},{"$f":"MATCH($AM$4,Millwall!$AH$109:$AW$109,0)","v":13},{"$f":"MATCH($AN$4,Millwall!$AH$109:$AW$109,0)","v":4},{"$f":"MATCH($AO$4,Millwall!$AH$109:$AW$109,0)","v":{"$error":"#N/A"}},{"$f":"MATCH($AP$4,Millwall!$AH$109:$AW$109,0)","v":{"$error":"#N/A"}},{"$f":"MATCH($AQ$4,Millwall!$AH$109:$AW$109,0)","v":{"$error":"#N/A"}},{"$f":"MATCH($AR$4,Millwall!$AH$109:$AW$109,0)","v":12},{"$f":"MATCH($AS$4,Millwall!$AH$109:$AW$109,0)","v":{"$error":"#N/A"}},{"$f":"MATCH($AT$4,Millwall!$AH$109:$AW$109,0)","v":6},{"$f":"MATCH($AU$4,Millwall!$AH$109:$AW$109,0)","v":{"$error":"#N/A"}},{"$f":"MATCH($AV$4,Millwall!$AH$109:$AW$109,0)","v":{"$error":"#N/A"}},null,null,null,null,null,{"$f":"MATCH(BB$3,Millwall!$AH109:$AW109,0)","v":{"$error":"#N/A"}},{"$f":"MATCH(BC$3,Millwall!$AH109:$AW109,0)","v":{"$error":"#N/A"}},{"$f":"MATCH(BD$3,Millwall!$AH109:$AW109,0)","v":{"$error":"#N/A"}},{"$f":"MATCH(BE$3,Millwall!$AH109:$AW109,0)","v":{"$error":"#N/A"}},{"$f":"MATCH(BF$3,Millwall!$AH109:$AW109,0)","v":{"$error":"#N/A"}},{"$f":"MATCH(BG$3,Millwall!$AH109:$AW109,0)","v":{"$error":"#N/A"}},{"$f":"MATCH(BH$3,Millwall!$AH109:$AW109,0)","v":{"$error":"#N/A"}},{"$f":"MATCH(BI$3,Millwall!$AH109:$AW109,0)","v":{"$error":"#N/A"}},{"$f":"MATCH(BJ$3,Millwall!$AH109:$AW109,0)","v":{"$error":"#N/A"}},{"$f":"MATCH(BK$3,Millwall!$AH109:$AW109,0)","v":{"$error":"#N/A"}},{"$f":"MATCH(BL$3,Millwall!$AH109:$AW109,0)","v":{"$error":"#N/A"}},{"$f":"MATCH(BM$3,Millwall!$AH109:$AW109,0)","v":{"$error":"#N/A"}},{"$f":"MATCH(BN$3,Millwall!$AH109:$AW109,0)","v":{"$error":"#N/A"}},{"$f":"MATCH(BO$3,Millwall!$AH109:$AW109,0)","v":{"$error":"#N/A"}},{"$f":"MATCH(BP$3,Millwall!$AH109:$AW109,0)","v":{"$error":"#N/A"}},{"$f":"MATCH(BQ$3,Millwall!$AH109:$AW109,0)","v":{"$error":"#N/A"}},{"$f":"MATCH(BR$3,Millwall!$AH109:$AW109,0)","v":{"$error":"#N/A"}},{"$f":"MATCH(BS$3,Millwall!$AH109:$AW109,0)","v":{"$error":"#N/A"}},{"$f":"MATCH(BT$3,Millwall!$AH109:$AW109,0)","v":{"$error":"#N/A"}},{"$f":"MATCH(BU$3,Millwall!$AH109:$AW109,0)","v":{"$error":"#N/A"}},{"$f":"MATCH(BV$3,Millwall!$AH109:$AW109,0)","v":{"$error":"#N/A"}},{"$f":"MATCH(BW$3,Millwall!$AH109:$AW109,0)","v":{"$error":"#N/A"}},{"$f":"MATCH(BX$3,Millwall!$AH109:$AW109,0)","v":{"$error":"#N/A"}},{"$f":"MATCH(BY$3,Millwall!$AH109:$AW109,0)","v":{"$error":"#N/A"}},{"$f":"MATCH(BZ$3,Millwall!$AH109:$AW109,0)","v":{"$error":"#N/A"}},{"$f":"MATCH(CA$3,Millwall!$AH109:$AW109,0)","v":{"$error":"#N/A"}},{"$f":"MATCH(CB$3,Millwall!$AH109:$AW109,0)","v":{"$error":"#N/A"}},{"$f":"MATCH(CC$3,Millwall!$AH109:$AW109,0)","v":{"$error":"#N/A"}},{"$f":"MATCH(CD$3,Millwall!$AH109:$AW109,0)","v":{"$error":"#N/A"}},{"$f":"MATCH(CE$3,Millwall!$AH109:$AW109,0)","v":{"$error":"#N/A"}},{"$f":"MATCH(CF$3,Millwall!$AH109:$AW109,0)","v":{"$error":"#N/A"}},{"$f":"MATCH(CG$3,Millwall!$AH109:$AW109,0)","v":{"$error":"#N/A"}},{"$f":"MATCH(CH$3,Millwall!$AH109:$AW109,0)","v":{"$error":"#N/A"}},{"$f":"MATCH(CI$3,Millwall!$AH109:$AW109,0)","v":{"$error":"#N/A"}},{"$f":"MATCH(CJ$3,Millwall!$AH109:$AW109,0)","v":{"$error":"#N/A"}},{"$f":"MATCH(CK$3,Millwall!$AH109:$AW109,0)","v":{"$error":"#N/A"}},{"$f":"MATCH(CL$3,Millwall!$AH109:$AW109,0)","v":{"$error":"#N/A"}},{"$f":"MATCH(CM$3,Millwall!$AH109:$AW109,0)","v":{"$error":"#N/A"}},null,null,{"$f":"MATCH($CP$3,Millwall!$AH$109:$AW$109,0)","v":{"$error":"#N/A"}},{"$f":"MATCH($CQ$3,Millwall!$AH$109:$AW$109,0)","v":{"$error":"#N/A"}},{"$f":"MATCH($CR$3,Millwall!$AH$109:$AW$109,0)","v":{"$error":"#N/A"}},{"$f":"MATCH($CS$3,Millwall!$AH$109:$AW$109,0)","v":{"$error":"#N/A"}},{"$f":"MATCH($CT$3,Millwall!$AH$109:$AW$109,0)","v":{"$error":"#N/A"}},{"$f":"MATCH($CU$3,Millwall!$AH$109:$AW$109,0)","v":{"$error":"#N/A"}},{"$f":"MATCH($CV$3,Millwall!$AH$109:$AW$109,0)","v":{"$error":"#N/A"}},{"$f":"MATCH($CW$3,Millwall!$AH$109:$AW$109,0)","v":{"$error":"#N/A"}},{"$f":"MATCH($CX$3,Millwall!$AH$109:$AW$109,0)","v":{"$error":"#N/A"}},{"$f":"MATCH($CY$3,Millwall!$AH$109:$AW$109,0)","v":{"$error":"#N/A"}},{"$f":"MATCH($CZ$3,Millwall!$AH$109:$AW$109,0)","v":{"$error":"#N/A"}},{"$f":"MATCH($DA$3,Millwall!$AH$109:$AW$109,0)","v":{"$error":"#N/A"}},{"$f":"MATCH($DB$3,Millwall!$AH$109:$AW$109,0)","v":{"$error":"#N/A"}},{"$f":"MATCH($DC$3,Millwall!$AH$109:$AW$109,0)","v":{"$error":"#N/A"}},{"$f":"MATCH($DD$3,Millwall!$AH$109:$AW$109,0)","v":{"$error":"#N/A"}},{"$f":"MATCH($DE$3,Millwall!$AH$109:$AW$109,0)","v":{"$error":"#N/A"}},{"$f":"MATCH($DF$3,Millwall!$AH$109:$AW$109,0)","v":{"$error":"#N/A"}},{"$f":"MATCH($DG$3,Millwall!$AH$109:$AW$109,0)","v":{"$error":"#N/A"}},{"$f":"MATCH($DH$3,Millwall!$AH$109:$AW$109,0)","v":{"$error":"#N/A"}},{"$f":"MATCH($DI$3,Millwall!$AH$109:$AW$109,0)","v":{"$error":"#N/A"}},{"$f":"MATCH($DJ$3,Millwall!$AH$109:$AW$109,0)","v":{"$error":"#N/A"}},{"$f":"MATCH($DK$3,Millwall!$AH$109:$AW$109,0)","v":{"$error":"#N/A"}},{"$f":"MATCH($DL$3,Millwall!$AH$109:$AW$109,0)","v":{"$error":"#N/A"}},{"$f":"MATCH($DM$3,Millwall!$AH$109:$AW$109,0)","v":{"$error":"#N/A"}},{"$f":"MATCH($DN$3,Millwall!$AH$109:$AW$109,0)","v":{"$error":"#N/A"}},{"$f":"MATCH($DO$3,Millwall!$AH$109:$AW$109,0)","v":{"$error":"#N/A"}},{"$f":"MATCH($DP$3,Millwall!$AH$109:$AW$109,0)","v":10},{"$f":"MATCH($DQ$3,Millwall!$AH$109:$AW$109,0)","v":{"$error":"#N/A"}},{"$f":"MATCH($DR$3,Millwall!$AH$109:$AW$109,0)","v":13},{"$f":"MATCH($DS$3,Millwall!$AH$109:$AW$109,0)","v":{"$error":"#N/A"}},{"$f":"MATCH($DT$3,Millwall!$AH$109:$AW$109,0)","v":{"$error":"#N/A"}},{"$f":"MATCH($DU$3,Millwall!$AH$109:$AW$109,0)","v":{"$error":"#N/A"}},{"$f":"MATCH($DV$3,Millwall!$AH$109:$AW$109,0)","v":{"$error":"#N/A"}},{"$f":"MATCH($DW$3,Millwall!$AH$109:$AW$109,0)","v":{"$error":"#N/A"}},{"$f":"MATCH($DX$3,Millwall!$AH$109:$AW$109,0)","v":{"$error":"#N/A"}},{"$f":"MATCH($DY$3,Millwall!$AH$109:$AW$109,0)","v":{"$error":"#N/A"}},{"$f":"MATCH($DZ$3,Millwall!$AH$109:$AW$109,0)","v":{"$error":"#N/A"}},{"$f":"MATCH($EA$3,Millwall!$AH$109:$AW$109,0)","v":{"$error":"#N/A"}},null,null,{"$f":"MATCH(ED$3,Millwall!$AH$109:$AW$109,0)","v":{"$error":"#N/A"}},{"$f":"MATCH(EE$3,Millwall!$AH$109:$AW$109,0)","v":{"$error":"#N/A"}},{"$f":"MATCH(EF$3,Millwall!$AH$109:$AW$109,0)","v":{"$error":"#N/A"}},{"$f":"MATCH(EG$3,Millwall!$AH$109:$AW$109,0)","v":{"$error":"#N/A"}},{"$f":"MATCH(EH$3,Millwall!$AH$109:$AW$109,0)","v":{"$error":"#N/A"}},{"$f":"MATCH(EI$3,Millwall!$AH$109:$AW$109,0)","v":{"$error":"#N/A"}},{"$f":"MATCH(EJ$3,Millwall!$AH$109:$AW$109,0)","v":{"$error":"#N/A"}},{"$f":"MATCH(EK$3,Millwall!$AH$109:$AW$109,0)","v":{"$error":"#N/A"}},{"$f":"MATCH(EL$3,Millwall!$AH$109:$AW$109,0)","v":{"$error":"#N/A"}},{"$f":"MATCH(EM$3,Millwall!$AH$109:$AW$109,0)","v":{"$error":"#N/A"}},{"$f":"MATCH(EN$3,Millwall!$AH$109:$AW$109,0)","v":{"$error":"#N/A"}},{"$f":"MATCH(EO$3,Millwall!$AH$109:$AW$109,0)","v":{"$error":"#N/A"}},{"$f":"MATCH(EP$3,Millwall!$AH$109:$AW$109,0)","v":{"$error":"#N/A"}},{"$f":"MATCH(EQ$3,Millwall!$AH$109:$AW$109,0)","v":{"$error":"#N/A"}},{"$f":"MATCH(ER$3,Millwall!$AH$109:$AW$109,0)","v":{"$error":"#N/A"}},{"$f":"MATCH(ES$3,Millwall!$AH$109:$AW$109,0)","v":{"$error":"#N/A"}},{"$f":"MATCH(ET$3,Millwall!$AH$109:$AW$109,0)","v":{"$error":"#N/A"}},{"$f":"MATCH(EU$3,Millwall!$AH$109:$AW$109,0)","v":{"$error":"#N/A"}},{"$f":"MATCH(EV$3,Millwall!$AH$109:$AW$109,0)","v":{"$error":"#N/A"}},{"$f":"MATCH(EW$3,Millwall!$AH$109:$AW$109,0)","v":{"$error":"#N/A"}},{"$f":"MATCH(EX$3,Millwall!$AH$109:$AW$109,0)","v":{"$error":"#N/A"}},{"$f":"MATCH(EY$3,Millwall!$AH$109:$AW$109,0)","v":{"$error":"#N/A"}},{"$f":"MATCH(EZ$3,Millwall!$AH$109:$AW$109,0)","v":{"$error":"#N/A"}},{"$f":"MATCH(FA$3,Millwall!$AH$109:$AW$109,0)","v":{"$error":"#N/A"}},{"$f":"MATCH(FB$3,Millwall!$AH$109:$AW$109,0)","v":{"$error":"#N/A"}},{"$f":"MATCH(FC$3,Millwall!$AH$109:$AW$109,0)","v":{"$error":"#N/A"}},{"$f":"MATCH(FD$3,Millwall!$AH$109:$AW$109,0)","v":{"$error":"#N/A"}},{"$f":"MATCH(FE$3,Millwall!$AH$109:$AW$109,0)","v":{"$error":"#N/A"}},{"$f":"MATCH(FF$3,Millwall!$AH$109:$AW$109,0)","v":{"$error":"#N/A"}},{"$f":"MATCH(FG$3,Millwall!$AH$109:$AW$109,0)","v":{"$error":"#N/A"}},{"$f":"MATCH(FH$3,Millwall!$AH$109:$AW$109,0)","v":{"$error":"#N/A"}},{"$f":"MATCH(FI$3,Millwall!$AH$109:$AW$109,0)","v":{"$error":"#N/A"}},{"$f":"MATCH(FJ$3,Millwall!$AH$109:$AW$109,0)","v":{"$error":"#N/A"}},{"$f":"MATCH(FK$3,Millwall!$AH$109:$AW$109,0)","v":{"$error":"#N/A"}},{"$f":"MATCH(FL$3,Millwall!$AH$109:$AW$109,0)","v":{"$error":"#N/A"}},{"$f":"MATCH(FM$3,Millwall!$AH$109:$AW$109,0)","v":{"$error":"#N/A"}},{"$f":"MATCH(FN$3,Millwall!$AH$109:$AW$109,0)","v":{"$error":"#N/A"}},{"$f":"MATCH(FO$3,Millwall!$AH$109:$AW$109,0)","v":{"$error":"#N/A"}},null,null,null,null,null,null,{"$f":"$FX$39&\" {**\"","v":"Wilkins {**"},{"$f":"$FX$39&\" [**\"","v":"Wilkins [**"},{"$f":"Millwall!$BY94","v":"Wilkins"},"Wilkins (**",{"$f":"$FX$39&\"**\"","v":"Wilkins**"},null,{"$f":"$FX$39","v":"Wilkins"},{"$f":"$FY$39","v":"Wilkins (**"},{"$f":"$FZ$39","v":"Wilkins**"},null,{"$f":"Millwall!CC40","v":0},{"$f":"Millwall!CH40","v":0},{"$f":"Millwall!CR40","v":0},{"$f":"Millwall!CW40","v":0}]
[null,null,0,36,null,{"$f":"Millwall!AD110","v":"1997-03-15"},null,{"$f":"Millwall!AE110","v":"Bournemouth"},{"$f":"Millwall!AF110","v":"(H)"},{"$f":"Millwall!AG110","v":"L 0-1"},{"$f":"MATCH($K$4,Millwall!$AH$110:$AW$110,0)","v":{"$error":"#N/A"}},{"$f":"MATCH($L$4,Millwall!$AH$110:$AW$110,0)","v":3},{"$f":"MATCH($M$4,Millwall!$AH$110:$AW$110,0)","v":14},{"$f":"MATCH($N$4,Millwall!$AH$110:$AW$110,0)","v":{"$error":"#N/A"}},{"$f":"MATCH($O$4,Millwall!$AH$110:$AW$110,0)","v":{"$error":"#N/A"}},{"$f":"MATCH($P$4,Millwall!$AH$110:$AW$110,0)","v":{"$error":"#N/A"}},{"$f":"MATCH($Q$4,Millwall!$AH$110:$AW$110,0)","v":{"$error":"#N/A"}},{"$f":"MATCH($R$4,Millwall!$AH$110:$AW$110,0)","v":1},{"$f":"MATCH($S$4,Millwall!$AH$110:$AW$110,0)","v":9},{"$f":"MATCH($T$4,Millwall!$AH$110:$AW$110,0)","v":{"$error":"#N/A"}},{"$f":"MATCH($U$4,Millwall!$AH$110:$AW$110,0)","v":11},{"$f":"MATCH($V$4,Millwall!$AH$110:$AW$110,0)","v":8},{"$f":"MATCH($W$4,Millwall!$AH$110:$AW$110,0)","v":{"$error":"#N/A"}},{"$f":"MATCH($X$4,Millwall!$AH$110:$AW$110,0)","v":{"$error":"#N/A"}},{"$f":"MATCH($Y$4,Millwall!$AH$110:$AW$110,0)","v":{"$error":"#N/A"}},{"$f":"MATCH($Z$4,Millwall!$AH$110:$AW$110,0)","v":7},{"$f":"MATCH($AA$4,Millwall!$AH$110:$AW$110,0)","v":{"$error":"#N/A"}},{"$f":"MATCH($AB$4,Millwall!$AH$110:$AW$110,0)","v":{"$error":"#N/A"}},{"$f":"MATCH($AC$4,Millwall!$AH$110:$AW$110,0)","v":{"$error":"#N/A"}},{"$f":"MATCH($AD$4,Millwall!$AH$110:$AW$110,0)","v":{"$error":"#N/A"}},{"$f":"MATCH($AE$4,Millwall!$AH$110:$AW$110,0)","v":{"$error":"#N/A"}},{"$f":"MATCH($AF$4,Millwall!$AH$110:$AW$110,0)","v":5},{"$f":"MATCH($AG$4,Millwall!$AH$110:$AW$110,0)","v":{"$error":"#N/A"}},{"$f":"MATCH($AH$4,Millwall!$AH$110:$AW$110,0)","v":2},{"$f":"MATCH($AI$4,Millwall!$AH$110:$AW$110,0)","v":{"$error":"#N/A"}},{"$f":"MATCH($AJ$4,Millwall!$AH$110:$AW$110,0)","v":{"$error":"#N/A"}},{"$f":"MATCH($AK$4,Millwall!$AH$110:$AW$110,0)","v":13},{"$f":"MATCH($AL$4,Millwall!$AH$110:$AW$110,0)","v":{"$error":"#N/A"}},{"$f":"MATCH($AM$4,Millwall!$AH$110:$AW$110,0)","v":10},{"$f":"MATCH($AN$4,Millwall!$AH$110:$AW$110,0)","v":4},{"$f":"MATCH($AO$4,Millwall!$AH$110:$AW$110,0)","v":{"$error":"#N/A"}},{"$f":"MATCH($AP$4,Millwall!$AH$110:$AW$110,0)","v":{"$error":"#N/A"}},{"$f":"MATCH($AQ$4,Millwall!$AH$110:$AW$110,0)","v":{"$error":"#N/A"}},{"$f":"MATCH($AR$4,Millwall!$AH$110:$AW$110,0)","v":12},{"$f":"MATCH($AS$4,Millwall!$AH$110:$AW$110,0)","v":{"$error":"#N/A"}},{"$f":"MATCH($AT$4,Millwall!$AH$110:$AW$110,0)","v":6},{"$f":"MATCH($AU$4,Millwall!$AH$110:$AW$110,0)","v":{"$error":"#N/A"}},{"$f":"MATCH($AV$4,Millwall!$AH$110:$AW$110,0)","v":{"$error":"#N/A"}},null,null,null,null,null,{"$f":"MATCH(BB$3,Millwall!$AH110:$AW110,0)","v":{"$error":"#N/A"}},{"$f":"MATCH(BC$3,Millwall!$AH110:$AW110,0)","v":{"$error":"#N/A"}},{"$f":"MATCH(BD$3,Millwall!$AH110:$AW110,0)","v":{"$error":"#N/A"}},{"$f":"MATCH(BE$3,Millwall!$AH110:$AW110,0)","v":{"$error":"#N/A"}},{"$f":"MATCH(BF$3,Millwall!$AH110:$AW110,0)","v":{"$error":"#N/A"}},{"$f":"MATCH(BG$3,Millwall!$AH110:$AW110,0)","v":{"$error":"#N/A"}},{"$f":"MATCH(BH$3,Millwall!$AH110:$AW110,0)","v":{"$error":"#N/A"}},{"$f":"MATCH(BI$3,Millwall!$AH110:$AW110,0)","v":{"$error":"#N/A"}},{"$f":"MATCH(BJ$3,Millwall!$AH110:$AW110,0)","v":{"$error":"#N/A"}},{"$f":"MATCH(BK$3,Millwall!$AH110:$AW110,0)","v":{"$error":"#N/A"}},{"$f":"MATCH(BL$3,Millwall!$AH110:$AW110,0)","v":{"$error":"#N/A"}},{"$f":"MATCH(BM$3,Millwall!$AH110:$AW110,0)","v":{"$error":"#N/A"}},{"$f":"MATCH(BN$3,Millwall!$AH110:$AW110,0)","v":{"$error":"#N/A"}},{"$f":"MATCH(BO$3,Millwall!$AH110:$AW110,0)","v":{"$error":"#N/A"}},{"$f":"MATCH(BP$3,Millwall!$AH110:$AW110,0)","v":{"$error":"#N/A"}},{"$f":"MATCH(BQ$3,Millwall!$AH110:$AW110,0)","v":{"$error":"#N/A"}},{"$f":"MATCH(BR$3,Millwall!$AH110:$AW110,0)","v":{"$error":"#N/A"}},{"$f":"MATCH(BS$3,Millwall!$AH110:$AW110,0)","v":{"$error":"#N/A"}},{"$f":"MATCH(BT$3,Millwall!$AH110:$AW110,0)","v":{"$error":"#N/A"}},{"$f":"MATCH(BU$3,Millwall!$AH110:$AW110,0)","v":{"$error":"#N/A"}},{"$f":"MATCH(BV$3,Millwall!$AH110:$AW110,0)","v":{"$error":"#N/A"}},{"$f":"MATCH(BW$3,Millwall!$AH110:$AW110,0)","v":{"$error":"#N/A"}},{"$f":"MATCH(BX$3,Millwall!$AH110:$AW110,0)","v":{"$error":"#N/A"}},{"$f":"MATCH(BY$3,Millwall!$AH110:$AW110,0)","v":{"$error":"#N/A"}},{"$f":"MATCH(BZ$3,Millwall!$AH110:$AW110,0)","v":{"$error":"#N/A"}},{"$f":"MATCH(CA$3,Millwall!$AH110:$AW110,0)","v":{"$error":"#N/A"}},{"$f":"MATCH(CB$3,Millwall!$AH110:$AW110,0)","v":{"$error":"#N/A"}},{"$f":"MATCH(CC$3,Millwall!$AH110:$AW110,0)","v":{"$error":"#N/A"}},{"$f":"MATCH(CD$3,Millwall!$AH110:$AW110,0)","v":{"$error":"#N/A"}},{"$f":"MATCH(CE$3,Millwall!$AH110:$AW110,0)","v":{"$error":"#N/A"}},{"$f":"MATCH(CF$3,Millwall!$AH110:$AW110,0)","v":{"$error":"#N/A"}},{"$f":"MATCH(CG$3,Millwall!$AH110:$AW110,0)","v":{"$error":"#N/A"}},{"$f":"MATCH(CH$3,Millwall!$AH110:$AW110,0)","v":{"$error":"#N/A"}},{"$f":"MATCH(CI$3,Millwall!$AH110:$AW110,0)","v":{"$error":"#N/A"}},{"$f":"MATCH(CJ$3,Millwall!$AH110:$AW110,0)","v":{"$error":"#N/A"}},{"$f":"MATCH(CK$3,Millwall!$AH110:$AW110,0)","v":{"$error":"#N/A"}},{"$f":"MATCH(CL$3,Millwall!$AH110:$AW110,0)","v":{"$error":"#N/A"}},{"$f":"MATCH(CM$3,Millwall!$AH110:$AW110,0)","v":{"$error":"#N/A"}},null,null,{"$f":"MATCH($CP$3,Millwall!$AH$110:$AW$110,0)","v":{"$error":"#N/A"}},{"$f":"MATCH($CQ$3,Millwall!$AH$110:$AW$110,0)","v":{"$error":"#N/A"}},{"$f":"MATCH($CR$3,Millwall!$AH$110:$AW$110,0)","v":{"$error":"#N/A"}},{"$f":"MATCH($CS$3,Millwall!$AH$110:$AW$110,0)","v":{"$error":"#N/A"}},{"$f":"MATCH($CT$3,Millwall!$AH$110:$AW$110,0)","v":{"$error":"#N/A"}},{"$f":"MATCH($CU$3,Millwall!$AH$110:$AW$110,0)","v":{"$error":"#N/A"}},{"$f":"MATCH($CV$3,Millwall!$AH$110:$AW$110,0)","v":{"$error":"#N/A"}},{"$f":"MATCH($CW$3,Millwall!$AH$110:$AW$110,0)","v":{"$error":"#N/A"}},{"$f":"MATCH($CX$3,Millwall!$AH$110:$AW$110,0)","v":{"$error":"#N/A"}},{"$f":"MATCH($CY$3,Millwall!$AH$110:$AW$110,0)","v":{"$error":"#N/A"}},{"$f":"MATCH($CZ$3,Millwall!$AH$110:$AW$110,0)","v":{"$error":"#N/A"}},{"$f":"MATCH($DA$3,Millwall!$AH$110:$AW$110,0)","v":{"$error":"#N/A"}},{"$f":"MATCH($DB$3,Millwall!$AH$110:$AW$110,0)","v":{"$error":"#N/A"}},{"$f":"MATCH($DC$3,Millwall!$AH$110:$AW$110,0)","v":{"$error":"#N/A"}},{"$f":"MATCH($DD$3,Millwall!$AH$110:$AW$110,0)","v":{"$error":"#N/A"}},{"$f":"MATCH($DE$3,Millwall!$AH$110:$AW$110,0)","v":{"$error":"#N/A"}},{"$f":"MATCH($DF$3,Millwall!$AH$110:$AW$110,0)","v":{"$error":"#N/A"}},{"$f":"MATCH($DG$3,Millwall!$AH$110:$AW$110,0)","v":{"$error":"#N/A"}},{"$f":"MATCH($DH$3,Millwall!$AH$110:$AW$110,0)","v":{"$error":"#N/A"}},{"$f":"MATCH($DI$3,Millwall!$AH$110:$AW$110,0)","v":{"$error":"#N/A"}},{"$f":"MATCH($DJ$3,Millwall!$AH$110:$AW$110,0)","v":{"$error":"#N/A"}},{"$f":"MATCH($DK$3,Millwall!$AH$110:$AW$110,0)","v":{"$error":"#N/A"}},{"$f":"MATCH($DL$3,Millwall!$AH$110:$AW$110,0)","v":{"$error":"#N/A"}},{"$f":"MATCH($DM$3,Millwall!$AH$110:$AW$110,0)","v":{"$error":"#N/A"}},{"$f":"MATCH($DN$3,Millwall!$AH$110:$AW$110,0)","v":{"$error":"#N/A"}},{"$f":"MATCH($DO$3,Millwall!$AH$110:$AW$110,0)","v":{"$error":"#N/A"}},{"$f":"MATCH($DP$3,Millwall!$AH$110:$AW$110,0)","v":13},{"$f":"MATCH($DQ$3,Millwall!$AH$110:$AW$110,0)","v":{"$error":"#N/A"}},{"$f":"MATCH($DR$3,Millwall!$AH$110:$AW$110,0)","v":10},{"$f":"MATCH($DS$3,Millwall!$AH$110:$AW$110,0)","v":{"$error":"#N/A"}},{"$f":"MATCH($DT$3,Millwall!$AH$110:$AW$110,0)","v":{"$error":"#N/A"}},{"$f":"MATCH($DU$3,Millwall!$AH$110:$AW$110,0)","v":{"$error":"#N/A"}},{"$f":"MATCH($DV$3,Millwall!$AH$110:$AW$110,0)","v":{"$error":"#N/A"}},{"$f":"MATCH($DW$3,Millwall!$AH$110:$AW$110,0)","v":{"$error":"#N/A"}},{"$f":"MATCH($DX$3,Millwall!$AH$110:$AW$110,0)","v":{"$error":"#N/A"}},{"$f":"MATCH($DY$3,Millwall!$AH$110:$AW$110,0)","v":{"$error":"#N/A"}},{"$f":"MATCH($DZ$3,Millwall!$AH$110:$AW$110,0)","v":{"$error":"#N/A"}},{"$f":"MATCH($EA$3,Millwall!$AH$110:$AW$110,0)","v":{"$error":"#N/A"}},null,null,{"$f":"MATCH(ED$3,Millwall!$AH$110:$AW$110,0)","v":{"$error":"#N/A"}},{"$f":"MATCH(EE$3,Millwall!$AH$110:$AW$110,0)","v":{"$error":"#N/A"}},{"$f":"MATCH(EF$3,Millwall!$AH$110:$AW$110,0)","v":{"$error":"#N/A"}},{"$f":"MATCH(EG$3,Millwall!$AH$110:$AW$110,0)","v":{"$error":"#N/A"}},{"$f":"MATCH(EH$3,Millwall!$AH$110:$AW$110,0)","v":{"$error":"#N/A"}},{"$f":"MATCH(EI$3,Millwall!$AH$110:$AW$110,0)","v":{"$error":"#N/A"}},{"$f":"MATCH(EJ$3,Millwall!$AH$110:$AW$110,0)","v":{"$error":"#N/A"}},{"$f":"MATCH(EK$3,Millwall!$AH$110:$AW$110,0)","v":{"$error":"#N/A"}},{"$f":"MATCH(EL$3,Millwall!$AH$110:$AW$110,0)","v":{"$error":"#N/A"}},{"$f":"MATCH(EM$3,Millwall!$AH$110:$AW$110,0)","v":{"$error":"#N/A"}},{"$f":"MATCH(EN$3,Millwall!$AH$110:$AW$110,0)","v":{"$error":"#N/A"}},{"$f":"MATCH(EO$3,Millwall!$AH$110:$AW$110,0)","v":{"$error":"#N/A"}},{"$f":"MATCH(EP$3,Millwall!$AH$110:$AW$110,0)","v":{"$error":"#N/A"}},{"$f":"MATCH(EQ$3,Millwall!$AH$110:$AW$110,0)","v":{"$error":"#N/A"}},{"$f":"MATCH(ER$3,Millwall!$AH$110:$AW$110,0)","v":{"$error":"#N/A"}},{"$f":"MATCH(ES$3,Millwall!$AH$110:$AW$110,0)","v":{"$error":"#N/A"}},{"$f":"MATCH(ET$3,Millwall!$AH$110:$AW$110,0)","v":{"$error":"#N/A"}},{"$f":"MATCH(EU$3,Millwall!$AH$110:$AW$110,0)","v":{"$error":"#N/A"}},{"$f":"MATCH(EV$3,Millwall!$AH$110:$AW$110,0)","v":{"$error":"#N/A"}},{"$f":"MATCH(EW$3,Millwall!$AH$110:$AW$110,0)","v":{"$error":"#N/A"}},{"$f":"MATCH(EX$3,Millwall!$AH$110:$AW$110,0)","v":{"$error":"#N/A"}},{"$f":"MATCH(EY$3,Millwall!$AH$110:$AW$110,0)","v":{"$error":"#N/A"}},{"$f":"MATCH(EZ$3,Millwall!$AH$110:$AW$110,0)","v":{"$error":"#N/A"}},{"$f":"MATCH(FA$3,Millwall!$AH$110:$AW$110,0)","v":{"$error":"#N/A"}},{"$f":"MATCH(FB$3,Millwall!$AH$110:$AW$110,0)","v":{"$error":"#N/A"}},{"$f":"MATCH(FC$3,Millwall!$AH$110:$AW$110,0)","v":{"$error":"#N/A"}},{"$f":"MATCH(FD$3,Millwall!$AH$110:$AW$110,0)","v":{"$error":"#N/A"}},{"$f":"MATCH(FE$3,Millwall!$AH$110:$AW$110,0)","v":{"$error":"#N/A"}},{"$f":"MATCH(FF$3,Millwall!$AH$110:$AW$110,0)","v":{"$error":"#N/A"}},{"$f":"MATCH(FG$3,Millwall!$AH$110:$AW$110,0)","v":{"$error":"#N/A"}},{"$f":"MATCH(FH$3,Millwall!$AH$110:$AW$110,0)","v":{"$error":"#N/A"}},{"$f":"MATCH(FI$3,Millwall!$AH$110:$AW$110,0)","v":{"$error":"#N/A"}},{"$f":"MATCH(FJ$3,Millwall!$AH$110:$AW$110,0)","v":{"$error":"#N/A"}},{"$f":"MATCH(FK$3,Millwall!$AH$110:$AW$110,0)","v":{"$error":"#N/A"}},{"$f":"MATCH(FL$3,Millwall!$AH$110:$AW$110,0)","v":{"$error":"#N/A"}},{"$f":"MATCH(FM$3,Millwall!$AH$110:$AW$110,0)","v":{"$error":"#N/A"}},{"$f":"MATCH(FN$3,Millwall!$AH$110:$AW$110,0)","v":{"$error":"#N/A"}},{"$f":"MATCH(FO$3,Millwall!$AH$110:$AW$110,0)","v":{"$error":"#N/A"}},null,null,null,null,null,null,{"$f":"$FX$40&\" {**\"","v":"Witter {**"},{"$f":"$FX$40&\" [**\"","v":"Witter [**"},{"$f":"Millwall!$BY95","v":"Witter"},"Witter (**",{"$f":"$FX$40&\"**\"","v":"Witter**"},null,{"$f":"$FX$40","v":"Witter"},{"$f":"$FY$40","v":"Witter (**"},{"$f":"$FZ$40","v":"Witter**"},null,{"$f":"Millwall!CC41","v":0},{"$f":"Millwall!CH41","v":0},{"$f":"Millwall!CR41","v":0},{"$f":"Millwall!CW41","v":0}]
[null,null,0,37,null,{"$f":"Millwall!AD111","v":"1997-03-18"},null,{"$f":"Millwall!AE111","v":"Crewe"},{"$f":"Millwall!AF111","v":"(A)"},{"$f":"Millwall!AG111","v":"D 0-0"},{"$f":"MATCH($K$4,Millwall!$AH$111:$AW$111,0)","v":{"$error":"#N/A"}},{"$f":"MATCH($L$4,Millwall!$AH$111:$AW$111,0)","v":3},{"$f":"MATCH($M$4,Millwall!$AH$111:$AW$111,0)","v":14},{"$f":"MATCH($N$4,Millwall!$AH$111:$AW$111,0)","v":{"$error":"#N/A"}},{"$f":"MATCH($O$4,Millwall!$AH$111:$AW$111,0)","v":{"$error":"#N/A"}},{"$f":"MATCH($P$4,Millwall!$AH$111:$AW$111,0)","v":{"$error":"#N/A"}},{"$f":"MATCH($Q$4,Millwall!$AH$111:$AW$111,0)","v":{"$error":"#N/A"}},{"$f":"MATCH($R$4,Millwall!$AH$111:$AW$111,0)","v":1},{"$f":"MATCH($S$4,Millwall!$AH$111:$AW$111,0)","v":9},{"$f":"MATCH($T$4,Millwall!$AH$111:$AW$111,0)","v":{"$error":"#N/A"}},{"$f":"MATCH($U$4,Millwall!$AH$111:$AW$111,0)","v":11},{"$f":"MATCH($V$4,Millwall!$AH$111:$AW$111,0)","v":8},{"$f":"MATCH($W$4,Millwall!$AH$111:$AW$111,0)","v":{"$error":"#N/A"}},{"$f":"MATCH($X$4,Millwall!$AH$111:$AW$111,0)","v":{"$error":"#N/A"}},{"$f":"MATCH($Y$4,Millwall!$AH$111:$AW$111,0)","v":{"$error":"#N/A"}},{"$f":"MATCH($Z$4,Millwall!$AH$111:$AW$111,0)","v":7},{"$f":"MATCH($AA$4,Millwall!$AH$111:$AW$111,0)","v":{"$error":"#N/A"}},{"$f":"MATCH($AB$4,Millwall!$AH$111:$AW$111,0)","v":{"$error":"#N/A"}},{"$f":"MATCH($AC$4,Millwall!$AH$111:$AW$111,0)","v":{"$error":"#N/A"}},{"$f":"MATCH($AD$4,Millwall!$AH$111:$AW$111,0)","v":{"$error":"#N/A"}},{"$f":"MATCH($AE$4,Millwall!$AH$111:$AW$111,0)","v":{"$error":"#N/A"}},{"$f":"MATCH($AF$4,Millwall!$AH$111:$AW$111,0)","v":5},{"$f":"MATCH($AG$4,Millwall!$AH$111:$AW$111,0)","v":{"$error":"#N/A"}},{"$f":"MATCH($AH$4,Millwall!$AH$111:$AW$111,0)","v":2},{"$f":"MATCH($AI$4,Millwall!$AH$111:$AW$111,0)","v":4},{"$f":"MATCH($AJ$4,Millwall!$AH$111:$AW$111,0)","v":{"$error":"#N/A"}},{"$f":"MATCH($AK$4,Millwall!$AH$111:$AW$111,0)","v":13},{"$f":"MATCH($AL$4,Millwall!$AH$111:$AW$111,0)","v":{"$error":"#N/A"}},{"$f":"MATCH($AM$4,Millwall!$AH$111:$AW$111,0)","v":10},{"$f":"MATCH($AN$4,Millwall!$AH$111:$AW$111,0)","v":{"$error":"#N/A"}},{"$f":"MATCH($AO$4,Millwall!$AH$111:$AW$111,0)","v":{"$error":"#N/A"}},{"$f":"MATCH($AP$4,Millwall!$AH$111:$AW$111,0)","v":{"$error":"#N/A"}},{"$f":"MATCH($AQ$4,Millwall!$AH$111:$AW$111,0)","v":{"$error":"#N/A"}},{"$f":"MATCH($AR$4,Millwall!$AH$111:$AW$111,0)","v":12},{"$f":"MATCH($AS$4,Millwall!$AH$111:$AW$111,0)","v":{"$error":"#N/A"}},{"$f":"MATCH($AT$4,Millwall!$AH$111:$AW$111,0)","v":6},{"$f":"MATCH($AU$4,Millwall!$AH$111:$AW$111,0)","v":{"$error":"#N/A"}},{"$f":"MATCH($AV$4,Millwall!$AH$111:$AW$111,0)","v":{"$error":"#N/A"}},null,null,null,null,null,{"$f":"MATCH(BB$3,Millwall!$AH111:$AW111,0)","v":{"$error":"#N/A"}},{"$f":"MATCH(BC$3,Millwall!$AH111:$AW111,0)","v":{"$error":"#N/A"}},{"$f":"MATCH(BD$3,Millwall!$AH111:$AW111,0)","v":{"$error":"#N/A"}},{"$f":"MATCH(BE$3,Millwall!$AH111:$AW111,0)","v":{"$error":"#N/A"}},{"$f":"MATCH(BF$3,Millwall!$AH111:$AW111,0)","v":{"$error":"#N/A"}},{"$f":"MATCH(BG$3,Millwall!$AH111:$AW111,0)","v":{"$error":"#N/A"}},{"$f":"MATCH(BH$3,Millwall!$AH111:$AW111,0)","v":{"$error":"#N/A"}},{"$f":"MATCH(BI$3,Millwall!$AH111:$AW111,0)","v":{"$error":"#N/A"}},{"$f":"MATCH(BJ$3,Millwall!$AH111:$AW111,0)","v":{"$error":"#N/A"}},{"$f":"MATCH(BK$3,Millwall!$AH111:$AW111,0)","v":{"$error":"#N/A"}},{"$f":"MATCH(BL$3,Millwall!$AH111:$AW111,0)","v":{"$error":"#N/A"}},{"$f":"MATCH(BM$3,Millwall!$AH111:$AW111,0)","v":{"$error":"#N/A"}},{"$f":"MATCH(BN$3,Millwall!$AH111:$AW111,0)","v":{"$error":"#N/A"}},{"$f":"MATCH(BO$3,Millwall!$AH111:$AW111,0)","v":{"$error":"#N/A"}},{"$f":"MATCH(BP$3,Millwall!$AH111:$AW111,0)","v":{"$error":"#N/A"}},{"$f":"MATCH(BQ$3,Millwall!$AH111:$AW111,0)","v":{"$error":"#N/A"}},{"$f":"MATCH(BR$3,Millwall!$AH111:$AW111,0)","v":{"$error":"#N/A"}},{"$f":"MATCH(BS$3,Millwall!$AH111:$AW111,0)","v":{"$error":"#N/A"}},{"$f":"MATCH(BT$3,Millwall!$AH111:$AW111,0)","v":{"$error":"#N/A"}},{"$f":"MATCH(BU$3,Millwall!$AH111:$AW111,0)","v":{"$error":"#N/A"}},{"$f":"MATCH(BV$3,Millwall!$AH111:$AW111,0)","v":{"$error":"#N/A"}},{"$f":"MATCH(BW$3,Millwall!$AH111:$AW111,0)","v":{"$error":"#N/A"}},{"$f":"MATCH(BX$3,Millwall!$AH111:$AW111,0)","v":{"$error":"#N/A"}},{"$f":"MATCH(BY$3,Millwall!$AH111:$AW111,0)","v":{"$error":"#N/A"}},{"$f":"MATCH(BZ$3,Millwall!$AH111:$AW111,0)","v":{"$error":"#N/A"}},{"$f":"MATCH(CA$3,Millwall!$AH111:$AW111,0)","v":{"$error":"#N/A"}},{"$f":"MATCH(CB$3,Millwall!$AH111:$AW111,0)","v":{"$error":"#N/A"}},{"$f":"MATCH(CC$3,Millwall!$AH111:$AW111,0)","v":{"$error":"#N/A"}},{"$f":"MATCH(CD$3,Millwall!$AH111:$AW111,0)","v":{"$error":"#N/A"}},{"$f":"MATCH(CE$3,Millwall!$AH111:$AW111,0)","v":{"$error":"#N/A"}},{"$f":"MATCH(CF$3,Millwall!$AH111:$AW111,0)","v":{"$error":"#N/A"}},{"$f":"MATCH(CG$3,Millwall!$AH111:$AW111,0)","v":{"$error":"#N/A"}},{"$f":"MATCH(CH$3,Millwall!$AH111:$AW111,0)","v":{"$error":"#N/A"}},{"$f":"MATCH(CI$3,Millwall!$AH111:$AW111,0)","v":{"$error":"#N/A"}},{"$f":"MATCH(CJ$3,Millwall!$AH111:$AW111,0)","v":{"$error":"#N/A"}},{"$f":"MATCH(CK$3,Millwall!$AH111:$AW111,0)","v":{"$error":"#N/A"}},{"$f":"MATCH(CL$3,Millwall!$AH111:$AW111,0)","v":{"$error":"#N/A"}},{"$f":"MATCH(CM$3,Millwall!$AH111:$AW111,0)","v":{"$error":"#N/A"}},null,null,{"$f":"MATCH($CP$3,Millwall!$AH$111:$AW$111,0)","v":{"$error":"#N/A"}},{"$f":"MATCH($CQ$3,Millwall!$AH$111:$AW$111,0)","v":{"$error":"#N/A"}},{"$f":"MATCH($CR$3,Millwall!$AH$111:$AW$111,0)","v":{"$error":"#N/A"}},{"$f":"MATCH($CS$3,Millwall!$AH$111:$AW$111,0)","v":{"$error":"#N/A"}},{"$f":"MATCH($CT$3,Millwall!$AH$111:$AW$111,0)","v":{"$error":"#N/A"}},{"$f":"MATCH($CU$3,Millwall!$AH$111:$AW$111,0)","v":{"$error":"#N/A"}},{"$f":"MATCH($CV$3,Millwall!$AH$111:$AW$111,0)","v":{"$error":"#N/A"}},{"$f":"MATCH($CW$3,Millwall!$AH$111:$AW$111,0)","v":{"$error":"#N/A"}},{"$f":"MATCH($CX$3,Millwall!$AH$111:$AW$111,0)","v":{"$error":"#N/A"}},{"$f":"MATCH($CY$3,Millwall!$AH$111:$AW$111,0)","v":{"$error":"#N/A"}},{"$f":"MATCH($CZ$3,Millwall!$AH$111:$AW$111,0)","v":{"$error":"#N/A"}},{"$f":"MATCH($DA$3,Millwall!$AH$111:$AW$111,0)","v":{"$error":"#N/A"}},{"$f":"MATCH($DB$3,Millwall!$AH$111:$AW$111,0)","v":{"$error":"#N/A"}},{"$f":"MATCH($DC$3,Millwall!$AH$111:$AW$111,0)","v":{"$error":"#N/A"}},{"$f":"MATCH($DD$3,Millwall!$AH$111:$AW$111,0)","v":{"$error":"#N/A"}},{"$f":"MATCH($DE$3,Millwall!$AH$111:$AW$111,0)","v":{"$error":"#N/A"}},{"$f":"MATCH($DF$3,Millwall!$AH$111:$AW$111,0)","v":{"$error":"#N/A"}},{"$f":"MATCH($DG$3,Millwall!$AH$111:$AW$111,0)","v":{"$error":"#N/A"}},{"$f":"MATCH($DH$3,Millwall!$AH$111:$AW$111,0)","v":{"$error":"#N/A"}},{"$f":"MATCH($DI$3,Millwall!$AH$111:$AW$111,0)","v":{"$error":"#N/A"}},{"$f":"MATCH($DJ$3,Millwall!$AH$111:$AW$111,0)","v":{"$error":"#N/A"}},{"$f":"MATCH($DK$3,Millwall!$AH$111:$AW$111,0)","v":{"$error":"#N/A"}},{"$f":"MATCH($DL$3,Millwall!$AH$111:$AW$111,0)","v":{"$error":"#N/A"}},{"$f":"MATCH($DM$3,Millwall!$AH$111:$AW$111,0)","v":{"$error":"#N/A"}},{"$f":"MATCH($DN$3,Millwall!$AH$111:$AW$111,0)","v":{"$error":"#N/A"}},{"$f":"MATCH($DO$3,Millwall!$AH$111:$AW$111,0)","v":{"$error":"#N/A"}},{"$f":"MATCH($DP$3,Millwall!$AH$111:$AW$111,0)","v":{"$error":"#N/A"}},{"$f":"MATCH($DQ$3,Millwall!$AH$111:$AW$111,0)","v":{"$error":"#N/A"}},{"$f":"MATCH($DR$3,Millwall!$AH$111:$AW$111,0)","v":{"$error":"#N/A"}},{"$f":"MATCH($DS$3,Millwall!$AH$111:$AW$111,0)","v":{"$error":"#N/A"}},{"$f":"MATCH($DT$3,Millwall!$AH$111:$AW$111,0)","v":{"$error":"#N/A"}},{"$f":"MATCH($DU$3,Millwall!$AH$111:$AW$111,0)","v":{"$error":"#N/A"}},{"$f":"MATCH($DV$3,Millwall!$AH$111:$AW$111,0)","v":{"$error":"#N/A"}},{"$f":"MATCH($DW$3,Millwall!$AH$111:$AW$111,0)","v":{"$error":"#N/A"}},{"$f":"MATCH($DX$3,Millwall!$AH$111:$AW$111,0)","v":{"$error":"#N/A"}},{"$f":"MATCH($DY$3,Millwall!$AH$111:$AW$111,0)","v":{"$error":"#N/A"}},{"$f":"MATCH($DZ$3,Millwall!$AH$111:$AW$111,0)","v":{"$error":"#N/A"}},{"$f":"MATCH($EA$3,Millwall!$AH$111:$AW$111,0)","v":{"$error":"#N/A"}},null,null,{"$f":"MATCH(ED$3,Millwall!$AH$111:$AW$111,0)","v":{"$error":"#N/A"}},{"$f":"MATCH(EE$3,Millwall!$AH$111:$AW$111,0)","v":{"$error":"#N/A"}},{"$f":"MATCH(EF$3,Millwall!$AH$111:$AW$111,0)","v":{"$error":"#N/A"}},{"$f":"MATCH(EG$3,Millwall!$AH$111:$AW$111,0)","v":{"$error":"#N/A"}},{"$f":"MATCH(EH$3,Millwall!$AH$111:$AW$111,0)","v":{"$error":"#N/A"}},{"$f":"MATCH(EI$3,Millwall!$AH$111:$AW$111,0)","v":{"$error":"#N/A"}},{"$f":"MATCH(EJ$3,Millwall!$AH$111:$AW$111,0)","v":{"$error":"#N/A"}},{"$f":"MATCH(EK$3,Millwall!$AH$111:$AW$111,0)","v":{"$error":"#N/A"}},{"$f":"MATCH(EL$3,Millwall!$AH$111:$AW$111,0)","v":{"$error":"#N/A"}},{"$f":"MATCH(EM$3,Millwall!$AH$111:$AW$111,0)","v":{"$error":"#N/A"}},{"$f":"MATCH(EN$3,Millwall!$AH$111:$AW$111,0)","v":{"$error":"#N/A"}},{"$f":"MATCH(EO$3,Millwall!$AH$111:$AW$111,0)","v":{"$error":"#N/A"}},{"$f":"MATCH(EP$3,Millwall!$AH$111:$AW$111,0)","v":{"$error":"#N/A"}},{"$f":"MATCH(EQ$3,Millwall!$AH$111:$AW$111,0)","v":{"$error":"#N/A"}},{"$f":"MATCH(ER$3,Millwall!$AH$111:$AW$111,0)","v":{"$error":"#N/A"}},{"$f":"MATCH(ES$3,Millwall!$AH$111:$AW$111,0)","v":{"$error":"#N/A"}},{"$f":"MATCH(ET$3,Millwall!$AH$111:$AW$111,0)","v":{"$error":"#N/A"}},{"$f":"MATCH(EU$3,Millwall!$AH$111:$AW$111,0)","v":{"$error":"#N/A"}},{"$f":"MATCH(EV$3,Millwall!$AH$111:$AW$111,0)","v":{"$error":"#N/A"}},{"$f":"MATCH(EW$3,Millwall!$AH$111:$AW$111,0)","v":{"$error":"#N/A"}},{"$f":"MATCH(EX$3,Millwall!$AH$111:$AW$111,0)","v":{"$error":"#N/A"}},{"$f":"MATCH(EY$3,Millwall!$AH$111:$AW$111,0)","v":{"$error":"#N/A"}},{"$f":"MATCH(EZ$3,Millwall!$AH$111:$AW$111,0)","v":{"$error":"#N/A"}},{"$f":"MATCH(FA$3,Millwall!$AH$111:$AW$111,0)","v":{"$error":"#N/A"}},{"$f":"MATCH(FB$3,Millwall!$AH$111:$AW$111,0)","v":{"$error":"#N/A"}},{"$f":"MATCH(FC$3,Millwall!$AH$111:$AW$111,0)","v":{"$error":"#N/A"}},{"$f":"MATCH(FD$3,Millwall!$AH$111:$AW$111,0)","v":{"$error":"#N/A"}},{"$f":"MATCH(FE$3,Millwall!$AH$111:$AW$111,0)","v":{"$error":"#N/A"}},{"$f":"MATCH(FF$3,Millwall!$AH$111:$AW$111,0)","v":{"$error":"#N/A"}},{"$f":"MATCH(FG$3,Millwall!$AH$111:$AW$111,0)","v":{"$error":"#N/A"}},{"$f":"MATCH(FH$3,Millwall!$AH$111:$AW$111,0)","v":{"$error":"#N/A"}},{"$f":"MATCH(FI$3,Millwall!$AH$111:$AW$111,0)","v":{"$error":"#N/A"}},{"$f":"MATCH(FJ$3,Millwall!$AH$111:$AW$111,0)","v":{"$error":"#N/A"}},{"$f":"MATCH(FK$3,Millwall!$AH$111:$AW$111,0)","v":{"$error":"#N/A"}},{"$f":"MATCH(FL$3,Millwall!$AH$111:$AW$111,0)","v":{"$error":"#N/A"}},{"$f":"MATCH(FM$3,Millwall!$AH$111:$AW$111,0)","v":{"$error":"#N/A"}},{"$f":"MATCH(FN$3,Millwall!$AH$111:$AW$111,0)","v":{"$error":"#N/A"}},{"$f":"MATCH(FO$3,Millwall!$AH$111:$AW$111,0)","v":{"$error":"#N/A"}},null,null,null,null,null,null,{"$f":"$FX$41&\" {**\"","v":"0 {**"},{"$f":"$FX$41&\" [**\"","v":"0 [**"},{"$f":"Millwall!$BY96","v":0},"0 (**",{"$f":"$FX$41&\"**\"","v":"0**"},null,{"$f":"$FX$41","v":0},{"$f":"$FY$41","v":"0 (**"},{"$f":"$FZ$41","v":"0**"},null,{"$f":"Millwall!CC42","v":0},{"$f":"Millwall!CH42","v":0},{"$f":"Millwall!CR42","v":0},{"$f":"Millwall!CW42","v":0}]
[null,null,0,38,null,{"$f":"Millwall!AD112","v":"1997-03-22"},null,{"$f":"Millwall!AE112","v":"Watford"},{"$f":"Millwall!AF112","v":"(H)"},{"$f":"Millwall!AG112","v":"L 0-1"},{"$f":"MATCH($K$4,Millwall!$AH$112:$AW$112,0)","v":{"$error":"#N/A"}},{"$f":"MATCH($L$4,Millwall!$AH$112:$AW$112,0)","v":3},{"$f":"MATCH($M$4,Millwall!$AH$112:$AW$112,0)","v":14},{"$f":"MATCH($N$4,Millwall!$AH$112:$AW$112,0)","v":{"$error":"#N/A"}},{"$f":"MATCH($O$4,Millwall!$AH$112:$AW$112,0)","v":{"$error":"#N/A"}},{"$f":"MATCH($P$4,Millwall!$AH$112:$AW$112,0)","v":{"$error":"#N/A"}},{"$f":"MATCH($Q$4,Millwall!$AH$112:$AW$112,0)","v":13},{"$f":"MATCH($R$4,Millwall!$AH$112:$AW$112,0)","v":1},{"$f":"MATCH($S$4,Millwall!$AH$112:$AW$112,0)","v":9},{"$f":"MATCH($T$4,Millwall!$AH$112:$AW$112,0)","v":{"$error":"#N/A"}},{"$f":"MATCH($U$4,Millwall!$AH$112:$AW$112,0)","v":11},{"$f":"MATCH($V$4,Millwall!$AH$112:$AW$112,0)","v":8},{"$f":"MATCH($W$4,Millwall!$AH$112:$AW$112,0)","v":{"$error":"#N/A"}},{"$f":"MATCH($X$4,Millwall!$AH$112:$AW$112,0)","v":{"$error":"#N/A"}},{"$f":"MATCH($Y$4,Millwall!$AH$112:$AW$112,0)","v":{"$error":"#N/A"}},{"$f":"MATCH($Z$4,Millwall!$AH$112:$AW$112,0)","v":7},{"$f":"MATCH($AA$4,Millwall!$AH$112:$AW$112,0)","v":{"$error":"#N/A"}},{"$f":"MATCH($AB$4,Millwall!$AH$112:$AW$112,0)","v":{"$error":"#N/A"}},{"$f":"MATCH($AC$4,Millwall!$AH$112:$AW$112,0)","v":{"$error":"#N/A"}},{"$f":"MATCH($AD$4,Millwall!$AH$112:$AW$112,0)","v":{"$error":"#N/A"}},{"$f":"MATCH($AE$4,Millwall!$AH$112:$AW$112,0)","v":{"$error":"#N/A"}},{"$f":"MATCH($AF$4,Millwall!$AH$112:$AW$112,0)","v":5},{"$f":"MATCH($AG$4,Millwall!$AH$112:$AW$112,0)","v":{"$error":"#N/A"}},{"$f":"MATCH($AH$4,Millwall!$AH$112:$AW$112,0)","v":2},{"$f":"MATCH($AI$4,Millwall!$AH$112:$AW$112,0)","v":4},{"$f":"MATCH($AJ$4,Millwall!$AH$112:$AW$112,0)","v":{"$error":"#N/A"}},{"$f":"MATCH($AK$4,Millwall!$AH$112:$AW$112,0)","v":10},{"$f":"MATCH($AL$4,Millwall!$AH$112:$AW$112,0)","v":{"$error":"#N/A"}},{"$f":"MATCH($AM$4,Millwall!$AH$112:$AW$112,0)","v":{"$error":"#N/A"}},{"$f":"MATCH($AN$4,Millwall!$AH$112:$AW$112,0)","v":{"$error":"#N/A"}},{"$f":"MATCH($AO$4,Millwall!$AH$112:$AW$112,0)","v":{"$error":"#N/A"}},{"$f":"MATCH($AP$4,Millwall!$AH$112:$AW$112,0)","v":{"$error":"#N/A"}},{"$f":"MATCH($AQ$4,Millwall!$AH$112:$AW$112,0)","v":{"$error":"#N/A"}},{"$f":"MATCH($AR$4,Millwall!$AH$112:$AW$112,0)","v":12},{"$f":"MATCH($AS$4,Millwall!$AH$112:$AW$112,0)","v":{"$error":"#N/A"}},{"$f":"MATCH($AT$4,Millwall!$AH$112:$AW$112,0)","v":6},{"$f":"MATCH($AU$4,Millwall!$AH$112:$AW$112,0)","v":{"$error":"#N/A"}},{"$f":"MATCH($AV$4,Millwall!$AH$112:$AW$112,0)","v":{"$error":"#N/A"}},null,null,null,null,null,{"$f":"MATCH(BB$3,Millwall!$AH112:$AW112,0)","v":{"$error":"#N/A"}},{"$f":"MATCH(BC$3,Millwall!$AH112:$AW112,0)","v":{"$error":"#N/A"}},{"$f":"MATCH(BD$3,Millwall!$AH112:$AW112,0)","v":{"$error":"#N/A"}},{"$f":"MATCH(BE$3,Millwall!$AH112:$AW112,0)","v":{"$error":"#N/A"}},{"$f":"MATCH(BF$3,Millwall!$AH112:$AW112,0)","v":{"$error":"#N/A"}},{"$f":"MATCH(BG$3,Millwall!$AH112:$AW112,0)","v":{"$error":"#N/A"}},{"$f":"MATCH(BH$3,Millwall!$AH112:$AW112,0)","v":{"$error":"#N/A"}},{"$f":"MATCH(BI$3,Millwall!$AH112:$AW112,0)","v":{"$error":"#N/A"}},{"$f":"MATCH(BJ$3,Millwall!$AH112:$AW112,0)","v":{"$error":"#N/A"}},{"$f":"MATCH(BK$3,Millwall!$AH112:$AW112,0)","v":{"$error":"#N/A"}},{"$f":"MATCH(BL$3,Millwall!$AH112:$AW112,0)","v":{"$error":"#N/A"}},{"$f":"MATCH(BM$3,Millwall!$AH112:$AW112,0)","v":{"$error":"#N/A"}},{"$f":"MATCH(BN$3,Millwall!$AH112:$AW112,0)","v":{"$error":"#N/A"}},{"$f":"MATCH(BO$3,Millwall!$AH112:$AW112,0)","v":{"$error":"#N/A"}},{"$f":"MATCH(BP$3,Millwall!$AH112:$AW112,0)","v":{"$error":"#N/A"}},{"$f":"MATCH(BQ$3,Millwall!$AH112:$AW112,0)","v":{"$error":"#N/A"}},{"$f":"MATCH(BR$3,Millwall!$AH112:$AW112,0)","v":{"$error":"#N/A"}},{"$f":"MATCH(BS$3,Millwall!$AH112:$AW112,0)","v":{"$error":"#N/A"}},{"$f":"MATCH(BT$3,Millwall!$AH112:$AW112,0)","v":{"$error":"#N/A"}},{"$f":"MATCH(BU$3,Millwall!$AH112:$AW112,0)","v":{"$error":"#N/A"}},{"$f":"MATCH(BV$3,Millwall!$AH112:$AW112,0)","v":{"$error":"#N/A"}},{"$f":"MATCH(BW$3,Millwall!$AH112:$AW112,0)","v":{"$error":"#N/A"}},{"$f":"MATCH(BX$3,Millwall!$AH112:$AW112,0)","v":{"$error":"#N/A"}},{"$f":"MATCH(BY$3,Millwall!$AH112:$AW112,0)","v":{"$error":"#N/A"}},{"$f":"MATCH(BZ$3,Millwall!$AH112:$AW112,0)","v":{"$error":"#N/A"}},{"$f":"MATCH(CA$3,Millwall!$AH112:$AW112,0)","v":{"$error":"#N/A"}},{"$f":"MATCH(CB$3,Millwall!$AH112:$AW112,0)","v":{"$error":"#N/A"}},{"$f":"MATCH(CC$3,Millwall!$AH112:$AW112,0)","v":{"$error":"#N/A"}},{"$f":"MATCH(CD$3,Millwall!$AH112:$AW112,0)","v":{"$error":"#N/A"}},{"$f":"MATCH(CE$3,Millwall!$AH112:$AW112,0)","v":{"$error":"#N/A"}},{"$f":"MATCH(CF$3,Millwall!$AH112:$AW112,0)","v":{"$error":"#N/A"}},{"$f":"MATCH(CG$3,Millwall!$AH112:$AW112,0)","v":{"$error":"#N/A"}},{"$f":"MATCH(CH$3,Millwall!$AH112:$AW112,0)","v":{"$error":"#N/A"}},{"$f":"MATCH(CI$3,Millwall!$AH112:$AW112,0)","v":{"$error":"#N/A"}},{"$f":"MATCH(CJ$3,Millwall!$AH112:$AW112,0)","v":{"$error":"#N/A"}},{"$f":"MATCH(CK$3,Millwall!$AH112:$AW112,0)","v":{"$error":"#N/A"}},{"$f":"MATCH(CL$3,Millwall!$AH112:$AW112,0)","v":{"$error":"#N/A"}},{"$f":"MATCH(CM$3,Millwall!$AH112:$AW112,0)","v":{"$error":"#N/A"}},null,null,{"$f":"MATCH($CP$3,Millwall!$AH$112:$AW$112,0)","v":{"$error":"#N/A"}},{"$f":"MATCH($CQ$3,Millwall!$AH$112:$AW$112,0)","v":{"$error":"#N/A"}},{"$f":"MATCH($CR$3,Millwall!$AH$112:$AW$112,0)","v":{"$error":"#N/A"}},{"$f":"MATCH($CS$3,Millwall!$AH$112:$AW$112,0)","v":{"$error":"#N/A"}},{"$f":"MATCH($CT$3,Millwall!$AH$112:$AW$112,0)","v":{"$error":"#N/A"}},{"$f":"MATCH($CU$3,Millwall!$AH$112:$AW$112,0)","v":{"$error":"#N/A"}},{"$f":"MATCH($CV$3,Millwall!$AH$112:$AW$112,0)","v":13},{"$f":"MATCH($CW$3,Millwall!$AH$112:$AW$112,0)","v":{"$error":"#N/A"}},{"$f":"MATCH($CX$3,Millwall!$AH$112:$AW$112,0)","v":{"$error":"#N/A"}},{"$f":"MATCH($CY$3,Millwall!$AH$112:$AW$112,0)","v":{"$error":"#N/A"}},{"$f":"MATCH($CZ$3,Millwall!$AH$112:$AW$112,0)","v":{"$error":"#N/A"}},{"$f":"MATCH($DA$3,Millwall!$AH$112:$AW$112,0)","v":{"$error":"#N/A"}},{"$f":"MATCH($DB$3,Millwall!$AH$112:$AW$112,0)","v":{"$error":"#N/A"}},{"$f":"MATCH($DC$3,Millwall!$AH$112:$AW$112,0)","v":{"$error":"#N/A"}},{"$f":"MATCH($DD$3,Millwall!$AH$112:$AW$112,0)","v":{"$error":"#N/A"}},{"$f":"MATCH($DE$3,Millwall!$AH$112:$AW$112,0)","v":{"$error":"#N/A"}},{"$f":"MATCH($DF$3,Millwall!$AH$112:$AW$112,0)","v":{"$error":"#N/A"}},{"$f":"MATCH($DG$3,Millwall!$AH$112:$AW$112,0)","v":{"$error":"#N/A"}},{"$f":"MATCH($DH$3,Millwall!$AH$112:$AW$112,0)","v":{"$error":"#N/A"}},{"$f":"MATCH($DI$3,Millwall!$AH$112:$AW$112,0)","v":{"$error":"#N/A"}},{"$f":"MATCH($DJ$3,Millwall!$AH$112:$AW$112,0)","v":{"$error":"#N/A"}},{"$f":"MATCH($DK$3,Millwall!$AH$112:$AW$112,0)","v":{"$error":"#N/A"}},{"$f":"MATCH($DL$3,Millwall!$AH$112:$AW$112,0)","v":{"$error":"#N/A"}},{"$f":"MATCH($DM$3,Millwall!$AH$112:$AW$112,0)","v":{"$error":"#N/A"}},{"$f":"MATCH($DN$3,Millwall!$AH$112:$AW$112,0)","v":{"$error":"#N/A"}},{"$f":"MATCH($DO$3,Millwall!$AH$112:$AW$112,0)","v":{"$error":"#N/A"}},{"$f":"MATCH($DP$3,Millwall!$AH$112:$AW$112,0)","v":10},{"$f":"MATCH($DQ$3,Millwall!$AH$112:$AW$112,0)","v":{"$error":"#N/A"}},{"$f":"MATCH($DR$3,Millwall!$AH$112:$AW$112,0)","v":{"$error":"#N/A"}},{"$f":"MATCH($DS$3,Millwall!$AH$112:$AW$112,0)","v":{"$error":"#N/A"}},{"$f":"MATCH($DT$3,Millwall!$AH$112:$AW$112,0)","v":{"$error":"#N/A"}},{"$f":"MATCH($DU$3,Millwall!$AH$112:$AW$112,0)","v":{"$error":"#N/A"}},{"$f":"MATCH($DV$3,Millwall!$AH$112:$AW$112,0)","v":{"$error":"#N/A"}},{"$f":"MATCH($DW$3,Millwall!$AH$112:$AW$112,0)","v":{"$error":"#N/A"}},{"$f":"MATCH($DX$3,Millwall!$AH$112:$AW$112,0)","v":{"$error":"#N/A"}},{"$f":"MATCH($DY$3,Millwall!$AH$112:$AW$112,0)","v":{"$error":"#N/A"}},{"$f":"MATCH($DZ$3,Millwall!$AH$112:$AW$112,0)","v":{"$error":"#N/A"}},{"$f":"MATCH($EA$3,Millwall!$AH$112:$AW$112,0)","v":{"$error":"#N/A"}},null,null,{"$f":"MATCH(ED$3,Millwall!$AH$112:$AW$112,0)","v":{"$error":"#N/A"}},{"$f":"MATCH(EE$3,Millwall!$AH$112:$AW$112,0)","v":{"$error":"#N/A"}},{"$f":"MATCH(EF$3,Millwall!$AH$112:$AW$112,0)","v":{"$error":"#N/A"}},{"$f":"MATCH(EG$3,Millwall!$AH$112:$AW$112,0)","v":{"$error":"#N/A"}},{"$f":"MATCH(EH$3,Millwall!$AH$112:$AW$112,0)","v":{"$error":"#N/A"}},{"$f":"MATCH(EI$3,Millwall!$AH$112:$AW$112,0)","v":{"$error":"#N/A"}},{"$f":"MATCH(EJ$3,Millwall!$AH$112:$AW$112,0)","v":{"$error":"#N/A"}},{"$f":"MATCH(EK$3,Millwall!$AH$112:$AW$112,0)","v":{"$error":"#N/A"}},{"$f":"MATCH(EL$3,Millwall!$AH$112:$AW$112,0)","v":{"$error":"#N/A"}},{"$f":"MATCH(EM$3,Millwall!$AH$112:$AW$112,0)","v":{"$error":"#N/A"}},{"$f":"MATCH(EN$3,Millwall!$AH$112:$AW$112,0)","v":{"$error":"#N/A"}},{"$f":"MATCH(EO$3,Millwall!$AH$112:$AW$112,0)","v":{"$error":"#N/A"}},{"$f":"MATCH(EP$3,Millwall!$AH$112:$AW$112,0)","v":{"$error":"#N/A"}},{"$f":"MATCH(EQ$3,Millwall!$AH$112:$AW$112,0)","v":{"$error":"#N/A"}},{"$f":"MATCH(ER$3,Millwall!$AH$112:$AW$112,0)","v":{"$error":"#N/A"}},{"$f":"MATCH(ES$3,Millwall!$AH$112:$AW$112,0)","v":{"$error":"#N/A"}},{"$f":"MATCH(ET$3,Millwall!$AH$112:$AW$112,0)","v":{"$error":"#N/A"}},{"$f":"MATCH(EU$3,Millwall!$AH$112:$AW$112,0)","v":{"$error":"#N/A"}},{"$f":"MATCH(EV$3,Millwall!$AH$112:$AW$112,0)","v":{"$error":"#N/A"}},{"$f":"MATCH(EW$3,Millwall!$AH$112:$AW$112,0)","v":{"$error":"#N/A"}},{"$f":"MATCH(EX$3,Millwall!$AH$112:$AW$112,0)","v":{"$error":"#N/A"}},{"$f":"MATCH(EY$3,Millwall!$AH$112:$AW$112,0)","v":{"$error":"#N/A"}},{"$f":"MATCH(EZ$3,Millwall!$AH$112:$AW$112,0)","v":{"$error":"#N/A"}},{"$f":"MATCH(FA$3,Millwall!$AH$112:$AW$112,0)","v":{"$error":"#N/A"}},{"$f":"MATCH(FB$3,Millwall!$AH$112:$AW$112,0)","v":{"$error":"#N/A"}},{"$f":"MATCH(FC$3,Millwall!$AH$112:$AW$112,0)","v":{"$error":"#N/A"}},{"$f":"MATCH(FD$3,Millwall!$AH$112:$AW$112,0)","v":{"$error":"#N/A"}},{"$f":"MATCH(FE$3,Millwall!$AH$112:$AW$112,0)","v":{"$error":"#N/A"}},{"$f":"MATCH(FF$3,Millwall!$AH$112:$AW$112,0)","v":{"$error":"#N/A"}},{"$f":"MATCH(FG$3,Millwall!$AH$112:$AW$112,0)","v":{"$error":"#N/A"}},{"$f":"MATCH(FH$3,Millwall!$AH$112:$AW$112,0)","v":{"$error":"#N/A"}},{"$f":"MATCH(FI$3,Millwall!$AH$112:$AW$112,0)","v":{"$error":"#N/A"}},{"$f":"MATCH(FJ$3,Millwall!$AH$112:$AW$112,0)","v":{"$error":"#N/A"}},{"$f":"MATCH(FK$3,Millwall!$AH$112:$AW$112,0)","v":{"$error":"#N/A"}},{"$f":"MATCH(FL$3,Millwall!$AH$112:$AW$112,0)","v":{"$error":"#N/A"}},{"$f":"MATCH(FM$3,Millwall!$AH$112:$AW$112,0)","v":{"$error":"#N/A"}},{"$f":"MATCH(FN$3,Millwall!$AH$112:$AW$112,0)","v":{"$error":"#N/A"}},{"$f":"MATCH(FO$3,Millwall!$AH$112:$AW$112,0)","v":{"$error":"#N/A"}},null,null,null,null,null,null,{"$f":"$FX$42&\" {**\"","v":"0 {**"},{"$f":"$FX$42&\" [**\"","v":"0 [**"},{"$f":"Millwall!$BY97","v":0},"0 (**",{"$f":"$FX$42&\"**\"","v":"0**"},null,{"$f":"$FX$42","v":0},{"$f":"$FY$42","v":"0 (**"},{"$f":"$FZ$42","v":"0**"},null,{"$f":"Millwall!CC43","v":2},{"$f":"Millwall!CH43","v":2},{"$f":"Millwall!CR43","v":0},{"$f":"Millwall!CW43","v":0}]
[null,null,0,39,null,{"$f":"Millwall!AD113","v":"1997-03-28"},null,{"$f":"Millwall!AE113","v":"Wrexham"},{"$f":"Millwall!AF113","v":"(A)"},{"$f":"Millwall!AG113","v":"D 3-3"},{"$f":"MATCH($K$4,Millwall!$AH$113:$AW$113,0)","v":{"$error":"#N/A"}},{"$f":"MATCH($L$4,Millwall!$AH$113:$AW$113,0)","v":3},{"$f":"MATCH($M$4,Millwall!$AH$113:$AW$113,0)","v":{"$error":"#N/A"}},{"$f":"MATCH($N$4,Millwall!$AH$113:$AW$113,0)","v":{"$error":"#N/A"}},{"$f":"MATCH($O$4,Millwall!$AH$113:$AW$113,0)","v":{"$error":"#N/A"}},{"$f":"MATCH($P$4,Millwall!$AH$113:$AW$113,0)","v":{"$error":"#N/A"}},{"$f":"MATCH($Q$4,Millwall!$AH$113:$AW$113,0)","v":{"$error":"#N/A"}},{"$f":"MATCH($R$4,Millwall!$AH$113:$AW$113,0)","v":1},{"$f":"MATCH($S$4,Millwall!$AH$113:$AW$113,0)","v":9},{"$f":"MATCH($T$4,Millwall!$AH$113:$AW$113,0)","v":{"$error":"#N/A"}},{"$f":"MATCH($U$4,Millwall!$AH$113:$AW$113,0)","v":11},{"$f":"MATCH($V$4,Millwall!$AH$113:$AW$113,0)","v":8},{"$f":"MATCH($W$4,Millwall!$AH$113:$AW$113,0)","v":{"$error":"#N/A"}},{"$f":"MATCH($X$4,Millwall!$AH$113:$AW$113,0)","v":{"$error":"#N/A"}},{"$f":"MATCH($Y$4,Millwall!$AH$113:$AW$113,0)","v":{"$error":"#N/A"}},{"$f":"MATCH($Z$4,Millwall!$AH$113:$AW$113,0)","v":7},{"$f":"MATCH($AA$4,Millwall!$AH$113:$AW$113,0)","v":{"$error":"#N/A"}},{"$f":"MATCH($AB$4,Millwall!$AH$113:$AW$113,0)","v":{"$error":"#N/A"}},{"$f":"MATCH($AC$4,Millwall!$AH$113:$AW$113,0)","v":{"$error":"#N/A"}},{"$f":"MATCH($AD$4,Millwall!$AH$113:$AW$113,0)","v":{"$error":"#N/A"}},{"$f":"MATCH($AE$4,Millwall!$AH$113:$AW$113,0)","v":{"$error":"#N/A"}},{"$f":"MATCH($AF$4,Millwall!$AH$113:$AW$113,0)","v":5},{"$f":"MATCH($AG$4,Millwall!$AH$113:$AW$113,0)","v":{"$error":"#N/A"}},{"$f":"MATCH($AH$4,Millwall!$AH$113:$AW$113,0)","v":2},{"$f":"MATCH($AI$4,Millwall!$AH$113:$AW$113,0)","v":4},{"$f":"MATCH($AJ$4,Millwall!$AH$113:$AW$113,0)","v":{"$error":"#N/A"}},{"$f":"MATCH($AK$4,Millwall!$AH$113:$AW$113,0)","v":{"$error":"#N/A"}},{"$f":"MATCH($AL$4,Millwall!$AH$113:$AW$113,0)","v":12},{"$f":"MATCH($AM$4,Millwall!$AH$113:$AW$113,0)","v":10},{"$f":"MATCH($AN$4,Millwall!$AH$113:$AW$113,0)","v":13},{"$f":"MATCH($AO$4,Millwall!$AH$113:$AW$113,0)","v":{"$error":"#N/A"}},{"$f":"MATCH($AP$4,Millwall!$AH$113:$AW$113,0)","v":{"$error":"#N/A"}},{"$f":"MATCH($AQ$4,Millwall!$AH$113:$AW$113,0)","v":{"$error":"#N/A"}},{"$f":"MATCH($AR$4,Millwall!$AH$113:$AW$113,0)","v":14},{"$f":"MATCH($AS$4,Millwall!$AH$113:$AW$113,0)","v":{"$error":"#N/A"}},{"$f":"MATCH($AT$4,Millwall!$AH$113:$AW$113,0)","v":6},{"$f":"MATCH($AU$4,Millwall!$AH$113:$AW$113,0)","v":{"$error":"#N/A"}},{"$f":"MATCH($AV$4,Millwall!$AH$113:$AW$113,0)","v":{"$error":"#N/A"}},null,null,null,null,null,{"$f":"MATCH(BB$3,Millwall!$AH113:$AW113,0)","v":{"$error":"#N/A"}},{"$f":"MATCH(BC$3,Millwall!$AH113:$AW113,0)","v":{"$error":"#N/A"}},{"$f":"MATCH(BD$3,Millwall!$AH113:$AW113,0)","v":{"$error":"#N/A"}},{"$f":"MATCH(BE$3,Millwall!$AH113:$AW113,0)","v":{"$error":"#N/A"}},{"$f":"MATCH(BF$3,Millwall!$AH113:$AW113,0)","v":{"$error":"#N/A"}},{"$f":"MATCH(BG$3,Millwall!$AH113:$AW113,0)","v":{"$error":"#N/A"}},{"$f":"MATCH(BH$3,Millwall!$AH113:$AW113,0)","v":{"$error":"#N/A"}},{"$f":"MATCH(BI$3,Millwall!$AH113:$AW113,0)","v":{"$error":"#N/A"}},{"$f":"MATCH(BJ$3,Millwall!$AH113:$AW113,0)","v":{"$error":"#N/A"}},{"$f":"MATCH(BK$3,Millwall!$AH113:$AW113,0)","v":{"$error":"#N/A"}},{"$f":"MATCH(BL$3,Millwall!$AH113:$AW113,0)","v":11},{"$f":"MATCH(BM$3,Millwall!$AH113:$AW113,0)","v":{"$error":"#N/A"}},{"$f":"MATCH(BN$3,Millwall!$AH113:$AW113,0)","v":{"$error":"#N/A"}},{"$f":"MATCH(BO$3,Millwall!$AH113:$AW113,0)","v":{"$error":"#N/A"}},{"$f":"MATCH(BP$3,Millwall!$AH113:$AW113,0)","v":{"$error":"#N/A"}},{"$f":"MATCH(BQ$3,Millwall!$AH113:$AW113,0)","v":{"$error":"#N/A"}},{"$f":"MATCH(BR$3,Millwall!$AH113:$AW113,0)","v":{"$error":"#N/A"}},{"$f":"MATCH(BS$3,Millwall!$AH113:$AW113,0)","v":{"$error":"#N/A"}},{"$f":"MATCH(BT$3,Millwall!$AH113:$AW113,0)","v":{"$error":"#N/A"}},{"$f":"MATCH(BU$3,Millwall!$AH113:$AW113,0)","v":{"$error":"#N/A"}},{"$f":"MATCH(BV$3,Millwall!$AH113:$AW113,0)","v":{"$error":"#N/A"}},{"$f":"MATCH(BW$3,Millwall!$AH113:$AW113,0)","v":{"$error":"#N/A"}},{"$f":"MATCH(BX$3,Millwall!$AH113:$AW113,0)","v":{"$error":"#N/A"}},{"$f":"MATCH(BY$3,Millwall!$AH113:$AW113,0)","v":{"$error":"#N/A"}},{"$f":"MATCH(BZ$3,Millwall!$AH113:$AW113,0)","v":{"$error":"#N/A"}},{"$f":"MATCH(CA$3,Millwall!$AH113:$AW113,0)","v":{"$error":"#N/A"}},{"$f":"MATCH(CB$3,Millwall!$AH113:$AW113,0)","v":{"$error":"#N/A"}},{"$f":"MATCH(CC$3,Millwall!$AH113:$AW113,0)","v":12},{"$f":"MATCH(CD$3,Millwall!$AH113:$AW113,0)","v":{"$error":"#N/A"}},{"$f":"MATCH(CE$3,Millwall!$AH113:$AW113,0)","v":{"$error":"#N/A"}},{"$f":"MATCH(CF$3,Millwall!$AH113:$AW113,0)","v":{"$error":"#N/A"}},{"$f":"MATCH(CG$3,Millwall!$AH113:$AW113,0)","v":{"$error":"#N/A"}},{"$f":"MATCH(CH$3,Millwall!$AH113:$AW113,0)","v":{"$error":"#N/A"}},{"$f":"MATCH(CI$3,Millwall!$AH113:$AW113,0)","v":{"$error":"#N/A"}},{"$f":"MATCH(CJ$3,Millwall!$AH113:$AW113,0)","v":{"$error":"#N/A"}},{"$f":"MATCH(CK$3,Millwall!$AH113:$AW113,0)","v":{"$error":"#N/A"}},{"$f":"MATCH(CL$3,Millwall!$AH113:$AW113,0)","v":{"$error":"#N/A"}},{"$f":"MATCH(CM$3,Millwall!$AH113:$AW113,0)","v":{"$error":"#N/A"}},null,null,{"$f":"MATCH($CP$3,Millwall!$AH$113:$AW$113,0)","v":{"$error":"#N/A"}},{"$f":"MATCH($CQ$3,Millwall!$AH$113:$AW$113,0)","v":{"$error":"#N/A"}},{"$f":"MATCH($CR$3,Millwall!$AH$113:$AW$113,0)","v":{"$error":"#N/A"}},{"$f":"MATCH($CS$3,Millwall!$AH$113:$AW$113,0)","v":{"$error":"#N/A"}},{"$f":"MATCH($CT$3,Millwall!$AH$113:$AW$113,0)","v":{"$error":"#N/A"}},{"$f":"MATCH($CU$3,Millwall!$AH$113:$AW$113,0)","v":{"$error":"#N/A"}},{"$f":"MATCH($CV$3,Millwall!$AH$113:$AW$113,0)","v":{"$error":"#N/A"}},{"$f":"MATCH($CW$3,Millwall!$AH$113:$AW$113,0)","v":{"$error":"#N/A"}},{"$f":"MATCH($CX$3,Millwall!$AH$113:$AW$113,0)","v":{"$error":"#N/A"}},{"$f":"MATCH($CY$3,Millwall!$AH$113:$AW$113,0)","v":{"$error":"#N/A"}},{"$f":"MATCH($CZ$3,Millwall!$AH$113:$AW$113,0)","v":{"$error":"#N/A"}},{"$f":"MATCH($DA$3,Millwall!$AH$113:$AW$113,0)","v":{"$error":"#N/A"}},{"$f":"MATCH($DB$3,Millwall!$AH$113:$AW$113,0)","v":{"$error":"#N/A"}},{"$f":"MATCH($DC$3,Millwall!$AH$113:$AW$113,0)","v":{"$error":"#N/A"}},{"$f":"MATCH($DD$3,Millwall!$AH$113:$AW$113,0)","v":{"$error":"#N/A"}},{"$f":"MATCH($DE$3,Millwall!$AH$113:$AW$113,0)","v":{"$error":"#N/A"}},{"$f":"MATCH($DF$3,Millwall!$AH$113:$AW$113,0)","v":{"$error":"#N/A"}},{"$f":"MATCH($DG$3,Millwall!$AH$113:$AW$113,0)","v":{"$error":"#N/A"}},{"$f":"MATCH($DH$3,Millwall!$AH$113:$AW$113,0)","v":{"$error":"#N/A"}},{"$f":"MATCH($DI$3,Millwall!$AH$113:$AW$113,0)","v":{"$error":"#N/A"}},{"$f":"MATCH($DJ$3,Millwall!$AH$113:$AW$113,0)","v":{"$error":"#N/A"}},{"$f":"MATCH($DK$3,Millwall!$AH$113:$AW$113,0)","v":{"$error":"#N/A"}},{"$f":"MATCH($DL$3,Millwall!$AH$113:$AW$113,0)","v":{"$error":"#N/A"}},{"$f":"MATCH($DM$3,Millwall!$AH$113:$AW$113,0)","v":{"$error":"#N/A"}},{"$f":"MATCH($DN$3,Millwall!$AH$113:$AW$113,0)","v":{"$error":"#N/A"}},{"$f":"MATCH($DO$3,Millwall!$AH$113:$AW$113,0)","v":{"$error":"#N/A"}},{"$f":"MATCH($DP$3,Millwall!$AH$113:$AW$113,0)","v":{"$error":"#N/A"}},{"$f":"MATCH($DQ$3,Millwall!$AH$113:$AW$113,0)","v":{"$error":"#N/A"}},{"$f":"MATCH($DR$3,Millwall!$AH$113:$AW$113,0)","v":{"$error":"#N/A"}},{"$f":"MATCH($DS$3,Millwall!$AH$113:$AW$113,0)","v":{"$error":"#N/A"}},{"$f":"MATCH($DT$3,Millwall!$AH$113:$AW$113,0)","v":{"$error":"#N/A"}},{"$f":"MATCH($DU$3,Millwall!$AH$113:$AW$113,0)","v":{"$error":"#N/A"}},{"$f":"MATCH($DV$3,Millwall!$AH$113:$AW$113,0)","v":{"$error":"#N/A"}},{"$f":"MATCH($DW$3,Millwall!$AH$113:$AW$113,0)","v":{"$error":"#N/A"}},{"$f":"MATCH($DX$3,Millwall!$AH$113:$AW$113,0)","v":{"$error":"#N/A"}},{"$f":"MATCH($DY$3,Millwall!$AH$113:$AW$113,0)","v":{"$error":"#N/A"}},{"$f":"MATCH($DZ$3,Millwall!$AH$113:$AW$113,0)","v":{"$error":"#N/A"}},{"$f":"MATCH($EA$3,Millwall!$AH$113:$AW$113,0)","v":{"$error":"#N/A"}},null,null,{"$f":"MATCH(ED$3,Millwall!$AH$113:$AW$113,0)","v":{"$error":"#N/A"}},{"$f":"MATCH(EE$3,Millwall!$AH$113:$AW$113,0)","v":{"$error":"#N/A"}},{"$f":"MATCH(EF$3,Millwall!$AH$113:$AW$113,0)","v":{"$error":"#N/A"}},{"$f":"MATCH(EG$3,Millwall!$AH$113:$AW$113,0)","v":{"$error":"#N/A"}},{"$f":"MATCH(EH$3,Millwall!$AH$113:$AW$113,0)","v":{"$error":"#N/A"}},{"$f":"MATCH(EI$3,Millwall!$AH$113:$AW$113,0)","v":{"$error":"#N/A"}},{"$f":"MATCH(EJ$3,Millwall!$AH$113:$AW$113,0)","v":{"$error":"#N/A"}},{"$f":"MATCH(EK$3,Millwall!$AH$113:$AW$113,0)","v":{"$error":"#N/A"}},{"$f":"MATCH(EL$3,Millwall!$AH$113:$AW$113,0)","v":{"$error":"#N/A"}},{"$f":"MATCH(EM$3,Millwall!$AH$113:$AW$113,0)","v":{"$error":"#N/A"}},{"$f":"MATCH(EN$3,Millwall!$AH$113:$AW$113,0)","v":{"$error":"#N/A"}},{"$f":"MATCH(EO$3,Millwall!$AH$113:$AW$113,0)","v":{"$error":"#N/A"}},{"$f":"MATCH(EP$3,Millwall!$AH$113:$AW$113,0)","v":{"$error":"#N/A"}},{"$f":"MATCH(EQ$3,Millwall!$AH$113:$AW$113,0)","v":{"$error":"#N/A"}},{"$f":"MATCH(ER$3,Millwall!$AH$113:$AW$113,0)","v":{"$error":"#N/A"}},{"$f":"MATCH(ES$3,Millwall!$AH$113:$AW$113,0)","v":{"$error":"#N/A"}},{"$f":"MATCH(ET$3,Millwall!$AH$113:$AW$113,0)","v":{"$error":"#N/A"}},{"$f":"MATCH(EU$3,Millwall!$AH$113:$AW$113,0)","v":{"$error":"#N/A"}},{"$f":"MATCH(EV$3,Millwall!$AH$113:$AW$113,0)","v":{"$error":"#N/A"}},{"$f":"MATCH(EW$3,Millwall!$AH$113:$AW$113,0)","v":{"$error":"#N/A"}},{"$f":"MATCH(EX$3,Millwall!$AH$113:$AW$113,0)","v":{"$error":"#N/A"}},{"$f":"MATCH(EY$3,Millwall!$AH$113:$AW$113,0)","v":{"$error":"#N/A"}},{"$f":"MATCH(EZ$3,Millwall!$AH$113:$AW$113,0)","v":{"$error":"#N/A"}},{"$f":"MATCH(FA$3,Millwall!$AH$113:$AW$113,0)","v":{"$error":"#N/A"}},{"$f":"MATCH(FB$3,Millwall!$AH$113:$AW$113,0)","v":{"$error":"#N/A"}},{"$f":"MATCH(FC$3,Millwall!$AH$113:$AW$113,0)","v":{"$error":"#N/A"}},{"$f":"MATCH(FD$3,Millwall!$AH$113:$AW$113,0)","v":{"$error":"#N/A"}},{"$f":"MATCH(FE$3,Millwall!$AH$113:$AW$113,0)","v":{"$error":"#N/A"}},{"$f":"MATCH(FF$3,Millwall!$AH$113:$AW$113,0)","v":{"$error":"#N/A"}},{"$f":"MATCH(FG$3,Millwall!$AH$113:$AW$113,0)","v":{"$error":"#N/A"}},{"$f":"MATCH(FH$3,Millwall!$AH$113:$AW$113,0)","v":{"$error":"#N/A"}},{"$f":"MATCH(FI$3,Millwall!$AH$113:$AW$113,0)","v":{"$error":"#N/A"}},{"$f":"MATCH(FJ$3,Millwall!$AH$113:$AW$113,0)","v":{"$error":"#N/A"}},{"$f":"MATCH(FK$3,Millwall!$AH$113:$AW$113,0)","v":{"$error":"#N/A"}},{"$f":"MATCH(FL$3,Millwall!$AH$113:$AW$113,0)","v":{"$error":"#N/A"}},{"$f":"MATCH(FM$3,Millwall!$AH$113:$AW$113,0)","v":{"$error":"#N/A"}},{"$f":"MATCH(FN$3,Millwall!$AH$113:$AW$113,0)","v":{"$error":"#N/A"}},{"$f":"MATCH(FO$3,Millwall!$AH$113:$AW$113,0)","v":{"$error":"#N/A"}}]
[null,null,0,40,null,{"$f":"Millwall!AD114","v":"1997-04-02"},null,{"$f":"Millwall!AE114","v":"York"},{"$f":"Millwall!AF114","v":"(H)"},{"$f":"Millwall!AG114","v":"D 1-1"},{"$f":"MATCH($K$4,Millwall!$AH$114:$AW$114,0)","v":13},{"$f":"MATCH($L$4,Millwall!$AH$114:$AW$114,0)","v":3},{"$f":"MATCH($M$4,Millwall!$AH$114:$AW$114,0)","v":2},{"$f":"MATCH($N$4,Millwall!$AH$114:$AW$114,0)","v":{"$error":"#N/A"}},{"$f":"MATCH($O$4,Millwall!$AH$114:$AW$114,0)","v":{"$error":"#N/A"}},{"$f":"MATCH($P$4,Millwall!$AH$114:$AW$114,0)","v":{"$error":"#N/A"}},{"$f":"MATCH($Q$4,Millwall!$AH$114:$AW$114,0)","v":14},{"$f":"MATCH($R$4,Millwall!$AH$114:$AW$114,0)","v":1},{"$f":"MATCH($S$4,Millwall!$AH$114:$AW$114,0)","v":9},{"$f":"MATCH($T$4,Millwall!$AH$114:$AW$114,0)","v":{"$error":"#N/A"}},{"$f":"MATCH($U$4,Millwall!$AH$114:$AW$114,0)","v":{"$error":"#N/A"}},{"$f":"MATCH($V$4,Millwall!$AH$114:$AW$114,0)","v":8},{"$f":"MATCH($W$4,Millwall!$AH$114:$AW$114,0)","v":{"$error":"#N/A"}},{"$f":"MATCH($X$4,Millwall!$AH$114:$AW$114,0)","v":{"$error":"#N/A"}},{"$f":"MATCH($Y$4,Millwall!$AH$114:$AW$114,0)","v":{"$error":"#N/A"}},{"$f":"MATCH($Z$4,Millwall!$AH$114:$AW$114,0)","v":7},{"$f":"MATCH($AA$4,Millwall!$AH$114:$AW$114,0)","v":{"$error":"#N/A"}},{"$f":"MATCH($AB$4,Millwall!$AH$114:$AW$114,0)","v":{"$error":"#N/A"}},{"$f":"MATCH($AC$4,Millwall!$AH$114:$AW$114,0)","v":{"$error":"#N/A"}},{"$f":"MATCH($AD$4,Millwall!$AH$114:$AW$114,0)","v":{"$error":"#N/A"}},{"$f":"MATCH($AE$4,Millwall!$AH$114:$AW$114,0)","v":{"$error":"#N/A"}},{"$f":"MATCH($AF$4,Millwall!$AH$114:$AW$114,0)","v":5},{"$f":"MATCH($AG$4,Millwall!$AH$114:$AW$114,0)","v":{"$error":"#N/A"}},{"$f":"MATCH($AH$4,Millwall!$AH$114:$AW$114,0)","v":{"$error":"#N/A"}},{"$f":"MATCH($AI$4,Millwall!$AH$114:$AW$114,0)","v":{"$error":"#N/A"}},{"$f":"MATCH($AJ$4,Millwall!$AH$114:$AW$114,0)","v":{"$error":"#N/A"}},{"$f":"MATCH($AK$4,Millwall!$AH$114:$AW$114,0)","v":12},{"$f":"MATCH($AL$4,Millwall!$AH$114:$AW$114,0)","v":11},{"$f":"MATCH($AM$4,Millwall!$AH$114:$AW$114,0)","v":10},{"$f":"MATCH($AN$4,Millwall!$AH$114:$AW$114,0)","v":4},{"$f":"MATCH($AO$4,Millwall!$AH$114:$AW$114,0)","v":{"$error":"#N/A"}},{"$f":"MATCH($AP$4,Millwall!$AH$114:$AW$114,0)","v":{"$error":"#N/A"}},{"$f":"MATCH($AQ$4,Millwall!$AH$114:$AW$114,0)","v":{"$error":"#N/A"}},{"$f":"MATCH($AR$4,Millwall!$AH$114:$AW$114,0)","v":6},{"$f":"MATCH($AS$4,Millwall!$AH$114:$AW$114,0)","v":{"$error":"#N/A"}},{"$f":"MATCH($AT$4,Millwall!$AH$114:$AW$114,0)","v":{"$error":"#N/A"}},{"$f":"MATCH($AU$4,Millwall!$AH$114:$AW$114,0)","v":{"$error":"#N/A"}},{"$f":"MATCH($AV$4,Millwall!$AH$114:$AW$114,0)","v":{"$error":"#N/A"}},null,null,null,null,null,{"$f":"MATCH(BB$3,Millwall!$AH114:$AW114,0)","v":{"$error":"#N/A"}},{"$f":"MATCH(BC$3,Millwall!$AH114:$AW114,0)","v":3},{"$f":"MATCH(BD$3,Millwall!$AH114:$AW114,0)","v":{"$error":"#N/A"}},{"$f":"MATCH(BE$3,Millwall!$AH114:$AW114,0)","v":{"$error":"#N/A"}},{"$f":"MATCH(BF$3,Millwall!$AH114:$AW114,0)","v":{"$error":"#N/A"}},{"$f":"MATCH(BG$3,Millwall!$AH114:$AW114,0)","v":{"$error":"#N/A"}},{"$f":"MATCH(BH$3,Millwall!$AH114:$AW114,0)","v":{"$error":"#N/A"}},{"$f":"MATCH(BI$3,Millwall!$AH114:$AW114,0)","v":{"$error":"#N/A"}},{"$f":"MATCH(BJ$3,Millwall!$AH114:$AW114,0)","v":{"$error":"#N/A"}},{"$f":"MATCH(BK$3,Millwall!$AH114:$AW114,0)","v":{"$error":"#N/A"}},{"$f":"MATCH(BL$3,Millwall!$AH114:$AW114,0)","v":{"$error":"#N/A"}},{"$f":"MATCH(BM$3,Millwall!$AH114:$AW114,0)","v":{"$error":"#N/A"}},{"$f":"MATCH(BN$3,Millwall!$AH114:$AW114,0)","v":{"$error":"#N/A"}},{"$f":"MATCH(BO$3,Millwall!$AH114:$AW114,0)","v":{"$error":"#N/A"}},{"$f":"MATCH(BP$3,Millwall!$AH114:$AW114,0)","v":{"$error":"#N/A"}},{"$f":"MATCH(BQ$3,Millwall!$AH114:$AW114,0)","v":{"$error":"#N/A"}},{"$f":"MATCH(BR$3,Millwall!$AH114:$AW114,0)","v":{"$error":"#N/A"}},{"$f":"MATCH(BS$3,Millwall!$AH114:$AW114,0)","v":{"$error":"#N/A"}},{"$f":"MATCH(BT$3,Millwall!$AH114:$AW114,0)","v":{"$error":"#N/A"}},{"$f":"MATCH(BU$3,Millwall!$AH114:$AW114,0)","v":{"$error":"#N/A"}},{"$f":"MATCH(BV$3,Millwall!$AH114:$AW114,0)","v":{"$error":"#N/A"}},{"$f":"MATCH(BW$3,Millwall!$AH114:$AW114,0)","v":{"$error":"#N/A"}},{"$f":"MATCH(BX$3,Millwall!$AH114:$AW114,0)","v":{"$error":"#N/A"}},{"$f":"MATCH(BY$3,Millwall!$AH114:$AW114,0)","v":{"$error":"#N/A"}},{"$f":"MATCH(BZ$3,Millwall!$AH114:$AW114,0)","v":{"$error":"#N/A"}},{"$f":"MATCH(CA$3,Millwall!$AH114:$AW114,0)","v":{"$error":"#N/A"}},{"$f":"MATCH(CB$3,Millwall!$AH114:$AW114,0)","v":12},{"$f":"MATCH(CC$3,Millwall!$AH114:$AW114,0)","v":{"$error":"#N/A"}},{"$f":"MATCH(CD$3,Millwall!$AH114:$AW114,0)","v":{"$error":"#N/A"}},{"$f":"MATCH(CE$3,Millwall!$AH114:$AW114,0)","v":{"$error":"#N/A"}},{"$f":"MATCH(CF$3,Millwall!$AH114:$AW114,0)","v":{"$error":"#N/A"}},{"$f":"MATCH(CG$3,Millwall!$AH114:$AW114,0)","v":{"$error":"#N/A"}},{"$f":"MATCH(CH$3,Millwall!$AH114:$AW114,0)","v":{"$error":"#N/A"}},{"$f":"MATCH(CI$3,Millwall!$AH114:$AW114,0)","v":{"$error":"#N/A"}},{"$f":"MATCH(CJ$3,Millwall!$AH114:$AW114,0)","v":{"$error":"#N/A"}},{"$f":"MATCH(CK$3,Millwall!$AH114:$AW114,0)","v":{"$error":"#N/A"}},{"$f":"MATCH(CL$3,Millwall!$AH114:$AW114,0)","v":{"$error":"#N/A"}},{"$f":"MATCH(CM$3,Millwall!$AH114:$AW114,0)","v":{"$error":"#N/A"}},null,null,{"$f":"MATCH($CP$3,Millwall!$AH$114:$AW$114,0)","v":{"$error":"#N/A"}},{"$f":"MATCH($CQ$3,Millwall!$AH$114:$AW$114,0)","v":{"$error":"#N/A"}},{"$f":"MATCH($CR$3,Millwall!$AH$114:$AW$114,0)","v":{"$error":"#N/A"}},{"$f":"MATCH($CS$3,Millwall!$AH$114:$AW$114,0)","v":{"$error":"#N/A"}},{"$f":"MATCH($CT$3,Millwall!$AH$114:$AW$114,0)","v":{"$error":"#N/A"}},{"$f":"MATCH($CU$3,Millwall!$AH$114:$AW$114,0)","v":{"$error":"#N/A"}},{"$f":"MATCH($CV$3,Millwall!$AH$114:$AW$114,0)","v":{"$error":"#N/A"}},{"$f":"MATCH($CW$3,Millwall!$AH$114:$AW$114,0)","v":{"$error":"#N/A"}},{"$f":"MATCH($CX$3,Millwall!$AH$114:$AW$114,0)","v":{"$error":"#N/A"}},{"$f":"MATCH($CY$3,Millwall!$AH$114:$AW$114,0)","v":{"$error":"#N/A"}},{"$f":"MATCH($CZ$3,Millwall!$AH$114:$AW$114,0)","v":{"$error":"#N/A"}},{"$f":"MATCH($DA$3,Millwall!$AH$114:$AW$114,0)","v":{"$error":"#N/A"}},{"$f":"MATCH($DB$3,Millwall!$AH$114:$AW$114,0)","v":{"$error":"#N/A"}},{"$f":"MATCH($DC$3,Millwall!$AH$114:$AW$114,0)","v":{"$error":"#N/A"}},{"$f":"MATCH($DD$3,Millwall!$AH$114:$AW$114,0)","v":{"$error":"#N/A"}},{"$f":"MATCH($DE$3,Millwall!$AH$114:$AW$114,0)","v":{"$error":"#N/A"}},{"$f":"MATCH($DF$3,Millwall!$AH$114:$AW$114,0)","v":{"$error":"#N/A"}},{"$f":"MATCH($DG$3,Millwall!$AH$114:$AW$114,0)","v":{"$error":"#N/A"}},{"$f":"MATCH($DH$3,Millwall!$AH$114:$AW$114,0)","v":{"$error":"#N/A"}},{"$f":"MATCH($DI$3,Millwall!$AH$114:$AW$114,0)","v":{"$error":"#N/A"}},{"$f":"MATCH($DJ$3,Millwall!$AH$114:$AW$114,0)","v":{"$error":"#N/A"}},{"$f":"MATCH($DK$3,Millwall!$AH$114:$AW$114,0)","v":{"$error":"#N/A"}},{"$f":"MATCH($DL$3,Millwall!$AH$114:$AW$114,0)","v":{"$error":"#N/A"}},{"$f":"MATCH($DM$3,Millwall!$AH$114:$AW$114,0)","v":{"$error":"#N/A"}},{"$f":"MATCH($DN$3,Millwall!$AH$114:$AW$114,0)","v":{"$error":"#N/A"}},{"$f":"MATCH($DO$3,Millwall!$AH$114:$AW$114,0)","v":{"$error":"#N/A"}},{"$f":"MATCH($DP$3,Millwall!$AH$114:$AW$114,0)","v":{"$error":"#N/A"}},{"$f":"MATCH($DQ$3,Millwall!$AH$114:$AW$114,0)","v":{"$error":"#N/A"}},{"$f":"MATCH($DR$3,Millwall!$AH$114:$AW$114,0)","v":{"$error":"#N/A"}},{"$f":"MATCH($DS$3,Millwall!$AH$114:$AW$114,0)","v":{"$error":"#N/A"}},{"$f":"MATCH($DT$3,Millwall!$AH$114:$AW$114,0)","v":{"$error":"#N/A"}},{"$f":"MATCH($DU$3,Millwall!$AH$114:$AW$114,0)","v":{"$error":"#N/A"}},{"$f":"MATCH($DV$3,Millwall!$AH$114:$AW$114,0)","v":{"$error":"#N/A"}},{"$f":"MATCH($DW$3,Millwall!$AH$114:$AW$114,0)","v":{"$error":"#N/A"}},{"$f":"MATCH($DX$3,Millwall!$AH$114:$AW$114,0)","v":{"$error":"#N/A"}},{"$f":"MATCH($DY$3,Millwall!$AH$114:$AW$114,0)","v":{"$error":"#N/A"}},{"$f":"MATCH($DZ$3,Millwall!$AH$114:$AW$114,0)","v":{"$error":"#N/A"}},{"$f":"MATCH($EA$3,Millwall!$AH$114:$AW$114,0)","v":{"$error":"#N/A"}},null,null,{"$f":"MATCH(ED$3,Millwall!$AH$114:$AW$114,0)","v":{"$error":"#N/A"}},{"$f":"MATCH(EE$3,Millwall!$AH$114:$AW$114,0)","v":{"$error":"#N/A"}},{"$f":"MATCH(EF$3,Millwall!$AH$114:$AW$114,0)","v":{"$error":"#N/A"}},{"$f":"MATCH(EG$3,Millwall!$AH$114:$AW$114,0)","v":{"$error":"#N/A"}},{"$f":"MATCH(EH$3,Millwall!$AH$114:$AW$114,0)","v":{"$error":"#N/A"}},{"$f":"MATCH(EI$3,Millwall!$AH$114:$AW$114,0)","v":{"$error":"#N/A"}},{"$f":"MATCH(EJ$3,Millwall!$AH$114:$AW$114,0)","v":{"$error":"#N/A"}},{"$f":"MATCH(EK$3,Millwall!$AH$114:$AW$114,0)","v":{"$error":"#N/A"}},{"$f":"MATCH(EL$3,Millwall!$AH$114:$AW$114,0)","v":{"$error":"#N/A"}},{"$f":"MATCH(EM$3,Millwall!$AH$114:$AW$114,0)","v":{"$error":"#N/A"}},{"$f":"MATCH(EN$3,Millwall!$AH$114:$AW$114,0)","v":{"$error":"#N/A"}},{"$f":"MATCH(EO$3,Millwall!$AH$114:$AW$114,0)","v":{"$error":"#N/A"}},{"$f":"MATCH(EP$3,Millwall!$AH$114:$AW$114,0)","v":{"$error":"#N/A"}},{"$f":"MATCH(EQ$3,Millwall!$AH$114:$AW$114,0)","v":{"$error":"#N/A"}},{"$f":"MATCH(ER$3,Millwall!$AH$114:$AW$114,0)","v":{"$error":"#N/A"}},{"$f":"MATCH(ES$3,Millwall!$AH$114:$AW$114,0)","v":{"$error":"#N/A"}},{"$f":"MATCH(ET$3,Millwall!$AH$114:$AW$114,0)","v":{"$error":"#N/A"}},{"$f":"MATCH(EU$3,Millwall!$AH$114:$AW$114,0)","v":{"$error":"#N/A"}},{"$f":"MATCH(EV$3,Millwall!$AH$114:$AW$114,0)","v":{"$error":"#N/A"}},{"$f":"MATCH(EW$3,Millwall!$AH$114:$AW$114,0)","v":{"$error":"#N/A"}},{"$f":"MATCH(EX$3,Millwall!$AH$114:$AW$114,0)","v":{"$error":"#N/A"}},{"$f":"MATCH(EY$3,Millwall!$AH$114:$AW$114,0)","v":{"$error":"#N/A"}},{"$f":"MATCH(EZ$3,Millwall!$AH$114:$AW$114,0)","v":{"$error":"#N/A"}},{"$f":"MATCH(FA$3,Millwall!$AH$114:$AW$114,0)","v":{"$error":"#N/A"}},{"$f":"MATCH(FB$3,Millwall!$AH$114:$AW$114,0)","v":{"$error":"#N/A"}},{"$f":"MATCH(FC$3,Millwall!$AH$114:$AW$114,0)","v":{"$error":"#N/A"}},{"$f":"MATCH(FD$3,Millwall!$AH$114:$AW$114,0)","v":{"$error":"#N/A"}},{"$f":"MATCH(FE$3,Millwall!$AH$114:$AW$114,0)","v":{"$error":"#N/A"}},{"$f":"MATCH(FF$3,Millwall!$AH$114:$AW$114,0)","v":{"$error":"#N/A"}},{"$f":"MATCH(FG$3,Millwall!$AH$114:$AW$114,0)","v":{"$error":"#N/A"}},{"$f":"MATCH(FH$3,Millwall!$AH$114:$AW$114,0)","v":{"$error":"#N/A"}},{"$f":"MATCH(FI$3,Millwall!$AH$114:$AW$114,0)","v":{"$error":"#N/A"}},{"$f":"MATCH(FJ$3,Millwall!$AH$114:$AW$114,0)","v":{"$error":"#N/A"}},{"$f":"MATCH(FK$3,Millwall!$AH$114:$AW$114,0)","v":{"$error":"#N/A"}},{"$f":"MATCH(FL$3,Millwall!$AH$114:$AW$114,0)","v":{"$error":"#N/A"}},{"$f":"MATCH(FM$3,Millwall!$AH$114:$AW$114,0)","v":{"$error":"#N/A"}},{"$f":"MATCH(FN$3,Millwall!$AH$114:$AW$114,0)","v":{"$error":"#N/A"}},{"$f":"MATCH(FO$3,Millwall!$AH$114:$AW$114,0)","v":{"$error":"#N/A"}}]
[null,null,0,41,null,{"$f":"Millwall!AD115","v":"1997-04-05"},null,{"$f":"Millwall!AE115","v":"Burnley"},{"$f":"Millwall!AF115","v":"(A)"},{"$f":"Millwall!AG115","v":"L 0-1"},{"$f":"MATCH($K$4,Millwall!$AH$115:$AW$115,0)","v":{"$error":"#N/A"}},{"$f":"MATCH($L$4,Millwall!$AH$115:$AW$115,0)","v":{"$error":"#N/A"}},{"$f":"MATCH($M$4,Millwall!$AH$115:$AW$115,0)","v":2},{"$f":"MATCH($N$4,Millwall!$AH$115:$AW$115,0)","v":{"$error":"#N/A"}},{"$f":"MATCH($O$4,Millwall!$AH$115:$AW$115,0)","v":{"$error":"#N/A"}},{"$f":"MATCH($P$4,Millwall!$AH$115:$AW$115,0)","v":{"$error":"#N/A"}},{"$f":"MATCH($Q$4,Millwall!$AH$115:$AW$115,0)","v":14},{"$f":"MATCH($R$4,Millwall!$AH$115:$AW$115,0)","v":1},{"$f":"MATCH($S$4,Millwall!$AH$115:$AW$115,0)","v":9},{"$f":"MATCH($T$4,Millwall!$AH$115:$AW$115,0)","v":{"$error":"#N/A"}},{"$f":"MATCH($U$4,Millwall!$AH$115:$AW$115,0)","v":{"$error":"#N/A"}},{"$f":"MATCH($V$4,Millwall!$AH$115:$AW$115,0)","v":8},{"$f":"MATCH($W$4,Millwall!$AH$115:$AW$115,0)","v":{"$error":"#N/A"}},{"$f":"MATCH($X$4,Millwall!$AH$115:$AW$115,0)","v":{"$error":"#N/A"}},{"$f":"MATCH($Y$4,Millwall!$AH$115:$AW$115,0)","v":{"$error":"#N/A"}},{"$f":"MATCH($Z$4,Millwall!$AH$115:$AW$115,0)","v":7},{"$f":"MATCH($AA$4,Millwall!$AH$115:$AW$115,0)","v":{"$error":"#N/A"}},{"$f":"MATCH($AB$4,Millwall!$AH$115:$AW$115,0)","v":{"$error":"#N/A"}},{"$f":"MATCH($AC$4,Millwall!$AH$115:$AW$115,0)","v":{"$error":"#N/A"}},{"$f":"MATCH($AD$4,Millwall!$AH$115:$AW$115,0)","v":{"$error":"#N/A"}},{"$f":"MATCH($AE$4,Millwall!$AH$115:$AW$115,0)","v":{"$error":"#N/A"}},{"$f":"MATCH($AF$4,Millwall!$AH$115:$AW$115,0)","v":5},{"$f":"MATCH($AG$4,Millwall!$AH$115:$AW$115,0)","v":{"$error":"#N/A"}},{"$f":"MATCH($AH$4,Millwall!$AH$115:$AW$115,0)","v":11},{"$f":"MATCH($AI$4,Millwall!$AH$115:$AW$115,0)","v":13},{"$f":"MATCH($AJ$4,Millwall!$AH$115:$AW$115,0)","v":{"$error":"#N/A"}},{"$f":"MATCH($AK$4,Millwall!$AH$115:$AW$115,0)","v":{"$error":"#N/A"}},{"$f":"MATCH($AL$4,Millwall!$AH$115:$AW$115,0)","v":3},{"$f":"MATCH($AM$4,Millwall!$AH$115:$AW$115,0)","v":10},{"$f":"MATCH($AN$4,Millwall!$AH$115:$AW$115,0)","v":4},{"$f":"MATCH($AO$4,Millwall!$AH$115:$AW$115,0)","v":{"$error":"#N/A"}},{"$f":"MATCH($AP$4,Millwall!$AH$115:$AW$115,0)","v":{"$error":"#N/A"}},{"$f":"MATCH($AQ$4,Millwall!$AH$115:$AW$115,0)","v":{"$error":"#N/A"}},{"$f":"MATCH($AR$4,Millwall!$AH$115:$AW$115,0)","v":12},{"$f":"MATCH($AS$4,Millwall!$AH$115:$AW$115,0)","v":{"$error":"#N/A"}},{"$f":"MATCH($AT$4,Millwall!$AH$115:$AW$115,0)","v":6},{"$f":"MATCH($AU$4,Millwall!$AH$115:$AW$115,0)","v":{"$error":"#N/A"}},{"$f":"MATCH($AV$4,Millwall!$AH$115:$AW$115,0)","v":{"$error":"#N/A"}},null,null,null,null,null,{"$f":"MATCH(BB$3,Millwall!$AH115:$AW115,0)","v":{"$error":"#N/A"}},{"$f":"MATCH(BC$3,Millwall!$AH115:$AW115,0)","v":{"$error":"#N/A"}},{"$f":"MATCH(BD$3,Millwall!$AH115:$AW115,0)","v":{"$error":"#N/A"}},{"$f":"MATCH(BE$3,Millwall!$AH115:$AW115,0)","v":{"$error":"#N/A"}},{"$f":"MATCH(BF$3,Millwall!$AH115:$AW115,0)","v":{"$error":"#N/A"}},{"$f":"MATCH(BG$3,Millwall!$AH115:$AW115,0)","v":{"$error":"#N/A"}},{"$f":"MATCH(BH$3,Millwall!$AH115:$AW115,0)","v":{"$error":"#N/A"}},{"$f":"MATCH(BI$3,Millwall!$AH115:$AW115,0)","v":{"$error":"#N/A"}},{"$f":"MATCH(BJ$3,Millwall!$AH115:$AW115,0)","v":{"$error":"#N/A"}},{"$f":"MATCH(BK$3,Millwall!$AH115:$AW115,0)","v":{"$error":"#N/A"}},{"$f":"MATCH(BL$3,Millwall!$AH115:$AW115,0)","v":{"$error":"#N/A"}},{"$f":"MATCH(BM$3,Millwall!$AH115:$AW115,0)","v":{"$error":"#N/A"}},{"$f":"MATCH(BN$3,Millwall!$AH115:$AW115,0)","v":{"$error":"#N/A"}},{"$f":"MATCH(BO$3,Millwall!$AH115:$AW115,0)","v":{"$error":"#N/A"}},{"$f":"MATCH(BP$3,Millwall!$AH115:$AW115,0)","v":{"$error":"#N/A"}},{"$f":"MATCH(BQ$3,Millwall!$AH115:$AW115,0)","v":{"$error":"#N/A"}},{"$f":"MATCH(BR$3,Millwall!$AH115:$AW115,0)","v":{"$error":"#N/A"}},{"$f":"MATCH(BS$3,Millwall!$AH115:$AW115,0)","v":{"$error":"#N/A"}},{"$f":"MATCH(BT$3,Millwall!$AH115:$AW115,0)","v":{"$error":"#N/A"}},{"$f":"MATCH(BU$3,Millwall!$AH115:$AW115,0)","v":{"$error":"#N/A"}},{"$f":"MATCH(BV$3,Millwall!$AH115:$AW115,0)","v":{"$error":"#N/A"}},{"$f":"MATCH(BW$3,Millwall!$AH115:$AW115,0)","v":{"$error":"#N/A"}},{"$f":"MATCH(BX$3,Millwall!$AH115:$AW115,0)","v":{"$error":"#N/A"}},{"$f":"MATCH(BY$3,Millwall!$AH115:$AW115,0)","v":{"$error":"#N/A"}},{"$f":"MATCH(BZ$3,Millwall!$AH115:$AW115,0)","v":{"$error":"#N/A"}},{"$f":"MATCH(CA$3,Millwall!$AH115:$AW115,0)","v":{"$error":"#N/A"}},{"$f":"MATCH(CB$3,Millwall!$AH115:$AW115,0)","v":{"$error":"#N/A"}},{"$f":"MATCH(CC$3,Millwall!$AH115:$AW115,0)","v":{"$error":"#N/A"}},{"$f":"MATCH(CD$3,Millwall!$AH115:$AW115,0)","v":{"$error":"#N/A"}},{"$f":"MATCH(CE$3,Millwall!$AH115:$AW115,0)","v":{"$error":"#N/A"}},{"$f":"MATCH(CF$3,Millwall!$AH115:$AW115,0)","v":{"$error":"#N/A"}},{"$f":"MATCH(CG$3,Millwall!$AH115:$AW115,0)","v":{"$error":"#N/A"}},{"$f":"MATCH(CH$3,Millwall!$AH115:$AW115,0)","v":{"$error":"#N/A"}},{"$f":"MATCH(CI$3,Millwall!$AH115:$AW115,0)","v":{"$error":"#N/A"}},{"$f":"MATCH(CJ$3,Millwall!$AH115:$AW115,0)","v":{"$error":"#N/A"}},{"$f":"MATCH(CK$3,Millwall!$AH115:$AW115,0)","v":{"$error":"#N/A"}},{"$f":"MATCH(CL$3,Millwall!$AH115:$AW115,0)","v":{"$error":"#N/A"}},{"$f":"MATCH(CM$3,Millwall!$AH115:$AW115,0)","v":{"$error":"#N/A"}},null,null,{"$f":"MATCH($CP$3,Millwall!$AH$115:$AW$115,0)","v":{"$error":"#N/A"}},{"$f":"MATCH($CQ$3,Millwall!$AH$115:$AW$115,0)","v":{"$error":"#N/A"}},{"$f":"MATCH($CR$3,Millwall!$AH$115:$AW$115,0)","v":{"$error":"#N/A"}},{"$f":"MATCH($CS$3,Millwall!$AH$115:$AW$115,0)","v":{"$error":"#N/A"}},{"$f":"MATCH($CT$3,Millwall!$AH$115:$AW$115,0)","v":{"$error":"#N/A"}},{"$f":"MATCH($CU$3,Millwall!$AH$115:$AW$115,0)","v":{"$error":"#N/A"}},{"$f":"MATCH($CV$3,Millwall!$AH$115:$AW$115,0)","v":{"$error":"#N/A"}},{"$f":"MATCH($CW$3,Millwall!$AH$115:$AW$115,0)","v":{"$error":"#N/A"}},{"$f":"MATCH($CX$3,Millwall!$AH$115:$AW$115,0)","v":{"$error":"#N/A"}},{"$f":"MATCH($CY$3,Millwall!$AH$115:$AW$115,0)","v":{"$error":"#N/A"}},{"$f":"MATCH($CZ$3,Millwall!$AH$115:$AW$115,0)","v":{"$error":"#N/A"}},{"$f":"MATCH($DA$3,Millwall!$AH$115:$AW$115,0)","v":{"$error":"#N/A"}},{"$f":"MATCH($DB$3,Millwall!$AH$115:$AW$115,0)","v":{"$error":"#N/A"}},{"$f":"MATCH($DC$3,Millwall!$AH$115:$AW$115,0)","v":{"$error":"#N/A"}},{"$f":"MATCH($DD$3,Millwall!$AH$115:$AW$115,0)","v":{"$error":"#N/A"}},{"$f":"MATCH($DE$3,Millwall!$AH$115:$AW$115,0)","v":{"$error":"#N/A"}},{"$f":"MATCH($DF$3,Millwall!$AH$115:$AW$115,0)","v":{"$error":"#N/A"}},{"$f":"MATCH($DG$3,Millwall!$AH$115:$AW$115,0)","v":{"$error":"#N/A"}},{"$f":"MATCH($DH$3,Millwall!$AH$115:$AW$115,0)","v":{"$error":"#N/A"}},{"$f":"MATCH($DI$3,Millwall!$AH$115:$AW$115,0)","v":{"$error":"#N/A"}},{"$f":"MATCH($DJ$3,Millwall!$AH$115:$AW$115,0)","v":{"$error":"#N/A"}},{"$f":"MATCH($DK$3,Millwall!$AH$115:$AW$115,0)","v":{"$error":"#N/A"}},{"$f":"MATCH($DL$3,Millwall!$AH$115:$AW$115,0)","v":{"$error":"#N/A"}},{"$f":"MATCH($DM$3,Millwall!$AH$115:$AW$115,0)","v":{"$error":"#N/A"}},{"$f":"MATCH($DN$3,Millwall!$AH$115:$AW$115,0)","v":{"$error":"#N/A"}},{"$f":"MATCH($DO$3,Millwall!$AH$115:$AW$115,0)","v":{"$error":"#N/A"}},{"$f":"MATCH($DP$3,Millwall!$AH$115:$AW$115,0)","v":{"$error":"#N/A"}},{"$f":"MATCH($DQ$3,Millwall!$AH$115:$AW$115,0)","v":{"$error":"#N/A"}},{"$f":"MATCH($DR$3,Millwall!$AH$115:$AW$115,0)","v":{"$error":"#N/A"}},{"$f":"MATCH($DS$3,Millwall!$AH$115:$AW$115,0)","v":{"$error":"#N/A"}},{"$f":"MATCH($DT$3,Millwall!$AH$115:$AW$115,0)","v":{"$error":"#N/A"}},{"$f":"MATCH($DU$3,Millwall!$AH$115:$AW$115,0)","v":{"$error":"#N/A"}},{"$f":"MATCH($DV$3,Millwall!$AH$115:$AW$115,0)","v":{"$error":"#N/A"}},{"$f":"MATCH($DW$3,Millwall!$AH$115:$AW$115,0)","v":{"$error":"#N/A"}},{"$f":"MATCH($DX$3,Millwall!$AH$115:$AW$115,0)","v":{"$error":"#N/A"}},{"$f":"MATCH($DY$3,Millwall!$AH$115:$AW$115,0)","v":{"$error":"#N/A"}},{"$f":"MATCH($DZ$3,Millwall!$AH$115:$AW$115,0)","v":{"$error":"#N/A"}},{"$f":"MATCH($EA$3,Millwall!$AH$115:$AW$115,0)","v":{"$error":"#N/A"}},null,null,{"$f":"MATCH(ED$3,Millwall!$AH$115:$AW$115,0)","v":{"$error":"#N/A"}},{"$f":"MATCH(EE$3,Millwall!$AH$115:$AW$115,0)","v":{"$error":"#N/A"}},{"$f":"MATCH(EF$3,Millwall!$AH$115:$AW$115,0)","v":{"$error":"#N/A"}},{"$f":"MATCH(EG$3,Millwall!$AH$115:$AW$115,0)","v":{"$error":"#N/A"}},{"$f":"MATCH(EH$3,Millwall!$AH$115:$AW$115,0)","v":{"$error":"#N/A"}},{"$f":"MATCH(EI$3,Millwall!$AH$115:$AW$115,0)","v":{"$error":"#N/A"}},{"$f":"MATCH(EJ$3,Millwall!$AH$115:$AW$115,0)","v":14},{"$f":"MATCH(EK$3,Millwall!$AH$115:$AW$115,0)","v":{"$error":"#N/A"}},{"$f":"MATCH(EL$3,Millwall!$AH$115:$AW$115,0)","v":{"$error":"#N/A"}},{"$f":"MATCH(EM$3,Millwall!$AH$115:$AW$115,0)","v":{"$error":"#N/A"}},{"$f":"MATCH(EN$3,Millwall!$AH$115:$AW$115,0)","v":{"$error":"#N/A"}},{"$f":"MATCH(EO$3,Millwall!$AH$115:$AW$115,0)","v":{"$error":"#N/A"}},{"$f":"MATCH(EP$3,Millwall!$AH$115:$AW$115,0)","v":{"$error":"#N/A"}},{"$f":"MATCH(EQ$3,Millwall!$AH$115:$AW$115,0)","v":{"$error":"#N/A"}},{"$f":"MATCH(ER$3,Millwall!$AH$115:$AW$115,0)","v":{"$error":"#N/A"}},{"$f":"MATCH(ES$3,Millwall!$AH$115:$AW$115,0)","v":{"$error":"#N/A"}},{"$f":"MATCH(ET$3,Millwall!$AH$115:$AW$115,0)","v":{"$error":"#N/A"}},{"$f":"MATCH(EU$3,Millwall!$AH$115:$AW$115,0)","v":{"$error":"#N/A"}},{"$f":"MATCH(EV$3,Millwall!$AH$115:$AW$115,0)","v":{"$error":"#N/A"}},{"$f":"MATCH(EW$3,Millwall!$AH$115:$AW$115,0)","v":{"$error":"#N/A"}},{"$f":"MATCH(EX$3,Millwall!$AH$115:$AW$115,0)","v":{"$error":"#N/A"}},{"$f":"MATCH(EY$3,Millwall!$AH$115:$AW$115,0)","v":{"$error":"#N/A"}},{"$f":"MATCH(EZ$3,Millwall!$AH$115:$AW$115,0)","v":{"$error":"#N/A"}},{"$f":"MATCH(FA$3,Millwall!$AH$115:$AW$115,0)","v":{"$error":"#N/A"}},{"$f":"MATCH(FB$3,Millwall!$AH$115:$AW$115,0)","v":{"$error":"#N/A"}},{"$f":"MATCH(FC$3,Millwall!$AH$115:$AW$115,0)","v":{"$error":"#N/A"}},{"$f":"MATCH(FD$3,Millwall!$AH$115:$AW$115,0)","v":{"$error":"#N/A"}},{"$f":"MATCH(FE$3,Millwall!$AH$115:$AW$115,0)","v":{"$error":"#N/A"}},{"$f":"MATCH(FF$3,Millwall!$AH$115:$AW$115,0)","v":10},{"$f":"MATCH(FG$3,Millwall!$AH$115:$AW$115,0)","v":{"$error":"#N/A"}},{"$f":"MATCH(FH$3,Millwall!$AH$115:$AW$115,0)","v":{"$error":"#N/A"}},{"$f":"MATCH(FI$3,Millwall!$AH$115:$AW$115,0)","v":{"$error":"#N/A"}},{"$f":"MATCH(FJ$3,Millwall!$AH$115:$AW$115,0)","v":{"$error":"#N/A"}},{"$f":"MATCH(FK$3,Millwall!$AH$115:$AW$115,0)","v":{"$error":"#N/A"}},{"$f":"MATCH(FL$3,Millwall!$AH$115:$AW$115,0)","v":{"$error":"#N/A"}},{"$f":"MATCH(FM$3,Millwall!$AH$115:$AW$115,0)","v":{"$error":"#N/A"}},{"$f":"MATCH(FN$3,Millwall!$AH$115:$AW$115,0)","v":{"$error":"#N/A"}},{"$f":"MATCH(FO$3,Millwall!$AH$115:$AW$115,0)","v":{"$error":"#N/A"}}]
[null,null,0,42,null,{"$f":"Millwall!AD116","v":"1997-04-08"},null,{"$f":"Millwall!AE116","v":"Bristol R"},{"$f":"Millwall!AF116","v":"(A)"},{"$f":"Millwall!AG116","v":"L 0-1"},{"$f":"MATCH($K$4,Millwall!$AH$116:$AW$116,0)","v":{"$error":"#N/A"}},{"$f":"MATCH($L$4,Millwall!$AH$116:$AW$116,0)","v":{"$error":"#N/A"}},{"$f":"MATCH($M$4,Millwall!$AH$116:$AW$116,0)","v":13},{"$f":"MATCH($N$4,Millwall!$AH$116:$AW$116,0)","v":{"$error":"#N/A"}},{"$f":"MATCH($O$4,Millwall!$AH$116:$AW$116,0)","v":{"$error":"#N/A"}},{"$f":"MATCH($P$4,Millwall!$AH$116:$AW$116,0)","v":{"$error":"#N/A"}},{"$f":"MATCH($Q$4,Millwall!$AH$116:$AW$116,0)","v":{"$error":"#N/A"}},{"$f":"MATCH($R$4,Millwall!$AH$116:$AW$116,0)","v":1},{"$f":"MATCH($S$4,Millwall!$AH$116:$AW$116,0)","v":9},{"$f":"MATCH($T$4,Millwall!$AH$116:$AW$116,0)","v":{"$error":"#N/A"}},{"$f":"MATCH($U$4,Millwall!$AH$116:$AW$116,0)","v":{"$error":"#N/A"}},{"$f":"MATCH($V$4,Millwall!$AH$116:$AW$116,0)","v":8},{"$f":"MATCH($W$4,Millwall!$AH$116:$AW$116,0)","v":{"$error":"#N/A"}},{"$f":"MATCH($X$4,Millwall!$AH$116:$AW$116,0)","v":{"$error":"#N/A"}},{"$f":"MATCH($Y$4,Millwall!$AH$116:$AW$116,0)","v":3},{"$f":"MATCH($Z$4,Millwall!$AH$116:$AW$116,0)","v":7},{"$f":"MATCH($AA$4,Millwall!$AH$116:$AW$116,0)","v":{"$error":"#N/A"}},{"$f":"MATCH($AB$4,Millwall!$AH$116:$AW$116,0)","v":{"$error":"#N/A"}},{"$f":"MATCH($AC$4,Millwall!$AH$116:$AW$116,0)","v":{"$error":"#N/A"}},{"$f":"MATCH($AD$4,Millwall!$AH$116:$AW$116,0)","v":{"$error":"#N/A"}},{"$f":"MATCH($AE$4,Millwall!$AH$116:$AW$116,0)","v":{"$error":"#N/A"}},{"$f":"MATCH($AF$4,Millwall!$AH$116:$AW$116,0)","v":5},{"$f":"MATCH($AG$4,Millwall!$AH$116:$AW$116,0)","v":{"$error":"#N/A"}},{"$f":"MATCH($AH$4,Millwall!$AH$116:$AW$116,0)","v":2},{"$f":"MATCH($AI$4,Millwall!$AH$116:$AW$116,0)","v":4},{"$f":"MATCH($AJ$4,Millwall!$AH$116:$AW$116,0)","v":{"$error":"#N/A"}},{"$f":"MATCH($AK$4,Millwall!$AH$116:$AW$116,0)","v":{"$error":"#N/A"}},{"$f":"MATCH($AL$4,Millwall!$AH$116:$AW$116,0)","v":12},{"$f":"MATCH($AM$4,Millwall!$AH$116:$AW$116,0)","v":10},{"$f":"MATCH($AN$4,Millwall!$AH$116:$AW$116,0)","v":11},{"$f":"MATCH($AO$4,Millwall!$AH$116:$AW$116,0)","v":{"$error":"#N/A"}},{"$f":"MATCH($AP$4,Millwall!$AH$116:$AW$116,0)","v":{"$error":"#N/A"}},{"$f":"MATCH($AQ$4,Millwall!$AH$116:$AW$116,0)","v":{"$error":"#N/A"}},{"$f":"MATCH($AR$4,Millwall!$AH$116:$AW$116,0)","v":14},{"$f":"MATCH($AS$4,Millwall!$AH$116:$AW$116,0)","v":{"$error":"#N/A"}},{"$f":"MATCH($AT$4,Millwall!$AH$116:$AW$116,0)","v":6},{"$f":"MATCH($AU$4,Millwall!$AH$116:$AW$116,0)","v":{"$error":"#N/A"}},{"$f":"MATCH($AV$4,Millwall!$AH$116:$AW$116,0)","v":{"$error":"#N/A"}},null,null,null,null,null,{"$f":"MATCH(BB$3,Millwall!$AH116:$AW116,0)","v":{"$error":"#N/A"}},{"$f":"MATCH(BC$3,Millwall!$AH116:$AW116,0)","v":{"$error":"#N/A"}},{"$f":"MATCH(BD$3,Millwall!$AH116:$AW116,0)","v":{"$error":"#N/A"}},{"$f":"MATCH(BE$3,Millwall!$AH116:$AW116,0)","v":{"$error":"#N/A"}},{"$f":"MATCH(BF$3,Millwall!$AH116:$AW116,0)","v":{"$error":"#N/A"}},{"$f":"MATCH(BG$3,Millwall!$AH116:$AW116,0)","v":{"$error":"#N/A"}},{"$f":"MATCH(BH$3,Millwall!$AH116:$AW116,0)","v":{"$error":"#N/A"}},{"$f":"MATCH(BI$3,Millwall!$AH116:$AW116,0)","v":{"$error":"#N/A"}},{"$f":"MATCH(BJ$3,Millwall!$AH116:$AW116,0)","v":{"$error":"#N/A"}},{"$f":"MATCH(BK$3,Millwall!$AH116:$AW116,0)","v":{"$error":"#N/A"}},{"$f":"MATCH(BL$3,Millwall!$AH116:$AW116,0)","v":{"$error":"#N/A"}},{"$f":"MATCH(BM$3,Millwall!$AH116:$AW116,0)","v":{"$error":"#N/A"}},{"$f":"MATCH(BN$3,Millwall!$AH116:$AW116,0)","v":{"$error":"#N/A"}},{"$f":"MATCH(BO$3,Millwall!$AH116:$AW116,0)","v":{"$error":"#N/A"}},{"$f":"MATCH(BP$3,Millwall!$AH116:$AW116,0)","v":{"$error":"#N/A"}},{"$f":"MATCH(BQ$3,Millwall!$AH116:$AW116,0)","v":{"$error":"#N/A"}},{"$f":"MATCH(BR$3,Millwall!$AH116:$AW116,0)","v":{"$error":"#N/A"}},{"$f":"MATCH(BS$3,Millwall!$AH116:$AW116,0)","v":{"$error":"#N/A"}},{"$f":"MATCH(BT$3,Millwall!$AH116:$AW116,0)","v":{"$error":"#N/A"}},{"$f":"MATCH(BU$3,Millwall!$AH116:$AW116,0)","v":{"$error":"#N/A"}},{"$f":"MATCH(BV$3,Millwall!$AH116:$AW116,0)","v":{"$error":"#N/A"}},{"$f":"MATCH(BW$3,Millwall!$AH116:$AW116,0)","v":{"$error":"#N/A"}},{"$f":"MATCH(BX$3,Millwall!$AH116:$AW116,0)","v":{"$error":"#N/A"}},{"$f":"MATCH(BY$3,Millwall!$AH116:$AW116,0)","v":{"$error":"#N/A"}},{"$f":"MATCH(BZ$3,Millwall!$AH116:$AW116,0)","v":{"$error":"#N/A"}},{"$f":"MATCH(CA$3,Millwall!$AH116:$AW116,0)","v":{"$error":"#N/A"}},{"$f":"MATCH(CB$3,Millwall!$AH116:$AW116,0)","v":{"$error":"#N/A"}},{"$f":"MATCH(CC$3,Millwall!$AH116:$AW116,0)","v":{"$error":"#N/A"}},{"$f":"MATCH(CD$3,Millwall!$AH116:$AW116,0)","v":{"$error":"#N/A"}},{"$f":"MATCH(CE$3,Millwall!$AH116:$AW116,0)","v":{"$error":"#N/A"}},{"$f":"MATCH(CF$3,Millwall!$AH116:$AW116,0)","v":{"$error":"#N/A"}},{"$f":"MATCH(CG$3,Millwall!$AH116:$AW116,0)","v":{"$error":"#N/A"}},{"$f":"MATCH(CH$3,Millwall!$AH116:$AW116,0)","v":{"$error":"#N/A"}},{"$f":"MATCH(CI$3,Millwall!$AH116:$AW116,0)","v":{"$error":"#N/A"}},{"$f":"MATCH(CJ$3,Millwall!$AH116:$AW116,0)","v":{"$error":"#N/A"}},{"$f":"MATCH(CK$3,Millwall!$AH116:$AW116,0)","v":{"$error":"#N/A"}},{"$f":"MATCH(CL$3,Millwall!$AH116:$AW116,0)","v":{"$error":"#N/A"}},{"$f":"MATCH(CM$3,Millwall!$AH116:$AW116,0)","v":{"$error":"#N/A"}},null,null,{"$f":"MATCH($CP$3,Millwall!$AH$116:$AW$116,0)","v":{"$error":"#N/A"}},{"$f":"MATCH($CQ$3,Millwall!$AH$116:$AW$116,0)","v":{"$error":"#N/A"}},{"$f":"MATCH($CR$3,Millwall!$AH$116:$AW$116,0)","v":{"$error":"#N/A"}},{"$f":"MATCH($CS$3,Millwall!$AH$116:$AW$116,0)","v":{"$error":"#N/A"}},{"$f":"MATCH($CT$3,Millwall!$AH$116:$AW$116,0)","v":{"$error":"#N/A"}},{"$f":"MATCH($CU$3,Millwall!$AH$116:$AW$116,0)","v":{"$error":"#N/A"}},{"$f":"MATCH($CV$3,Millwall!$AH$116:$AW$116,0)","v":{"$error":"#N/A"}},{"$f":"MATCH($CW$3,Millwall!$AH$116:$AW$116,0)","v":{"$error":"#N/A"}},{"$f":"MATCH($CX$3,Millwall!$AH$116:$AW$116,0)","v":{"$error":"#N/A"}},{"$f":"MATCH($CY$3,Millwall!$AH$116:$AW$116,0)","v":{"$error":"#N/A"}},{"$f":"MATCH($CZ$3,Millwall!$AH$116:$AW$116,0)","v":{"$error":"#N/A"}},{"$f":"MATCH($DA$3,Millwall!$AH$116:$AW$116,0)","v":{"$error":"#N/A"}},{"$f":"MATCH($DB$3,Millwall!$AH$116:$AW$116,0)","v":{"$error":"#N/A"}},{"$f":"MATCH($DC$3,Millwall!$AH$116:$AW$116,0)","v":{"$error":"#N/A"}},{"$f":"MATCH($DD$3,Millwall!$AH$116:$AW$116,0)","v":{"$error":"#N/A"}},{"$f":"MATCH($DE$3,Millwall!$AH$116:$AW$116,0)","v":{"$error":"#N/A"}},{"$f":"MATCH($DF$3,Millwall!$AH$116:$AW$116,0)","v":{"$error":"#N/A"}},{"$f":"MATCH($DG$3,Millwall!$AH$116:$AW$116,0)","v":{"$error":"#N/A"}},{"$f":"MATCH($DH$3,Millwall!$AH$116:$AW$116,0)","v":{"$error":"#N/A"}},{"$f":"MATCH($DI$3,Millwall!$AH$116:$AW$116,0)","v":{"$error":"#N/A"}},{"$f":"MATCH($DJ$3,Millwall!$AH$116:$AW$116,0)","v":{"$error":"#N/A"}},{"$f":"MATCH($DK$3,Millwall!$AH$116:$AW$116,0)","v":{"$error":"#N/A"}},{"$f":"MATCH($DL$3,Millwall!$AH$116:$AW$116,0)","v":{"$error":"#N/A"}},{"$f":"MATCH($DM$3,Millwall!$AH$116:$AW$116,0)","v":{"$error":"#N/A"}},{"$f":"MATCH($DN$3,Millwall!$AH$116:$AW$116,0)","v":{"$error":"#N/A"}},{"$f":"MATCH($DO$3,Millwall!$AH$116:$AW$116,0)","v":{"$error":"#N/A"}},{"$f":"MATCH($DP$3,Millwall!$AH$116:$AW$116,0)","v":{"$error":"#N/A"}},{"$f":"MATCH($DQ$3,Millwall!$AH$116:$AW$116,0)","v":{"$error":"#N/A"}},{"$f":"MATCH($DR$3,Millwall!$AH$116:$AW$116,0)","v":{"$error":"#N/A"}},{"$f":"MATCH($DS$3,Millwall!$AH$116:$AW$116,0)","v":{"$error":"#N/A"}},{"$f":"MATCH($DT$3,Millwall!$AH$116:$AW$116,0)","v":{"$error":"#N/A"}},{"$f":"MATCH($DU$3,Millwall!$AH$116:$AW$116,0)","v":{"$error":"#N/A"}},{"$f":"MATCH($DV$3,Millwall!$AH$116:$AW$116,0)","v":{"$error":"#N/A"}},{"$f":"MATCH($DW$3,Millwall!$AH$116:$AW$116,0)","v":{"$error":"#N/A"}},{"$f":"MATCH($DX$3,Millwall!$AH$116:$AW$116,0)","v":{"$error":"#N/A"}},{"$f":"MATCH($DY$3,Millwall!$AH$116:$AW$116,0)","v":{"$error":"#N/A"}},{"$f":"MATCH($DZ$3,Millwall!$AH$116:$AW$116,0)","v":{"$error":"#N/A"}},{"$f":"MATCH($EA$3,Millwall!$AH$116:$AW$116,0)","v":{"$error":"#N/A"}},null,null,{"$f":"MATCH(ED$3,Millwall!$AH$116:$AW$116,0)","v":{"$error":"#N/A"}},{"$f":"MATCH(EE$3,Millwall!$AH$116:$AW$116,0)","v":{"$error":"#N/A"}},{"$f":"MATCH(EF$3,Millwall!$AH$116:$AW$116,0)","v":{"$error":"#N/A"}},{"$f":"MATCH(EG$3,Millwall!$AH$116:$AW$116,0)","v":{"$error":"#N/A"}},{"$f":"MATCH(EH$3,Millwall!$AH$116:$AW$116,0)","v":{"$error":"#N/A"}},{"$f":"MATCH(EI$3,Millwall!$AH$116:$AW$116,0)","v":{"$error":"#N/A"}},{"$f":"MATCH(EJ$3,Millwall!$AH$116:$AW$116,0)","v":{"$error":"#N/A"}},{"$f":"MATCH(EK$3,Millwall!$AH$116:$AW$116,0)","v":{"$error":"#N/A"}},{"$f":"MATCH(EL$3,Millwall!$AH$116:$AW$116,0)","v":{"$error":"#N/A"}},{"$f":"MATCH(EM$3,Millwall!$AH$116:$AW$116,0)","v":{"$error":"#N/A"}},{"$f":"MATCH(EN$3,Millwall!$AH$116:$AW$116,0)","v":{"$error":"#N/A"}},{"$f":"MATCH(EO$3,Millwall!$AH$116:$AW$116,0)","v":{"$error":"#N/A"}},{"$f":"MATCH(EP$3,Millwall!$AH$116:$AW$116,0)","v":{"$error":"#N/A"}},{"$f":"MATCH(EQ$3,Millwall!$AH$116:$AW$116,0)","v":{"$error":"#N/A"}},{"$f":"MATCH(ER$3,Millwall!$AH$116:$AW$116,0)","v":{"$error":"#N/A"}},{"$f":"MATCH(ES$3,Millwall!$AH$116:$AW$116,0)","v":{"$error":"#N/A"}},{"$f":"MATCH(ET$3,Millwall!$AH$116:$AW$116,0)","v":{"$error":"#N/A"}},{"$f":"MATCH(EU$3,Millwall!$AH$116:$AW$116,0)","v":{"$error":"#N/A"}},{"$f":"MATCH(EV$3,Millwall!$AH$116:$AW$116,0)","v":{"$error":"#N/A"}},{"$f":"MATCH(EW$3,Millwall!$AH$116:$AW$116,0)","v":{"$error":"#N/A"}},{"$f":"MATCH(EX$3,Millwall!$AH$116:$AW$116,0)","v":{"$error":"#N/A"}},{"$f":"MATCH(EY$3,Millwall!$AH$116:$AW$116,0)","v":{"$error":"#N/A"}},{"$f":"MATCH(EZ$3,Millwall!$AH$116:$AW$116,0)","v":{"$error":"#N/A"}},{"$f":"MATCH(FA$3,Millwall!$AH$116:$AW$116,0)","v":{"$error":"#N/A"}},{"$f":"MATCH(FB$3,Millwall!$AH$116:$AW$116,0)","v":{"$error":"#N/A"}},{"$f":"MATCH(FC$3,Millwall!$AH$116:$AW$116,0)","v":{"$error":"#N/A"}},{"$f":"MATCH(FD$3,Millwall!$AH$116:$AW$116,0)","v":{"$error":"#N/A"}},{"$f":"MATCH(FE$3,Millwall!$AH$116:$AW$116,0)","v":{"$error":"#N/A"}},{"$f":"MATCH(FF$3,Millwall!$AH$116:$AW$116,0)","v":{"$error":"#N/A"}},{"$f":"MATCH(FG$3,Millwall!$AH$116:$AW$116,0)","v":{"$error":"#N/A"}},{"$f":"MATCH(FH$3,Millwall!$AH$116:$AW$116,0)","v":{"$error":"#N/A"}},{"$f":"MATCH(FI$3,Millwall!$AH$116:$AW$116,0)","v":{"$error":"#N/A"}},{"$f":"MATCH(FJ$3,Millwall!$AH$116:$AW$116,0)","v":{"$error":"#N/A"}},{"$f":"MATCH(FK$3,Millwall!$AH$116:$AW$116,0)","v":{"$error":"#N/A"}},{"$f":"MATCH(FL$3,Millwall!$AH$116:$AW$116,0)","v":{"$error":"#N/A"}},{"$f":"MATCH(FM$3,Millwall!$AH$116:$AW$116,0)","v":{"$error":"#N/A"}},{"$f":"MATCH(FN$3,Millwall!$AH$116:$AW$116,0)","v":{"$error":"#N/A"}},{"$f":"MATCH(FO$3,Millwall!$AH$116:$AW$116,0)","v":{"$error":"#N/A"}}]
[null,null,0,43,null,{"$f":"Millwall!AD117","v":"1997-04-12"},null,{"$f":"Millwall!AE117","v":"Plymouth"},{"$f":"Millwall!AF117","v":"(H)"},{"$f":"Millwall!AG117","v":"D 0-0"},{"$f":"MATCH($K$4,Millwall!$AH$117:$AW$117,0)","v":{"$error":"#N/A"}},{"$f":"MATCH($L$4,Millwall!$AH$117:$AW$117,0)","v":11},{"$f":"MATCH($M$4,Millwall!$AH$117:$AW$117,0)","v":2},{"$f":"MATCH($N$4,Millwall!$AH$117:$AW$117,0)","v":{"$error":"#N/A"}},{"$f":"MATCH($O$4,Millwall!$AH$117:$AW$117,0)","v":{"$error":"#N/A"}},{"$f":"MATCH($P$4,Millwall!$AH$117:$AW$117,0)","v":{"$error":"#N/A"}},{"$f":"MATCH($Q$4,Millwall!$AH$117:$AW$117,0)","v":{"$error":"#N/A"}},{"$f":"MATCH($R$4,Millwall!$AH$117:$AW$117,0)","v":1},{"$f":"MATCH($S$4,Millwall!$AH$117:$AW$117,0)","v":9},{"$f":"MATCH($T$4,Millwall!$AH$117:$AW$117,0)","v":{"$error":"#N/A"}},{"$f":"MATCH($U$4,Millwall!$AH$117:$AW$117,0)","v":{"$error":"#N/A"}},{"$f":"MATCH($V$4,Millwall!$AH$117:$AW$117,0)","v":8},{"$f":"MATCH($W$4,Millwall!$AH$117:$AW$117,0)","v":{"$error":"#N/A"}},{"$f":"MATCH($X$4,Millwall!$AH$117:$AW$117,0)","v":{"$error":"#N/A"}},{"$f":"MATCH($Y$4,Millwall!$AH$117:$AW$117,0)","v":3},{"$f":"MATCH($Z$4,Millwall!$AH$117:$AW$117,0)","v":7},{"$f":"MATCH($AA$4,Millwall!$AH$117:$AW$117,0)","v":{"$error":"#N/A"}},{"$f":"MATCH($AB$4,Millwall!$AH$117:$AW$117,0)","v":{"$error":"#N/A"}},{"$f":"MATCH($AC$4,Millwall!$AH$117:$AW$117,0)","v":{"$error":"#N/A"}},{"$f":"MATCH($AD$4,Millwall!$AH$117:$AW$117,0)","v":{"$error":"#N/A"}},{"$f":"MATCH($AE$4,Millwall!$AH$117:$AW$117,0)","v":{"$error":"#N/A"}},{"$f":"MATCH($AF$4,Millwall!$AH$117:$AW$117,0)","v":5},{"$f":"MATCH($AG$4,Millwall!$AH$117:$AW$117,0)","v":{"$error":"#N/A"}},{"$f":"MATCH($AH$4,Millwall!$AH$117:$AW$117,0)","v":{"$error":"#N/A"}},{"$f":"MATCH($AI$4,Millwall!$AH$117:$AW$117,0)","v":4},{"$f":"MATCH($AJ$4,Millwall!$AH$117:$AW$117,0)","v":{"$error":"#N/A"}},{"$f":"MATCH($AK$4,Millwall!$AH$117:$AW$117,0)","v":{"$error":"#N/A"}},{"$f":"MATCH($AL$4,Millwall!$AH$117:$AW$117,0)","v":12},{"$f":"MATCH($AM$4,Millwall!$AH$117:$AW$117,0)","v":10},{"$f":"MATCH($AN$4,Millwall!$AH$117:$AW$117,0)","v":13},{"$f":"MATCH($AO$4,Millwall!$AH$117:$AW$117,0)","v":{"$error":"#N/A"}},{"$f":"MATCH($AP$4,Millwall!$AH$117:$AW$117,0)","v":{"$error":"#N/A"}},{"$f":"MATCH($AQ$4,Millwall!$AH$117:$AW$117,0)","v":{"$error":"#N/A"}},{"$f":"MATCH($AR$4,Millwall!$AH$117:$AW$117,0)","v":14},{"$f":"MATCH($AS$4,Millwall!$AH$117:$AW$117,0)","v":{"$error":"#N/A"}},{"$f":"MATCH($AT$4,Millwall!$AH$117:$AW$117,0)","v":6},{"$f":"MATCH($AU$4,Millwall!$AH$117:$AW$117,0)","v":{"$error":"#N/A"}},{"$f":"MATCH($AV$4,Millwall!$AH$117:$AW$117,0)","v":{"$error":"#N/A"}},null,null,null,null,null,{"$f":"MATCH(BB$3,Millwall!$AH117:$AW117,0)","v":{"$error":"#N/A"}},{"$f":"MATCH(BC$3,Millwall!$AH117:$AW117,0)","v":{"$error":"#N/A"}},{"$f":"MATCH(BD$3,Millwall!$AH117:$AW117,0)","v":{"$error":"#N/A"}},{"$f":"MATCH(BE$3,Millwall!$AH117:$AW117,0)","v":{"$error":"#N/A"}},{"$f":"MATCH(BF$3,Millwall!$AH117:$AW117,0)","v":{"$error":"#N/A"}},{"$f":"MATCH(BG$3,Millwall!$AH117:$AW117,0)","v":{"$error":"#N/A"}},{"$f":"MATCH(BH$3,Millwall!$AH117:$AW117,0)","v":{"$error":"#N/A"}},{"$f":"MATCH(BI$3,Millwall!$AH117:$AW117,0)","v":{"$error":"#N/A"}},{"$f":"MATCH(BJ$3,Millwall!$AH117:$AW117,0)","v":{"$error":"#N/A"}},{"$f":"MATCH(BK$3,Millwall!$AH117:$AW117,0)","v":{"$error":"#N/A"}},{"$f":"MATCH(BL$3,Millwall!$AH117:$AW117,0)","v":{"$error":"#N/A"}},{"$f":"MATCH(BM$3,Millwall!$AH117:$AW117,0)","v":{"$error":"#N/A"}},{"$f":"MATCH(BN$3,Millwall!$AH117:$AW117,0)","v":{"$error":"#N/A"}},{"$f":"MATCH(BO$3,Millwall!$AH117:$AW117,0)","v":{"$error":"#N/A"}},{"$f":"MATCH(BP$3,Millwall!$AH117:$AW117,0)","v":{"$error":"#N/A"}},{"$f":"MATCH(BQ$3,Millwall!$AH117:$AW117,0)","v":{"$error":"#N/A"}},{"$f":"MATCH(BR$3,Millwall!$AH117:$AW117,0)","v":{"$error":"#N/A"}},{"$f":"MATCH(BS$3,Millwall!$AH117:$AW117,0)","v":{"$error":"#N/A"}},{"$f":"MATCH(BT$3,Millwall!$AH117:$AW117,0)","v":{"$error":"#N/A"}},{"$f":"MATCH(BU$3,Millwall!$AH117:$AW117,0)","v":{"$error":"#N/A"}},{"$f":"MATCH(BV$3,Millwall!$AH117:$AW117,0)","v":{"$error":"#N/A"}},{"$f":"MATCH(BW$3,Millwall!$AH117:$AW117,0)","v":{"$error":"#N/A"}},{"$f":"MATCH(BX$3,Millwall!$AH117:$AW117,0)","v":{"$error":"#N/A"}},{"$f":"MATCH(BY$3,Millwall!$AH117:$AW117,0)","v":{"$error":"#N/A"}},{"$f":"MATCH(BZ$3,Millwall!$AH117:$AW117,0)","v":{"$error":"#N/A"}},{"$f":"MATCH(CA$3,Millwall!$AH117:$AW117,0)","v":{"$error":"#N/A"}},{"$f":"MATCH(CB$3,Millwall!$AH117:$AW117,0)","v":{"$error":"#N/A"}},{"$f":"MATCH(CC$3,Millwall!$AH117:$AW117,0)","v":{"$error":"#N/A"}},{"$f":"MATCH(CD$3,Millwall!$AH117:$AW117,0)","v":{"$error":"#N/A"}},{"$f":"MATCH(CE$3,Millwall!$AH117:$AW117,0)","v":{"$error":"#N/A"}},{"$f":"MATCH(CF$3,Millwall!$AH117:$AW117,0)","v":{"$error":"#N/A"}},{"$f":"MATCH(CG$3,Millwall!$AH117:$AW117,0)","v":{"$error":"#N/A"}},{"$f":"MATCH(CH$3,Millwall!$AH117:$AW117,0)","v":{"$error":"#N/A"}},{"$f":"MATCH(CI$3,Millwall!$AH117:$AW117,0)","v":{"$error":"#N/A"}},{"$f":"MATCH(CJ$3,Millwall!$AH117:$AW117,0)","v":{"$error":"#N/A"}},{"$f":"MATCH(CK$3,Millwall!$AH117:$AW117,0)","v":{"$error":"#N/A"}},{"$f":"MATCH(CL$3,Millwall!$AH117:$AW117,0)","v":{"$error":"#N/A"}},{"$f":"MATCH(CM$3,Millwall!$AH117:$AW117,0)","v":{"$error":"#N/A"}},null,null,{"$f":"MATCH($CP$3,Millwall!$AH$117:$AW$117,0)","v":{"$error":"#N/A"}},{"$f":"MATCH($CQ$3,Millwall!$AH$117:$AW$117,0)","v":{"$error":"#N/A"}},{"$f":"MATCH($CR$3,Millwall!$AH$117:$AW$117,0)","v":{"$error":"#N/A"}},{"$f":"MATCH($CS$3,Millwall!$AH$117:$AW$117,0)","v":{"$error":"#N/A"}},{"$f":"MATCH($CT$3,Millwall!$AH$117:$AW$117,0)","v":{"$error":"#N/A"}},{"$f":"MATCH($CU$3,Millwall!$AH$117:$AW$117,0)","v":{"$error":"#N/A"}},{"$f":"MATCH($CV$3,Millwall!$AH$117:$AW$117,0)","v":{"$error":"#N/A"}},{"$f":"MATCH($CW$3,Millwall!$AH$117:$AW$117,0)","v":{"$error":"#N/A"}},{"$f":"MATCH($CX$3,Millwall!$AH$117:$AW$117,0)","v":9},{"$f":"MATCH($CY$3,Millwall!$AH$117:$AW$117,0)","v":{"$error":"#N/A"}},{"$f":"MATCH($CZ$3,Millwall!$AH$117:$AW$117,0)","v":{"$error":"#N/A"}},{"$f":"MATCH($DA$3,Millwall!$AH$117:$AW$117,0)","v":{"$error":"#N/A"}},{"$f":"MATCH($DB$3,Millwall!$AH$117:$AW$117,0)","v":{"$error":"#N/A"}},{"$f":"MATCH($DC$3,Millwall!$AH$117:$AW$117,0)","v":{"$error":"#N/A"}},{"$f":"MATCH($DD$3,Millwall!$AH$117:$AW$117,0)","v":{"$error":"#N/A"}},{"$f":"MATCH($DE$3,Millwall!$AH$117:$AW$117,0)","v":{"$error":"#N/A"}},{"$f":"MATCH($DF$3,Millwall!$AH$117:$AW$117,0)","v":{"$error":"#N/A"}},{"$f":"MATCH($DG$3,Millwall!$AH$117:$AW$117,0)","v":{"$error":"#N/A"}},{"$f":"MATCH($DH$3,Millwall!$AH$117:$AW$117,0)","v":{"$error":"#N/A"}},{"$f":"MATCH($DI$3,Millwall!$AH$117:$AW$117,0)","v":{"$error":"#N/A"}},{"$f":"MATCH($DJ$3,Millwall!$AH$117:$AW$117,0)","v":{"$error":"#N/A"}},{"$f":"MATCH($DK$3,Millwall!$AH$117:$AW$117,0)","v":{"$error":"#N/A"}},{"$f":"MATCH($DL$3,Millwall!$AH$117:$AW$117,0)","v":{"$error":"#N/A"}},{"$f":"MATCH($DM$3,Millwall!$AH$117:$AW$117,0)","v":{"$error":"#N/A"}},{"$f":"MATCH($DN$3,Millwall!$AH$117:$AW$117,0)","v":{"$error":"#N/A"}},{"$f":"MATCH($DO$3,Millwall!$AH$117:$AW$117,0)","v":{"$error":"#N/A"}},{"$f":"MATCH($DP$3,Millwall!$AH$117:$AW$117,0)","v":{"$error":"#N/A"}},{"$f":"MATCH($DQ$3,Millwall!$AH$117:$AW$117,0)","v":{"$error":"#N/A"}},{"$f":"MATCH($DR$3,Millwall!$AH$117:$AW$117,0)","v":{"$error":"#N/A"}},{"$f":"MATCH($DS$3,Millwall!$AH$117:$AW$117,0)","v":13},{"$f":"MATCH($DT$3,Millwall!$AH$117:$AW$117,0)","v":{"$error":"#N/A"}},{"$f":"MATCH($DU$3,Millwall!$AH$117:$AW$117,0)","v":{"$error":"#N/A"}},{"$f":"MATCH($DV$3,Millwall!$AH$117:$AW$117,0)","v":{"$error":"#N/A"}},{"$f":"MATCH($DW$3,Millwall!$AH$117:$AW$117,0)","v":{"$error":"#N/A"}},{"$f":"MATCH($DX$3,Millwall!$AH$117:$AW$117,0)","v":{"$error":"#N/A"}},{"$f":"MATCH($DY$3,Millwall!$AH$117:$AW$117,0)","v":{"$error":"#N/A"}},{"$f":"MATCH($DZ$3,Millwall!$AH$117:$AW$117,0)","v":{"$error":"#N/A"}},{"$f":"MATCH($EA$3,Millwall!$AH$117:$AW$117,0)","v":{"$error":"#N/A"}},null,null,{"$f":"MATCH(ED$3,Millwall!$AH$117:$AW$117,0)","v":{"$error":"#N/A"}},{"$f":"MATCH(EE$3,Millwall!$AH$117:$AW$117,0)","v":{"$error":"#N/A"}},{"$f":"MATCH(EF$3,Millwall!$AH$117:$AW$117,0)","v":{"$error":"#N/A"}},{"$f":"MATCH(EG$3,Millwall!$AH$117:$AW$117,0)","v":{"$error":"#N/A"}},{"$f":"MATCH(EH$3,Millwall!$AH$117:$AW$117,0)","v":{"$error":"#N/A"}},{"$f":"MATCH(EI$3,Millwall!$AH$117:$AW$117,0)","v":{"$error":"#N/A"}},{"$f":"MATCH(EJ$3,Millwall!$AH$117:$AW$117,0)","v":{"$error":"#N/A"}},{"$f":"MATCH(EK$3,Millwall!$AH$117:$AW$117,0)","v":{"$error":"#N/A"}},{"$f":"MATCH(EL$3,Millwall!$AH$117:$AW$117,0)","v":{"$error":"#N/A"}},{"$f":"MATCH(EM$3,Millwall!$AH$117:$AW$117,0)","v":{"$error":"#N/A"}},{"$f":"MATCH(EN$3,Millwall!$AH$117:$AW$117,0)","v":{"$error":"#N/A"}},{"$f":"MATCH(EO$3,Millwall!$AH$117:$AW$117,0)","v":{"$error":"#N/A"}},{"$f":"MATCH(EP$3,Millwall!$AH$117:$AW$117,0)","v":{"$error":"#N/A"}},{"$f":"MATCH(EQ$3,Millwall!$AH$117:$AW$117,0)","v":{"$error":"#N/A"}},{"$f":"MATCH(ER$3,Millwall!$AH$117:$AW$117,0)","v":{"$error":"#N/A"}},{"$f":"MATCH(ES$3,Millwall!$AH$117:$AW$117,0)","v":{"$error":"#N/A"}},{"$f":"MATCH(ET$3,Millwall!$AH$117:$AW$117,0)","v":{"$error":"#N/A"}},{"$f":"MATCH(EU$3,Millwall!$AH$117:$AW$117,0)","v":{"$error":"#N/A"}},{"$f":"MATCH(EV$3,Millwall!$AH$117:$AW$117,0)","v":{"$error":"#N/A"}},{"$f":"MATCH(EW$3,Millwall!$AH$117:$AW$117,0)","v":{"$error":"#N/A"}},{"$f":"MATCH(EX$3,Millwall!$AH$117:$AW$117,0)","v":{"$error":"#N/A"}},{"$f":"MATCH(EY$3,Millwall!$AH$117:$AW$117,0)","v":{"$error":"#N/A"}},{"$f":"MATCH(EZ$3,Millwall!$AH$117:$AW$117,0)","v":{"$error":"#N/A"}},{"$f":"MATCH(FA$3,Millwall!$AH$117:$AW$117,0)","v":{"$error":"#N/A"}},{"$f":"MATCH(FB$3,Millwall!$AH$117:$AW$117,0)","v":{"$error":"#N/A"}},{"$f":"MATCH(FC$3,Millwall!$AH$117:$AW$117,0)","v":{"$error":"#N/A"}},{"$f":"MATCH(FD$3,Millwall!$AH$117:$AW$117,0)","v":{"$error":"#N/A"}},{"$f":"MATCH(FE$3,Millwall!$AH$117:$AW$117,0)","v":{"$error":"#N/A"}},{"$f":"MATCH(FF$3,Millwall!$AH$117:$AW$117,0)","v":10},{"$f":"MATCH(FG$3,Millwall!$AH$117:$AW$117,0)","v":{"$error":"#N/A"}},{"$f":"MATCH(FH$3,Millwall!$AH$117:$AW$117,0)","v":{"$error":"#N/A"}},{"$f":"MATCH(FI$3,Millwall!$AH$117:$AW$117,0)","v":{"$error":"#N/A"}},{"$f":"MATCH(FJ$3,Millwall!$AH$117:$AW$117,0)","v":{"$error":"#N/A"}},{"$f":"MATCH(FK$3,Millwall!$AH$117:$AW$117,0)","v":14},{"$f":"MATCH(FL$3,Millwall!$AH$117:$AW$117,0)","v":{"$error":"#N/A"}},{"$f":"MATCH(FM$3,Millwall!$AH$117:$AW$117,0)","v":{"$error":"#N/A"}},{"$f":"MATCH(FN$3,Millwall!$AH$117:$AW$117,0)","v":{"$error":"#N/A"}},{"$f":"MATCH(FO$3,Millwall!$AH$117:$AW$117,0)","v":{"$error":"#N/A"}}]
[null,null,0,44,null,{"$f":"Millwall!AD118","v":"1997-04-19"},null,{"$f":"Millwall!AE118","v":"Chesterfield"},{"$f":"Millwall!AF118","v":"(A)"},{"$f":"Millwall!AG118","v":"L 0-1"},{"$f":"MATCH($K$4,Millwall!$AH$118:$AW$118,0)","v":{"$error":"#N/A"}},{"$f":"MATCH($L$4,Millwall!$AH$118:$AW$118,0)","v":14},{"$f":"MATCH($M$4,Millwall!$AH$118:$AW$118,0)","v":2},{"$f":"MATCH($N$4,Millwall!$AH$118:$AW$118,0)","v":{"$error":"#N/A"}},{"$f":"MATCH($O$4,Millwall!$AH$118:$AW$118,0)","v":{"$error":"#N/A"}},{"$f":"MATCH($P$4,Millwall!$AH$118:$AW$118,0)","v":{"$error":"#N/A"}},{"$f":"MATCH($Q$4,Millwall!$AH$118:$AW$118,0)","v":13},{"$f":"MATCH($R$4,Millwall!$AH$118:$AW$118,0)","v":1},{"$f":"MATCH($S$4,Millwall!$AH$118:$AW$118,0)","v":9},{"$f":"MATCH($T$4,Millwall!$AH$118:$AW$118,0)","v":{"$error":"#N/A"}},{"$f":"MATCH($U$4,Millwall!$AH$118:$AW$118,0)","v":{"$error":"#N/A"}},{"$f":"MATCH($V$4,Millwall!$AH$118:$AW$118,0)","v":8},{"$f":"MATCH($W$4,Millwall!$AH$118:$AW$118,0)","v":{"$error":"#N/A"}},{"$f":"MATCH($X$4,Millwall!$AH$118:$AW$118,0)","v":{"$error":"#N/A"}},{"$f":"MATCH($Y$4,Millwall!$AH$118:$AW$118,0)","v":3},{"$f":"MATCH($Z$4,Millwall!$AH$118:$AW$118,0)","v":7},{"$f":"MATCH($AA$4,Millwall!$AH$118:$AW$118,0)","v":{"$error":"#N/A"}},{"$f":"MATCH($AB$4,Millwall!$AH$118:$AW$118,0)","v":{"$error":"#N/A"}},{"$f":"MATCH($AC$4,Millwall!$AH$118:$AW$118,0)","v":{"$error":"#N/A"}},{"$f":"MATCH($AD$4,Millwall!$AH$118:$AW$118,0)","v":{"$error":"#N/A"}},{"$f":"MATCH($AE$4,Millwall!$AH$118:$AW$118,0)","v":{"$error":"#N/A"}},{"$f":"MATCH($AF$4,Millwall!$AH$118:$AW$118,0)","v":5},{"$f":"MATCH($AG$4,Millwall!$AH$118:$AW$118,0)","v":{"$error":"#N/A"}},{"$f":"MATCH($AH$4,Millwall!$AH$118:$AW$118,0)","v":{"$error":"#N/A"}},{"$f":"MATCH($AI$4,Millwall!$AH$118:$AW$118,0)","v":4},{"$f":"MATCH($AJ$4,Millwall!$AH$118:$AW$118,0)","v":{"$error":"#N/A"}},{"$f":"MATCH($AK$4,Millwall!$AH$118:$AW$118,0)","v":{"$error":"#N/A"}},{"$f":"MATCH($AL$4,Millwall!$AH$118:$AW$118,0)","v":12},{"$f":"MATCH($AM$4,Millwall!$AH$118:$AW$118,0)","v":{"$error":"#N/A"}},{"$f":"MATCH($AN$4,Millwall!$AH$118:$AW$118,0)","v":11},{"$f":"MATCH($AO$4,Millwall!$AH$118:$AW$118,0)","v":{"$error":"#N/A"}},{"$f":"MATCH($AP$4,Millwall!$AH$118:$AW$118,0)","v":{"$error":"#N/A"}},{"$f":"MATCH($AQ$4,Millwall!$AH$118:$AW$118,0)","v":{"$error":"#N/A"}},{"$f":"MATCH($AR$4,Millwall!$AH$118:$AW$118,0)","v":10},{"$f":"MATCH($AS$4,Millwall!$AH$118:$AW$118,0)","v":{"$error":"#N/A"}},{"$f":"MATCH($AT$4,Millwall!$AH$118:$AW$118,0)","v":6},{"$f":"MATCH($AU$4,Millwall!$AH$118:$AW$118,0)","v":{"$error":"#N/A"}},{"$f":"MATCH($AV$4,Millwall!$AH$118:$AW$118,0)","v":{"$error":"#N/A"}},null,null,null,null,null,{"$f":"MATCH(BB$3,Millwall!$AH118:$AW118,0)","v":{"$error":"#N/A"}},{"$f":"MATCH(BC$3,Millwall!$AH118:$AW118,0)","v":{"$error":"#N/A"}},{"$f":"MATCH(BD$3,Millwall!$AH118:$AW118,0)","v":{"$error":"#N/A"}},{"$f":"MATCH(BE$3,Millwall!$AH118:$AW118,0)","v":{"$error":"#N/A"}},{"$f":"MATCH(BF$3,Millwall!$AH118:$AW118,0)","v":{"$error":"#N/A"}},{"$f":"MATCH(BG$3,Millwall!$AH118:$AW118,0)","v":{"$error":"#N/A"}},{"$f":"MATCH(BH$3,Millwall!$AH118:$AW118,0)","v":{"$error":"#N/A"}},{"$f":"MATCH(BI$3,Millwall!$AH118:$AW118,0)","v":{"$error":"#N/A"}},{"$f":"MATCH(BJ$3,Millwall!$AH118:$AW118,0)","v":{"$error":"#N/A"}},{"$f":"MATCH(BK$3,Millwall!$AH118:$AW118,0)","v":{"$error":"#N/A"}},{"$f":"MATCH(BL$3,Millwall!$AH118:$AW118,0)","v":{"$error":"#N/A"}},{"$f":"MATCH(BM$3,Millwall!$AH118:$AW118,0)","v":{"$error":"#N/A"}},{"$f":"MATCH(BN$3,Millwall!$AH118:$AW118,0)","v":{"$error":"#N/A"}},{"$f":"MATCH(BO$3,Millwall!$AH118:$AW118,0)","v":{"$error":"#N/A"}},{"$f":"MATCH(BP$3,Millwall!$AH118:$AW118,0)","v":{"$error":"#N/A"}},{"$f":"MATCH(BQ$3,Millwall!$AH118:$AW118,0)","v":{"$error":"#N/A"}},{"$f":"MATCH(BR$3,Millwall!$AH118:$AW118,0)","v":{"$error":"#N/A"}},{"$f":"MATCH(BS$3,Millwall!$AH118:$AW118,0)","v":{"$error":"#N/A"}},{"$f":"MATCH(BT$3,Millwall!$AH118:$AW118,0)","v":{"$error":"#N/A"}},{"$f":"MATCH(BU$3,Millwall!$AH118:$AW118,0)","v":{"$error":"#N/A"}},{"$f":"MATCH(BV$3,Millwall!$AH118:$AW118,0)","v":{"$error":"#N/A"}},{"$f":"MATCH(BW$3,Millwall!$AH118:$AW118,0)","v":{"$error":"#N/A"}},{"$f":"MATCH(BX$3,Millwall!$AH118:$AW118,0)","v":{"$error":"#N/A"}},{"$f":"MATCH(BY$3,Millwall!$AH118:$AW118,0)","v":{"$error":"#N/A"}},{"$f":"MATCH(BZ$3,Millwall!$AH118:$AW118,0)","v":{"$error":"#N/A"}},{"$f":"MATCH(CA$3,Millwall!$AH118:$AW118,0)","v":{"$error":"#N/A"}},{"$f":"MATCH(CB$3,Millwall!$AH118:$AW118,0)","v":{"$error":"#N/A"}},{"$f":"MATCH(CC$3,Millwall!$AH118:$AW118,0)","v":12},{"$f":"MATCH(CD$3,Millwall!$AH118:$AW118,0)","v":{"$error":"#N/A"}},{"$f":"MATCH(CE$3,Millwall!$AH118:$AW118,0)","v":{"$error":"#N/A"}},{"$f":"MATCH(CF$3,Millwall!$AH118:$AW118,0)","v":{"$error":"#N/A"}},{"$f":"MATCH(CG$3,Millwall!$AH118:$AW118,0)","v":{"$error":"#N/A"}},{"$f":"MATCH(CH$3,Millwall!$AH118:$AW118,0)","v":{"$error":"#N/A"}},{"$f":"MATCH(CI$3,Millwall!$AH118:$AW118,0)","v":{"$error":"#N/A"}},{"$f":"MATCH(CJ$3,Millwall!$AH118:$AW118,0)","v":{"$error":"#N/A"}},{"$f":"MATCH(CK$3,Millwall!$AH118:$AW118,0)","v":6},{"$f":"MATCH(CL$3,Millwall!$AH118:$AW118,0)","v":{"$error":"#N/A"}},{"$f":"MATCH(CM$3,Millwall!$AH118:$AW118,0)","v":{"$error":"#N/A"}},null,null,{"$f":"MATCH($CP$3,Millwall!$AH$118:$AW$118,0)","v":{"$error":"#N/A"}},{"$f":"MATCH($CQ$3,Millwall!$AH$118:$AW$118,0)","v":{"$error":"#N/A"}},{"$f":"MATCH($CR$3,Millwall!$AH$118:$AW$118,0)","v":{"$error":"#N/A"}},{"$f":"MATCH($CS$3,Millwall!$AH$118:$AW$118,0)","v":{"$error":"#N/A"}},{"$f":"MATCH($CT$3,Millwall!$AH$118:$AW$118,0)","v":{"$error":"#N/A"}},{"$f":"MATCH($CU$3,Millwall!$AH$118:$AW$118,0)","v":{"$error":"#N/A"}},{"$f":"MATCH($CV$3,Millwall!$AH$118:$AW$118,0)","v":{"$error":"#N/A"}},{"$f":"MATCH($CW$3,Millwall!$AH$118:$AW$118,0)","v":{"$error":"#N/A"}},{"$f":"MATCH($CX$3,Millwall!$AH$118:$AW$118,0)","v":{"$error":"#N/A"}},{"$f":"MATCH($CY$3,Millwall!$AH$118:$AW$118,0)","v":{"$error":"#N/A"}},{"$f":"MATCH($CZ$3,Millwall!$AH$118:$AW$118,0)","v":{"$error":"#N/A"}},{"$f":"MATCH($DA$3,Millwall!$AH$118:$AW$118,0)","v":{"$error":"#N/A"}},{"$f":"MATCH($DB$3,Millwall!$AH$118:$AW$118,0)","v":{"$error":"#N/A"}},{"$f":"MATCH($DC$3,Millwall!$AH$118:$AW$118,0)","v":{"$error":"#N/A"}},{"$f":"MATCH($DD$3,Millwall!$AH$118:$AW$118,0)","v":{"$error":"#N/A"}},{"$f":"MATCH($DE$3,Millwall!$AH$118:$AW$118,0)","v":{"$error":"#N/A"}},{"$f":"MATCH($DF$3,Millwall!$AH$118:$AW$118,0)","v":{"$error":"#N/A"}},{"$f":"MATCH($DG$3,Millwall!$AH$118:$AW$118,0)","v":{"$error":"#N/A"}},{"$f":"MATCH($DH$3,Millwall!$AH$118:$AW$118,0)","v":{"$error":"#N/A"}},{"$f":"MATCH($DI$3,Millwall!$AH$118:$AW$118,0)","v":{"$error":"#N/A"}},{"$f":"MATCH($DJ$3,Millwall!$AH$118:$AW$118,0)","v":{"$error":"#N/A"}},{"$f":"MATCH($DK$3,Millwall!$AH$118:$AW$118,0)","v":{"$error":"#N/A"}},{"$f":"MATCH($DL$3,Millwall!$AH$118:$AW$118,0)","v":{"$error":"#N/A"}},{"$f":"MATCH($DM$3,Millwall!$AH$118:$AW$118,0)","v":{"$error":"#N/A"}},{"$f":"MATCH($DN$3,Millwall!$AH$118:$AW$118,0)","v":{"$error":"#N/A"}},{"$f":"MATCH($DO$3,Millwall!$AH$118:$AW$118,0)","v":{"$error":"#N/A"}},{"$f":"MATCH($DP$3,Millwall!$AH$118:$AW$118,0)","v":{"$error":"#N/A"}},{"$f":"MATCH($DQ$3,Millwall!$AH$118:$AW$118,0)","v":{"$error":"#N/A"}},{"$f":"MATCH($DR$3,Millwall!$AH$118:$AW$118,0)","v":{"$error":"#N/A"}},{"$f":"MATCH($DS$3,Millwall!$AH$118:$AW$118,0)","v":{"$error":"#N/A"}},{"$f":"MATCH($DT$3,Millwall!$AH$118:$AW$118,0)","v":{"$error":"#N/A"}},{"$f":"MATCH($DU$3,Millwall!$AH$118:$AW$118,0)","v":{"$error":"#N/A"}},{"$f":"MATCH($DV$3,Millwall!$AH$118:$AW$118,0)","v":{"$error":"#N/A"}},{"$f":"MATCH($DW$3,Millwall!$AH$118:$AW$118,0)","v":{"$error":"#N/A"}},{"$f":"MATCH($DX$3,Millwall!$AH$118:$AW$118,0)","v":{"$error":"#N/A"}},{"$f":"MATCH($DY$3,Millwall!$AH$118:$AW$118,0)","v":{"$error":"#N/A"}},{"$f":"MATCH($DZ$3,Millwall!$AH$118:$AW$118,0)","v":{"$error":"#N/A"}},{"$f":"MATCH($EA$3,Millwall!$AH$118:$AW$118,0)","v":{"$error":"#N/A"}},null,null,{"$f":"MATCH(ED$3,Millwall!$AH$118:$AW$118,0)","v":{"$error":"#N/A"}},{"$f":"MATCH(EE$3,Millwall!$AH$118:$AW$118,0)","v":14},{"$f":"MATCH(EF$3,Millwall!$AH$118:$AW$118,0)","v":{"$error":"#N/A"}},{"$f":"MATCH(EG$3,Millwall!$AH$118:$AW$118,0)","v":{"$error":"#N/A"}},{"$f":"MATCH(EH$3,Millwall!$AH$118:$AW$118,0)","v":{"$error":"#N/A"}},{"$f":"MATCH(EI$3,Millwall!$AH$118:$AW$118,0)","v":{"$error":"#N/A"}},{"$f":"MATCH(EJ$3,Millwall!$AH$118:$AW$118,0)","v":{"$error":"#N/A"}},{"$f":"MATCH(EK$3,Millwall!$AH$118:$AW$118,0)","v":{"$error":"#N/A"}},{"$f":"MATCH(EL$3,Millwall!$AH$118:$AW$118,0)","v":9},{"$f":"MATCH(EM$3,Millwall!$AH$118:$AW$118,0)","v":{"$error":"#N/A"}},{"$f":"MATCH(EN$3,Millwall!$AH$118:$AW$118,0)","v":{"$error":"#N/A"}},{"$f":"MATCH(EO$3,Millwall!$AH$118:$AW$118,0)","v":{"$error":"#N/A"}},{"$f":"MATCH(EP$3,Millwall!$AH$118:$AW$118,0)","v":{"$error":"#N/A"}},{"$f":"MATCH(EQ$3,Millwall!$AH$118:$AW$118,0)","v":{"$error":"#N/A"}},{"$f":"MATCH(ER$3,Millwall!$AH$118:$AW$118,0)","v":{"$error":"#N/A"}},{"$f":"MATCH(ES$3,Millwall!$AH$118:$AW$118,0)","v":{"$error":"#N/A"}},{"$f":"MATCH(ET$3,Millwall!$AH$118:$AW$118,0)","v":{"$error":"#N/A"}},{"$f":"MATCH(EU$3,Millwall!$AH$118:$AW$118,0)","v":{"$error":"#N/A"}},{"$f":"MATCH(EV$3,Millwall!$AH$118:$AW$118,0)","v":{"$error":"#N/A"}},{"$f":"MATCH(EW$3,Millwall!$AH$118:$AW$118,0)","v":{"$error":"#N/A"}},{"$f":"MATCH(EX$3,Millwall!$AH$118:$AW$118,0)","v":{"$error":"#N/A"}},{"$f":"MATCH(EY$3,Millwall!$AH$118:$AW$118,0)","v":{"$error":"#N/A"}},{"$f":"MATCH(EZ$3,Millwall!$AH$118:$AW$118,0)","v":{"$error":"#N/A"}},{"$f":"MATCH(FA$3,Millwall!$AH$118:$AW$118,0)","v":{"$error":"#N/A"}},{"$f":"MATCH(FB$3,Millwall!$AH$118:$AW$118,0)","v":{"$error":"#N/A"}},{"$f":"MATCH(FC$3,Millwall!$AH$118:$AW$118,0)","v":{"$error":"#N/A"}},{"$f":"MATCH(FD$3,Millwall!$AH$118:$AW$118,0)","v":{"$error":"#N/A"}},{"$f":"MATCH(FE$3,Millwall!$AH$118:$AW$118,0)","v":{"$error":"#N/A"}},{"$f":"MATCH(FF$3,Millwall!$AH$118:$AW$118,0)","v":{"$error":"#N/A"}},{"$f":"MATCH(FG$3,Millwall!$AH$118:$AW$118,0)","v":{"$error":"#N/A"}},{"$f":"MATCH(FH$3,Millwall!$AH$118:$AW$118,0)","v":{"$error":"#N/A"}},{"$f":"MATCH(FI$3,Millwall!$AH$118:$AW$118,0)","v":{"$error":"#N/A"}},{"$f":"MATCH(FJ$3,Millwall!$AH$118:$AW$118,0)","v":{"$error":"#N/A"}},{"$f":"MATCH(FK$3,Millwall!$AH$118:$AW$118,0)","v":{"$error":"#N/A"}},{"$f":"MATCH(FL$3,Millwall!$AH$118:$AW$118,0)","v":{"$error":"#N/A"}},{"$f":"MATCH(FM$3,Millwall!$AH$118:$AW$118,0)","v":{"$error":"#N/A"}},{"$f":"MATCH(FN$3,Millwall!$AH$118:$AW$118,0)","v":{"$error":"#N/A"}},{"$f":"MATCH(FO$3,Millwall!$AH$118:$AW$118,0)","v":{"$error":"#N/A"}}]
[null,null,0,45,null,{"$f":"Millwall!AD119","v":"1997-04-26"},null,{"$f":"Millwall!AE119","v":"Gillingham"},{"$f":"Millwall!AF119","v":"(H)"},{"$f":"Millwall!AG119","v":"L 0-2"},{"$f":"MATCH($K$4,Millwall!$AH$119:$AW$119,0)","v":{"$error":"#N/A"}},{"$f":"MATCH($L$4,Millwall!$AH$119:$AW$119,0)","v":11},{"$f":"MATCH($M$4,Millwall!$AH$119:$AW$119,0)","v":14},{"$f":"MATCH($N$4,Millwall!$AH$119:$AW$119,0)","v":9},{"$f":"MATCH($O$4,Millwall!$AH$119:$AW$119,0)","v":{"$error":"#N/A"}},{"$f":"MATCH($P$4,Millwall!$AH$119:$AW$119,0)","v":{"$error":"#N/A"}},{"$f":"MATCH($Q$4,Millwall!$AH$119:$AW$119,0)","v":13},{"$f":"MATCH($R$4,Millwall!$AH$119:$AW$119,0)","v":1},{"$f":"MATCH($S$4,Millwall!$AH$119:$AW$119,0)","v":{"$error":"#N/A"}},{"$f":"MATCH($T$4,Millwall!$AH$119:$AW$119,0)","v":{"$error":"#N/A"}},{"$f":"MATCH($U$4,Millwall!$AH$119:$AW$119,0)","v":{"$error":"#N/A"}},{"$f":"MATCH($V$4,Millwall!$AH$119:$AW$119,0)","v":8},{"$f":"MATCH($W$4,Millwall!$AH$119:$AW$119,0)","v":{"$error":"#N/A"}},{"$f":"MATCH($X$4,Millwall!$AH$119:$AW$119,0)","v":{"$error":"#N/A"}},{"$f":"MATCH($Y$4,Millwall!$AH$119:$AW$119,0)","v":3},{"$f":"MATCH($Z$4,Millwall!$AH$119:$AW$119,0)","v":7},{"$f":"MATCH($AA$4,Millwall!$AH$119:$AW$119,0)","v":{"$error":"#N/A"}},{"$f":"MATCH($AB$4,Millwall!$AH$119:$AW$119,0)","v":{"$error":"#N/A"}},{"$f":"MATCH($AC$4,Millwall!$AH$119:$AW$119,0)","v":{"$error":"#N/A"}},{"$f":"MATCH($AD$4,Millwall!$AH$119:$AW$119,0)","v":{"$error":"#N/A"}},{"$f":"MATCH($AE$4,Millwall!$AH$119:$AW$119,0)","v":{"$error":"#N/A"}},{"$f":"MATCH($AF$4,Millwall!$AH$119:$AW$119,0)","v":5},{"$f":"MATCH($AG$4,Millwall!$AH$119:$AW$119,0)","v":{"$error":"#N/A"}},{"$f":"MATCH($AH$4,Millwall!$AH$119:$AW$119,0)","v":2},{"$f":"MATCH($AI$4,Millwall!$AH$119:$AW$119,0)","v":12},{"$f":"MATCH($AJ$4,Millwall!$AH$119:$AW$119,0)","v":{"$error":"#N/A"}},{"$f":"MATCH($AK$4,Millwall!$AH$119:$AW$119,0)","v":{"$error":"#N/A"}},{"$f":"MATCH($AL$4,Millwall!$AH$119:$AW$119,0)","v":4},{"$f":"MATCH($AM$4,Millwall!$AH$119:$AW$119,0)","v":{"$error":"#N/A"}},{"$f":"MATCH($AN$4,Millwall!$AH$119:$AW$119,0)","v":{"$error":"#N/A"}},{"$f":"MATCH($AO$4,Millwall!$AH$119:$AW$119,0)","v":{"$error":"#N/A"}},{"$f":"MATCH($AP$4,Millwall!$AH$119:$AW$119,0)","v":{"$error":"#N/A"}},{"$f":"MATCH($AQ$4,Millwall!$AH$119:$AW$119,0)","v":{"$error":"#N/A"}},{"$f":"MATCH($AR$4,Millwall!$AH$119:$AW$119,0)","v":10},{"$f":"MATCH($AS$4,Millwall!$AH$119:$AW$119,0)","v":{"$error":"#N/A"}},{"$f":"MATCH($AT$4,Millwall!$AH$119:$AW$119,0)","v":6},{"$f":"MATCH($AU$4,Millwall!$AH$119:$AW$119,0)","v":{"$error":"#N/A"}},{"$f":"MATCH($AV$4,Millwall!$AH$119:$AW$119,0)","v":{"$error":"#N/A"}},null,null,null,null,null,{"$f":"MATCH(BB$3,Millwall!$AH119:$AW119,0)","v":{"$error":"#N/A"}},{"$f":"MATCH(BC$3,Millwall!$AH119:$AW119,0)","v":{"$error":"#N/A"}},{"$f":"MATCH(BD$3,Millwall!$AH119:$AW119,0)","v":{"$error":"#N/A"}},{"$f":"MATCH(BE$3,Millwall!$AH119:$AW119,0)","v":{"$error":"#N/A"}},{"$f":"MATCH(BF$3,Millwall!$AH119:$AW119,0)","v":{"$error":"#N/A"}},{"$f":"MATCH(BG$3,Millwall!$AH119:$AW119,0)","v":{"$error":"#N/A"}},{"$f":"MATCH(BH$3,Millwall!$AH119:$AW119,0)","v":{"$error":"#N/A"}},{"$f":"MATCH(BI$3,Millwall!$AH119:$AW119,0)","v":{"$error":"#N/A"}},{"$f":"MATCH(BJ$3,Millwall!$AH119:$AW119,0)","v":{"$error":"#N/A"}},{"$f":"MATCH(BK$3,Millwall!$AH119:$AW119,0)","v":{"$error":"#N/A"}},{"$f":"MATCH(BL$3,Millwall!$AH119:$AW119,0)","v":{"$error":"#N/A"}},{"$f":"MATCH(BM$3,Millwall!$AH119:$AW119,0)","v":{"$error":"#N/A"}},{"$f":"MATCH(BN$3,Millwall!$AH119:$AW119,0)","v":{"$error":"#N/A"}},{"$f":"MATCH(BO$3,Millwall!$AH119:$AW119,0)","v":{"$error":"#N/A"}},{"$f":"MATCH(BP$3,Millwall!$AH119:$AW119,0)","v":3},{"$f":"MATCH(BQ$3,Millwall!$AH119:$AW119,0)","v":{"$error":"#N/A"}},{"$f":"MATCH(BR$3,Millwall!$AH119:$AW119,0)","v":{"$error":"#N/A"}},{"$f":"MATCH(BS$3,Millwall!$AH119:$AW119,0)","v":{"$error":"#N/A"}},{"$f":"MATCH(BT$3,Millwall!$AH119:$AW119,0)","v":{"$error":"#N/A"}},{"$f":"MATCH(BU$3,Millwall!$AH119:$AW119,0)","v":{"$error":"#N/A"}},{"$f":"MATCH(BV$3,Millwall!$AH119:$AW119,0)","v":{"$error":"#N/A"}},{"$f":"MATCH(BW$3,Millwall!$AH119:$AW119,0)","v":{"$error":"#N/A"}},{"$f":"MATCH(BX$3,Millwall!$AH119:$AW119,0)","v":{"$error":"#N/A"}},{"$f":"MATCH(BY$3,Millwall!$AH119:$AW119,0)","v":{"$error":"#N/A"}},{"$f":"MATCH(BZ$3,Millwall!$AH119:$AW119,0)","v":12},{"$f":"MATCH(CA$3,Millwall!$AH119:$AW119,0)","v":{"$error":"#N/A"}},{"$f":"MATCH(CB$3,Millwall!$AH119:$AW119,0)","v":{"$error":"#N/A"}},{"$f":"MATCH(CC$3,Millwall!$AH119:$AW119,0)","v":{"$error":"#N/A"}},{"$f":"MATCH(CD$3,Millwall!$AH119:$AW119,0)","v":{"$error":"#N/A"}},{"$f":"MATCH(CE$3,Millwall!$AH119:$AW119,0)","v":{"$error":"#N/A"}},{"$f":"MATCH(CF$3,Millwall!$AH119:$AW119,0)","v":{"$error":"#N/A"}},{"$f":"MATCH(CG$3,Millwall!$AH119:$AW119,0)","v":{"$error":"#N/A"}},{"$f":"MATCH(CH$3,Millwall!$AH119:$AW119,0)","v":{"$error":"#N/A"}},{"$f":"MATCH(CI$3,Millwall!$AH119:$AW119,0)","v":{"$error":"#N/A"}},{"$f":"MATCH(CJ$3,Millwall!$AH119:$AW119,0)","v":{"$error":"#N/A"}},{"$f":"MATCH(CK$3,Millwall!$AH119:$AW119,0)","v":{"$error":"#N/A"}},{"$f":"MATCH(CL$3,Millwall!$AH119:$AW119,0)","v":{"$error":"#N/A"}},{"$f":"MATCH(CM$3,Millwall!$AH119:$AW119,0)","v":{"$error":"#N/A"}},null,null,{"$f":"MATCH(CP3,Millwall!AH119:AW119,0)","v":{"$error":"#N/A"}},{"$f":"MATCH(CQ3,Millwall!AH119:AW119,0)","v":{"$error":"#N/A"}},{"$f":"MATCH(CR3,Millwall!AH119:AW119,0)","v":{"$error":"#N/A"}},{"$f":"MATCH(CS3,Millwall!AH119:AW119,0)","v":{"$error":"#N/A"}},{"$f":"MATCH(CT3,Millwall!AH119:AW119,0)","v":{"$error":"#N/A"}},{"$f":"MATCH(CU3,Millwall!AH119:AW119,0)","v":{"$error":"#N/A"}},{"$f":"MATCH(CV3,Millwall!AH119:AW119,0)","v":{"$error":"#N/A"}},{"$f":"MATCH(CW3,Millwall!AH119:AW119,0)","v":{"$error":"#N/A"}},{"$f":"MATCH(CX3,Millwall!AH119:AW119,0)","v":{"$error":"#N/A"}},{"$f":"MATCH(CY3,Millwall!AH119:AW119,0)","v":{"$error":"#N/A"}},{"$f":"MATCH(CZ3,Millwall!AH119:AW119,0)","v":{"$error":"#N/A"}},{"$f":"MATCH(DA3,Millwall!AH119:AW119,0)","v":{"$error":"#N/A"}},{"$f":"MATCH(DB3,Millwall!AH119:AW119,0)","v":{"$error":"#N/A"}},{"$f":"MATCH(DC3,Millwall!AH119:AW119,0)","v":{"$error":"#N/A"}},{"$f":"MATCH(DD3,Millwall!AH119:AW119,0)","v":{"$error":"#N/A"}},{"$f":"MATCH(DE3,Millwall!AH119:AW119,0)","v":{"$error":"#N/A"}},{"$f":"MATCH(DF3,Millwall!AH119:AW119,0)","v":{"$error":"#N/A"}},{"$f":"MATCH(DG3,Millwall!AH119:AW119,0)","v":{"$error":"#N/A"}},{"$f":"MATCH(DH3,Millwall!AH119:AW119,0)","v":{"$error":"#N/A"}},{"$f":"MATCH(DI3,Millwall!AH119:AW119,0)","v":{"$error":"#N/A"}},{"$f":"MATCH(DJ3,Millwall!AH119:AW119,0)","v":{"$error":"#N/A"}},{"$f":"MATCH(DK3,Millwall!AH119:AW119,0)","v":{"$error":"#N/A"}},{"$f":"MATCH(DL3,Millwall!AH119:AW119,0)","v":{"$error":"#N/A"}},{"$f":"MATCH(DM3,Millwall!AH119:AW119,0)","v":{"$error":"#N/A"}},{"$f":"MATCH(DN3,Millwall!AH119:AW119,0)","v":{"$error":"#N/A"}},{"$f":"MATCH(DO3,Millwall!AH119:AW119,0)","v":{"$error":"#N/A"}},{"$f":"MATCH(DP3,Millwall!AH119:AW119,0)","v":{"$error":"#N/A"}},{"$f":"MATCH(DQ3,Millwall!AH119:AW119,0)","v":{"$error":"#N/A"}},{"$f":"MATCH(DR3,Millwall!AH119:AW119,0)","v":{"$error":"#N/A"}},{"$f":"MATCH(DS3,Millwall!AH119:AW119,0)","v":{"$error":"#N/A"}},{"$f":"MATCH(DT3,Millwall!AH119:AW119,0)","v":{"$error":"#N/A"}},{"$f":"MATCH(DU3,Millwall!AH119:AW119,0)","v":{"$error":"#N/A"}},{"$f":"MATCH(DV3,Millwall!AH119:AW119,0)","v":{"$error":"#N/A"}},{"$f":"MATCH(DW3,Millwall!AH119:AW119,0)","v":{"$error":"#N/A"}},{"$f":"MATCH(DX3,Millwall!AJ119:AY119,0)","v":{"$error":"#N/A"}},{"$f":"MATCH(DY3,Millwall!AJ119:AY119,0)","v":{"$error":"#N/A"}},{"$f":"MATCH(DZ3,Millwall!AL119:BA119,0)","v":{"$error":"#N/A"}},{"$f":"MATCH(EA3,Millwall!AL119:BA119,0)","v":{"$error":"#N/A"}},null,null,{"$f":"MATCH(ED3,Millwall!BR119:CG119,0)","v":{"$error":"#N/A"}},{"$f":"MATCH(EE3,Millwall!BS119:CH119,0)","v":{"$error":"#N/A"}},{"$f":"MATCH(EF3,Millwall!BT119:CI119,0)","v":{"$error":"#N/A"}},{"$f":"MATCH(EG3,Millwall!BU119:CJ119,0)","v":{"$error":"#N/A"}},{"$f":"MATCH(EH3,Millwall!BV119:CK119,0)","v":{"$error":"#N/A"}},{"$f":"MATCH(EI3,Millwall!BW119:CL119,0)","v":{"$error":"#N/A"}},{"$f":"MATCH(EJ3,Millwall!BX119:CM119,0)","v":{"$error":"#N/A"}},{"$f":"MATCH(EK3,Millwall!BY119:CN119,0)","v":{"$error":"#N/A"}},{"$f":"MATCH(EL3,Millwall!BZ119:CO119,0)","v":{"$error":"#N/A"}},{"$f":"MATCH(EM3,Millwall!CA119:CP119,0)","v":{"$error":"#N/A"}},{"$f":"MATCH(EN3,Millwall!CB119:CQ119,0)","v":{"$error":"#N/A"}},{"$f":"MATCH(EO3,Millwall!CC119:CR119,0)","v":{"$error":"#N/A"}},{"$f":"MATCH(EP3,Millwall!CD119:CS119,0)","v":{"$error":"#N/A"}},{"$f":"MATCH(EQ3,Millwall!CE119:CT119,0)","v":{"$error":"#N/A"}},{"$f":"MATCH(ER3,Millwall!CF119:CU119,0)","v":{"$error":"#N/A"}},{"$f":"MATCH(ES3,Millwall!CG119:CV119,0)","v":{"$error":"#N/A"}},{"$f":"MATCH(ET3,Millwall!CH119:CW119,0)","v":{"$error":"#N/A"}},{"$f":"MATCH(EU3,Millwall!CI119:CX119,0)","v":{"$error":"#N/A"}},{"$f":"MATCH(EV3,Millwall!CJ119:CY119,0)","v":{"$error":"#N/A"}},{"$f":"MATCH(EW3,Millwall!CK119:CZ119,0)","v":{"$error":"#N/A"}},{"$f":"MATCH(EX3,Millwall!CL119:DA119,0)","v":{"$error":"#N/A"}},{"$f":"MATCH(EY3,Millwall!CM119:DB119,0)","v":{"$error":"#N/A"}},{"$f":"MATCH(EZ3,Millwall!CN119:DC119,0)","v":{"$error":"#N/A"}},{"$f":"MATCH(FA3,Millwall!CO119:DD119,0)","v":{"$error":"#N/A"}},{"$f":"MATCH(FB3,Millwall!CP119:DE119,0)","v":{"$error":"#N/A"}},{"$f":"MATCH(FC3,Millwall!CQ119:DF119,0)","v":{"$error":"#N/A"}},{"$f":"MATCH(FD3,Millwall!CR119:DG119,0)","v":{"$error":"#N/A"}},{"$f":"MATCH(FE3,Millwall!CS119:DH119,0)","v":{"$error":"#N/A"}},{"$f":"MATCH(FF3,Millwall!CT119:DI119,0)","v":{"$error":"#N/A"}},{"$f":"MATCH(FG3,Millwall!CU119:DJ119,0)","v":{"$error":"#N/A"}},{"$f":"MATCH(FH3,Millwall!CV119:DK119,0)","v":{"$error":"#N/A"}},{"$f":"MATCH(FI3,Millwall!CW119:DL119,0)","v":{"$error":"#N/A"}},{"$f":"MATCH(FJ3,Millwall!CX119:DM119,0)","v":{"$error":"#N/A"}},{"$f":"MATCH(FK3,Millwall!CY119:DN119,0)","v":{"$error":"#N/A"}},{"$f":"MATCH(FL3,Millwall!CZ119:DO119,0)","v":{"$error":"#N/A"}},{"$f":"MATCH(FM3,Millwall!DA119:DP119,0)","v":{"$error":"#N/A"}},{"$f":"MATCH(FN3,Millwall!DB119:DQ119,0)","v":{"$error":"#N/A"}},{"$f":"MATCH(FO3,Millwall!DC119:DR119,0)","v":{"$error":"#N/A"}}]
[null,null,0,46,null,{"$f":"Millwall!AD120","v":"1997-05-03"},null,{"$f":"Millwall!AE120","v":"Bury"},{"$f":"Millwall!AF120","v":"(A)"},{"$f":"Millwall!AG120","v":"L 0-2"},{"$f":"MATCH($K$4,Millwall!$AH$120:$AW$120,0)","v":{"$error":"#N/A"}},{"$f":"MATCH($L$4,Millwall!$AH$120:$AW$120,0)","v":11},{"$f":"MATCH($M$4,Millwall!$AH$120:$AW$120,0)","v":14},{"$f":"MATCH($N$4,Millwall!$AH$120:$AW$120,0)","v":9},{"$f":"MATCH($O$4,Millwall!$AH$120:$AW$120,0)","v":{"$error":"#N/A"}},{"$f":"MATCH($P$4,Millwall!$AH$120:$AW$120,0)","v":{"$error":"#N/A"}},{"$f":"MATCH($Q$4,Millwall!$AH$120:$AW$120,0)","v":{"$error":"#N/A"}},{"$f":"MATCH($R$4,Millwall!$AH$120:$AW$120,0)","v":1},{"$f":"MATCH($S$4,Millwall!$AH$120:$AW$120,0)","v":{"$error":"#N/A"}},{"$f":"MATCH($T$4,Millwall!$AH$120:$AW$120,0)","v":{"$error":"#N/A"}},{"$f":"MATCH($U$4,Millwall!$AH$120:$AW$120,0)","v":{"$error":"#N/A"}},{"$f":"MATCH($V$4,Millwall!$AH$120:$AW$120,0)","v":12},{"$f":"MATCH($W$4,Millwall!$AH$120:$AW$120,0)","v":{"$error":"#N/A"}},{"$f":"MATCH($X$4,Millwall!$AH$120:$AW$120,0)","v":{"$error":"#N/A"}},{"$f":"MATCH($Y$4,Millwall!$AH$120:$AW$120,0)","v":13},{"$f":"MATCH($Z$4,Millwall!$AH$120:$AW$120,0)","v":7},{"$f":"MATCH($AA$4,Millwall!$AH$120:$AW$120,0)","v":{"$error":"#N/A"}},{"$f":"MATCH($AB$4,Millwall!$AH$120:$AW$120,0)","v":{"$error":"#N/A"}},{"$f":"MATCH($AC$4,Millwall!$AH$120:$AW$120,0)","v":{"$error":"#N/A"}},{"$f":"MATCH($AD$4,Millwall!$AH$120:$AW$120,0)","v":{"$error":"#N/A"}},{"$f":"MATCH($AE$4,Millwall!$AH$120:$AW$120,0)","v":{"$error":"#N/A"}},{"$f":"MATCH($AF$4,Millwall!$AH$120:$AW$120,0)","v":5},{"$f":"MATCH($AG$4,Millwall!$AH$120:$AW$120,0)","v":{"$error":"#N/A"}},{"$f":"MATCH($AH$4,Millwall!$AH$120:$AW$120,0)","v":2},{"$f":"MATCH($AI$4,Millwall!$AH$120:$AW$120,0)","v":3},{"$f":"MATCH($AJ$4,Millwall!$AH$120:$AW$120,0)","v":{"$error":"#N/A"}},{"$f":"MATCH($AK$4,Millwall!$AH$120:$AW$120,0)","v":{"$error":"#N/A"}},{"$f":"MATCH($AL$4,Millwall!$AH$120:$AW$120,0)","v":4},{"$f":"MATCH($AM$4,Millwall!$AH$120:$AW$120,0)","v":{"$error":"#N/A"}},{"$f":"MATCH($AN$4,Millwall!$AH$120:$AW$120,0)","v":8},{"$f":"MATCH($AO$4,Millwall!$AH$120:$AW$120,0)","v":{"$error":"#N/A"}},{"$f":"MATCH($AP$4,Millwall!$AH$120:$AW$120,0)","v":{"$error":"#N/A"}},{"$f":"MATCH($AQ$4,Millwall!$AH$120:$AW$120,0)","v":{"$error":"#N/A"}},{"$f":"MATCH($AR$4,Millwall!$AH$120:$AW$120,0)","v":10},{"$f":"MATCH($AS$4,Millwall!$AH$120:$AW$120,0)","v":{"$error":"#N/A"}},{"$f":"MATCH($AT$4,Millwall!$AH$120:$AW$120,0)","v":6},{"$f":"MATCH($AU$4,Millwall!$AH$120:$AW$120,0)","v":{"$error":"#N/A"}},{"$f":"MATCH($AV$4,Millwall!$AH$120:$AW$120,0)","v":{"$error":"#N/A"}},null,null,null,null,null,{"$f":"MATCH(BB$3,Millwall!$AH120:$AW120,0)","v":{"$error":"#N/A"}},{"$f":"MATCH(BC$3,Millwall!$AH120:$AW120,0)","v":11},{"$f":"MATCH(BD$3,Millwall!$AH120:$AW120,0)","v":{"$error":"#N/A"}},{"$f":"MATCH(BE$3,Millwall!$AH120:$AW120,0)","v":{"$error":"#N/A"}},{"$f":"MATCH(BF$3,Millwall!$AH120:$AW120,0)","v":{"$error":"#N/A"}},{"$f":"MATCH(BG$3,Millwall!$AH120:$AW120,0)","v":{"$error":"#N/A"}},{"$f":"MATCH(BH$3,Millwall!$AH120:$AW120,0)","v":{"$error":"#N/A"}},{"$f":"MATCH(BI$3,Millwall!$AH120:$AW120,0)","v":{"$error":"#N/A"}},{"$f":"MATCH(BJ$3,Millwall!$AH120:$AW120,0)","v":{"$error":"#N/A"}},{"$f":"MATCH(BK$3,Millwall!$AH120:$AW120,0)","v":{"$error":"#N/A"}},{"$f":"MATCH(BL$3,Millwall!$AH120:$AW120,0)","v":{"$error":"#N/A"}},{"$f":"MATCH(BM$3,Millwall!$AH120:$AW120,0)","v":12},{"$f":"MATCH(BN$3,Millwall!$AH120:$AW120,0)","v":{"$error":"#N/A"}},{"$f":"MATCH(BO$3,Millwall!$AH120:$AW120,0)","v":{"$error":"#N/A"}},{"$f":"MATCH(BP$3,Millwall!$AH120:$AW120,0)","v":{"$error":"#N/A"}},{"$f":"MATCH(BQ$3,Millwall!$AH120:$AW120,0)","v":{"$error":"#N/A"}},{"$f":"MATCH(BR$3,Millwall!$AH120:$AW120,0)","v":{"$error":"#N/A"}},{"$f":"MATCH(BS$3,Millwall!$AH120:$AW120,0)","v":{"$error":"#N/A"}},{"$f":"MATCH(BT$3,Millwall!$AH120:$AW120,0)","v":{"$error":"#N/A"}},{"$f":"MATCH(BU$3,Millwall!$AH120:$AW120,0)","v":{"$error":"#N/A"}},{"$f":"MATCH(BV$3,Millwall!$AH120:$AW120,0)","v":{"$error":"#N/A"}},{"$f":"MATCH(BW$3,Millwall!$AH120:$AW120,0)","v":{"$error":"#N/A"}},{"$f":"MATCH(BX$3,Millwall!$AH120:$AW120,0)","v":{"$error":"#N/A"}},{"$f":"MATCH(BY$3,Millwall!$AH120:$AW120,0)","v":{"$error":"#N/A"}},{"$f":"MATCH(BZ$3,Millwall!$AH120:$AW120,0)","v":{"$error":"#N/A"}},{"$f":"MATCH(CA$3,Millwall!$AH120:$AW120,0)","v":{"$error":"#N/A"}},{"$f":"MATCH(CB$3,Millwall!$AH120:$AW120,0)","v":{"$error":"#N/A"}},{"$f":"MATCH(CC$3,Millwall!$AH120:$AW120,0)","v":{"$error":"#N/A"}},{"$f":"MATCH(CD$3,Millwall!$AH120:$AW120,0)","v":{"$error":"#N/A"}},{"$f":"MATCH(CE$3,Millwall!$AH120:$AW120,0)","v":{"$error":"#N/A"}},{"$f":"MATCH(CF$3,Millwall!$AH120:$AW120,0)","v":{"$error":"#N/A"}},{"$f":"MATCH(CG$3,Millwall!$AH120:$AW120,0)","v":{"$error":"#N/A"}},{"$f":"MATCH(CH$3,Millwall!$AH120:$AW120,0)","v":{"$error":"#N/A"}},{"$f":"MATCH(CI$3,Millwall!$AH120:$AW120,0)","v":{"$error":"#N/A"}},{"$f":"MATCH(CJ$3,Millwall!$AH120:$AW120,0)","v":{"$error":"#N/A"}},{"$f":"MATCH(CK$3,Millwall!$AH120:$AW120,0)","v":{"$error":"#N/A"}},{"$f":"MATCH(CL$3,Millwall!$AH120:$AW120,0)","v":{"$error":"#N/A"}},{"$f":"MATCH(CM$3,Millwall!$AH120:$AW120,0)","v":{"$error":"#N/A"}},null,null,{"$f":"MATCH(CP3,Millwall!AH120:AW120,0)","v":{"$error":"#N/A"}},{"$f":"MATCH(CQ3,Millwall!AH120:AW120,0)","v":{"$error":"#N/A"}},{"$f":"MATCH(CR3,Millwall!AH120:AW120,0)","v":{"$error":"#N/A"}},{"$f":"MATCH(CS3,Millwall!AH120:AW120,0)","v":{"$error":"#N/A"}},{"$f":"MATCH(CT3,Millwall!AH120:AW120,0)","v":{"$error":"#N/A"}},{"$f":"MATCH(CU3,Millwall!AH120:AW120,0)","v":{"$error":"#N/A"}},{"$f":"MATCH(CV3,Millwall!AH120:AW120,0)","v":{"$error":"#N/A"}},{"$f":"MATCH(CW3,Millwall!AH120:AW120,0)","v":{"$error":"#N/A"}},{"$f":"MATCH(CX3,Millwall!AH120:AW120,0)","v":{"$error":"#N/A"}},{"$f":"MATCH(CY3,Millwall!AH120:AW120,0)","v":{"$error":"#N/A"}},{"$f":"MATCH(CZ3,Millwall!AH120:AW120,0)","v":{"$error":"#N/A"}},{"$f":"MATCH(DA3,Millwall!AH120:AW120,0)","v":{"$error":"#N/A"}},{"$f":"MATCH(DB3,Millwall!AH120:AW120,0)","v":{"$error":"#N/A"}},{"$f":"MATCH(DC3,Millwall!AH120:AW120,0)","v":{"$error":"#N/A"}},{"$f":"MATCH(DD3,Millwall!AH120:AW120,0)","v":13},{"$f":"MATCH(DE3,Millwall!AH120:AW120,0)","v":{"$error":"#N/A"}},{"$f":"MATCH(DF3,Millwall!AH120:AW120,0)","v":{"$error":"#N/A"}},{"$f":"MATCH(DG3,Millwall!AH120:AW120,0)","v":{"$error":"#N/A"}},{"$f":"MATCH(DH3,Millwall!AH120:AW120,0)","v":{"$error":"#N/A"}},{"$f":"MATCH(DI3,Millwall!AH120:AW120,0)","v":{"$error":"#N/A"}},{"$f":"MATCH(DJ3,Millwall!AH120:AW120,0)","v":{"$error":"#N/A"}},{"$f":"MATCH(DK3,Millwall!AH120:AW120,0)","v":{"$error":"#N/A"}},{"$f":"MATCH(DL3,Millwall!AH120:AW120,0)","v":{"$error":"#N/A"}},{"$f":"MATCH(DM3,Millwall!AH120:AW120,0)","v":{"$error":"#N/A"}},{"$f":"MATCH(DN3,Millwall!AH120:AW120,0)","v":{"$error":"#N/A"}},{"$f":"MATCH(DO3,Millwall!AH120:AW120,0)","v":{"$error":"#N/A"}},{"$f":"MATCH(DP3,Millwall!AH120:AW120,0)","v":{"$error":"#N/A"}},{"$f":"MATCH(DQ3,Millwall!AH120:AW120,0)","v":{"$error":"#N/A"}},{"$f":"MATCH(DR3,Millwall!AH120:AW120,0)","v":{"$error":"#N/A"}},{"$f":"MATCH(DS3,Millwall!AH120:AW120,0)","v":{"$error":"#N/A"}},{"$f":"MATCH(DT3,Millwall!AH120:AW120,0)","v":{"$error":"#N/A"}},{"$f":"MATCH(DU3,Millwall!AH120:AW120,0)","v":{"$error":"#N/A"}},{"$f":"MATCH(DV3,Millwall!AH120:AW120,0)","v":{"$error":"#N/A"}},{"$f":"MATCH(DW3,Millwall!AH120:AW120,0)","v":{"$error":"#N/A"}},{"$f":"MATCH(DX3,Millwall!AJ120:AY120,0)","v":{"$error":"#N/A"}},{"$f":"MATCH(DY3,Millwall!AJ120:AY120,0)","v":4},{"$f":"MATCH(DZ3,Millwall!AL120:BA120,0)","v":{"$error":"#N/A"}},{"$f":"MATCH(EA3,Millwall!AL120:BA120,0)","v":{"$error":"#N/A"}},null,null,{"$f":"MATCH(ED3,Millwall!BR120:CG120,0)","v":{"$error":"#N/A"}},{"$f":"MATCH(EE3,Millwall!BS120:CH120,0)","v":{"$error":"#N/A"}},{"$f":"MATCH(EF3,Millwall!BT120:CI120,0)","v":{"$error":"#N/A"}},{"$f":"MATCH(EG3,Millwall!BU120:CJ120,0)","v":{"$error":"#N/A"}},{"$f":"MATCH(EH3,Millwall!BV120:CK120,0)","v":{"$error":"#N/A"}},{"$f":"MATCH(EI3,Millwall!BW120:CL120,0)","v":{"$error":"#N/A"}},{"$f":"MATCH(EJ3,Millwall!BX120:CM120,0)","v":{"$error":"#N/A"}},{"$f":"MATCH(EK3,Millwall!BY120:CN120,0)","v":{"$error":"#N/A"}},{"$f":"MATCH(EL3,Millwall!BZ120:CO120,0)","v":{"$error":"#N/A"}},{"$f":"MATCH(EM3,Millwall!CA120:CP120,0)","v":{"$error":"#N/A"}},{"$f":"MATCH(EN3,Millwall!CB120:CQ120,0)","v":{"$error":"#N/A"}},{"$f":"MATCH(EO3,Millwall!CC120:CR120,0)","v":{"$error":"#N/A"}},{"$f":"MATCH(EP3,Millwall!CD120:CS120,0)","v":{"$error":"#N/A"}},{"$f":"MATCH(EQ3,Millwall!CE120:CT120,0)","v":{"$error":"#N/A"}},{"$f":"MATCH(ER3,Millwall!CF120:CU120,0)","v":{"$error":"#N/A"}},{"$f":"MATCH(ES3,Millwall!CG120:CV120,0)","v":{"$error":"#N/A"}},{"$f":"MATCH(ET3,Millwall!CH120:CW120,0)","v":{"$error":"#N/A"}},{"$f":"MATCH(EU3,Millwall!CI120:CX120,0)","v":{"$error":"#N/A"}},{"$f":"MATCH(EV3,Millwall!CJ120:CY120,0)","v":{"$error":"#N/A"}},{"$f":"MATCH(EW3,Millwall!CK120:CZ120,0)","v":{"$error":"#N/A"}},{"$f":"MATCH(EX3,Millwall!CL120:DA120,0)","v":{"$error":"#N/A"}},{"$f":"MATCH(EY3,Millwall!CM120:DB120,0)","v":{"$error":"#N/A"}},{"$f":"MATCH(EZ3,Millwall!CN120:DC120,0)","v":{"$error":"#N/A"}},{"$f":"MATCH(FA3,Millwall!CO120:DD120,0)","v":{"$error":"#N/A"}},{"$f":"MATCH(FB3,Millwall!CP120:DE120,0)","v":{"$error":"#N/A"}},{"$f":"MATCH(FC3,Millwall!CQ120:DF120,0)","v":{"$error":"#N/A"}},{"$f":"MATCH(FD3,Millwall!CR120:DG120,0)","v":{"$error":"#N/A"}},{"$f":"MATCH(FE3,Millwall!CS120:DH120,0)","v":{"$error":"#N/A"}},{"$f":"MATCH(FF3,Millwall!CT120:DI120,0)","v":{"$error":"#N/A"}},{"$f":"MATCH(FG3,Millwall!CU120:DJ120,0)","v":{"$error":"#N/A"}},{"$f":"MATCH(FH3,Millwall!CV120:DK120,0)","v":{"$error":"#N/A"}},{"$f":"MATCH(FI3,Millwall!CW120:DL120,0)","v":{"$error":"#N/A"}},{"$f":"MATCH(FJ3,Millwall!CX120:DM120,0)","v":{"$error":"#N/A"}},{"$f":"MATCH(FK3,Millwall!CY120:DN120,0)","v":{"$error":"#N/A"}},{"$f":"MATCH(FL3,Millwall!CZ120:DO120,0)","v":{"$error":"#N/A"}},{"$f":"MATCH(FM3,Millwall!DA120:DP120,0)","v":{"$error":"#N/A"}},{"$f":"MATCH(FN3,Millwall!DB120:DQ120,0)","v":{"$error":"#N/A"}},{"$f":"MATCH(FO3,Millwall!DC120:DR120,0)","v":{"$error":"#N/A"}}]
[null,null,1,47,null,{"$f":"Millwall!AD121","v":"00:00:00"},null,{"$f":"Millwall!AE121","v":"00:00:00"},{"$f":"Millwall!AF121","v":"00:00:00"},{"$f":"Millwall!AG121","v":0},{"$f":"MATCH($K$4,Millwall!$AH$121:$AW$121,0)","v":{"$error":"#N/A"}},{"$f":"MATCH($L$4,Millwall!$AH$121:$AW$121,0)","v":{"$error":"#N/A"}},{"$f":"MATCH($M$4,Millwall!$AH$121:$AW$121,0)","v":{"$error":"#N/A"}},{"$f":"MATCH($N$4,Millwall!$AH$121:$AW$121,0)","v":{"$error":"#N/A"}},{"$f":"MATCH($O$4,Millwall!$AH$121:$AW$121,0)","v":{"$error":"#N/A"}},{"$f":"MATCH($P$4,Millwall!$AH$121:$AW$121,0)","v":{"$error":"#N/A"}},{"$f":"MATCH($Q$4,Millwall!$AH$121:$AW$121,0)","v":{"$error":"#N/A"}},{"$f":"MATCH($R$4,Millwall!$AH$121:$AW$121,0)","v":{"$error":"#N/A"}},{"$f":"MATCH($S$4,Millwall!$AH$121:$AW$121,0)","v":{"$error":"#N/A"}},{"$f":"MATCH($T$4,Millwall!$AH$121:$AW$121,0)","v":{"$error":"#N/A"}},{"$f":"MATCH($U$4,Millwall!$AH$121:$AW$121,0)","v":{"$error":"#N/A"}},{"$f":"MATCH($V$4,Millwall!$AH$121:$AW$121,0)","v":{"$error":"#N/A"}},{"$f":"MATCH($W$4,Millwall!$AH$121:$AW$121,0)","v":{"$error":"#N/A"}},{"$f":"MATCH($X$4,Millwall!$AH$121:$AW$121,0)","v":{"$error":"#N/A"}},{"$f":"MATCH($Y$4,Millwall!$AH$121:$AW$121,0)","v":{"$error":"#N/A"}},{"$f":"MATCH($Z$4,Millwall!$AH$121:$AW$121,0)","v":{"$error":"#N/A"}},{"$f":"MATCH($AA$4,Millwall!$AH$121:$AW$121,0)","v":{"$error":"#N/A"}},{"$f":"MATCH($AB$4,Millwall!$AH$121:$AW$121,0)","v":{"$error":"#N/A"}},{"$f":"MATCH($AC$4,Millwall!$AH$121:$AW$121,0)","v":{"$error":"#N/A"}},{"$f":"MATCH($AD$4,Millwall!$AH$121:$AW$121,0)","v":{"$error":"#N/A"}},{"$f":"MATCH($AE$4,Millwall!$AH$121:$AW$121,0)","v":{"$error":"#N/A"}},{"$f":"MATCH($AF$4,Millwall!$AH$121:$AW$121,0)","v":{"$error":"#N/A"}},{"$f":"MATCH($AG$4,Millwall!$AH$121:$AW$121,0)","v":{"$error":"#N/A"}},{"$f":"MATCH($AH$4,Millwall!$AH$121:$AW$121,0)","v":{"$error":"#N/A"}},{"$f":"MATCH($AI$4,Millwall!$AH$121:$AW$121,0)","v":{"$error":"#N/A"}},{"$f":"MATCH($AJ$4,Millwall!$AH$121:$AW$121,0)","v":{"$error":"#N/A"}},{"$f":"MATCH($AK$4,Millwall!$AH$121:$AW$121,0)","v":{"$error":"#N/A"}},{"$f":"MATCH($AL$4,Millwall!$AH$121:$AW$121,0)","v":{"$error":"#N/A"}},{"$f":"MATCH($AM$4,Millwall!$AH$121:$AW$121,0)","v":{"$error":"#N/A"}},{"$f":"MATCH($AN$4,Millwall!$AH$121:$AW$121,0)","v":{"$error":"#N/A"}},{"$f":"MATCH($AO$4,Millwall!$AH$121:$AW$121,0)","v":{"$error":"#N/A"}},{"$f":"MATCH($AP$4,Millwall!$AH$121:$AW$121,0)","v":{"$error":"#N/A"}},{"$f":"MATCH($AQ$4,Millwall!$AH$121:$AW$121,0)","v":{"$error":"#N/A"}},{"$f":"MATCH($AR$4,Millwall!$AH$121:$AW$121,0)","v":{"$error":"#N/A"}},{"$f":"MATCH($AS$4,Millwall!$AH$121:$AW$121,0)","v":{"$error":"#N/A"}},{"$f":"MATCH($AT$4,Millwall!$AH$121:$AW$121,0)","v":{"$error":"#N/A"}},{"$f":"MATCH($AU$4,Millwall!$AH$121:$AW$121,0)","v":{"$error":"#N/A"}},{"$f":"MATCH($AV$4,Millwall!$AH$121:$AW$121,0)","v":{"$error":"#N/A"}},null,null,null,null,null,{"$f":"MATCH(BB$3,Millwall!$AH121:$AW121,0)","v":{"$error":"#N/A"}},{"$f":"MATCH(BC$3,Millwall!$AH121:$AW121,0)","v":{"$error":"#N/A"}},{"$f":"MATCH(BD$3,Millwall!$AH121:$AW121,0)","v":{"$error":"#N/A"}},{"$f":"MATCH(BE$3,Millwall!$AH121:$AW121,0)","v":{"$error":"#N/A"}},{"$f":"MATCH(BF$3,Millwall!$AH121:$AW121,0)","v":{"$error":"#N/A"}},{"$f":"MATCH(BG$3,Millwall!$AH121:$AW121,0)","v":{"$error":"#N/A"}},{"$f":"MATCH(BH$3,Millwall!$AH121:$AW121,0)","v":{"$error":"#N/A"}},{"$f":"MATCH(BI$3,Millwall!$AH121:$AW121,0)","v":{"$error":"#N/A"}},{"$f":"MATCH(BJ$3,Millwall!$AH121:$AW121,0)","v":{"$error":"#N/A"}},{"$f":"MATCH(BK$3,Millwall!$AH121:$AW121,0)","v":{"$error":"#N/A"}},{"$f":"MATCH(BL$3,Millwall!$AH121:$AW121,0)","v":{"$error":"#N/A"}},{"$f":"MATCH(BM$3,Millwall!$AH121:$AW121,0)","v":{"$error":"#N/A"}},{"$f":"MATCH(BN$3,Millwall!$AH121:$AW121,0)","v":{"$error":"#N/A"}},{"$f":"MATCH(BO$3,Millwall!$AH121:$AW121,0)","v":{"$error":"#N/A"}},{"$f":"MATCH(BP$3,Millwall!$AH121:$AW121,0)","v":{"$error":"#N/A"}},{"$f":"MATCH(BQ$3,Millwall!$AH121:$AW121,0)","v":{"$error":"#N/A"}},{"$f":"MATCH(BR$3,Millwall!$AH121:$AW121,0)","v":{"$error":"#N/A"}},{"$f":"MATCH(BS$3,Millwall!$AH121:$AW121,0)","v":{"$error":"#N/A"}},{"$f":"MATCH(BT$3,Millwall!$AH121:$AW121,0)","v":{"$error":"#N/A"}},{"$f":"MATCH(BU$3,Millwall!$AH121:$AW121,0)","v":{"$error":"#N/A"}},{"$f":"MATCH(BV$3,Millwall!$AH121:$AW121,0)","v":{"$error":"#N/A"}},{"$f":"MATCH(BW$3,Millwall!$AH121:$AW121,0)","v":{"$error":"#N/A"}},{"$f":"MATCH(BX$3,Millwall!$AH121:$AW121,0)","v":{"$error":"#N/A"}},{"$f":"MATCH(BY$3,Millwall!$AH121:$AW121,0)","v":{"$error":"#N/A"}},{"$f":"MATCH(BZ$3,Millwall!$AH121:$AW121,0)","v":{"$error":"#N/A"}},{"$f":"MATCH(CA$3,Millwall!$AH121:$AW121,0)","v":{"$error":"#N/A"}},{"$f":"MATCH(CB$3,Millwall!$AH121:$AW121,0)","v":{"$error":"#N/A"}},{"$f":"MATCH(CC$3,Millwall!$AH121:$AW121,0)","v":{"$error":"#N/A"}},{"$f":"MATCH(CD$3,Millwall!$AH121:$AW121,0)","v":{"$error":"#N/A"}},{"$f":"MATCH(CE$3,Millwall!$AH121:$AW121,0)","v":{"$error":"#N/A"}},{"$f":"MATCH(CF$3,Millwall!$AH121:$AW121,0)","v":{"$error":"#N/A"}},{"$f":"MATCH(CG$3,Millwall!$AH121:$AW121,0)","v":{"$error":"#N/A"}},{"$f":"MATCH(CH$3,Millwall!$AH121:$AW121,0)","v":{"$error":"#N/A"}},{"$f":"MATCH(CI$3,Millwall!$AH121:$AW121,0)","v":{"$error":"#N/A"}},{"$f":"MATCH(CJ$3,Millwall!$AH121:$AW121,0)","v":{"$error":"#N/A"}},{"$f":"MATCH(CK$3,Millwall!$AH121:$AW121,0)","v":{"$error":"#N/A"}},{"$f":"MATCH(CL$3,Millwall!$AH121:$AW121,0)","v":{"$error":"#N/A"}},{"$f":"MATCH(CM$3,Millwall!$AH121:$AW121,0)","v":{"$error":"#N/A"}},null,null,{"$f":"MATCH(CP3,Millwall!AH121:AW121,0)","v":{"$error":"#N/A"}},{"$f":"MATCH(CQ3,Millwall!AH121:AW121,0)","v":{"$error":"#N/A"}},null,{"$f":"MATCH(CS3,Millwall!AH121:AW121,0)","v":{"$error":"#N/A"}},{"$f":"MATCH(CT3,Millwall!AH121:AW121,0)","v":{"$error":"#N/A"}},{"$f":"MATCH(CU3,Millwall!AH121:AW121,0)","v":{"$error":"#N/A"}},{"$f":"MATCH(CV3,Millwall!AH121:AW121,0)","v":{"$error":"#N/A"}},{"$f":"MATCH(CW3,Millwall!AH121:AW121,0)","v":{"$error":"#N/A"}},{"$f":"MATCH(CX3,Millwall!AH121:AW121,0)","v":{"$error":"#N/A"}},{"$f":"MATCH(CY3,Millwall!AH121:AW121,0)","v":{"$error":"#N/A"}},{"$f":"MATCH(CZ3,Millwall!AH121:AW121,0)","v":{"$error":"#N/A"}},{"$f":"MATCH(DA3,Millwall!AH121:AW121,0)","v":{"$error":"#N/A"}},{"$f":"MATCH(DB3,Millwall!AH121:AW121,0)","v":{"$error":"#N/A"}},{"$f":"MATCH(DC3,Millwall!AH121:AW121,0)","v":{"$error":"#N/A"}},{"$f":"MATCH(DD3,Millwall!AH121:AW121,0)","v":{"$error":"#N/A"}},{"$f":"MATCH(DE3,Millwall!AH121:AW121,0)","v":{"$error":"#N/A"}},{"$f":"MATCH(DF3,Millwall!AH121:AW121,0)","v":{"$error":"#N/A"}},{"$f":"MATCH(DG3,Millwall!AH121:AW121,0)","v":{"$error":"#N/A"}},{"$f":"MATCH(DH3,Millwall!AH121:AW121,0)","v":{"$error":"#N/A"}},{"$f":"MATCH(DI3,Millwall!AH121:AW121,0)","v":{"$error":"#N/A"}},{"$f":"MATCH(DJ3,Millwall!AH121:AW121,0)","v":{"$error":"#N/A"}},{"$f":"MATCH(DK3,Millwall!AH121:AW121,0)","v":{"$error":"#N/A"}},{"$f":"MATCH(DL3,Millwall!AH121:AW121,0)","v":{"$error":"#N/A"}},{"$f":"MATCH(DM3,Millwall!AH121:AW121,0)","v":{"$error":"#N/A"}},{"$f":"MATCH(DN3,Millwall!AH121:AW121,0)","v":{"$error":"#N/A"}},{"$f":"MATCH(DO3,Millwall!AH121:AW121,0)","v":{"$error":"#N/A"}},{"$f":"MATCH(DP3,Millwall!AH121:AW121,0)","v":{"$error":"#N/A"}},{"$f":"MATCH(DQ3,Millwall!AH121:AW121,0)","v":{"$error":"#N/A"}},{"$f":"MATCH(DR3,Millwall!AH121:AW121,0)","v":{"$error":"#N/A"}},{"$f":"MATCH(DS3,Millwall!AH121:AW121,0)","v":{"$error":"#N/A"}},{"$f":"MATCH(DT3,Millwall!AH121:AW121,0)","v":{"$error":"#N/A"}},{"$f":"MATCH(DU3,Millwall!AH121:AW121,0)","v":{"$error":"#N/A"}},{"$f":"MATCH(DV3,Millwall!AH121:AW121,0)","v":{"$error":"#N/A"}},{"$f":"MATCH(DW3,Millwall!AH121:AW121,0)","v":{"$error":"#N/A"}},{"$f":"MATCH(DX3,Millwall!AJ121:AY121,0)","v":{"$error":"#N/A"}},{"$f":"MATCH(DY3,Millwall!AJ121:AY121,0)","v":{"$error":"#N/A"}},{"$f":"MATCH(DZ3,Millwall!AL121:BA121,0)","v":{"$error":"#N/A"}},{"$f":"MATCH(EA3,Millwall!AL121:BA121,0)","v":{"$error":"#N/A"}},null,null,{"$f":"MATCH(ED3,Millwall!BR121:CG121,0)","v":{"$error":"#N/A"}},{"$f":"MATCH(EE3,Millwall!BS121:CH121,0)","v":{"$error":"#N/A"}},{"$f":"MATCH(EF3,Millwall!BT121:CI121,0)","v":{"$error":"#N/A"}},{"$f":"MATCH(EG3,Millwall!BU121:CJ121,0)","v":{"$error":"#N/A"}},{"$f":"MATCH(EH3,Millwall!BV121:CK121,0)","v":{"$error":"#N/A"}},{"$f":"MATCH(EI3,Millwall!BW121:CL121,0)","v":{"$error":"#N/A"}},{"$f":"MATCH(EJ3,Millwall!BX121:CM121,0)","v":{"$error":"#N/A"}},{"$f":"MATCH(EK3,Millwall!BY121:CN121,0)","v":{"$error":"#N/A"}},{"$f":"MATCH(EL3,Millwall!BZ121:CO121,0)","v":{"$error":"#N/A"}},{"$f":"MATCH(EM3,Millwall!CA121:CP121,0)","v":{"$error":"#N/A"}},{"$f":"MATCH(EN3,Millwall!CB121:CQ121,0)","v":{"$error":"#N/A"}},{"$f":"MATCH(EO3,Millwall!CC121:CR121,0)","v":{"$error":"#N/A"}},{"$f":"MATCH(EP3,Millwall!CD121:CS121,0)","v":{"$error":"#N/A"}},{"$f":"MATCH(EQ3,Millwall!CE121:CT121,0)","v":{"$error":"#N/A"}},{"$f":"MATCH(ER3,Millwall!CF121:CU121,0)","v":{"$error":"#N/A"}},{"$f":"MATCH(ES3,Millwall!CG121:CV121,0)","v":{"$error":"#N/A"}},{"$f":"MATCH(ET3,Millwall!CH121:CW121,0)","v":{"$error":"#N/A"}},{"$f":"MATCH(EU3,Millwall!CI121:CX121,0)","v":{"$error":"#N/A"}},{"$f":"MATCH(EV3,Millwall!CJ121:CY121,0)","v":{"$error":"#N/A"}},{"$f":"MATCH(EW3,Millwall!CK121:CZ121,0)","v":{"$error":"#N/A"}},{"$f":"MATCH(EX3,Millwall!CL121:DA121,0)","v":{"$error":"#N/A"}},{"$f":"MATCH(EY3,Millwall!CM121:DB121,0)","v":{"$error":"#N/A"}},{"$f":"MATCH(EZ3,Millwall!CN121:DC121,0)","v":{"$error":"#N/A"}},{"$f":"MATCH(FA3,Millwall!CO121:DD121,0)","v":{"$error":"#N/A"}},{"$f":"MATCH(FB3,Millwall!CP121:DE121,0)","v":{"$error":"#N/A"}},{"$f":"MATCH(FC3,Millwall!CQ121:DF121,0)","v":{"$error":"#N/A"}},{"$f":"MATCH(FD3,Millwall!CR121:DG121,0)","v":{"$error":"#N/A"}},{"$f":"MATCH(FE3,Millwall!CS121:DH121,0)","v":{"$error":"#N/A"}},{"$f":"MATCH(FF3,Millwall!CT121:DI121,0)","v":{"$error":"#N/A"}},{"$f":"MATCH(FG3,Millwall!CU121:DJ121,0)","v":{"$error":"#N/A"}},{"$f":"MATCH(FH3,Millwall!CV121:DK121,0)","v":{"$error":"#N/A"}},{"$f":"MATCH(FI3,Millwall!CW121:DL121,0)","v":{"$error":"#N/A"}},{"$f":"MATCH(FJ3,Millwall!CX121:DM121,0)","v":{"$error":"#N/A"}},{"$f":"MATCH(FK3,Millwall!CY121:DN121,0)","v":{"$error":"#N/A"}},{"$f":"MATCH(FL3,Millwall!CZ121:DO121,0)","v":{"$error":"#N/A"}},{"$f":"MATCH(FM3,Millwall!DA121:DP121,0)","v":{"$error":"#N/A"}},{"$f":"MATCH(FN3,Millwall!DB121:DQ121,0)","v":{"$error":"#N/A"}},{"$f":"MATCH(FO3,Millwall!DC121:DR121,0)","v":{"$error":"#N/A"}}]
[null,null,1,48,null,{"$f":"Millwall!AD122","v":"00:00:00"},null,{"$f":"Millwall!AE122","v":"00:00:00"},{"$f":"Millwall!AF122","v":"00:00:00"},{"$f":"Millwall!AG122","v":0},{"$f":"MATCH($K$4,Millwall!$AH$122:$AW$122,0)","v":{"$error":"#N/A"}},{"$f":"MATCH($L$4,Millwall!$AH$122:$AW$122,0)","v":{"$error":"#N/A"}},{"$f":"MATCH($M$4,Millwall!$AH$122:$AW$122,0)","v":{"$error":"#N/A"}},{"$f":"MATCH($N$4,Millwall!$AH$122:$AW$122,0)","v":{"$error":"#N/A"}},{"$f":"MATCH($O$4,Millwall!$AH$122:$AW$122,0)","v":{"$error":"#N/A"}},{"$f":"MATCH($P$4,Millwall!$AH$122:$AW$122,0)","v":{"$error":"#N/A"}},{"$f":"MATCH($Q$4,Millwall!$AH$122:$AW$122,0)","v":{"$error":"#N/A"}},{"$f":"MATCH($R$4,Millwall!$AH$122:$AW$122,0)","v":{"$error":"#N/A"}},{"$f":"MATCH($S$4,Millwall!$AH$122:$AW$122,0)","v":{"$error":"#N/A"}},{"$f":"MATCH($T$4,Millwall!$AH$122:$AW$122,0)","v":{"$error":"#N/A"}},{"$f":"MATCH($U$4,Millwall!$AH$122:$AW$122,0)","v":{"$error":"#N/A"}},{"$f":"MATCH($V$4,Millwall!$AH$122:$AW$122,0)","v":{"$error":"#N/A"}},{"$f":"MATCH($W$4,Millwall!$AH$122:$AW$122,0)","v":{"$error":"#N/A"}},{"$f":"MATCH($X$4,Millwall!$AH$122:$AW$122,0)","v":{"$error":"#N/A"}},{"$f":"MATCH($Y$4,Millwall!$AH$122:$AW$122,0)","v":{"$error":"#N/A"}},{"$f":"MATCH($Z$4,Millwall!$AH$122:$AW$122,0)","v":{"$error":"#N/A"}},{"$f":"MATCH($AA$4,Millwall!$AH$122:$AW$122,0)","v":{"$error":"#N/A"}},{"$f":"MATCH($AB$4,Millwall!$AH$122:$AW$122,0)","v":{"$error":"#N/A"}},{"$f":"MATCH($AC$4,Millwall!$AH$122:$AW$122,0)","v":{"$error":"#N/A"}},{"$f":"MATCH($AD$4,Millwall!$AH$122:$AW$122,0)","v":{"$error":"#N/A"}},{"$f":"MATCH($AE$4,Millwall!$AH$122:$AW$122,0)","v":{"$error":"#N/A"}},{"$f":"MATCH($AF$4,Millwall!$AH$122:$AW$122,0)","v":{"$error":"#N/A"}},{"$f":"MATCH($AG$4,Millwall!$AH$122:$AW$122,0)","v":{"$error":"#N/A"}},{"$f":"MATCH($AH$4,Millwall!$AH$122:$AW$122,0)","v":{"$error":"#N/A"}},{"$f":"MATCH($AI$4,Millwall!$AH$122:$AW$122,0)","v":{"$error":"#N/A"}},{"$f":"MATCH($AJ$4,Millwall!$AH$122:$AW$122,0)","v":{"$error":"#N/A"}},{"$f":"MATCH($AK$4,Millwall!$AH$122:$AW$122,0)","v":{"$error":"#N/A"}},{"$f":"MATCH($AL$4,Millwall!$AH$122:$AW$122,0)","v":{"$error":"#N/A"}},{"$f":"MATCH($AM$4,Millwall!$AH$122:$AW$122,0)","v":{"$error":"#N/A"}},{"$f":"MATCH($AN$4,Millwall!$AH$122:$AW$122,0)","v":{"$error":"#N/A"}},{"$f":"MATCH($AO$4,Millwall!$AH$122:$AW$122,0)","v":{"$error":"#N/A"}},{"$f":"MATCH($AP$4,Millwall!$AH$122:$AW$122,0)","v":{"$error":"#N/A"}},{"$f":"MATCH($AQ$4,Millwall!$AH$122:$AW$122,0)","v":{"$error":"#N/A"}},{"$f":"MATCH($AR$4,Millwall!$AH$122:$AW$122,0)","v":{"$error":"#N/A"}},{"$f":"MATCH($AS$4,Millwall!$AH$122:$AW$122,0)","v":{"$error":"#N/A"}},{"$f":"MATCH($AT$4,Millwall!$AH$122:$AW$122,0)","v":{"$error":"#N/A"}},{"$f":"MATCH($AU$4,Millwall!$AH$122:$AW$122,0)","v":{"$error":"#N/A"}},{"$f":"MATCH($AV$4,Millwall!$AH$122:$AW$122,0)","v":{"$error":"#N/A"}},null,null,null,null,null,{"$f":"MATCH(BB$3,Millwall!$AH122:$AW122,0)","v":{"$error":"#N/A"}},{"$f":"MATCH(BC$3,Millwall!$AH122:$AW122,0)","v":{"$error":"#N/A"}},{"$f":"MATCH(BD$3,Millwall!$AH122:$AW122,0)","v":{"$error":"#N/A"}},{"$f":"MATCH(BE$3,Millwall!$AH122:$AW122,0)","v":{"$error":"#N/A"}},{"$f":"MATCH(BF$3,Millwall!$AH122:$AW122,0)","v":{"$error":"#N/A"}},{"$f":"MATCH(BG$3,Millwall!$AH122:$AW122,0)","v":{"$error":"#N/A"}},{"$f":"MATCH(BH$3,Millwall!$AH122:$AW122,0)","v":{"$error":"#N/A"}},{"$f":"MATCH(BI$3,Millwall!$AH122:$AW122,0)","v":{"$error":"#N/A"}},{"$f":"MATCH(BJ$3,Millwall!$AH122:$AW122,0)","v":{"$error":"#N/A"}},{"$f":"MATCH(BK$3,Millwall!$AH122:$AW122,0)","v":{"$error":"#N/A"}},{"$f":"MATCH(BL$3,Millwall!$AH122:$AW122,0)","v":{"$error":"#N/A"}},{"$f":"MATCH(BM$3,Millwall!$AH122:$AW122,0)","v":{"$error":"#N/A"}},{"$f":"MATCH(BN$3,Millwall!$AH122:$AW122,0)","v":{"$error":"#N/A"}},{"$f":"MATCH(BO$3,Millwall!$AH122:$AW122,0)","v":{"$error":"#N/A"}},{"$f":"MATCH(BP$3,Millwall!$AH122:$AW122,0)","v":{"$error":"#N/A"}},{"$f":"MATCH(BQ$3,Millwall!$AH122:$AW122,0)","v":{"$error":"#N/A"}},{"$f":"MATCH(BR$3,Millwall!$AH122:$AW122,0)","v":{"$error":"#N/A"}},{"$f":"MATCH(BS$3,Millwall!$AH122:$AW122,0)","v":{"$error":"#N/A"}},{"$f":"MATCH(BT$3,Millwall!$AH122:$AW122,0)","v":{"$error":"#N/A"}},{"$f":"MATCH(BU$3,Millwall!$AH122:$AW122,0)","v":{"$error":"#N/A"}},{"$f":"MATCH(BV$3,Millwall!$AH122:$AW122,0)","v":{"$error":"#N/A"}},{"$f":"MATCH(BW$3,Millwall!$AH122:$AW122,0)","v":{"$error":"#N/A"}},{"$f":"MATCH(BX$3,Millwall!$AH122:$AW122,0)","v":{"$error":"#N/A"}},{"$f":"MATCH(BY$3,Millwall!$AH122:$AW122,0)","v":{"$error":"#N/A"}},{"$f":"MATCH(BZ$3,Millwall!$AH122:$AW122,0)","v":{"$error":"#N/A"}},{"$f":"MATCH(CA$3,Millwall!$AH122:$AW122,0)","v":{"$error":"#N/A"}},{"$f":"MATCH(CB$3,Millwall!$AH122:$AW122,0)","v":{"$error":"#N/A"}},{"$f":"MATCH(CC$3,Millwall!$AH122:$AW122,0)","v":{"$error":"#N/A"}},{"$f":"MATCH(CD$3,Millwall!$AH122:$AW122,0)","v":{"$error":"#N/A"}},{"$f":"MATCH(CE$3,Millwall!$AH122:$AW122,0)","v":{"$error":"#N/A"}},{"$f":"MATCH(CF$3,Millwall!$AH122:$AW122,0)","v":{"$error":"#N/A"}},{"$f":"MATCH(CG$3,Millwall!$AH122:$AW122,0)","v":{"$error":"#N/A"}},{"$f":"MATCH(CH$3,Millwall!$AH122:$AW122,0)","v":{"$error":"#N/A"}},{"$f":"MATCH(CI$3,Millwall!$AH122:$AW122,0)","v":{"$error":"#N/A"}},{"$f":"MATCH(CJ$3,Millwall!$AH122:$AW122,0)","v":{"$error":"#N/A"}},{"$f":"MATCH(CK$3,Millwall!$AH122:$AW122,0)","v":{"$error":"#N/A"}},{"$f":"MATCH(CL$3,Millwall!$AH122:$AW122,0)","v":{"$error":"#N/A"}},{"$f":"MATCH(CM$3,Millwall!$AH122:$AW122,0)","v":{"$error":"#N/A"}},null,null,{"$f":"MATCH(CP3,Millwall!AH122:AW122,0)","v":{"$error":"#N/A"}},{"$f":"MATCH(CQ3,Millwall!AH122:AW122,0)","v":{"$error":"#N/A"}},{"$f":"MATCH(CR3,Millwall!AH122:AW122,0)","v":{"$error":"#N/A"}},{"$f":"MATCH(CS3,Millwall!AH122:AW122,0)","v":{"$error":"#N/A"}},{"$f":"MATCH(CT3,Millwall!AH122:AW122,0)","v":{"$error":"#N/A"}},{"$f":"MATCH(CU3,Millwall!AH122:AW122,0)","v":{"$error":"#N/A"}},{"$f":"MATCH(CV3,Millwall!AH122:AW122,0)","v":{"$error":"#N/A"}},{"$f":"MATCH(CW3,Millwall!AH122:AW122,0)","v":{"$error":"#N/A"}},{"$f":"MATCH(CX3,Millwall!AH122:AW122,0)","v":{"$error":"#N/A"}},{"$f":"MATCH(CY3,Millwall!AH122:AW122,0)","v":{"$error":"#N/A"}},{"$f":"MATCH(CZ3,Millwall!AH122:AW122,0)","v":{"$error":"#N/A"}},{"$f":"MATCH(DA3,Millwall!AH122:AW122,0)","v":{"$error":"#N/A"}},{"$f":"MATCH(DB3,Millwall!AH122:AW122,0)","v":{"$error":"#N/A"}},{"$f":"MATCH(DC3,Millwall!AH122:AW122,0)","v":{"$error":"#N/A"}},{"$f":"MATCH(DD3,Millwall!AH122:AW122,0)","v":{"$error":"#N/A"}},{"$f":"MATCH(DE3,Millwall!AH122:AW122,0)","v":{"$error":"#N/A"}},{"$f":"MATCH(DF3,Millwall!AH122:AW122,0)","v":{"$error":"#N/A"}},{"$f":"MATCH(DG3,Millwall!AH122:AW122,0)","v":{"$error":"#N/A"}},{"$f":"MATCH(DH3,Millwall!AH122:AW122,0)","v":{"$error":"#N/A"}},{"$f":"MATCH(DI3,Millwall!AH122:AW122,0)","v":{"$error":"#N/A"}},{"$f":"MATCH(DJ3,Millwall!AH122:AW122,0)","v":{"$error":"#N/A"}},{"$f":"MATCH(DK3,Millwall!AH122:AW122,0)","v":{"$error":"#N/A"}},{"$f":"MATCH(DL3,Millwall!AH122:AW122,0)","v":{"$error":"#N/A"}},{"$f":"MATCH(DM3,Millwall!AH122:AW122,0)","v":{"$error":"#N/A"}},{"$f":"MATCH(DN3,Millwall!AH122:AW122,0)","v":{"$error":"#N/A"}},{"$f":"MATCH(DO3,Millwall!AH122:AW122,0)","v":{"$error":"#N/A"}},{"$f":"MATCH(DP3,Millwall!AH122:AW122,0)","v":{"$error":"#N/A"}},{"$f":"MATCH(DQ3,Millwall!AH122:AW122,0)","v":{"$error":"#N/A"}},{"$f":"MATCH(DR3,Millwall!AH122:AW122,0)","v":{"$error":"#N/A"}},{"$f":"MATCH(DS3,Millwall!AH122:AW122,0)","v":{"$error":"#N/A"}},{"$f":"MATCH(DT3,Millwall!AH122:AW122,0)","v":{"$error":"#N/A"}},{"$f":"MATCH(DU3,Millwall!AH122:AW122,0)","v":{"$error":"#N/A"}},{"$f":"MATCH(DV3,Millwall!AH122:AW122,0)","v":{"$error":"#N/A"}},{"$f":"MATCH(DW3,Millwall!AH122:AW122,0)","v":{"$error":"#N/A"}},{"$f":"MATCH(DX3,Millwall!AJ122:AY122,0)","v":{"$error":"#N/A"}},{"$f":"MATCH(DY3,Millwall!AJ122:AY122,0)","v":{"$error":"#N/A"}},{"$f":"MATCH(DZ3,Millwall!AL122:BA122,0)","v":{"$error":"#N/A"}},{"$f":"MATCH(EA3,Millwall!AL122:BA122,0)","v":{"$error":"#N/A"}},null,null,{"$f":"MATCH(ED3,Millwall!BR122:CG122,0)","v":{"$error":"#N/A"}},{"$f":"MATCH(EE3,Millwall!BS122:CH122,0)","v":{"$error":"#N/A"}},{"$f":"MATCH(EF3,Millwall!BT122:CI122,0)","v":{"$error":"#N/A"}},{"$f":"MATCH(EG3,Millwall!BU122:CJ122,0)","v":{"$error":"#N/A"}},{"$f":"MATCH(EH3,Millwall!BV122:CK122,0)","v":{"$error":"#N/A"}},{"$f":"MATCH(EI3,Millwall!BW122:CL122,0)","v":{"$error":"#N/A"}},{"$f":"MATCH(EJ3,Millwall!BX122:CM122,0)","v":{"$error":"#N/A"}},{"$f":"MATCH(EK3,Millwall!BY122:CN122,0)","v":{"$error":"#N/A"}},{"$f":"MATCH(EL3,Millwall!BZ122:CO122,0)","v":{"$error":"#N/A"}},{"$f":"MATCH(EM3,Millwall!CA122:CP122,0)","v":{"$error":"#N/A"}},{"$f":"MATCH(EN3,Millwall!CB122:CQ122,0)","v":{"$error":"#N/A"}},{"$f":"MATCH(EO3,Millwall!CC122:CR122,0)","v":{"$error":"#N/A"}},{"$f":"MATCH(EP3,Millwall!CD122:CS122,0)","v":{"$error":"#N/A"}},{"$f":"MATCH(EQ3,Millwall!CE122:CT122,0)","v":{"$error":"#N/A"}},{"$f":"MATCH(ER3,Millwall!CF122:CU122,0)","v":{"$error":"#N/A"}},{"$f":"MATCH(ES3,Millwall!CG122:CV122,0)","v":{"$error":"#N/A"}},{"$f":"MATCH(ET3,Millwall!CH122:CW122,0)","v":{"$error":"#N/A"}},{"$f":"MATCH(EU3,Millwall!CI122:CX122,0)","v":{"$error":"#N/A"}},{"$f":"MATCH(EV3,Millwall!CJ122:CY122,0)","v":{"$error":"#N/A"}},{"$f":"MATCH(EW3,Millwall!CK122:CZ122,0)","v":{"$error":"#N/A"}},{"$f":"MATCH(EX3,Millwall!CL122:DA122,0)","v":{"$error":"#N/A"}},{"$f":"MATCH(EY3,Millwall!CM122:DB122,0)","v":{"$error":"#N/A"}},{"$f":"MATCH(EZ3,Millwall!CN122:DC122,0)","v":{"$error":"#N/A"}},{"$f":"MATCH(FA3,Millwall!CO122:DD122,0)","v":{"$error":"#N/A"}},{"$f":"MATCH(FB3,Millwall!CP122:DE122,0)","v":{"$error":"#N/A"}},{"$f":"MATCH(FC3,Millwall!CQ122:DF122,0)","v":{"$error":"#N/A"}},{"$f":"MATCH(FD3,Millwall!CR122:DG122,0)","v":{"$error":"#N/A"}},{"$f":"MATCH(FE3,Millwall!CS122:DH122,0)","v":{"$error":"#N/A"}},{"$f":"MATCH(FF3,Millwall!CT122:DI122,0)","v":{"$error":"#N/A"}},{"$f":"MATCH(FG3,Millwall!CU122:DJ122,0)","v":{"$error":"#N/A"}},{"$f":"MATCH(FH3,Millwall!CV122:DK122,0)","v":{"$error":"#N/A"}},{"$f":"MATCH(FI3,Millwall!CW122:DL122,0)","v":{"$error":"#N/A"}},{"$f":"MATCH(FJ3,Millwall!CX122:DM122,0)","v":{"$error":"#N/A"}},{"$f":"MATCH(FK3,Millwall!CY122:DN122,0)","v":{"$error":"#N/A"}},{"$f":"MATCH(FL3,Millwall!CZ122:DO122,0)","v":{"$error":"#N/A"}},{"$f":"MATCH(FM3,Millwall!DA122:DP122,0)","v":{"$error":"#N/A"}},{"$f":"MATCH(FN3,Millwall!DB122:DQ122,0)","v":{"$error":"#N/A"}},{"$f":"MATCH(FO3,Millwall!DC122:DR122,0)","v":{"$error":"#N/A"}}]
[null,null,1,49,null,{"$f":"Millwall!AD123","v":"00:00:00"},null,{"$f":"Millwall!AE123","v":"00:00:00"},{"$f":"Millwall!AF123","v":"00:00:00"},{"$f":"Millwall!AG123","v":0},{"$f":"MATCH($K$4,Millwall!$AH$123:$AW$123,0)","v":{"$error":"#N/A"}},{"$f":"MATCH($L$4,Millwall!$AH$123:$AW$123,0)","v":{"$error":"#N/A"}},{"$f":"MATCH($M$4,Millwall!$AH$123:$AW$123,0)","v":{"$error":"#N/A"}},{"$f":"MATCH($N$4,Millwall!$AH$123:$AW$123,0)","v":{"$error":"#N/A"}},{"$f":"MATCH($O$4,Millwall!$AH$123:$AW$123,0)","v":{"$error":"#N/A"}},{"$f":"MATCH($P$4,Millwall!$AH$123:$AW$123,0)","v":{"$error":"#N/A"}},{"$f":"MATCH($Q$4,Millwall!$AH$123:$AW$123,0)","v":{"$error":"#N/A"}},{"$f":"MATCH($R$4,Millwall!$AH$123:$AW$123,0)","v":{"$error":"#N/A"}},{"$f":"MATCH($S$4,Millwall!$AH$123:$AW$123,0)","v":{"$error":"#N/A"}},{"$f":"MATCH($T$4,Millwall!$AH$123:$AW$123,0)","v":{"$error":"#N/A"}},{"$f":"MATCH($U$4,Millwall!$AH$123:$AW$123,0)","v":{"$error":"#N/A"}},{"$f":"MATCH($V$4,Millwall!$AH$123:$AW$123,0)","v":{"$error":"#N/A"}},{"$f":"MATCH($W$4,Millwall!$AH$123:$AW$123,0)","v":{"$error":"#N/A"}},{"$f":"MATCH($X$4,Millwall!$AH$123:$AW$123,0)","v":{"$error":"#N/A"}},{"$f":"MATCH($Y$4,Millwall!$AH$123:$AW$123,0)","v":{"$error":"#N/A"}},{"$f":"MATCH($Z$4,Millwall!$AH$123:$AW$123,0)","v":{"$error":"#N/A"}},{"$f":"MATCH($AA$4,Millwall!$AH$123:$AW$123,0)","v":{"$error":"#N/A"}},{"$f":"MATCH($AB$4,Millwall!$AH$123:$AW$123,0)","v":{"$error":"#N/A"}},{"$f":"MATCH($AC$4,Millwall!$AH$123:$AW$123,0)","v":{"$error":"#N/A"}},{"$f":"MATCH($AD$4,Millwall!$AH$123:$AW$123,0)","v":{"$error":"#N/A"}},{"$f":"MATCH($AE$4,Millwall!$AH$123:$AW$123,0)","v":{"$error":"#N/A"}},{"$f":"MATCH($AF$4,Millwall!$AH$123:$AW$123,0)","v":{"$error":"#N/A"}},{"$f":"MATCH($AG$4,Millwall!$AH$123:$AW$123,0)","v":{"$error":"#N/A"}},{"$f":"MATCH($AH$4,Millwall!$AH$123:$AW$123,0)","v":{"$error":"#N/A"}},{"$f":"MATCH($AI$4,Millwall!$AH$123:$AW$123,0)","v":{"$error":"#N/A"}},{"$f":"MATCH($AJ$4,Millwall!$AH$123:$AW$123,0)","v":{"$error":"#N/A"}},{"$f":"MATCH($AK$4,Millwall!$AH$123:$AW$123,0)","v":{"$error":"#N/A"}},{"$f":"MATCH($AL$4,Millwall!$AH$123:$AW$123,0)","v":{"$error":"#N/A"}},{"$f":"MATCH($AM$4,Millwall!$AH$123:$AW$123,0)","v":{"$error":"#N/A"}},{"$f":"MATCH($AN$4,Millwall!$AH$123:$AW$123,0)","v":{"$error":"#N/A"}},{"$f":"MATCH($AO$4,Millwall!$AH$123:$AW$123,0)","v":{"$error":"#N/A"}},{"$f":"MATCH($AP$4,Millwall!$AH$123:$AW$123,0)","v":{"$error":"#N/A"}},{"$f":"MATCH($AQ$4,Millwall!$AH$123:$AW$123,0)","v":{"$error":"#N/A"}},{"$f":"MATCH($AR$4,Millwall!$AH$123:$AW$123,0)","v":{"$error":"#N/A"}},{"$f":"MATCH($AS$4,Millwall!$AH$123:$AW$123,0)","v":{"$error":"#N/A"}},{"$f":"MATCH($AT$4,Millwall!$AH$123:$AW$123,0)","v":{"$error":"#N/A"}},{"$f":"MATCH($AU$4,Millwall!$AH$123:$AW$123,0)","v":{"$error":"#N/A"}},{"$f":"MATCH($AV$4,Millwall!$AH$123:$AW$123,0)","v":{"$error":"#N/A"}},null,null,null,null,null,{"$f":"MATCH(BB$3,Millwall!$AH123:$AW123,0)","v":{"$error":"#N/A"}},{"$f":"MATCH(BC$3,Millwall!$AH123:$AW123,0)","v":{"$error":"#N/A"}},{"$f":"MATCH(BD$3,Millwall!$AH123:$AW123,0)","v":{"$error":"#N/A"}},{"$f":"MATCH(BE$3,Millwall!$AH123:$AW123,0)","v":{"$error":"#N/A"}},{"$f":"MATCH(BF$3,Millwall!$AH123:$AW123,0)","v":{"$error":"#N/A"}},{"$f":"MATCH(BG$3,Millwall!$AH123:$AW123,0)","v":{"$error":"#N/A"}},{"$f":"MATCH(BH$3,Millwall!$AH123:$AW123,0)","v":{"$error":"#N/A"}},{"$f":"MATCH(BI$3,Millwall!$AH123:$AW123,0)","v":{"$error":"#N/A"}},{"$f":"MATCH(BJ$3,Millwall!$AH123:$AW123,0)","v":{"$error":"#N/A"}},{"$f":"MATCH(BK$3,Millwall!$AH123:$AW123,0)","v":{"$error":"#N/A"}},{"$f":"MATCH(BL$3,Millwall!$AH123:$AW123,0)","v":{"$error":"#N/A"}},{"$f":"MATCH(BM$3,Millwall!$AH123:$AW123,0)","v":{"$error":"#N/A"}},{"$f":"MATCH(BN$3,Millwall!$AH123:$AW123,0)","v":{"$error":"#N/A"}},{"$f":"MATCH(BO$3,Millwall!$AH123:$AW123,0)","v":{"$error":"#N/A"}},{"$f":"MATCH(BP$3,Millwall!$AH123:$AW123,0)","v":{"$error":"#N/A"}},{"$f":"MATCH(BQ$3,Millwall!$AH123:$AW123,0)","v":{"$error":"#N/A"}},{"$f":"MATCH(BR$3,Millwall!$AH123:$AW123,0)","v":{"$error":"#N/A"}},{"$f":"MATCH(BS$3,Millwall!$AH123:$AW123,0)","v":{"$error":"#N/A"}},{"$f":"MATCH(BT$3,Millwall!$AH123:$AW123,0)","v":{"$error":"#N/A"}},{"$f":"MATCH(BU$3,Millwall!$AH123:$AW123,0)","v":{"$error":"#N/A"}},{"$f":"MATCH(BV$3,Millwall!$AH123:$AW123,0)","v":{"$error":"#N/A"}},{"$f":"MATCH(BW$3,Millwall!$AH123:$AW123,0)","v":{"$error":"#N/A"}},{"$f":"MATCH(BX$3,Millwall!$AH123:$AW123,0)","v":{"$error":"#N/A"}},{"$f":"MATCH(BY$3,Millwall!$AH123:$AW123,0)","v":{"$error":"#N/A"}},{"$f":"MATCH(BZ$3,Millwall!$AH123:$AW123,0)","v":{"$error":"#N/A"}},{"$f":"MATCH(CA$3,Millwall!$AH123:$AW123,0)","v":{"$error":"#N/A"}},{"$f":"MATCH(CB$3,Millwall!$AH123:$AW123,0)","v":{"$error":"#N/A"}},{"$f":"MATCH(CC$3,Millwall!$AH123:$AW123,0)","v":{"$error":"#N/A"}},{"$f":"MATCH(CD$3,Millwall!$AH123:$AW123,0)","v":{"$error":"#N/A"}},{"$f":"MATCH(CE$3,Millwall!$AH123:$AW123,0)","v":{"$error":"#N/A"}},{"$f":"MATCH(CF$3,Millwall!$AH123:$AW123,0)","v":{"$error":"#N/A"}},{"$f":"MATCH(CG$3,Millwall!$AH123:$AW123,0)","v":{"$error":"#N/A"}},{"$f":"MATCH(CH$3,Millwall!$AH123:$AW123,0)","v":{"$error":"#N/A"}},{"$f":"MATCH(CI$3,Millwall!$AH123:$AW123,0)","v":{"$error":"#N/A"}},{"$f":"MATCH(CJ$3,Millwall!$AH123:$AW123,0)","v":{"$error":"#N/A"}},{"$f":"MATCH(CK$3,Millwall!$AH123:$AW123,0)","v":{"$error":"#N/A"}},{"$f":"MATCH(CL$3,Millwall!$AH123:$AW123,0)","v":{"$error":"#N/A"}},{"$f":"MATCH(CM$3,Millwall!$AH123:$AW123,0)","v":{"$error":"#N/A"}},null,null,{"$f":"MATCH(CP3,Millwall!AI123:AW123,0)","v":{"$error":"#N/A"}},{"$f":"MATCH(CQ3,Millwall!AI123:AW123,0)","v":{"$error":"#N/A"}},{"$f":"MATCH(CR3,Millwall!AI123:AW123,0)","v":{"$error":"#N/A"}},{"$f":"MATCH(CS3,Millwall!AI123:AW123,0)","v":{"$error":"#N/A"}},{"$f":"MATCH(CT3,Millwall!AI123:AW123,0)","v":{"$error":"#N/A"}},{"$f":"MATCH(CU3,Millwall!AI123:AW123,0)","v":{"$error":"#N/A"}},{"$f":"MATCH(CV3,Millwall!AI123:AW123,0)","v":{"$error":"#N/A"}},{"$f":"MATCH(CW3,Millwall!AI123:AW123,0)","v":{"$error":"#N/A"}},{"$f":"MATCH(CX3,Millwall!AI123:AW123,0)","v":{"$error":"#N/A"}},{"$f":"MATCH(CY3,Millwall!AI123:AW123,0)","v":{"$error":"#N/A"}},{"$f":"MATCH(CZ3,Millwall!AI123:AW123,0)","v":{"$error":"#N/A"}},{"$f":"MATCH(DA3,Millwall!AI123:AW123,0)","v":{"$error":"#N/A"}},{"$f":"MATCH(DB3,Millwall!AI123:AW123,0)","v":{"$error":"#N/A"}},{"$f":"MATCH(DC3,Millwall!AI123:AW123,0)","v":{"$error":"#N/A"}},{"$f":"MATCH(DD3,Millwall!AI123:AW123,0)","v":{"$error":"#N/A"}},{"$f":"MATCH(DE3,Millwall!AI123:AW123,0)","v":{"$error":"#N/A"}},{"$f":"MATCH(DF3,Millwall!AI123:AW123,0)","v":{"$error":"#N/A"}},{"$f":"MATCH(DG3,Millwall!AI123:AW123,0)","v":{"$error":"#N/A"}},{"$f":"MATCH(DH3,Millwall!AI123:AW123,0)","v":{"$error":"#N/A"}},{"$f":"MATCH(DI3,Millwall!AI123:AW123,0)","v":{"$error":"#N/A"}},{"$f":"MATCH(DJ3,Millwall!AI123:AW123,0)","v":{"$error":"#N/A"}},{"$f":"MATCH(DK3,Millwall!AI123:AW123,0)","v":{"$error":"#N/A"}},{"$f":"MATCH(DL3,Millwall!AI123:AW123,0)","v":{"$error":"#N/A"}},{"$f":"MATCH(DM3,Millwall!AI123:AW123,0)","v":{"$error":"#N/A"}},{"$f":"MATCH(DN3,Millwall!AI123:AW123,0)","v":{"$error":"#N/A"}},{"$f":"MATCH(DO3,Millwall!AI123:AW123,0)","v":{"$error":"#N/A"}},{"$f":"MATCH(DP3,Millwall!AI123:AW123,0)","v":{"$error":"#N/A"}},{"$f":"MATCH(DQ3,Millwall!AI123:AW123,0)","v":{"$error":"#N/A"}},{"$f":"MATCH(DR3,Millwall!AI123:AW123,0)","v":{"$error":"#N/A"}},{"$f":"MATCH(DS3,Millwall!AI123:AW123,0)","v":{"$error":"#N/A"}},{"$f":"MATCH(DT3,Millwall!AI123:AW123,0)","v":{"$error":"#N/A"}},{"$f":"MATCH(DU3,Millwall!AI123:AW123,0)","v":{"$error":"#N/A"}},{"$f":"MATCH(DV3,Millwall!AI123:AW123,0)","v":{"$error":"#N/A"}},{"$f":"MATCH(DW3,Millwall!AI123:AW123,0)","v":{"$error":"#N/A"}},{"$f":"MATCH(DX3,Millwall!AK123:AY123,0)","v":{"$error":"#N/A"}},{"$f":"MATCH(DY3,Millwall!AK123:AY123,0)","v":{"$error":"#N/A"}},{"$f":"MATCH(DZ3,Millwall!AM123:BA123,0)","v":{"$error":"#N/A"}},{"$f":"MATCH(EA3,Millwall!AM123:BA123,0)","v":{"$error":"#N/A"}},null,null,{"$f":"MATCH(ED3,Millwall!BS123:CG123,0)","v":{"$error":"#N/A"}},{"$f":"MATCH(EE3,Millwall!BT123:CH123,0)","v":{"$error":"#N/A"}},{"$f":"MATCH(EF3,Millwall!BU123:CI123,0)","v":{"$error":"#N/A"}},{"$f":"MATCH(EG3,Millwall!BV123:CJ123,0)","v":{"$error":"#N/A"}},{"$f":"MATCH(EH3,Millwall!BW123:CK123,0)","v":{"$error":"#N/A"}},{"$f":"MATCH(EI3,Millwall!BX123:CL123,0)","v":{"$error":"#N/A"}},{"$f":"MATCH(EJ3,Millwall!BY123:CM123,0)","v":{"$error":"#N/A"}},{"$f":"MATCH(EK3,Millwall!BZ123:CN123,0)","v":{"$error":"#N/A"}},{"$f":"MATCH(EL3,Millwall!CA123:CO123,0)","v":{"$error":"#N/A"}},{"$f":"MATCH(EM3,Millwall!CB123:CP123,0)","v":{"$error":"#N/A"}},{"$f":"MATCH(EN3,Millwall!CC123:CQ123,0)","v":{"$error":"#N/A"}},{"$f":"MATCH(EO3,Millwall!CD123:CR123,0)","v":{"$error":"#N/A"}},{"$f":"MATCH(EP3,Millwall!CE123:CS123,0)","v":{"$error":"#N/A"}},{"$f":"MATCH(EQ3,Millwall!CF123:CT123,0)","v":{"$error":"#N/A"}},{"$f":"MATCH(ER3,Millwall!CG123:CU123,0)","v":{"$error":"#N/A"}},{"$f":"MATCH(ES3,Millwall!CH123:CV123,0)","v":{"$error":"#N/A"}},{"$f":"MATCH(ET3,Millwall!CI123:CW123,0)","v":{"$error":"#N/A"}},{"$f":"MATCH(EU3,Millwall!CJ123:CX123,0)","v":{"$error":"#N/A"}},{"$f":"MATCH(EV3,Millwall!CK123:CY123,0)","v":{"$error":"#N/A"}},{"$f":"MATCH(EW3,Millwall!CL123:CZ123,0)","v":{"$error":"#N/A"}},{"$f":"MATCH(EX3,Millwall!CM123:DA123,0)","v":{"$error":"#N/A"}},{"$f":"MATCH(EY3,Millwall!CN123:DB123,0)","v":{"$error":"#N/A"}},{"$f":"MATCH(EZ3,Millwall!CO123:DC123,0)","v":{"$error":"#N/A"}},{"$f":"MATCH(FA3,Millwall!CP123:DD123,0)","v":{"$error":"#N/A"}},{"$f":"MATCH(FB3,Millwall!CQ123:DE123,0)","v":{"$error":"#N/A"}},{"$f":"MATCH(FC3,Millwall!CR123:DF123,0)","v":{"$error":"#N/A"}},{"$f":"MATCH(FD3,Millwall!CS123:DG123,0)","v":{"$error":"#N/A"}},{"$f":"MATCH(FE3,Millwall!CT123:DH123,0)","v":{"$error":"#N/A"}},{"$f":"MATCH(FF3,Millwall!CU123:DI123,0)","v":{"$error":"#N/A"}},{"$f":"MATCH(FG3,Millwall!CV123:DJ123,0)","v":{"$error":"#N/A"}},{"$f":"MATCH(FH3,Millwall!CW123:DK123,0)","v":{"$error":"#N/A"}},{"$f":"MATCH(FI3,Millwall!CX123:DL123,0)","v":{"$error":"#N/A"}},{"$f":"MATCH(FJ3,Millwall!CY123:DM123,0)","v":{"$error":"#N/A"}},{"$f":"MATCH(FK3,Millwall!CZ123:DN123,0)","v":{"$error":"#N/A"}},{"$f":"MATCH(FL3,Millwall!DA123:DO123,0)","v":{"$error":"#N/A"}},{"$f":"MATCH(FM3,Millwall!DB123:DP123,0)","v":{"$error":"#N/A"}},{"$f":"MATCH(FN3,Millwall!DC123:DQ123,0)","v":{"$error":"#N/A"}},{"$f":"MATCH(FO3,Millwall!DD123:DR123,0)","v":{"$error":"#N/A"}}]
[]
[null,null,null,null,null,null,null,null,null,"Total League Apperances",{"$f":"COUNT($K$5:$K$53)-$K$56-$K$57","v":0},{"$f":"COUNT($L$5:$L$53)-$L$56-$L$57","v":13},{"$f":"COUNT($M$5:$M$53)-$M$56-$M$57","v":6},{"$f":"COUNT($N$5:$N$53)-$N$56-$N$57","v":26},{"$f":"COUNT($O$5:$O$53)-$O$56-$O$57","v":3},{"$f":"COUNT($P$5:$P$53)-$P$56-$P$57","v":7},{"$f":"COUNT($Q$5:$Q$53)-$Q$56-$Q$57","v":0},{"$f":"COUNT($R$5:$R$53)-$R$56-$R$57","v":46},{"$f":"COUNT($S$5:$S$53)-$S$56-$S$57","v":40},{"$f":"COUNT($T$5:$T$53)-$T$56-$T$57","v":21},{"$f":"COUNT($U$5:$U$53)-$U$56-$U$57","v":15},{"$f":"COUNT($V$5:$V$53)-$V$56-$V$57","v":19},{"$f":"COUNT($W$5:$W$53)-$W$56-$W$57","v":7},{"$f":"COUNT($X$5:$X$53)-$X$56-$X$57","v":0},{"$f":"COUNT($Y$5:$Y$53)-$Y$56-$Y$57","v":12},{"$f":"COUNT($Z$5:$Z$53)-$Z$56-$Z$57","v":35},{"$f":"COUNT($AA$5:$AA$53)-$AA$56-$AA$57","v":0},{"$f":"COUNT($AB$5:$AB$53)-$AB$56-$AB$57","v":6},{"$f":"COUNT($AC$5:$AC$53)-$AC$56-$AC$57","v":0},{"$f":"COUNT($AD$5:$AD$53)-$AD$56-$AD$57","v":7},{"$f":"COUNT($AE$5:$AE$53)-$AE$56-$AE$57","v":7},{"$f":"COUNT($AF$5:$AF$53)-$AF$56-$AF$57","v":15},{"$f":"COUNT($AG$5:$AG$53)-$AG$56-$AG$57","v":3},{"$f":"COUNT($AH$5:$AH$53)-$AH$56-$AH$57","v":35},{"$f":"COUNT($AI$5:$AI$53)-$AI$56-$AI$57","v":39},{"$f":"COUNT($AJ$5:$AJ$53)-$AJ$56-$AJ$57","v":0},{"$f":"COUNT($AK$5:$AK$53)-$AK$56-$AK$57","v":4},{"$f":"COUNT($AL$5:$AL$53)-$AL$56-$AL$57","v":26},{"$f":"COUNT($AM$5:$AM$53)-$AM$56-$AM$57","v":7},{"$f":"COUNT($AN$5:$AN$53)-$AN$56-$AN$57","v":32},{"$f":"COUNT($AO$5:$AO$53)-$AO$56-$AO$57","v":6},{"$f":"COUNT($AP$5:$AP$53)-$AP$56-$AP$57","v":6},{"$f":"COUNT($AQ$5:$AQ$53)-$AQ$56-$AQ$57","v":2},{"$f":"COUNT($AR$5:$AR$53)-$AR$56-$AR$57","v":25},{"$f":"COUNT($AS$5:$AS$53)-$AS$56-$AS$57","v":3},{"$f":"COUNT($AT$5:$AT$53)-$AT$56-$AT$57","v":33},{"$f":"COUNT($AU$5:$AU$53)-$AU$56-$AU$57","v":0},{"$f":"COUNT($AV$5:$AV$53)-$AV$56-$AV$57","v":0},null,{"$f":"46*11","v":506}]
[null,null,null,null,null,null,null,null,null,"Total League Substitute Appearences ",{"$f":"$BB$56+$CP$56+$ED$56","v":0},{"$f":"$BC$56+$CQ$56+$EE$56","v":1},{"$f":"$BD$56+$CR$56+$EF$56","v":0},{"$f":"$BE$56+$CS$56+$EG$56","v":2},{"$f":"$BF$56+$CT$56+$EH$56","v":0},{"$f":"$BG$56+$CU$56+$EI$56","v":0},{"$f":"$BH$56+$CV$56+$EJ$56","v":2},{"$f":"$BI$56+$CW$56+$EK$56","v":0},{"$f":"$BJ$56+$CX$56+$EL$56","v":2},{"$f":"$BK$56+$CY$56+$EM$56","v":3},{"$f":"$BL$56+$CZ$56+$EN$56","v":6},{"$f":"$BM$56+$DA$56+$EO$56","v":9},{"$f":"$BN$56+$DB$56+$EP$56","v":0},{"$f":"$BO$56+$DC$56+$EQ$56","v":0},{"$f":"$BP$56+$DD$56+$ER$56","v":9},{"$f":"$BQ$56+$DE$56+$ES$56","v":9},{"$f":"$BR$56+$DF$56+$ET$56","v":2},{"$f":"$BS$56+$DG$56+$EU$56","v":0},{"$f":"$BT$56+$DH$56+$EV$56","v":1},{"$f":"$BU$56+$DI$56+$EW$56","v":2},{"$f":"$BV$56+$DJ$56+$EX$56","v":2},{"$f":"$BW$56+$DK$56+$EY$56","v":0},{"$f":"$BX$56+$DL$56+$EZ$56","v":1},{"$f":"$BY$56+$DM$56+$FA$56","v":4},{"$f":"$BZ$56+$DN$56+$FB$56","v":2},{"$f":"$CA$56+$DO$56+$FC$56","v":1},{"$f":"$CB$56+$DP$56+$FD$56","v":3},{"$f":"$CC$56+$DQ$56+$FE$56","v":2},{"$f":"$CD$56+$DR$56+$FF$56","v":3},{"$f":"$CE$56+$DS$56+$FG$56","v":3},{"$f":"$CF$56+$DT$56+$FH$56","v":2},{"$f":"$CG$56+$DU$56+$FI$56","v":0},{"$f":"$CH$56+$DV$56+$FJ$56","v":3},{"$f":"$CI$56+$DW$56+$FK$56","v":1},{"$f":"$CJ$56+$DX$56+$FL$56","v":0},{"$f":"$CK$56+$DY$56+$FM$56","v":0},{"$f":"$CL$56+$DZ$56+$FN$56","v":0},{"$f":"$CM$56+$EA$56+$FO$56","v":0},null,{"$f":"46*3","v":138},null,null,null,{"$f":"COUNTIF(BB5:BB53,12)","v":0},0,0,0,0,0,0,0,0,0,2,5,0,0,3,0,0,0,0,1,2,0,0,0,2,0,1,2,0,1,2,0,1,0,0,0,0,0,null,null,{"$f":"COUNTIF(CP5:CP53,13)","v":0},0,0,0,0,0,1,0,0,3,1,2,0,0,4,8,0,0,1,1,0,0,1,1,0,1,2,0,1,1,0,0,0,0,0,0,0,0,null,null,{"$f":"COUNTIF(ED5:ED53,14)","v":0},1,0,2,0,0,1,0,2,0,3,2,0,0,2,1,2,0,0,0,0,0,0,3,0,0,0,0,2,1,0,0,2,1,0,0,0,0]
[null,null,null,null,null,null,null,null,null,"Non Playing Substitute",{"$f":"COUNTIF($K$5:$K$52,\">=12\")-$K$56","v":1},{"$f":"COUNTIF($L$5:$L$52,\">=12\")-$L$56","v":0},{"$f":"COUNTIF($M$5:$M$52,\">=12\")-$M$56","v":10},{"$f":"COUNTIF($N$5:$N$52,\">=12\")-$N$56","v":0},{"$f":"COUNTIF($O$5:$O$52,\">=12\")-$O$56","v":0},{"$f":"COUNTIF($P$5:$P$52,\">=12\")-$P$56","v":0},{"$f":"COUNTIF($Q$5:$Q$52,\">=12\")-$Q$56","v":3},{"$f":"COUNTIF($R$5:$R$52,\">=12\")-$R$56","v":0},{"$f":"COUNTIF($S$5:$S$52,\">=12\")-$S$56","v":0},{"$f":"COUNTIF($T$5:$T$52,\">=12\")-$T$56","v":3},{"$f":"COUNTIF($U$5:$U$52,\">=12\")-$U$56","v":7},{"$f":"COUNTIF($V$5:$V$52,\">=12\")-$V$56","v":9},{"$f":"COUNTIF($W$5:$W$52,\">=12\")-$W$56","v":0},{"$f":"COUNTIF($X$5:$X$52,\">=12\")-$X$56","v":2},{"$f":"COUNTIF($Y$5:$Y$52,\">=12\")-$Y$56","v":7},{"$f":"COUNTIF($Z$5:$Z$52,\">=12\")-$Z$56","v":1},{"$f":"COUNTIF($AA$5:$AA$52,\">=12\")-$AA$56","v":1},{"$f":"COUNTIF($AB$5:$AB$52,\">=12\")-$AB$56","v":0},{"$f":"COUNTIF($AC$5:$AC$52,\">=12\")-$AC$56","v":0},{"$f":"COUNTIF($AD$5:$AD$52,\">=12\")-$AD$56","v":0},{"$f":"COUNTIF($AE$5:$AE$52,\">=12\")-$AE$56","v":0},{"$f":"COUNTIF($AF$5:$AF$52,\">=12\")-$AF$56","v":0},{"$f":"COUNTIF($AG$5:$AG$52,\">=12\")-$AG$56","v":0},{"$f":"COUNTIF($AH$5:$AH$52,\">=12\")-$AH$56","v":0},{"$f":"COUNTIF($AI$5:$AI$52,\">=12\")-$AI$56","v":1},{"$f":"COUNTIF($AJ$5:$AJ$50,\">=12\")-$AJ$56","v":0},{"$f":"COUNTIF($AK$5:$AK$50,\">=12\")-$AK$56","v":1},{"$f":"COUNTIF($AL$5:$AL$50,\">=12\")-$AL$56","v":2},{"$f":"COUNTIF($AM$5:$AM$50,\">=12\")-$AM$56","v":0},{"$f":"COUNTIF($AN$5:$AN$50,\">=12\")-$AN$56","v":1},{"$f":"COUNTIF($AO$5:$AO$50,\">=12\")-$AO$56","v":4},{"$f":"COUNTIF($AP$5:$AP$50,\">=12\")-$AP$56","v":0},{"$f":"COUNTIF($AQ$5:$AQ$50,\">=12\")-$AQ$56","v":1},{"$f":"COUNTIF($AR$5:$AR$50,\">=12\")-$AR$56","v":9},{"$f":"COUNTIF($AS$5:$AS$50,\">=12\")-$AS$56","v":0},{"$f":"COUNTIF($AT$5:$AT$50,\">=12\")-$AT$56","v":0},{"$f":"COUNTIF($AU$5:$AU$50,\">=12\")-$AU$56","v":0},{"$f":"COUNTIF($AV$5:$AV$50,\">=12\")-$AV$56","v":0},null,null,null,null,null,{"$f":"CP56","v":0},{"$f":"CQ56","v":0},0,0,0,0,1,0,0,3,1,2,0,0,4,8,0,0,1,1,0,0,1,1,0,1,2,0,1,1,0,0,0,0,{"$f":"EB56","v":0},0,0,{"$f":"FR56","v":0}]
[null,null,null,null,null,null,null,null,null,"Goals",{"$f":"Millwall!$CH$6","v":0},{"$f":"Millwall!$CH$7","v":0},{"$f":"Millwall!$CH$8","v":0},{"$f":"Millwall!$CH$9","v":1},{"$f":"Millwall!$CH$10","v":1},{"$f":"Millwall!$CH$11","v":1},{"$f":"Millwall!$CH$12","v":0},{"$f":"Millwall!$CH$13","v":0},{"$f":"Millwall!$CH$14","v":11},{"$f":"Millwall!$CH$15","v":1},{"$f":"Millwall!$CH$16","v":2},{"$f":"Millwall!$CH$17","v":1},{"$f":"Millwall!$CH$18","v":0},{"$f":"Millwall!$CH$19","v":0},{"$f":"Millwall!$CH$20","v":1},{"$f":"Millwall!$CH$21","v":4},{"$f":"Millwall!$CH$22","v":0},{"$f":"Millwall!$CH$23","v":3},{"$f":"Millwall!$CH$24","v":0},{"$f":"Millwall!$CH$25","v":0},{"$f":"Millwall!$CH$26","v":2},{"$f":"Millwall!$CH$27","v":0},{"$f":"Millwall!$CH$28","v":0},{"$f":"Millwall!$CH$29","v":4},{"$f":"Millwall!$CH$30","v":3},{"$f":"Millwall!$CH$31","v":0},{"$f":"Millwall!$CH$32","v":0},{"$f":"Millwall!$CH$33","v":8},{"$f":"Millwall!$CH$34","v":0},{"$f":"Millwall!$CH$35","v":3},{"$f":"Millwall!$CH$36","v":0},{"$f":"Millwall!$CH$37","v":0},{"$f":"Millwall!$CH$38","v":0},{"$f":"Millwall!$CH$39","v":2},{"$f":"Millwall!$CH$40","v":0},{"$f":"Millwall!$CH$41","v":0},{"$f":"Millwall!$CH$42","v":0},{"$f":"Millwall!$CH$47","v":0},null,null,null,null,null,{"$f":"SUM(BB56:BB57)","v":0},{"$f":"SUM(BC56:BC57)","v":0},0,0,0,0,1,0,0,3,3,7,0,0,7,8,0,0,1,2,2,0,1,1,2,1,3,2,1,2,2,0,1,0,0,0,0,0]
[null,null,0]
[null,null,null,null,null,null,null,"FA Cup"]
[null,null,{"$f":"IF(J61=0,1,0)","v":0},1,null,{"$f":"Millwall!AD126","v":"1996-11-15"},null,{"$f":"Millwall!AE126","v":"Woking"},{"$f":"Millwall!AF126","v":"(A)"},{"$f":"Millwall!AG126","v":"D 2-2"},{"$f":"MATCH(K$4,Millwall!$AH126:$AW126,0)","v":{"$error":"#N/A"}},{"$f":"MATCH(L$4,Millwall!$AH126:$AW126,0)","v":{"$error":"#N/A"}},{"$f":"MATCH(M$4,Millwall!$AH126:$AW126,0)","v":{"$error":"#N/A"}},{"$f":"MATCH(N$4,Millwall!$AH126:$AW126,0)","v":7},{"$f":"MATCH(O$4,Millwall!$AH126:$AW126,0)","v":{"$error":"#N/A"}},{"$f":"MATCH(P$4,Millwall!$AH126:$AW126,0)","v":{"$error":"#N/A"}},{"$f":"MATCH(Q$4,Millwall!$AH126:$AW126,0)","v":{"$error":"#N/A"}},{"$f":"MATCH(R$4,Millwall!$AH126:$AW126,0)","v":1},{"$f":"MATCH(S$4,Millwall!$AH126:$AW126,0)","v":9},{"$f":"MATCH(T$4,Millwall!$AH126:$AW126,0)","v":10},{"$f":"MATCH(U$4,Millwall!$AH126:$AW126,0)","v":{"$error":"#N/A"}},{"$f":"MATCH(V$4,Millwall!$AH126:$AW126,0)","v":{"$error":"#N/A"}},{"$f":"MATCH(W$4,Millwall!$AH126:$AW126,0)","v":{"$error":"#N/A"}},{"$f":"MATCH(X$4,Millwall!$AH126:$AW126,0)","v":{"$error":"#N/A"}},{"$f":"MATCH(Y$4,Millwall!$AH126:$AW126,0)","v":6},{"$f":"MATCH(Z$4,Millwall!$AH126:$AW126,0)","v":11},{"$f":"MATCH(AA$4,Millwall!$AH126:$AW126,0)","v":{"$error":"#N/A"}},{"$f":"MATCH(AB$4,Millwall!$AH126:$AW126,0)","v":{"$error":"#N/A"}},{"$f":"MATCH(AC$4,Millwall!$AH126:$AW126,0)","v":{"$error":"#N/A"}},{"$f":"MATCH(AD$4,Millwall!$AH126:$AW126,0)","v":13},{"$f":"MATCH(AE$4,Millwall!$AH126:$AW126,0)","v":{"$error":"#N/A"}},{"$f":"MATCH(AF$4,Millwall!$AH126:$AW126,0)","v":{"$error":"#N/A"}},{"$f":"MATCH(AG$4,Millwall!$AH126:$AW126,0)","v":{"$error":"#N/A"}},{"$f":"MATCH(AH$4,Millwall!$AH126:$AW126,0)","v":8},{"$f":"MATCH(AI$4,Millwall!$AH126:$AW126,0)","v":2},{"$f":"MATCH(AJ$4,Millwall!$AH126:$AW126,0)","v":{"$error":"#N/A"}},{"$f":"MATCH(AK$4,Millwall!$AH126:$AW126,0)","v":{"$error":"#N/A"}},{"$f":"MATCH(AL$4,Millwall!$AH126:$AW126,0)","v":3},{"$f":"MATCH(AM$4,Millwall!$AH126:$AW126,0)","v":{"$error":"#N/A"}},{"$f":"MATCH(AN$4,Millwall!$AH126:$AW126,0)","v":4},{"$f":"MATCH(AO$4,Millwall!$AH126:$AW126,0)","v":{"$error":"#N/A"}},{"$f":"MATCH(AP$4,Millwall!$AH126:$AW126,0)","v":{"$error":"#N/A"}},{"$f":"MATCH(AQ$4,Millwall!$AH126:$AW126,0)","v":14},{"$f":"MATCH(AR$4,Millwall!$AH126:$AW126,0)","v":12},{"$f":"MATCH(AS$4,Millwall!$AH126:$AW126,0)","v":{"$error":"#N/A"}},{"$f":"MATCH(AT$4,Millwall!$AH126:$AW126,0)","v":5},{"$f":"MATCH(AU$4,Millwall!$AH126:$AW126,0)","v":{"$error":"#N/A"}},{"$f":"MATCH(AV$4,Millwall!$AH126:$AW126,0)","v":{"$error":"#N/A"}},null,null,null,null,null,{"$f":"MATCH(BB$3,Millwall!$AH126:$AW126,0)","v":{"$error":"#N/A"}},{"$f":"MATCH(BC$3,Millwall!$AH126:$AW126,0)","v":{"$error":"#N/A"}},{"$f":"MATCH(BD$3,Millwall!$AH126:$AW126,0)","v":{"$error":"#N/A"}},{"$f":"MATCH(BE$3,Millwall!$AH126:$AW126,0)","v":{"$error":"#N/A"}},{"$f":"MATCH(BF$3,Millwall!$AH126:$AW126,0)","v":{"$error":"#N/A"}},{"$f":"MATCH(BG$3,Millwall!$AH126:$AW126,0)","v":{"$error":"#N/A"}},{"$f":"MATCH(BH$3,Millwall!$AH126:$AW126,0)","v":{"$error":"#N/A"}},{"$f":"MATCH(BI$3,Millwall!$AH126:$AW126,0)","v":{"$error":"#N/A"}},{"$f":"MATCH(BJ$3,Millwall!$AH126:$AW126,0)","v":{"$error":"#N/A"}},{"$f":"MATCH(BK$3,Millwall!$AH126:$AW126,0)","v":{"$error":"#N/A"}},{"$f":"MATCH(BL$3,Millwall!$AH126:$AW126,0)","v":{"$error":"#N/A"}},{"$f":"MATCH(BM$3,Millwall!$AH126:$AW126,0)","v":{"$error":"#N/A"}},{"$f":"MATCH(BN$3,Millwall!$AH126:$AW126,0)","v":{"$error":"#N/A"}},{"$f":"MATCH(BO$3,Millwall!$AH126:$AW126,0)","v":{"$error":"#N/A"}},{"$f":"MATCH(BP$3,Millwall!$AH126:$AW126,0)","v":{"$error":"#N/A"}},{"$f":"MATCH(BQ$3,Millwall!$AH126:$AW126,0)","v":{"$error":"#N/A"}},{"$f":"MATCH(BR$3,Millwall!$AH126:$AW126,0)","v":{"$error":"#N/A"}},{"$f":"MATCH(BS$3,Millwall!$AH126:$AW126,0)","v":{"$error":"#N/A"}},{"$f":"MATCH(BT$3,Millwall!$AH126:$AW126,0)","v":{"$error":"#N/A"}},{"$f":"MATCH(BU$3,Millwall!$AH126:$AW126,0)","v":{"$error":"#N/A"}},{"$f":"MATCH(BV$3,Millwall!$AH126:$AW126,0)","v":{"$error":"#N/A"}},{"$f":"MATCH(BW$3,Millwall!$AH126:$AW126,0)","v":{"$error":"#N/A"}},{"$f":"MATCH(BX$3,Millwall!$AH126:$AW126,0)","v":{"$error":"#N/A"}},{"$f":"MATCH(BY$3,Millwall!$AH126:$AW126,0)","v":{"$error":"#N/A"}},{"$f":"MATCH(BZ$3,Millwall!$AH126:$AW126,0)","v":{"$error":"#N/A"}},{"$f":"MATCH(CA$3,Millwall!$AH126:$AW126,0)","v":{"$error":"#N/A"}},{"$f":"MATCH(CB$3,Millwall!$AH126:$AW126,0)","v":{"$error":"#N/A"}},{"$f":"MATCH(CC$3,Millwall!$AH126:$AW126,0)","v":{"$error":"#N/A"}},{"$f":"MATCH(CD$3,Millwall!$AH126:$AW126,0)","v":{"$error":"#N/A"}},{"$f":"MATCH(CE$3,Millwall!$AH126:$AW126,0)","v":{"$error":"#N/A"}},{"$f":"MATCH(CF$3,Millwall!$AH126:$AW126,0)","v":{"$error":"#N/A"}},{"$f":"MATCH(CG$3,Millwall!$AH126:$AW126,0)","v":{"$error":"#N/A"}},{"$f":"MATCH(CH$3,Millwall!$AH126:$AW126,0)","v":{"$error":"#N/A"}},{"$f":"MATCH(CI$3,Millwall!$AH126:$AW126,0)","v":{"$error":"#N/A"}},{"$f":"MATCH(CJ$3,Millwall!$AH126:$AW126,0)","v":{"$error":"#N/A"}},{"$f":"MATCH(CK$3,Millwall!$AH126:$AW126,0)","v":{"$error":"#N/A"}},{"$f":"MATCH(CL$3,Millwall!$AH126:$AW126,0)","v":{"$error":"#N/A"}},{"$f":"MATCH(CM$3,Millwall!$AH126:$AW126,0)","v":{"$error":"#N/A"}},null,null,{"$f":"MATCH(CP$3,Millwall!$AH126:$AW126,0)","v":{"$error":"#N/A"}},{"$f":"MATCH(CQ$3,Millwall!$AH126:$AW126,0)","v":{"$error":"#N/A"}},{"$f":"MATCH(CR$3,Millwall!$AH126:$AW126,0)","v":{"$error":"#N/A"}},{"$f":"MATCH(CS$3,Millwall!$AH126:$AW126,0)","v":{"$error":"#N/A"}},{"$f":"MATCH(CT$3,Millwall!$AH126:$AW126,0)","v":{"$error":"#N/A"}},{"$f":"MATCH(CU$3,Millwall!$AH126:$AW126,0)","v":{"$error":"#N/A"}},{"$f":"MATCH(CV$3,Millwall!$AH126:$AW126,0)","v":{"$error":"#N/A"}},{"$f":"MATCH(CW$3,Millwall!$AH126:$AW126,0)","v":{"$error":"#N/A"}},{"$f":"MATCH(CX$3,Millwall!$AH126:$AW126,0)","v":{"$error":"#N/A"}},{"$f":"MATCH(CY$3,Millwall!$AH126:$AW126,0)","v":{"$error":"#N/A"}},{"$f":"MATCH(CZ$3,Millwall!$AH126:$AW126,0)","v":{"$error":"#N/A"}},{"$f":"MATCH(DA$3,Millwall!$AH126:$AW126,0)","v":{"$error":"#N/A"}},{"$f":"MATCH(DB$3,Millwall!$AH126:$AW126,0)","v":{"$error":"#N/A"}},{"$f":"MATCH(DC$3,Millwall!$AH126:$AW126,0)","v":{"$error":"#N/A"}},{"$f":"MATCH(DD$3,Millwall!$AH126:$AW126,0)","v":{"$error":"#N/A"}},{"$f":"MATCH(DE$3,Millwall!$AH126:$AW126,0)","v":{"$error":"#N/A"}},{"$f":"MATCH(DF$3,Millwall!$AH126:$AW126,0)","v":{"$error":"#N/A"}},{"$f":"MATCH(DG$3,Millwall!$AH126:$AW126,0)","v":{"$error":"#N/A"}},{"$f":"MATCH(DH$3,Millwall!$AH126:$AW126,0)","v":{"$error":"#N/A"}},{"$f":"MATCH(DI$3,Millwall!$AH126:$AW126,0)","v":13},{"$f":"MATCH(DJ$3,Millwall!$AH126:$AW126,0)","v":{"$error":"#N/A"}},{"$f":"MATCH(DK$3,Millwall!$AH126:$AW126,0)","v":{"$error":"#N/A"}},{"$f":"MATCH(DL$3,Millwall!$AH126:$AW126,0)","v":{"$error":"#N/A"}},{"$f":"MATCH(DM$3,Millwall!$AH126:$AW126,0)","v":{"$error":"#N/A"}},{"$f":"MATCH(DN$3,Millwall!$AH126:$AW126,0)","v":{"$error":"#N/A"}},{"$f":"MATCH(DO$3,Millwall!$AH126:$AW126,0)","v":{"$error":"#N/A"}},{"$f":"MATCH(DP$3,Millwall!$AH126:$AW126,0)","v":{"$error":"#N/A"}},{"$f":"MATCH(DQ$3,Millwall!$AH126:$AW126,0)","v":{"$error":"#N/A"}},{"$f":"MATCH(DR$3,Millwall!$AH126:$AW126,0)","v":{"$error":"#N/A"}},{"$f":"MATCH(DS$3,Millwall!$AH126:$AW126,0)","v":{"$error":"#N/A"}},{"$f":"MATCH(DT$3,Millwall!$AH126:$AW126,0)","v":{"$error":"#N/A"}},{"$f":"MATCH(DU$3,Millwall!$AH126:$AW126,0)","v":{"$error":"#N/A"}},{"$f":"MATCH(DV$3,Millwall!$AH126:$AW126,0)","v":{"$error":"#N/A"}},{"$f":"MATCH(DW$3,Millwall!$AH126:$AW126,0)","v":{"$error":"#N/A"}},{"$f":"MATCH(DX$3,Millwall!$AH126:$AW126,0)","v":{"$error":"#N/A"}},{"$f":"MATCH(DY$3,Millwall!$AH126:$AW126,0)","v":5},{"$f":"MATCH(DZ$3,Millwall!$AH126:$AW126,0)","v":{"$error":"#N/A"}},{"$f":"MATCH(EA$3,Millwall!$AH126:$AW126,0)","v":{"$error":"#N/A"}},null,null,{"$f":"MATCH(ED$3,Millwall!$AH126:$AW126,0)","v":{"$error":"#N/A"}},{"$f":"MATCH(EE$3,Millwall!$AH126:$AW126,0)","v":{"$error":"#N/A"}},{"$f":"MATCH(EF$3,Millwall!$AH126:$AW126,0)","v":{"$error":"#N/A"}},{"$f":"MATCH(EG$3,Millwall!$AH126:$AW126,0)","v":{"$error":"#N/A"}},{"$f":"MATCH(EH$3,Millwall!$AH126:$AW126,0)","v":{"$error":"#N/A"}},{"$f":"MATCH(EI$3,Millwall!$AH126:$AW126,0)","v":{"$error":"#N/A"}},{"$f":"MATCH(EJ$3,Millwall!$AH126:$AW126,0)","v":{"$error":"#N/A"}},{"$f":"MATCH(EK$3,Millwall!$AH126:$AW126,0)","v":{"$error":"#N/A"}},{"$f":"MATCH(EL$3,Millwall!$AH126:$AW126,0)","v":{"$error":"#N/A"}},{"$f":"MATCH(EM$3,Millwall!$AH126:$AW126,0)","v":{"$error":"#N/A"}},{"$f":"MATCH(EN$3,Millwall!$AH126:$AW126,0)","v":{"$error":"#N/A"}},{"$f":"MATCH(EO$3,Millwall!$AH126:$AW126,0)","v":{"$error":"#N/A"}},{"$f":"MATCH(EP$3,Millwall!$AH126:$AW126,0)","v":{"$error":"#N/A"}},{"$f":"MATCH(EQ$3,Millwall!$AH126:$AW126,0)","v":{"$error":"#N/A"}},{"$f":"MATCH(ER$3,Millwall!$AH126:$AW126,0)","v":6},{"$f":"MATCH(ES$3,Millwall!$AH126:$AW126,0)","v":{"$error":"#N/A"}},{"$f":"MATCH(ET$3,Millwall!$AH126:$AW126,0)","v":{"$error":"#N/A"}},{"$f":"MATCH(EU$3,Millwall!$AH126:$AW126,0)","v":{"$error":"#N/A"}},{"$f":"MATCH(EV$3,Millwall!$AH126:$AW126,0)","v":{"$error":"#N/A"}},{"$f":"MATCH(EW$3,Millwall!$AH126:$AW126,0)","v":{"$error":"#N/A"}},{"$f":"MATCH(EX$3,Millwall!$AH126:$AW126,0)","v":{"$error":"#N/A"}},{"$f":"MATCH(EY$3,Millwall!$AH126:$AW126,0)","v":{"$error":"#N/A"}},{"$f":"MATCH(EZ$3,Millwall!$AH126:$AW126,0)","v":{"$error":"#N/A"}},{"$f":"MATCH(FA$3,Millwall!$AH126:$AW126,0)","v":{"$error":"#N/A"}},{"$f":"MATCH(FB$3,Millwall!$AH126:$AW126,0)","v":{"$error":"#N/A"}},{"$f":"MATCH(FC$3,Millwall!$AH126:$AW126,0)","v":{"$error":"#N/A"}},{"$f":"MATCH(FD$3,Millwall!$AH126:$AW126,0)","v":{"$error":"#N/A"}},{"$f":"MATCH(FE$3,Millwall!$AH126:$AW126,0)","v":{"$error":"#N/A"}},{"$f":"MATCH(FF$3,Millwall!$AH126:$AW126,0)","v":{"$error":"#N/A"}},{"$f":"MATCH(FG$3,Millwall!$AH126:$AW126,0)","v":{"$error":"#N/A"}},{"$f":"MATCH(FH$3,Millwall!$AH126:$AW126,0)","v":{"$error":"#N/A"}},{"$f":"MATCH(FI$3,Millwall!$AH126:$AW126,0)","v":{"$error":"#N/A"}},{"$f":"MATCH(FJ$3,Millwall!$AH126:$AW126,0)","v":14},{"$f":"MATCH(FK$3,Millwall!$AH126:$AW126,0)","v":{"$error":"#N/A"}},{"$f":"MATCH(FL$3,Millwall!$AH126:$AW126,0)","v":{"$error":"#N/A"}},{"$f":"MATCH(FM$3,Millwall!$AH126:$AW126,0)","v":{"$error":"#N/A"}},{"$f":"MATCH(FN$3,Millwall!$AH126:$AW126,0)","v":{"$error":"#N/A"}},{"$f":"MATCH(FO$3,Millwall!$AH126:$AW126,0)","v":{"$error":"#N/A"}}]
[null,null,0,"1R",null,{"$f":"Millwall!AD127","v":"1996-11-26"},null,{"$f":"Millwall!AE127","v":"Woking"},{"$f":"Millwall!AF127","v":"(H)"},{"$f":"Millwall!AG127","v":"L 0-1"},{"$f":"MATCH(K$4,Millwall!$AH127:$AW127,0)","v":{"$error":"#N/A"}},{"$f":"MATCH(L$4,Millwall!$AH127:$AW127,0)","v":{"$error":"#N/A"}},{"$f":"MATCH(M$4,Millwall!$AH127:$AW127,0)","v":{"$error":"#N/A"}},{"$f":"MATCH(N$4,Millwall!$AH127:$AW127,0)","v":7},{"$f":"MATCH(O$4,Millwall!$AH127:$AW127,0)","v":{"$error":"#N/A"}},{"$f":"MATCH(P$4,Millwall!$AH127:$AW127,0)","v":{"$error":"#N/A"}},{"$f":"MATCH(Q$4,Millwall!$AH127:$AW127,0)","v":{"$error":"#N/A"}},{"$f":"MATCH(R$4,Millwall!$AH127:$AW127,0)","v":1},{"$f":"MATCH(S$4,Millwall!$AH127:$AW127,0)","v":9},{"$f":"MATCH(T$4,Millwall!$AH127:$AW127,0)","v":10},{"$f":"MATCH(U$4,Millwall!$AH127:$AW127,0)","v":14},{"$f":"MATCH(V$4,Millwall!$AH127:$AW127,0)","v":12},{"$f":"MATCH(W$4,Millwall!$AH127:$AW127,0)","v":{"$error":"#N/A"}},{"$f":"MATCH(X$4,Millwall!$AH127:$AW127,0)","v":{"$error":"#N/A"}},{"$f":"MATCH(Y$4,Millwall!$AH127:$AW127,0)","v":{"$error":"#N/A"}},{"$f":"MATCH(Z$4,Millwall!$AH127:$AW127,0)","v":11},{"$f":"MATCH(AA$4,Millwall!$AH127:$AW127,0)","v":{"$error":"#N/A"}},{"$f":"MATCH(AB$4,Millwall!$AH127:$AW127,0)","v":{"$error":"#N/A"}},{"$f":"MATCH(AC$4,Millwall!$AH127:$AW127,0)","v":{"$error":"#N/A"}},{"$f":"MATCH(AD$4,Millwall!$AH127:$AW127,0)","v":2},{"$f":"MATCH(AE$4,Millwall!$AH127:$AW127,0)","v":{"$error":"#N/A"}},{"$f":"MATCH(AF$4,Millwall!$AH127:$AW127,0)","v":{"$error":"#N/A"}},{"$f":"MATCH(AG$4,Millwall!$AH127:$AW127,0)","v":{"$error":"#N/A"}},{"$f":"MATCH(AH$4,Millwall!$AH127:$AW127,0)","v":8},{"$f":"MATCH(AI$4,Millwall!$AH127:$AW127,0)","v":6},{"$f":"MATCH(AJ$4,Millwall!$AH127:$AW127,0)","v":{"$error":"#N/A"}},{"$f":"MATCH(AK$4,Millwall!$AH127:$AW127,0)","v":{"$error":"#N/A"}},{"$f":"MATCH(AL$4,Millwall!$AH127:$AW127,0)","v":3},{"$f":"MATCH(AM$4,Millwall!$AH127:$AW127,0)","v":{"$error":"#N/A"}},{"$f":"MATCH(AN$4,Millwall!$AH127:$AW127,0)","v":4},{"$f":"MATCH(AO$4,Millwall!$AH127:$AW127,0)","v":13},{"$f":"MATCH(AP$4,Millwall!$AH127:$AW127,0)","v":{"$error":"#N/A"}},{"$f":"MATCH(AQ$4,Millwall!$AH127:$AW127,0)","v":{"$error":"#N/A"}},{"$f":"MATCH(AR$4,Millwall!$AH127:$AW127,0)","v":5},{"$f":"MATCH(AS$4,Millwall!$AH127:$AW127,0)","v":{"$error":"#N/A"}},{"$f":"MATCH(AT$4,Millwall!$AH127:$AW127,0)","v":{"$error":"#N/A"}},{"$f":"MATCH(AU$4,Millwall!$AH127:$AW127,0)","v":{"$error":"#N/A"}},{"$f":"MATCH(AV$4,Millwall!$AH127:$AW127,0)","v":{"$error":"#N/A"}},null,null,null,null,null,{"$f":"MATCH(BB$3,Millwall!$AH127:$AW127,0)","v":{"$error":"#N/A"}},{"$f":"MATCH(BC$3,Millwall!$AH127:$AW127,0)","v":{"$error":"#N/A"}},{"$f":"MATCH(BD$3,Millwall!$AH127:$AW127,0)","v":{"$error":"#N/A"}},{"$f":"MATCH(BE$3,Millwall!$AH127:$AW127,0)","v":{"$error":"#N/A"}},{"$f":"MATCH(BF$3,Millwall!$AH127:$AW127,0)","v":{"$error":"#N/A"}},{"$f":"MATCH(BG$3,Millwall!$AH127:$AW127,0)","v":{"$error":"#N/A"}},{"$f":"MATCH(BH$3,Millwall!$AH127:$AW127,0)","v":{"$error":"#N/A"}},{"$f":"MATCH(BI$3,Millwall!$AH127:$AW127,0)","v":{"$error":"#N/A"}},{"$f":"MATCH(BJ$3,Millwall!$AH127:$AW127,0)","v":{"$error":"#N/A"}},{"$f":"MATCH(BK$3,Millwall!$AH127:$AW127,0)","v":{"$error":"#N/A"}},{"$f":"MATCH(BL$3,Millwall!$AH127:$AW127,0)","v":{"$error":"#N/A"}},{"$f":"MATCH(BM$3,Millwall!$AH127:$AW127,0)","v":{"$error":"#N/A"}},{"$f":"MATCH(BN$3,Millwall!$AH127:$AW127,0)","v":{"$error":"#N/A"}},{"$f":"MATCH(BO$3,Millwall!$AH127:$AW127,0)","v":{"$error":"#N/A"}},{"$f":"MATCH(BP$3,Millwall!$AH127:$AW127,0)","v":{"$error":"#N/A"}},{"$f":"MATCH(BQ$3,Millwall!$AH127:$AW127,0)","v":{"$error":"#N/A"}},{"$f":"MATCH(BR$3,Millwall!$AH127:$AW127,0)","v":{"$error":"#N/A"}},{"$f":"MATCH(BS$3,Millwall!$AH127:$AW127,0)","v":{"$error":"#N/A"}},{"$f":"MATCH(BT$3,Millwall!$AH127:$AW127,0)","v":{"$error":"#N/A"}},{"$f":"MATCH(BU$3,Millwall!$AH127:$AW127,0)","v":{"$error":"#N/A"}},{"$f":"MATCH(BV$3,Millwall!$AH127:$AW127,0)","v":{"$error":"#N/A"}},{"$f":"MATCH(BW$3,Millwall!$AH127:$AW127,0)","v":{"$error":"#N/A"}},{"$f":"MATCH(BX$3,Millwall!$AH127:$AW127,0)","v":{"$error":"#N/A"}},{"$f":"MATCH(BY$3,Millwall!$AH127:$AW127,0)","v":{"$error":"#N/A"}},{"$f":"MATCH(BZ$3,Millwall!$AH127:$AW127,0)","v":{"$error":"#N/A"}},{"$f":"MATCH(CA$3,Millwall!$AH127:$AW127,0)","v":{"$error":"#N/A"}},{"$f":"MATCH(CB$3,Millwall!$AH127:$AW127,0)","v":{"$error":"#N/A"}},{"$f":"MATCH(CC$3,Millwall!$AH127:$AW127,0)","v":{"$error":"#N/A"}},{"$f":"MATCH(CD$3,Millwall!$AH127:$AW127,0)","v":{"$error":"#N/A"}},{"$f":"MATCH(CE$3,Millwall!$AH127:$AW127,0)","v":{"$error":"#N/A"}},{"$f":"MATCH(CF$3,Millwall!$AH127:$AW127,0)","v":{"$error":"#N/A"}},{"$f":"MATCH(CG$3,Millwall!$AH127:$AW127,0)","v":{"$error":"#N/A"}},{"$f":"MATCH(CH$3,Millwall!$AH127:$AW127,0)","v":{"$error":"#N/A"}},{"$f":"MATCH(CI$3,Millwall!$AH127:$AW127,0)","v":{"$error":"#N/A"}},{"$f":"MATCH(CJ$3,Millwall!$AH127:$AW127,0)","v":{"$error":"#N/A"}},{"$f":"MATCH(CK$3,Millwall!$AH127:$AW127,0)","v":{"$error":"#N/A"}},{"$f":"MATCH(CL$3,Millwall!$AH127:$AW127,0)","v":{"$error":"#N/A"}},{"$f":"MATCH(CM$3,Millwall!$AH127:$AW127,0)","v":{"$error":"#N/A"}},null,null,{"$f":"MATCH(CP$3,Millwall!$AH127:$AW127,0)","v":{"$error":"#N/A"}},{"$f":"MATCH(CQ$3,Millwall!$AH127:$AW127,0)","v":{"$error":"#N/A"}},{"$f":"MATCH(CR$3,Millwall!$AH127:$AW127,0)","v":{"$error":"#N/A"}},{"$f":"MATCH(CS$3,Millwall!$AH127:$AW127,0)","v":{"$error":"#N/A"}},{"$f":"MATCH(CT$3,Millwall!$AH127:$AW127,0)","v":{"$error":"#N/A"}},{"$f":"MATCH(CU$3,Millwall!$AH127:$AW127,0)","v":{"$error":"#N/A"}},{"$f":"MATCH(CV$3,Millwall!$AH127:$AW127,0)","v":{"$error":"#N/A"}},{"$f":"MATCH(CW$3,Millwall!$AH127:$AW127,0)","v":{"$error":"#N/A"}},{"$f":"MATCH(CX$3,Millwall!$AH127:$AW127,0)","v":{"$error":"#N/A"}},{"$f":"MATCH(CY$3,Millwall!$AH127:$AW127,0)","v":10},{"$f":"MATCH(CZ$3,Millwall!$AH127:$AW127,0)","v":{"$error":"#N/A"}},{"$f":"MATCH(DA$3,Millwall!$AH127:$AW127,0)","v":{"$error":"#N/A"}},{"$f":"MATCH(DB$3,Millwall!$AH127:$AW127,0)","v":{"$error":"#N/A"}},{"$f":"MATCH(DC$3,Millwall!$AH127:$AW127,0)","v":{"$error":"#N/A"}},{"$f":"MATCH(DD$3,Millwall!$AH127:$AW127,0)","v":{"$error":"#N/A"}},{"$f":"MATCH(DE$3,Millwall!$AH127:$AW127,0)","v":{"$error":"#N/A"}},{"$f":"MATCH(DF$3,Millwall!$AH127:$AW127,0)","v":{"$error":"#N/A"}},{"$f":"MATCH(DG$3,Millwall!$AH127:$AW127,0)","v":{"$error":"#N/A"}},{"$f":"MATCH(DH$3,Millwall!$AH127:$AW127,0)","v":{"$error":"#N/A"}},{"$f":"MATCH(DI$3,Millwall!$AH127:$AW127,0)","v":{"$error":"#N/A"}},{"$f":"MATCH(DJ$3,Millwall!$AH127:$AW127,0)","v":{"$error":"#N/A"}},{"$f":"MATCH(DK$3,Millwall!$AH127:$AW127,0)","v":{"$error":"#N/A"}},{"$f":"MATCH(DL$3,Millwall!$AH127:$AW127,0)","v":{"$error":"#N/A"}},{"$f":"MATCH(DM$3,Millwall!$AH127:$AW127,0)","v":{"$error":"#N/A"}},{"$f":"MATCH(DN$3,Millwall!$AH127:$AW127,0)","v":{"$error":"#N/A"}},{"$f":"MATCH(DO$3,Millwall!$AH127:$AW127,0)","v":{"$error":"#N/A"}},{"$f":"MATCH(DP$3,Millwall!$AH127:$AW127,0)","v":{"$error":"#N/A"}},{"$f":"MATCH(DQ$3,Millwall!$AH127:$AW127,0)","v":{"$error":"#N/A"}},{"$f":"MATCH(DR$3,Millwall!$AH127:$AW127,0)","v":{"$error":"#N/A"}},{"$f":"MATCH(DS$3,Millwall!$AH127:$AW127,0)","v":{"$error":"#N/A"}},{"$f":"MATCH(DT$3,Millwall!$AH127:$AW127,0)","v":13},{"$f":"MATCH(DU$3,Millwall!$AH127:$AW127,0)","v":{"$error":"#N/A"}},{"$f":"MATCH(DV$3,Millwall!$AH127:$AW127,0)","v":{"$error":"#N/A"}},{"$f":"MATCH(DW$3,Millwall!$AH127:$AW127,0)","v":{"$error":"#N/A"}},{"$f":"MATCH(DX$3,Millwall!$AH127:$AW127,0)","v":{"$error":"#N/A"}},{"$f":"MATCH(DY$3,Millwall!$AH127:$AW127,0)","v":{"$error":"#N/A"}},{"$f":"MATCH(DZ$3,Millwall!$AH127:$AW127,0)","v":{"$error":"#N/A"}},{"$f":"MATCH(EA$3,Millwall!$AH127:$AW127,0)","v":{"$error":"#N/A"}},null,null,{"$f":"MATCH(ED$3,Millwall!$AH127:$AW127,0)","v":{"$error":"#N/A"}},{"$f":"MATCH(EE$3,Millwall!$AH127:$AW127,0)","v":{"$error":"#N/A"}},{"$f":"MATCH(EF$3,Millwall!$AH127:$AW127,0)","v":{"$error":"#N/A"}},{"$f":"MATCH(EG$3,Millwall!$AH127:$AW127,0)","v":{"$error":"#N/A"}},{"$f":"MATCH(EH$3,Millwall!$AH127:$AW127,0)","v":{"$error":"#N/A"}},{"$f":"MATCH(EI$3,Millwall!$AH127:$AW127,0)","v":{"$error":"#N/A"}},{"$f":"MATCH(EJ$3,Millwall!$AH127:$AW127,0)","v":{"$error":"#N/A"}},{"$f":"MATCH(EK$3,Millwall!$AH127:$AW127,0)","v":{"$error":"#N/A"}},{"$f":"MATCH(EL$3,Millwall!$AH127:$AW127,0)","v":{"$error":"#N/A"}},{"$f":"MATCH(EM$3,Millwall!$AH127:$AW127,0)","v":{"$error":"#N/A"}},{"$f":"MATCH(EN$3,Millwall!$AH127:$AW127,0)","v":14},{"$f":"MATCH(EO$3,Millwall!$AH127:$AW127,0)","v":{"$error":"#N/A"}},{"$f":"MATCH(EP$3,Millwall!$AH127:$AW127,0)","v":{"$error":"#N/A"}},{"$f":"MATCH(EQ$3,Millwall!$AH127:$AW127,0)","v":{"$error":"#N/A"}},{"$f":"MATCH(ER$3,Millwall!$AH127:$AW127,0)","v":{"$error":"#N/A"}},{"$f":"MATCH(ES$3,Millwall!$AH127:$AW127,0)","v":{"$error":"#N/A"}},{"$f":"MATCH(ET$3,Millwall!$AH127:$AW127,0)","v":{"$error":"#N/A"}},{"$f":"MATCH(EU$3,Millwall!$AH127:$AW127,0)","v":{"$error":"#N/A"}},{"$f":"MATCH(EV$3,Millwall!$AH127:$AW127,0)","v":{"$error":"#N/A"}},{"$f":"MATCH(EW$3,Millwall!$AH127:$AW127,0)","v":{"$error":"#N/A"}},{"$f":"MATCH(EX$3,Millwall!$AH127:$AW127,0)","v":{"$error":"#N/A"}},{"$f":"MATCH(EY$3,Millwall!$AH127:$AW127,0)","v":{"$error":"#N/A"}},{"$f":"MATCH(EZ$3,Millwall!$AH127:$AW127,0)","v":{"$error":"#N/A"}},{"$f":"MATCH(FA$3,Millwall!$AH127:$AW127,0)","v":8},{"$f":"MATCH(FB$3,Millwall!$AH127:$AW127,0)","v":{"$error":"#N/A"}},{"$f":"MATCH(FC$3,Millwall!$AH127:$AW127,0)","v":{"$error":"#N/A"}},{"$f":"MATCH(FD$3,Millwall!$AH127:$AW127,0)","v":{"$error":"#N/A"}},{"$f":"MATCH(FE$3,Millwall!$AH127:$AW127,0)","v":{"$error":"#N/A"}},{"$f":"MATCH(FF$3,Millwall!$AH127:$AW127,0)","v":{"$error":"#N/A"}},{"$f":"MATCH(FG$3,Millwall!$AH127:$AW127,0)","v":{"$error":"#N/A"}},{"$f":"MATCH(FH$3,Millwall!$AH127:$AW127,0)","v":{"$error":"#N/A"}},{"$f":"MATCH(FI$3,Millwall!$AH127:$AW127,0)","v":{"$error":"#N/A"}},{"$f":"MATCH(FJ$3,Millwall!$AH127:$AW127,0)","v":{"$error":"#N/A"}},{"$f":"MATCH(FK$3,Millwall!$AH127:$AW127,0)","v":{"$error":"#N/A"}},{"$f":"MATCH(FL$3,Millwall!$AH127:$AW127,0)","v":{"$error":"#N/A"}},{"$f":"MATCH(FM$3,Millwall!$AH127:$AW127,0)","v":{"$error":"#N/A"}},{"$f":"MATCH(FN$3,Millwall!$AH127:$AW127,0)","v":{"$error":"#N/A"}},{"$f":"MATCH(FO$3,Millwall!$AH127:$AW127,0)","v":{"$error":"#N/A"}}]
[null,null,1,null,null,{"$f":"Millwall!AD128","v":"00:00:00"},null,{"$f":"Millwall!AE128","v":"00:00:00"},{"$f":"Millwall!AF128","v":"00:00:00"},{"$f":"Millwall!AG128","v":0},{"$f":"MATCH(K$4,Millwall!$AH128:$AW128,0)","v":{"$error":"#N/A"}},{"$f":"MATCH(L$4,Millwall!$AH128:$AW128,0)","v":{"$error":"#N/A"}},{"$f":"MATCH(M$4,Millwall!$AH128:$AW128,0)","v":{"$error":"#N/A"}},{"$f":"MATCH(N$4,Millwall!$AH128:$AW128,0)","v":{"$error":"#N/A"}},{"$f":"MATCH(O$4,Millwall!$AH128:$AW128,0)","v":{"$error":"#N/A"}},{"$f":"MATCH(P$4,Millwall!$AH128:$AW128,0)","v":{"$error":"#N/A"}},{"$f":"MATCH(Q$4,Millwall!$AH128:$AW128,0)","v":{"$error":"#N/A"}},{"$f":"MATCH(R$4,Millwall!$AH128:$AW128,0)","v":{"$error":"#N/A"}},{"$f":"MATCH(S$4,Millwall!$AH128:$AW128,0)","v":{"$error":"#N/A"}},{"$f":"MATCH(T$4,Millwall!$AH128:$AW128,0)","v":{"$error":"#N/A"}},{"$f":"MATCH(U$4,Millwall!$AH128:$AW128,0)","v":{"$error":"#N/A"}},{"$f":"MATCH(V$4,Millwall!$AH128:$AW128,0)","v":{"$error":"#N/A"}},{"$f":"MATCH(W$4,Millwall!$AH128:$AW128,0)","v":{"$error":"#N/A"}},{"$f":"MATCH(X$4,Millwall!$AH128:$AW128,0)","v":{"$error":"#N/A"}},{"$f":"MATCH(Y$4,Millwall!$AH128:$AW128,0)","v":{"$error":"#N/A"}},{"$f":"MATCH(Z$4,Millwall!$AH128:$AW128,0)","v":{"$error":"#N/A"}},{"$f":"MATCH(AA$4,Millwall!$AH128:$AW128,0)","v":{"$error":"#N/A"}},{"$f":"MATCH(AB$4,Millwall!$AH128:$AW128,0)","v":{"$error":"#N/A"}},{"$f":"MATCH(AC$4,Millwall!$AH128:$AW128,0)","v":{"$error":"#N/A"}},{"$f":"MATCH(AD$4,Millwall!$AH128:$AW128,0)","v":{"$error":"#N/A"}},{"$f":"MATCH(AE$4,Millwall!$AH128:$AW128,0)","v":{"$error":"#N/A"}},{"$f":"MATCH(AF$4,Millwall!$AH128:$AW128,0)","v":{"$error":"#N/A"}},{"$f":"MATCH(AG$4,Millwall!$AH128:$AW128,0)","v":{"$error":"#N/A"}},{"$f":"MATCH(AH$4,Millwall!$AH128:$AW128,0)","v":{"$error":"#N/A"}},{"$f":"MATCH(AI$4,Millwall!$AH128:$AW128,0)","v":{"$error":"#N/A"}},{"$f":"MATCH(AJ$4,Millwall!$AH128:$AW128,0)","v":{"$error":"#N/A"}},{"$f":"MATCH(AK$4,Millwall!$AH128:$AW128,0)","v":{"$error":"#N/A"}},{"$f":"MATCH(AL$4,Millwall!$AH128:$AW128,0)","v":{"$error":"#N/A"}},{"$f":"MATCH(AM$4,Millwall!$AH128:$AW128,0)","v":{"$error":"#N/A"}},{"$f":"MATCH(AN$4,Millwall!$AH128:$AW128,0)","v":{"$error":"#N/A"}},{"$f":"MATCH(AO$4,Millwall!$AH128:$AW128,0)","v":{"$error":"#N/A"}},{"$f":"MATCH(AP$4,Millwall!$AH128:$AW128,0)","v":{"$error":"#N/A"}},{"$f":"MATCH(AQ$4,Millwall!$AH128:$AW128,0)","v":{"$error":"#N/A"}},{"$f":"MATCH(AR$4,Millwall!$AH128:$AW128,0)","v":{"$error":"#N/A"}},{"$f":"MATCH(AS$4,Millwall!$AH128:$AW128,0)","v":{"$error":"#N/A"}},{"$f":"MATCH(AT$4,Millwall!$AH128:$AW128,0)","v":{"$error":"#N/A"}},{"$f":"MATCH(AU$4,Millwall!$AH128:$AW128,0)","v":{"$error":"#N/A"}},{"$f":"MATCH(AV$4,Millwall!$AH128:$AW128,0)","v":{"$error":"#N/A"}},null,null,null,null,null,{"$f":"MATCH(BB$3,Millwall!$AH128:$AW128,0)","v":{"$error":"#N/A"}},{"$f":"MATCH(BC$3,Millwall!$AH128:$AW128,0)","v":{"$error":"#N/A"}},{"$f":"MATCH(BD$3,Millwall!$AH128:$AW128,0)","v":{"$error":"#N/A"}},{"$f":"MATCH(BE$3,Millwall!$AH128:$AW128,0)","v":{"$error":"#N/A"}},{"$f":"MATCH(BF$3,Millwall!$AH128:$AW128,0)","v":{"$error":"#N/A"}},{"$f":"MATCH(BG$3,Millwall!$AH128:$AW128,0)","v":{"$error":"#N/A"}},{"$f":"MATCH(BH$3,Millwall!$AH128:$AW128,0)","v":{"$error":"#N/A"}},{"$f":"MATCH(BI$3,Millwall!$AH128:$AW128,0)","v":{"$error":"#N/A"}},{"$f":"MATCH(BJ$3,Millwall!$AH128:$AW128,0)","v":{"$error":"#N/A"}},{"$f":"MATCH(BK$3,Millwall!$AH128:$AW128,0)","v":{"$error":"#N/A"}},{"$f":"MATCH(BL$3,Millwall!$AH128:$AW128,0)","v":{"$error":"#N/A"}},{"$f":"MATCH(BM$3,Millwall!$AH128:$AW128,0)","v":{"$error":"#N/A"}},{"$f":"MATCH(BN$3,Millwall!$AH128:$AW128,0)","v":{"$error":"#N/A"}},{"$f":"MATCH(BO$3,Millwall!$AH128:$AW128,0)","v":{"$error":"#N/A"}},{"$f":"MATCH(BP$3,Millwall!$AH128:$AW128,0)","v":{"$error":"#N/A"}},{"$f":"MATCH(BQ$3,Millwall!$AH128:$AW128,0)","v":{"$error":"#N/A"}},{"$f":"MATCH(BR$3,Millwall!$AH128:$AW128,0)","v":{"$error":"#N/A"}},{"$f":"MATCH(BS$3,Millwall!$AH128:$AW128,0)","v":{"$error":"#N/A"}},{"$f":"MATCH(BT$3,Millwall!$AH128:$AW128,0)","v":{"$error":"#N/A"}},{"$f":"MATCH(BU$3,Millwall!$AH128:$AW128,0)","v":{"$error":"#N/A"}},{"$f":"MATCH(BV$3,Millwall!$AH128:$AW128,0)","v":{"$error":"#N/A"}},{"$f":"MATCH(BW$3,Millwall!$AH128:$AW128,0)","v":{"$error":"#N/A"}},{"$f":"MATCH(BX$3,Millwall!$AH128:$AW128,0)","v":{"$error":"#N/A"}},{"$f":"MATCH(BY$3,Millwall!$AH128:$AW128,0)","v":{"$error":"#N/A"}},{"$f":"MATCH(BZ$3,Millwall!$AH128:$AW128,0)","v":{"$error":"#N/A"}},{"$f":"MATCH(CA$3,Millwall!$AH128:$AW128,0)","v":{"$error":"#N/A"}},{"$f":"MATCH(CB$3,Millwall!$AH128:$AW128,0)","v":{"$error":"#N/A"}},{"$f":"MATCH(CC$3,Millwall!$AH128:$AW128,0)","v":{"$error":"#N/A"}},{"$f":"MATCH(CD$3,Millwall!$AH128:$AW128,0)","v":{"$error":"#N/A"}},{"$f":"MATCH(CE$3,Millwall!$AH128:$AW128,0)","v":{"$error":"#N/A"}},{"$f":"MATCH(CF$3,Millwall!$AH128:$AW128,0)","v":{"$error":"#N/A"}},{"$f":"MATCH(CG$3,Millwall!$AH128:$AW128,0)","v":{"$error":"#N/A"}},{"$f":"MATCH(CH$3,Millwall!$AH128:$AW128,0)","v":{"$error":"#N/A"}},{"$f":"MATCH(CI$3,Millwall!$AH128:$AW128,0)","v":{"$error":"#N/A"}},{"$f":"MATCH(CJ$3,Millwall!$AH128:$AW128,0)","v":{"$error":"#N/A"}},{"$f":"MATCH(CK$3,Millwall!$AH128:$AW128,0)","v":{"$error":"#N/A"}},{"$f":"MATCH(CL$3,Millwall!$AH128:$AW128,0)","v":{"$error":"#N/A"}},{"$f":"MATCH(CM$3,Millwall!$AH128:$AW128,0)","v":{"$error":"#N/A"}},null,null,{"$f":"MATCH(CP$3,Millwall!$AH128:$AW128,0)","v":{"$error":"#N/A"}},{"$f":"MATCH(CQ$3,Millwall!$AH128:$AW128,0)","v":{"$error":"#N/A"}},{"$f":"MATCH(CR$3,Millwall!$AH128:$AW128,0)","v":{"$error":"#N/A"}},{"$f":"MATCH(CS$3,Millwall!$AH128:$AW128,0)","v":{"$error":"#N/A"}},{"$f":"MATCH(CT$3,Millwall!$AH128:$AW128,0)","v":{"$error":"#N/A"}},{"$f":"MATCH(CU$3,Millwall!$AH128:$AW128,0)","v":{"$error":"#N/A"}},{"$f":"MATCH(CV$3,Millwall!$AH128:$AW128,0)","v":{"$error":"#N/A"}},{"$f":"MATCH(CW$3,Millwall!$AH128:$AW128,0)","v":{"$error":"#N/A"}},{"$f":"MATCH(CX$3,Millwall!$AH128:$AW128,0)","v":{"$error":"#N/A"}},{"$f":"MATCH(CY$3,Millwall!$AH128:$AW128,0)","v":{"$error":"#N/A"}},{"$f":"MATCH(CZ$3,Millwall!$AH128:$AW128,0)","v":{"$error":"#N/A"}},{"$f":"MATCH(DA$3,Millwall!$AH128:$AW128,0)","v":{"$error":"#N/A"}},{"$f":"MATCH(DB$3,Millwall!$AH128:$AW128,0)","v":{"$error":"#N/A"}},{"$f":"MATCH(DC$3,Millwall!$AH128:$AW128,0)","v":{"$error":"#N/A"}},{"$f":"MATCH(DD$3,Millwall!$AH128:$AW128,0)","v":{"$error":"#N/A"}},{"$f":"MATCH(DE$3,Millwall!$AH128:$AW128,0)","v":{"$error":"#N/A"}},{"$f":"MATCH(DF$3,Millwall!$AH128:$AW128,0)","v":{"$error":"#N/A"}},{"$f":"MATCH(DG$3,Millwall!$AH128:$AW128,0)","v":{"$error":"#N/A"}},{"$f":"MATCH(DH$3,Millwall!$AH128:$AW128,0)","v":{"$error":"#N/A"}},{"$f":"MATCH(DI$3,Millwall!$AH128:$AW128,0)","v":{"$error":"#N/A"}},{"$f":"MATCH(DJ$3,Millwall!$AH128:$AW128,0)","v":{"$error":"#N/A"}},{"$f":"MATCH(DK$3,Millwall!$AH128:$AW128,0)","v":{"$error":"#N/A"}},{"$f":"MATCH(DL$3,Millwall!$AH128:$AW128,0)","v":{"$error":"#N/A"}},{"$f":"MATCH(DM$3,Millwall!$AH128:$AW128,0)","v":{"$error":"#N/A"}},{"$f":"MATCH(DN$3,Millwall!$AH128:$AW128,0)","v":{"$error":"#N/A"}},{"$f":"MATCH(DO$3,Millwall!$AH128:$AW128,0)","v":{"$error":"#N/A"}},{"$f":"MATCH(DP$3,Millwall!$AH128:$AW128,0)","v":{"$error":"#N/A"}},{"$f":"MATCH(DQ$3,Millwall!$AH128:$AW128,0)","v":{"$error":"#N/A"}},{"$f":"MATCH(DR$3,Millwall!$AH128:$AW128,0)","v":{"$error":"#N/A"}},{"$f":"MATCH(DS$3,Millwall!$AH128:$AW128,0)","v":{"$error":"#N/A"}},{"$f":"MATCH(DT$3,Millwall!$AH128:$AW128,0)","v":{"$error":"#N/A"}},{"$f":"MATCH(DU$3,Millwall!$AH128:$AW128,0)","v":{"$error":"#N/A"}},{"$f":"MATCH(DV$3,Millwall!$AH128:$AW128,0)","v":{"$error":"#N/A"}},{"$f":"MATCH(DW$3,Millwall!$AH128:$AW128,0)","v":{"$error":"#N/A"}},{"$f":"MATCH(DX$3,Millwall!$AH128:$AW128,0)","v":{"$error":"#N/A"}},{"$f":"MATCH(DY$3,Millwall!$AH128:$AW128,0)","v":{"$error":"#N/A"}},{"$f":"MATCH(DZ$3,Millwall!$AH128:$AW128,0)","v":{"$error":"#N/A"}},{"$f":"MATCH(EA$3,Millwall!$AH128:$AW128,0)","v":{"$error":"#N/A"}},null,null,{"$f":"MATCH(ED$3,Millwall!$AH128:$AW128,0)","v":{"$error":"#N/A"}},{"$f":"MATCH(EE$3,Millwall!$AH128:$AW128,0)","v":{"$error":"#N/A"}},{"$f":"MATCH(EF$3,Millwall!$AH128:$AW128,0)","v":{"$error":"#N/A"}},{"$f":"MATCH(EG$3,Millwall!$AH128:$AW128,0)","v":{"$error":"#N/A"}},{"$f":"MATCH(EH$3,Millwall!$AH128:$AW128,0)","v":{"$error":"#N/A"}},{"$f":"MATCH(EI$3,Millwall!$AH128:$AW128,0)","v":{"$error":"#N/A"}},{"$f":"MATCH(EJ$3,Millwall!$AH128:$AW128,0)","v":{"$error":"#N/A"}},{"$f":"MATCH(EK$3,Millwall!$AH128:$AW128,0)","v":{"$error":"#N/A"}},{"$f":"MATCH(EL$3,Millwall!$AH128:$AW128,0)","v":{"$error":"#N/A"}},{"$f":"MATCH(EM$3,Millwall!$AH128:$AW128,0)","v":{"$error":"#N/A"}},{"$f":"MATCH(EN$3,Millwall!$AH128:$AW128,0)","v":{"$error":"#N/A"}},{"$f":"MATCH(EO$3,Millwall!$AH128:$AW128,0)","v":{"$error":"#N/A"}},{"$f":"MATCH(EP$3,Millwall!$AH128:$AW128,0)","v":{"$error":"#N/A"}},{"$f":"MATCH(EQ$3,Millwall!$AH128:$AW128,0)","v":{"$error":"#N/A"}},{"$f":"MATCH(ER$3,Millwall!$AH128:$AW128,0)","v":{"$error":"#N/A"}},{"$f":"MATCH(ES$3,Millwall!$AH128:$AW128,0)","v":{"$error":"#N/A"}},{"$f":"MATCH(ET$3,Millwall!$AH128:$AW128,0)","v":{"$error":"#N/A"}},{"$f":"MATCH(EU$3,Millwall!$AH128:$AW128,0)","v":{"$error":"#N/A"}},{"$f":"MATCH(EV$3,Millwall!$AH128:$AW128,0)","v":{"$error":"#N/A"}},{"$f":"MATCH(EW$3,Millwall!$AH128:$AW128,0)","v":{"$error":"#N/A"}},{"$f":"MATCH(EX$3,Millwall!$AH128:$AW128,0)","v":{"$error":"#N/A"}},{"$f":"MATCH(EY$3,Millwall!$AH128:$AW128,0)","v":{"$error":"#N/A"}},{"$f":"MATCH(EZ$3,Millwall!$AH128:$AW128,0)","v":{"$error":"#N/A"}},{"$f":"MATCH(FA$3,Millwall!$AH128:$AW128,0)","v":{"$error":"#N/A"}},{"$f":"MATCH(FB$3,Millwall!$AH128:$AW128,0)","v":{"$error":"#N/A"}},{"$f":"MATCH(FC$3,Millwall!$AH128:$AW128,0)","v":{"$error":"#N/A"}},{"$f":"MATCH(FD$3,Millwall!$AH128:$AW128,0)","v":{"$error":"#N/A"}},{"$f":"MATCH(FE$3,Millwall!$AH128:$AW128,0)","v":{"$error":"#N/A"}},{"$f":"MATCH(FF$3,Millwall!$AH128:$AW128,0)","v":{"$error":"#N/A"}},{"$f":"MATCH(FG$3,Millwall!$AH128:$AW128,0)","v":{"$error":"#N/A"}},{"$f":"MATCH(FH$3,Millwall!$AH128:$AW128,0)","v":{"$error":"#N/A"}},{"$f":"MATCH(FI$3,Millwall!$AH128:$AW128,0)","v":{"$error":"#N/A"}},{"$f":"MATCH(FJ$3,Millwall!$AH128:$AW128,0)","v":{"$error":"#N/A"}},{"$f":"MATCH(FK$3,Millwall!$AH128:$AW128,0)","v":{"$error":"#N/A"}},{"$f":"MATCH(FL$3,Millwall!$AH128:$AW128,0)","v":{"$error":"#N/A"}},{"$f":"MATCH(FM$3,Millwall!$AH128:$AW128,0)","v":{"$error":"#N/A"}},{"$f":"MATCH(FN$3,Millwall!$AH128:$AW128,0)","v":{"$error":"#N/A"}},{"$f":"MATCH(FO$3,Millwall!$AH128:$AW128,0)","v":{"$error":"#N/A"}}]
[null,null,1,null,null,{"$f":"Millwall!AD129","v":"00:00:00"},null,{"$f":"Millwall!AE129","v":"00:00:00"},{"$f":"Millwall!AF129","v":"00:00:00"},{"$f":"Millwall!AG129","v":0},{"$f":"MATCH(K$4,Millwall!$AH129:$AW129,0)","v":{"$error":"#N/A"}},{"$f":"MATCH(L$4,Millwall!$AH129:$AW129,0)","v":{"$error":"#N/A"}},{"$f":"MATCH(M$4,Millwall!$AH129:$AW129,0)","v":{"$error":"#N/A"}},{"$f":"MATCH(N$4,Millwall!$AH129:$AW129,0)","v":{"$error":"#N/A"}},{"$f":"MATCH(O$4,Millwall!$AH129:$AW129,0)","v":{"$error":"#N/A"}},{"$f":"MATCH(P$4,Millwall!$AH129:$AW129,0)","v":{"$error":"#N/A"}},{"$f":"MATCH(Q$4,Millwall!$AH129:$AW129,0)","v":{"$error":"#N/A"}},{"$f":"MATCH(R$4,Millwall!$AH129:$AW129,0)","v":{"$error":"#N/A"}},{"$f":"MATCH(S$4,Millwall!$AH129:$AW129,0)","v":{"$error":"#N/A"}},{"$f":"MATCH(T$4,Millwall!$AH129:$AW129,0)","v":{"$error":"#N/A"}},{"$f":"MATCH(U$4,Millwall!$AH129:$AW129,0)","v":{"$error":"#N/A"}},{"$f":"MATCH(V$4,Millwall!$AH129:$AW129,0)","v":{"$error":"#N/A"}},{"$f":"MATCH(W$4,Millwall!$AH129:$AW129,0)","v":{"$error":"#N/A"}},{"$f":"MATCH(X$4,Millwall!$AH129:$AW129,0)","v":{"$error":"#N/A"}},{"$f":"MATCH(Y$4,Millwall!$AH129:$AW129,0)","v":{"$error":"#N/A"}},{"$f":"MATCH(Z$4,Millwall!$AH129:$AW129,0)","v":{"$error":"#N/A"}},{"$f":"MATCH(AA$4,Millwall!$AH129:$AW129,0)","v":{"$error":"#N/A"}},{"$f":"MATCH(AB$4,Millwall!$AH129:$AW129,0)","v":{"$error":"#N/A"}},{"$f":"MATCH(AC$4,Millwall!$AH129:$AW129,0)","v":{"$error":"#N/A"}},{"$f":"MATCH(AD$4,Millwall!$AH129:$AW129,0)","v":{"$error":"#N/A"}},{"$f":"MATCH(AE$4,Millwall!$AH129:$AW129,0)","v":{"$error":"#N/A"}},{"$f":"MATCH(AF$4,Millwall!$AH129:$AW129,0)","v":{"$error":"#N/A"}},{"$f":"MATCH(AG$4,Millwall!$AH129:$AW129,0)","v":{"$error":"#N/A"}},{"$f":"MATCH(AH$4,Millwall!$AH129:$AW129,0)","v":{"$error":"#N/A"}},{"$f":"MATCH(AI$4,Millwall!$AH129:$AW129,0)","v":{"$error":"#N/A"}},{"$f":"MATCH(AJ$4,Millwall!$AH129:$AW129,0)","v":{"$error":"#N/A"}},{"$f":"MATCH(AK$4,Millwall!$AH129:$AW129,0)","v":{"$error":"#N/A"}},{"$f":"MATCH(AL$4,Millwall!$AH129:$AW129,0)","v":{"$error":"#N/A"}},{"$f":"MATCH(AM$4,Millwall!$AH129:$AW129,0)","v":{"$error":"#N/A"}},{"$f":"MATCH(AN$4,Millwall!$AH129:$AW129,0)","v":{"$error":"#N/A"}},{"$f":"MATCH(AO$4,Millwall!$AH129:$AW129,0)","v":{"$error":"#N/A"}},{"$f":"MATCH(AP$4,Millwall!$AH129:$AW129,0)","v":{"$error":"#N/A"}},{"$f":"MATCH(AQ$4,Millwall!$AH129:$AW129,0)","v":{"$error":"#N/A"}},{"$f":"MATCH(AR$4,Millwall!$AH129:$AW129,0)","v":{"$error":"#N/A"}},{"$f":"MATCH(AS$4,Millwall!$AH129:$AW129,0)","v":{"$error":"#N/A"}},{"$f":"MATCH(AT$4,Millwall!$AH129:$AW129,0)","v":{"$error":"#N/A"}},{"$f":"MATCH(AU$4,Millwall!$AH129:$AW129,0)","v":{"$error":"#N/A"}},{"$f":"MATCH(AV$4,Millwall!$AH129:$AW129,0)","v":{"$error":"#N/A"}},null,null,null,null,null,{"$f":"MATCH(BB$3,Millwall!$AH129:$AW129,0)","v":{"$error":"#N/A"}},{"$f":"MATCH(BC$3,Millwall!$AH129:$AW129,0)","v":{"$error":"#N/A"}},{"$f":"MATCH(BD$3,Millwall!$AH129:$AW129,0)","v":{"$error":"#N/A"}},{"$f":"MATCH(BE$3,Millwall!$AH129:$AW129,0)","v":{"$error":"#N/A"}},{"$f":"MATCH(BF$3,Millwall!$AH129:$AW129,0)","v":{"$error":"#N/A"}},{"$f":"MATCH(BG$3,Millwall!$AH129:$AW129,0)","v":{"$error":"#N/A"}},{"$f":"MATCH(BH$3,Millwall!$AH129:$AW129,0)","v":{"$error":"#N/A"}},{"$f":"MATCH(BI$3,Millwall!$AH129:$AW129,0)","v":{"$error":"#N/A"}},{"$f":"MATCH(BJ$3,Millwall!$AH129:$AW129,0)","v":{"$error":"#N/A"}},{"$f":"MATCH(BK$3,Millwall!$AH129:$AW129,0)","v":{"$error":"#N/A"}},{"$f":"MATCH(BL$3,Millwall!$AH129:$AW129,0)","v":{"$error":"#N/A"}},{"$f":"MATCH(BM$3,Millwall!$AH129:$AW129,0)","v":{"$error":"#N/A"}},{"$f":"MATCH(BN$3,Millwall!$AH129:$AW129,0)","v":{"$error":"#N/A"}},{"$f":"MATCH(BO$3,Millwall!$AH129:$AW129,0)","v":{"$error":"#N/A"}},{"$f":"MATCH(BP$3,Millwall!$AH129:$AW129,0)","v":{"$error":"#N/A"}},{"$f":"MATCH(BQ$3,Millwall!$AH129:$AW129,0)","v":{"$error":"#N/A"}},{"$f":"MATCH(BR$3,Millwall!$AH129:$AW129,0)","v":{"$error":"#N/A"}},{"$f":"MATCH(BS$3,Millwall!$AH129:$AW129,0)","v":{"$error":"#N/A"}},{"$f":"MATCH(BT$3,Millwall!$AH129:$AW129,0)","v":{"$error":"#N/A"}},{"$f":"MATCH(BU$3,Millwall!$AH129:$AW129,0)","v":{"$error":"#N/A"}},{"$f":"MATCH(BV$3,Millwall!$AH129:$AW129,0)","v":{"$error":"#N/A"}},{"$f":"MATCH(BW$3,Millwall!$AH129:$AW129,0)","v":{"$error":"#N/A"}},{"$f":"MATCH(BX$3,Millwall!$AH129:$AW129,0)","v":{"$error":"#N/A"}},{"$f":"MATCH(BY$3,Millwall!$AH129:$AW129,0)","v":{"$error":"#N/A"}},{"$f":"MATCH(BZ$3,Millwall!$AH129:$AW129,0)","v":{"$error":"#N/A"}},{"$f":"MATCH(CA$3,Millwall!$AH129:$AW129,0)","v":{"$error":"#N/A"}},{"$f":"MATCH(CB$3,Millwall!$AH129:$AW129,0)","v":{"$error":"#N/A"}},{"$f":"MATCH(CC$3,Millwall!$AH129:$AW129,0)","v":{"$error":"#N/A"}},{"$f":"MATCH(CD$3,Millwall!$AH129:$AW129,0)","v":{"$error":"#N/A"}},{"$f":"MATCH(CE$3,Millwall!$AH129:$AW129,0)","v":{"$error":"#N/A"}},{"$f":"MATCH(CF$3,Millwall!$AH129:$AW129,0)","v":{"$error":"#N/A"}},{"$f":"MATCH(CG$3,Millwall!$AH129:$AW129,0)","v":{"$error":"#N/A"}},{"$f":"MATCH(CH$3,Millwall!$AH129:$AW129,0)","v":{"$error":"#N/A"}},{"$f":"MATCH(CI$3,Millwall!$AH129:$AW129,0)","v":{"$error":"#N/A"}},{"$f":"MATCH(CJ$3,Millwall!$AH129:$AW129,0)","v":{"$error":"#N/A"}},{"$f":"MATCH(CK$3,Millwall!$AH129:$AW129,0)","v":{"$error":"#N/A"}},{"$f":"MATCH(CL$3,Millwall!$AH129:$AW129,0)","v":{"$error":"#N/A"}},{"$f":"MATCH(CM$3,Millwall!$AH129:$AW129,0)","v":{"$error":"#N/A"}},null,null,{"$f":"MATCH(CP$3,Millwall!$AH129:$AW129,0)","v":{"$error":"#N/A"}},{"$f":"MATCH(CQ$3,Millwall!$AH129:$AW129,0)","v":{"$error":"#N/A"}},{"$f":"MATCH(CR$3,Millwall!$AH129:$AW129,0)","v":{"$error":"#N/A"}},{"$f":"MATCH(CS$3,Millwall!$AH129:$AW129,0)","v":{"$error":"#N/A"}},{"$f":"MATCH(CT$3,Millwall!$AH129:$AW129,0)","v":{"$error":"#N/A"}},{"$f":"MATCH(CU$3,Millwall!$AH129:$AW129,0)","v":{"$error":"#N/A"}},{"$f":"MATCH(CV$3,Millwall!$AH129:$AW129,0)","v":{"$error":"#N/A"}},{"$f":"MATCH(CW$3,Millwall!$AH129:$AW129,0)","v":{"$error":"#N/A"}},{"$f":"MATCH(CX$3,Millwall!$AH129:$AW129,0)","v":{"$error":"#N/A"}},{"$f":"MATCH(CY$3,Millwall!$AH129:$AW129,0)","v":{"$error":"#N/A"}},{"$f":"MATCH(CZ$3,Millwall!$AH129:$AW129,0)","v":{"$error":"#N/A"}},{"$f":"MATCH(DA$3,Millwall!$AH129:$AW129,0)","v":{"$error":"#N/A"}},{"$f":"MATCH(DB$3,Millwall!$AH129:$AW129,0)","v":{"$error":"#N/A"}},{"$f":"MATCH(DC$3,Millwall!$AH129:$AW129,0)","v":{"$error":"#N/A"}},{"$f":"MATCH(DD$3,Millwall!$AH129:$AW129,0)","v":{"$error":"#N/A"}},{"$f":"MATCH(DE$3,Millwall!$AH129:$AW129,0)","v":{"$error":"#N/A"}},{"$f":"MATCH(DF$3,Millwall!$AH129:$AW129,0)","v":{"$error":"#N/A"}},{"$f":"MATCH(DG$3,Millwall!$AH129:$AW129,0)","v":{"$error":"#N/A"}},{"$f":"MATCH(DH$3,Millwall!$AH129:$AW129,0)","v":{"$error":"#N/A"}},{"$f":"MATCH(DI$3,Millwall!$AH129:$AW129,0)","v":{"$error":"#N/A"}},{"$f":"MATCH(DJ$3,Millwall!$AH129:$AW129,0)","v":{"$error":"#N/A"}},{"$f":"MATCH(DK$3,Millwall!$AH129:$AW129,0)","v":{"$error":"#N/A"}},{"$f":"MATCH(DL$3,Millwall!$AH129:$AW129,0)","v":{"$error":"#N/A"}},{"$f":"MATCH(DM$3,Millwall!$AH129:$AW129,0)","v":{"$error":"#N/A"}},{"$f":"MATCH(DN$3,Millwall!$AH129:$AW129,0)","v":{"$error":"#N/A"}},{"$f":"MATCH(DO$3,Millwall!$AH129:$AW129,0)","v":{"$error":"#N/A"}},{"$f":"MATCH(DP$3,Millwall!$AH129:$AW129,0)","v":{"$error":"#N/A"}},{"$f":"MATCH(DQ$3,Millwall!$AH129:$AW129,0)","v":{"$error":"#N/A"}},{"$f":"MATCH(DR$3,Millwall!$AH129:$AW129,0)","v":{"$error":"#N/A"}},{"$f":"MATCH(DS$3,Millwall!$AH129:$AW129,0)","v":{"$error":"#N/A"}},{"$f":"MATCH(DT$3,Millwall!$AH129:$AW129,0)","v":{"$error":"#N/A"}},{"$f":"MATCH(DU$3,Millwall!$AH129:$AW129,0)","v":{"$error":"#N/A"}},{"$f":"MATCH(DV$3,Millwall!$AH129:$AW129,0)","v":{"$error":"#N/A"}},{"$f":"MATCH(DW$3,Millwall!$AH129:$AW129,0)","v":{"$error":"#N/A"}},{"$f":"MATCH(DX$3,Millwall!$AH129:$AW129,0)","v":{"$error":"#N/A"}},{"$f":"MATCH(DY$3,Millwall!$AH129:$AW129,0)","v":{"$error":"#N/A"}},{"$f":"MATCH(DZ$3,Millwall!$AH129:$AW129,0)","v":{"$error":"#N/A"}},{"$f":"MATCH(EA$3,Millwall!$AH129:$AW129,0)","v":{"$error":"#N/A"}},null,null,{"$f":"MATCH(ED$3,Millwall!$AH129:$AW129,0)","v":{"$error":"#N/A"}},{"$f":"MATCH(EE$3,Millwall!$AH129:$AW129,0)","v":{"$error":"#N/A"}},{"$f":"MATCH(EF$3,Millwall!$AH129:$AW129,0)","v":{"$error":"#N/A"}},{"$f":"MATCH(EG$3,Millwall!$AH129:$AW129,0)","v":{"$error":"#N/A"}},{"$f":"MATCH(EH$3,Millwall!$AH129:$AW129,0)","v":{"$error":"#N/A"}},{"$f":"MATCH(EI$3,Millwall!$AH129:$AW129,0)","v":{"$error":"#N/A"}},{"$f":"MATCH(EJ$3,Millwall!$AH129:$AW129,0)","v":{"$error":"#N/A"}},{"$f":"MATCH(EK$3,Millwall!$AH129:$AW129,0)","v":{"$error":"#N/A"}},{"$f":"MATCH(EL$3,Millwall!$AH129:$AW129,0)","v":{"$error":"#N/A"}},{"$f":"MATCH(EM$3,Millwall!$AH129:$AW129,0)","v":{"$error":"#N/A"}},{"$f":"MATCH(EN$3,Millwall!$AH129:$AW129,0)","v":{"$error":"#N/A"}},{"$f":"MATCH(EO$3,Millwall!$AH129:$AW129,0)","v":{"$error":"#N/A"}},{"$f":"MATCH(EP$3,Millwall!$AH129:$AW129,0)","v":{"$error":"#N/A"}},{"$f":"MATCH(EQ$3,Millwall!$AH129:$AW129,0)","v":{"$error":"#N/A"}},{"$f":"MATCH(ER$3,Millwall!$AH129:$AW129,0)","v":{"$error":"#N/A"}},{"$f":"MATCH(ES$3,Millwall!$AH129:$AW129,0)","v":{"$error":"#N/A"}},{"$f":"MATCH(ET$3,Millwall!$AH129:$AW129,0)","v":{"$error":"#N/A"}},{"$f":"MATCH(EU$3,Millwall!$AH129:$AW129,0)","v":{"$error":"#N/A"}},{"$f":"MATCH(EV$3,Millwall!$AH129:$AW129,0)","v":{"$error":"#N/A"}},{"$f":"MATCH(EW$3,Millwall!$AH129:$AW129,0)","v":{"$error":"#N/A"}},{"$f":"MATCH(EX$3,Millwall!$AH129:$AW129,0)","v":{"$error":"#N/A"}},{"$f":"MATCH(EY$3,Millwall!$AH129:$AW129,0)","v":{"$error":"#N/A"}},{"$f":"MATCH(EZ$3,Millwall!$AH129:$AW129,0)","v":{"$error":"#N/A"}},{"$f":"MATCH(FA$3,Millwall!$AH129:$AW129,0)","v":{"$error":"#N/A"}},{"$f":"MATCH(FB$3,Millwall!$AH129:$AW129,0)","v":{"$error":"#N/A"}},{"$f":"MATCH(FC$3,Millwall!$AH129:$AW129,0)","v":{"$error":"#N/A"}},{"$f":"MATCH(FD$3,Millwall!$AH129:$AW129,0)","v":{"$error":"#N/A"}},{"$f":"MATCH(FE$3,Millwall!$AH129:$AW129,0)","v":{"$error":"#N/A"}},{"$f":"MATCH(FF$3,Millwall!$AH129:$AW129,0)","v":{"$error":"#N/A"}},{"$f":"MATCH(FG$3,Millwall!$AH129:$AW129,0)","v":{"$error":"#N/A"}},{"$f":"MATCH(FH$3,Millwall!$AH129:$AW129,0)","v":{"$error":"#N/A"}},{"$f":"MATCH(FI$3,Millwall!$AH129:$AW129,0)","v":{"$error":"#N/A"}},{"$f":"MATCH(FJ$3,Millwall!$AH129:$AW129,0)","v":{"$error":"#N/A"}},{"$f":"MATCH(FK$3,Millwall!$AH129:$AW129,0)","v":{"$error":"#N/A"}},{"$f":"MATCH(FL$3,Millwall!$AH129:$AW129,0)","v":{"$error":"#N/A"}},{"$f":"MATCH(FM$3,Millwall!$AH129:$AW129,0)","v":{"$error":"#N/A"}},{"$f":"MATCH(FN$3,Millwall!$AH129:$AW129,0)","v":{"$error":"#N/A"}},{"$f":"MATCH(FO$3,Millwall!$AH129:$AW129,0)","v":{"$error":"#N/A"}}]
[null,null,1,null,null,{"$f":"Millwall!AD130","v":"00:00:00"},null,{"$f":"Millwall!AE130","v":"00:00:00"},{"$f":"Millwall!AF130","v":"00:00:00"},{"$f":"Millwall!AG130","v":0},{"$f":"MATCH(K$4,Millwall!$AH130:$AW130,0)","v":{"$error":"#N/A"}},{"$f":"MATCH(L$4,Millwall!$AH130:$AW130,0)","v":{"$error":"#N/A"}},{"$f":"MATCH(M$4,Millwall!$AH130:$AW130,0)","v":{"$error":"#N/A"}},{"$f":"MATCH(N$4,Millwall!$AH130:$AW130,0)","v":{"$error":"#N/A"}},{"$f":"MATCH(O$4,Millwall!$AH130:$AW130,0)","v":{"$error":"#N/A"}},{"$f":"MATCH(P$4,Millwall!$AH130:$AW130,0)","v":{"$error":"#N/A"}},{"$f":"MATCH(Q$4,Millwall!$AH130:$AW130,0)","v":{"$error":"#N/A"}},{"$f":"MATCH(R$4,Millwall!$AH130:$AW130,0)","v":{"$error":"#N/A"}},{"$f":"MATCH(S$4,Millwall!$AH130:$AW130,0)","v":{"$error":"#N/A"}},{"$f":"MATCH(T$4,Millwall!$AH130:$AW130,0)","v":{"$error":"#N/A"}},{"$f":"MATCH(U$4,Millwall!$AH130:$AW130,0)","v":{"$error":"#N/A"}},{"$f":"MATCH(V$4,Millwall!$AH130:$AW130,0)","v":{"$error":"#N/A"}},{"$f":"MATCH(W$4,Millwall!$AH130:$AW130,0)","v":{"$error":"#N/A"}},{"$f":"MATCH(X$4,Millwall!$AH130:$AW130,0)","v":{"$error":"#N/A"}},{"$f":"MATCH(Y$4,Millwall!$AH130:$AW130,0)","v":{"$error":"#N/A"}},{"$f":"MATCH(Z$4,Millwall!$AH130:$AW130,0)","v":{"$error":"#N/A"}},{"$f":"MATCH(AA$4,Millwall!$AH130:$AW130,0)","v":{"$error":"#N/A"}},{"$f":"MATCH(AB$4,Millwall!$AH130:$AW130,0)","v":{"$error":"#N/A"}},{"$f":"MATCH(AC$4,Millwall!$AH130:$AW130,0)","v":{"$error":"#N/A"}},{"$f":"MATCH(AD$4,Millwall!$AH130:$AW130,0)","v":{"$error":"#N/A"}},{"$f":"MATCH(AE$4,Millwall!$AH130:$AW130,0)","v":{"$error":"#N/A"}},{"$f":"MATCH(AF$4,Millwall!$AH130:$AW130,0)","v":{"$error":"#N/A"}},{"$f":"MATCH(AG$4,Millwall!$AH130:$AW130,0)","v":{"$error":"#N/A"}},{"$f":"MATCH(AH$4,Millwall!$AH130:$AW130,0)","v":{"$error":"#N/A"}},{"$f":"MATCH(AI$4,Millwall!$AH130:$AW130,0)","v":{"$error":"#N/A"}},{"$f":"MATCH(AJ$4,Millwall!$AH130:$AW130,0)","v":{"$error":"#N/A"}},{"$f":"MATCH(AK$4,Millwall!$AH130:$AW130,0)","v":{"$error":"#N/A"}},{"$f":"MATCH(AL$4,Millwall!$AH130:$AW130,0)","v":{"$error":"#N/A"}},{"$f":"MATCH(AM$4,Millwall!$AH130:$AW130,0)","v":{"$error":"#N/A"}},{"$f":"MATCH(AN$4,Millwall!$AH130:$AW130,0)","v":{"$error":"#N/A"}},{"$f":"MATCH(AO$4,Millwall!$AH130:$AW130,0)","v":{"$error":"#N/A"}},{"$f":"MATCH(AP$4,Millwall!$AH130:$AW130,0)","v":{"$error":"#N/A"}},{"$f":"MATCH(AQ$4,Millwall!$AH130:$AW130,0)","v":{"$error":"#N/A"}},{"$f":"MATCH(AR$4,Millwall!$AH130:$AW130,0)","v":{"$error":"#N/A"}},{"$f":"MATCH(AS$4,Millwall!$AH130:$AW130,0)","v":{"$error":"#N/A"}},{"$f":"MATCH(AT$4,Millwall!$AH130:$AW130,0)","v":{"$error":"#N/A"}},{"$f":"MATCH(AU$4,Millwall!$AH130:$AW130,0)","v":{"$error":"#N/A"}},{"$f":"MATCH(AV$4,Millwall!$AH130:$AW130,0)","v":{"$error":"#N/A"}},null,null,null,null,null,{"$f":"MATCH(BB$3,Millwall!$AH130:$AW130,0)","v":{"$error":"#N/A"}},{"$f":"MATCH(BC$3,Millwall!$AH130:$AW130,0)","v":{"$error":"#N/A"}},{"$f":"MATCH(BD$3,Millwall!$AH130:$AW130,0)","v":{"$error":"#N/A"}},{"$f":"MATCH(BE$3,Millwall!$AH130:$AW130,0)","v":{"$error":"#N/A"}},{"$f":"MATCH(BF$3,Millwall!$AH130:$AW130,0)","v":{"$error":"#N/A"}},{"$f":"MATCH(BG$3,Millwall!$AH130:$AW130,0)","v":{"$error":"#N/A"}},{"$f":"MATCH(BH$3,Millwall!$AH130:$AW130,0)","v":{"$error":"#N/A"}},{"$f":"MATCH(BI$3,Millwall!$AH130:$AW130,0)","v":{"$error":"#N/A"}},{"$f":"MATCH(BJ$3,Millwall!$AH130:$AW130,0)","v":{"$error":"#N/A"}},{"$f":"MATCH(BK$3,Millwall!$AH130:$AW130,0)","v":{"$error":"#N/A"}},{"$f":"MATCH(BL$3,Millwall!$AH130:$AW130,0)","v":{"$error":"#N/A"}},{"$f":"MATCH(BM$3,Millwall!$AH130:$AW130,0)","v":{"$error":"#N/A"}},{"$f":"MATCH(BN$3,Millwall!$AH130:$AW130,0)","v":{"$error":"#N/A"}},{"$f":"MATCH(BO$3,Millwall!$AH130:$AW130,0)","v":{"$error":"#N/A"}},{"$f":"MATCH(BP$3,Millwall!$AH130:$AW130,0)","v":{"$error":"#N/A"}},{"$f":"MATCH(BQ$3,Millwall!$AH130:$AW130,0)","v":{"$error":"#N/A"}},{"$f":"MATCH(BR$3,Millwall!$AH130:$AW130,0)","v":{"$error":"#N/A"}},{"$f":"MATCH(BS$3,Millwall!$AH130:$AW130,0)","v":{"$error":"#N/A"}},{"$f":"MATCH(BT$3,Millwall!$AH130:$AW130,0)","v":{"$error":"#N/A"}},{"$f":"MATCH(BU$3,Millwall!$AH130:$AW130,0)","v":{"$error":"#N/A"}},{"$f":"MATCH(BV$3,Millwall!$AH130:$AW130,0)","v":{"$error":"#N/A"}},{"$f":"MATCH(BW$3,Millwall!$AH130:$AW130,0)","v":{"$error":"#N/A"}},{"$f":"MATCH(BX$3,Millwall!$AH130:$AW130,0)","v":{"$error":"#N/A"}},{"$f":"MATCH(BY$3,Millwall!$AH130:$AW130,0)","v":{"$error":"#N/A"}},{"$f":"MATCH(BZ$3,Millwall!$AH130:$AW130,0)","v":{"$error":"#N/A"}},{"$f":"MATCH(CA$3,Millwall!$AH130:$AW130,0)","v":{"$error":"#N/A"}},{"$f":"MATCH(CB$3,Millwall!$AH130:$AW130,0)","v":{"$error":"#N/A"}},{"$f":"MATCH(CC$3,Millwall!$AH130:$AW130,0)","v":{"$error":"#N/A"}},{"$f":"MATCH(CD$3,Millwall!$AH130:$AW130,0)","v":{"$error":"#N/A"}},{"$f":"MATCH(CE$3,Millwall!$AH130:$AW130,0)","v":{"$error":"#N/A"}},{"$f":"MATCH(CF$3,Millwall!$AH130:$AW130,0)","v":{"$error":"#N/A"}},{"$f":"MATCH(CG$3,Millwall!$AH130:$AW130,0)","v":{"$error":"#N/A"}},{"$f":"MATCH(CH$3,Millwall!$AH130:$AW130,0)","v":{"$error":"#N/A"}},{"$f":"MATCH(CI$3,Millwall!$AH130:$AW130,0)","v":{"$error":"#N/A"}},{"$f":"MATCH(CJ$3,Millwall!$AH130:$AW130,0)","v":{"$error":"#N/A"}},{"$f":"MATCH(CK$3,Millwall!$AH130:$AW130,0)","v":{"$error":"#N/A"}},{"$f":"MATCH(CL$3,Millwall!$AH130:$AW130,0)","v":{"$error":"#N/A"}},{"$f":"MATCH(CM$3,Millwall!$AH130:$AW130,0)","v":{"$error":"#N/A"}},null,null,{"$f":"MATCH(CP$3,Millwall!$AH130:$AW130,0)","v":{"$error":"#N/A"}},{"$f":"MATCH(CQ$3,Millwall!$AH130:$AW130,0)","v":{"$error":"#N/A"}},{"$f":"MATCH(CR$3,Millwall!$AH130:$AW130,0)","v":{"$error":"#N/A"}},{"$f":"MATCH(CS$3,Millwall!$AH130:$AW130,0)","v":{"$error":"#N/A"}},{"$f":"MATCH(CT$3,Millwall!$AH130:$AW130,0)","v":{"$error":"#N/A"}},{"$f":"MATCH(CU$3,Millwall!$AH130:$AW130,0)","v":{"$error":"#N/A"}},{"$f":"MATCH(CV$3,Millwall!$AH130:$AW130,0)","v":{"$error":"#N/A"}},{"$f":"MATCH(CW$3,Millwall!$AH130:$AW130,0)","v":{"$error":"#N/A"}},{"$f":"MATCH(CX$3,Millwall!$AH130:$AW130,0)","v":{"$error":"#N/A"}},{"$f":"MATCH(CY$3,Millwall!$AH130:$AW130,0)","v":{"$error":"#N/A"}},{"$f":"MATCH(CZ$3,Millwall!$AH130:$AW130,0)","v":{"$error":"#N/A"}},{"$f":"MATCH(DA$3,Millwall!$AH130:$AW130,0)","v":{"$error":"#N/A"}},{"$f":"MATCH(DB$3,Millwall!$AH130:$AW130,0)","v":{"$error":"#N/A"}},{"$f":"MATCH(DC$3,Millwall!$AH130:$AW130,0)","v":{"$error":"#N/A"}},{"$f":"MATCH(DD$3,Millwall!$AH130:$AW130,0)","v":{"$error":"#N/A"}},{"$f":"MATCH(DE$3,Millwall!$AH130:$AW130,0)","v":{"$error":"#N/A"}},{"$f":"MATCH(DF$3,Millwall!$AH130:$AW130,0)","v":{"$error":"#N/A"}},{"$f":"MATCH(DG$3,Millwall!$AH130:$AW130,0)","v":{"$error":"#N/A"}},{"$f":"MATCH(DH$3,Millwall!$AH130:$AW130,0)","v":{"$error":"#N/A"}},{"$f":"MATCH(DI$3,Millwall!$AH130:$AW130,0)","v":{"$error":"#N/A"}},{"$f":"MATCH(DJ$3,Millwall!$AH130:$AW130,0)","v":{"$error":"#N/A"}},{"$f":"MATCH(DK$3,Millwall!$AH130:$AW130,0)","v":{"$error":"#N/A"}},{"$f":"MATCH(DL$3,Millwall!$AH130:$AW130,0)","v":{"$error":"#N/A"}},{"$f":"MATCH(DM$3,Millwall!$AH130:$AW130,0)","v":{"$error":"#N/A"}},{"$f":"MATCH(DN$3,Millwall!$AH130:$AW130,0)","v":{"$error":"#N/A"}},{"$f":"MATCH(DO$3,Millwall!$AH130:$AW130,0)","v":{"$error":"#N/A"}},{"$f":"MATCH(DP$3,Millwall!$AH130:$AW130,0)","v":{"$error":"#N/A"}},{"$f":"MATCH(DQ$3,Millwall!$AH130:$AW130,0)","v":{"$error":"#N/A"}},{"$f":"MATCH(DR$3,Millwall!$AH130:$AW130,0)","v":{"$error":"#N/A"}},{"$f":"MATCH(DS$3,Millwall!$AH130:$AW130,0)","v":{"$error":"#N/A"}},{"$f":"MATCH(DT$3,Millwall!$AH130:$AW130,0)","v":{"$error":"#N/A"}},{"$f":"MATCH(DU$3,Millwall!$AH130:$AW130,0)","v":{"$error":"#N/A"}},{"$f":"MATCH(DV$3,Millwall!$AH130:$AW130,0)","v":{"$error":"#N/A"}},{"$f":"MATCH(DW$3,Millwall!$AH130:$AW130,0)","v":{"$error":"#N/A"}},{"$f":"MATCH(DX$3,Millwall!$AH130:$AW130,0)","v":{"$error":"#N/A"}},{"$f":"MATCH(DY$3,Millwall!$AH130:$AW130,0)","v":{"$error":"#N/A"}},{"$f":"MATCH(DZ$3,Millwall!$AH130:$AW130,0)","v":{"$error":"#N/A"}},{"$f":"MATCH(EA$3,Millwall!$AH130:$AW130,0)","v":{"$error":"#N/A"}},null,null,{"$f":"MATCH(ED$3,Millwall!$AH130:$AW130,0)","v":{"$error":"#N/A"}},{"$f":"MATCH(EE$3,Millwall!$AH130:$AW130,0)","v":{"$error":"#N/A"}},{"$f":"MATCH(EF$3,Millwall!$AH130:$AW130,0)","v":{"$error":"#N/A"}},{"$f":"MATCH(EG$3,Millwall!$AH130:$AW130,0)","v":{"$error":"#N/A"}},{"$f":"MATCH(EH$3,Millwall!$AH130:$AW130,0)","v":{"$error":"#N/A"}},{"$f":"MATCH(EI$3,Millwall!$AH130:$AW130,0)","v":{"$error":"#N/A"}},{"$f":"MATCH(EJ$3,Millwall!$AH130:$AW130,0)","v":{"$error":"#N/A"}},{"$f":"MATCH(EK$3,Millwall!$AH130:$AW130,0)","v":{"$error":"#N/A"}},{"$f":"MATCH(EL$3,Millwall!$AH130:$AW130,0)","v":{"$error":"#N/A"}},{"$f":"MATCH(EM$3,Millwall!$AH130:$AW130,0)","v":{"$error":"#N/A"}},{"$f":"MATCH(EN$3,Millwall!$AH130:$AW130,0)","v":{"$error":"#N/A"}},{"$f":"MATCH(EO$3,Millwall!$AH130:$AW130,0)","v":{"$error":"#N/A"}},{"$f":"MATCH(EP$3,Millwall!$AH130:$AW130,0)","v":{"$error":"#N/A"}},{"$f":"MATCH(EQ$3,Millwall!$AH130:$AW130,0)","v":{"$error":"#N/A"}},{"$f":"MATCH(ER$3,Millwall!$AH130:$AW130,0)","v":{"$error":"#N/A"}},{"$f":"MATCH(ES$3,Millwall!$AH130:$AW130,0)","v":{"$error":"#N/A"}},{"$f":"MATCH(ET$3,Millwall!$AH130:$AW130,0)","v":{"$error":"#N/A"}},{"$f":"MATCH(EU$3,Millwall!$AH130:$AW130,0)","v":{"$error":"#N/A"}},{"$f":"MATCH(EV$3,Millwall!$AH130:$AW130,0)","v":{"$error":"#N/A"}},{"$f":"MATCH(EW$3,Millwall!$AH130:$AW130,0)","v":{"$error":"#N/A"}},{"$f":"MATCH(EX$3,Millwall!$AH130:$AW130,0)","v":{"$error":"#N/A"}},{"$f":"MATCH(EY$3,Millwall!$AH130:$AW130,0)","v":{"$error":"#N/A"}},{"$f":"MATCH(EZ$3,Millwall!$AH130:$AW130,0)","v":{"$error":"#N/A"}},{"$f":"MATCH(FA$3,Millwall!$AH130:$AW130,0)","v":{"$error":"#N/A"}},{"$f":"MATCH(FB$3,Millwall!$AH130:$AW130,0)","v":{"$error":"#N/A"}},{"$f":"MATCH(FC$3,Millwall!$AH130:$AW130,0)","v":{"$error":"#N/A"}},{"$f":"MATCH(FD$3,Millwall!$AH130:$AW130,0)","v":{"$error":"#N/A"}},{"$f":"MATCH(FE$3,Millwall!$AH130:$AW130,0)","v":{"$error":"#N/A"}},{"$f":"MATCH(FF$3,Millwall!$AH130:$AW130,0)","v":{"$error":"#N/A"}},{"$f":"MATCH(FG$3,Millwall!$AH130:$AW130,0)","v":{"$error":"#N/A"}},{"$f":"MATCH(FH$3,Millwall!$AH130:$AW130,0)","v":{"$error":"#N/A"}},{"$f":"MATCH(FI$3,Millwall!$AH130:$AW130,0)","v":{"$error":"#N/A"}},{"$f":"MATCH(FJ$3,Millwall!$AH130:$AW130,0)","v":{"$error":"#N/A"}},{"$f":"MATCH(FK$3,Millwall!$AH130:$AW130,0)","v":{"$error":"#N/A"}},{"$f":"MATCH(FL$3,Millwall!$AH130:$AW130,0)","v":{"$error":"#N/A"}},{"$f":"MATCH(FM$3,Millwall!$AH130:$AW130,0)","v":{"$error":"#N/A"}},{"$f":"MATCH(FN$3,Millwall!$AH130:$AW130,0)","v":{"$error":"#N/A"}},{"$f":"MATCH(FO$3,Millwall!$AH130:$AW130,0)","v":{"$error":"#N/A"}}]
[null,null,1,null,null,{"$f":"Millwall!AD131","v":"00:00:00"},null,{"$f":"Millwall!AE131","v":"00:00:00"},{"$f":"Millwall!AF131","v":"00:00:00"},{"$f":"Millwall!AG131","v":0},{"$f":"MATCH(K$4,Millwall!$AH131:$AW131,0)","v":{"$error":"#N/A"}},{"$f":"MATCH(L$4,Millwall!$AH131:$AW131,0)","v":{"$error":"#N/A"}},{"$f":"MATCH(M$4,Millwall!$AH131:$AW131,0)","v":{"$error":"#N/A"}},{"$f":"MATCH(N$4,Millwall!$AH131:$AW131,0)","v":{"$error":"#N/A"}},{"$f":"MATCH(O$4,Millwall!$AH131:$AW131,0)","v":{"$error":"#N/A"}},{"$f":"MATCH(P$4,Millwall!$AH131:$AW131,0)","v":{"$error":"#N/A"}},{"$f":"MATCH(Q$4,Millwall!$AH131:$AW131,0)","v":{"$error":"#N/A"}},{"$f":"MATCH(R$4,Millwall!$AH131:$AW131,0)","v":{"$error":"#N/A"}},{"$f":"MATCH(S$4,Millwall!$AH131:$AW131,0)","v":{"$error":"#N/A"}},{"$f":"MATCH(T$4,Millwall!$AH131:$AW131,0)","v":{"$error":"#N/A"}},{"$f":"MATCH(U$4,Millwall!$AH131:$AW131,0)","v":{"$error":"#N/A"}},{"$f":"MATCH(V$4,Millwall!$AH131:$AW131,0)","v":{"$error":"#N/A"}},{"$f":"MATCH(W$4,Millwall!$AH131:$AW131,0)","v":{"$error":"#N/A"}},{"$f":"MATCH(X$4,Millwall!$AH131:$AW131,0)","v":{"$error":"#N/A"}},{"$f":"MATCH(Y$4,Millwall!$AH131:$AW131,0)","v":{"$error":"#N/A"}},{"$f":"MATCH(Z$4,Millwall!$AH131:$AW131,0)","v":{"$error":"#N/A"}},{"$f":"MATCH(AA$4,Millwall!$AH131:$AW131,0)","v":{"$error":"#N/A"}},{"$f":"MATCH(AB$4,Millwall!$AH131:$AW131,0)","v":{"$error":"#N/A"}},{"$f":"MATCH(AC$4,Millwall!$AH131:$AW131,0)","v":{"$error":"#N/A"}},{"$f":"MATCH(AD$4,Millwall!$AH131:$AW131,0)","v":{"$error":"#N/A"}},{"$f":"MATCH(AE$4,Millwall!$AH131:$AW131,0)","v":{"$error":"#N/A"}},{"$f":"MATCH(AF$4,Millwall!$AH131:$AW131,0)","v":{"$error":"#N/A"}},{"$f":"MATCH(AG$4,Millwall!$AH131:$AW131,0)","v":{"$error":"#N/A"}},{"$f":"MATCH(AH$4,Millwall!$AH131:$AW131,0)","v":{"$error":"#N/A"}},{"$f":"MATCH(AI$4,Millwall!$AH131:$AW131,0)","v":{"$error":"#N/A"}},{"$f":"MATCH(AJ$4,Millwall!$AH131:$AW131,0)","v":{"$error":"#N/A"}},{"$f":"MATCH(AK$4,Millwall!$AH131:$AW131,0)","v":{"$error":"#N/A"}},{"$f":"MATCH(AL$4,Millwall!$AH131:$AW131,0)","v":{"$error":"#N/A"}},{"$f":"MATCH(AM$4,Millwall!$AH131:$AW131,0)","v":{"$error":"#N/A"}},{"$f":"MATCH(AN$4,Millwall!$AH131:$AW131,0)","v":{"$error":"#N/A"}},{"$f":"MATCH(AO$4,Millwall!$AH131:$AW131,0)","v":{"$error":"#N/A"}},{"$f":"MATCH(AP$4,Millwall!$AH131:$AW131,0)","v":{"$error":"#N/A"}},{"$f":"MATCH(AQ$4,Millwall!$AH131:$AW131,0)","v":{"$error":"#N/A"}},{"$f":"MATCH(AR$4,Millwall!$AH131:$AW131,0)","v":{"$error":"#N/A"}},{"$f":"MATCH(AS$4,Millwall!$AH131:$AW131,0)","v":{"$error":"#N/A"}},{"$f":"MATCH(AT$4,Millwall!$AH131:$AW131,0)","v":{"$error":"#N/A"}},{"$f":"MATCH(AU$4,Millwall!$AH131:$AW131,0)","v":{"$error":"#N/A"}},{"$f":"MATCH(AV$4,Millwall!$AH131:$AW131,0)","v":{"$error":"#N/A"}},null,null,null,null,null,{"$f":"MATCH(BB$3,Millwall!$AH131:$AW131,0)","v":{"$error":"#N/A"}},{"$f":"MATCH(BC$3,Millwall!$AH131:$AW131,0)","v":{"$error":"#N/A"}},{"$f":"MATCH(BD$3,Millwall!$AH131:$AW131,0)","v":{"$error":"#N/A"}},{"$f":"MATCH(BE$3,Millwall!$AH131:$AW131,0)","v":{"$error":"#N/A"}},{"$f":"MATCH(BF$3,Millwall!$AH131:$AW131,0)","v":{"$error":"#N/A"}},{"$f":"MATCH(BG$3,Millwall!$AH131:$AW131,0)","v":{"$error":"#N/A"}},{"$f":"MATCH(BH$3,Millwall!$AH131:$AW131,0)","v":{"$error":"#N/A"}},{"$f":"MATCH(BI$3,Millwall!$AH131:$AW131,0)","v":{"$error":"#N/A"}},{"$f":"MATCH(BJ$3,Millwall!$AH131:$AW131,0)","v":{"$error":"#N/A"}},{"$f":"MATCH(BK$3,Millwall!$AH131:$AW131,0)","v":{"$error":"#N/A"}},{"$f":"MATCH(BL$3,Millwall!$AH131:$AW131,0)","v":{"$error":"#N/A"}},{"$f":"MATCH(BM$3,Millwall!$AH131:$AW131,0)","v":{"$error":"#N/A"}},{"$f":"MATCH(BN$3,Millwall!$AH131:$AW131,0)","v":{"$error":"#N/A"}},{"$f":"MATCH(BO$3,Millwall!$AH131:$AW131,0)","v":{"$error":"#N/A"}},{"$f":"MATCH(BP$3,Millwall!$AH131:$AW131,0)","v":{"$error":"#N/A"}},{"$f":"MATCH(BQ$3,Millwall!$AH131:$AW131,0)","v":{"$error":"#N/A"}},{"$f":"MATCH(BR$3,Millwall!$AH131:$AW131,0)","v":{"$error":"#N/A"}},{"$f":"MATCH(BS$3,Millwall!$AH131:$AW131,0)","v":{"$error":"#N/A"}},{"$f":"MATCH(BT$3,Millwall!$AH131:$AW131,0)","v":{"$error":"#N/A"}},{"$f":"MATCH(BU$3,Millwall!$AH131:$AW131,0)","v":{"$error":"#N/A"}},{"$f":"MATCH(BV$3,Millwall!$AH131:$AW131,0)","v":{"$error":"#N/A"}},{"$f":"MATCH(BW$3,Millwall!$AH131:$AW131,0)","v":{"$error":"#N/A"}},{"$f":"MATCH(BX$3,Millwall!$AH131:$AW131,0)","v":{"$error":"#N/A"}},{"$f":"MATCH(BY$3,Millwall!$AH131:$AW131,0)","v":{"$error":"#N/A"}},{"$f":"MATCH(BZ$3,Millwall!$AH131:$AW131,0)","v":{"$error":"#N/A"}},{"$f":"MATCH(CA$3,Millwall!$AH131:$AW131,0)","v":{"$error":"#N/A"}},{"$f":"MATCH(CB$3,Millwall!$AH131:$AW131,0)","v":{"$error":"#N/A"}},{"$f":"MATCH(CC$3,Millwall!$AH131:$AW131,0)","v":{"$error":"#N/A"}},{"$f":"MATCH(CD$3,Millwall!$AH131:$AW131,0)","v":{"$error":"#N/A"}},{"$f":"MATCH(CE$3,Millwall!$AH131:$AW131,0)","v":{"$error":"#N/A"}},{"$f":"MATCH(CF$3,Millwall!$AH131:$AW131,0)","v":{"$error":"#N/A"}},{"$f":"MATCH(CG$3,Millwall!$AH131:$AW131,0)","v":{"$error":"#N/A"}},{"$f":"MATCH(CH$3,Millwall!$AH131:$AW131,0)","v":{"$error":"#N/A"}},{"$f":"MATCH(CI$3,Millwall!$AH131:$AW131,0)","v":{"$error":"#N/A"}},{"$f":"MATCH(CJ$3,Millwall!$AH131:$AW131,0)","v":{"$error":"#N/A"}},{"$f":"MATCH(CK$3,Millwall!$AH131:$AW131,0)","v":{"$error":"#N/A"}},{"$f":"MATCH(CL$3,Millwall!$AH131:$AW131,0)","v":{"$error":"#N/A"}},{"$f":"MATCH(CM$3,Millwall!$AH131:$AW131,0)","v":{"$error":"#N/A"}},null,null,{"$f":"MATCH(CP$3,Millwall!$AH131:$AW131,0)","v":{"$error":"#N/A"}},{"$f":"MATCH(CQ$3,Millwall!$AH131:$AW131,0)","v":{"$error":"#N/A"}},{"$f":"MATCH(CR$3,Millwall!$AH131:$AW131,0)","v":{"$error":"#N/A"}},{"$f":"MATCH(CS$3,Millwall!$AH131:$AW131,0)","v":{"$error":"#N/A"}},{"$f":"MATCH(CT$3,Millwall!$AH131:$AW131,0)","v":{"$error":"#N/A"}},{"$f":"MATCH(CU$3,Millwall!$AH131:$AW131,0)","v":{"$error":"#N/A"}},{"$f":"MATCH(CV$3,Millwall!$AH131:$AW131,0)","v":{"$error":"#N/A"}},{"$f":"MATCH(CW$3,Millwall!$AH131:$AW131,0)","v":{"$error":"#N/A"}},{"$f":"MATCH(CX$3,Millwall!$AH131:$AW131,0)","v":{"$error":"#N/A"}},{"$f":"MATCH(CY$3,Millwall!$AH131:$AW131,0)","v":{"$error":"#N/A"}},{"$f":"MATCH(CZ$3,Millwall!$AH131:$AW131,0)","v":{"$error":"#N/A"}},{"$f":"MATCH(DA$3,Millwall!$AH131:$AW131,0)","v":{"$error":"#N/A"}},{"$f":"MATCH(DB$3,Millwall!$AH131:$AW131,0)","v":{"$error":"#N/A"}},{"$f":"MATCH(DC$3,Millwall!$AH131:$AW131,0)","v":{"$error":"#N/A"}},{"$f":"MATCH(DD$3,Millwall!$AH131:$AW131,0)","v":{"$error":"#N/A"}},{"$f":"MATCH(DE$3,Millwall!$AH131:$AW131,0)","v":{"$error":"#N/A"}},{"$f":"MATCH(DF$3,Millwall!$AH131:$AW131,0)","v":{"$error":"#N/A"}},{"$f":"MATCH(DG$3,Millwall!$AH131:$AW131,0)","v":{"$error":"#N/A"}},{"$f":"MATCH(DH$3,Millwall!$AH131:$AW131,0)","v":{"$error":"#N/A"}},{"$f":"MATCH(DI$3,Millwall!$AH131:$AW131,0)","v":{"$error":"#N/A"}},{"$f":"MATCH(DJ$3,Millwall!$AH131:$AW131,0)","v":{"$error":"#N/A"}},{"$f":"MATCH(DK$3,Millwall!$AH131:$AW131,0)","v":{"$error":"#N/A"}},{"$f":"MATCH(DL$3,Millwall!$AH131:$AW131,0)","v":{"$error":"#N/A"}},{"$f":"MATCH(DM$3,Millwall!$AH131:$AW131,0)","v":{"$error":"#N/A"}},{"$f":"MATCH(DN$3,Millwall!$AH131:$AW131,0)","v":{"$error":"#N/A"}},{"$f":"MATCH(DO$3,Millwall!$AH131:$AW131,0)","v":{"$error":"#N/A"}},{"$f":"MATCH(DP$3,Millwall!$AH131:$AW131,0)","v":{"$error":"#N/A"}},{"$f":"MATCH(DQ$3,Millwall!$AH131:$AW131,0)","v":{"$error":"#N/A"}},{"$f":"MATCH(DR$3,Millwall!$AH131:$AW131,0)","v":{"$error":"#N/A"}},{"$f":"MATCH(DS$3,Millwall!$AH131:$AW131,0)","v":{"$error":"#N/A"}},{"$f":"MATCH(DT$3,Millwall!$AH131:$AW131,0)","v":{"$error":"#N/A"}},{"$f":"MATCH(DU$3,Millwall!$AH131:$AW131,0)","v":{"$error":"#N/A"}},{"$f":"MATCH(DV$3,Millwall!$AH131:$AW131,0)","v":{"$error":"#N/A"}},{"$f":"MATCH(DW$3,Millwall!$AH131:$AW131,0)","v":{"$error":"#N/A"}},{"$f":"MATCH(DX$3,Millwall!$AH131:$AW131,0)","v":{"$error":"#N/A"}},{"$f":"MATCH(DY$3,Millwall!$AH131:$AW131,0)","v":{"$error":"#N/A"}},{"$f":"MATCH(DZ$3,Millwall!$AH131:$AW131,0)","v":{"$error":"#N/A"}},{"$f":"MATCH(EA$3,Millwall!$AH131:$AW131,0)","v":{"$error":"#N/A"}},null,null,{"$f":"MATCH(ED$3,Millwall!$AH131:$AW131,0)","v":{"$error":"#N/A"}},{"$f":"MATCH(EE$3,Millwall!$AH131:$AW131,0)","v":{"$error":"#N/A"}},{"$f":"MATCH(EF$3,Millwall!$AH131:$AW131,0)","v":{"$error":"#N/A"}},{"$f":"MATCH(EG$3,Millwall!$AH131:$AW131,0)","v":{"$error":"#N/A"}},{"$f":"MATCH(EH$3,Millwall!$AH131:$AW131,0)","v":{"$error":"#N/A"}},{"$f":"MATCH(EI$3,Millwall!$AH131:$AW131,0)","v":{"$error":"#N/A"}},{"$f":"MATCH(EJ$3,Millwall!$AH131:$AW131,0)","v":{"$error":"#N/A"}},{"$f":"MATCH(EK$3,Millwall!$AH131:$AW131,0)","v":{"$error":"#N/A"}},{"$f":"MATCH(EL$3,Millwall!$AH131:$AW131,0)","v":{"$error":"#N/A"}},{"$f":"MATCH(EM$3,Millwall!$AH131:$AW131,0)","v":{"$error":"#N/A"}},{"$f":"MATCH(EN$3,Millwall!$AH131:$AW131,0)","v":{"$error":"#N/A"}},{"$f":"MATCH(EO$3,Millwall!$AH131:$AW131,0)","v":{"$error":"#N/A"}},{"$f":"MATCH(EP$3,Millwall!$AH131:$AW131,0)","v":{"$error":"#N/A"}},{"$f":"MATCH(EQ$3,Millwall!$AH131:$AW131,0)","v":{"$error":"#N/A"}},{"$f":"MATCH(ER$3,Millwall!$AH131:$AW131,0)","v":{"$error":"#N/A"}},{"$f":"MATCH(ES$3,Millwall!$AH131:$AW131,0)","v":{"$error":"#N/A"}},{"$f":"MATCH(ET$3,Millwall!$AH131:$AW131,0)","v":{"$error":"#N/A"}},{"$f":"MATCH(EU$3,Millwall!$AH131:$AW131,0)","v":{"$error":"#N/A"}},{"$f":"MATCH(EV$3,Millwall!$AH131:$AW131,0)","v":{"$error":"#N/A"}},{"$f":"MATCH(EW$3,Millwall!$AH131:$AW131,0)","v":{"$error":"#N/A"}},{"$f":"MATCH(EX$3,Millwall!$AH131:$AW131,0)","v":{"$error":"#N/A"}},{"$f":"MATCH(EY$3,Millwall!$AH131:$AW131,0)","v":{"$error":"#N/A"}},{"$f":"MATCH(EZ$3,Millwall!$AH131:$AW131,0)","v":{"$error":"#N/A"}},{"$f":"MATCH(FA$3,Millwall!$AH131:$AW131,0)","v":{"$error":"#N/A"}},{"$f":"MATCH(FB$3,Millwall!$AH131:$AW131,0)","v":{"$error":"#N/A"}},{"$f":"MATCH(FC$3,Millwall!$AH131:$AW131,0)","v":{"$error":"#N/A"}},{"$f":"MATCH(FD$3,Millwall!$AH131:$AW131,0)","v":{"$error":"#N/A"}},{"$f":"MATCH(FE$3,Millwall!$AH131:$AW131,0)","v":{"$error":"#N/A"}},{"$f":"MATCH(FF$3,Millwall!$AH131:$AW131,0)","v":{"$error":"#N/A"}},{"$f":"MATCH(FG$3,Millwall!$AH131:$AW131,0)","v":{"$error":"#N/A"}},{"$f":"MATCH(FH$3,Millwall!$AH131:$AW131,0)","v":{"$error":"#N/A"}},{"$f":"MATCH(FI$3,Millwall!$AH131:$AW131,0)","v":{"$error":"#N/A"}},{"$f":"MATCH(FJ$3,Millwall!$AH131:$AW131,0)","v":{"$error":"#N/A"}},{"$f":"MATCH(FK$3,Millwall!$AH131:$AW131,0)","v":{"$error":"#N/A"}},{"$f":"MATCH(FL$3,Millwall!$AH131:$AW131,0)","v":{"$error":"#N/A"}},{"$f":"MATCH(FM$3,Millwall!$AH131:$AW131,0)","v":{"$error":"#N/A"}},{"$f":"MATCH(FN$3,Millwall!$AH131:$AW131,0)","v":{"$error":"#N/A"}},{"$f":"MATCH(FO$3,Millwall!$AH131:$AW131,0)","v":{"$error":"#N/A"}}]
[null,null,1,null,null,{"$f":"Millwall!AD132","v":"00:00:00"},null,{"$f":"Millwall!AE132","v":"00:00:00"},{"$f":"Millwall!AF132","v":"00:00:00"},{"$f":"Millwall!AG132","v":0},{"$f":"MATCH(K$4,Millwall!$AH132:$AW132,0)","v":{"$error":"#N/A"}},{"$f":"MATCH(L$4,Millwall!$AH132:$AW132,0)","v":{"$error":"#N/A"}},{"$f":"MATCH(M$4,Millwall!$AH132:$AW132,0)","v":{"$error":"#N/A"}},{"$f":"MATCH(N$4,Millwall!$AH132:$AW132,0)","v":{"$error":"#N/A"}},{"$f":"MATCH(O$4,Millwall!$AH132:$AW132,0)","v":{"$error":"#N/A"}},{"$f":"MATCH(P$4,Millwall!$AH132:$AW132,0)","v":{"$error":"#N/A"}},{"$f":"MATCH(Q$4,Millwall!$AH132:$AW132,0)","v":{"$error":"#N/A"}},{"$f":"MATCH(R$4,Millwall!$AH132:$AW132,0)","v":{"$error":"#N/A"}},{"$f":"MATCH(S$4,Millwall!$AH132:$AW132,0)","v":{"$error":"#N/A"}},{"$f":"MATCH(T$4,Millwall!$AH132:$AW132,0)","v":{"$error":"#N/A"}},{"$f":"MATCH(U$4,Millwall!$AH132:$AW132,0)","v":{"$error":"#N/A"}},{"$f":"MATCH(V$4,Millwall!$AH132:$AW132,0)","v":{"$error":"#N/A"}},{"$f":"MATCH(W$4,Millwall!$AH132:$AW132,0)","v":{"$error":"#N/A"}},{"$f":"MATCH(X$4,Millwall!$AH132:$AW132,0)","v":{"$error":"#N/A"}},{"$f":"MATCH(Y$4,Millwall!$AH132:$AW132,0)","v":{"$error":"#N/A"}},{"$f":"MATCH(Z$4,Millwall!$AH132:$AW132,0)","v":{"$error":"#N/A"}},{"$f":"MATCH(AA$4,Millwall!$AH132:$AW132,0)","v":{"$error":"#N/A"}},{"$f":"MATCH(AB$4,Millwall!$AH132:$AW132,0)","v":{"$error":"#N/A"}},{"$f":"MATCH(AC$4,Millwall!$AH132:$AW132,0)","v":{"$error":"#N/A"}},{"$f":"MATCH(AD$4,Millwall!$AH132:$AW132,0)","v":{"$error":"#N/A"}},{"$f":"MATCH(AE$4,Millwall!$AH132:$AW132,0)","v":{"$error":"#N/A"}},{"$f":"MATCH(AF$4,Millwall!$AH132:$AW132,0)","v":{"$error":"#N/A"}},{"$f":"MATCH(AG$4,Millwall!$AH132:$AW132,0)","v":{"$error":"#N/A"}},{"$f":"MATCH(AH$4,Millwall!$AH132:$AW132,0)","v":{"$error":"#N/A"}},{"$f":"MATCH(AI$4,Millwall!$AH132:$AW132,0)","v":{"$error":"#N/A"}},{"$f":"MATCH(AJ$4,Millwall!$AH132:$AW132,0)","v":{"$error":"#N/A"}},{"$f":"MATCH(AK$4,Millwall!$AH132:$AW132,0)","v":{"$error":"#N/A"}},{"$f":"MATCH(AL$4,Millwall!$AH132:$AW132,0)","v":{"$error":"#N/A"}},{"$f":"MATCH(AM$4,Millwall!$AH132:$AW132,0)","v":{"$error":"#N/A"}},{"$f":"MATCH(AN$4,Millwall!$AH132:$AW132,0)","v":{"$error":"#N/A"}},{"$f":"MATCH(AO$4,Millwall!$AH132:$AW132,0)","v":{"$error":"#N/A"}},{"$f":"MATCH(AP$4,Millwall!$AH132:$AW132,0)","v":{"$error":"#N/A"}},{"$f":"MATCH(AQ$4,Millwall!$AH132:$AW132,0)","v":{"$error":"#N/A"}},{"$f":"MATCH(AR$4,Millwall!$AH132:$AW132,0)","v":{"$error":"#N/A"}},{"$f":"MATCH(AS$4,Millwall!$AH132:$AW132,0)","v":{"$error":"#N/A"}},{"$f":"MATCH(AT$4,Millwall!$AH132:$AW132,0)","v":{"$error":"#N/A"}},{"$f":"MATCH(AU$4,Millwall!$AH132:$AW132,0)","v":{"$error":"#N/A"}},{"$f":"MATCH(AV$4,Millwall!$AH132:$AW132,0)","v":{"$error":"#N/A"}},null,null,null,null,null,{"$f":"MATCH(BB$3,Millwall!$AH132:$AW132,0)","v":{"$error":"#N/A"}},{"$f":"MATCH(BC$3,Millwall!$AH132:$AW132,0)","v":{"$error":"#N/A"}},{"$f":"MATCH(BD$3,Millwall!$AH132:$AW132,0)","v":{"$error":"#N/A"}},{"$f":"MATCH(BE$3,Millwall!$AH132:$AW132,0)","v":{"$error":"#N/A"}},{"$f":"MATCH(BF$3,Millwall!$AH132:$AW132,0)","v":{"$error":"#N/A"}},{"$f":"MATCH(BG$3,Millwall!$AH132:$AW132,0)","v":{"$error":"#N/A"}},{"$f":"MATCH(BH$3,Millwall!$AH132:$AW132,0)","v":{"$error":"#N/A"}},{"$f":"MATCH(BI$3,Millwall!$AH132:$AW132,0)","v":{"$error":"#N/A"}},{"$f":"MATCH(BJ$3,Millwall!$AH132:$AW132,0)","v":{"$error":"#N/A"}},{"$f":"MATCH(BK$3,Millwall!$AH132:$AW132,0)","v":{"$error":"#N/A"}},{"$f":"MATCH(BL$3,Millwall!$AH132:$AW132,0)","v":{"$error":"#N/A"}},{"$f":"MATCH(BM$3,Millwall!$AH132:$AW132,0)","v":{"$error":"#N/A"}},{"$f":"MATCH(BN$3,Millwall!$AH132:$AW132,0)","v":{"$error":"#N/A"}},{"$f":"MATCH(BO$3,Millwall!$AH132:$AW132,0)","v":{"$error":"#N/A"}},{"$f":"MATCH(BP$3,Millwall!$AH132:$AW132,0)","v":{"$error":"#N/A"}},{"$f":"MATCH(BQ$3,Millwall!$AH132:$AW132,0)","v":{"$error":"#N/A"}},{"$f":"MATCH(BR$3,Millwall!$AH132:$AW132,0)","v":{"$error":"#N/A"}},{"$f":"MATCH(BS$3,Millwall!$AH132:$AW132,0)","v":{"$error":"#N/A"}},{"$f":"MATCH(BT$3,Millwall!$AH132:$AW132,0)","v":{"$error":"#N/A"}},{"$f":"MATCH(BU$3,Millwall!$AH132:$AW132,0)","v":{"$error":"#N/A"}},{"$f":"MATCH(BV$3,Millwall!$AH132:$AW132,0)","v":{"$error":"#N/A"}},{"$f":"MATCH(BW$3,Millwall!$AH132:$AW132,0)","v":{"$error":"#N/A"}},{"$f":"MATCH(BX$3,Millwall!$AH132:$AW132,0)","v":{"$error":"#N/A"}},{"$f":"MATCH(BY$3,Millwall!$AH132:$AW132,0)","v":{"$error":"#N/A"}},{"$f":"MATCH(BZ$3,Millwall!$AH132:$AW132,0)","v":{"$error":"#N/A"}},{"$f":"MATCH(CA$3,Millwall!$AH132:$AW132,0)","v":{"$error":"#N/A"}},{"$f":"MATCH(CB$3,Millwall!$AH132:$AW132,0)","v":{"$error":"#N/A"}},{"$f":"MATCH(CC$3,Millwall!$AH132:$AW132,0)","v":{"$error":"#N/A"}},{"$f":"MATCH(CD$3,Millwall!$AH132:$AW132,0)","v":{"$error":"#N/A"}},{"$f":"MATCH(CE$3,Millwall!$AH132:$AW132,0)","v":{"$error":"#N/A"}},{"$f":"MATCH(CF$3,Millwall!$AH132:$AW132,0)","v":{"$error":"#N/A"}},{"$f":"MATCH(CG$3,Millwall!$AH132:$AW132,0)","v":{"$error":"#N/A"}},{"$f":"MATCH(CH$3,Millwall!$AH132:$AW132,0)","v":{"$error":"#N/A"}},{"$f":"MATCH(CI$3,Millwall!$AH132:$AW132,0)","v":{"$error":"#N/A"}},{"$f":"MATCH(CJ$3,Millwall!$AH132:$AW132,0)","v":{"$error":"#N/A"}},{"$f":"MATCH(CK$3,Millwall!$AH132:$AW132,0)","v":{"$error":"#N/A"}},{"$f":"MATCH(CL$3,Millwall!$AH132:$AW132,0)","v":{"$error":"#N/A"}},{"$f":"MATCH(CM$3,Millwall!$AH132:$AW132,0)","v":{"$error":"#N/A"}},null,null,{"$f":"MATCH(CP$3,Millwall!$AH132:$AW132,0)","v":{"$error":"#N/A"}},{"$f":"MATCH(CQ$3,Millwall!$AH132:$AW132,0)","v":{"$error":"#N/A"}},{"$f":"MATCH(CR$3,Millwall!$AH132:$AW132,0)","v":{"$error":"#N/A"}},{"$f":"MATCH(CS$3,Millwall!$AH132:$AW132,0)","v":{"$error":"#N/A"}},{"$f":"MATCH(CT$3,Millwall!$AH132:$AW132,0)","v":{"$error":"#N/A"}},{"$f":"MATCH(CU$3,Millwall!$AH132:$AW132,0)","v":{"$error":"#N/A"}},{"$f":"MATCH(CV$3,Millwall!$AH132:$AW132,0)","v":{"$error":"#N/A"}},{"$f":"MATCH(CW$3,Millwall!$AH132:$AW132,0)","v":{"$error":"#N/A"}},{"$f":"MATCH(CX$3,Millwall!$AH132:$AW132,0)","v":{"$error":"#N/A"}},{"$f":"MATCH(CY$3,Millwall!$AH132:$AW132,0)","v":{"$error":"#N/A"}},{"$f":"MATCH(CZ$3,Millwall!$AH132:$AW132,0)","v":{"$error":"#N/A"}},{"$f":"MATCH(DA$3,Millwall!$AH132:$AW132,0)","v":{"$error":"#N/A"}},{"$f":"MATCH(DB$3,Millwall!$AH132:$AW132,0)","v":{"$error":"#N/A"}},{"$f":"MATCH(DC$3,Millwall!$AH132:$AW132,0)","v":{"$error":"#N/A"}},{"$f":"MATCH(DD$3,Millwall!$AH132:$AW132,0)","v":{"$error":"#N/A"}},{"$f":"MATCH(DE$3,Millwall!$AH132:$AW132,0)","v":{"$error":"#N/A"}},{"$f":"MATCH(DF$3,Millwall!$AH132:$AW132,0)","v":{"$error":"#N/A"}},{"$f":"MATCH(DG$3,Millwall!$AH132:$AW132,0)","v":{"$error":"#N/A"}},{"$f":"MATCH(DH$3,Millwall!$AH132:$AW132,0)","v":{"$error":"#N/A"}},{"$f":"MATCH(DI$3,Millwall!$AH132:$AW132,0)","v":{"$error":"#N/A"}},{"$f":"MATCH(DJ$3,Millwall!$AH132:$AW132,0)","v":{"$error":"#N/A"}},{"$f":"MATCH(DK$3,Millwall!$AH132:$AW132,0)","v":{"$error":"#N/A"}},{"$f":"MATCH(DL$3,Millwall!$AH132:$AW132,0)","v":{"$error":"#N/A"}},{"$f":"MATCH(DM$3,Millwall!$AH132:$AW132,0)","v":{"$error":"#N/A"}},{"$f":"MATCH(DN$3,Millwall!$AH132:$AW132,0)","v":{"$error":"#N/A"}},{"$f":"MATCH(DO$3,Millwall!$AH132:$AW132,0)","v":{"$error":"#N/A"}},{"$f":"MATCH(DP$3,Millwall!$AH132:$AW132,0)","v":{"$error":"#N/A"}},{"$f":"MATCH(DQ$3,Millwall!$AH132:$AW132,0)","v":{"$error":"#N/A"}},{"$f":"MATCH(DR$3,Millwall!$AH132:$AW132,0)","v":{"$error":"#N/A"}},{"$f":"MATCH(DS$3,Millwall!$AH132:$AW132,0)","v":{"$error":"#N/A"}},{"$f":"MATCH(DT$3,Millwall!$AH132:$AW132,0)","v":{"$error":"#N/A"}},{"$f":"MATCH(DU$3,Millwall!$AH132:$AW132,0)","v":{"$error":"#N/A"}},{"$f":"MATCH(DV$3,Millwall!$AH132:$AW132,0)","v":{"$error":"#N/A"}},{"$f":"MATCH(DW$3,Millwall!$AH132:$AW132,0)","v":{"$error":"#N/A"}},{"$f":"MATCH(DX$3,Millwall!$AH132:$AW132,0)","v":{"$error":"#N/A"}},{"$f":"MATCH(DY$3,Millwall!$AH132:$AW132,0)","v":{"$error":"#N/A"}},{"$f":"MATCH(DZ$3,Millwall!$AH132:$AW132,0)","v":{"$error":"#N/A"}},{"$f":"MATCH(EA$3,Millwall!$AH132:$AW132,0)","v":{"$error":"#N/A"}},null,null,{"$f":"MATCH(ED$3,Millwall!$AH132:$AW132,0)","v":{"$error":"#N/A"}},{"$f":"MATCH(EE$3,Millwall!$AH132:$AW132,0)","v":{"$error":"#N/A"}},{"$f":"MATCH(EF$3,Millwall!$AH132:$AW132,0)","v":{"$error":"#N/A"}},{"$f":"MATCH(EG$3,Millwall!$AH132:$AW132,0)","v":{"$error":"#N/A"}},{"$f":"MATCH(EH$3,Millwall!$AH132:$AW132,0)","v":{"$error":"#N/A"}},{"$f":"MATCH(EI$3,Millwall!$AH132:$AW132,0)","v":{"$error":"#N/A"}},{"$f":"MATCH(EJ$3,Millwall!$AH132:$AW132,0)","v":{"$error":"#N/A"}},{"$f":"MATCH(EK$3,Millwall!$AH132:$AW132,0)","v":{"$error":"#N/A"}},{"$f":"MATCH(EL$3,Millwall!$AH132:$AW132,0)","v":{"$error":"#N/A"}},{"$f":"MATCH(EM$3,Millwall!$AH132:$AW132,0)","v":{"$error":"#N/A"}},{"$f":"MATCH(EN$3,Millwall!$AH132:$AW132,0)","v":{"$error":"#N/A"}},{"$f":"MATCH(EO$3,Millwall!$AH132:$AW132,0)","v":{"$error":"#N/A"}},{"$f":"MATCH(EP$3,Millwall!$AH132:$AW132,0)","v":{"$error":"#N/A"}},{"$f":"MATCH(EQ$3,Millwall!$AH132:$AW132,0)","v":{"$error":"#N/A"}},{"$f":"MATCH(ER$3,Millwall!$AH132:$AW132,0)","v":{"$error":"#N/A"}},{"$f":"MATCH(ES$3,Millwall!$AH132:$AW132,0)","v":{"$error":"#N/A"}},{"$f":"MATCH(ET$3,Millwall!$AH132:$AW132,0)","v":{"$error":"#N/A"}},{"$f":"MATCH(EU$3,Millwall!$AH132:$AW132,0)","v":{"$error":"#N/A"}},{"$f":"MATCH(EV$3,Millwall!$AH132:$AW132,0)","v":{"$error":"#N/A"}},{"$f":"MATCH(EW$3,Millwall!$AH132:$AW132,0)","v":{"$error":"#N/A"}},{"$f":"MATCH(EX$3,Millwall!$AH132:$AW132,0)","v":{"$error":"#N/A"}},{"$f":"MATCH(EY$3,Millwall!$AH132:$AW132,0)","v":{"$error":"#N/A"}},{"$f":"MATCH(EZ$3,Millwall!$AH132:$AW132,0)","v":{"$error":"#N/A"}},{"$f":"MATCH(FA$3,Millwall!$AH132:$AW132,0)","v":{"$error":"#N/A"}},{"$f":"MATCH(FB$3,Millwall!$AH132:$AW132,0)","v":{"$error":"#N/A"}},{"$f":"MATCH(FC$3,Millwall!$AH132:$AW132,0)","v":{"$error":"#N/A"}},{"$f":"MATCH(FD$3,Millwall!$AH132:$AW132,0)","v":{"$error":"#N/A"}},{"$f":"MATCH(FE$3,Millwall!$AH132:$AW132,0)","v":{"$error":"#N/A"}},{"$f":"MATCH(FF$3,Millwall!$AH132:$AW132,0)","v":{"$error":"#N/A"}},{"$f":"MATCH(FG$3,Millwall!$AH132:$AW132,0)","v":{"$error":"#N/A"}},{"$f":"MATCH(FH$3,Millwall!$AH132:$AW132,0)","v":{"$error":"#N/A"}},{"$f":"MATCH(FI$3,Millwall!$AH132:$AW132,0)","v":{"$error":"#N/A"}},{"$f":"MATCH(FJ$3,Millwall!$AH132:$AW132,0)","v":{"$error":"#N/A"}},{"$f":"MATCH(FK$3,Millwall!$AH132:$AW132,0)","v":{"$error":"#N/A"}},{"$f":"MATCH(FL$3,Millwall!$AH132:$AW132,0)","v":{"$error":"#N/A"}},{"$f":"MATCH(FM$3,Millwall!$AH132:$AW132,0)","v":{"$error":"#N/A"}},{"$f":"MATCH(FN$3,Millwall!$AH132:$AW132,0)","v":{"$error":"#N/A"}},{"$f":"MATCH(FO$3,Millwall!$AH132:$AW132,0)","v":{"$error":"#N/A"}}]
[]
[null,null,null,null,null,null,null,null,null,"Total FA Cup Apperances",{"$f":"COUNT($K$61:$K$67)-$K$70-$K$71","v":0},{"$f":"COUNT($L$61:$L$67)-$L$70-$L$71","v":0},{"$f":"COUNT($M$61:$M$67)-$M$70-$M$71","v":0},{"$f":"COUNT($N$61:$N$67)-$N$70-$N$71","v":2},{"$f":"COUNT($O$61:$O$67)-$O$70-$O$71","v":0},{"$f":"COUNT($P$61:$P$67)-$P$70-$P$71","v":0},{"$f":"COUNT($Q$61:$Q$67)-$Q$70-$Q$71","v":0},{"$f":"COUNT($R$61:$R$67)-$R$70-$R$71","v":2},{"$f":"COUNT($S$61:$S$67)-$S$70-$S$71","v":2},{"$f":"COUNT($T$61:$T$67)-$T$70-$T$71","v":2},{"$f":"COUNT($U$61:$U$67)-$U$70-$U$71","v":0},{"$f":"COUNT($V$61:$V$67)-$V$70-$V$71","v":0},{"$f":"COUNT($W$61:$W$67)-$W$70-$W$71","v":0},{"$f":"COUNT($X$61:$X$67)-$X$70-$X$71","v":0},{"$f":"COUNT($Y$61:$Y$67)-$Y$70-$Y$71","v":1},{"$f":"COUNT($Z$61:$Z$67)-$Z$70-$Z$71","v":2},{"$f":"COUNT($AA$61:$AA$67)-$AA$70-$AA$71","v":0},{"$f":"COUNT($AB$61:$AB$67)-$AB$70-$AB$71","v":0},{"$f":"COUNT($AC$61:$AC$67)-$AC$70-$AC$71","v":0},{"$f":"COUNT($AD$61:$AD$67)-$AD$70-$AD$71","v":1},{"$f":"COUNT($AE$61:$AE$67)-$AE$70-$AE$71","v":0},{"$f":"COUNT($AF$61:$AF$67)-$AF$70-$AF$71","v":0},{"$f":"COUNT($AG$61:$AG$67)-$AG$70-$AG$71","v":0},{"$f":"COUNT($AH$61:$AH$67)-$AH$70-$AH$71","v":2},{"$f":"COUNT($AI$61:$AI$67)-$AI$70-$AI$71","v":2},{"$f":"COUNT($AJ$61:$AJ$67)-$AJ$70-$AJ$71","v":0},{"$f":"COUNT($AK$61:$AK$67)-$AK$70-$AK$71","v":0},{"$f":"COUNT($AL$61:$AL$67)-$AL$70-$AL$71","v":2},{"$f":"COUNT($AM$61:$AM$67)-$AM$70-$AM$71","v":0},{"$f":"COUNT($AN$61:$AN$67)-$AN$70-$AN$71","v":2},{"$f":"COUNT($AO$61:$AO$67)-$AO$70-$AO$71","v":0},{"$f":"COUNT($AP$61:$AP$67)-$AP$70-$AP$71","v":0},{"$f":"COUNT($AQ$61:$AQ$67)-$AQ$70-$AQ$71","v":0},{"$f":"COUNT($AR$61:$AR$67)-$AR$70-$AR$71","v":1},{"$f":"COUNT($AS$61:$AS$67)-$AS$70-$AS$71","v":0},{"$f":"COUNT($AT$61:$AT$67)-$AT$70-$AT$71","v":1},{"$f":"COUNT($AU$61:$AU$67)-$AU$70-$AU$71","v":0},{"$f":"COUNT($AV$61:$AV$67)-$AV$70-$AV$71","v":0}]
[null,null,null,null,null,null,null,null,null,"Total FA Cup Substitute Appearences ",{"$f":"$BB$70+$CP$70+$ED$70","v":0},{"$f":"$BC$70+$CQ$70+$EE$70","v":0},{"$f":"$BD$70+$CR$70+$EF$70","v":0},{"$f":"$BE$70+$CS$70+$EG$70","v":0},{"$f":"$BF$70+$CT$70+$EH$70","v":0},{"$f":"$BG$70+$CU$70+$EI$70","v":0},{"$f":"$BH$70+$CV$70+$EJ$70","v":0},{"$f":"$BI$70+$CW$70+$EK$70","v":0},{"$f":"$BJ$70+$CX$70+$EL$70","v":0},{"$f":"$BK$70+$CY$70+$EM$70","v":0},{"$f":"$BL$70+$CZ$70+$EN$70","v":1},{"$f":"$BM$70+$DA$70+$EO$70","v":0},{"$f":"$BN$70+$DB$70+$EP$70","v":0},{"$f":"$BO$70+$DC$70+$EQ$70","v":0},{"$f":"$BP$70+$DD$70+$ER$70","v":0},{"$f":"$BQ$70+$DE$70+$ES$70","v":0},{"$f":"$BR$70+$DF$70+$ET$70","v":0},{"$f":"$BS$70+$DG$70+$EU$70","v":0},{"$f":"$BT$70+$DH$70+$EV$70","v":0},{"$f":"$BU$70+$DI$70+$EW$70","v":1},{"$f":"$BV$70+$DJ$70+$EX$70","v":0},{"$f":"$BW$70+$DK$70+$EY$70","v":0},{"$f":"$BX$70+$DL$70+$EZ$70","v":0},{"$f":"$BY$70+$DM$70+$FA$70","v":0},{"$f":"$BZ$70+$DN$70+$FB$70","v":0},{"$f":"$CA$70+$DO$70+$FC$70","v":0},{"$f":"$CB$70+$DP$70+$FD$70","v":0},{"$f":"$CC$70+$DQ$70+$FE$70","v":0},{"$f":"$CD$70+$DR$70+$FF$70","v":0},{"$f":"$CE$70+$DS$70+$FG$70","v":0},{"$f":"$CF$70+$DT$70+$FH$70","v":1},{"$f":"$CG$70+$DU$70+$FI$70","v":0},{"$f":"$CH$70+$DV$70+$FJ$70","v":1},{"$f":"$CI$70+$DW$70+$FK$70","v":0},{"$f":"$CJ$70+$DX$70+$FL$70","v":0},{"$f":"$CK$70+$DY$70+$FM$70","v":0},{"$f":"$CL$70+$DZ$70+$FN$70","v":0},{"$f":"$CM$70+$EA$70+$FO$70","v":0},null,null,null,null,null,{"$f":"COUNTIF(BB61:BB67,12)","v":0},{"$f":"COUNTIF(BC61:BC67,12)","v":0},0,0,0,0,0,0,0,0,0,0,0,0,0,0,0,0,0,0,0,0,0,0,0,0,0,0,0,0,0,0,0,0,0,0,0,0,null,null,{"$f":"COUNTIF(CP61:CP69,13)","v":0},0,0,0,0,0,0,0,0,0,0,0,0,0,0,0,0,0,0,1,0,0,0,0,0,0,0,0,0,0,1,0,0,0,0,0,0,0,null,null,{"$f":"COUNTIF(ED61:ED69,14)","v":0},0,0,0,0,0,0,0,0,0,1,0,0,0,0,0,0,0,0,0,0,0,0,0,0,0,0,0,0,0,0,0,1,0,0,0,0,0]
[null,null,null,null,null,null,null,null,null,"Non Playing Substitute",{"$f":"COUNTIF($K$61:$K$67,\">=12\")-$K$70","v":0},{"$f":"COUNTIF($L$61:$L$67,\">=12\")-$L$70","v":0},{"$f":"COUNTIF($M$61:$M$67,\">=12\")-$M$70","v":0},{"$f":"COUNTIF($N$61:$N$67,\">=12\")-$N$70","v":0},{"$f":"COUNTIF($O$61:$O$67,\">=12\")-$O$70","v":0},{"$f":"COUNTIF($P$61:$P$67,\">=12\")-$P$70","v":0},{"$f":"COUNTIF($Q$61:$Q$67,\">=12\")-$Q$70","v":0},{"$f":"COUNTIF($R$61:$R$67,\">=12\")-$R$70","v":0},{"$f":"COUNTIF($S$61:$S$67,\">=12\")-$S$70","v":0},{"$f":"COUNTIF($T$61:$T$67,\">=12\")-$T$70","v":0},{"$f":"COUNTIF($U$61:$U$67,\">=12\")-$U$70","v":0},{"$f":"COUNTIF($V$61:$V$67,\">=12\")-$V$70","v":1},{"$f":"COUNTIF($W$61:$W$67,\">=12\")-$W$70","v":0},{"$f":"COUNTIF($X$61:$X$67,\">=12\")-$X$70","v":0},{"$f":"COUNTIF($Y$61:$Y$67,\">=12\")-$Y$70","v":0},{"$f":"COUNTIF($Z$61:$Z$67,\">=12\")-$Z$70","v":0},{"$f":"COUNTIF($AA$61:$AA$67,\">=12\")-$AA$70","v":0},{"$f":"COUNTIF($AB$61:$AB$67,\">=12\")-$AB$70","v":0},{"$f":"COUNTIF($AC$61:$AC$67,\">=12\")-$AC$70","v":0},{"$f":"COUNTIF($AD$61:$AD$67,\">=12\")-$AD$70","v":0},{"$f":"COUNTIF($AE$61:$AE$67,\">=12\")-$AE$70","v":0},{"$f":"COUNTIF($AF$61:$AF$67,\">=12\")-$AF$70","v":0},{"$f":"COUNTIF($AG$61:$AG$67,\">=12\")-$AG$70","v":0},{"$f":"COUNTIF($AH$61:$AH$67,\">=12\")-$AH$70","v":0},{"$f":"COUNTIF($AI$61:$AI$67,\">=12\")-$AI$70","v":0},{"$f":"COUNTIF($AJ$61:$AJ$67,\">=12\")-$AJ$70","v":0},{"$f":"COUNTIF($AK$61:$AK$67,\">=12\")-$AK$70","v":0},{"$f":"COUNTIF($AL$61:$AL$67,\">=12\")-$AL$70","v":0},{"$f":"COUNTIF($AM$61:$AM$67,\">=12\")-$AM$70","v":0},{"$f":"COUNTIF($AN$61:$AN$67,\">=12\")-$AN$70","v":0},{"$f":"COUNTIF($AO$61:$AO$67,\">=12\")-$AO$70","v":0},{"$f":"COUNTIF($AP$61:$AP$67,\">=12\")-$AP$70","v":0},{"$f":"COUNTIF($AQ$61:$AQ$67,\">=12\")-$AQ$70","v":0},{"$f":"COUNTIF($AR$61:$AR$67,\">=12\")-$AR$70","v":1},{"$f":"COUNTIF($AS$61:$AS$67,\">=12\")-$AS$70","v":0},{"$f":"COUNTIF($AT$61:$AT$67,\">=12\")-$AT$70","v":0},{"$f":"COUNTIF($AU$61:$AU$67,\">=12\")-$AU$70","v":0},{"$f":"COUNTIF($AV$61:$AV$67,\">=12\")-$AV$70","v":0}]
[null,null,null,null,null,null,null,null,null,"Goals",{"$f":"Millwall!$CM$6","v":0},{"$f":"Millwall!$CM$7","v":0},{"$f":"Millwall!$CM$8","v":0},{"$f":"Millwall!$CM$9","v":0},{"$f":"Millwall!$CM$10","v":0},{"$f":"Millwall!$CM$11","v":0},{"$f":"Millwall!$CM$12","v":0},{"$f":"Millwall!$CM$13","v":0},{"$f":"Millwall!$CM$14","v":1},{"$f":"Millwall!$CM$15","v":0},{"$f":"Millwall!$CM$16","v":0},{"$f":"Millwall!$CM$17","v":0},{"$f":"Millwall!$CM$18","v":0},{"$f":"Millwall!$CM$19","v":0},{"$f":"Millwall!$CM$20","v":0},{"$f":"Millwall!$CM$21","v":0},{"$f":"Millwall!$CM$22","v":0},{"$f":"Millwall!$CM$23","v":0},{"$f":"Millwall!$CM$24","v":0},{"$f":"Millwall!$CM$25","v":0},{"$f":"Millwall!$CM$26","v":0},{"$f":"Millwall!$CM$27","v":0},{"$f":"Millwall!$CM$28","v":0},{"$f":"Millwall!$CM$29","v":0},{"$f":"Millwall!$CM$30","v":0},{"$f":"Millwall!$CM$31","v":0},{"$f":"Millwall!$CM$32","v":0},{"$f":"Millwall!$CM$33","v":0},{"$f":"Millwall!$CM$34","v":0},{"$f":"Millwall!$CM$35","v":1},{"$f":"Millwall!$CM$36","v":0},{"$f":"Millwall!$CM$37","v":0},{"$f":"Millwall!$CM$38","v":0},{"$f":"Millwall!$CM$39","v":0},{"$f":"Millwall!$CM$40","v":0},{"$f":"Millwall!$CM$41","v":0},{"$f":"Millwall!$CM$42","v":0},{"$f":"Millwall!$CM$47","v":0}]
[null,null,1]
[null,null,null,null,null,null,null,"League Cup"]
[null,null,{"$f":"IF(J75=0,1,0)","v":0},1,null,{"$f":"Millwall!AD136","v":"1996-08-21"},null,{"$f":"Millwall!AE136","v":"Peterborough"},{"$f":"Millwall!AF136","v":"(H)"},{"$f":"Millwall!AG136","v":"W 1-0"},{"$f":"MATCH(K$4,Millwall!$AH136:$AW136,0)","v":{"$error":"#N/A"}},{"$f":"MATCH(L$4,Millwall!$AH136:$AW136,0)","v":{"$error":"#N/A"}},{"$f":"MATCH(M$4,Millwall!$AH136:$AW136,0)","v":{"$error":"#N/A"}},{"$f":"MATCH(N$4,Millwall!$AH136:$AW136,0)","v":4},{"$f":"MATCH(O$4,Millwall!$AH136:$AW136,0)","v":{"$error":"#N/A"}},{"$f":"MATCH(P$4,Millwall!$AH136:$AW136,0)","v":{"$error":"#N/A"}},{"$f":"MATCH(Q$4,Millwall!$AH136:$AW136,0)","v":{"$error":"#N/A"}},{"$f":"MATCH(R$4,Millwall!$AH136:$AW136,0)","v":1},{"$f":"MATCH(S$4,Millwall!$AH136:$AW136,0)","v":10},{"$f":"MATCH(T$4,Millwall!$AH136:$AW136,0)","v":11},{"$f":"MATCH(U$4,Millwall!$AH136:$AW136,0)","v":13},{"$f":"MATCH(V$4,Millwall!$AH136:$AW136,0)","v":12},{"$f":"MATCH(W$4,Millwall!$AH136:$AW136,0)","v":{"$error":"#N/A"}},{"$f":"MATCH(X$4,Millwall!$AH136:$AW136,0)","v":{"$error":"#N/A"}},{"$f":"MATCH(Y$4,Millwall!$AH136:$AW136,0)","v":3},{"$f":"MATCH(Z$4,Millwall!$AH136:$AW136,0)","v":7},{"$f":"MATCH(AA$4,Millwall!$AH136:$AW136,0)","v":{"$error":"#N/A"}},{"$f":"MATCH(AB$4,Millwall!$AH136:$AW136,0)","v":{"$error":"#N/A"}},{"$f":"MATCH(AC$4,Millwall!$AH136:$AW136,0)","v":{"$error":"#N/A"}},{"$f":"MATCH(AD$4,Millwall!$AH136:$AW136,0)","v":{"$error":"#N/A"}},{"$f":"MATCH(AE$4,Millwall!$AH136:$AW136,0)","v":9},{"$f":"MATCH(AF$4,Millwall!$AH136:$AW136,0)","v":{"$error":"#N/A"}},{"$f":"MATCH(AG$4,Millwall!$AH136:$AW136,0)","v":{"$error":"#N/A"}},{"$f":"MATCH(AH$4,Millwall!$AH136:$AW136,0)","v":14},{"$f":"MATCH(AI$4,Millwall!$AH136:$AW136,0)","v":2},{"$f":"MATCH(AJ$4,Millwall!$AH136:$AW136,0)","v":{"$error":"#N/A"}},{"$f":"MATCH(AK$4,Millwall!$AH136:$AW136,0)","v":{"$error":"#N/A"}},{"$f":"MATCH(AL$4,Millwall!$AH136:$AW136,0)","v":{"$error":"#N/A"}},{"$f":"MATCH(AM$4,Millwall!$AH136:$AW136,0)","v":{"$error":"#N/A"}},{"$f":"MATCH(AN$4,Millwall!$AH136:$AW136,0)","v":8},{"$f":"MATCH(AO$4,Millwall!$AH136:$AW136,0)","v":{"$error":"#N/A"}},{"$f":"MATCH(AP$4,Millwall!$AH136:$AW136,0)","v":6},{"$f":"MATCH(AQ$4,Millwall!$AH136:$AW136,0)","v":{"$error":"#N/A"}},{"$f":"MATCH(AR$4,Millwall!$AH136:$AW136,0)","v":{"$error":"#N/A"}},{"$f":"MATCH(AS$4,Millwall!$AH136:$AW136,0)","v":{"$error":"#N/A"}},{"$f":"MATCH(AT$4,Millwall!$AH136:$AW136,0)","v":5},{"$f":"MATCH(AU$4,Millwall!$AH136:$AW136,0)","v":{"$error":"#N/A"}},{"$f":"MATCH(AV$4,Millwall!$AH136:$AW136,0)","v":{"$error":"#N/A"}},null,null,null,null,null,{"$f":"MATCH(BB$3,Millwall!$AH136:$AW136,0)","v":{"$error":"#N/A"}},{"$f":"MATCH(BC$3,Millwall!$AH136:$AW136,0)","v":{"$error":"#N/A"}},{"$f":"MATCH(BD$3,Millwall!$AH136:$AW136,0)","v":{"$error":"#N/A"}},{"$f":"MATCH(BE$3,Millwall!$AH136:$AW136,0)","v":{"$error":"#N/A"}},{"$f":"MATCH(BF$3,Millwall!$AH136:$AW136,0)","v":{"$error":"#N/A"}},{"$f":"MATCH(BG$3,Millwall!$AH136:$AW136,0)","v":{"$error":"#N/A"}},{"$f":"MATCH(BH$3,Millwall!$AH136:$AW136,0)","v":{"$error":"#N/A"}},{"$f":"MATCH(BI$3,Millwall!$AH136:$AW136,0)","v":{"$error":"#N/A"}},{"$f":"MATCH(BJ$3,Millwall!$AH136:$AW136,0)","v":{"$error":"#N/A"}},{"$f":"MATCH(BK$3,Millwall!$AH136:$AW136,0)","v":{"$error":"#N/A"}},{"$f":"MATCH(BL$3,Millwall!$AH136:$AW136,0)","v":{"$error":"#N/A"}},{"$f":"MATCH(BM$3,Millwall!$AH136:$AW136,0)","v":{"$error":"#N/A"}},{"$f":"MATCH(BN$3,Millwall!$AH136:$AW136,0)","v":{"$error":"#N/A"}},{"$f":"MATCH(BO$3,Millwall!$AH136:$AW136,0)","v":{"$error":"#N/A"}},{"$f":"MATCH(BP$3,Millwall!$AH136:$AW136,0)","v":{"$error":"#N/A"}},{"$f":"MATCH(BQ$3,Millwall!$AH136:$AW136,0)","v":{"$error":"#N/A"}},{"$f":"MATCH(BR$3,Millwall!$AH136:$AW136,0)","v":{"$error":"#N/A"}},{"$f":"MATCH(BS$3,Millwall!$AH136:$AW136,0)","v":{"$error":"#N/A"}},{"$f":"MATCH(BT$3,Millwall!$AH136:$AW136,0)","v":{"$error":"#N/A"}},{"$f":"MATCH(BU$3,Millwall!$AH136:$AW136,0)","v":{"$error":"#N/A"}},{"$f":"MATCH(BV$3,Millwall!$AH136:$AW136,0)","v":{"$error":"#N/A"}},{"$f":"MATCH(BW$3,Millwall!$AH136:$AW136,0)","v":{"$error":"#N/A"}},{"$f":"MATCH(BX$3,Millwall!$AH136:$AW136,0)","v":{"$error":"#N/A"}},{"$f":"MATCH(BY$3,Millwall!$AH136:$AW136,0)","v":{"$error":"#N/A"}},{"$f":"MATCH(BZ$3,Millwall!$AH136:$AW136,0)","v":{"$error":"#N/A"}},{"$f":"MATCH(CA$3,Millwall!$AH136:$AW136,0)","v":{"$error":"#N/A"}},{"$f":"MATCH(CB$3,Millwall!$AH136:$AW136,0)","v":{"$error":"#N/A"}},{"$f":"MATCH(CC$3,Millwall!$AH136:$AW136,0)","v":{"$error":"#N/A"}},{"$f":"MATCH(CD$3,Millwall!$AH136:$AW136,0)","v":{"$error":"#N/A"}},{"$f":"MATCH(CE$3,Millwall!$AH136:$AW136,0)","v":{"$error":"#N/A"}},{"$f":"MATCH(CF$3,Millwall!$AH136:$AW136,0)","v":{"$error":"#N/A"}},{"$f":"MATCH(CG$3,Millwall!$AH136:$AW136,0)","v":{"$error":"#N/A"}},{"$f":"MATCH(CH$3,Millwall!$AH136:$AW136,0)","v":{"$error":"#N/A"}},{"$f":"MATCH(CI$3,Millwall!$AH136:$AW136,0)","v":{"$error":"#N/A"}},{"$f":"MATCH(CJ$3,Millwall!$AH136:$AW136,0)","v":{"$error":"#N/A"}},{"$f":"MATCH(CK$3,Millwall!$AH136:$AW136,0)","v":{"$error":"#N/A"}},{"$f":"MATCH(CL$3,Millwall!$AH136:$AW136,0)","v":{"$error":"#N/A"}},{"$f":"MATCH(CM$3,Millwall!$AH136:$AW136,0)","v":{"$error":"#N/A"}},null,null,{"$f":"MATCH(CP$3,Millwall!$AH136:$AW136,0)","v":{"$error":"#N/A"}},{"$f":"MATCH(CQ$3,Millwall!$AH136:$AW136,0)","v":{"$error":"#N/A"}},{"$f":"MATCH(CR$3,Millwall!$AH136:$AW136,0)","v":{"$error":"#N/A"}},{"$f":"MATCH(CS$3,Millwall!$AH136:$AW136,0)","v":{"$error":"#N/A"}},{"$f":"MATCH(CT$3,Millwall!$AH136:$AW136,0)","v":{"$error":"#N/A"}},{"$f":"MATCH(CU$3,Millwall!$AH136:$AW136,0)","v":{"$error":"#N/A"}},{"$f":"MATCH(CV$3,Millwall!$AH136:$AW136,0)","v":{"$error":"#N/A"}},{"$f":"MATCH(CW$3,Millwall!$AH136:$AW136,0)","v":{"$error":"#N/A"}},{"$f":"MATCH(CX$3,Millwall!$AH136:$AW136,0)","v":{"$error":"#N/A"}},{"$f":"MATCH(CY$3,Millwall!$AH136:$AW136,0)","v":11},{"$f":"MATCH(CZ$3,Millwall!$AH136:$AW136,0)","v":13},{"$f":"MATCH(DA$3,Millwall!$AH136:$AW136,0)","v":{"$error":"#N/A"}},{"$f":"MATCH(DB$3,Millwall!$AH136:$AW136,0)","v":{"$error":"#N/A"}},{"$f":"MATCH(DC$3,Millwall!$AH136:$AW136,0)","v":{"$error":"#N/A"}},{"$f":"MATCH(DD$3,Millwall!$AH136:$AW136,0)","v":{"$error":"#N/A"}},{"$f":"MATCH(DE$3,Millwall!$AH136:$AW136,0)","v":{"$error":"#N/A"}},{"$f":"MATCH(DF$3,Millwall!$AH136:$AW136,0)","v":{"$error":"#N/A"}},{"$f":"MATCH(DG$3,Millwall!$AH136:$AW136,0)","v":{"$error":"#N/A"}},{"$f":"MATCH(DH$3,Millwall!$AH136:$AW136,0)","v":{"$error":"#N/A"}},{"$f":"MATCH(DI$3,Millwall!$AH136:$AW136,0)","v":{"$error":"#N/A"}},{"$f":"MATCH(DJ$3,Millwall!$AH136:$AW136,0)","v":{"$error":"#N/A"}},{"$f":"MATCH(DK$3,Millwall!$AH136:$AW136,0)","v":{"$error":"#N/A"}},{"$f":"MATCH(DL$3,Millwall!$AH136:$AW136,0)","v":{"$error":"#N/A"}},{"$f":"MATCH(DM$3,Millwall!$AH136:$AW136,0)","v":{"$error":"#N/A"}},{"$f":"MATCH(DN$3,Millwall!$AH136:$AW136,0)","v":{"$error":"#N/A"}},{"$f":"MATCH(DO$3,Millwall!$AH136:$AW136,0)","v":{"$error":"#N/A"}},{"$f":"MATCH(DP$3,Millwall!$AH136:$AW136,0)","v":{"$error":"#N/A"}},{"$f":"MATCH(DQ$3,Millwall!$AH136:$AW136,0)","v":{"$error":"#N/A"}},{"$f":"MATCH(DR$3,Millwall!$AH136:$AW136,0)","v":{"$error":"#N/A"}},{"$f":"MATCH(DS$3,Millwall!$AH136:$AW136,0)","v":{"$error":"#N/A"}},{"$f":"MATCH(DT$3,Millwall!$AH136:$AW136,0)","v":{"$error":"#N/A"}},{"$f":"MATCH(DU$3,Millwall!$AH136:$AW136,0)","v":{"$error":"#N/A"}},{"$f":"MATCH(DV$3,Millwall!$AH136:$AW136,0)","v":{"$error":"#N/A"}},{"$f":"MATCH(DW$3,Millwall!$AH136:$AW136,0)","v":{"$error":"#N/A"}},{"$f":"MATCH(DX$3,Millwall!$AH136:$AW136,0)","v":{"$error":"#N/A"}},{"$f":"MATCH(DY$3,Millwall!$AH136:$AW136,0)","v":{"$error":"#N/A"}},{"$f":"MATCH(DZ$3,Millwall!$AH136:$AW136,0)","v":{"$error":"#N/A"}},{"$f":"MATCH(EA$3,Millwall!$AH136:$AW136,0)","v":{"$error":"#N/A"}},null,null,{"$f":"MATCH(ED$3,Millwall!$AH136:$AW136,0)","v":{"$error":"#N/A"}},{"$f":"MATCH(EE$3,Millwall!$AH136:$AW136,0)","v":{"$error":"#N/A"}},{"$f":"MATCH(EF$3,Millwall!$AH136:$AW136,0)","v":{"$error":"#N/A"}},{"$f":"MATCH(EG$3,Millwall!$AH136:$AW136,0)","v":{"$error":"#N/A"}},{"$f":"MATCH(EH$3,Millwall!$AH136:$AW136,0)","v":{"$error":"#N/A"}},{"$f":"MATCH(EI$3,Millwall!$AH136:$AW136,0)","v":{"$error":"#N/A"}},{"$f":"MATCH(EJ$3,Millwall!$AH136:$AW136,0)","v":{"$error":"#N/A"}},{"$f":"MATCH(EK$3,Millwall!$AH136:$AW136,0)","v":{"$error":"#N/A"}},{"$f":"MATCH(EL$3,Millwall!$AH136:$AW136,0)","v":{"$error":"#N/A"}},{"$f":"MATCH(EM$3,Millwall!$AH136:$AW136,0)","v":{"$error":"#N/A"}},{"$f":"MATCH(EN$3,Millwall!$AH136:$AW136,0)","v":{"$error":"#N/A"}},{"$f":"MATCH(EO$3,Millwall!$AH136:$AW136,0)","v":{"$error":"#N/A"}},{"$f":"MATCH(EP$3,Millwall!$AH136:$AW136,0)","v":{"$error":"#N/A"}},{"$f":"MATCH(EQ$3,Millwall!$AH136:$AW136,0)","v":{"$error":"#N/A"}},{"$f":"MATCH(ER$3,Millwall!$AH136:$AW136,0)","v":{"$error":"#N/A"}},{"$f":"MATCH(ES$3,Millwall!$AH136:$AW136,0)","v":7},{"$f":"MATCH(ET$3,Millwall!$AH136:$AW136,0)","v":{"$error":"#N/A"}},{"$f":"MATCH(EU$3,Millwall!$AH136:$AW136,0)","v":{"$error":"#N/A"}},{"$f":"MATCH(EV$3,Millwall!$AH136:$AW136,0)","v":{"$error":"#N/A"}},{"$f":"MATCH(EW$3,Millwall!$AH136:$AW136,0)","v":{"$error":"#N/A"}},{"$f":"MATCH(EX$3,Millwall!$AH136:$AW136,0)","v":{"$error":"#N/A"}},{"$f":"MATCH(EY$3,Millwall!$AH136:$AW136,0)","v":{"$error":"#N/A"}},{"$f":"MATCH(EZ$3,Millwall!$AH136:$AW136,0)","v":{"$error":"#N/A"}},{"$f":"MATCH(FA$3,Millwall!$AH136:$AW136,0)","v":14},{"$f":"MATCH(FB$3,Millwall!$AH136:$AW136,0)","v":{"$error":"#N/A"}},{"$f":"MATCH(FC$3,Millwall!$AH136:$AW136,0)","v":{"$error":"#N/A"}},{"$f":"MATCH(FD$3,Millwall!$AH136:$AW136,0)","v":{"$error":"#N/A"}},{"$f":"MATCH(FE$3,Millwall!$AH136:$AW136,0)","v":{"$error":"#N/A"}},{"$f":"MATCH(FF$3,Millwall!$AH136:$AW136,0)","v":{"$error":"#N/A"}},{"$f":"MATCH(FG$3,Millwall!$AH136:$AW136,0)","v":{"$error":"#N/A"}},{"$f":"MATCH(FH$3,Millwall!$AH136:$AW136,0)","v":{"$error":"#N/A"}},{"$f":"MATCH(FI$3,Millwall!$AH136:$AW136,0)","v":{"$error":"#N/A"}},{"$f":"MATCH(FJ$3,Millwall!$AH136:$AW136,0)","v":{"$error":"#N/A"}},{"$f":"MATCH(FK$3,Millwall!$AH136:$AW136,0)","v":{"$error":"#N/A"}},{"$f":"MATCH(FL$3,Millwall!$AH136:$AW136,0)","v":{"$error":"#N/A"}},{"$f":"MATCH(FM$3,Millwall!$AH136:$AW136,0)","v":{"$error":"#N/A"}},{"$f":"MATCH(FN$3,Millwall!$AH136:$AW136,0)","v":{"$error":"#N/A"}},{"$f":"MATCH(FO$3,Millwall!$AH136:$AW136,0)","v":{"$error":"#N/A"}}]
[null,null,{"$f":"IF(J76=0,1,0)","v":0},1,null,{"$f":"Millwall!AD137","v":"1996-09-03"},null,{"$f":"Millwall!AE137","v":"Peterborough"},{"$f":"Millwall!AF137","v":"(A)"},{"$f":"Millwall!AG137","v":"L 0-2"},{"$f":"MATCH(K$4,Millwall!$AH137:$AW137,0)","v":{"$error":"#N/A"}},{"$f":"MATCH(L$4,Millwall!$AH137:$AW137,0)","v":{"$error":"#N/A"}},{"$f":"MATCH(M$4,Millwall!$AH137:$AW137,0)","v":{"$error":"#N/A"}},{"$f":"MATCH(N$4,Millwall!$AH137:$AW137,0)","v":7},{"$f":"MATCH(O$4,Millwall!$AH137:$AW137,0)","v":{"$error":"#N/A"}},{"$f":"MATCH(P$4,Millwall!$AH137:$AW137,0)","v":{"$error":"#N/A"}},{"$f":"MATCH(Q$4,Millwall!$AH137:$AW137,0)","v":{"$error":"#N/A"}},{"$f":"MATCH(R$4,Millwall!$AH137:$AW137,0)","v":1},{"$f":"MATCH(S$4,Millwall!$AH137:$AW137,0)","v":{"$error":"#N/A"}},{"$f":"MATCH(T$4,Millwall!$AH137:$AW137,0)","v":11},{"$f":"MATCH(U$4,Millwall!$AH137:$AW137,0)","v":10},{"$f":"MATCH(V$4,Millwall!$AH137:$AW137,0)","v":12},{"$f":"MATCH(W$4,Millwall!$AH137:$AW137,0)","v":{"$error":"#N/A"}},{"$f":"MATCH(X$4,Millwall!$AH137:$AW137,0)","v":{"$error":"#N/A"}},{"$f":"MATCH(Y$4,Millwall!$AH137:$AW137,0)","v":13},{"$f":"MATCH(Z$4,Millwall!$AH137:$AW137,0)","v":14},{"$f":"MATCH(AA$4,Millwall!$AH137:$AW137,0)","v":{"$error":"#N/A"}},{"$f":"MATCH(AB$4,Millwall!$AH137:$AW137,0)","v":{"$error":"#N/A"}},{"$f":"MATCH(AC$4,Millwall!$AH137:$AW137,0)","v":{"$error":"#N/A"}},{"$f":"MATCH(AD$4,Millwall!$AH137:$AW137,0)","v":{"$error":"#N/A"}},{"$f":"MATCH(AE$4,Millwall!$AH137:$AW137,0)","v":9},{"$f":"MATCH(AF$4,Millwall!$AH137:$AW137,0)","v":{"$error":"#N/A"}},{"$f":"MATCH(AG$4,Millwall!$AH137:$AW137,0)","v":{"$error":"#N/A"}},{"$f":"MATCH(AH$4,Millwall!$AH137:$AW137,0)","v":2},{"$f":"MATCH(AI$4,Millwall!$AH137:$AW137,0)","v":8},{"$f":"MATCH(AJ$4,Millwall!$AH137:$AW137,0)","v":{"$error":"#N/A"}},{"$f":"MATCH(AK$4,Millwall!$AH137:$AW137,0)","v":{"$error":"#N/A"}},{"$f":"MATCH(AL$4,Millwall!$AH137:$AW137,0)","v":3},{"$f":"MATCH(AM$4,Millwall!$AH137:$AW137,0)","v":{"$error":"#N/A"}},{"$f":"MATCH(AN$4,Millwall!$AH137:$AW137,0)","v":{"$error":"#N/A"}},{"$f":"MATCH(AO$4,Millwall!$AH137:$AW137,0)","v":{"$error":"#N/A"}},{"$f":"MATCH(AP$4,Millwall!$AH137:$AW137,0)","v":6},{"$f":"MATCH(AQ$4,Millwall!$AH137:$AW137,0)","v":{"$error":"#N/A"}},{"$f":"MATCH(AR$4,Millwall!$AH137:$AW137,0)","v":4},{"$f":"MATCH(AS$4,Millwall!$AH137:$AW137,0)","v":{"$error":"#N/A"}},{"$f":"MATCH(AT$4,Millwall!$AH137:$AW137,0)","v":5},{"$f":"MATCH(AU$4,Millwall!$AH137:$AW137,0)","v":{"$error":"#N/A"}},{"$f":"MATCH(AV$4,Millwall!$AH137:$AW137,0)","v":{"$error":"#N/A"}},null,null,null,null,null,{"$f":"MATCH(BB$3,Millwall!$AH137:$AW137,0)","v":{"$error":"#N/A"}},{"$f":"MATCH(BC$3,Millwall!$AH137:$AW137,0)","v":{"$error":"#N/A"}},{"$f":"MATCH(BD$3,Millwall!$AH137:$AW137,0)","v":{"$error":"#N/A"}},{"$f":"MATCH(BE$3,Millwall!$AH137:$AW137,0)","v":{"$error":"#N/A"}},{"$f":"MATCH(BF$3,Millwall!$AH137:$AW137,0)","v":{"$error":"#N/A"}},{"$f":"MATCH(BG$3,Millwall!$AH137:$AW137,0)","v":{"$error":"#N/A"}},{"$f":"MATCH(BH$3,Millwall!$AH137:$AW137,0)","v":{"$error":"#N/A"}},{"$f":"MATCH(BI$3,Millwall!$AH137:$AW137,0)","v":{"$error":"#N/A"}},{"$f":"MATCH(BJ$3,Millwall!$AH137:$AW137,0)","v":{"$error":"#N/A"}},{"$f":"MATCH(BK$3,Millwall!$AH137:$AW137,0)","v":{"$error":"#N/A"}},{"$f":"MATCH(BL$3,Millwall!$AH137:$AW137,0)","v":{"$error":"#N/A"}},{"$f":"MATCH(BM$3,Millwall!$AH137:$AW137,0)","v":{"$error":"#N/A"}},{"$f":"MATCH(BN$3,Millwall!$AH137:$AW137,0)","v":{"$error":"#N/A"}},{"$f":"MATCH(BO$3,Millwall!$AH137:$AW137,0)","v":{"$error":"#N/A"}},{"$f":"MATCH(BP$3,Millwall!$AH137:$AW137,0)","v":{"$error":"#N/A"}},{"$f":"MATCH(BQ$3,Millwall!$AH137:$AW137,0)","v":{"$error":"#N/A"}},{"$f":"MATCH(BR$3,Millwall!$AH137:$AW137,0)","v":{"$error":"#N/A"}},{"$f":"MATCH(BS$3,Millwall!$AH137:$AW137,0)","v":{"$error":"#N/A"}},{"$f":"MATCH(BT$3,Millwall!$AH137:$AW137,0)","v":{"$error":"#N/A"}},{"$f":"MATCH(BU$3,Millwall!$AH137:$AW137,0)","v":{"$error":"#N/A"}},{"$f":"MATCH(BV$3,Millwall!$AH137:$AW137,0)","v":{"$error":"#N/A"}},{"$f":"MATCH(BW$3,Millwall!$AH137:$AW137,0)","v":{"$error":"#N/A"}},{"$f":"MATCH(BX$3,Millwall!$AH137:$AW137,0)","v":{"$error":"#N/A"}},{"$f":"MATCH(BY$3,Millwall!$AH137:$AW137,0)","v":{"$error":"#N/A"}},{"$f":"MATCH(BZ$3,Millwall!$AH137:$AW137,0)","v":{"$error":"#N/A"}},{"$f":"MATCH(CA$3,Millwall!$AH137:$AW137,0)","v":{"$error":"#N/A"}},{"$f":"MATCH(CB$3,Millwall!$AH137:$AW137,0)","v":{"$error":"#N/A"}},{"$f":"MATCH(CC$3,Millwall!$AH137:$AW137,0)","v":{"$error":"#N/A"}},{"$f":"MATCH(CD$3,Millwall!$AH137:$AW137,0)","v":{"$error":"#N/A"}},{"$f":"MATCH(CE$3,Millwall!$AH137:$AW137,0)","v":{"$error":"#N/A"}},{"$f":"MATCH(CF$3,Millwall!$AH137:$AW137,0)","v":{"$error":"#N/A"}},{"$f":"MATCH(CG$3,Millwall!$AH137:$AW137,0)","v":{"$error":"#N/A"}},{"$f":"MATCH(CH$3,Millwall!$AH137:$AW137,0)","v":{"$error":"#N/A"}},{"$f":"MATCH(CI$3,Millwall!$AH137:$AW137,0)","v":{"$error":"#N/A"}},{"$f":"MATCH(CJ$3,Millwall!$AH137:$AW137,0)","v":{"$error":"#N/A"}},{"$f":"MATCH(CK$3,Millwall!$AH137:$AW137,0)","v":{"$error":"#N/A"}},{"$f":"MATCH(CL$3,Millwall!$AH137:$AW137,0)","v":{"$error":"#N/A"}},{"$f":"MATCH(CM$3,Millwall!$AH137:$AW137,0)","v":{"$error":"#N/A"}},null,null,{"$f":"MATCH(CP$3,Millwall!$AH137:$AW137,0)","v":{"$error":"#N/A"}},{"$f":"MATCH(CQ$3,Millwall!$AH137:$AW137,0)","v":{"$error":"#N/A"}},{"$f":"MATCH(CR$3,Millwall!$AH137:$AW137,0)","v":{"$error":"#N/A"}},{"$f":"MATCH(CS$3,Millwall!$AH137:$AW137,0)","v":{"$error":"#N/A"}},{"$f":"MATCH(CT$3,Millwall!$AH137:$AW137,0)","v":{"$error":"#N/A"}},{"$f":"MATCH(CU$3,Millwall!$AH137:$AW137,0)","v":{"$error":"#N/A"}},{"$f":"MATCH(CV$3,Millwall!$AH137:$AW137,0)","v":{"$error":"#N/A"}},{"$f":"MATCH(CW$3,Millwall!$AH137:$AW137,0)","v":{"$error":"#N/A"}},{"$f":"MATCH(CX$3,Millwall!$AH137:$AW137,0)","v":{"$error":"#N/A"}},{"$f":"MATCH(CY$3,Millwall!$AH137:$AW137,0)","v":11},{"$f":"MATCH(CZ$3,Millwall!$AH137:$AW137,0)","v":{"$error":"#N/A"}},{"$f":"MATCH(DA$3,Millwall!$AH137:$AW137,0)","v":{"$error":"#N/A"}},{"$f":"MATCH(DB$3,Millwall!$AH137:$AW137,0)","v":{"$error":"#N/A"}},{"$f":"MATCH(DC$3,Millwall!$AH137:$AW137,0)","v":{"$error":"#N/A"}},{"$f":"MATCH(DD$3,Millwall!$AH137:$AW137,0)","v":13},{"$f":"MATCH(DE$3,Millwall!$AH137:$AW137,0)","v":{"$error":"#N/A"}},{"$f":"MATCH(DF$3,Millwall!$AH137:$AW137,0)","v":{"$error":"#N/A"}},{"$f":"MATCH(DG$3,Millwall!$AH137:$AW137,0)","v":{"$error":"#N/A"}},{"$f":"MATCH(DH$3,Millwall!$AH137:$AW137,0)","v":{"$error":"#N/A"}},{"$f":"MATCH(DI$3,Millwall!$AH137:$AW137,0)","v":{"$error":"#N/A"}},{"$f":"MATCH(DJ$3,Millwall!$AH137:$AW137,0)","v":{"$error":"#N/A"}},{"$f":"MATCH(DK$3,Millwall!$AH137:$AW137,0)","v":{"$error":"#N/A"}},{"$f":"MATCH(DL$3,Millwall!$AH137:$AW137,0)","v":{"$error":"#N/A"}},{"$f":"MATCH(DM$3,Millwall!$AH137:$AW137,0)","v":{"$error":"#N/A"}},{"$f":"MATCH(DN$3,Millwall!$AH137:$AW137,0)","v":{"$error":"#N/A"}},{"$f":"MATCH(DO$3,Millwall!$AH137:$AW137,0)","v":{"$error":"#N/A"}},{"$f":"MATCH(DP$3,Millwall!$AH137:$AW137,0)","v":{"$error":"#N/A"}},{"$f":"MATCH(DQ$3,Millwall!$AH137:$AW137,0)","v":{"$error":"#N/A"}},{"$f":"MATCH(DR$3,Millwall!$AH137:$AW137,0)","v":{"$error":"#N/A"}},{"$f":"MATCH(DS$3,Millwall!$AH137:$AW137,0)","v":{"$error":"#N/A"}},{"$f":"MATCH(DT$3,Millwall!$AH137:$AW137,0)","v":{"$error":"#N/A"}},{"$f":"MATCH(DU$3,Millwall!$AH137:$AW137,0)","v":{"$error":"#N/A"}},{"$f":"MATCH(DV$3,Millwall!$AH137:$AW137,0)","v":{"$error":"#N/A"}},{"$f":"MATCH(DW$3,Millwall!$AH137:$AW137,0)","v":{"$error":"#N/A"}},{"$f":"MATCH(DX$3,Millwall!$AH137:$AW137,0)","v":{"$error":"#N/A"}},{"$f":"MATCH(DY$3,Millwall!$AH137:$AW137,0)","v":{"$error":"#N/A"}},{"$f":"MATCH(DZ$3,Millwall!$AH137:$AW137,0)","v":{"$error":"#N/A"}},{"$f":"MATCH(EA$3,Millwall!$AH137:$AW137,0)","v":{"$error":"#N/A"}},null,null,{"$f":"MATCH(ED$3,Millwall!$AH137:$AW137,0)","v":{"$error":"#N/A"}},{"$f":"MATCH(EE$3,Millwall!$AH137:$AW137,0)","v":{"$error":"#N/A"}},{"$f":"MATCH(EF$3,Millwall!$AH137:$AW137,0)","v":{"$error":"#N/A"}},{"$f":"MATCH(EG$3,Millwall!$AH137:$AW137,0)","v":{"$error":"#N/A"}},{"$f":"MATCH(EH$3,Millwall!$AH137:$AW137,0)","v":{"$error":"#N/A"}},{"$f":"MATCH(EI$3,Millwall!$AH137:$AW137,0)","v":{"$error":"#N/A"}},{"$f":"MATCH(EJ$3,Millwall!$AH137:$AW137,0)","v":{"$error":"#N/A"}},{"$f":"MATCH(EK$3,Millwall!$AH137:$AW137,0)","v":{"$error":"#N/A"}},{"$f":"MATCH(EL$3,Millwall!$AH137:$AW137,0)","v":{"$error":"#N/A"}},{"$f":"MATCH(EM$3,Millwall!$AH137:$AW137,0)","v":{"$error":"#N/A"}},{"$f":"MATCH(EN$3,Millwall!$AH137:$AW137,0)","v":10},{"$f":"MATCH(EO$3,Millwall!$AH137:$AW137,0)","v":{"$error":"#N/A"}},{"$f":"MATCH(EP$3,Millwall!$AH137:$AW137,0)","v":{"$error":"#N/A"}},{"$f":"MATCH(EQ$3,Millwall!$AH137:$AW137,0)","v":{"$error":"#N/A"}},{"$f":"MATCH(ER$3,Millwall!$AH137:$AW137,0)","v":{"$error":"#N/A"}},{"$f":"MATCH(ES$3,Millwall!$AH137:$AW137,0)","v":14},{"$f":"MATCH(ET$3,Millwall!$AH137:$AW137,0)","v":{"$error":"#N/A"}},{"$f":"MATCH(EU$3,Millwall!$AH137:$AW137,0)","v":{"$error":"#N/A"}},{"$f":"MATCH(EV$3,Millwall!$AH137:$AW137,0)","v":{"$error":"#N/A"}},{"$f":"MATCH(EW$3,Millwall!$AH137:$AW137,0)","v":{"$error":"#N/A"}},{"$f":"MATCH(EX$3,Millwall!$AH137:$AW137,0)","v":{"$error":"#N/A"}},{"$f":"MATCH(EY$3,Millwall!$AH137:$AW137,0)","v":{"$error":"#N/A"}},{"$f":"MATCH(EZ$3,Millwall!$AH137:$AW137,0)","v":{"$error":"#N/A"}},{"$f":"MATCH(FA$3,Millwall!$AH137:$AW137,0)","v":{"$error":"#N/A"}},{"$f":"MATCH(FB$3,Millwall!$AH137:$AW137,0)","v":{"$error":"#N/A"}},{"$f":"MATCH(FC$3,Millwall!$AH137:$AW137,0)","v":{"$error":"#N/A"}},{"$f":"MATCH(FD$3,Millwall!$AH137:$AW137,0)","v":{"$error":"#N/A"}},{"$f":"MATCH(FE$3,Millwall!$AH137:$AW137,0)","v":{"$error":"#N/A"}},{"$f":"MATCH(FF$3,Millwall!$AH137:$AW137,0)","v":{"$error":"#N/A"}},{"$f":"MATCH(FG$3,Millwall!$AH137:$AW137,0)","v":{"$error":"#N/A"}},{"$f":"MATCH(FH$3,Millwall!$AH137:$AW137,0)","v":{"$error":"#N/A"}},{"$f":"MATCH(FI$3,Millwall!$AH137:$AW137,0)","v":{"$error":"#N/A"}},{"$f":"MATCH(FJ$3,Millwall!$AH137:$AW137,0)","v":{"$error":"#N/A"}},{"$f":"MATCH(FK$3,Millwall!$AH137:$AW137,0)","v":{"$error":"#N/A"}},{"$f":"MATCH(FL$3,Millwall!$AH137:$AW137,0)","v":{"$error":"#N/A"}},{"$f":"MATCH(FM$3,Millwall!$AH137:$AW137,0)","v":{"$error":"#N/A"}},{"$f":"MATCH(FN$3,Millwall!$AH137:$AW137,0)","v":{"$error":"#N/A"}},{"$f":"MATCH(FO$3,Millwall!$AH137:$AW137,0)","v":{"$error":"#N/A"}}]
[null,null,1,3,null,{"$f":"Millwall!AD138","v":"00:00:00"},null,{"$f":"Millwall!AE138","v":"00:00:00"},{"$f":"Millwall!AF138","v":"00:00:00"},{"$f":"Millwall!AG138","v":0},{"$f":"MATCH(K$4,Millwall!$AH138:$AW138,0)","v":{"$error":"#N/A"}},{"$f":"MATCH(L$4,Millwall!$AH138:$AW138,0)","v":{"$error":"#N/A"}},{"$f":"MATCH(M$4,Millwall!$AH138:$AW138,0)","v":{"$error":"#N/A"}},{"$f":"MATCH(N$4,Millwall!$AH138:$AW138,0)","v":{"$error":"#N/A"}},{"$f":"MATCH(O$4,Millwall!$AH138:$AW138,0)","v":{"$error":"#N/A"}},{"$f":"MATCH(P$4,Millwall!$AH138:$AW138,0)","v":{"$error":"#N/A"}},{"$f":"MATCH(Q$4,Millwall!$AH138:$AW138,0)","v":{"$error":"#N/A"}},{"$f":"MATCH(R$4,Millwall!$AH138:$AW138,0)","v":{"$error":"#N/A"}},{"$f":"MATCH(S$4,Millwall!$AH138:$AW138,0)","v":{"$error":"#N/A"}},{"$f":"MATCH(T$4,Millwall!$AH138:$AW138,0)","v":{"$error":"#N/A"}},{"$f":"MATCH(U$4,Millwall!$AH138:$AW138,0)","v":{"$error":"#N/A"}},{"$f":"MATCH(V$4,Millwall!$AH138:$AW138,0)","v":{"$error":"#N/A"}},{"$f":"MATCH(W$4,Millwall!$AH138:$AW138,0)","v":{"$error":"#N/A"}},{"$f":"MATCH(X$4,Millwall!$AH138:$AW138,0)","v":{"$error":"#N/A"}},{"$f":"MATCH(Y$4,Millwall!$AH138:$AW138,0)","v":{"$error":"#N/A"}},{"$f":"MATCH(Z$4,Millwall!$AH138:$AW138,0)","v":{"$error":"#N/A"}},{"$f":"MATCH(AA$4,Millwall!$AH138:$AW138,0)","v":{"$error":"#N/A"}},{"$f":"MATCH(AB$4,Millwall!$AH138:$AW138,0)","v":{"$error":"#N/A"}},{"$f":"MATCH(AC$4,Millwall!$AH138:$AW138,0)","v":{"$error":"#N/A"}},{"$f":"MATCH(AD$4,Millwall!$AH138:$AW138,0)","v":{"$error":"#N/A"}},{"$f":"MATCH(AE$4,Millwall!$AH138:$AW138,0)","v":{"$error":"#N/A"}},{"$f":"MATCH(AF$4,Millwall!$AH138:$AW138,0)","v":{"$error":"#N/A"}},{"$f":"MATCH(AG$4,Millwall!$AH138:$AW138,0)","v":{"$error":"#N/A"}},{"$f":"MATCH(AH$4,Millwall!$AH138:$AW138,0)","v":{"$error":"#N/A"}},{"$f":"MATCH(AI$4,Millwall!$AH138:$AW138,0)","v":{"$error":"#N/A"}},{"$f":"MATCH(AJ$4,Millwall!$AH138:$AW138,0)","v":{"$error":"#N/A"}},{"$f":"MATCH(AK$4,Millwall!$AH138:$AW138,0)","v":{"$error":"#N/A"}},{"$f":"MATCH(AL$4,Millwall!$AH138:$AW138,0)","v":{"$error":"#N/A"}},{"$f":"MATCH(AM$4,Millwall!$AH138:$AW138,0)","v":{"$error":"#N/A"}},{"$f":"MATCH(AN$4,Millwall!$AH138:$AW138,0)","v":{"$error":"#N/A"}},{"$f":"MATCH(AO$4,Millwall!$AH138:$AW138,0)","v":{"$error":"#N/A"}},{"$f":"MATCH(AP$4,Millwall!$AH138:$AW138,0)","v":{"$error":"#N/A"}},{"$f":"MATCH(AQ$4,Millwall!$AH138:$AW138,0)","v":{"$error":"#N/A"}},{"$f":"MATCH(AR$4,Millwall!$AH138:$AW138,0)","v":{"$error":"#N/A"}},{"$f":"MATCH(AS$4,Millwall!$AH138:$AW138,0)","v":{"$error":"#N/A"}},{"$f":"MATCH(AT$4,Millwall!$AH138:$AW138,0)","v":{"$error":"#N/A"}},{"$f":"MATCH(AU$4,Millwall!$AH138:$AW138,0)","v":{"$error":"#N/A"}},{"$f":"MATCH(AV$4,Millwall!$AH138:$AW138,0)","v":{"$error":"#N/A"}},null,null,null,null,null,{"$f":"MATCH(BB$3,Millwall!$AH138:$AW138,0)","v":{"$error":"#N/A"}},{"$f":"MATCH(BC$3,Millwall!$AH138:$AW138,0)","v":{"$error":"#N/A"}},{"$f":"MATCH(BD$3,Millwall!$AH138:$AW138,0)","v":{"$error":"#N/A"}},{"$f":"MATCH(BE$3,Millwall!$AH138:$AW138,0)","v":{"$error":"#N/A"}},{"$f":"MATCH(BF$3,Millwall!$AH138:$AW138,0)","v":{"$error":"#N/A"}},{"$f":"MATCH(BG$3,Millwall!$AH138:$AW138,0)","v":{"$error":"#N/A"}},{"$f":"MATCH(BH$3,Millwall!$AH138:$AW138,0)","v":{"$error":"#N/A"}},{"$f":"MATCH(BI$3,Millwall!$AH138:$AW138,0)","v":{"$error":"#N/A"}},{"$f":"MATCH(BJ$3,Millwall!$AH138:$AW138,0)","v":{"$error":"#N/A"}},{"$f":"MATCH(BK$3,Millwall!$AH138:$AW138,0)","v":{"$error":"#N/A"}},{"$f":"MATCH(BL$3,Millwall!$AH138:$AW138,0)","v":{"$error":"#N/A"}},{"$f":"MATCH(BM$3,Millwall!$AH138:$AW138,0)","v":{"$error":"#N/A"}},{"$f":"MATCH(BN$3,Millwall!$AH138:$AW138,0)","v":{"$error":"#N/A"}},{"$f":"MATCH(BO$3,Millwall!$AH138:$AW138,0)","v":{"$error":"#N/A"}},{"$f":"MATCH(BP$3,Millwall!$AH138:$AW138,0)","v":{"$error":"#N/A"}},{"$f":"MATCH(BQ$3,Millwall!$AH138:$AW138,0)","v":{"$error":"#N/A"}},{"$f":"MATCH(BR$3,Millwall!$AH138:$AW138,0)","v":{"$error":"#N/A"}},{"$f":"MATCH(BS$3,Millwall!$AH138:$AW138,0)","v":{"$error":"#N/A"}},{"$f":"MATCH(BT$3,Millwall!$AH138:$AW138,0)","v":{"$error":"#N/A"}},{"$f":"MATCH(BU$3,Millwall!$AH138:$AW138,0)","v":{"$error":"#N/A"}},{"$f":"MATCH(BV$3,Millwall!$AH138:$AW138,0)","v":{"$error":"#N/A"}},{"$f":"MATCH(BW$3,Millwall!$AH138:$AW138,0)","v":{"$error":"#N/A"}},{"$f":"MATCH(BX$3,Millwall!$AH138:$AW138,0)","v":{"$error":"#N/A"}},{"$f":"MATCH(BY$3,Millwall!$AH138:$AW138,0)","v":{"$error":"#N/A"}},{"$f":"MATCH(BZ$3,Millwall!$AH138:$AW138,0)","v":{"$error":"#N/A"}},{"$f":"MATCH(CA$3,Millwall!$AH138:$AW138,0)","v":{"$error":"#N/A"}},{"$f":"MATCH(CB$3,Millwall!$AH138:$AW138,0)","v":{"$error":"#N/A"}},{"$f":"MATCH(CC$3,Millwall!$AH138:$AW138,0)","v":{"$error":"#N/A"}},{"$f":"MATCH(CD$3,Millwall!$AH138:$AW138,0)","v":{"$error":"#N/A"}},{"$f":"MATCH(CE$3,Millwall!$AH138:$AW138,0)","v":{"$error":"#N/A"}},{"$f":"MATCH(CF$3,Millwall!$AH138:$AW138,0)","v":{"$error":"#N/A"}},{"$f":"MATCH(CG$3,Millwall!$AH138:$AW138,0)","v":{"$error":"#N/A"}},{"$f":"MATCH(CH$3,Millwall!$AH138:$AW138,0)","v":{"$error":"#N/A"}},{"$f":"MATCH(CI$3,Millwall!$AH138:$AW138,0)","v":{"$error":"#N/A"}},{"$f":"MATCH(CJ$3,Millwall!$AH138:$AW138,0)","v":{"$error":"#N/A"}},{"$f":"MATCH(CK$3,Millwall!$AH138:$AW138,0)","v":{"$error":"#N/A"}},{"$f":"MATCH(CL$3,Millwall!$AH138:$AW138,0)","v":{"$error":"#N/A"}},{"$f":"MATCH(CM$3,Millwall!$AH138:$AW138,0)","v":{"$error":"#N/A"}},null,null,{"$f":"MATCH(CP$3,Millwall!$AH138:$AW138,0)","v":{"$error":"#N/A"}},{"$f":"MATCH(CQ$3,Millwall!$AH138:$AW138,0)","v":{"$error":"#N/A"}},{"$f":"MATCH(CR$3,Millwall!$AH138:$AW138,0)","v":{"$error":"#N/A"}},{"$f":"MATCH(CS$3,Millwall!$AH138:$AW138,0)","v":{"$error":"#N/A"}},{"$f":"MATCH(CT$3,Millwall!$AH138:$AW138,0)","v":{"$error":"#N/A"}},{"$f":"MATCH(CU$3,Millwall!$AH138:$AW138,0)","v":{"$error":"#N/A"}},{"$f":"MATCH(CV$3,Millwall!$AH138:$AW138,0)","v":{"$error":"#N/A"}},{"$f":"MATCH(CW$3,Millwall!$AH138:$AW138,0)","v":{"$error":"#N/A"}},{"$f":"MATCH(CX$3,Millwall!$AH138:$AW138,0)","v":{"$error":"#N/A"}},{"$f":"MATCH(CY$3,Millwall!$AH138:$AW138,0)","v":{"$error":"#N/A"}},{"$f":"MATCH(CZ$3,Millwall!$AH138:$AW138,0)","v":{"$error":"#N/A"}},{"$f":"MATCH(DA$3,Millwall!$AH138:$AW138,0)","v":{"$error":"#N/A"}},{"$f":"MATCH(DB$3,Millwall!$AH138:$AW138,0)","v":{"$error":"#N/A"}},{"$f":"MATCH(DC$3,Millwall!$AH138:$AW138,0)","v":{"$error":"#N/A"}},{"$f":"MATCH(DD$3,Millwall!$AH138:$AW138,0)","v":{"$error":"#N/A"}},{"$f":"MATCH(DE$3,Millwall!$AH138:$AW138,0)","v":{"$error":"#N/A"}},{"$f":"MATCH(DF$3,Millwall!$AH138:$AW138,0)","v":{"$error":"#N/A"}},{"$f":"MATCH(DG$3,Millwall!$AH138:$AW138,0)","v":{"$error":"#N/A"}},{"$f":"MATCH(DH$3,Millwall!$AH138:$AW138,0)","v":{"$error":"#N/A"}},{"$f":"MATCH(DI$3,Millwall!$AH138:$AW138,0)","v":{"$error":"#N/A"}},{"$f":"MATCH(DJ$3,Millwall!$AH138:$AW138,0)","v":{"$error":"#N/A"}},{"$f":"MATCH(DK$3,Millwall!$AH138:$AW138,0)","v":{"$error":"#N/A"}},{"$f":"MATCH(DL$3,Millwall!$AH138:$AW138,0)","v":{"$error":"#N/A"}},{"$f":"MATCH(DM$3,Millwall!$AH138:$AW138,0)","v":{"$error":"#N/A"}},{"$f":"MATCH(DN$3,Millwall!$AH138:$AW138,0)","v":{"$error":"#N/A"}},{"$f":"MATCH(DO$3,Millwall!$AH138:$AW138,0)","v":{"$error":"#N/A"}},{"$f":"MATCH(DP$3,Millwall!$AH138:$AW138,0)","v":{"$error":"#N/A"}},{"$f":"MATCH(DQ$3,Millwall!$AH138:$AW138,0)","v":{"$error":"#N/A"}},{"$f":"MATCH(DR$3,Millwall!$AH138:$AW138,0)","v":{"$error":"#N/A"}},{"$f":"MATCH(DS$3,Millwall!$AH138:$AW138,0)","v":{"$error":"#N/A"}},{"$f":"MATCH(DT$3,Millwall!$AH138:$AW138,0)","v":{"$error":"#N/A"}},{"$f":"MATCH(DU$3,Millwall!$AH138:$AW138,0)","v":{"$error":"#N/A"}},{"$f":"MATCH(DV$3,Millwall!$AH138:$AW138,0)","v":{"$error":"#N/A"}},{"$f":"MATCH(DW$3,Millwall!$AH138:$AW138,0)","v":{"$error":"#N/A"}},{"$f":"MATCH(DX$3,Millwall!$AH138:$AW138,0)","v":{"$error":"#N/A"}},{"$f":"MATCH(DY$3,Millwall!$AH138:$AW138,0)","v":{"$error":"#N/A"}},{"$f":"MATCH(DZ$3,Millwall!$AH138:$AW138,0)","v":{"$error":"#N/A"}},{"$f":"MATCH(EA$3,Millwall!$AH138:$AW138,0)","v":{"$error":"#N/A"}},null,null,{"$f":"MATCH(ED$3,Millwall!$AH138:$AW138,0)","v":{"$error":"#N/A"}},{"$f":"MATCH(EE$3,Millwall!$AH138:$AW138,0)","v":{"$error":"#N/A"}},{"$f":"MATCH(EF$3,Millwall!$AH138:$AW138,0)","v":{"$error":"#N/A"}},{"$f":"MATCH(EG$3,Millwall!$AH138:$AW138,0)","v":{"$error":"#N/A"}},{"$f":"MATCH(EH$3,Millwall!$AH138:$AW138,0)","v":{"$error":"#N/A"}},{"$f":"MATCH(EI$3,Millwall!$AH138:$AW138,0)","v":{"$error":"#N/A"}},{"$f":"MATCH(EJ$3,Millwall!$AH138:$AW138,0)","v":{"$error":"#N/A"}},{"$f":"MATCH(EK$3,Millwall!$AH138:$AW138,0)","v":{"$error":"#N/A"}},{"$f":"MATCH(EL$3,Millwall!$AH138:$AW138,0)","v":{"$error":"#N/A"}},{"$f":"MATCH(EM$3,Millwall!$AH138:$AW138,0)","v":{"$error":"#N/A"}},{"$f":"MATCH(EN$3,Millwall!$AH138:$AW138,0)","v":{"$error":"#N/A"}},{"$f":"MATCH(EO$3,Millwall!$AH138:$AW138,0)","v":{"$error":"#N/A"}},{"$f":"MATCH(EP$3,Millwall!$AH138:$AW138,0)","v":{"$error":"#N/A"}},{"$f":"MATCH(EQ$3,Millwall!$AH138:$AW138,0)","v":{"$error":"#N/A"}},{"$f":"MATCH(ER$3,Millwall!$AH138:$AW138,0)","v":{"$error":"#N/A"}},{"$f":"MATCH(ES$3,Millwall!$AH138:$AW138,0)","v":{"$error":"#N/A"}},{"$f":"MATCH(ET$3,Millwall!$AH138:$AW138,0)","v":{"$error":"#N/A"}},{"$f":"MATCH(EU$3,Millwall!$AH138:$AW138,0)","v":{"$error":"#N/A"}},{"$f":"MATCH(EV$3,Millwall!$AH138:$AW138,0)","v":{"$error":"#N/A"}},{"$f":"MATCH(EW$3,Millwall!$AH138:$AW138,0)","v":{"$error":"#N/A"}},{"$f":"MATCH(EX$3,Millwall!$AH138:$AW138,0)","v":{"$error":"#N/A"}},{"$f":"MATCH(EY$3,Millwall!$AH138:$AW138,0)","v":{"$error":"#N/A"}},{"$f":"MATCH(EZ$3,Millwall!$AH138:$AW138,0)","v":{"$error":"#N/A"}},{"$f":"MATCH(FA$3,Millwall!$AH138:$AW138,0)","v":{"$error":"#N/A"}},{"$f":"MATCH(FB$3,Millwall!$AH138:$AW138,0)","v":{"$error":"#N/A"}},{"$f":"MATCH(FC$3,Millwall!$AH138:$AW138,0)","v":{"$error":"#N/A"}},{"$f":"MATCH(FD$3,Millwall!$AH138:$AW138,0)","v":{"$error":"#N/A"}},{"$f":"MATCH(FE$3,Millwall!$AH138:$AW138,0)","v":{"$error":"#N/A"}},{"$f":"MATCH(FF$3,Millwall!$AH138:$AW138,0)","v":{"$error":"#N/A"}},{"$f":"MATCH(FG$3,Millwall!$AH138:$AW138,0)","v":{"$error":"#N/A"}},{"$f":"MATCH(FH$3,Millwall!$AH138:$AW138,0)","v":{"$error":"#N/A"}},{"$f":"MATCH(FI$3,Millwall!$AH138:$AW138,0)","v":{"$error":"#N/A"}},{"$f":"MATCH(FJ$3,Millwall!$AH138:$AW138,0)","v":{"$error":"#N/A"}},{"$f":"MATCH(FK$3,Millwall!$AH138:$AW138,0)","v":{"$error":"#N/A"}},{"$f":"MATCH(FL$3,Millwall!$AH138:$AW138,0)","v":{"$error":"#N/A"}},{"$f":"MATCH(FM$3,Millwall!$AH138:$AW138,0)","v":{"$error":"#N/A"}},{"$f":"MATCH(FN$3,Millwall!$AH138:$AW138,0)","v":{"$error":"#N/A"}},{"$f":"MATCH(FO$3,Millwall!$AH138:$AW138,0)","v":{"$error":"#N/A"}}]
[null,null,1,null,null,{"$f":"Millwall!AD139","v":"00:00:00"},null,{"$f":"Millwall!AE139","v":"00:00:00"},{"$f":"Millwall!AF139","v":"00:00:00"},{"$f":"Millwall!AG139","v":0},{"$f":"MATCH(K$4,Millwall!$AH139:$AW139,0)","v":{"$error":"#N/A"}},{"$f":"MATCH(L$4,Millwall!$AH139:$AW139,0)","v":{"$error":"#N/A"}},{"$f":"MATCH(M$4,Millwall!$AH139:$AW139,0)","v":{"$error":"#N/A"}},{"$f":"MATCH(N$4,Millwall!$AH139:$AW139,0)","v":{"$error":"#N/A"}},{"$f":"MATCH(O$4,Millwall!$AH139:$AW139,0)","v":{"$error":"#N/A"}},{"$f":"MATCH(P$4,Millwall!$AH139:$AW139,0)","v":{"$error":"#N/A"}},{"$f":"MATCH(Q$4,Millwall!$AH139:$AW139,0)","v":{"$error":"#N/A"}},{"$f":"MATCH(R$4,Millwall!$AH139:$AW139,0)","v":{"$error":"#N/A"}},{"$f":"MATCH(S$4,Millwall!$AH139:$AW139,0)","v":{"$error":"#N/A"}},{"$f":"MATCH(T$4,Millwall!$AH139:$AW139,0)","v":{"$error":"#N/A"}},{"$f":"MATCH(U$4,Millwall!$AH139:$AW139,0)","v":{"$error":"#N/A"}},{"$f":"MATCH(V$4,Millwall!$AH139:$AW139,0)","v":{"$error":"#N/A"}},{"$f":"MATCH(W$4,Millwall!$AH139:$AW139,0)","v":{"$error":"#N/A"}},{"$f":"MATCH(X$4,Millwall!$AH139:$AW139,0)","v":{"$error":"#N/A"}},{"$f":"MATCH(Y$4,Millwall!$AH139:$AW139,0)","v":{"$error":"#N/A"}},{"$f":"MATCH(Z$4,Millwall!$AH139:$AW139,0)","v":{"$error":"#N/A"}},{"$f":"MATCH(AA$4,Millwall!$AH139:$AW139,0)","v":{"$error":"#N/A"}},{"$f":"MATCH(AB$4,Millwall!$AH139:$AW139,0)","v":{"$error":"#N/A"}},{"$f":"MATCH(AC$4,Millwall!$AH139:$AW139,0)","v":{"$error":"#N/A"}},{"$f":"MATCH(AD$4,Millwall!$AH139:$AW139,0)","v":{"$error":"#N/A"}},{"$f":"MATCH(AE$4,Millwall!$AH139:$AW139,0)","v":{"$error":"#N/A"}},{"$f":"MATCH(AF$4,Millwall!$AH139:$AW139,0)","v":{"$error":"#N/A"}},{"$f":"MATCH(AG$4,Millwall!$AH139:$AW139,0)","v":{"$error":"#N/A"}},{"$f":"MATCH(AH$4,Millwall!$AH139:$AW139,0)","v":{"$error":"#N/A"}},{"$f":"MATCH(AI$4,Millwall!$AH139:$AW139,0)","v":{"$error":"#N/A"}},{"$f":"MATCH(AJ$4,Millwall!$AH139:$AW139,0)","v":{"$error":"#N/A"}},{"$f":"MATCH(AK$4,Millwall!$AH139:$AW139,0)","v":{"$error":"#N/A"}},{"$f":"MATCH(AL$4,Millwall!$AH139:$AW139,0)","v":{"$error":"#N/A"}},{"$f":"MATCH(AM$4,Millwall!$AH139:$AW139,0)","v":{"$error":"#N/A"}},{"$f":"MATCH(AN$4,Millwall!$AH139:$AW139,0)","v":{"$error":"#N/A"}},{"$f":"MATCH(AO$4,Millwall!$AH139:$AW139,0)","v":{"$error":"#N/A"}},{"$f":"MATCH(AP$4,Millwall!$AH139:$AW139,0)","v":{"$error":"#N/A"}},{"$f":"MATCH(AQ$4,Millwall!$AH139:$AW139,0)","v":{"$error":"#N/A"}},{"$f":"MATCH(AR$4,Millwall!$AH139:$AW139,0)","v":{"$error":"#N/A"}},{"$f":"MATCH(AS$4,Millwall!$AH139:$AW139,0)","v":{"$error":"#N/A"}},{"$f":"MATCH(AT$4,Millwall!$AH139:$AW139,0)","v":{"$error":"#N/A"}},{"$f":"MATCH(AU$4,Millwall!$AH139:$AW139,0)","v":{"$error":"#N/A"}},{"$f":"MATCH(AV$4,Millwall!$AH139:$AW139,0)","v":{"$error":"#N/A"}},null,null,null,null,null,{"$f":"MATCH(BB$3,Millwall!$AH139:$AW139,0)","v":{"$error":"#N/A"}},{"$f":"MATCH(BC$3,Millwall!$AH139:$AW139,0)","v":{"$error":"#N/A"}},{"$f":"MATCH(BD$3,Millwall!$AH139:$AW139,0)","v":{"$error":"#N/A"}},{"$f":"MATCH(BE$3,Millwall!$AH139:$AW139,0)","v":{"$error":"#N/A"}},{"$f":"MATCH(BF$3,Millwall!$AH139:$AW139,0)","v":{"$error":"#N/A"}},{"$f":"MATCH(BG$3,Millwall!$AH139:$AW139,0)","v":{"$error":"#N/A"}},{"$f":"MATCH(BH$3,Millwall!$AH139:$AW139,0)","v":{"$error":"#N/A"}},{"$f":"MATCH(BI$3,Millwall!$AH139:$AW139,0)","v":{"$error":"#N/A"}},{"$f":"MATCH(BJ$3,Millwall!$AH139:$AW139,0)","v":{"$error":"#N/A"}},{"$f":"MATCH(BK$3,Millwall!$AH139:$AW139,0)","v":{"$error":"#N/A"}},{"$f":"MATCH(BL$3,Millwall!$AH139:$AW139,0)","v":{"$error":"#N/A"}},{"$f":"MATCH(BM$3,Millwall!$AH139:$AW139,0)","v":{"$error":"#N/A"}},{"$f":"MATCH(BN$3,Millwall!$AH139:$AW139,0)","v":{"$error":"#N/A"}},{"$f":"MATCH(BO$3,Millwall!$AH139:$AW139,0)","v":{"$error":"#N/A"}},{"$f":"MATCH(BP$3,Millwall!$AH139:$AW139,0)","v":{"$error":"#N/A"}},{"$f":"MATCH(BQ$3,Millwall!$AH139:$AW139,0)","v":{"$error":"#N/A"}},{"$f":"MATCH(BR$3,Millwall!$AH139:$AW139,0)","v":{"$error":"#N/A"}},{"$f":"MATCH(BS$3,Millwall!$AH139:$AW139,0)","v":{"$error":"#N/A"}},{"$f":"MATCH(BT$3,Millwall!$AH139:$AW139,0)","v":{"$error":"#N/A"}},{"$f":"MATCH(BU$3,Millwall!$AH139:$AW139,0)","v":{"$error":"#N/A"}},{"$f":"MATCH(BV$3,Millwall!$AH139:$AW139,0)","v":{"$error":"#N/A"}},{"$f":"MATCH(BW$3,Millwall!$AH139:$AW139,0)","v":{"$error":"#N/A"}},{"$f":"MATCH(BX$3,Millwall!$AH139:$AW139,0)","v":{"$error":"#N/A"}},{"$f":"MATCH(BY$3,Millwall!$AH139:$AW139,0)","v":{"$error":"#N/A"}},{"$f":"MATCH(BZ$3,Millwall!$AH139:$AW139,0)","v":{"$error":"#N/A"}},{"$f":"MATCH(CA$3,Millwall!$AH139:$AW139,0)","v":{"$error":"#N/A"}},{"$f":"MATCH(CB$3,Millwall!$AH139:$AW139,0)","v":{"$error":"#N/A"}},{"$f":"MATCH(CC$3,Millwall!$AH139:$AW139,0)","v":{"$error":"#N/A"}},{"$f":"MATCH(CD$3,Millwall!$AH139:$AW139,0)","v":{"$error":"#N/A"}},{"$f":"MATCH(CE$3,Millwall!$AH139:$AW139,0)","v":{"$error":"#N/A"}},{"$f":"MATCH(CF$3,Millwall!$AH139:$AW139,0)","v":{"$error":"#N/A"}},{"$f":"MATCH(CG$3,Millwall!$AH139:$AW139,0)","v":{"$error":"#N/A"}},{"$f":"MATCH(CH$3,Millwall!$AH139:$AW139,0)","v":{"$error":"#N/A"}},{"$f":"MATCH(CI$3,Millwall!$AH139:$AW139,0)","v":{"$error":"#N/A"}},{"$f":"MATCH(CJ$3,Millwall!$AH139:$AW139,0)","v":{"$error":"#N/A"}},{"$f":"MATCH(CK$3,Millwall!$AH139:$AW139,0)","v":{"$error":"#N/A"}},{"$f":"MATCH(CL$3,Millwall!$AH139:$AW139,0)","v":{"$error":"#N/A"}},{"$f":"MATCH(CM$3,Millwall!$AH139:$AW139,0)","v":{"$error":"#N/A"}},null,null,{"$f":"MATCH(CP$3,Millwall!$AH139:$AW139,0)","v":{"$error":"#N/A"}},{"$f":"MATCH(CQ$3,Millwall!$AH139:$AW139,0)","v":{"$error":"#N/A"}},{"$f":"MATCH(CR$3,Millwall!$AH139:$AW139,0)","v":{"$error":"#N/A"}},{"$f":"MATCH(CS$3,Millwall!$AH139:$AW139,0)","v":{"$error":"#N/A"}},{"$f":"MATCH(CT$3,Millwall!$AH139:$AW139,0)","v":{"$error":"#N/A"}},{"$f":"MATCH(CU$3,Millwall!$AH139:$AW139,0)","v":{"$error":"#N/A"}},{"$f":"MATCH(CV$3,Millwall!$AH139:$AW139,0)","v":{"$error":"#N/A"}},{"$f":"MATCH(CW$3,Millwall!$AH139:$AW139,0)","v":{"$error":"#N/A"}},{"$f":"MATCH(CX$3,Millwall!$AH139:$AW139,0)","v":{"$error":"#N/A"}},{"$f":"MATCH(CY$3,Millwall!$AH139:$AW139,0)","v":{"$error":"#N/A"}},{"$f":"MATCH(CZ$3,Millwall!$AH139:$AW139,0)","v":{"$error":"#N/A"}},{"$f":"MATCH(DA$3,Millwall!$AH139:$AW139,0)","v":{"$error":"#N/A"}},{"$f":"MATCH(DB$3,Millwall!$AH139:$AW139,0)","v":{"$error":"#N/A"}},{"$f":"MATCH(DC$3,Millwall!$AH139:$AW139,0)","v":{"$error":"#N/A"}},{"$f":"MATCH(DD$3,Millwall!$AH139:$AW139,0)","v":{"$error":"#N/A"}},{"$f":"MATCH(DE$3,Millwall!$AH139:$AW139,0)","v":{"$error":"#N/A"}},{"$f":"MATCH(DF$3,Millwall!$AH139:$AW139,0)","v":{"$error":"#N/A"}},{"$f":"MATCH(DG$3,Millwall!$AH139:$AW139,0)","v":{"$error":"#N/A"}},{"$f":"MATCH(DH$3,Millwall!$AH139:$AW139,0)","v":{"$error":"#N/A"}},{"$f":"MATCH(DI$3,Millwall!$AH139:$AW139,0)","v":{"$error":"#N/A"}},{"$f":"MATCH(DJ$3,Millwall!$AH139:$AW139,0)","v":{"$error":"#N/A"}},{"$f":"MATCH(DK$3,Millwall!$AH139:$AW139,0)","v":{"$error":"#N/A"}},{"$f":"MATCH(DL$3,Millwall!$AH139:$AW139,0)","v":{"$error":"#N/A"}},{"$f":"MATCH(DM$3,Millwall!$AH139:$AW139,0)","v":{"$error":"#N/A"}},{"$f":"MATCH(DN$3,Millwall!$AH139:$AW139,0)","v":{"$error":"#N/A"}},{"$f":"MATCH(DO$3,Millwall!$AH139:$AW139,0)","v":{"$error":"#N/A"}},{"$f":"MATCH(DP$3,Millwall!$AH139:$AW139,0)","v":{"$error":"#N/A"}},{"$f":"MATCH(DQ$3,Millwall!$AH139:$AW139,0)","v":{"$error":"#N/A"}},{"$f":"MATCH(DR$3,Millwall!$AH139:$AW139,0)","v":{"$error":"#N/A"}},{"$f":"MATCH(DS$3,Millwall!$AH139:$AW139,0)","v":{"$error":"#N/A"}},{"$f":"MATCH(DT$3,Millwall!$AH139:$AW139,0)","v":{"$error":"#N/A"}},{"$f":"MATCH(DU$3,Millwall!$AH139:$AW139,0)","v":{"$error":"#N/A"}},{"$f":"MATCH(DV$3,Millwall!$AH139:$AW139,0)","v":{"$error":"#N/A"}},{"$f":"MATCH(DW$3,Millwall!$AH139:$AW139,0)","v":{"$error":"#N/A"}},{"$f":"MATCH(DX$3,Millwall!$AH139:$AW139,0)","v":{"$error":"#N/A"}},{"$f":"MATCH(DY$3,Millwall!$AH139:$AW139,0)","v":{"$error":"#N/A"}},{"$f":"MATCH(DZ$3,Millwall!$AH139:$AW139,0)","v":{"$error":"#N/A"}},{"$f":"MATCH(EA$3,Millwall!$AH139:$AW139,0)","v":{"$error":"#N/A"}},null,null,{"$f":"MATCH(ED$3,Millwall!$AH139:$AW139,0)","v":{"$error":"#N/A"}},{"$f":"MATCH(EE$3,Millwall!$AH139:$AW139,0)","v":{"$error":"#N/A"}},{"$f":"MATCH(EF$3,Millwall!$AH139:$AW139,0)","v":{"$error":"#N/A"}},{"$f":"MATCH(EG$3,Millwall!$AH139:$AW139,0)","v":{"$error":"#N/A"}},{"$f":"MATCH(EH$3,Millwall!$AH139:$AW139,0)","v":{"$error":"#N/A"}},{"$f":"MATCH(EI$3,Millwall!$AH139:$AW139,0)","v":{"$error":"#N/A"}},{"$f":"MATCH(EJ$3,Millwall!$AH139:$AW139,0)","v":{"$error":"#N/A"}},{"$f":"MATCH(EK$3,Millwall!$AH139:$AW139,0)","v":{"$error":"#N/A"}},{"$f":"MATCH(EL$3,Millwall!$AH139:$AW139,0)","v":{"$error":"#N/A"}},{"$f":"MATCH(EM$3,Millwall!$AH139:$AW139,0)","v":{"$error":"#N/A"}},{"$f":"MATCH(EN$3,Millwall!$AH139:$AW139,0)","v":{"$error":"#N/A"}},{"$f":"MATCH(EO$3,Millwall!$AH139:$AW139,0)","v":{"$error":"#N/A"}},{"$f":"MATCH(EP$3,Millwall!$AH139:$AW139,0)","v":{"$error":"#N/A"}},{"$f":"MATCH(EQ$3,Millwall!$AH139:$AW139,0)","v":{"$error":"#N/A"}},{"$f":"MATCH(ER$3,Millwall!$AH139:$AW139,0)","v":{"$error":"#N/A"}},{"$f":"MATCH(ES$3,Millwall!$AH139:$AW139,0)","v":{"$error":"#N/A"}},{"$f":"MATCH(ET$3,Millwall!$AH139:$AW139,0)","v":{"$error":"#N/A"}},{"$f":"MATCH(EU$3,Millwall!$AH139:$AW139,0)","v":{"$error":"#N/A"}},{"$f":"MATCH(EV$3,Millwall!$AH139:$AW139,0)","v":{"$error":"#N/A"}},{"$f":"MATCH(EW$3,Millwall!$AH139:$AW139,0)","v":{"$error":"#N/A"}},{"$f":"MATCH(EX$3,Millwall!$AH139:$AW139,0)","v":{"$error":"#N/A"}},{"$f":"MATCH(EY$3,Millwall!$AH139:$AW139,0)","v":{"$error":"#N/A"}},{"$f":"MATCH(EZ$3,Millwall!$AH139:$AW139,0)","v":{"$error":"#N/A"}},{"$f":"MATCH(FA$3,Millwall!$AH139:$AW139,0)","v":{"$error":"#N/A"}},{"$f":"MATCH(FB$3,Millwall!$AH139:$AW139,0)","v":{"$error":"#N/A"}},{"$f":"MATCH(FC$3,Millwall!$AH139:$AW139,0)","v":{"$error":"#N/A"}},{"$f":"MATCH(FD$3,Millwall!$AH139:$AW139,0)","v":{"$error":"#N/A"}},{"$f":"MATCH(FE$3,Millwall!$AH139:$AW139,0)","v":{"$error":"#N/A"}},{"$f":"MATCH(FF$3,Millwall!$AH139:$AW139,0)","v":{"$error":"#N/A"}},{"$f":"MATCH(FG$3,Millwall!$AH139:$AW139,0)","v":{"$error":"#N/A"}},{"$f":"MATCH(FH$3,Millwall!$AH139:$AW139,0)","v":{"$error":"#N/A"}},{"$f":"MATCH(FI$3,Millwall!$AH139:$AW139,0)","v":{"$error":"#N/A"}},{"$f":"MATCH(FJ$3,Millwall!$AH139:$AW139,0)","v":{"$error":"#N/A"}},{"$f":"MATCH(FK$3,Millwall!$AH139:$AW139,0)","v":{"$error":"#N/A"}},{"$f":"MATCH(FL$3,Millwall!$AH139:$AW139,0)","v":{"$error":"#N/A"}},{"$f":"MATCH(FM$3,Millwall!$AH139:$AW139,0)","v":{"$error":"#N/A"}},{"$f":"MATCH(FN$3,Millwall!$AH139:$AW139,0)","v":{"$error":"#N/A"}},{"$f":"MATCH(FO$3,Millwall!$AH139:$AW139,0)","v":{"$error":"#N/A"}}]
[null,null,1,null,null,{"$f":"Millwall!AD140","v":"00:00:00"},null,{"$f":"Millwall!AE140","v":"00:00:00"},{"$f":"Millwall!AF140","v":"00:00:00"},{"$f":"Millwall!AG140","v":0},{"$f":"MATCH(K$4,Millwall!$AH140:$AW140,0)","v":{"$error":"#N/A"}},{"$f":"MATCH(L$4,Millwall!$AH140:$AW140,0)","v":{"$error":"#N/A"}},{"$f":"MATCH(M$4,Millwall!$AH140:$AW140,0)","v":{"$error":"#N/A"}},{"$f":"MATCH(N$4,Millwall!$AH140:$AW140,0)","v":{"$error":"#N/A"}},{"$f":"MATCH(O$4,Millwall!$AH140:$AW140,0)","v":{"$error":"#N/A"}},{"$f":"MATCH(P$4,Millwall!$AH140:$AW140,0)","v":{"$error":"#N/A"}},{"$f":"MATCH(Q$4,Millwall!$AH140:$AW140,0)","v":{"$error":"#N/A"}},{"$f":"MATCH(R$4,Millwall!$AH140:$AW140,0)","v":{"$error":"#N/A"}},{"$f":"MATCH(S$4,Millwall!$AH140:$AW140,0)","v":{"$error":"#N/A"}},{"$f":"MATCH(T$4,Millwall!$AH140:$AW140,0)","v":{"$error":"#N/A"}},{"$f":"MATCH(U$4,Millwall!$AH140:$AW140,0)","v":{"$error":"#N/A"}},{"$f":"MATCH(V$4,Millwall!$AH140:$AW140,0)","v":{"$error":"#N/A"}},{"$f":"MATCH(W$4,Millwall!$AH140:$AW140,0)","v":{"$error":"#N/A"}},{"$f":"MATCH(X$4,Millwall!$AH140:$AW140,0)","v":{"$error":"#N/A"}},{"$f":"MATCH(Y$4,Millwall!$AH140:$AW140,0)","v":{"$error":"#N/A"}},{"$f":"MATCH(Z$4,Millwall!$AH140:$AW140,0)","v":{"$error":"#N/A"}},{"$f":"MATCH(AA$4,Millwall!$AH140:$AW140,0)","v":{"$error":"#N/A"}},{"$f":"MATCH(AB$4,Millwall!$AH140:$AW140,0)","v":{"$error":"#N/A"}},{"$f":"MATCH(AC$4,Millwall!$AH140:$AW140,0)","v":{"$error":"#N/A"}},{"$f":"MATCH(AD$4,Millwall!$AH140:$AW140,0)","v":{"$error":"#N/A"}},{"$f":"MATCH(AE$4,Millwall!$AH140:$AW140,0)","v":{"$error":"#N/A"}},{"$f":"MATCH(AF$4,Millwall!$AH140:$AW140,0)","v":{"$error":"#N/A"}},{"$f":"MATCH(AG$4,Millwall!$AH140:$AW140,0)","v":{"$error":"#N/A"}},{"$f":"MATCH(AH$4,Millwall!$AH140:$AW140,0)","v":{"$error":"#N/A"}},{"$f":"MATCH(AI$4,Millwall!$AH140:$AW140,0)","v":{"$error":"#N/A"}},{"$f":"MATCH(AJ$4,Millwall!$AH140:$AW140,0)","v":{"$error":"#N/A"}},{"$f":"MATCH(AK$4,Millwall!$AH140:$AW140,0)","v":{"$error":"#N/A"}},{"$f":"MATCH(AL$4,Millwall!$AH140:$AW140,0)","v":{"$error":"#N/A"}},{"$f":"MATCH(AM$4,Millwall!$AH140:$AW140,0)","v":{"$error":"#N/A"}},{"$f":"MATCH(AN$4,Millwall!$AH140:$AW140,0)","v":{"$error":"#N/A"}},{"$f":"MATCH(AO$4,Millwall!$AH140:$AW140,0)","v":{"$error":"#N/A"}},{"$f":"MATCH(AP$4,Millwall!$AH140:$AW140,0)","v":{"$error":"#N/A"}},{"$f":"MATCH(AQ$4,Millwall!$AH140:$AW140,0)","v":{"$error":"#N/A"}},{"$f":"MATCH(AR$4,Millwall!$AH140:$AW140,0)","v":{"$error":"#N/A"}},{"$f":"MATCH(AS$4,Millwall!$AH140:$AW140,0)","v":{"$error":"#N/A"}},{"$f":"MATCH(AT$4,Millwall!$AH140:$AW140,0)","v":{"$error":"#N/A"}},{"$f":"MATCH(AU$4,Millwall!$AH140:$AW140,0)","v":{"$error":"#N/A"}},{"$f":"MATCH(AV$4,Millwall!$AH140:$AW140,0)","v":{"$error":"#N/A"}},null,null,null,null,null,{"$f":"MATCH(BB$3,Millwall!$AH140:$AW140,0)","v":{"$error":"#N/A"}},{"$f":"MATCH(BC$3,Millwall!$AH140:$AW140,0)","v":{"$error":"#N/A"}},{"$f":"MATCH(BD$3,Millwall!$AH140:$AW140,0)","v":{"$error":"#N/A"}},{"$f":"MATCH(BE$3,Millwall!$AH140:$AW140,0)","v":{"$error":"#N/A"}},{"$f":"MATCH(BF$3,Millwall!$AH140:$AW140,0)","v":{"$error":"#N/A"}},{"$f":"MATCH(BG$3,Millwall!$AH140:$AW140,0)","v":{"$error":"#N/A"}},{"$f":"MATCH(BH$3,Millwall!$AH140:$AW140,0)","v":{"$error":"#N/A"}},{"$f":"MATCH(BI$3,Millwall!$AH140:$AW140,0)","v":{"$error":"#N/A"}},{"$f":"MATCH(BJ$3,Millwall!$AH140:$AW140,0)","v":{"$error":"#N/A"}},{"$f":"MATCH(BK$3,Millwall!$AH140:$AW140,0)","v":{"$error":"#N/A"}},{"$f":"MATCH(BL$3,Millwall!$AH140:$AW140,0)","v":{"$error":"#N/A"}},{"$f":"MATCH(BM$3,Millwall!$AH140:$AW140,0)","v":{"$error":"#N/A"}},{"$f":"MATCH(BN$3,Millwall!$AH140:$AW140,0)","v":{"$error":"#N/A"}},{"$f":"MATCH(BO$3,Millwall!$AH140:$AW140,0)","v":{"$error":"#N/A"}},{"$f":"MATCH(BP$3,Millwall!$AH140:$AW140,0)","v":{"$error":"#N/A"}},{"$f":"MATCH(BQ$3,Millwall!$AH140:$AW140,0)","v":{"$error":"#N/A"}},{"$f":"MATCH(BR$3,Millwall!$AH140:$AW140,0)","v":{"$error":"#N/A"}},{"$f":"MATCH(BS$3,Millwall!$AH140:$AW140,0)","v":{"$error":"#N/A"}},{"$f":"MATCH(BT$3,Millwall!$AH140:$AW140,0)","v":{"$error":"#N/A"}},{"$f":"MATCH(BU$3,Millwall!$AH140:$AW140,0)","v":{"$error":"#N/A"}},{"$f":"MATCH(BV$3,Millwall!$AH140:$AW140,0)","v":{"$error":"#N/A"}},{"$f":"MATCH(BW$3,Millwall!$AH140:$AW140,0)","v":{"$error":"#N/A"}},{"$f":"MATCH(BX$3,Millwall!$AH140:$AW140,0)","v":{"$error":"#N/A"}},{"$f":"MATCH(BY$3,Millwall!$AH140:$AW140,0)","v":{"$error":"#N/A"}},{"$f":"MATCH(BZ$3,Millwall!$AH140:$AW140,0)","v":{"$error":"#N/A"}},{"$f":"MATCH(CA$3,Millwall!$AH140:$AW140,0)","v":{"$error":"#N/A"}},{"$f":"MATCH(CB$3,Millwall!$AH140:$AW140,0)","v":{"$error":"#N/A"}},{"$f":"MATCH(CC$3,Millwall!$AH140:$AW140,0)","v":{"$error":"#N/A"}},{"$f":"MATCH(CD$3,Millwall!$AH140:$AW140,0)","v":{"$error":"#N/A"}},{"$f":"MATCH(CE$3,Millwall!$AH140:$AW140,0)","v":{"$error":"#N/A"}},{"$f":"MATCH(CF$3,Millwall!$AH140:$AW140,0)","v":{"$error":"#N/A"}},{"$f":"MATCH(CG$3,Millwall!$AH140:$AW140,0)","v":{"$error":"#N/A"}},{"$f":"MATCH(CH$3,Millwall!$AH140:$AW140,0)","v":{"$error":"#N/A"}},{"$f":"MATCH(CI$3,Millwall!$AH140:$AW140,0)","v":{"$error":"#N/A"}},{"$f":"MATCH(CJ$3,Millwall!$AH140:$AW140,0)","v":{"$error":"#N/A"}},{"$f":"MATCH(CK$3,Millwall!$AH140:$AW140,0)","v":{"$error":"#N/A"}},{"$f":"MATCH(CL$3,Millwall!$AH140:$AW140,0)","v":{"$error":"#N/A"}},{"$f":"MATCH(CM$3,Millwall!$AH140:$AW140,0)","v":{"$error":"#N/A"}},null,null,{"$f":"MATCH(CP$3,Millwall!$AH140:$AW140,0)","v":{"$error":"#N/A"}},{"$f":"MATCH(CQ$3,Millwall!$AH140:$AW140,0)","v":{"$error":"#N/A"}},{"$f":"MATCH(CR$3,Millwall!$AH140:$AW140,0)","v":{"$error":"#N/A"}},{"$f":"MATCH(CS$3,Millwall!$AH140:$AW140,0)","v":{"$error":"#N/A"}},{"$f":"MATCH(CT$3,Millwall!$AH140:$AW140,0)","v":{"$error":"#N/A"}},{"$f":"MATCH(CU$3,Millwall!$AH140:$AW140,0)","v":{"$error":"#N/A"}},{"$f":"MATCH(CV$3,Millwall!$AH140:$AW140,0)","v":{"$error":"#N/A"}},{"$f":"MATCH(CW$3,Millwall!$AH140:$AW140,0)","v":{"$error":"#N/A"}},{"$f":"MATCH(CX$3,Millwall!$AH140:$AW140,0)","v":{"$error":"#N/A"}},{"$f":"MATCH(CY$3,Millwall!$AH140:$AW140,0)","v":{"$error":"#N/A"}},{"$f":"MATCH(CZ$3,Millwall!$AH140:$AW140,0)","v":{"$error":"#N/A"}},{"$f":"MATCH(DA$3,Millwall!$AH140:$AW140,0)","v":{"$error":"#N/A"}},{"$f":"MATCH(DB$3,Millwall!$AH140:$AW140,0)","v":{"$error":"#N/A"}},{"$f":"MATCH(DC$3,Millwall!$AH140:$AW140,0)","v":{"$error":"#N/A"}},{"$f":"MATCH(DD$3,Millwall!$AH140:$AW140,0)","v":{"$error":"#N/A"}},{"$f":"MATCH(DE$3,Millwall!$AH140:$AW140,0)","v":{"$error":"#N/A"}},{"$f":"MATCH(DF$3,Millwall!$AH140:$AW140,0)","v":{"$error":"#N/A"}},{"$f":"MATCH(DG$3,Millwall!$AH140:$AW140,0)","v":{"$error":"#N/A"}},{"$f":"MATCH(DH$3,Millwall!$AH140:$AW140,0)","v":{"$error":"#N/A"}},{"$f":"MATCH(DI$3,Millwall!$AH140:$AW140,0)","v":{"$error":"#N/A"}},{"$f":"MATCH(DJ$3,Millwall!$AH140:$AW140,0)","v":{"$error":"#N/A"}},{"$f":"MATCH(DK$3,Millwall!$AH140:$AW140,0)","v":{"$error":"#N/A"}},{"$f":"MATCH(DL$3,Millwall!$AH140:$AW140,0)","v":{"$error":"#N/A"}},{"$f":"MATCH(DM$3,Millwall!$AH140:$AW140,0)","v":{"$error":"#N/A"}},{"$f":"MATCH(DN$3,Millwall!$AH140:$AW140,0)","v":{"$error":"#N/A"}},{"$f":"MATCH(DO$3,Millwall!$AH140:$AW140,0)","v":{"$error":"#N/A"}},{"$f":"MATCH(DP$3,Millwall!$AH140:$AW140,0)","v":{"$error":"#N/A"}},{"$f":"MATCH(DQ$3,Millwall!$AH140:$AW140,0)","v":{"$error":"#N/A"}},{"$f":"MATCH(DR$3,Millwall!$AH140:$AW140,0)","v":{"$error":"#N/A"}},{"$f":"MATCH(DS$3,Millwall!$AH140:$AW140,0)","v":{"$error":"#N/A"}},{"$f":"MATCH(DT$3,Millwall!$AH140:$AW140,0)","v":{"$error":"#N/A"}},{"$f":"MATCH(DU$3,Millwall!$AH140:$AW140,0)","v":{"$error":"#N/A"}},{"$f":"MATCH(DV$3,Millwall!$AH140:$AW140,0)","v":{"$error":"#N/A"}},{"$f":"MATCH(DW$3,Millwall!$AH140:$AW140,0)","v":{"$error":"#N/A"}},{"$f":"MATCH(DX$3,Millwall!$AH140:$AW140,0)","v":{"$error":"#N/A"}},{"$f":"MATCH(DY$3,Millwall!$AH140:$AW140,0)","v":{"$error":"#N/A"}},{"$f":"MATCH(DZ$3,Millwall!$AH140:$AW140,0)","v":{"$error":"#N/A"}},{"$f":"MATCH(EA$3,Millwall!$AH140:$AW140,0)","v":{"$error":"#N/A"}},null,null,{"$f":"MATCH(ED$3,Millwall!$AH140:$AW140,0)","v":{"$error":"#N/A"}},{"$f":"MATCH(EE$3,Millwall!$AH140:$AW140,0)","v":{"$error":"#N/A"}},{"$f":"MATCH(EF$3,Millwall!$AH140:$AW140,0)","v":{"$error":"#N/A"}},{"$f":"MATCH(EG$3,Millwall!$AH140:$AW140,0)","v":{"$error":"#N/A"}},{"$f":"MATCH(EH$3,Millwall!$AH140:$AW140,0)","v":{"$error":"#N/A"}},{"$f":"MATCH(EI$3,Millwall!$AH140:$AW140,0)","v":{"$error":"#N/A"}},{"$f":"MATCH(EJ$3,Millwall!$AH140:$AW140,0)","v":{"$error":"#N/A"}},{"$f":"MATCH(EK$3,Millwall!$AH140:$AW140,0)","v":{"$error":"#N/A"}},{"$f":"MATCH(EL$3,Millwall!$AH140:$AW140,0)","v":{"$error":"#N/A"}},{"$f":"MATCH(EM$3,Millwall!$AH140:$AW140,0)","v":{"$error":"#N/A"}},{"$f":"MATCH(EN$3,Millwall!$AH140:$AW140,0)","v":{"$error":"#N/A"}},{"$f":"MATCH(EO$3,Millwall!$AH140:$AW140,0)","v":{"$error":"#N/A"}},{"$f":"MATCH(EP$3,Millwall!$AH140:$AW140,0)","v":{"$error":"#N/A"}},{"$f":"MATCH(EQ$3,Millwall!$AH140:$AW140,0)","v":{"$error":"#N/A"}},{"$f":"MATCH(ER$3,Millwall!$AH140:$AW140,0)","v":{"$error":"#N/A"}},{"$f":"MATCH(ES$3,Millwall!$AH140:$AW140,0)","v":{"$error":"#N/A"}},{"$f":"MATCH(ET$3,Millwall!$AH140:$AW140,0)","v":{"$error":"#N/A"}},{"$f":"MATCH(EU$3,Millwall!$AH140:$AW140,0)","v":{"$error":"#N/A"}},{"$f":"MATCH(EV$3,Millwall!$AH140:$AW140,0)","v":{"$error":"#N/A"}},{"$f":"MATCH(EW$3,Millwall!$AH140:$AW140,0)","v":{"$error":"#N/A"}},{"$f":"MATCH(EX$3,Millwall!$AH140:$AW140,0)","v":{"$error":"#N/A"}},{"$f":"MATCH(EY$3,Millwall!$AH140:$AW140,0)","v":{"$error":"#N/A"}},{"$f":"MATCH(EZ$3,Millwall!$AH140:$AW140,0)","v":{"$error":"#N/A"}},{"$f":"MATCH(FA$3,Millwall!$AH140:$AW140,0)","v":{"$error":"#N/A"}},{"$f":"MATCH(FB$3,Millwall!$AH140:$AW140,0)","v":{"$error":"#N/A"}},{"$f":"MATCH(FC$3,Millwall!$AH140:$AW140,0)","v":{"$error":"#N/A"}},{"$f":"MATCH(FD$3,Millwall!$AH140:$AW140,0)","v":{"$error":"#N/A"}},{"$f":"MATCH(FE$3,Millwall!$AH140:$AW140,0)","v":{"$error":"#N/A"}},{"$f":"MATCH(FF$3,Millwall!$AH140:$AW140,0)","v":{"$error":"#N/A"}},{"$f":"MATCH(FG$3,Millwall!$AH140:$AW140,0)","v":{"$error":"#N/A"}},{"$f":"MATCH(FH$3,Millwall!$AH140:$AW140,0)","v":{"$error":"#N/A"}},{"$f":"MATCH(FI$3,Millwall!$AH140:$AW140,0)","v":{"$error":"#N/A"}},{"$f":"MATCH(FJ$3,Millwall!$AH140:$AW140,0)","v":{"$error":"#N/A"}},{"$f":"MATCH(FK$3,Millwall!$AH140:$AW140,0)","v":{"$error":"#N/A"}},{"$f":"MATCH(FL$3,Millwall!$AH140:$AW140,0)","v":{"$error":"#N/A"}},{"$f":"MATCH(FM$3,Millwall!$AH140:$AW140,0)","v":{"$error":"#N/A"}},{"$f":"MATCH(FN$3,Millwall!$AH140:$AW140,0)","v":{"$error":"#N/A"}},{"$f":"MATCH(FO$3,Millwall!$AH140:$AW140,0)","v":{"$error":"#N/A"}}]
[null,null,1,null,null,{"$f":"Millwall!AD141","v":"00:00:00"},null,{"$f":"Millwall!AE141","v":"00:00:00"},{"$f":"Millwall!AF141","v":"00:00:00"},{"$f":"Millwall!AG141","v":0},{"$f":"MATCH(K$4,Millwall!$AH141:$AW141,0)","v":{"$error":"#N/A"}},{"$f":"MATCH(L$4,Millwall!$AH141:$AW141,0)","v":{"$error":"#N/A"}},{"$f":"MATCH(M$4,Millwall!$AH141:$AW141,0)","v":{"$error":"#N/A"}},{"$f":"MATCH(N$4,Millwall!$AH141:$AW141,0)","v":{"$error":"#N/A"}},{"$f":"MATCH(O$4,Millwall!$AH141:$AW141,0)","v":{"$error":"#N/A"}},{"$f":"MATCH(P$4,Millwall!$AH141:$AW141,0)","v":{"$error":"#N/A"}},{"$f":"MATCH(Q$4,Millwall!$AH141:$AW141,0)","v":{"$error":"#N/A"}},{"$f":"MATCH(R$4,Millwall!$AH141:$AW141,0)","v":{"$error":"#N/A"}},{"$f":"MATCH(S$4,Millwall!$AH141:$AW141,0)","v":{"$error":"#N/A"}},{"$f":"MATCH(T$4,Millwall!$AH141:$AW141,0)","v":{"$error":"#N/A"}},{"$f":"MATCH(U$4,Millwall!$AH141:$AW141,0)","v":{"$error":"#N/A"}},{"$f":"MATCH(V$4,Millwall!$AH141:$AW141,0)","v":{"$error":"#N/A"}},{"$f":"MATCH(W$4,Millwall!$AH141:$AW141,0)","v":{"$error":"#N/A"}},{"$f":"MATCH(X$4,Millwall!$AH141:$AW141,0)","v":{"$error":"#N/A"}},{"$f":"MATCH(Y$4,Millwall!$AH141:$AW141,0)","v":{"$error":"#N/A"}},{"$f":"MATCH(Z$4,Millwall!$AH141:$AW141,0)","v":{"$error":"#N/A"}},{"$f":"MATCH(AA$4,Millwall!$AH141:$AW141,0)","v":{"$error":"#N/A"}},{"$f":"MATCH(AB$4,Millwall!$AH141:$AW141,0)","v":{"$error":"#N/A"}},{"$f":"MATCH(AC$4,Millwall!$AH141:$AW141,0)","v":{"$error":"#N/A"}},{"$f":"MATCH(AD$4,Millwall!$AH141:$AW141,0)","v":{"$error":"#N/A"}},{"$f":"MATCH(AE$4,Millwall!$AH141:$AW141,0)","v":{"$error":"#N/A"}},{"$f":"MATCH(AF$4,Millwall!$AH141:$AW141,0)","v":{"$error":"#N/A"}},{"$f":"MATCH(AG$4,Millwall!$AH141:$AW141,0)","v":{"$error":"#N/A"}},{"$f":"MATCH(AH$4,Millwall!$AH141:$AW141,0)","v":{"$error":"#N/A"}},{"$f":"MATCH(AI$4,Millwall!$AH141:$AW141,0)","v":{"$error":"#N/A"}},{"$f":"MATCH(AJ$4,Millwall!$AH141:$AW141,0)","v":{"$error":"#N/A"}},{"$f":"MATCH(AK$4,Millwall!$AH141:$AW141,0)","v":{"$error":"#N/A"}},{"$f":"MATCH(AL$4,Millwall!$AH141:$AW141,0)","v":{"$error":"#N/A"}},{"$f":"MATCH(AM$4,Millwall!$AH141:$AW141,0)","v":{"$error":"#N/A"}},{"$f":"MATCH(AN$4,Millwall!$AH141:$AW141,0)","v":{"$error":"#N/A"}},{"$f":"MATCH(AO$4,Millwall!$AH141:$AW141,0)","v":{"$error":"#N/A"}},{"$f":"MATCH(AP$4,Millwall!$AH141:$AW141,0)","v":{"$error":"#N/A"}},{"$f":"MATCH(AQ$4,Millwall!$AH141:$AW141,0)","v":{"$error":"#N/A"}},{"$f":"MATCH(AR$4,Millwall!$AH141:$AW141,0)","v":{"$error":"#N/A"}},{"$f":"MATCH(AS$4,Millwall!$AH141:$AW141,0)","v":{"$error":"#N/A"}},{"$f":"MATCH(AT$4,Millwall!$AH141:$AW141,0)","v":{"$error":"#N/A"}},{"$f":"MATCH(AU$4,Millwall!$AH141:$AW141,0)","v":{"$error":"#N/A"}},{"$f":"MATCH(AV$4,Millwall!$AH141:$AW141,0)","v":{"$error":"#N/A"}},null,null,null,null,null,{"$f":"MATCH(BB$3,Millwall!$AH141:$AW141,0)","v":{"$error":"#N/A"}},{"$f":"MATCH(BC$3,Millwall!$AH141:$AW141,0)","v":{"$error":"#N/A"}},{"$f":"MATCH(BD$3,Millwall!$AH141:$AW141,0)","v":{"$error":"#N/A"}},{"$f":"MATCH(BE$3,Millwall!$AH141:$AW141,0)","v":{"$error":"#N/A"}},{"$f":"MATCH(BF$3,Millwall!$AH141:$AW141,0)","v":{"$error":"#N/A"}},{"$f":"MATCH(BG$3,Millwall!$AH141:$AW141,0)","v":{"$error":"#N/A"}},{"$f":"MATCH(BH$3,Millwall!$AH141:$AW141,0)","v":{"$error":"#N/A"}},{"$f":"MATCH(BI$3,Millwall!$AH141:$AW141,0)","v":{"$error":"#N/A"}},{"$f":"MATCH(BJ$3,Millwall!$AH141:$AW141,0)","v":{"$error":"#N/A"}},{"$f":"MATCH(BK$3,Millwall!$AH141:$AW141,0)","v":{"$error":"#N/A"}},{"$f":"MATCH(BL$3,Millwall!$AH141:$AW141,0)","v":{"$error":"#N/A"}},{"$f":"MATCH(BM$3,Millwall!$AH141:$AW141,0)","v":{"$error":"#N/A"}},{"$f":"MATCH(BN$3,Millwall!$AH141:$AW141,0)","v":{"$error":"#N/A"}},{"$f":"MATCH(BO$3,Millwall!$AH141:$AW141,0)","v":{"$error":"#N/A"}},{"$f":"MATCH(BP$3,Millwall!$AH141:$AW141,0)","v":{"$error":"#N/A"}},{"$f":"MATCH(BQ$3,Millwall!$AH141:$AW141,0)","v":{"$error":"#N/A"}},{"$f":"MATCH(BR$3,Millwall!$AH141:$AW141,0)","v":{"$error":"#N/A"}},{"$f":"MATCH(BS$3,Millwall!$AH141:$AW141,0)","v":{"$error":"#N/A"}},{"$f":"MATCH(BT$3,Millwall!$AH141:$AW141,0)","v":{"$error":"#N/A"}},{"$f":"MATCH(BU$3,Millwall!$AH141:$AW141,0)","v":{"$error":"#N/A"}},{"$f":"MATCH(BV$3,Millwall!$AH141:$AW141,0)","v":{"$error":"#N/A"}},{"$f":"MATCH(BW$3,Millwall!$AH141:$AW141,0)","v":{"$error":"#N/A"}},{"$f":"MATCH(BX$3,Millwall!$AH141:$AW141,0)","v":{"$error":"#N/A"}},{"$f":"MATCH(BY$3,Millwall!$AH141:$AW141,0)","v":{"$error":"#N/A"}},{"$f":"MATCH(BZ$3,Millwall!$AH141:$AW141,0)","v":{"$error":"#N/A"}},{"$f":"MATCH(CA$3,Millwall!$AH141:$AW141,0)","v":{"$error":"#N/A"}},{"$f":"MATCH(CB$3,Millwall!$AH141:$AW141,0)","v":{"$error":"#N/A"}},{"$f":"MATCH(CC$3,Millwall!$AH141:$AW141,0)","v":{"$error":"#N/A"}},{"$f":"MATCH(CD$3,Millwall!$AH141:$AW141,0)","v":{"$error":"#N/A"}},{"$f":"MATCH(CE$3,Millwall!$AH141:$AW141,0)","v":{"$error":"#N/A"}},{"$f":"MATCH(CF$3,Millwall!$AH141:$AW141,0)","v":{"$error":"#N/A"}},{"$f":"MATCH(CG$3,Millwall!$AH141:$AW141,0)","v":{"$error":"#N/A"}},{"$f":"MATCH(CH$3,Millwall!$AH141:$AW141,0)","v":{"$error":"#N/A"}},{"$f":"MATCH(CI$3,Millwall!$AH141:$AW141,0)","v":{"$error":"#N/A"}},{"$f":"MATCH(CJ$3,Millwall!$AH141:$AW141,0)","v":{"$error":"#N/A"}},{"$f":"MATCH(CK$3,Millwall!$AH141:$AW141,0)","v":{"$error":"#N/A"}},{"$f":"MATCH(CL$3,Millwall!$AH141:$AW141,0)","v":{"$error":"#N/A"}},{"$f":"MATCH(CM$3,Millwall!$AH141:$AW141,0)","v":{"$error":"#N/A"}},null,null,{"$f":"MATCH(CP$3,Millwall!$AH141:$AW141,0)","v":{"$error":"#N/A"}},{"$f":"MATCH(CQ$3,Millwall!$AH141:$AW141,0)","v":{"$error":"#N/A"}},{"$f":"MATCH(CR$3,Millwall!$AH141:$AW141,0)","v":{"$error":"#N/A"}},{"$f":"MATCH(CS$3,Millwall!$AH141:$AW141,0)","v":{"$error":"#N/A"}},{"$f":"MATCH(CT$3,Millwall!$AH141:$AW141,0)","v":{"$error":"#N/A"}},{"$f":"MATCH(CU$3,Millwall!$AH141:$AW141,0)","v":{"$error":"#N/A"}},{"$f":"MATCH(CV$3,Millwall!$AH141:$AW141,0)","v":{"$error":"#N/A"}},{"$f":"MATCH(CW$3,Millwall!$AH141:$AW141,0)","v":{"$error":"#N/A"}},{"$f":"MATCH(CX$3,Millwall!$AH141:$AW141,0)","v":{"$error":"#N/A"}},{"$f":"MATCH(CY$3,Millwall!$AH141:$AW141,0)","v":{"$error":"#N/A"}},{"$f":"MATCH(CZ$3,Millwall!$AH141:$AW141,0)","v":{"$error":"#N/A"}},{"$f":"MATCH(DA$3,Millwall!$AH141:$AW141,0)","v":{"$error":"#N/A"}},{"$f":"MATCH(DB$3,Millwall!$AH141:$AW141,0)","v":{"$error":"#N/A"}},{"$f":"MATCH(DC$3,Millwall!$AH141:$AW141,0)","v":{"$error":"#N/A"}},{"$f":"MATCH(DD$3,Millwall!$AH141:$AW141,0)","v":{"$error":"#N/A"}},{"$f":"MATCH(DE$3,Millwall!$AH141:$AW141,0)","v":{"$error":"#N/A"}},{"$f":"MATCH(DF$3,Millwall!$AH141:$AW141,0)","v":{"$error":"#N/A"}},{"$f":"MATCH(DG$3,Millwall!$AH141:$AW141,0)","v":{"$error":"#N/A"}},{"$f":"MATCH(DH$3,Millwall!$AH141:$AW141,0)","v":{"$error":"#N/A"}},{"$f":"MATCH(DI$3,Millwall!$AH141:$AW141,0)","v":{"$error":"#N/A"}},{"$f":"MATCH(DJ$3,Millwall!$AH141:$AW141,0)","v":{"$error":"#N/A"}},{"$f":"MATCH(DK$3,Millwall!$AH141:$AW141,0)","v":{"$error":"#N/A"}},{"$f":"MATCH(DL$3,Millwall!$AH141:$AW141,0)","v":{"$error":"#N/A"}},{"$f":"MATCH(DM$3,Millwall!$AH141:$AW141,0)","v":{"$error":"#N/A"}},{"$f":"MATCH(DN$3,Millwall!$AH141:$AW141,0)","v":{"$error":"#N/A"}},{"$f":"MATCH(DO$3,Millwall!$AH141:$AW141,0)","v":{"$error":"#N/A"}},{"$f":"MATCH(DP$3,Millwall!$AH141:$AW141,0)","v":{"$error":"#N/A"}},{"$f":"MATCH(DQ$3,Millwall!$AH141:$AW141,0)","v":{"$error":"#N/A"}},{"$f":"MATCH(DR$3,Millwall!$AH141:$AW141,0)","v":{"$error":"#N/A"}},{"$f":"MATCH(DS$3,Millwall!$AH141:$AW141,0)","v":{"$error":"#N/A"}},{"$f":"MATCH(DT$3,Millwall!$AH141:$AW141,0)","v":{"$error":"#N/A"}},{"$f":"MATCH(DU$3,Millwall!$AH141:$AW141,0)","v":{"$error":"#N/A"}},{"$f":"MATCH(DV$3,Millwall!$AH141:$AW141,0)","v":{"$error":"#N/A"}},{"$f":"MATCH(DW$3,Millwall!$AH141:$AW141,0)","v":{"$error":"#N/A"}},{"$f":"MATCH(DX$3,Millwall!$AH141:$AW141,0)","v":{"$error":"#N/A"}},{"$f":"MATCH(DY$3,Millwall!$AH141:$AW141,0)","v":{"$error":"#N/A"}},{"$f":"MATCH(DZ$3,Millwall!$AH141:$AW141,0)","v":{"$error":"#N/A"}},{"$f":"MATCH(EA$3,Millwall!$AH141:$AW141,0)","v":{"$error":"#N/A"}},null,null,{"$f":"MATCH(ED$3,Millwall!$AH141:$AW141,0)","v":{"$error":"#N/A"}},{"$f":"MATCH(EE$3,Millwall!$AH141:$AW141,0)","v":{"$error":"#N/A"}},{"$f":"MATCH(EF$3,Millwall!$AH141:$AW141,0)","v":{"$error":"#N/A"}},{"$f":"MATCH(EG$3,Millwall!$AH141:$AW141,0)","v":{"$error":"#N/A"}},{"$f":"MATCH(EH$3,Millwall!$AH141:$AW141,0)","v":{"$error":"#N/A"}},{"$f":"MATCH(EI$3,Millwall!$AH141:$AW141,0)","v":{"$error":"#N/A"}},{"$f":"MATCH(EJ$3,Millwall!$AH141:$AW141,0)","v":{"$error":"#N/A"}},{"$f":"MATCH(EK$3,Millwall!$AH141:$AW141,0)","v":{"$error":"#N/A"}},{"$f":"MATCH(EL$3,Millwall!$AH141:$AW141,0)","v":{"$error":"#N/A"}},{"$f":"MATCH(EM$3,Millwall!$AH141:$AW141,0)","v":{"$error":"#N/A"}},{"$f":"MATCH(EN$3,Millwall!$AH141:$AW141,0)","v":{"$error":"#N/A"}},{"$f":"MATCH(EO$3,Millwall!$AH141:$AW141,0)","v":{"$error":"#N/A"}},{"$f":"MATCH(EP$3,Millwall!$AH141:$AW141,0)","v":{"$error":"#N/A"}},{"$f":"MATCH(EQ$3,Millwall!$AH141:$AW141,0)","v":{"$error":"#N/A"}},{"$f":"MATCH(ER$3,Millwall!$AH141:$AW141,0)","v":{"$error":"#N/A"}},{"$f":"MATCH(ES$3,Millwall!$AH141:$AW141,0)","v":{"$error":"#N/A"}},{"$f":"MATCH(ET$3,Millwall!$AH141:$AW141,0)","v":{"$error":"#N/A"}},{"$f":"MATCH(EU$3,Millwall!$AH141:$AW141,0)","v":{"$error":"#N/A"}},{"$f":"MATCH(EV$3,Millwall!$AH141:$AW141,0)","v":{"$error":"#N/A"}},{"$f":"MATCH(EW$3,Millwall!$AH141:$AW141,0)","v":{"$error":"#N/A"}},{"$f":"MATCH(EX$3,Millwall!$AH141:$AW141,0)","v":{"$error":"#N/A"}},{"$f":"MATCH(EY$3,Millwall!$AH141:$AW141,0)","v":{"$error":"#N/A"}},{"$f":"MATCH(EZ$3,Millwall!$AH141:$AW141,0)","v":{"$error":"#N/A"}},{"$f":"MATCH(FA$3,Millwall!$AH141:$AW141,0)","v":{"$error":"#N/A"}},{"$f":"MATCH(FB$3,Millwall!$AH141:$AW141,0)","v":{"$error":"#N/A"}},{"$f":"MATCH(FC$3,Millwall!$AH141:$AW141,0)","v":{"$error":"#N/A"}},{"$f":"MATCH(FD$3,Millwall!$AH141:$AW141,0)","v":{"$error":"#N/A"}},{"$f":"MATCH(FE$3,Millwall!$AH141:$AW141,0)","v":{"$error":"#N/A"}},{"$f":"MATCH(FF$3,Millwall!$AH141:$AW141,0)","v":{"$error":"#N/A"}},{"$f":"MATCH(FG$3,Millwall!$AH141:$AW141,0)","v":{"$error":"#N/A"}},{"$f":"MATCH(FH$3,Millwall!$AH141:$AW141,0)","v":{"$error":"#N/A"}},{"$f":"MATCH(FI$3,Millwall!$AH141:$AW141,0)","v":{"$error":"#N/A"}},{"$f":"MATCH(FJ$3,Millwall!$AH141:$AW141,0)","v":{"$error":"#N/A"}},{"$f":"MATCH(FK$3,Millwall!$AH141:$AW141,0)","v":{"$error":"#N/A"}},{"$f":"MATCH(FL$3,Millwall!$AH141:$AW141,0)","v":{"$error":"#N/A"}},{"$f":"MATCH(FM$3,Millwall!$AH141:$AW141,0)","v":{"$error":"#N/A"}},{"$f":"MATCH(FN$3,Millwall!$AH141:$AW141,0)","v":{"$error":"#N/A"}},{"$f":"MATCH(FO$3,Millwall!$AH141:$AW141,0)","v":{"$error":"#N/A"}}]
[null,null,1,null,null,{"$f":"Millwall!AD142","v":"00:00:00"},null,{"$f":"Millwall!AE142","v":"00:00:00"},{"$f":"Millwall!AF142","v":"00:00:00"},{"$f":"Millwall!AG142","v":0},{"$f":"MATCH(K$4,Millwall!$AH142:$AW142,0)","v":{"$error":"#N/A"}},{"$f":"MATCH(L$4,Millwall!$AH142:$AW142,0)","v":{"$error":"#N/A"}},{"$f":"MATCH(M$4,Millwall!$AH142:$AW142,0)","v":{"$error":"#N/A"}},{"$f":"MATCH(N$4,Millwall!$AH142:$AW142,0)","v":{"$error":"#N/A"}},{"$f":"MATCH(O$4,Millwall!$AH142:$AW142,0)","v":{"$error":"#N/A"}},{"$f":"MATCH(P$4,Millwall!$AH142:$AW142,0)","v":{"$error":"#N/A"}},{"$f":"MATCH(Q$4,Millwall!$AH142:$AW142,0)","v":{"$error":"#N/A"}},{"$f":"MATCH(R$4,Millwall!$AH142:$AW142,0)","v":{"$error":"#N/A"}},{"$f":"MATCH(S$4,Millwall!$AH142:$AW142,0)","v":{"$error":"#N/A"}},{"$f":"MATCH(T$4,Millwall!$AH142:$AW142,0)","v":{"$error":"#N/A"}},{"$f":"MATCH(U$4,Millwall!$AH142:$AW142,0)","v":{"$error":"#N/A"}},{"$f":"MATCH(V$4,Millwall!$AH142:$AW142,0)","v":{"$error":"#N/A"}},{"$f":"MATCH(W$4,Millwall!$AH142:$AW142,0)","v":{"$error":"#N/A"}},{"$f":"MATCH(X$4,Millwall!$AH142:$AW142,0)","v":{"$error":"#N/A"}},{"$f":"MATCH(Y$4,Millwall!$AH142:$AW142,0)","v":{"$error":"#N/A"}},{"$f":"MATCH(Z$4,Millwall!$AH142:$AW142,0)","v":{"$error":"#N/A"}},{"$f":"MATCH(AA$4,Millwall!$AH142:$AW142,0)","v":{"$error":"#N/A"}},{"$f":"MATCH(AB$4,Millwall!$AH142:$AW142,0)","v":{"$error":"#N/A"}},{"$f":"MATCH(AC$4,Millwall!$AH142:$AW142,0)","v":{"$error":"#N/A"}},{"$f":"MATCH(AD$4,Millwall!$AH142:$AW142,0)","v":{"$error":"#N/A"}},{"$f":"MATCH(AE$4,Millwall!$AH142:$AW142,0)","v":{"$error":"#N/A"}},{"$f":"MATCH(AF$4,Millwall!$AH142:$AW142,0)","v":{"$error":"#N/A"}},{"$f":"MATCH(AG$4,Millwall!$AH142:$AW142,0)","v":{"$error":"#N/A"}},{"$f":"MATCH(AH$4,Millwall!$AH142:$AW142,0)","v":{"$error":"#N/A"}},{"$f":"MATCH(AI$4,Millwall!$AH142:$AW142,0)","v":{"$error":"#N/A"}},{"$f":"MATCH(AJ$4,Millwall!$AH142:$AW142,0)","v":{"$error":"#N/A"}},{"$f":"MATCH(AK$4,Millwall!$AH142:$AW142,0)","v":{"$error":"#N/A"}},{"$f":"MATCH(AL$4,Millwall!$AH142:$AW142,0)","v":{"$error":"#N/A"}},{"$f":"MATCH(AM$4,Millwall!$AH142:$AW142,0)","v":{"$error":"#N/A"}},{"$f":"MATCH(AN$4,Millwall!$AH142:$AW142,0)","v":{"$error":"#N/A"}},{"$f":"MATCH(AO$4,Millwall!$AH142:$AW142,0)","v":{"$error":"#N/A"}},{"$f":"MATCH(AP$4,Millwall!$AH142:$AW142,0)","v":{"$error":"#N/A"}},{"$f":"MATCH(AQ$4,Millwall!$AH142:$AW142,0)","v":{"$error":"#N/A"}},{"$f":"MATCH(AR$4,Millwall!$AH142:$AW142,0)","v":{"$error":"#N/A"}},{"$f":"MATCH(AS$4,Millwall!$AH142:$AW142,0)","v":{"$error":"#N/A"}},{"$f":"MATCH(AT$4,Millwall!$AH142:$AW142,0)","v":{"$error":"#N/A"}},{"$f":"MATCH(AU$4,Millwall!$AH142:$AW142,0)","v":{"$error":"#N/A"}},{"$f":"MATCH(AV$4,Millwall!$AH142:$AW142,0)","v":{"$error":"#N/A"}},null,null,null,null,null,{"$f":"MATCH(BB$3,Millwall!$AH142:$AW142,0)","v":{"$error":"#N/A"}},{"$f":"MATCH(BC$3,Millwall!$AH142:$AW142,0)","v":{"$error":"#N/A"}},{"$f":"MATCH(BD$3,Millwall!$AH142:$AW142,0)","v":{"$error":"#N/A"}},{"$f":"MATCH(BE$3,Millwall!$AH142:$AW142,0)","v":{"$error":"#N/A"}},{"$f":"MATCH(BF$3,Millwall!$AH142:$AW142,0)","v":{"$error":"#N/A"}},{"$f":"MATCH(BG$3,Millwall!$AH142:$AW142,0)","v":{"$error":"#N/A"}},{"$f":"MATCH(BH$3,Millwall!$AH142:$AW142,0)","v":{"$error":"#N/A"}},{"$f":"MATCH(BI$3,Millwall!$AH142:$AW142,0)","v":{"$error":"#N/A"}},{"$f":"MATCH(BJ$3,Millwall!$AH142:$AW142,0)","v":{"$error":"#N/A"}},{"$f":"MATCH(BK$3,Millwall!$AH142:$AW142,0)","v":{"$error":"#N/A"}},{"$f":"MATCH(BL$3,Millwall!$AH142:$AW142,0)","v":{"$error":"#N/A"}},{"$f":"MATCH(BM$3,Millwall!$AH142:$AW142,0)","v":{"$error":"#N/A"}},{"$f":"MATCH(BN$3,Millwall!$AH142:$AW142,0)","v":{"$error":"#N/A"}},{"$f":"MATCH(BO$3,Millwall!$AH142:$AW142,0)","v":{"$error":"#N/A"}},{"$f":"MATCH(BP$3,Millwall!$AH142:$AW142,0)","v":{"$error":"#N/A"}},{"$f":"MATCH(BQ$3,Millwall!$AH142:$AW142,0)","v":{"$error":"#N/A"}},{"$f":"MATCH(BR$3,Millwall!$AH142:$AW142,0)","v":{"$error":"#N/A"}},{"$f":"MATCH(BS$3,Millwall!$AH142:$AW142,0)","v":{"$error":"#N/A"}},{"$f":"MATCH(BT$3,Millwall!$AH142:$AW142,0)","v":{"$error":"#N/A"}},{"$f":"MATCH(BU$3,Millwall!$AH142:$AW142,0)","v":{"$error":"#N/A"}},{"$f":"MATCH(BV$3,Millwall!$AH142:$AW142,0)","v":{"$error":"#N/A"}},{"$f":"MATCH(BW$3,Millwall!$AH142:$AW142,0)","v":{"$error":"#N/A"}},{"$f":"MATCH(BX$3,Millwall!$AH142:$AW142,0)","v":{"$error":"#N/A"}},{"$f":"MATCH(BY$3,Millwall!$AH142:$AW142,0)","v":{"$error":"#N/A"}},{"$f":"MATCH(BZ$3,Millwall!$AH142:$AW142,0)","v":{"$error":"#N/A"}},{"$f":"MATCH(CA$3,Millwall!$AH142:$AW142,0)","v":{"$error":"#N/A"}},{"$f":"MATCH(CB$3,Millwall!$AH142:$AW142,0)","v":{"$error":"#N/A"}},{"$f":"MATCH(CC$3,Millwall!$AH142:$AW142,0)","v":{"$error":"#N/A"}},{"$f":"MATCH(CD$3,Millwall!$AH142:$AW142,0)","v":{"$error":"#N/A"}},{"$f":"MATCH(CE$3,Millwall!$AH142:$AW142,0)","v":{"$error":"#N/A"}},{"$f":"MATCH(CF$3,Millwall!$AH142:$AW142,0)","v":{"$error":"#N/A"}},{"$f":"MATCH(CG$3,Millwall!$AH142:$AW142,0)","v":{"$error":"#N/A"}},{"$f":"MATCH(CH$3,Millwall!$AH142:$AW142,0)","v":{"$error":"#N/A"}},{"$f":"MATCH(CI$3,Millwall!$AH142:$AW142,0)","v":{"$error":"#N/A"}},{"$f":"MATCH(CJ$3,Millwall!$AH142:$AW142,0)","v":{"$error":"#N/A"}},{"$f":"MATCH(CK$3,Millwall!$AH142:$AW142,0)","v":{"$error":"#N/A"}},{"$f":"MATCH(CL$3,Millwall!$AH142:$AW142,0)","v":{"$error":"#N/A"}},{"$f":"MATCH(CM$3,Millwall!$AH142:$AW142,0)","v":{"$error":"#N/A"}},null,null,{"$f":"MATCH(CP$3,Millwall!$AH142:$AW142,0)","v":{"$error":"#N/A"}},{"$f":"MATCH(CQ$3,Millwall!$AH142:$AW142,0)","v":{"$error":"#N/A"}},{"$f":"MATCH(CR$3,Millwall!$AH142:$AW142,0)","v":{"$error":"#N/A"}},{"$f":"MATCH(CS$3,Millwall!$AH142:$AW142,0)","v":{"$error":"#N/A"}},{"$f":"MATCH(CT$3,Millwall!$AH142:$AW142,0)","v":{"$error":"#N/A"}},{"$f":"MATCH(CU$3,Millwall!$AH142:$AW142,0)","v":{"$error":"#N/A"}},{"$f":"MATCH(CV$3,Millwall!$AH142:$AW142,0)","v":{"$error":"#N/A"}},{"$f":"MATCH(CW$3,Millwall!$AH142:$AW142,0)","v":{"$error":"#N/A"}},{"$f":"MATCH(CX$3,Millwall!$AH142:$AW142,0)","v":{"$error":"#N/A"}},{"$f":"MATCH(CY$3,Millwall!$AH142:$AW142,0)","v":{"$error":"#N/A"}},{"$f":"MATCH(CZ$3,Millwall!$AH142:$AW142,0)","v":{"$error":"#N/A"}},{"$f":"MATCH(DA$3,Millwall!$AH142:$AW142,0)","v":{"$error":"#N/A"}},{"$f":"MATCH(DB$3,Millwall!$AH142:$AW142,0)","v":{"$error":"#N/A"}},{"$f":"MATCH(DC$3,Millwall!$AH142:$AW142,0)","v":{"$error":"#N/A"}},{"$f":"MATCH(DD$3,Millwall!$AH142:$AW142,0)","v":{"$error":"#N/A"}},{"$f":"MATCH(DE$3,Millwall!$AH142:$AW142,0)","v":{"$error":"#N/A"}},{"$f":"MATCH(DF$3,Millwall!$AH142:$AW142,0)","v":{"$error":"#N/A"}},{"$f":"MATCH(DG$3,Millwall!$AH142:$AW142,0)","v":{"$error":"#N/A"}},{"$f":"MATCH(DH$3,Millwall!$AH142:$AW142,0)","v":{"$error":"#N/A"}},{"$f":"MATCH(DI$3,Millwall!$AH142:$AW142,0)","v":{"$error":"#N/A"}},{"$f":"MATCH(DJ$3,Millwall!$AH142:$AW142,0)","v":{"$error":"#N/A"}},{"$f":"MATCH(DK$3,Millwall!$AH142:$AW142,0)","v":{"$error":"#N/A"}},{"$f":"MATCH(DL$3,Millwall!$AH142:$AW142,0)","v":{"$error":"#N/A"}},{"$f":"MATCH(DM$3,Millwall!$AH142:$AW142,0)","v":{"$error":"#N/A"}},{"$f":"MATCH(DN$3,Millwall!$AH142:$AW142,0)","v":{"$error":"#N/A"}},{"$f":"MATCH(DO$3,Millwall!$AH142:$AW142,0)","v":{"$error":"#N/A"}},{"$f":"MATCH(DP$3,Millwall!$AH142:$AW142,0)","v":{"$error":"#N/A"}},{"$f":"MATCH(DQ$3,Millwall!$AH142:$AW142,0)","v":{"$error":"#N/A"}},{"$f":"MATCH(DR$3,Millwall!$AH142:$AW142,0)","v":{"$error":"#N/A"}},{"$f":"MATCH(DS$3,Millwall!$AH142:$AW142,0)","v":{"$error":"#N/A"}},{"$f":"MATCH(DT$3,Millwall!$AH142:$AW142,0)","v":{"$error":"#N/A"}},{"$f":"MATCH(DU$3,Millwall!$AH142:$AW142,0)","v":{"$error":"#N/A"}},{"$f":"MATCH(DV$3,Millwall!$AH142:$AW142,0)","v":{"$error":"#N/A"}},{"$f":"MATCH(DW$3,Millwall!$AH142:$AW142,0)","v":{"$error":"#N/A"}},{"$f":"MATCH(DX$3,Millwall!$AH142:$AW142,0)","v":{"$error":"#N/A"}},{"$f":"MATCH(DY$3,Millwall!$AH142:$AW142,0)","v":{"$error":"#N/A"}},{"$f":"MATCH(DZ$3,Millwall!$AH142:$AW142,0)","v":{"$error":"#N/A"}},{"$f":"MATCH(EA$3,Millwall!$AH142:$AW142,0)","v":{"$error":"#N/A"}},null,null,{"$f":"MATCH(ED$3,Millwall!$AH142:$AW142,0)","v":{"$error":"#N/A"}},{"$f":"MATCH(EE$3,Millwall!$AH142:$AW142,0)","v":{"$error":"#N/A"}},{"$f":"MATCH(EF$3,Millwall!$AH142:$AW142,0)","v":{"$error":"#N/A"}},{"$f":"MATCH(EG$3,Millwall!$AH142:$AW142,0)","v":{"$error":"#N/A"}},{"$f":"MATCH(EH$3,Millwall!$AH142:$AW142,0)","v":{"$error":"#N/A"}},{"$f":"MATCH(EI$3,Millwall!$AH142:$AW142,0)","v":{"$error":"#N/A"}},{"$f":"MATCH(EJ$3,Millwall!$AH142:$AW142,0)","v":{"$error":"#N/A"}},{"$f":"MATCH(EK$3,Millwall!$AH142:$AW142,0)","v":{"$error":"#N/A"}},{"$f":"MATCH(EL$3,Millwall!$AH142:$AW142,0)","v":{"$error":"#N/A"}},{"$f":"MATCH(EM$3,Millwall!$AH142:$AW142,0)","v":{"$error":"#N/A"}},{"$f":"MATCH(EN$3,Millwall!$AH142:$AW142,0)","v":{"$error":"#N/A"}},{"$f":"MATCH(EO$3,Millwall!$AH142:$AW142,0)","v":{"$error":"#N/A"}},{"$f":"MATCH(EP$3,Millwall!$AH142:$AW142,0)","v":{"$error":"#N/A"}},{"$f":"MATCH(EQ$3,Millwall!$AH142:$AW142,0)","v":{"$error":"#N/A"}},{"$f":"MATCH(ER$3,Millwall!$AH142:$AW142,0)","v":{"$error":"#N/A"}},{"$f":"MATCH(ES$3,Millwall!$AH142:$AW142,0)","v":{"$error":"#N/A"}},{"$f":"MATCH(ET$3,Millwall!$AH142:$AW142,0)","v":{"$error":"#N/A"}},{"$f":"MATCH(EU$3,Millwall!$AH142:$AW142,0)","v":{"$error":"#N/A"}},{"$f":"MATCH(EV$3,Millwall!$AH142:$AW142,0)","v":{"$error":"#N/A"}},{"$f":"MATCH(EW$3,Millwall!$AH142:$AW142,0)","v":{"$error":"#N/A"}},{"$f":"MATCH(EX$3,Millwall!$AH142:$AW142,0)","v":{"$error":"#N/A"}},{"$f":"MATCH(EY$3,Millwall!$AH142:$AW142,0)","v":{"$error":"#N/A"}},{"$f":"MATCH(EZ$3,Millwall!$AH142:$AW142,0)","v":{"$error":"#N/A"}},{"$f":"MATCH(FA$3,Millwall!$AH142:$AW142,0)","v":{"$error":"#N/A"}},{"$f":"MATCH(FB$3,Millwall!$AH142:$AW142,0)","v":{"$error":"#N/A"}},{"$f":"MATCH(FC$3,Millwall!$AH142:$AW142,0)","v":{"$error":"#N/A"}},{"$f":"MATCH(FD$3,Millwall!$AH142:$AW142,0)","v":{"$error":"#N/A"}},{"$f":"MATCH(FE$3,Millwall!$AH142:$AW142,0)","v":{"$error":"#N/A"}},{"$f":"MATCH(FF$3,Millwall!$AH142:$AW142,0)","v":{"$error":"#N/A"}},{"$f":"MATCH(FG$3,Millwall!$AH142:$AW142,0)","v":{"$error":"#N/A"}},{"$f":"MATCH(FH$3,Millwall!$AH142:$AW142,0)","v":{"$error":"#N/A"}},{"$f":"MATCH(FI$3,Millwall!$AH142:$AW142,0)","v":{"$error":"#N/A"}},{"$f":"MATCH(FJ$3,Millwall!$AH142:$AW142,0)","v":{"$error":"#N/A"}},{"$f":"MATCH(FK$3,Millwall!$AH142:$AW142,0)","v":{"$error":"#N/A"}},{"$f":"MATCH(FL$3,Millwall!$AH142:$AW142,0)","v":{"$error":"#N/A"}},{"$f":"MATCH(FM$3,Millwall!$AH142:$AW142,0)","v":{"$error":"#N/A"}},{"$f":"MATCH(FN$3,Millwall!$AH142:$AW142,0)","v":{"$error":"#N/A"}},{"$f":"MATCH(FO$3,Millwall!$AH142:$AW142,0)","v":{"$error":"#N/A"}}]
[null,null,1,null,null,{"$f":"Millwall!AD143","v":"00:00:00"},null,{"$f":"Millwall!AE143","v":"00:00:00"},{"$f":"Millwall!AF143","v":"00:00:00"},{"$f":"Millwall!AG143","v":0},{"$f":"MATCH(K$4,Millwall!$AH143:$AW143,0)","v":{"$error":"#N/A"}},{"$f":"MATCH(L$4,Millwall!$AH143:$AW143,0)","v":{"$error":"#N/A"}},{"$f":"MATCH(M$4,Millwall!$AH143:$AW143,0)","v":{"$error":"#N/A"}},{"$f":"MATCH(N$4,Millwall!$AH143:$AW143,0)","v":{"$error":"#N/A"}},{"$f":"MATCH(O$4,Millwall!$AH143:$AW143,0)","v":{"$error":"#N/A"}},{"$f":"MATCH(P$4,Millwall!$AH143:$AW143,0)","v":{"$error":"#N/A"}},{"$f":"MATCH(Q$4,Millwall!$AH143:$AW143,0)","v":{"$error":"#N/A"}},{"$f":"MATCH(R$4,Millwall!$AH143:$AW143,0)","v":{"$error":"#N/A"}},{"$f":"MATCH(S$4,Millwall!$AH143:$AW143,0)","v":{"$error":"#N/A"}},{"$f":"MATCH(T$4,Millwall!$AH143:$AW143,0)","v":{"$error":"#N/A"}},{"$f":"MATCH(U$4,Millwall!$AH143:$AW143,0)","v":{"$error":"#N/A"}},{"$f":"MATCH(V$4,Millwall!$AH143:$AW143,0)","v":{"$error":"#N/A"}},{"$f":"MATCH(W$4,Millwall!$AH143:$AW143,0)","v":{"$error":"#N/A"}},{"$f":"MATCH(X$4,Millwall!$AH143:$AW143,0)","v":{"$error":"#N/A"}},{"$f":"MATCH(Y$4,Millwall!$AH143:$AW143,0)","v":{"$error":"#N/A"}},{"$f":"MATCH(Z$4,Millwall!$AH143:$AW143,0)","v":{"$error":"#N/A"}},{"$f":"MATCH(AA$4,Millwall!$AH143:$AW143,0)","v":{"$error":"#N/A"}},{"$f":"MATCH(AB$4,Millwall!$AH143:$AW143,0)","v":{"$error":"#N/A"}},{"$f":"MATCH(AC$4,Millwall!$AH143:$AW143,0)","v":{"$error":"#N/A"}},{"$f":"MATCH(AD$4,Millwall!$AH143:$AW143,0)","v":{"$error":"#N/A"}},{"$f":"MATCH(AE$4,Millwall!$AH143:$AW143,0)","v":{"$error":"#N/A"}},{"$f":"MATCH(AF$4,Millwall!$AH143:$AW143,0)","v":{"$error":"#N/A"}},{"$f":"MATCH(AG$4,Millwall!$AH143:$AW143,0)","v":{"$error":"#N/A"}},{"$f":"MATCH(AH$4,Millwall!$AH143:$AW143,0)","v":{"$error":"#N/A"}},{"$f":"MATCH(AI$4,Millwall!$AH143:$AW143,0)","v":{"$error":"#N/A"}},{"$f":"MATCH(AJ$4,Millwall!$AH143:$AW143,0)","v":{"$error":"#N/A"}},{"$f":"MATCH(AK$4,Millwall!$AH143:$AW143,0)","v":{"$error":"#N/A"}},{"$f":"MATCH(AL$4,Millwall!$AH143:$AW143,0)","v":{"$error":"#N/A"}},{"$f":"MATCH(AM$4,Millwall!$AH143:$AW143,0)","v":{"$error":"#N/A"}},{"$f":"MATCH(AN$4,Millwall!$AH143:$AW143,0)","v":{"$error":"#N/A"}},{"$f":"MATCH(AO$4,Millwall!$AH143:$AW143,0)","v":{"$error":"#N/A"}},{"$f":"MATCH(AP$4,Millwall!$AH143:$AW143,0)","v":{"$error":"#N/A"}},{"$f":"MATCH(AQ$4,Millwall!$AH143:$AW143,0)","v":{"$error":"#N/A"}},{"$f":"MATCH(AR$4,Millwall!$AH143:$AW143,0)","v":{"$error":"#N/A"}},{"$f":"MATCH(AS$4,Millwall!$AH143:$AW143,0)","v":{"$error":"#N/A"}},{"$f":"MATCH(AT$4,Millwall!$AH143:$AW143,0)","v":{"$error":"#N/A"}},{"$f":"MATCH(AU$4,Millwall!$AH143:$AW143,0)","v":{"$error":"#N/A"}},{"$f":"MATCH(AV$4,Millwall!$AH143:$AW143,0)","v":{"$error":"#N/A"}},null,null,null,null,null,{"$f":"MATCH(BB$3,Millwall!$AH143:$AW143,0)","v":{"$error":"#N/A"}},{"$f":"MATCH(BC$3,Millwall!$AH143:$AW143,0)","v":{"$error":"#N/A"}},{"$f":"MATCH(BD$3,Millwall!$AH143:$AW143,0)","v":{"$error":"#N/A"}},{"$f":"MATCH(BE$3,Millwall!$AH143:$AW143,0)","v":{"$error":"#N/A"}},{"$f":"MATCH(BF$3,Millwall!$AH143:$AW143,0)","v":{"$error":"#N/A"}},{"$f":"MATCH(BG$3,Millwall!$AH143:$AW143,0)","v":{"$error":"#N/A"}},{"$f":"MATCH(BH$3,Millwall!$AH143:$AW143,0)","v":{"$error":"#N/A"}},{"$f":"MATCH(BI$3,Millwall!$AH143:$AW143,0)","v":{"$error":"#N/A"}},{"$f":"MATCH(BJ$3,Millwall!$AH143:$AW143,0)","v":{"$error":"#N/A"}},{"$f":"MATCH(BK$3,Millwall!$AH143:$AW143,0)","v":{"$error":"#N/A"}},{"$f":"MATCH(BL$3,Millwall!$AH143:$AW143,0)","v":{"$error":"#N/A"}},{"$f":"MATCH(BM$3,Millwall!$AH143:$AW143,0)","v":{"$error":"#N/A"}},{"$f":"MATCH(BN$3,Millwall!$AH143:$AW143,0)","v":{"$error":"#N/A"}},{"$f":"MATCH(BO$3,Millwall!$AH143:$AW143,0)","v":{"$error":"#N/A"}},{"$f":"MATCH(BP$3,Millwall!$AH143:$AW143,0)","v":{"$error":"#N/A"}},{"$f":"MATCH(BQ$3,Millwall!$AH143:$AW143,0)","v":{"$error":"#N/A"}},{"$f":"MATCH(BR$3,Millwall!$AH143:$AW143,0)","v":{"$error":"#N/A"}},{"$f":"MATCH(BS$3,Millwall!$AH143:$AW143,0)","v":{"$error":"#N/A"}},{"$f":"MATCH(BT$3,Millwall!$AH143:$AW143,0)","v":{"$error":"#N/A"}},{"$f":"MATCH(BU$3,Millwall!$AH143:$AW143,0)","v":{"$error":"#N/A"}},{"$f":"MATCH(BV$3,Millwall!$AH143:$AW143,0)","v":{"$error":"#N/A"}},{"$f":"MATCH(BW$3,Millwall!$AH143:$AW143,0)","v":{"$error":"#N/A"}},{"$f":"MATCH(BX$3,Millwall!$AH143:$AW143,0)","v":{"$error":"#N/A"}},{"$f":"MATCH(BY$3,Millwall!$AH143:$AW143,0)","v":{"$error":"#N/A"}},{"$f":"MATCH(BZ$3,Millwall!$AH143:$AW143,0)","v":{"$error":"#N/A"}},{"$f":"MATCH(CA$3,Millwall!$AH143:$AW143,0)","v":{"$error":"#N/A"}},{"$f":"MATCH(CB$3,Millwall!$AH143:$AW143,0)","v":{"$error":"#N/A"}},{"$f":"MATCH(CC$3,Millwall!$AH143:$AW143,0)","v":{"$error":"#N/A"}},{"$f":"MATCH(CD$3,Millwall!$AH143:$AW143,0)","v":{"$error":"#N/A"}},{"$f":"MATCH(CE$3,Millwall!$AH143:$AW143,0)","v":{"$error":"#N/A"}},{"$f":"MATCH(CF$3,Millwall!$AH143:$AW143,0)","v":{"$error":"#N/A"}},{"$f":"MATCH(CG$3,Millwall!$AH143:$AW143,0)","v":{"$error":"#N/A"}},{"$f":"MATCH(CH$3,Millwall!$AH143:$AW143,0)","v":{"$error":"#N/A"}},{"$f":"MATCH(CI$3,Millwall!$AH143:$AW143,0)","v":{"$error":"#N/A"}},{"$f":"MATCH(CJ$3,Millwall!$AH143:$AW143,0)","v":{"$error":"#N/A"}},{"$f":"MATCH(CK$3,Millwall!$AH143:$AW143,0)","v":{"$error":"#N/A"}},{"$f":"MATCH(CL$3,Millwall!$AH143:$AW143,0)","v":{"$error":"#N/A"}},{"$f":"MATCH(CM$3,Millwall!$AH143:$AW143,0)","v":{"$error":"#N/A"}},null,null,{"$f":"MATCH(CP$3,Millwall!$AH143:$AW143,0)","v":{"$error":"#N/A"}},{"$f":"MATCH(CQ$3,Millwall!$AH143:$AW143,0)","v":{"$error":"#N/A"}},{"$f":"MATCH(CR$3,Millwall!$AH143:$AW143,0)","v":{"$error":"#N/A"}},{"$f":"MATCH(CS$3,Millwall!$AH143:$AW143,0)","v":{"$error":"#N/A"}},{"$f":"MATCH(CT$3,Millwall!$AH143:$AW143,0)","v":{"$error":"#N/A"}},{"$f":"MATCH(CU$3,Millwall!$AH143:$AW143,0)","v":{"$error":"#N/A"}},{"$f":"MATCH(CV$3,Millwall!$AH143:$AW143,0)","v":{"$error":"#N/A"}},{"$f":"MATCH(CW$3,Millwall!$AH143:$AW143,0)","v":{"$error":"#N/A"}},{"$f":"MATCH(CX$3,Millwall!$AH143:$AW143,0)","v":{"$error":"#N/A"}},{"$f":"MATCH(CY$3,Millwall!$AH143:$AW143,0)","v":{"$error":"#N/A"}},{"$f":"MATCH(CZ$3,Millwall!$AH143:$AW143,0)","v":{"$error":"#N/A"}},{"$f":"MATCH(DA$3,Millwall!$AH143:$AW143,0)","v":{"$error":"#N/A"}},{"$f":"MATCH(DB$3,Millwall!$AH143:$AW143,0)","v":{"$error":"#N/A"}},{"$f":"MATCH(DC$3,Millwall!$AH143:$AW143,0)","v":{"$error":"#N/A"}},{"$f":"MATCH(DD$3,Millwall!$AH143:$AW143,0)","v":{"$error":"#N/A"}},{"$f":"MATCH(DE$3,Millwall!$AH143:$AW143,0)","v":{"$error":"#N/A"}},{"$f":"MATCH(DF$3,Millwall!$AH143:$AW143,0)","v":{"$error":"#N/A"}},{"$f":"MATCH(DG$3,Millwall!$AH143:$AW143,0)","v":{"$error":"#N/A"}},{"$f":"MATCH(DH$3,Millwall!$AH143:$AW143,0)","v":{"$error":"#N/A"}},{"$f":"MATCH(DI$3,Millwall!$AH143:$AW143,0)","v":{"$error":"#N/A"}},{"$f":"MATCH(DJ$3,Millwall!$AH143:$AW143,0)","v":{"$error":"#N/A"}},{"$f":"MATCH(DK$3,Millwall!$AH143:$AW143,0)","v":{"$error":"#N/A"}},{"$f":"MATCH(DL$3,Millwall!$AH143:$AW143,0)","v":{"$error":"#N/A"}},{"$f":"MATCH(DM$3,Millwall!$AH143:$AW143,0)","v":{"$error":"#N/A"}},{"$f":"MATCH(DN$3,Millwall!$AH143:$AW143,0)","v":{"$error":"#N/A"}},{"$f":"MATCH(DO$3,Millwall!$AH143:$AW143,0)","v":{"$error":"#N/A"}},{"$f":"MATCH(DP$3,Millwall!$AH143:$AW143,0)","v":{"$error":"#N/A"}},{"$f":"MATCH(DQ$3,Millwall!$AH143:$AW143,0)","v":{"$error":"#N/A"}},{"$f":"MATCH(DR$3,Millwall!$AH143:$AW143,0)","v":{"$error":"#N/A"}},{"$f":"MATCH(DS$3,Millwall!$AH143:$AW143,0)","v":{"$error":"#N/A"}},{"$f":"MATCH(DT$3,Millwall!$AH143:$AW143,0)","v":{"$error":"#N/A"}},{"$f":"MATCH(DU$3,Millwall!$AH143:$AW143,0)","v":{"$error":"#N/A"}},{"$f":"MATCH(DV$3,Millwall!$AH143:$AW143,0)","v":{"$error":"#N/A"}},{"$f":"MATCH(DW$3,Millwall!$AH143:$AW143,0)","v":{"$error":"#N/A"}},{"$f":"MATCH(DX$3,Millwall!$AH143:$AW143,0)","v":{"$error":"#N/A"}},{"$f":"MATCH(DY$3,Millwall!$AH143:$AW143,0)","v":{"$error":"#N/A"}},{"$f":"MATCH(DZ$3,Millwall!$AH143:$AW143,0)","v":{"$error":"#N/A"}},{"$f":"MATCH(EA$3,Millwall!$AH143:$AW143,0)","v":{"$error":"#N/A"}},null,null,{"$f":"MATCH(ED$3,Millwall!$AH143:$AW143,0)","v":{"$error":"#N/A"}},{"$f":"MATCH(EE$3,Millwall!$AH143:$AW143,0)","v":{"$error":"#N/A"}},{"$f":"MATCH(EF$3,Millwall!$AH143:$AW143,0)","v":{"$error":"#N/A"}},{"$f":"MATCH(EG$3,Millwall!$AH143:$AW143,0)","v":{"$error":"#N/A"}},{"$f":"MATCH(EH$3,Millwall!$AH143:$AW143,0)","v":{"$error":"#N/A"}},{"$f":"MATCH(EI$3,Millwall!$AH143:$AW143,0)","v":{"$error":"#N/A"}},{"$f":"MATCH(EJ$3,Millwall!$AH143:$AW143,0)","v":{"$error":"#N/A"}},{"$f":"MATCH(EK$3,Millwall!$AH143:$AW143,0)","v":{"$error":"#N/A"}},{"$f":"MATCH(EL$3,Millwall!$AH143:$AW143,0)","v":{"$error":"#N/A"}},{"$f":"MATCH(EM$3,Millwall!$AH143:$AW143,0)","v":{"$error":"#N/A"}},{"$f":"MATCH(EN$3,Millwall!$AH143:$AW143,0)","v":{"$error":"#N/A"}},{"$f":"MATCH(EO$3,Millwall!$AH143:$AW143,0)","v":{"$error":"#N/A"}},{"$f":"MATCH(EP$3,Millwall!$AH143:$AW143,0)","v":{"$error":"#N/A"}},{"$f":"MATCH(EQ$3,Millwall!$AH143:$AW143,0)","v":{"$error":"#N/A"}},{"$f":"MATCH(ER$3,Millwall!$AH143:$AW143,0)","v":{"$error":"#N/A"}},{"$f":"MATCH(ES$3,Millwall!$AH143:$AW143,0)","v":{"$error":"#N/A"}},{"$f":"MATCH(ET$3,Millwall!$AH143:$AW143,0)","v":{"$error":"#N/A"}},{"$f":"MATCH(EU$3,Millwall!$AH143:$AW143,0)","v":{"$error":"#N/A"}},{"$f":"MATCH(EV$3,Millwall!$AH143:$AW143,0)","v":{"$error":"#N/A"}},{"$f":"MATCH(EW$3,Millwall!$AH143:$AW143,0)","v":{"$error":"#N/A"}},{"$f":"MATCH(EX$3,Millwall!$AH143:$AW143,0)","v":{"$error":"#N/A"}},{"$f":"MATCH(EY$3,Millwall!$AH143:$AW143,0)","v":{"$error":"#N/A"}},{"$f":"MATCH(EZ$3,Millwall!$AH143:$AW143,0)","v":{"$error":"#N/A"}},{"$f":"MATCH(FA$3,Millwall!$AH143:$AW143,0)","v":{"$error":"#N/A"}},{"$f":"MATCH(FB$3,Millwall!$AH143:$AW143,0)","v":{"$error":"#N/A"}},{"$f":"MATCH(FC$3,Millwall!$AH143:$AW143,0)","v":{"$error":"#N/A"}},{"$f":"MATCH(FD$3,Millwall!$AH143:$AW143,0)","v":{"$error":"#N/A"}},{"$f":"MATCH(FE$3,Millwall!$AH143:$AW143,0)","v":{"$error":"#N/A"}},{"$f":"MATCH(FF$3,Millwall!$AH143:$AW143,0)","v":{"$error":"#N/A"}},{"$f":"MATCH(FG$3,Millwall!$AH143:$AW143,0)","v":{"$error":"#N/A"}},{"$f":"MATCH(FH$3,Millwall!$AH143:$AW143,0)","v":{"$error":"#N/A"}},{"$f":"MATCH(FI$3,Millwall!$AH143:$AW143,0)","v":{"$error":"#N/A"}},{"$f":"MATCH(FJ$3,Millwall!$AH143:$AW143,0)","v":{"$error":"#N/A"}},{"$f":"MATCH(FK$3,Millwall!$AH143:$AW143,0)","v":{"$error":"#N/A"}},{"$f":"MATCH(FL$3,Millwall!$AH143:$AW143,0)","v":{"$error":"#N/A"}},{"$f":"MATCH(FM$3,Millwall!$AH143:$AW143,0)","v":{"$error":"#N/A"}},{"$f":"MATCH(FN$3,Millwall!$AH143:$AW143,0)","v":{"$error":"#N/A"}},{"$f":"MATCH(FO$3,Millwall!$AH143:$AW143,0)","v":{"$error":"#N/A"}}]
[null,null,1,null,null,{"$f":"Millwall!AD144","v":"00:00:00"},null,{"$f":"Millwall!AE144","v":"00:00:00"},{"$f":"Millwall!AF144","v":"00:00:00"},{"$f":"Millwall!AG144","v":0},{"$f":"MATCH(K$4,Millwall!$AH144:$AW144,0)","v":{"$error":"#N/A"}},{"$f":"MATCH(L$4,Millwall!$AH144:$AW144,0)","v":{"$error":"#N/A"}},{"$f":"MATCH(M$4,Millwall!$AH144:$AW144,0)","v":{"$error":"#N/A"}},{"$f":"MATCH(N$4,Millwall!$AH144:$AW144,0)","v":{"$error":"#N/A"}},{"$f":"MATCH(O$4,Millwall!$AH144:$AW144,0)","v":{"$error":"#N/A"}},{"$f":"MATCH(P$4,Millwall!$AH144:$AW144,0)","v":{"$error":"#N/A"}},{"$f":"MATCH(Q$4,Millwall!$AH144:$AW144,0)","v":{"$error":"#N/A"}},{"$f":"MATCH(R$4,Millwall!$AH144:$AW144,0)","v":{"$error":"#N/A"}},{"$f":"MATCH(S$4,Millwall!$AH144:$AW144,0)","v":{"$error":"#N/A"}},{"$f":"MATCH(T$4,Millwall!$AH144:$AW144,0)","v":{"$error":"#N/A"}},{"$f":"MATCH(U$4,Millwall!$AH144:$AW144,0)","v":{"$error":"#N/A"}},{"$f":"MATCH(V$4,Millwall!$AH144:$AW144,0)","v":{"$error":"#N/A"}},{"$f":"MATCH(W$4,Millwall!$AH144:$AW144,0)","v":{"$error":"#N/A"}},{"$f":"MATCH(X$4,Millwall!$AH144:$AW144,0)","v":{"$error":"#N/A"}},{"$f":"MATCH(Y$4,Millwall!$AH144:$AW144,0)","v":{"$error":"#N/A"}},{"$f":"MATCH(Z$4,Millwall!$AH144:$AW144,0)","v":{"$error":"#N/A"}},{"$f":"MATCH(AA$4,Millwall!$AH144:$AW144,0)","v":{"$error":"#N/A"}},{"$f":"MATCH(AB$4,Millwall!$AH144:$AW144,0)","v":{"$error":"#N/A"}},{"$f":"MATCH(AC$4,Millwall!$AH144:$AW144,0)","v":{"$error":"#N/A"}},{"$f":"MATCH(AD$4,Millwall!$AH144:$AW144,0)","v":{"$error":"#N/A"}},{"$f":"MATCH(AE$4,Millwall!$AH144:$AW144,0)","v":{"$error":"#N/A"}},{"$f":"MATCH(AF$4,Millwall!$AH144:$AW144,0)","v":{"$error":"#N/A"}},{"$f":"MATCH(AG$4,Millwall!$AH144:$AW144,0)","v":{"$error":"#N/A"}},{"$f":"MATCH(AH$4,Millwall!$AH144:$AW144,0)","v":{"$error":"#N/A"}},{"$f":"MATCH(AI$4,Millwall!$AH144:$AW144,0)","v":{"$error":"#N/A"}},{"$f":"MATCH(AJ$4,Millwall!$AH144:$AW144,0)","v":{"$error":"#N/A"}},{"$f":"MATCH(AK$4,Millwall!$AH144:$AW144,0)","v":{"$error":"#N/A"}},{"$f":"MATCH(AL$4,Millwall!$AH144:$AW144,0)","v":{"$error":"#N/A"}},{"$f":"MATCH(AM$4,Millwall!$AH144:$AW144,0)","v":{"$error":"#N/A"}},{"$f":"MATCH(AN$4,Millwall!$AH144:$AW144,0)","v":{"$error":"#N/A"}},{"$f":"MATCH(AO$4,Millwall!$AH144:$AW144,0)","v":{"$error":"#N/A"}},{"$f":"MATCH(AP$4,Millwall!$AH144:$AW144,0)","v":{"$error":"#N/A"}},{"$f":"MATCH(AQ$4,Millwall!$AH144:$AW144,0)","v":{"$error":"#N/A"}},{"$f":"MATCH(AR$4,Millwall!$AH144:$AW144,0)","v":{"$error":"#N/A"}},{"$f":"MATCH(AS$4,Millwall!$AH144:$AW144,0)","v":{"$error":"#N/A"}},{"$f":"MATCH(AT$4,Millwall!$AH144:$AW144,0)","v":{"$error":"#N/A"}},{"$f":"MATCH(AU$4,Millwall!$AH144:$AW144,0)","v":{"$error":"#N/A"}},{"$f":"MATCH(AV$4,Millwall!$AH144:$AW144,0)","v":{"$error":"#N/A"}},null,null,null,null,null,{"$f":"MATCH(BB$3,Millwall!$AH144:$AW144,0)","v":{"$error":"#N/A"}},{"$f":"MATCH(BC$3,Millwall!$AH144:$AW144,0)","v":{"$error":"#N/A"}},{"$f":"MATCH(BD$3,Millwall!$AH144:$AW144,0)","v":{"$error":"#N/A"}},{"$f":"MATCH(BE$3,Millwall!$AH144:$AW144,0)","v":{"$error":"#N/A"}},{"$f":"MATCH(BF$3,Millwall!$AH144:$AW144,0)","v":{"$error":"#N/A"}},{"$f":"MATCH(BG$3,Millwall!$AH144:$AW144,0)","v":{"$error":"#N/A"}},{"$f":"MATCH(BH$3,Millwall!$AH144:$AW144,0)","v":{"$error":"#N/A"}},{"$f":"MATCH(BI$3,Millwall!$AH144:$AW144,0)","v":{"$error":"#N/A"}},{"$f":"MATCH(BJ$3,Millwall!$AH144:$AW144,0)","v":{"$error":"#N/A"}},{"$f":"MATCH(BK$3,Millwall!$AH144:$AW144,0)","v":{"$error":"#N/A"}},{"$f":"MATCH(BL$3,Millwall!$AH144:$AW144,0)","v":{"$error":"#N/A"}},{"$f":"MATCH(BM$3,Millwall!$AH144:$AW144,0)","v":{"$error":"#N/A"}},{"$f":"MATCH(BN$3,Millwall!$AH144:$AW144,0)","v":{"$error":"#N/A"}},{"$f":"MATCH(BO$3,Millwall!$AH144:$AW144,0)","v":{"$error":"#N/A"}},{"$f":"MATCH(BP$3,Millwall!$AH144:$AW144,0)","v":{"$error":"#N/A"}},{"$f":"MATCH(BQ$3,Millwall!$AH144:$AW144,0)","v":{"$error":"#N/A"}},{"$f":"MATCH(BR$3,Millwall!$AH144:$AW144,0)","v":{"$error":"#N/A"}},{"$f":"MATCH(BS$3,Millwall!$AH144:$AW144,0)","v":{"$error":"#N/A"}},{"$f":"MATCH(BT$3,Millwall!$AH144:$AW144,0)","v":{"$error":"#N/A"}},{"$f":"MATCH(BU$3,Millwall!$AH144:$AW144,0)","v":{"$error":"#N/A"}},{"$f":"MATCH(BV$3,Millwall!$AH144:$AW144,0)","v":{"$error":"#N/A"}},{"$f":"MATCH(BW$3,Millwall!$AH144:$AW144,0)","v":{"$error":"#N/A"}},{"$f":"MATCH(BX$3,Millwall!$AH144:$AW144,0)","v":{"$error":"#N/A"}},{"$f":"MATCH(BY$3,Millwall!$AH144:$AW144,0)","v":{"$error":"#N/A"}},{"$f":"MATCH(BZ$3,Millwall!$AH144:$AW144,0)","v":{"$error":"#N/A"}},{"$f":"MATCH(CA$3,Millwall!$AH144:$AW144,0)","v":{"$error":"#N/A"}},{"$f":"MATCH(CB$3,Millwall!$AH144:$AW144,0)","v":{"$error":"#N/A"}},{"$f":"MATCH(CC$3,Millwall!$AH144:$AW144,0)","v":{"$error":"#N/A"}},{"$f":"MATCH(CD$3,Millwall!$AH144:$AW144,0)","v":{"$error":"#N/A"}},{"$f":"MATCH(CE$3,Millwall!$AH144:$AW144,0)","v":{"$error":"#N/A"}},{"$f":"MATCH(CF$3,Millwall!$AH144:$AW144,0)","v":{"$error":"#N/A"}},{"$f":"MATCH(CG$3,Millwall!$AH144:$AW144,0)","v":{"$error":"#N/A"}},{"$f":"MATCH(CH$3,Millwall!$AH144:$AW144,0)","v":{"$error":"#N/A"}},{"$f":"MATCH(CI$3,Millwall!$AH144:$AW144,0)","v":{"$error":"#N/A"}},{"$f":"MATCH(CJ$3,Millwall!$AH144:$AW144,0)","v":{"$error":"#N/A"}},{"$f":"MATCH(CK$3,Millwall!$AH144:$AW144,0)","v":{"$error":"#N/A"}},{"$f":"MATCH(CL$3,Millwall!$AH144:$AW144,0)","v":{"$error":"#N/A"}},{"$f":"MATCH(CM$3,Millwall!$AH144:$AW144,0)","v":{"$error":"#N/A"}},null,null,{"$f":"MATCH(CP$3,Millwall!$AH144:$AW144,0)","v":{"$error":"#N/A"}},{"$f":"MATCH(CQ$3,Millwall!$AH144:$AW144,0)","v":{"$error":"#N/A"}},{"$f":"MATCH(CR$3,Millwall!$AH144:$AW144,0)","v":{"$error":"#N/A"}},{"$f":"MATCH(CS$3,Millwall!$AH144:$AW144,0)","v":{"$error":"#N/A"}},{"$f":"MATCH(CT$3,Millwall!$AH144:$AW144,0)","v":{"$error":"#N/A"}},{"$f":"MATCH(CU$3,Millwall!$AH144:$AW144,0)","v":{"$error":"#N/A"}},{"$f":"MATCH(CV$3,Millwall!$AH144:$AW144,0)","v":{"$error":"#N/A"}},{"$f":"MATCH(CW$3,Millwall!$AH144:$AW144,0)","v":{"$error":"#N/A"}},{"$f":"MATCH(CX$3,Millwall!$AH144:$AW144,0)","v":{"$error":"#N/A"}},{"$f":"MATCH(CY$3,Millwall!$AH144:$AW144,0)","v":{"$error":"#N/A"}},{"$f":"MATCH(CZ$3,Millwall!$AH144:$AW144,0)","v":{"$error":"#N/A"}},{"$f":"MATCH(DA$3,Millwall!$AH144:$AW144,0)","v":{"$error":"#N/A"}},{"$f":"MATCH(DB$3,Millwall!$AH144:$AW144,0)","v":{"$error":"#N/A"}},{"$f":"MATCH(DC$3,Millwall!$AH144:$AW144,0)","v":{"$error":"#N/A"}},{"$f":"MATCH(DD$3,Millwall!$AH144:$AW144,0)","v":{"$error":"#N/A"}},{"$f":"MATCH(DE$3,Millwall!$AH144:$AW144,0)","v":{"$error":"#N/A"}},{"$f":"MATCH(DF$3,Millwall!$AH144:$AW144,0)","v":{"$error":"#N/A"}},{"$f":"MATCH(DG$3,Millwall!$AH144:$AW144,0)","v":{"$error":"#N/A"}},{"$f":"MATCH(DH$3,Millwall!$AH144:$AW144,0)","v":{"$error":"#N/A"}},{"$f":"MATCH(DI$3,Millwall!$AH144:$AW144,0)","v":{"$error":"#N/A"}},{"$f":"MATCH(DJ$3,Millwall!$AH144:$AW144,0)","v":{"$error":"#N/A"}},{"$f":"MATCH(DK$3,Millwall!$AH144:$AW144,0)","v":{"$error":"#N/A"}},{"$f":"MATCH(DL$3,Millwall!$AH144:$AW144,0)","v":{"$error":"#N/A"}},{"$f":"MATCH(DM$3,Millwall!$AH144:$AW144,0)","v":{"$error":"#N/A"}},{"$f":"MATCH(DN$3,Millwall!$AH144:$AW144,0)","v":{"$error":"#N/A"}},{"$f":"MATCH(DO$3,Millwall!$AH144:$AW144,0)","v":{"$error":"#N/A"}},{"$f":"MATCH(DP$3,Millwall!$AH144:$AW144,0)","v":{"$error":"#N/A"}},{"$f":"MATCH(DQ$3,Millwall!$AH144:$AW144,0)","v":{"$error":"#N/A"}},{"$f":"MATCH(DR$3,Millwall!$AH144:$AW144,0)","v":{"$error":"#N/A"}},{"$f":"MATCH(DS$3,Millwall!$AH144:$AW144,0)","v":{"$error":"#N/A"}},{"$f":"MATCH(DT$3,Millwall!$AH144:$AW144,0)","v":{"$error":"#N/A"}},{"$f":"MATCH(DU$3,Millwall!$AH144:$AW144,0)","v":{"$error":"#N/A"}},{"$f":"MATCH(DV$3,Millwall!$AH144:$AW144,0)","v":{"$error":"#N/A"}},{"$f":"MATCH(DW$3,Millwall!$AH144:$AW144,0)","v":{"$error":"#N/A"}},{"$f":"MATCH(DX$3,Millwall!$AH144:$AW144,0)","v":{"$error":"#N/A"}},{"$f":"MATCH(DY$3,Millwall!$AH144:$AW144,0)","v":{"$error":"#N/A"}},{"$f":"MATCH(DZ$3,Millwall!$AH144:$AW144,0)","v":{"$error":"#N/A"}},{"$f":"MATCH(EA$3,Millwall!$AH144:$AW144,0)","v":{"$error":"#N/A"}},null,null,{"$f":"MATCH(ED$3,Millwall!$AH144:$AW144,0)","v":{"$error":"#N/A"}},{"$f":"MATCH(EE$3,Millwall!$AH144:$AW144,0)","v":{"$error":"#N/A"}},{"$f":"MATCH(EF$3,Millwall!$AH144:$AW144,0)","v":{"$error":"#N/A"}},{"$f":"MATCH(EG$3,Millwall!$AH144:$AW144,0)","v":{"$error":"#N/A"}},{"$f":"MATCH(EH$3,Millwall!$AH144:$AW144,0)","v":{"$error":"#N/A"}},{"$f":"MATCH(EI$3,Millwall!$AH144:$AW144,0)","v":{"$error":"#N/A"}},{"$f":"MATCH(EJ$3,Millwall!$AH144:$AW144,0)","v":{"$error":"#N/A"}},{"$f":"MATCH(EK$3,Millwall!$AH144:$AW144,0)","v":{"$error":"#N/A"}},{"$f":"MATCH(EL$3,Millwall!$AH144:$AW144,0)","v":{"$error":"#N/A"}},{"$f":"MATCH(EM$3,Millwall!$AH144:$AW144,0)","v":{"$error":"#N/A"}},{"$f":"MATCH(EN$3,Millwall!$AH144:$AW144,0)","v":{"$error":"#N/A"}},{"$f":"MATCH(EO$3,Millwall!$AH144:$AW144,0)","v":{"$error":"#N/A"}},{"$f":"MATCH(EP$3,Millwall!$AH144:$AW144,0)","v":{"$error":"#N/A"}},{"$f":"MATCH(EQ$3,Millwall!$AH144:$AW144,0)","v":{"$error":"#N/A"}},{"$f":"MATCH(ER$3,Millwall!$AH144:$AW144,0)","v":{"$error":"#N/A"}},{"$f":"MATCH(ES$3,Millwall!$AH144:$AW144,0)","v":{"$error":"#N/A"}},{"$f":"MATCH(ET$3,Millwall!$AH144:$AW144,0)","v":{"$error":"#N/A"}},{"$f":"MATCH(EU$3,Millwall!$AH144:$AW144,0)","v":{"$error":"#N/A"}},{"$f":"MATCH(EV$3,Millwall!$AH144:$AW144,0)","v":{"$error":"#N/A"}},{"$f":"MATCH(EW$3,Millwall!$AH144:$AW144,0)","v":{"$error":"#N/A"}},{"$f":"MATCH(EX$3,Millwall!$AH144:$AW144,0)","v":{"$error":"#N/A"}},{"$f":"MATCH(EY$3,Millwall!$AH144:$AW144,0)","v":{"$error":"#N/A"}},{"$f":"MATCH(EZ$3,Millwall!$AH144:$AW144,0)","v":{"$error":"#N/A"}},{"$f":"MATCH(FA$3,Millwall!$AH144:$AW144,0)","v":{"$error":"#N/A"}},{"$f":"MATCH(FB$3,Millwall!$AH144:$AW144,0)","v":{"$error":"#N/A"}},{"$f":"MATCH(FC$3,Millwall!$AH144:$AW144,0)","v":{"$error":"#N/A"}},{"$f":"MATCH(FD$3,Millwall!$AH144:$AW144,0)","v":{"$error":"#N/A"}},{"$f":"MATCH(FE$3,Millwall!$AH144:$AW144,0)","v":{"$error":"#N/A"}},{"$f":"MATCH(FF$3,Millwall!$AH144:$AW144,0)","v":{"$error":"#N/A"}},{"$f":"MATCH(FG$3,Millwall!$AH144:$AW144,0)","v":{"$error":"#N/A"}},{"$f":"MATCH(FH$3,Millwall!$AH144:$AW144,0)","v":{"$error":"#N/A"}},{"$f":"MATCH(FI$3,Millwall!$AH144:$AW144,0)","v":{"$error":"#N/A"}},{"$f":"MATCH(FJ$3,Millwall!$AH144:$AW144,0)","v":{"$error":"#N/A"}},{"$f":"MATCH(FK$3,Millwall!$AH144:$AW144,0)","v":{"$error":"#N/A"}},{"$f":"MATCH(FL$3,Millwall!$AH144:$AW144,0)","v":{"$error":"#N/A"}},{"$f":"MATCH(FM$3,Millwall!$AH144:$AW144,0)","v":{"$error":"#N/A"}},{"$f":"MATCH(FN$3,Millwall!$AH144:$AW144,0)","v":{"$error":"#N/A"}},{"$f":"MATCH(FO$3,Millwall!$AH144:$AW144,0)","v":{"$error":"#N/A"}}]
[]
[null,null,null,null,null,null,null,null,null,"Total League Cup Apperances",{"$f":"COUNT($K$75:$K$83)-$K$87-$K$86","v":0},{"$f":"COUNT($L$75:$L$83)-$L$87-$L$86","v":0},{"$f":"COUNT($M$75:$M$83)-$M$87-$M$86","v":0},{"$f":"COUNT($N$75:$N$83)-$N$87-$N$86","v":2},{"$f":"COUNT($O$75:$O$83)-$O$87-$O$86","v":0},{"$f":"COUNT($P$75:$P$83)-$P$87-$P$86","v":0},{"$f":"COUNT($Q$75:$Q$83)-$Q$87-$Q$86","v":0},{"$f":"COUNT($R$75:$R$83)-$R$87-$R$86","v":2},{"$f":"COUNT($S$75:$S$83)-$S$87-$S$86","v":1},{"$f":"COUNT($T$75:$T$83)-$T$87-$T$86","v":2},{"$f":"COUNT($U$75:$U$83)-$U$87-$U$86","v":1},{"$f":"COUNT($V$75:$V$83)-$V$87-$V$86","v":0},{"$f":"COUNT($W$75:$W$83)-$W$87-$W$86","v":0},{"$f":"COUNT($X$75:$X$83)-$X$87-$X$86","v":0},{"$f":"COUNT($Y$75:$Y$83)-$Y$87-$Y$86","v":1},{"$f":"COUNT($Z$75:$Z$83)-$Z$87-$Z$86","v":1},{"$f":"COUNT($AA$75:$AA$83)-$AA$86-$AA$87","v":0},{"$f":"COUNT($AB$75:$AB$83)-$AB$87-$AB$86","v":0},{"$f":"COUNT($AC$75:$AC$83)-$AC$87-$AC$86","v":0},{"$f":"COUNT($AD$75:$AD$83)-$AD$87-$AD$86","v":0},{"$f":"COUNT($AE$75:$AE$83)-$AE$87-$AE$86","v":2},{"$f":"COUNT($AF$75:$AF$83)-$AF$87-$AF$86","v":0},{"$f":"COUNT($AG$75:$AG$83)-$AG$87-$AG$86","v":0},{"$f":"COUNT($AH$75:$AH$83)-$AH$87-$AH$86","v":1},{"$f":"COUNT($AI$75:$AI$83)-$AI$87-$AI$86","v":2},{"$f":"COUNT($AJ$75:$AJ$83)-$AJ$87-$AJ$86","v":0},{"$f":"COUNT($AK$75:$AK$83)-$AK$87-$AK$86","v":0},{"$f":"COUNT($AL$75:$AL$83)-$AL$87-$AL$86","v":1},{"$f":"COUNT($AM$75:$AM$83)-$AM$87-$AM$86","v":0},{"$f":"COUNT($AN$75:$AN$83)-$AN$87-$AN$86","v":1},{"$f":"COUNT($AO$75:$AO$83)-$AO$87-$AO$86","v":0},{"$f":"COUNT($AP$75:$AP$83)-$AP$87-$AP$86","v":2},{"$f":"COUNT($AQ$75:$AQ$83)-$AQ$87-$AQ$86","v":0},{"$f":"COUNT($AR$75:$AR$83)-$AR$87-$AR$86","v":1},{"$f":"COUNT($AS$75:$AS$83)-$AS$87-$AS$86","v":0},{"$f":"COUNT($AT$75:$AT$83)-$AT$87-$AT$86","v":2},{"$f":"COUNT($AU$75:$AU$83)-$AU$87-$AU$86","v":0},{"$f":"COUNT($AV$75:$AV$83)-$AV$87-$AV$86","v":0}]
[null,null,null,null,null,null,null,null,null,"Total League Cup Substitute Appearences ",{"$f":"$BB$86+$CP$86+$ED$86","v":0},{"$f":"$BC$86+$CQ$86+$EE$86","v":0},{"$f":"$BD$86+$CR$86+$EF$86","v":0},{"$f":"$BE$86+$CS$86+$EG$86","v":0},{"$f":"$BF$86+$CT$86+$EH$86","v":0},{"$f":"$BG$86+$CU$86+$EI$86","v":0},{"$f":"$BH$86+$CV$86+$EJ$86","v":0},{"$f":"$BI$86+$CW$86+$EK$86","v":0},{"$f":"$BJ$86+$CX$86+$EL$86","v":0},{"$f":"$BK$86+$CY$86+$EM$86","v":0},{"$f":"$BL$86+$CZ$86+$EN$86","v":1},{"$f":"$BM$86+$DA$86+$EO$86","v":0},{"$f":"$BN$86+$DB$86+$EP$86","v":0},{"$f":"$BO$86+$DC$86+$EQ$86","v":0},{"$f":"$BP$86+$DD$86+$ER$86","v":1},{"$f":"$BQ$86+$DE$86+$ES$86","v":1},{"$f":"$BR$86+$DF$86+$ET$86","v":0},{"$f":"$BS$86+$DG$86+$EU$86","v":0},{"$f":"$BT$86+$DH$86+$EV$86","v":0},{"$f":"$BU$86+$DI$86+$EW$86","v":0},{"$f":"$BV$86+$DJ$86+$EX$86","v":0},{"$f":"$BW$86+$DK$86+$EY$86","v":0},{"$f":"$BX$86+$DL$86+$EZ$86","v":0},{"$f":"$BY$86+$DM$86+$FA$86","v":1},{"$f":"$BZ$86+$DN$86+$FB$86","v":0},{"$f":"$CA$86+$DO$86+$FC$86","v":0},{"$f":"$CB$86+$DP$86+$FD$86","v":0},{"$f":"$CC$86+$DQ$86+$FE$86","v":0},{"$f":"$CD$86+$DR$86+$FF$86","v":0},{"$f":"$CE$86+$DS$86+$FG$86","v":0},{"$f":"$CF$86+$DT$86+$FH$86","v":0},{"$f":"$CG$86+$DU$86+$FI$86","v":0},{"$f":"$CH$86+$DV$86+$FJ$86","v":0},{"$f":"$CI$86+$DW$86+$FK$86","v":0},{"$f":"$CJ$86+$DX$86+$FL$86","v":0},{"$f":"$CK$86+$DY$86+$FM$86","v":0},{"$f":"$CL$86+$DZ$86+$FN$86","v":0},{"$f":"$CM$86+$EA$86+$FO$86","v":0},null,null,null,null,null,{"$f":"COUNTIF(BB75:BB83,12)","v":0},{"$f":"COUNTIF(BC75:BC83,12)","v":0},0,0,0,0,0,0,0,0,0,0,0,0,0,0,0,0,0,0,0,0,0,0,0,0,0,0,0,0,0,0,0,0,0,0,0,0,null,null,{"$f":"COUNTIF(CP75:CP83,13)","v":0},0,0,0,0,0,0,0,0,0,1,0,0,0,1,0,0,0,0,0,0,0,0,0,0,0,0,0,0,0,0,0,0,0,0,0,0,0,null,null,{"$f":"COUNTIF(ED75:ED83,14)","v":0},0,0,0,0,0,0,0,0,0,0,0,0,0,0,1,0,0,0,0,0,0,0,1,0,0,0,0,0,0,0,0,0,0,0,0,0,0]
[null,null,null,null,null,null,null,null,null,"Non Playing Substitute",{"$f":"COUNTIF($K$75:$K$83,\">=12\")-$K$86","v":0},{"$f":"COUNTIF($L$75:$L$83,\">=12\")-$L$86","v":0},{"$f":"COUNTIF($M$75:$M$83,\">=12\")-$M$86","v":0},{"$f":"COUNTIF($N$75:$N$83,\">=12\")-$N$86","v":0},{"$f":"COUNTIF($O$75:$O$83,\">=12\")-$O$86","v":0},{"$f":"COUNTIF($P$75:$P$83,\">=12\")-$P$86","v":0},{"$f":"COUNTIF($Q$75:$Q$83,\">=12\")-$Q$86","v":0},{"$f":"COUNTIF($R$75:$R$83,\">=12\")-$R$86","v":0},{"$f":"COUNTIF($S$75:$S$83,\">=12\")-$S$86","v":0},{"$f":"COUNTIF($T$75:$T$83,\">=12\")-$T$86","v":0},{"$f":"COUNTIF($U$75:$U$83,\">=12\")-$U$86","v":0},{"$f":"COUNTIF($V$75:$V$83,\">=12\")-$V$86","v":2},{"$f":"COUNTIF($W$75:$W$83,\">=12\")-$W$86","v":0},{"$f":"COUNTIF($X$75:$X$83,\">=12\")-$X$86","v":0},{"$f":"COUNTIF($Y$75:$Y$83,\">=12\")-$Y$86","v":0},{"$f":"COUNTIF($Z$75:$Z$83,\">=12\")-$Z$86","v":0},{"$f":"COUNTIF($AA$75:$AA$83,\">=12\")-$AA$86","v":0},{"$f":"COUNTIF($AB$75:$AB$83,\">=12\")-$AB$86","v":0},{"$f":"COUNTIF($AC$75:$AC$83,\">=12\")-$AC$86","v":0},{"$f":"COUNTIF($AD$75:$AD$83,\">=12\")-$AD$86","v":0},{"$f":"COUNTIF($AE$75:$AE$83,\">=12\")-$AE$86","v":0},{"$f":"COUNTIF($AF$75:$AF$83,\">=12\")-$AF$86","v":0},{"$f":"COUNTIF($AG$75:$AG$83,\">=12\")-$AG$86","v":0},{"$f":"COUNTIF($AH$75:$AH$83,\">=12\")-$AH$86","v":0},{"$f":"COUNTIF($AI$75:$AI$83,\">=12\")-$AI$86","v":0},{"$f":"COUNTIF($AJ$75:$AJ$83,\">=12\")-$AJ$86","v":0},{"$f":"COUNTIF($AK$75:$AK$83,\">=12\")-$AK$86","v":0},{"$f":"COUNTIF($AL$75:$AL$83,\">=12\")-$AL$86","v":0},{"$f":"COUNTIF($AM$75:$AM$83,\">=12\")-$AM$86","v":0},{"$f":"COUNTIF($AN$75:$AN$83,\">=12\")-$AN$86","v":0},{"$f":"COUNTIF($AO$75:$AO$83,\">=12\")-$AO$86","v":0},{"$f":"COUNTIF($AP$75:$AP$83,\">=12\")-$AP$86","v":0},{"$f":"COUNTIF($AQ$75:$AQ$83,\">=12\")-$AQ$86","v":0},{"$f":"COUNTIF($AR$75:$AR$83,\">=12\")-$AR$86","v":0},{"$f":"COUNTIF($AS$75:$AS$83,\">=12\")-$AS$86","v":0},{"$f":"COUNTIF($AT$75:$AT$83,\">=12\")-$AT$86","v":0},{"$f":"COUNTIF($AU$75:$AU$83,\">=12\")-$AU$86","v":0},{"$f":"COUNTIF($AV$75:$AV$83,\">=12\")-$AV$86","v":0}]
[null,null,null,null,null,null,null,null,null,"Goals",{"$f":"Millwall!$CR$6","v":0},{"$f":"Millwall!$CR$7","v":0},{"$f":"Millwall!$CR$8","v":0},{"$f":"Millwall!$CR$9","v":0},{"$f":"Millwall!$CR$10","v":0},{"$f":"Millwall!$CR$11","v":0},{"$f":"Millwall!$CR$12","v":0},{"$f":"Millwall!$CR$13","v":0},{"$f":"Millwall!$CR$14","v":0},{"$f":"Millwall!$CR$15","v":0},{"$f":"Millwall!$CR$16","v":0},{"$f":"Millwall!$CR$17","v":0},{"$f":"Millwall!$CR$18","v":0},{"$f":"Millwall!$CR$19","v":0},{"$f":"Millwall!$CR$20","v":0},{"$f":"Millwall!$CR$21","v":0},{"$f":"Millwall!$CR$22","v":0},{"$f":"Millwall!$CR$23","v":0},{"$f":"Millwall!$CR$24","v":0},{"$f":"Millwall!$CR$25","v":0},{"$f":"Millwall!$CR$26","v":1},{"$f":"Millwall!$CR$27","v":0},{"$f":"Millwall!$CR$28","v":0},{"$f":"Millwall!$CR$29","v":0},{"$f":"Millwall!$CR$30","v":0},{"$f":"Millwall!$CR$31","v":0},{"$f":"Millwall!$CR$32","v":0},{"$f":"Millwall!$CR$33","v":0},{"$f":"Millwall!$CR$34","v":0},{"$f":"Millwall!$CR$35","v":0},{"$f":"Millwall!$CR$36","v":0},{"$f":"Millwall!$CR$37","v":0},{"$f":"Millwall!$CR$38","v":0},{"$f":"Millwall!$CR$39","v":0},{"$f":"Millwall!$CR$40","v":0},{"$f":"Millwall!$CR$41","v":0},{"$f":"Millwall!$CR$42","v":0},{"$f":"Millwall!$CR$47","v":0}]
[]
[null,null,{"$f":"IF(J91=0,1,0)","v":0},null,null,null,null,"AutoWindscreensTrophy"]
[null,null,{"$f":"IF(J91=0,1,0)","v":0},1,null,{"$f":"Millwall!AD146","v":"1996-12-07"},null,{"$f":"Millwall!AE146","v":"Hereford Utd"},{"$f":"Millwall!AF146","v":"(A)"},{"$f":"Millwall!AG146","v":"W 4-0"},{"$f":"MATCH(K$4,Millwall!$AH146:$AW146,0)","v":14},{"$f":"MATCH(L$4,Millwall!$AH146:$AW146,0)","v":{"$error":"#N/A"}},{"$f":"MATCH(M$4,Millwall!$AH146:$AW146,0)","v":{"$error":"#N/A"}},{"$f":"MATCH(N$4,Millwall!$AH146:$AW146,0)","v":{"$error":"#N/A"}},{"$f":"MATCH(O$4,Millwall!$AH146:$AW146,0)","v":{"$error":"#N/A"}},{"$f":"MATCH(P$4,Millwall!$AH146:$AW146,0)","v":{"$error":"#N/A"}},{"$f":"MATCH(Q$4,Millwall!$AH146:$AW146,0)","v":{"$error":"#N/A"}},{"$f":"MATCH(R$4,Millwall!$AH146:$AW146,0)","v":1},{"$f":"MATCH(S$4,Millwall!$AH146:$AW146,0)","v":9},{"$f":"MATCH(T$4,Millwall!$AH146:$AW146,0)","v":10},{"$f":"MATCH(U$4,Millwall!$AH146:$AW146,0)","v":11},{"$f":"MATCH(V$4,Millwall!$AH146:$AW146,0)","v":7},{"$f":"MATCH(W$4,Millwall!$AH146:$AW146,0)","v":{"$error":"#N/A"}},{"$f":"MATCH(X$4,Millwall!$AH146:$AW146,0)","v":{"$error":"#N/A"}},{"$f":"MATCH(Y$4,Millwall!$AH146:$AW146,0)","v":{"$error":"#N/A"}},{"$f":"MATCH(Z$4,Millwall!$AH146:$AW146,0)","v":{"$error":"#N/A"}},{"$f":"MATCH(AA$4,Millwall!$AH146:$AW146,0)","v":{"$error":"#N/A"}},{"$f":"MATCH(AB$4,Millwall!$AH146:$AW146,0)","v":{"$error":"#N/A"}},{"$f":"MATCH(AC$4,Millwall!$AH146:$AW146,0)","v":{"$error":"#N/A"}},{"$f":"MATCH(AD$4,Millwall!$AH146:$AW146,0)","v":2},{"$f":"MATCH(AE$4,Millwall!$AH146:$AW146,0)","v":{"$error":"#N/A"}},{"$f":"MATCH(AF$4,Millwall!$AH146:$AW146,0)","v":{"$error":"#N/A"}},{"$f":"MATCH(AG$4,Millwall!$AH146:$AW146,0)","v":12},{"$f":"MATCH(AH$4,Millwall!$AH146:$AW146,0)","v":8},{"$f":"MATCH(AI$4,Millwall!$AH146:$AW146,0)","v":4},{"$f":"MATCH(AJ$4,Millwall!$AH146:$AW146,0)","v":13},{"$f":"MATCH(AK$4,Millwall!$AH146:$AW146,0)","v":{"$error":"#N/A"}},{"$f":"MATCH(AL$4,Millwall!$AH146:$AW146,0)","v":{"$error":"#N/A"}},{"$f":"MATCH(AM$4,Millwall!$AH146:$AW146,0)","v":{"$error":"#N/A"}},{"$f":"MATCH(AN$4,Millwall!$AH146:$AW146,0)","v":{"$error":"#N/A"}},{"$f":"MATCH(AO$4,Millwall!$AH146:$AW146,0)","v":6},{"$f":"MATCH(AP$4,Millwall!$AH146:$AW146,0)","v":{"$error":"#N/A"}},{"$f":"MATCH(AQ$4,Millwall!$AH146:$AW146,0)","v":3},{"$f":"MATCH(AR$4,Millwall!$AH146:$AW146,0)","v":5},{"$f":"MATCH(AS$4,Millwall!$AH146:$AW146,0)","v":{"$error":"#N/A"}},{"$f":"MATCH(AT$4,Millwall!$AH146:$AW146,0)","v":{"$error":"#N/A"}},{"$f":"MATCH(AU$4,Millwall!$AH146:$AW146,0)","v":{"$error":"#N/A"}},{"$f":"MATCH(AV$4,Millwall!$AH146:$AW146,0)","v":{"$error":"#N/A"}},null,null,null,null,null,{"$f":"MATCH(BB$3,Millwall!$AH146:$AW146,0)","v":{"$error":"#N/A"}},{"$f":"MATCH(BC$3,Millwall!$AH146:$AW146,0)","v":{"$error":"#N/A"}},{"$f":"MATCH(BD$3,Millwall!$AH146:$AW146,0)","v":{"$error":"#N/A"}},{"$f":"MATCH(BE$3,Millwall!$AH146:$AW146,0)","v":{"$error":"#N/A"}},{"$f":"MATCH(BF$3,Millwall!$AH146:$AW146,0)","v":{"$error":"#N/A"}},{"$f":"MATCH(BG$3,Millwall!$AH146:$AW146,0)","v":{"$error":"#N/A"}},{"$f":"MATCH(BH$3,Millwall!$AH146:$AW146,0)","v":{"$error":"#N/A"}},{"$f":"MATCH(BI$3,Millwall!$AH146:$AW146,0)","v":{"$error":"#N/A"}},{"$f":"MATCH(BJ$3,Millwall!$AH146:$AW146,0)","v":{"$error":"#N/A"}},{"$f":"MATCH(BK$3,Millwall!$AH146:$AW146,0)","v":{"$error":"#N/A"}},{"$f":"MATCH(BL$3,Millwall!$AH146:$AW146,0)","v":11},{"$f":"MATCH(BM$3,Millwall!$AH146:$AW146,0)","v":{"$error":"#N/A"}},{"$f":"MATCH(BN$3,Millwall!$AH146:$AW146,0)","v":{"$error":"#N/A"}},{"$f":"MATCH(BO$3,Millwall!$AH146:$AW146,0)","v":{"$error":"#N/A"}},{"$f":"MATCH(BP$3,Millwall!$AH146:$AW146,0)","v":{"$error":"#N/A"}},{"$f":"MATCH(BQ$3,Millwall!$AH146:$AW146,0)","v":{"$error":"#N/A"}},{"$f":"MATCH(BR$3,Millwall!$AH146:$AW146,0)","v":{"$error":"#N/A"}},{"$f":"MATCH(BS$3,Millwall!$AH146:$AW146,0)","v":{"$error":"#N/A"}},{"$f":"MATCH(BT$3,Millwall!$AH146:$AW146,0)","v":{"$error":"#N/A"}},{"$f":"MATCH(BU$3,Millwall!$AH146:$AW146,0)","v":{"$error":"#N/A"}},{"$f":"MATCH(BV$3,Millwall!$AH146:$AW146,0)","v":{"$error":"#N/A"}},{"$f":"MATCH(BW$3,Millwall!$AH146:$AW146,0)","v":{"$error":"#N/A"}},{"$f":"MATCH(BX$3,Millwall!$AH146:$AW146,0)","v":12},{"$f":"MATCH(BY$3,Millwall!$AH146:$AW146,0)","v":{"$error":"#N/A"}},{"$f":"MATCH(BZ$3,Millwall!$AH146:$AW146,0)","v":{"$error":"#N/A"}},{"$f":"MATCH(CA$3,Millwall!$AH146:$AW146,0)","v":{"$error":"#N/A"}},{"$f":"MATCH(CB$3,Millwall!$AH146:$AW146,0)","v":{"$error":"#N/A"}},{"$f":"MATCH(CC$3,Millwall!$AH146:$AW146,0)","v":{"$error":"#N/A"}},{"$f":"MATCH(CD$3,Millwall!$AH146:$AW146,0)","v":{"$error":"#N/A"}},{"$f":"MATCH(CE$3,Millwall!$AH146:$AW146,0)","v":{"$error":"#N/A"}},{"$f":"MATCH(CF$3,Millwall!$AH146:$AW146,0)","v":{"$error":"#N/A"}},{"$f":"MATCH(CG$3,Millwall!$AH146:$AW146,0)","v":{"$error":"#N/A"}},{"$f":"MATCH(CH$3,Millwall!$AH146:$AW146,0)","v":{"$error":"#N/A"}},{"$f":"MATCH(CI$3,Millwall!$AH146:$AW146,0)","v":{"$error":"#N/A"}},{"$f":"MATCH(CJ$3,Millwall!$AH146:$AW146,0)","v":{"$error":"#N/A"}},{"$f":"MATCH(CK$3,Millwall!$AH146:$AW146,0)","v":{"$error":"#N/A"}},{"$f":"MATCH(CL$3,Millwall!$AH146:$AW146,0)","v":{"$error":"#N/A"}},{"$f":"MATCH(CM$3,Millwall!$AH146:$AW146,0)","v":{"$error":"#N/A"}},null,null,{"$f":"MATCH($CP$3,Millwall!$AH$146:$AW$146,0)","v":{"$error":"#N/A"}},{"$f":"MATCH($CQ$3,Millwall!$AH$146:$AW$146,0)","v":{"$error":"#N/A"}},{"$f":"MATCH($CR$3,Millwall!$AH$146:$AW$146,0)","v":{"$error":"#N/A"}},{"$f":"MATCH($CS$3,Millwall!$AH$146:$AW$146,0)","v":{"$error":"#N/A"}},{"$f":"MATCH($CT$3,Millwall!$AH$146:$AW$146,0)","v":{"$error":"#N/A"}},{"$f":"MATCH($CU$3,Millwall!$AH$146:$AW$146,0)","v":{"$error":"#N/A"}},{"$f":"MATCH($CV$3,Millwall!$AH$146:$AW$146,0)","v":{"$error":"#N/A"}},{"$f":"MATCH($CW$3,Millwall!$AH$146:$AW$146,0)","v":{"$error":"#N/A"}},{"$f":"MATCH($CX$3,Millwall!$AH$146:$AW$146,0)","v":{"$error":"#N/A"}},{"$f":"MATCH($CY$3,Millwall!$AH$146:$AW$146,0)","v":{"$error":"#N/A"}},{"$f":"MATCH($CZ$3,Millwall!$AH$146:$AW$146,0)","v":{"$error":"#N/A"}},{"$f":"MATCH($DA$3,Millwall!$AH$146:$AW$146,0)","v":{"$error":"#N/A"}},{"$f":"MATCH($DB$3,Millwall!$AH$146:$AW$146,0)","v":{"$error":"#N/A"}},{"$f":"MATCH($DC$3,Millwall!$AH$146:$AW$146,0)","v":{"$error":"#N/A"}},{"$f":"MATCH($DD$3,Millwall!$AH$146:$AW$146,0)","v":{"$error":"#N/A"}},{"$f":"MATCH($DE$3,Millwall!$AH$146:$AW$146,0)","v":{"$error":"#N/A"}},{"$f":"MATCH($DF$3,Millwall!$AH$146:$AW$146,0)","v":{"$error":"#N/A"}},{"$f":"MATCH($DG$3,Millwall!$AH$146:$AW$146,0)","v":{"$error":"#N/A"}},{"$f":"MATCH($DH$3,Millwall!$AH$146:$AW$146,0)","v":{"$error":"#N/A"}},{"$f":"MATCH($DI$3,Millwall!$AH$146:$AW$146,0)","v":{"$error":"#N/A"}},{"$f":"MATCH($DJ$3,Millwall!$AH$146:$AW$146,0)","v":{"$error":"#N/A"}},{"$f":"MATCH($DK$3,Millwall!$AH$146:$AW$146,0)","v":{"$error":"#N/A"}},{"$f":"MATCH($DL$3,Millwall!$AH$146:$AW$146,0)","v":{"$error":"#N/A"}},{"$f":"MATCH($DM$3,Millwall!$AH$146:$AW$146,0)","v":8},{"$f":"MATCH($DN$3,Millwall!$AH$146:$AW$146,0)","v":{"$error":"#N/A"}},{"$f":"MATCH($DO$3,Millwall!$AH$146:$AW$146,0)","v":13},{"$f":"MATCH($DP$3,Millwall!$AH$146:$AW$146,0)","v":{"$error":"#N/A"}},{"$f":"MATCH($DQ$3,Millwall!$AH$146:$AW$146,0)","v":{"$error":"#N/A"}},{"$f":"MATCH($DR$3,Millwall!$AH$146:$AW$146,0)","v":{"$error":"#N/A"}},{"$f":"MATCH($DS$3,Millwall!$AH$146:$AW$146,0)","v":{"$error":"#N/A"}},{"$f":"MATCH($DT$3,Millwall!$AH$146:$AW$146,0)","v":{"$error":"#N/A"}},{"$f":"MATCH($DU$3,Millwall!$AH$146:$AW$146,0)","v":{"$error":"#N/A"}},{"$f":"MATCH($DV$3,Millwall!$AH$146:$AW$146,0)","v":{"$error":"#N/A"}},{"$f":"MATCH($DW$3,Millwall!$AH$146:$AW$146,0)","v":{"$error":"#N/A"}},{"$f":"MATCH($DX$3,Millwall!$AH$146:$AW$146,0)","v":{"$error":"#N/A"}},{"$f":"MATCH($DY$3,Millwall!$AH$146:$AW$146,0)","v":{"$error":"#N/A"}},{"$f":"MATCH($DZ$3,Millwall!$AH$146:$AW$146,0)","v":{"$error":"#N/A"}},{"$f":"MATCH($EA$3,Millwall!$AH$146:$AW$146,0)","v":{"$error":"#N/A"}},null,null,{"$f":"MATCH(ED$3,Millwall!$AH$146:$AW$146,0)","v":14},{"$f":"MATCH(EE$3,Millwall!$AH$146:$AW$146,0)","v":{"$error":"#N/A"}},{"$f":"MATCH(EF$3,Millwall!$AH$146:$AW$146,0)","v":{"$error":"#N/A"}},{"$f":"MATCH(EG$3,Millwall!$AH$146:$AW$146,0)","v":{"$error":"#N/A"}},{"$f":"MATCH(EH$3,Millwall!$AH$146:$AW$146,0)","v":{"$error":"#N/A"}},{"$f":"MATCH(EI$3,Millwall!$AH$146:$AW$146,0)","v":{"$error":"#N/A"}},{"$f":"MATCH(EJ$3,Millwall!$AH$146:$AW$146,0)","v":{"$error":"#N/A"}},{"$f":"MATCH(EK$3,Millwall!$AH$146:$AW$146,0)","v":{"$error":"#N/A"}},{"$f":"MATCH(EL$3,Millwall!$AH$146:$AW$146,0)","v":{"$error":"#N/A"}},{"$f":"MATCH(EM$3,Millwall!$AH$146:$AW$146,0)","v":{"$error":"#N/A"}},{"$f":"MATCH(EN$3,Millwall!$AH$146:$AW$146,0)","v":{"$error":"#N/A"}},{"$f":"MATCH(EO$3,Millwall!$AH$146:$AW$146,0)","v":{"$error":"#N/A"}},{"$f":"MATCH(EP$3,Millwall!$AH$146:$AW$146,0)","v":{"$error":"#N/A"}},{"$f":"MATCH(EQ$3,Millwall!$AH$146:$AW$146,0)","v":{"$error":"#N/A"}},{"$f":"MATCH(ER$3,Millwall!$AH$146:$AW$146,0)","v":{"$error":"#N/A"}},{"$f":"MATCH(ES$3,Millwall!$AH$146:$AW$146,0)","v":{"$error":"#N/A"}},{"$f":"MATCH(ET$3,Millwall!$AH$146:$AW$146,0)","v":{"$error":"#N/A"}},{"$f":"MATCH(EU$3,Millwall!$AH$146:$AW$146,0)","v":{"$error":"#N/A"}},{"$f":"MATCH(EV$3,Millwall!$AH$146:$AW$146,0)","v":{"$error":"#N/A"}},{"$f":"MATCH(EW$3,Millwall!$AH$146:$AW$146,0)","v":2},{"$f":"MATCH(EX$3,Millwall!$AH$146:$AW$146,0)","v":{"$error":"#N/A"}},{"$f":"MATCH(EY$3,Millwall!$AH$146:$AW$146,0)","v":{"$error":"#N/A"}},{"$f":"MATCH(EZ$3,Millwall!$AH$146:$AW$146,0)","v":{"$error":"#N/A"}},{"$f":"MATCH(FA$3,Millwall!$AH$146:$AW$146,0)","v":{"$error":"#N/A"}},{"$f":"MATCH(FB$3,Millwall!$AH$146:$AW$146,0)","v":{"$error":"#N/A"}},{"$f":"MATCH(FC$3,Millwall!$AH$146:$AW$146,0)","v":{"$error":"#N/A"}},{"$f":"MATCH(FD$3,Millwall!$AH$146:$AW$146,0)","v":{"$error":"#N/A"}},{"$f":"MATCH(FE$3,Millwall!$AH$146:$AW$146,0)","v":{"$error":"#N/A"}},{"$f":"MATCH(FF$3,Millwall!$AH$146:$AW$146,0)","v":{"$error":"#N/A"}},{"$f":"MATCH(FG$3,Millwall!$AH$146:$AW$146,0)","v":{"$error":"#N/A"}},{"$f":"MATCH(FH$3,Millwall!$AH$146:$AW$146,0)","v":{"$error":"#N/A"}},{"$f":"MATCH(FI$3,Millwall!$AH$146:$AW$146,0)","v":{"$error":"#N/A"}},{"$f":"MATCH(FJ$3,Millwall!$AH$146:$AW$146,0)","v":{"$error":"#N/A"}},{"$f":"MATCH(FK$3,Millwall!$AH$146:$AW$146,0)","v":{"$error":"#N/A"}},{"$f":"MATCH(FL$3,Millwall!$AH$146:$AW$146,0)","v":{"$error":"#N/A"}},{"$f":"MATCH(FM$3,Millwall!$AH$146:$AW$146,0)","v":{"$error":"#N/A"}},{"$f":"MATCH(FN$3,Millwall!$AH$146:$AW$146,0)","v":{"$error":"#N/A"}},{"$f":"MATCH(FO$3,Millwall!$AH$146:$AW$146,0)","v":{"$error":"#N/A"}}]
[null,null,0,2,null,{"$f":"Millwall!AD147","v":"1997-01-07"},null,{"$f":"Millwall!AE147","v":"Colchester Utd"},{"$f":"Millwall!AF147","v":"(H)"},{"$f":"Millwall!AG147","v":"L 2-3"},{"$f":"MATCH(K$4,Millwall!$AH147:$AW147,0)","v":{"$error":"#N/A"}},{"$f":"MATCH(L$4,Millwall!$AH147:$AW147,0)","v":{"$error":"#N/A"}},{"$f":"MATCH(M$4,Millwall!$AH147:$AW147,0)","v":{"$error":"#N/A"}},{"$f":"MATCH(N$4,Millwall!$AH147:$AW147,0)","v":{"$error":"#N/A"}},{"$f":"MATCH(O$4,Millwall!$AH147:$AW147,0)","v":10},{"$f":"MATCH(P$4,Millwall!$AH147:$AW147,0)","v":{"$error":"#N/A"}},{"$f":"MATCH(Q$4,Millwall!$AH147:$AW147,0)","v":{"$error":"#N/A"}},{"$f":"MATCH(R$4,Millwall!$AH147:$AW147,0)","v":{"$error":"#N/A"}},{"$f":"MATCH(S$4,Millwall!$AH147:$AW147,0)","v":9},{"$f":"MATCH(T$4,Millwall!$AH147:$AW147,0)","v":{"$error":"#N/A"}},{"$f":"MATCH(U$4,Millwall!$AH147:$AW147,0)","v":11},{"$f":"MATCH(V$4,Millwall!$AH147:$AW147,0)","v":14},{"$f":"MATCH(W$4,Millwall!$AH147:$AW147,0)","v":{"$error":"#N/A"}},{"$f":"MATCH(X$4,Millwall!$AH147:$AW147,0)","v":{"$error":"#N/A"}},{"$f":"MATCH(Y$4,Millwall!$AH147:$AW147,0)","v":3},{"$f":"MATCH(Z$4,Millwall!$AH147:$AW147,0)","v":7},{"$f":"MATCH(AA$4,Millwall!$AH147:$AW147,0)","v":{"$error":"#N/A"}},{"$f":"MATCH(AB$4,Millwall!$AH147:$AW147,0)","v":{"$error":"#N/A"}},{"$f":"MATCH(AC$4,Millwall!$AH147:$AW147,0)","v":1},{"$f":"MATCH(AD$4,Millwall!$AH147:$AW147,0)","v":{"$error":"#N/A"}},{"$f":"MATCH(AE$4,Millwall!$AH147:$AW147,0)","v":{"$error":"#N/A"}},{"$f":"MATCH(AF$4,Millwall!$AH147:$AW147,0)","v":{"$error":"#N/A"}},{"$f":"MATCH(AG$4,Millwall!$AH147:$AW147,0)","v":{"$error":"#N/A"}},{"$f":"MATCH(AH$4,Millwall!$AH147:$AW147,0)","v":{"$error":"#N/A"}},{"$f":"MATCH(AI$4,Millwall!$AH147:$AW147,0)","v":2},{"$f":"MATCH(AJ$4,Millwall!$AH147:$AW147,0)","v":{"$error":"#N/A"}},{"$f":"MATCH(AK$4,Millwall!$AH147:$AW147,0)","v":{"$error":"#N/A"}},{"$f":"MATCH(AL$4,Millwall!$AH147:$AW147,0)","v":6},{"$f":"MATCH(AM$4,Millwall!$AH147:$AW147,0)","v":{"$error":"#N/A"}},{"$f":"MATCH(AN$4,Millwall!$AH147:$AW147,0)","v":4},{"$f":"MATCH(AO$4,Millwall!$AH147:$AW147,0)","v":12},{"$f":"MATCH(AP$4,Millwall!$AH147:$AW147,0)","v":{"$error":"#N/A"}},{"$f":"MATCH(AQ$4,Millwall!$AH147:$AW147,0)","v":13},{"$f":"MATCH(AR$4,Millwall!$AH147:$AW147,0)","v":5},{"$f":"MATCH(AS$4,Millwall!$AH147:$AW147,0)","v":8},{"$f":"MATCH(AT$4,Millwall!$AH147:$AW147,0)","v":{"$error":"#N/A"}},{"$f":"MATCH(AU$4,Millwall!$AH147:$AW147,0)","v":{"$error":"#N/A"}},{"$f":"MATCH(AV$4,Millwall!$AH147:$AW147,0)","v":{"$error":"#N/A"}},null,null,null,null,null,{"$f":"MATCH(BB$3,Millwall!$AH147:$AW147,0)","v":{"$error":"#N/A"}},{"$f":"MATCH(BC$3,Millwall!$AH147:$AW147,0)","v":{"$error":"#N/A"}},{"$f":"MATCH(BD$3,Millwall!$AH147:$AW147,0)","v":{"$error":"#N/A"}},{"$f":"MATCH(BE$3,Millwall!$AH147:$AW147,0)","v":{"$error":"#N/A"}},{"$f":"MATCH(BF$3,Millwall!$AH147:$AW147,0)","v":{"$error":"#N/A"}},{"$f":"MATCH(BG$3,Millwall!$AH147:$AW147,0)","v":{"$error":"#N/A"}},{"$f":"MATCH(BH$3,Millwall!$AH147:$AW147,0)","v":{"$error":"#N/A"}},{"$f":"MATCH(BI$3,Millwall!$AH147:$AW147,0)","v":{"$error":"#N/A"}},{"$f":"MATCH(BJ$3,Millwall!$AH147:$AW147,0)","v":{"$error":"#N/A"}},{"$f":"MATCH(BK$3,Millwall!$AH147:$AW147,0)","v":{"$error":"#N/A"}},{"$f":"MATCH(BL$3,Millwall!$AH147:$AW147,0)","v":{"$error":"#N/A"}},{"$f":"MATCH(BM$3,Millwall!$AH147:$AW147,0)","v":{"$error":"#N/A"}},{"$f":"MATCH(BN$3,Millwall!$AH147:$AW147,0)","v":{"$error":"#N/A"}},{"$f":"MATCH(BO$3,Millwall!$AH147:$AW147,0)","v":{"$error":"#N/A"}},{"$f":"MATCH(BP$3,Millwall!$AH147:$AW147,0)","v":{"$error":"#N/A"}},{"$f":"MATCH(BQ$3,Millwall!$AH147:$AW147,0)","v":{"$error":"#N/A"}},{"$f":"MATCH(BR$3,Millwall!$AH147:$AW147,0)","v":{"$error":"#N/A"}},{"$f":"MATCH(BS$3,Millwall!$AH147:$AW147,0)","v":{"$error":"#N/A"}},{"$f":"MATCH(BT$3,Millwall!$AH147:$AW147,0)","v":{"$error":"#N/A"}},{"$f":"MATCH(BU$3,Millwall!$AH147:$AW147,0)","v":{"$error":"#N/A"}},{"$f":"MATCH(BV$3,Millwall!$AH147:$AW147,0)","v":{"$error":"#N/A"}},{"$f":"MATCH(BW$3,Millwall!$AH147:$AW147,0)","v":{"$error":"#N/A"}},{"$f":"MATCH(BX$3,Millwall!$AH147:$AW147,0)","v":{"$error":"#N/A"}},{"$f":"MATCH(BY$3,Millwall!$AH147:$AW147,0)","v":{"$error":"#N/A"}},{"$f":"MATCH(BZ$3,Millwall!$AH147:$AW147,0)","v":{"$error":"#N/A"}},{"$f":"MATCH(CA$3,Millwall!$AH147:$AW147,0)","v":{"$error":"#N/A"}},{"$f":"MATCH(CB$3,Millwall!$AH147:$AW147,0)","v":{"$error":"#N/A"}},{"$f":"MATCH(CC$3,Millwall!$AH147:$AW147,0)","v":6},{"$f":"MATCH(CD$3,Millwall!$AH147:$AW147,0)","v":{"$error":"#N/A"}},{"$f":"MATCH(CE$3,Millwall!$AH147:$AW147,0)","v":{"$error":"#N/A"}},{"$f":"MATCH(CF$3,Millwall!$AH147:$AW147,0)","v":12},{"$f":"MATCH(CG$3,Millwall!$AH147:$AW147,0)","v":{"$error":"#N/A"}},{"$f":"MATCH(CH$3,Millwall!$AH147:$AW147,0)","v":{"$error":"#N/A"}},{"$f":"MATCH(CI$3,Millwall!$AH147:$AW147,0)","v":{"$error":"#N/A"}},{"$f":"MATCH(CJ$3,Millwall!$AH147:$AW147,0)","v":{"$error":"#N/A"}},{"$f":"MATCH(CK$3,Millwall!$AH147:$AW147,0)","v":{"$error":"#N/A"}},{"$f":"MATCH(CL$3,Millwall!$AH147:$AW147,0)","v":{"$error":"#N/A"}},{"$f":"MATCH(CM$3,Millwall!$AH147:$AW147,0)","v":{"$error":"#N/A"}},null,null,{"$f":"MATCH($CP$3,Millwall!$AH$147:$AW$147,0)","v":{"$error":"#N/A"}},{"$f":"MATCH($CQ$3,Millwall!$AH$147:$AW$147,0)","v":{"$error":"#N/A"}},{"$f":"MATCH($CR$3,Millwall!$AH$147:$AW$147,0)","v":{"$error":"#N/A"}},{"$f":"MATCH($CS$3,Millwall!$AH$147:$AW$147,0)","v":{"$error":"#N/A"}},{"$f":"MATCH($CT$3,Millwall!$AH$147:$AW$147,0)","v":{"$error":"#N/A"}},{"$f":"MATCH($CU$3,Millwall!$AH$147:$AW$147,0)","v":{"$error":"#N/A"}},{"$f":"MATCH($CV$3,Millwall!$AH$147:$AW$147,0)","v":{"$error":"#N/A"}},{"$f":"MATCH($CW$3,Millwall!$AH$147:$AW$147,0)","v":{"$error":"#N/A"}},{"$f":"MATCH($CX$3,Millwall!$AH$147:$AW$147,0)","v":9},{"$f":"MATCH($CY$3,Millwall!$AH$147:$AW$147,0)","v":{"$error":"#N/A"}},{"$f":"MATCH($CZ$3,Millwall!$AH$147:$AW$147,0)","v":{"$error":"#N/A"}},{"$f":"MATCH($DA$3,Millwall!$AH$147:$AW$147,0)","v":{"$error":"#N/A"}},{"$f":"MATCH($DB$3,Millwall!$AH$147:$AW$147,0)","v":{"$error":"#N/A"}},{"$f":"MATCH($DC$3,Millwall!$AH$147:$AW$147,0)","v":{"$error":"#N/A"}},{"$f":"MATCH($DD$3,Millwall!$AH$147:$AW$147,0)","v":{"$error":"#N/A"}},{"$f":"MATCH($DE$3,Millwall!$AH$147:$AW$147,0)","v":{"$error":"#N/A"}},{"$f":"MATCH($DF$3,Millwall!$AH$147:$AW$147,0)","v":{"$error":"#N/A"}},{"$f":"MATCH($DG$3,Millwall!$AH$147:$AW$147,0)","v":{"$error":"#N/A"}},{"$f":"MATCH($DH$3,Millwall!$AH$147:$AW$147,0)","v":{"$error":"#N/A"}},{"$f":"MATCH($DI$3,Millwall!$AH$147:$AW$147,0)","v":{"$error":"#N/A"}},{"$f":"MATCH($DJ$3,Millwall!$AH$147:$AW$147,0)","v":{"$error":"#N/A"}},{"$f":"MATCH($DK$3,Millwall!$AH$147:$AW$147,0)","v":{"$error":"#N/A"}},{"$f":"MATCH($DL$3,Millwall!$AH$147:$AW$147,0)","v":{"$error":"#N/A"}},{"$f":"MATCH($DM$3,Millwall!$AH$147:$AW$147,0)","v":{"$error":"#N/A"}},{"$f":"MATCH($DN$3,Millwall!$AH$147:$AW$147,0)","v":{"$error":"#N/A"}},{"$f":"MATCH($DO$3,Millwall!$AH$147:$AW$147,0)","v":{"$error":"#N/A"}},{"$f":"MATCH($DP$3,Millwall!$AH$147:$AW$147,0)","v":{"$error":"#N/A"}},{"$f":"MATCH($DQ$3,Millwall!$AH$147:$AW$147,0)","v":{"$error":"#N/A"}},{"$f":"MATCH($DR$3,Millwall!$AH$147:$AW$147,0)","v":{"$error":"#N/A"}},{"$f":"MATCH($DS$3,Millwall!$AH$147:$AW$147,0)","v":{"$error":"#N/A"}},{"$f":"MATCH($DT$3,Millwall!$AH$147:$AW$147,0)","v":{"$error":"#N/A"}},{"$f":"MATCH($DU$3,Millwall!$AH$147:$AW$147,0)","v":{"$error":"#N/A"}},{"$f":"MATCH($DV$3,Millwall!$AH$147:$AW$147,0)","v":13},{"$f":"MATCH($DW$3,Millwall!$AH$147:$AW$147,0)","v":{"$error":"#N/A"}},{"$f":"MATCH($DX$3,Millwall!$AH$147:$AW$147,0)","v":{"$error":"#N/A"}},{"$f":"MATCH($DY$3,Millwall!$AH$147:$AW$147,0)","v":{"$error":"#N/A"}},{"$f":"MATCH($DZ$3,Millwall!$AH$147:$AW$147,0)","v":{"$error":"#N/A"}},{"$f":"MATCH($EA$3,Millwall!$AH$147:$AW$147,0)","v":{"$error":"#N/A"}},null,null,{"$f":"MATCH(ED$3,Millwall!$AH$147:$AW$147,0)","v":{"$error":"#N/A"}},{"$f":"MATCH(EE$3,Millwall!$AH$147:$AW$147,0)","v":{"$error":"#N/A"}},{"$f":"MATCH(EF$3,Millwall!$AH$147:$AW$147,0)","v":{"$error":"#N/A"}},{"$f":"MATCH(EG$3,Millwall!$AH$147:$AW$147,0)","v":{"$error":"#N/A"}},{"$f":"MATCH(EH$3,Millwall!$AH$147:$AW$147,0)","v":{"$error":"#N/A"}},{"$f":"MATCH(EI$3,Millwall!$AH$147:$AW$147,0)","v":{"$error":"#N/A"}},{"$f":"MATCH(EJ$3,Millwall!$AH$147:$AW$147,0)","v":{"$error":"#N/A"}},{"$f":"MATCH(EK$3,Millwall!$AH$147:$AW$147,0)","v":{"$error":"#N/A"}},{"$f":"MATCH(EL$3,Millwall!$AH$147:$AW$147,0)","v":{"$error":"#N/A"}},{"$f":"MATCH(EM$3,Millwall!$AH$147:$AW$147,0)","v":{"$error":"#N/A"}},{"$f":"MATCH(EN$3,Millwall!$AH$147:$AW$147,0)","v":{"$error":"#N/A"}},{"$f":"MATCH(EO$3,Millwall!$AH$147:$AW$147,0)","v":14},{"$f":"MATCH(EP$3,Millwall!$AH$147:$AW$147,0)","v":{"$error":"#N/A"}},{"$f":"MATCH(EQ$3,Millwall!$AH$147:$AW$147,0)","v":{"$error":"#N/A"}},{"$f":"MATCH(ER$3,Millwall!$AH$147:$AW$147,0)","v":{"$error":"#N/A"}},{"$f":"MATCH(ES$3,Millwall!$AH$147:$AW$147,0)","v":7},{"$f":"MATCH(ET$3,Millwall!$AH$147:$AW$147,0)","v":{"$error":"#N/A"}},{"$f":"MATCH(EU$3,Millwall!$AH$147:$AW$147,0)","v":{"$error":"#N/A"}},{"$f":"MATCH(EV$3,Millwall!$AH$147:$AW$147,0)","v":{"$error":"#N/A"}},{"$f":"MATCH(EW$3,Millwall!$AH$147:$AW$147,0)","v":{"$error":"#N/A"}},{"$f":"MATCH(EX$3,Millwall!$AH$147:$AW$147,0)","v":{"$error":"#N/A"}},{"$f":"MATCH(EY$3,Millwall!$AH$147:$AW$147,0)","v":{"$error":"#N/A"}},{"$f":"MATCH(EZ$3,Millwall!$AH$147:$AW$147,0)","v":{"$error":"#N/A"}},{"$f":"MATCH(FA$3,Millwall!$AH$147:$AW$147,0)","v":{"$error":"#N/A"}},{"$f":"MATCH(FB$3,Millwall!$AH$147:$AW$147,0)","v":{"$error":"#N/A"}},{"$f":"MATCH(FC$3,Millwall!$AH$147:$AW$147,0)","v":{"$error":"#N/A"}},{"$f":"MATCH(FD$3,Millwall!$AH$147:$AW$147,0)","v":{"$error":"#N/A"}},{"$f":"MATCH(FE$3,Millwall!$AH$147:$AW$147,0)","v":{"$error":"#N/A"}},{"$f":"MATCH(FF$3,Millwall!$AH$147:$AW$147,0)","v":{"$error":"#N/A"}},{"$f":"MATCH(FG$3,Millwall!$AH$147:$AW$147,0)","v":{"$error":"#N/A"}},{"$f":"MATCH(FH$3,Millwall!$AH$147:$AW$147,0)","v":{"$error":"#N/A"}},{"$f":"MATCH(FI$3,Millwall!$AH$147:$AW$147,0)","v":{"$error":"#N/A"}},{"$f":"MATCH(FJ$3,Millwall!$AH$147:$AW$147,0)","v":{"$error":"#N/A"}},{"$f":"MATCH(FK$3,Millwall!$AH$147:$AW$147,0)","v":{"$error":"#N/A"}},{"$f":"MATCH(FL$3,Millwall!$AH$147:$AW$147,0)","v":{"$error":"#N/A"}},{"$f":"MATCH(FM$3,Millwall!$AH$147:$AW$147,0)","v":{"$error":"#N/A"}},{"$f":"MATCH(FN$3,Millwall!$AH$147:$AW$147,0)","v":{"$error":"#N/A"}},{"$f":"MATCH(FO$3,Millwall!$AH$147:$AW$147,0)","v":{"$error":"#N/A"}}]
[null,null,1,null,null,{"$f":"Millwall!AD148","v":"00:00:00"},null,{"$f":"Millwall!AE148","v":"00:00:00"},{"$f":"Millwall!AF148","v":"00:00:00"},{"$f":"Millwall!AG148","v":0},{"$f":"MATCH(K$4,Millwall!$AH148:$AW148,0)","v":{"$error":"#N/A"}},{"$f":"MATCH(L$4,Millwall!$AH148:$AW148,0)","v":{"$error":"#N/A"}},{"$f":"MATCH(M$4,Millwall!$AH148:$AW148,0)","v":{"$error":"#N/A"}},{"$f":"MATCH(N$4,Millwall!$AH148:$AW148,0)","v":{"$error":"#N/A"}},{"$f":"MATCH(O$4,Millwall!$AH148:$AW148,0)","v":{"$error":"#N/A"}},{"$f":"MATCH(P$4,Millwall!$AH148:$AW148,0)","v":{"$error":"#N/A"}},{"$f":"MATCH(Q$4,Millwall!$AH148:$AW148,0)","v":{"$error":"#N/A"}},{"$f":"MATCH(R$4,Millwall!$AH148:$AW148,0)","v":{"$error":"#N/A"}},{"$f":"MATCH(S$4,Millwall!$AH148:$AW148,0)","v":{"$error":"#N/A"}},{"$f":"MATCH(T$4,Millwall!$AH148:$AW148,0)","v":{"$error":"#N/A"}},{"$f":"MATCH(U$4,Millwall!$AH148:$AW148,0)","v":{"$error":"#N/A"}},{"$f":"MATCH(V$4,Millwall!$AH148:$AW148,0)","v":{"$error":"#N/A"}},{"$f":"MATCH(W$4,Millwall!$AH148:$AW148,0)","v":{"$error":"#N/A"}},{"$f":"MATCH(X$4,Millwall!$AH148:$AW148,0)","v":{"$error":"#N/A"}},{"$f":"MATCH(Y$4,Millwall!$AH148:$AW148,0)","v":{"$error":"#N/A"}},{"$f":"MATCH(Z$4,Millwall!$AH148:$AW148,0)","v":{"$error":"#N/A"}},{"$f":"MATCH(AA$4,Millwall!$AH148:$AW148,0)","v":{"$error":"#N/A"}},{"$f":"MATCH(AB$4,Millwall!$AH148:$AW148,0)","v":{"$error":"#N/A"}},{"$f":"MATCH(AC$4,Millwall!$AH148:$AW148,0)","v":{"$error":"#N/A"}},{"$f":"MATCH(AD$4,Millwall!$AH148:$AW148,0)","v":{"$error":"#N/A"}},{"$f":"MATCH(AE$4,Millwall!$AH148:$AW148,0)","v":{"$error":"#N/A"}},{"$f":"MATCH(AF$4,Millwall!$AH148:$AW148,0)","v":{"$error":"#N/A"}},{"$f":"MATCH(AG$4,Millwall!$AH148:$AW148,0)","v":{"$error":"#N/A"}},{"$f":"MATCH(AH$4,Millwall!$AH148:$AW148,0)","v":{"$error":"#N/A"}},{"$f":"MATCH(AI$4,Millwall!$AH148:$AW148,0)","v":{"$error":"#N/A"}},{"$f":"MATCH(AJ$4,Millwall!$AH148:$AW148,0)","v":{"$error":"#N/A"}},{"$f":"MATCH(AK$4,Millwall!$AH148:$AW148,0)","v":{"$error":"#N/A"}},{"$f":"MATCH(AL$4,Millwall!$AH148:$AW148,0)","v":{"$error":"#N/A"}},{"$f":"MATCH(AM$4,Millwall!$AH148:$AW148,0)","v":{"$error":"#N/A"}},{"$f":"MATCH(AN$4,Millwall!$AH148:$AW148,0)","v":{"$error":"#N/A"}},{"$f":"MATCH(AO$4,Millwall!$AH148:$AW148,0)","v":{"$error":"#N/A"}},{"$f":"MATCH(AP$4,Millwall!$AH148:$AW148,0)","v":{"$error":"#N/A"}},{"$f":"MATCH(AQ$4,Millwall!$AH148:$AW148,0)","v":{"$error":"#N/A"}},{"$f":"MATCH(AR$4,Millwall!$AH148:$AW148,0)","v":{"$error":"#N/A"}},{"$f":"MATCH(AS$4,Millwall!$AH148:$AW148,0)","v":{"$error":"#N/A"}},{"$f":"MATCH(AT$4,Millwall!$AH148:$AW148,0)","v":{"$error":"#N/A"}},{"$f":"MATCH(AU$4,Millwall!$AH148:$AW148,0)","v":{"$error":"#N/A"}},{"$f":"MATCH(AV$4,Millwall!$AH148:$AW148,0)","v":{"$error":"#N/A"}},null,null,null,null,null,{"$f":"MATCH(BB$3,Millwall!$AH148:$AW148,0)","v":{"$error":"#N/A"}},{"$f":"MATCH(BC$3,Millwall!$AH148:$AW148,0)","v":{"$error":"#N/A"}},{"$f":"MATCH(BD$3,Millwall!$AH148:$AW148,0)","v":{"$error":"#N/A"}},{"$f":"MATCH(BE$3,Millwall!$AH148:$AW148,0)","v":{"$error":"#N/A"}},{"$f":"MATCH(BF$3,Millwall!$AH148:$AW148,0)","v":{"$error":"#N/A"}},{"$f":"MATCH(BG$3,Millwall!$AH148:$AW148,0)","v":{"$error":"#N/A"}},{"$f":"MATCH(BH$3,Millwall!$AH148:$AW148,0)","v":{"$error":"#N/A"}},{"$f":"MATCH(BI$3,Millwall!$AH148:$AW148,0)","v":{"$error":"#N/A"}},{"$f":"MATCH(BJ$3,Millwall!$AH148:$AW148,0)","v":{"$error":"#N/A"}},{"$f":"MATCH(BK$3,Millwall!$AH148:$AW148,0)","v":{"$error":"#N/A"}},{"$f":"MATCH(BL$3,Millwall!$AH148:$AW148,0)","v":{"$error":"#N/A"}},{"$f":"MATCH(BM$3,Millwall!$AH148:$AW148,0)","v":{"$error":"#N/A"}},{"$f":"MATCH(BN$3,Millwall!$AH148:$AW148,0)","v":{"$error":"#N/A"}},{"$f":"MATCH(BO$3,Millwall!$AH148:$AW148,0)","v":{"$error":"#N/A"}},{"$f":"MATCH(BP$3,Millwall!$AH148:$AW148,0)","v":{"$error":"#N/A"}},{"$f":"MATCH(BQ$3,Millwall!$AH148:$AW148,0)","v":{"$error":"#N/A"}},{"$f":"MATCH(BR$3,Millwall!$AH148:$AW148,0)","v":{"$error":"#N/A"}},{"$f":"MATCH(BS$3,Millwall!$AH148:$AW148,0)","v":{"$error":"#N/A"}},{"$f":"MATCH(BT$3,Millwall!$AH148:$AW148,0)","v":{"$error":"#N/A"}},{"$f":"MATCH(BU$3,Millwall!$AH148:$AW148,0)","v":{"$error":"#N/A"}},{"$f":"MATCH(BV$3,Millwall!$AH148:$AW148,0)","v":{"$error":"#N/A"}},{"$f":"MATCH(BW$3,Millwall!$AH148:$AW148,0)","v":{"$error":"#N/A"}},{"$f":"MATCH(BX$3,Millwall!$AH148:$AW148,0)","v":{"$error":"#N/A"}},{"$f":"MATCH(BY$3,Millwall!$AH148:$AW148,0)","v":{"$error":"#N/A"}},{"$f":"MATCH(BZ$3,Millwall!$AH148:$AW148,0)","v":{"$error":"#N/A"}},{"$f":"MATCH(CA$3,Millwall!$AH148:$AW148,0)","v":{"$error":"#N/A"}},{"$f":"MATCH(CB$3,Millwall!$AH148:$AW148,0)","v":{"$error":"#N/A"}},{"$f":"MATCH(CC$3,Millwall!$AH148:$AW148,0)","v":{"$error":"#N/A"}},{"$f":"MATCH(CD$3,Millwall!$AH148:$AW148,0)","v":{"$error":"#N/A"}},{"$f":"MATCH(CE$3,Millwall!$AH148:$AW148,0)","v":{"$error":"#N/A"}},{"$f":"MATCH(CF$3,Millwall!$AH148:$AW148,0)","v":{"$error":"#N/A"}},{"$f":"MATCH(CG$3,Millwall!$AH148:$AW148,0)","v":{"$error":"#N/A"}},{"$f":"MATCH(CH$3,Millwall!$AH148:$AW148,0)","v":{"$error":"#N/A"}},{"$f":"MATCH(CI$3,Millwall!$AH148:$AW148,0)","v":{"$error":"#N/A"}},{"$f":"MATCH(CJ$3,Millwall!$AH148:$AW148,0)","v":{"$error":"#N/A"}},{"$f":"MATCH(CK$3,Millwall!$AH148:$AW148,0)","v":{"$error":"#N/A"}},{"$f":"MATCH(CL$3,Millwall!$AH148:$AW148,0)","v":{"$error":"#N/A"}},{"$f":"MATCH(CM$3,Millwall!$AH148:$AW148,0)","v":{"$error":"#N/A"}},null,null,{"$f":"MATCH($CP$3,Millwall!$AH$148:$AW$148,0)","v":{"$error":"#N/A"}},{"$f":"MATCH($CQ$3,Millwall!$AH$148:$AW$148,0)","v":{"$error":"#N/A"}},{"$f":"MATCH($CR$3,Millwall!$AH$148:$AW$148,0)","v":{"$error":"#N/A"}},{"$f":"MATCH($CS$3,Millwall!$AH$148:$AW$148,0)","v":{"$error":"#N/A"}},{"$f":"MATCH($CT$3,Millwall!$AH$148:$AW$148,0)","v":{"$error":"#N/A"}},{"$f":"MATCH($CU$3,Millwall!$AH$148:$AW$148,0)","v":{"$error":"#N/A"}},{"$f":"MATCH($CV$3,Millwall!$AH$148:$AW$148,0)","v":{"$error":"#N/A"}},{"$f":"MATCH($CW$3,Millwall!$AH$148:$AW$148,0)","v":{"$error":"#N/A"}},{"$f":"MATCH($CX$3,Millwall!$AH$148:$AW$148,0)","v":{"$error":"#N/A"}},{"$f":"MATCH($CY$3,Millwall!$AH$148:$AW$148,0)","v":{"$error":"#N/A"}},{"$f":"MATCH($CZ$3,Millwall!$AH$148:$AW$148,0)","v":{"$error":"#N/A"}},{"$f":"MATCH($DA$3,Millwall!$AH$148:$AW$148,0)","v":{"$error":"#N/A"}},{"$f":"MATCH($DB$3,Millwall!$AH$148:$AW$148,0)","v":{"$error":"#N/A"}},{"$f":"MATCH($DC$3,Millwall!$AH$148:$AW$148,0)","v":{"$error":"#N/A"}},{"$f":"MATCH($DD$3,Millwall!$AH$148:$AW$148,0)","v":{"$error":"#N/A"}},{"$f":"MATCH($DE$3,Millwall!$AH$148:$AW$148,0)","v":{"$error":"#N/A"}},{"$f":"MATCH($DF$3,Millwall!$AH$148:$AW$148,0)","v":{"$error":"#N/A"}},{"$f":"MATCH($DG$3,Millwall!$AH$148:$AW$148,0)","v":{"$error":"#N/A"}},{"$f":"MATCH($DH$3,Millwall!$AH$148:$AW$148,0)","v":{"$error":"#N/A"}},{"$f":"MATCH($DI$3,Millwall!$AH$148:$AW$148,0)","v":{"$error":"#N/A"}},{"$f":"MATCH($DJ$3,Millwall!$AH$148:$AW$148,0)","v":{"$error":"#N/A"}},{"$f":"MATCH($DK$3,Millwall!$AH$148:$AW$148,0)","v":{"$error":"#N/A"}},{"$f":"MATCH($DL$3,Millwall!$AH$148:$AW$148,0)","v":{"$error":"#N/A"}},{"$f":"MATCH($DM$3,Millwall!$AH$148:$AW$148,0)","v":{"$error":"#N/A"}},{"$f":"MATCH($DN$3,Millwall!$AH$148:$AW$148,0)","v":{"$error":"#N/A"}},{"$f":"MATCH($DO$3,Millwall!$AH$148:$AW$148,0)","v":{"$error":"#N/A"}},{"$f":"MATCH($DP$3,Millwall!$AH$148:$AW$148,0)","v":{"$error":"#N/A"}},{"$f":"MATCH($DQ$3,Millwall!$AH$148:$AW$148,0)","v":{"$error":"#N/A"}},{"$f":"MATCH($DR$3,Millwall!$AH$148:$AW$148,0)","v":{"$error":"#N/A"}},{"$f":"MATCH($DS$3,Millwall!$AH$148:$AW$148,0)","v":{"$error":"#N/A"}},{"$f":"MATCH($DT$3,Millwall!$AH$148:$AW$148,0)","v":{"$error":"#N/A"}},{"$f":"MATCH($DU$3,Millwall!$AH$148:$AW$148,0)","v":{"$error":"#N/A"}},{"$f":"MATCH($DV$3,Millwall!$AH$148:$AW$148,0)","v":{"$error":"#N/A"}},{"$f":"MATCH($DW$3,Millwall!$AH$148:$AW$148,0)","v":{"$error":"#N/A"}},{"$f":"MATCH($DX$3,Millwall!$AH$148:$AW$148,0)","v":{"$error":"#N/A"}},{"$f":"MATCH($DY$3,Millwall!$AH$148:$AW$148,0)","v":{"$error":"#N/A"}},{"$f":"MATCH($DZ$3,Millwall!$AH$148:$AW$148,0)","v":{"$error":"#N/A"}},{"$f":"MATCH($EA$3,Millwall!$AH$148:$AW$148,0)","v":{"$error":"#N/A"}},null,null,{"$f":"MATCH(ED$3,Millwall!$AH$148:$AW$148,0)","v":{"$error":"#N/A"}},{"$f":"MATCH(EE$3,Millwall!$AH$148:$AW$148,0)","v":{"$error":"#N/A"}},{"$f":"MATCH(EF$3,Millwall!$AH$148:$AW$148,0)","v":{"$error":"#N/A"}},{"$f":"MATCH(EG$3,Millwall!$AH$148:$AW$148,0)","v":{"$error":"#N/A"}},{"$f":"MATCH(EH$3,Millwall!$AH$148:$AW$148,0)","v":{"$error":"#N/A"}},{"$f":"MATCH(EI$3,Millwall!$AH$148:$AW$148,0)","v":{"$error":"#N/A"}},{"$f":"MATCH(EJ$3,Millwall!$AH$148:$AW$148,0)","v":{"$error":"#N/A"}},{"$f":"MATCH(EK$3,Millwall!$AH$148:$AW$148,0)","v":{"$error":"#N/A"}},{"$f":"MATCH(EL$3,Millwall!$AH$148:$AW$148,0)","v":{"$error":"#N/A"}},{"$f":"MATCH(EM$3,Millwall!$AH$148:$AW$148,0)","v":{"$error":"#N/A"}},{"$f":"MATCH(EN$3,Millwall!$AH$148:$AW$148,0)","v":{"$error":"#N/A"}},{"$f":"MATCH(EO$3,Millwall!$AH$148:$AW$148,0)","v":{"$error":"#N/A"}},{"$f":"MATCH(EP$3,Millwall!$AH$148:$AW$148,0)","v":{"$error":"#N/A"}},{"$f":"MATCH(EQ$3,Millwall!$AH$148:$AW$148,0)","v":{"$error":"#N/A"}},{"$f":"MATCH(ER$3,Millwall!$AH$148:$AW$148,0)","v":{"$error":"#N/A"}},{"$f":"MATCH(ES$3,Millwall!$AH$148:$AW$148,0)","v":{"$error":"#N/A"}},{"$f":"MATCH(ET$3,Millwall!$AH$148:$AW$148,0)","v":{"$error":"#N/A"}},{"$f":"MATCH(EU$3,Millwall!$AH$148:$AW$148,0)","v":{"$error":"#N/A"}},{"$f":"MATCH(EV$3,Millwall!$AH$148:$AW$148,0)","v":{"$error":"#N/A"}},{"$f":"MATCH(EW$3,Millwall!$AH$148:$AW$148,0)","v":{"$error":"#N/A"}},{"$f":"MATCH(EX$3,Millwall!$AH$148:$AW$148,0)","v":{"$error":"#N/A"}},{"$f":"MATCH(EY$3,Millwall!$AH$148:$AW$148,0)","v":{"$error":"#N/A"}},{"$f":"MATCH(EZ$3,Millwall!$AH$148:$AW$148,0)","v":{"$error":"#N/A"}},{"$f":"MATCH(FA$3,Millwall!$AH$148:$AW$148,0)","v":{"$error":"#N/A"}},{"$f":"MATCH(FB$3,Millwall!$AH$148:$AW$148,0)","v":{"$error":"#N/A"}},{"$f":"MATCH(FC$3,Millwall!$AH$148:$AW$148,0)","v":{"$error":"#N/A"}},{"$f":"MATCH(FD$3,Millwall!$AH$148:$AW$148,0)","v":{"$error":"#N/A"}},{"$f":"MATCH(FE$3,Millwall!$AH$148:$AW$148,0)","v":{"$error":"#N/A"}},{"$f":"MATCH(FF$3,Millwall!$AH$148:$AW$148,0)","v":{"$error":"#N/A"}},{"$f":"MATCH(FG$3,Millwall!$AH$148:$AW$148,0)","v":{"$error":"#N/A"}},{"$f":"MATCH(FH$3,Millwall!$AH$148:$AW$148,0)","v":{"$error":"#N/A"}},{"$f":"MATCH(FI$3,Millwall!$AH$148:$AW$148,0)","v":{"$error":"#N/A"}},{"$f":"MATCH(FJ$3,Millwall!$AH$148:$AW$148,0)","v":{"$error":"#N/A"}},{"$f":"MATCH(FK$3,Millwall!$AH$148:$AW$148,0)","v":{"$error":"#N/A"}},{"$f":"MATCH(FL$3,Millwall!$AH$148:$AW$148,0)","v":{"$error":"#N/A"}},{"$f":"MATCH(FM$3,Millwall!$AH$148:$AW$148,0)","v":{"$error":"#N/A"}},{"$f":"MATCH(FN$3,Millwall!$AH$148:$AW$148,0)","v":{"$error":"#N/A"}},{"$f":"MATCH(FO$3,Millwall!$AH$148:$AW$148,0)","v":{"$error":"#N/A"}}]
[null,null,1,null,null,{"$f":"Millwall!AD149","v":"00:00:00"},null,{"$f":"Millwall!AE149","v":"00:00:00"},{"$f":"Millwall!AF149","v":"00:00:00"},{"$f":"Millwall!AG149","v":0},{"$f":"MATCH(K$4,Millwall!$AH149:$AW149,0)","v":{"$error":"#N/A"}},{"$f":"MATCH(L$4,Millwall!$AH149:$AW149,0)","v":{"$error":"#N/A"}},{"$f":"MATCH(M$4,Millwall!$AH149:$AW149,0)","v":{"$error":"#N/A"}},{"$f":"MATCH(N$4,Millwall!$AH149:$AW149,0)","v":{"$error":"#N/A"}},{"$f":"MATCH(O$4,Millwall!$AH149:$AW149,0)","v":{"$error":"#N/A"}},{"$f":"MATCH(P$4,Millwall!$AH149:$AW149,0)","v":{"$error":"#N/A"}},{"$f":"MATCH(Q$4,Millwall!$AH149:$AW149,0)","v":{"$error":"#N/A"}},{"$f":"MATCH(R$4,Millwall!$AH149:$AW149,0)","v":{"$error":"#N/A"}},{"$f":"MATCH(S$4,Millwall!$AH149:$AW149,0)","v":{"$error":"#N/A"}},{"$f":"MATCH(T$4,Millwall!$AH149:$AW149,0)","v":{"$error":"#N/A"}},{"$f":"MATCH(U$4,Millwall!$AH149:$AW149,0)","v":{"$error":"#N/A"}},{"$f":"MATCH(V$4,Millwall!$AH149:$AW149,0)","v":{"$error":"#N/A"}},{"$f":"MATCH(W$4,Millwall!$AH149:$AW149,0)","v":{"$error":"#N/A"}},{"$f":"MATCH(X$4,Millwall!$AH149:$AW149,0)","v":{"$error":"#N/A"}},{"$f":"MATCH(Y$4,Millwall!$AH149:$AW149,0)","v":{"$error":"#N/A"}},{"$f":"MATCH(Z$4,Millwall!$AH149:$AW149,0)","v":{"$error":"#N/A"}},{"$f":"MATCH(AA$4,Millwall!$AH149:$AW149,0)","v":{"$error":"#N/A"}},{"$f":"MATCH(AB$4,Millwall!$AH149:$AW149,0)","v":{"$error":"#N/A"}},{"$f":"MATCH(AC$4,Millwall!$AH149:$AW149,0)","v":{"$error":"#N/A"}},{"$f":"MATCH(AD$4,Millwall!$AH149:$AW149,0)","v":{"$error":"#N/A"}},{"$f":"MATCH(AE$4,Millwall!$AH149:$AW149,0)","v":{"$error":"#N/A"}},{"$f":"MATCH(AF$4,Millwall!$AH149:$AW149,0)","v":{"$error":"#N/A"}},{"$f":"MATCH(AG$4,Millwall!$AH149:$AW149,0)","v":{"$error":"#N/A"}},{"$f":"MATCH(AH$4,Millwall!$AH149:$AW149,0)","v":{"$error":"#N/A"}},{"$f":"MATCH(AI$4,Millwall!$AH149:$AW149,0)","v":{"$error":"#N/A"}},{"$f":"MATCH(AJ$4,Millwall!$AH149:$AW149,0)","v":{"$error":"#N/A"}},{"$f":"MATCH(AK$4,Millwall!$AH149:$AW149,0)","v":{"$error":"#N/A"}},{"$f":"MATCH(AL$4,Millwall!$AH149:$AW149,0)","v":{"$error":"#N/A"}},{"$f":"MATCH(AM$4,Millwall!$AH149:$AW149,0)","v":{"$error":"#N/A"}},{"$f":"MATCH(AN$4,Millwall!$AH149:$AW149,0)","v":{"$error":"#N/A"}},{"$f":"MATCH(AO$4,Millwall!$AH149:$AW149,0)","v":{"$error":"#N/A"}},{"$f":"MATCH(AP$4,Millwall!$AH149:$AW149,0)","v":{"$error":"#N/A"}},{"$f":"MATCH(AQ$4,Millwall!$AH149:$AW149,0)","v":{"$error":"#N/A"}},{"$f":"MATCH(AR$4,Millwall!$AH149:$AW149,0)","v":{"$error":"#N/A"}},{"$f":"MATCH(AS$4,Millwall!$AH149:$AW149,0)","v":{"$error":"#N/A"}},{"$f":"MATCH(AT$4,Millwall!$AH149:$AW149,0)","v":{"$error":"#N/A"}},{"$f":"MATCH(AU$4,Millwall!$AH149:$AW149,0)","v":{"$error":"#N/A"}},{"$f":"MATCH(AV$4,Millwall!$AH149:$AW149,0)","v":{"$error":"#N/A"}},null,null,null,null,null,{"$f":"MATCH(BB$3,Millwall!$AH149:$AW149,0)","v":{"$error":"#N/A"}},{"$f":"MATCH(BC$3,Millwall!$AH149:$AW149,0)","v":{"$error":"#N/A"}},{"$f":"MATCH(BD$3,Millwall!$AH149:$AW149,0)","v":{"$error":"#N/A"}},{"$f":"MATCH(BE$3,Millwall!$AH149:$AW149,0)","v":{"$error":"#N/A"}},{"$f":"MATCH(BF$3,Millwall!$AH149:$AW149,0)","v":{"$error":"#N/A"}},{"$f":"MATCH(BG$3,Millwall!$AH149:$AW149,0)","v":{"$error":"#N/A"}},{"$f":"MATCH(BH$3,Millwall!$AH149:$AW149,0)","v":{"$error":"#N/A"}},{"$f":"MATCH(BI$3,Millwall!$AH149:$AW149,0)","v":{"$error":"#N/A"}},{"$f":"MATCH(BJ$3,Millwall!$AH149:$AW149,0)","v":{"$error":"#N/A"}},{"$f":"MATCH(BK$3,Millwall!$AH149:$AW149,0)","v":{"$error":"#N/A"}},{"$f":"MATCH(BL$3,Millwall!$AH149:$AW149,0)","v":{"$error":"#N/A"}},{"$f":"MATCH(BM$3,Millwall!$AH149:$AW149,0)","v":{"$error":"#N/A"}},{"$f":"MATCH(BN$3,Millwall!$AH149:$AW149,0)","v":{"$error":"#N/A"}},{"$f":"MATCH(BO$3,Millwall!$AH149:$AW149,0)","v":{"$error":"#N/A"}},{"$f":"MATCH(BP$3,Millwall!$AH149:$AW149,0)","v":{"$error":"#N/A"}},{"$f":"MATCH(BQ$3,Millwall!$AH149:$AW149,0)","v":{"$error":"#N/A"}},{"$f":"MATCH(BR$3,Millwall!$AH149:$AW149,0)","v":{"$error":"#N/A"}},{"$f":"MATCH(BS$3,Millwall!$AH149:$AW149,0)","v":{"$error":"#N/A"}},{"$f":"MATCH(BT$3,Millwall!$AH149:$AW149,0)","v":{"$error":"#N/A"}},{"$f":"MATCH(BU$3,Millwall!$AH149:$AW149,0)","v":{"$error":"#N/A"}},{"$f":"MATCH(BV$3,Millwall!$AH149:$AW149,0)","v":{"$error":"#N/A"}},{"$f":"MATCH(BW$3,Millwall!$AH149:$AW149,0)","v":{"$error":"#N/A"}},{"$f":"MATCH(BX$3,Millwall!$AH149:$AW149,0)","v":{"$error":"#N/A"}},{"$f":"MATCH(BY$3,Millwall!$AH149:$AW149,0)","v":{"$error":"#N/A"}},{"$f":"MATCH(BZ$3,Millwall!$AH149:$AW149,0)","v":{"$error":"#N/A"}},{"$f":"MATCH(CA$3,Millwall!$AH149:$AW149,0)","v":{"$error":"#N/A"}},{"$f":"MATCH(CB$3,Millwall!$AH149:$AW149,0)","v":{"$error":"#N/A"}},{"$f":"MATCH(CC$3,Millwall!$AH149:$AW149,0)","v":{"$error":"#N/A"}},{"$f":"MATCH(CD$3,Millwall!$AH149:$AW149,0)","v":{"$error":"#N/A"}},{"$f":"MATCH(CE$3,Millwall!$AH149:$AW149,0)","v":{"$error":"#N/A"}},{"$f":"MATCH(CF$3,Millwall!$AH149:$AW149,0)","v":{"$error":"#N/A"}},{"$f":"MATCH(CG$3,Millwall!$AH149:$AW149,0)","v":{"$error":"#N/A"}},{"$f":"MATCH(CH$3,Millwall!$AH149:$AW149,0)","v":{"$error":"#N/A"}},{"$f":"MATCH(CI$3,Millwall!$AH149:$AW149,0)","v":{"$error":"#N/A"}},{"$f":"MATCH(CJ$3,Millwall!$AH149:$AW149,0)","v":{"$error":"#N/A"}},{"$f":"MATCH(CK$3,Millwall!$AH149:$AW149,0)","v":{"$error":"#N/A"}},{"$f":"MATCH(CL$3,Millwall!$AH149:$AW149,0)","v":{"$error":"#N/A"}},{"$f":"MATCH(CM$3,Millwall!$AH149:$AW149,0)","v":{"$error":"#N/A"}},null,null,{"$f":"MATCH($CP$3,Millwall!$AH$149:$AW$149,0)","v":{"$error":"#N/A"}},{"$f":"MATCH($CQ$3,Millwall!$AH$149:$AW$149,0)","v":{"$error":"#N/A"}},{"$f":"MATCH($CR$3,Millwall!$AH$149:$AW$149,0)","v":{"$error":"#N/A"}},{"$f":"MATCH($CS$3,Millwall!$AH$149:$AW$149,0)","v":{"$error":"#N/A"}},{"$f":"MATCH($CT$3,Millwall!$AH$149:$AW$149,0)","v":{"$error":"#N/A"}},{"$f":"MATCH($CU$3,Millwall!$AH$149:$AW$149,0)","v":{"$error":"#N/A"}},{"$f":"MATCH($CV$3,Millwall!$AH$149:$AW$149,0)","v":{"$error":"#N/A"}},{"$f":"MATCH($CW$3,Millwall!$AH$149:$AW$149,0)","v":{"$error":"#N/A"}},{"$f":"MATCH($CX$3,Millwall!$AH$149:$AW$149,0)","v":{"$error":"#N/A"}},{"$f":"MATCH($CY$3,Millwall!$AH$149:$AW$149,0)","v":{"$error":"#N/A"}},{"$f":"MATCH($CZ$3,Millwall!$AH$149:$AW$149,0)","v":{"$error":"#N/A"}},{"$f":"MATCH($DA$3,Millwall!$AH$149:$AW$149,0)","v":{"$error":"#N/A"}},{"$f":"MATCH($DB$3,Millwall!$AH$149:$AW$149,0)","v":{"$error":"#N/A"}},{"$f":"MATCH($DC$3,Millwall!$AH$149:$AW$149,0)","v":{"$error":"#N/A"}},{"$f":"MATCH($DD$3,Millwall!$AH$149:$AW$149,0)","v":{"$error":"#N/A"}},{"$f":"MATCH($DE$3,Millwall!$AH$149:$AW$149,0)","v":{"$error":"#N/A"}},{"$f":"MATCH($DF$3,Millwall!$AH$149:$AW$149,0)","v":{"$error":"#N/A"}},{"$f":"MATCH($DG$3,Millwall!$AH$149:$AW$149,0)","v":{"$error":"#N/A"}},{"$f":"MATCH($DH$3,Millwall!$AH$149:$AW$149,0)","v":{"$error":"#N/A"}},{"$f":"MATCH($DI$3,Millwall!$AH$149:$AW$149,0)","v":{"$error":"#N/A"}},{"$f":"MATCH($DJ$3,Millwall!$AH$149:$AW$149,0)","v":{"$error":"#N/A"}},{"$f":"MATCH($DK$3,Millwall!$AH$149:$AW$149,0)","v":{"$error":"#N/A"}},{"$f":"MATCH($DL$3,Millwall!$AH$149:$AW$149,0)","v":{"$error":"#N/A"}},{"$f":"MATCH($DM$3,Millwall!$AH$149:$AW$149,0)","v":{"$error":"#N/A"}},{"$f":"MATCH($DN$3,Millwall!$AH$149:$AW$149,0)","v":{"$error":"#N/A"}},{"$f":"MATCH($DO$3,Millwall!$AH$149:$AW$149,0)","v":{"$error":"#N/A"}},{"$f":"MATCH($DP$3,Millwall!$AH$149:$AW$149,0)","v":{"$error":"#N/A"}},{"$f":"MATCH($DQ$3,Millwall!$AH$149:$AW$149,0)","v":{"$error":"#N/A"}},{"$f":"MATCH($DR$3,Millwall!$AH$149:$AW$149,0)","v":{"$error":"#N/A"}},{"$f":"MATCH($DS$3,Millwall!$AH$149:$AW$149,0)","v":{"$error":"#N/A"}},{"$f":"MATCH($DT$3,Millwall!$AH$149:$AW$149,0)","v":{"$error":"#N/A"}},{"$f":"MATCH($DU$3,Millwall!$AH$149:$AW$149,0)","v":{"$error":"#N/A"}},{"$f":"MATCH($DV$3,Millwall!$AH$149:$AW$149,0)","v":{"$error":"#N/A"}},{"$f":"MATCH($DW$3,Millwall!$AH$149:$AW$149,0)","v":{"$error":"#N/A"}},{"$f":"MATCH($DX$3,Millwall!$AH$149:$AW$149,0)","v":{"$error":"#N/A"}},{"$f":"MATCH($DY$3,Millwall!$AH$149:$AW$149,0)","v":{"$error":"#N/A"}},{"$f":"MATCH($DZ$3,Millwall!$AH$149:$AW$149,0)","v":{"$error":"#N/A"}},{"$f":"MATCH($EA$3,Millwall!$AH$149:$AW$149,0)","v":{"$error":"#N/A"}},null,null,{"$f":"MATCH(ED$3,Millwall!$AH$149:$AW$149,0)","v":{"$error":"#N/A"}},{"$f":"MATCH(EE$3,Millwall!$AH$149:$AW$149,0)","v":{"$error":"#N/A"}},{"$f":"MATCH(EF$3,Millwall!$AH$149:$AW$149,0)","v":{"$error":"#N/A"}},{"$f":"MATCH(EG$3,Millwall!$AH$149:$AW$149,0)","v":{"$error":"#N/A"}},{"$f":"MATCH(EH$3,Millwall!$AH$149:$AW$149,0)","v":{"$error":"#N/A"}},{"$f":"MATCH(EI$3,Millwall!$AH$149:$AW$149,0)","v":{"$error":"#N/A"}},{"$f":"MATCH(EJ$3,Millwall!$AH$149:$AW$149,0)","v":{"$error":"#N/A"}},{"$f":"MATCH(EK$3,Millwall!$AH$149:$AW$149,0)","v":{"$error":"#N/A"}},{"$f":"MATCH(EL$3,Millwall!$AH$149:$AW$149,0)","v":{"$error":"#N/A"}},{"$f":"MATCH(EM$3,Millwall!$AH$149:$AW$149,0)","v":{"$error":"#N/A"}},{"$f":"MATCH(EN$3,Millwall!$AH$149:$AW$149,0)","v":{"$error":"#N/A"}},{"$f":"MATCH(EO$3,Millwall!$AH$149:$AW$149,0)","v":{"$error":"#N/A"}},{"$f":"MATCH(EP$3,Millwall!$AH$149:$AW$149,0)","v":{"$error":"#N/A"}},{"$f":"MATCH(EQ$3,Millwall!$AH$149:$AW$149,0)","v":{"$error":"#N/A"}},{"$f":"MATCH(ER$3,Millwall!$AH$149:$AW$149,0)","v":{"$error":"#N/A"}},{"$f":"MATCH(ES$3,Millwall!$AH$149:$AW$149,0)","v":{"$error":"#N/A"}},{"$f":"MATCH(ET$3,Millwall!$AH$149:$AW$149,0)","v":{"$error":"#N/A"}},{"$f":"MATCH(EU$3,Millwall!$AH$149:$AW$149,0)","v":{"$error":"#N/A"}},{"$f":"MATCH(EV$3,Millwall!$AH$149:$AW$149,0)","v":{"$error":"#N/A"}},{"$f":"MATCH(EW$3,Millwall!$AH$149:$AW$149,0)","v":{"$error":"#N/A"}},{"$f":"MATCH(EX$3,Millwall!$AH$149:$AW$149,0)","v":{"$error":"#N/A"}},{"$f":"MATCH(EY$3,Millwall!$AH$149:$AW$149,0)","v":{"$error":"#N/A"}},{"$f":"MATCH(EZ$3,Millwall!$AH$149:$AW$149,0)","v":{"$error":"#N/A"}},{"$f":"MATCH(FA$3,Millwall!$AH$149:$AW$149,0)","v":{"$error":"#N/A"}},{"$f":"MATCH(FB$3,Millwall!$AH$149:$AW$149,0)","v":{"$error":"#N/A"}},{"$f":"MATCH(FC$3,Millwall!$AH$149:$AW$149,0)","v":{"$error":"#N/A"}},{"$f":"MATCH(FD$3,Millwall!$AH$149:$AW$149,0)","v":{"$error":"#N/A"}},{"$f":"MATCH(FE$3,Millwall!$AH$149:$AW$149,0)","v":{"$error":"#N/A"}},{"$f":"MATCH(FF$3,Millwall!$AH$149:$AW$149,0)","v":{"$error":"#N/A"}},{"$f":"MATCH(FG$3,Millwall!$AH$149:$AW$149,0)","v":{"$error":"#N/A"}},{"$f":"MATCH(FH$3,Millwall!$AH$149:$AW$149,0)","v":{"$error":"#N/A"}},{"$f":"MATCH(FI$3,Millwall!$AH$149:$AW$149,0)","v":{"$error":"#N/A"}},{"$f":"MATCH(FJ$3,Millwall!$AH$149:$AW$149,0)","v":{"$error":"#N/A"}},{"$f":"MATCH(FK$3,Millwall!$AH$149:$AW$149,0)","v":{"$error":"#N/A"}},{"$f":"MATCH(FL$3,Millwall!$AH$149:$AW$149,0)","v":{"$error":"#N/A"}},{"$f":"MATCH(FM$3,Millwall!$AH$149:$AW$149,0)","v":{"$error":"#N/A"}},{"$f":"MATCH(FN$3,Millwall!$AH$149:$AW$149,0)","v":{"$error":"#N/A"}},{"$f":"MATCH(FO$3,Millwall!$AH$149:$AW$149,0)","v":{"$error":"#N/A"}}]
[null,null,1,null,null,{"$f":"Millwall!AD150","v":"00:00:00"},null,{"$f":"Millwall!AE150","v":"00:00:00"},{"$f":"Millwall!AF150","v":"00:00:00"},{"$f":"Millwall!AG150","v":"00:00:00"},{"$f":"MATCH(K$4,Millwall!$AH150:$AW150,0)","v":{"$error":"#N/A"}},{"$f":"MATCH(L$4,Millwall!$AH150:$AW150,0)","v":{"$error":"#N/A"}},{"$f":"MATCH(M$4,Millwall!$AH150:$AW150,0)","v":{"$error":"#N/A"}},{"$f":"MATCH(N$4,Millwall!$AH150:$AW150,0)","v":{"$error":"#N/A"}},{"$f":"MATCH(O$4,Millwall!$AH150:$AW150,0)","v":{"$error":"#N/A"}},{"$f":"MATCH(P$4,Millwall!$AH150:$AW150,0)","v":{"$error":"#N/A"}},{"$f":"MATCH(Q$4,Millwall!$AH150:$AW150,0)","v":{"$error":"#N/A"}},{"$f":"MATCH(R$4,Millwall!$AH150:$AW150,0)","v":{"$error":"#N/A"}},{"$f":"MATCH(S$4,Millwall!$AH150:$AW150,0)","v":{"$error":"#N/A"}},{"$f":"MATCH(T$4,Millwall!$AH150:$AW150,0)","v":{"$error":"#N/A"}},{"$f":"MATCH(U$4,Millwall!$AH150:$AW150,0)","v":{"$error":"#N/A"}},{"$f":"MATCH(V$4,Millwall!$AH150:$AW150,0)","v":{"$error":"#N/A"}},{"$f":"MATCH(W$4,Millwall!$AH150:$AW150,0)","v":{"$error":"#N/A"}},{"$f":"MATCH(X$4,Millwall!$AH150:$AW150,0)","v":{"$error":"#N/A"}},{"$f":"MATCH(Y$4,Millwall!$AH150:$AW150,0)","v":{"$error":"#N/A"}},{"$f":"MATCH(Z$4,Millwall!$AH150:$AW150,0)","v":{"$error":"#N/A"}},{"$f":"MATCH(AA$4,Millwall!$AH150:$AW150,0)","v":{"$error":"#N/A"}},{"$f":"MATCH(AB$4,Millwall!$AH150:$AW150,0)","v":{"$error":"#N/A"}},{"$f":"MATCH(AC$4,Millwall!$AH150:$AW150,0)","v":{"$error":"#N/A"}},{"$f":"MATCH(AD$4,Millwall!$AH150:$AW150,0)","v":{"$error":"#N/A"}},{"$f":"MATCH(AE$4,Millwall!$AH150:$AW150,0)","v":{"$error":"#N/A"}},{"$f":"MATCH(AF$4,Millwall!$AH150:$AW150,0)","v":{"$error":"#N/A"}},{"$f":"MATCH(AG$4,Millwall!$AH150:$AW150,0)","v":{"$error":"#N/A"}},{"$f":"MATCH(AH$4,Millwall!$AH150:$AW150,0)","v":{"$error":"#N/A"}},{"$f":"MATCH(AI$4,Millwall!$AH150:$AW150,0)","v":{"$error":"#N/A"}},{"$f":"MATCH(AJ$4,Millwall!$AH150:$AW150,0)","v":{"$error":"#N/A"}},{"$f":"MATCH(AK$4,Millwall!$AH150:$AW150,0)","v":{"$error":"#N/A"}},{"$f":"MATCH(AL$4,Millwall!$AH150:$AW150,0)","v":{"$error":"#N/A"}},{"$f":"MATCH(AM$4,Millwall!$AH150:$AW150,0)","v":{"$error":"#N/A"}},{"$f":"MATCH(AN$4,Millwall!$AH150:$AW150,0)","v":{"$error":"#N/A"}},{"$f":"MATCH(AO$4,Millwall!$AH150:$AW150,0)","v":{"$error":"#N/A"}},{"$f":"MATCH(AP$4,Millwall!$AH150:$AW150,0)","v":{"$error":"#N/A"}},{"$f":"MATCH(AQ$4,Millwall!$AH150:$AW150,0)","v":{"$error":"#N/A"}},{"$f":"MATCH(AR$4,Millwall!$AH150:$AW150,0)","v":{"$error":"#N/A"}},{"$f":"MATCH(AS$4,Millwall!$AH150:$AW150,0)","v":{"$error":"#N/A"}},{"$f":"MATCH(AT$4,Millwall!$AH150:$AW150,0)","v":{"$error":"#N/A"}},{"$f":"MATCH(AU$4,Millwall!$AH150:$AW150,0)","v":{"$error":"#N/A"}},{"$f":"MATCH(AV$4,Millwall!$AH150:$AW150,0)","v":{"$error":"#N/A"}},null,null,null,null,null,{"$f":"MATCH(BB$3,Millwall!$AH150:$AW150,0)","v":{"$error":"#N/A"}},{"$f":"MATCH(BC$3,Millwall!$AH150:$AW150,0)","v":{"$error":"#N/A"}},{"$f":"MATCH(BD$3,Millwall!$AH150:$AW150,0)","v":{"$error":"#N/A"}},{"$f":"MATCH(BE$3,Millwall!$AH150:$AW150,0)","v":{"$error":"#N/A"}},{"$f":"MATCH(BF$3,Millwall!$AH150:$AW150,0)","v":{"$error":"#N/A"}},{"$f":"MATCH(BG$3,Millwall!$AH150:$AW150,0)","v":{"$error":"#N/A"}},{"$f":"MATCH(BH$3,Millwall!$AH150:$AW150,0)","v":{"$error":"#N/A"}},{"$f":"MATCH(BI$3,Millwall!$AH150:$AW150,0)","v":{"$error":"#N/A"}},{"$f":"MATCH(BJ$3,Millwall!$AH150:$AW150,0)","v":{"$error":"#N/A"}},{"$f":"MATCH(BK$3,Millwall!$AH150:$AW150,0)","v":{"$error":"#N/A"}},{"$f":"MATCH(BL$3,Millwall!$AH150:$AW150,0)","v":{"$error":"#N/A"}},{"$f":"MATCH(BM$3,Millwall!$AH150:$AW150,0)","v":{"$error":"#N/A"}},{"$f":"MATCH(BN$3,Millwall!$AH150:$AW150,0)","v":{"$error":"#N/A"}},{"$f":"MATCH(BO$3,Millwall!$AH150:$AW150,0)","v":{"$error":"#N/A"}},{"$f":"MATCH(BP$3,Millwall!$AH150:$AW150,0)","v":{"$error":"#N/A"}},{"$f":"MATCH(BQ$3,Millwall!$AH150:$AW150,0)","v":{"$error":"#N/A"}},{"$f":"MATCH(BR$3,Millwall!$AH150:$AW150,0)","v":{"$error":"#N/A"}},{"$f":"MATCH(BS$3,Millwall!$AH150:$AW150,0)","v":{"$error":"#N/A"}},{"$f":"MATCH(BT$3,Millwall!$AH150:$AW150,0)","v":{"$error":"#N/A"}},{"$f":"MATCH(BU$3,Millwall!$AH150:$AW150,0)","v":{"$error":"#N/A"}},{"$f":"MATCH(BV$3,Millwall!$AH150:$AW150,0)","v":{"$error":"#N/A"}},{"$f":"MATCH(BW$3,Millwall!$AH150:$AW150,0)","v":{"$error":"#N/A"}},{"$f":"MATCH(BX$3,Millwall!$AH150:$AW150,0)","v":{"$error":"#N/A"}},{"$f":"MATCH(BY$3,Millwall!$AH150:$AW150,0)","v":{"$error":"#N/A"}},{"$f":"MATCH(BZ$3,Millwall!$AH150:$AW150,0)","v":{"$error":"#N/A"}},{"$f":"MATCH(CA$3,Millwall!$AH150:$AW150,0)","v":{"$error":"#N/A"}},{"$f":"MATCH(CB$3,Millwall!$AH150:$AW150,0)","v":{"$error":"#N/A"}},{"$f":"MATCH(CC$3,Millwall!$AH150:$AW150,0)","v":{"$error":"#N/A"}},{"$f":"MATCH(CD$3,Millwall!$AH150:$AW150,0)","v":{"$error":"#N/A"}},{"$f":"MATCH(CE$3,Millwall!$AH150:$AW150,0)","v":{"$error":"#N/A"}},{"$f":"MATCH(CF$3,Millwall!$AH150:$AW150,0)","v":{"$error":"#N/A"}},{"$f":"MATCH(CG$3,Millwall!$AH150:$AW150,0)","v":{"$error":"#N/A"}},{"$f":"MATCH(CH$3,Millwall!$AH150:$AW150,0)","v":{"$error":"#N/A"}},{"$f":"MATCH(CI$3,Millwall!$AH150:$AW150,0)","v":{"$error":"#N/A"}},{"$f":"MATCH(CJ$3,Millwall!$AH150:$AW150,0)","v":{"$error":"#N/A"}},{"$f":"MATCH(CK$3,Millwall!$AH150:$AW150,0)","v":{"$error":"#N/A"}},{"$f":"MATCH(CL$3,Millwall!$AH150:$AW150,0)","v":{"$error":"#N/A"}},{"$f":"MATCH(CM$3,Millwall!$AH150:$AW150,0)","v":{"$error":"#N/A"}},null,null,{"$f":"MATCH($CP$3,Millwall!$AH$150:$AW$150,0)","v":{"$error":"#N/A"}},{"$f":"MATCH($CQ$3,Millwall!$AH$150:$AW$150,0)","v":{"$error":"#N/A"}},{"$f":"MATCH($CR$3,Millwall!$AH$150:$AW$150,0)","v":{"$error":"#N/A"}},{"$f":"MATCH($CS$3,Millwall!$AH$150:$AW$150,0)","v":{"$error":"#N/A"}},{"$f":"MATCH($CT$3,Millwall!$AH$150:$AW$150,0)","v":{"$error":"#N/A"}},{"$f":"MATCH($CU$3,Millwall!$AH$150:$AW$150,0)","v":{"$error":"#N/A"}},{"$f":"MATCH($CV$3,Millwall!$AH$150:$AW$150,0)","v":{"$error":"#N/A"}},{"$f":"MATCH($CW$3,Millwall!$AH$150:$AW$150,0)","v":{"$error":"#N/A"}},{"$f":"MATCH($CX$3,Millwall!$AH$150:$AW$150,0)","v":{"$error":"#N/A"}},{"$f":"MATCH($CY$3,Millwall!$AH$150:$AW$150,0)","v":{"$error":"#N/A"}},{"$f":"MATCH($CZ$3,Millwall!$AH$150:$AW$150,0)","v":{"$error":"#N/A"}},{"$f":"MATCH($DA$3,Millwall!$AH$150:$AW$150,0)","v":{"$error":"#N/A"}},{"$f":"MATCH($DB$3,Millwall!$AH$150:$AW$150,0)","v":{"$error":"#N/A"}},{"$f":"MATCH($DC$3,Millwall!$AH$150:$AW$150,0)","v":{"$error":"#N/A"}},{"$f":"MATCH($DD$3,Millwall!$AH$150:$AW$150,0)","v":{"$error":"#N/A"}},{"$f":"MATCH($DE$3,Millwall!$AH$150:$AW$150,0)","v":{"$error":"#N/A"}},{"$f":"MATCH($DF$3,Millwall!$AH$150:$AW$150,0)","v":{"$error":"#N/A"}},{"$f":"MATCH($DG$3,Millwall!$AH$150:$AW$150,0)","v":{"$error":"#N/A"}},{"$f":"MATCH($DH$3,Millwall!$AH$150:$AW$150,0)","v":{"$error":"#N/A"}},{"$f":"MATCH($DI$3,Millwall!$AH$150:$AW$150,0)","v":{"$error":"#N/A"}},{"$f":"MATCH($DJ$3,Millwall!$AH$150:$AW$150,0)","v":{"$error":"#N/A"}},{"$f":"MATCH($DK$3,Millwall!$AH$150:$AW$150,0)","v":{"$error":"#N/A"}},{"$f":"MATCH($DL$3,Millwall!$AH$150:$AW$150,0)","v":{"$error":"#N/A"}},{"$f":"MATCH($DM$3,Millwall!$AH$150:$AW$150,0)","v":{"$error":"#N/A"}},{"$f":"MATCH($DN$3,Millwall!$AH$150:$AW$150,0)","v":{"$error":"#N/A"}},{"$f":"MATCH($DO$3,Millwall!$AH$150:$AW$150,0)","v":{"$error":"#N/A"}},{"$f":"MATCH($DP$3,Millwall!$AH$150:$AW$150,0)","v":{"$error":"#N/A"}},{"$f":"MATCH($DQ$3,Millwall!$AH$150:$AW$150,0)","v":{"$error":"#N/A"}},{"$f":"MATCH($DR$3,Millwall!$AH$150:$AW$150,0)","v":{"$error":"#N/A"}},{"$f":"MATCH($DS$3,Millwall!$AH$150:$AW$150,0)","v":{"$error":"#N/A"}},{"$f":"MATCH($DT$3,Millwall!$AH$150:$AW$150,0)","v":{"$error":"#N/A"}},{"$f":"MATCH($DU$3,Millwall!$AH$150:$AW$150,0)","v":{"$error":"#N/A"}},{"$f":"MATCH($DV$3,Millwall!$AH$150:$AW$150,0)","v":{"$error":"#N/A"}},{"$f":"MATCH($DW$3,Millwall!$AH$150:$AW$150,0)","v":{"$error":"#N/A"}},{"$f":"MATCH($DX$3,Millwall!$AH$150:$AW$150,0)","v":{"$error":"#N/A"}},{"$f":"MATCH($DY$3,Millwall!$AH$150:$AW$150,0)","v":{"$error":"#N/A"}},{"$f":"MATCH($DZ$3,Millwall!$AH$150:$AW$150,0)","v":{"$error":"#N/A"}},{"$f":"MATCH($EA$3,Millwall!$AH$150:$AW$150,0)","v":{"$error":"#N/A"}},null,null,{"$f":"MATCH(ED$3,Millwall!$AH$150:$AW$150,0)","v":{"$error":"#N/A"}},{"$f":"MATCH(EE$3,Millwall!$AH$150:$AW$150,0)","v":{"$error":"#N/A"}},{"$f":"MATCH(EF$3,Millwall!$AH$150:$AW$150,0)","v":{"$error":"#N/A"}},{"$f":"MATCH(EG$3,Millwall!$AH$150:$AW$150,0)","v":{"$error":"#N/A"}},{"$f":"MATCH(EH$3,Millwall!$AH$150:$AW$150,0)","v":{"$error":"#N/A"}},{"$f":"MATCH(EI$3,Millwall!$AH$150:$AW$150,0)","v":{"$error":"#N/A"}},{"$f":"MATCH(EJ$3,Millwall!$AH$150:$AW$150,0)","v":{"$error":"#N/A"}},{"$f":"MATCH(EK$3,Millwall!$AH$150:$AW$150,0)","v":{"$error":"#N/A"}},{"$f":"MATCH(EL$3,Millwall!$AH$150:$AW$150,0)","v":{"$error":"#N/A"}},{"$f":"MATCH(EM$3,Millwall!$AH$150:$AW$150,0)","v":{"$error":"#N/A"}},{"$f":"MATCH(EN$3,Millwall!$AH$150:$AW$150,0)","v":{"$error":"#N/A"}},{"$f":"MATCH(EO$3,Millwall!$AH$150:$AW$150,0)","v":{"$error":"#N/A"}},{"$f":"MATCH(EP$3,Millwall!$AH$150:$AW$150,0)","v":{"$error":"#N/A"}},{"$f":"MATCH(EQ$3,Millwall!$AH$150:$AW$150,0)","v":{"$error":"#N/A"}},{"$f":"MATCH(ER$3,Millwall!$AH$150:$AW$150,0)","v":{"$error":"#N/A"}},{"$f":"MATCH(ES$3,Millwall!$AH$150:$AW$150,0)","v":{"$error":"#N/A"}},{"$f":"MATCH(ET$3,Millwall!$AH$150:$AW$150,0)","v":{"$error":"#N/A"}},{"$f":"MATCH(EU$3,Millwall!$AH$150:$AW$150,0)","v":{"$error":"#N/A"}},{"$f":"MATCH(EV$3,Millwall!$AH$150:$AW$150,0)","v":{"$error":"#N/A"}},{"$f":"MATCH(EW$3,Millwall!$AH$150:$AW$150,0)","v":{"$error":"#N/A"}},{"$f":"MATCH(EX$3,Millwall!$AH$150:$AW$150,0)","v":{"$error":"#N/A"}},{"$f":"MATCH(EY$3,Millwall!$AH$150:$AW$150,0)","v":{"$error":"#N/A"}},{"$f":"MATCH(EZ$3,Millwall!$AH$150:$AW$150,0)","v":{"$error":"#N/A"}},{"$f":"MATCH(FA$3,Millwall!$AH$150:$AW$150,0)","v":{"$error":"#N/A"}},{"$f":"MATCH(FB$3,Millwall!$AH$150:$AW$150,0)","v":{"$error":"#N/A"}},{"$f":"MATCH(FC$3,Millwall!$AH$150:$AW$150,0)","v":{"$error":"#N/A"}},{"$f":"MATCH(FD$3,Millwall!$AH$150:$AW$150,0)","v":{"$error":"#N/A"}},{"$f":"MATCH(FE$3,Millwall!$AH$150:$AW$150,0)","v":{"$error":"#N/A"}},{"$f":"MATCH(FF$3,Millwall!$AH$150:$AW$150,0)","v":{"$error":"#N/A"}},{"$f":"MATCH(FG$3,Millwall!$AH$150:$AW$150,0)","v":{"$error":"#N/A"}},{"$f":"MATCH(FH$3,Millwall!$AH$150:$AW$150,0)","v":{"$error":"#N/A"}},{"$f":"MATCH(FI$3,Millwall!$AH$150:$AW$150,0)","v":{"$error":"#N/A"}},{"$f":"MATCH(FJ$3,Millwall!$AH$150:$AW$150,0)","v":{"$error":"#N/A"}},{"$f":"MATCH(FK$3,Millwall!$AH$150:$AW$150,0)","v":{"$error":"#N/A"}},{"$f":"MATCH(FL$3,Millwall!$AH$150:$AW$150,0)","v":{"$error":"#N/A"}},{"$f":"MATCH(FM$3,Millwall!$AH$150:$AW$150,0)","v":{"$error":"#N/A"}},{"$f":"MATCH(FN$3,Millwall!$AH$150:$AW$150,0)","v":{"$error":"#N/A"}},{"$f":"MATCH(FO$3,Millwall!$AH$150:$AW$150,0)","v":{"$error":"#N/A"}}]
[null,null,1,null,null,{"$f":"Millwall!AD151","v":"00:00:00"},null,{"$f":"Millwall!AE151","v":"00:00:00"},{"$f":"Millwall!AF151","v":"00:00:00"},{"$f":"Millwall!AG151","v":0},{"$f":"MATCH(K$4,Millwall!$AH151:$AW151,0)","v":{"$error":"#N/A"}},{"$f":"MATCH(L$4,Millwall!$AH151:$AW151,0)","v":{"$error":"#N/A"}},{"$f":"MATCH(M$4,Millwall!$AH151:$AW151,0)","v":{"$error":"#N/A"}},{"$f":"MATCH(N$4,Millwall!$AH151:$AW151,0)","v":{"$error":"#N/A"}},{"$f":"MATCH(O$4,Millwall!$AH151:$AW151,0)","v":{"$error":"#N/A"}},{"$f":"MATCH(P$4,Millwall!$AH151:$AW151,0)","v":{"$error":"#N/A"}},{"$f":"MATCH(Q$4,Millwall!$AH151:$AW151,0)","v":{"$error":"#N/A"}},{"$f":"MATCH(R$4,Millwall!$AH151:$AW151,0)","v":{"$error":"#N/A"}},{"$f":"MATCH(S$4,Millwall!$AH151:$AW151,0)","v":{"$error":"#N/A"}},{"$f":"MATCH(T$4,Millwall!$AH151:$AW151,0)","v":{"$error":"#N/A"}},{"$f":"MATCH(U$4,Millwall!$AH151:$AW151,0)","v":{"$error":"#N/A"}},{"$f":"MATCH(V$4,Millwall!$AH151:$AW151,0)","v":{"$error":"#N/A"}},{"$f":"MATCH(W$4,Millwall!$AH151:$AW151,0)","v":{"$error":"#N/A"}},{"$f":"MATCH(X$4,Millwall!$AH151:$AW151,0)","v":{"$error":"#N/A"}},{"$f":"MATCH(Y$4,Millwall!$AH151:$AW151,0)","v":{"$error":"#N/A"}},{"$f":"MATCH(Z$4,Millwall!$AH151:$AW151,0)","v":{"$error":"#N/A"}},{"$f":"MATCH(AA$4,Millwall!$AH151:$AW151,0)","v":{"$error":"#N/A"}},{"$f":"MATCH(AB$4,Millwall!$AH151:$AW151,0)","v":{"$error":"#N/A"}},{"$f":"MATCH(AC$4,Millwall!$AH151:$AW151,0)","v":{"$error":"#N/A"}},{"$f":"MATCH(AD$4,Millwall!$AH151:$AW151,0)","v":{"$error":"#N/A"}},{"$f":"MATCH(AE$4,Millwall!$AH151:$AW151,0)","v":{"$error":"#N/A"}},{"$f":"MATCH(AF$4,Millwall!$AH151:$AW151,0)","v":{"$error":"#N/A"}},{"$f":"MATCH(AG$4,Millwall!$AH151:$AW151,0)","v":{"$error":"#N/A"}},{"$f":"MATCH(AH$4,Millwall!$AH151:$AW151,0)","v":{"$error":"#N/A"}},{"$f":"MATCH(AI$4,Millwall!$AH151:$AW151,0)","v":{"$error":"#N/A"}},{"$f":"MATCH(AJ$4,Millwall!$AH151:$AW151,0)","v":{"$error":"#N/A"}},{"$f":"MATCH(AK$4,Millwall!$AH151:$AW151,0)","v":{"$error":"#N/A"}},{"$f":"MATCH(AL$4,Millwall!$AH151:$AW151,0)","v":{"$error":"#N/A"}},{"$f":"MATCH(AM$4,Millwall!$AH151:$AW151,0)","v":{"$error":"#N/A"}},{"$f":"MATCH(AN$4,Millwall!$AH151:$AW151,0)","v":{"$error":"#N/A"}},{"$f":"MATCH(AO$4,Millwall!$AH151:$AW151,0)","v":{"$error":"#N/A"}},{"$f":"MATCH(AP$4,Millwall!$AH151:$AW151,0)","v":{"$error":"#N/A"}},{"$f":"MATCH(AQ$4,Millwall!$AH151:$AW151,0)","v":{"$error":"#N/A"}},{"$f":"MATCH(AR$4,Millwall!$AH151:$AW151,0)","v":{"$error":"#N/A"}},{"$f":"MATCH(AS$4,Millwall!$AH151:$AW151,0)","v":{"$error":"#N/A"}},{"$f":"MATCH(AT$4,Millwall!$AH151:$AW151,0)","v":{"$error":"#N/A"}},{"$f":"MATCH(AU$4,Millwall!$AH151:$AW151,0)","v":{"$error":"#N/A"}},{"$f":"MATCH(AV$4,Millwall!$AH151:$AW151,0)","v":{"$error":"#N/A"}},null,null,null,null,null,{"$f":"MATCH(BB$3,Millwall!$AH151:$AW151,0)","v":{"$error":"#N/A"}},{"$f":"MATCH(BC$3,Millwall!$AH151:$AW151,0)","v":{"$error":"#N/A"}},{"$f":"MATCH(BD$3,Millwall!$AH151:$AW151,0)","v":{"$error":"#N/A"}},{"$f":"MATCH(BE$3,Millwall!$AH151:$AW151,0)","v":{"$error":"#N/A"}},{"$f":"MATCH(BF$3,Millwall!$AH151:$AW151,0)","v":{"$error":"#N/A"}},{"$f":"MATCH(BG$3,Millwall!$AH151:$AW151,0)","v":{"$error":"#N/A"}},{"$f":"MATCH(BH$3,Millwall!$AH151:$AW151,0)","v":{"$error":"#N/A"}},{"$f":"MATCH(BI$3,Millwall!$AH151:$AW151,0)","v":{"$error":"#N/A"}},{"$f":"MATCH(BJ$3,Millwall!$AH151:$AW151,0)","v":{"$error":"#N/A"}},{"$f":"MATCH(BK$3,Millwall!$AH151:$AW151,0)","v":{"$error":"#N/A"}},{"$f":"MATCH(BL$3,Millwall!$AH151:$AW151,0)","v":{"$error":"#N/A"}},{"$f":"MATCH(BM$3,Millwall!$AH151:$AW151,0)","v":{"$error":"#N/A"}},{"$f":"MATCH(BN$3,Millwall!$AH151:$AW151,0)","v":{"$error":"#N/A"}},{"$f":"MATCH(BO$3,Millwall!$AH151:$AW151,0)","v":{"$error":"#N/A"}},{"$f":"MATCH(BP$3,Millwall!$AH151:$AW151,0)","v":{"$error":"#N/A"}},{"$f":"MATCH(BQ$3,Millwall!$AH151:$AW151,0)","v":{"$error":"#N/A"}},{"$f":"MATCH(BR$3,Millwall!$AH151:$AW151,0)","v":{"$error":"#N/A"}},{"$f":"MATCH(BS$3,Millwall!$AH151:$AW151,0)","v":{"$error":"#N/A"}},{"$f":"MATCH(BT$3,Millwall!$AH151:$AW151,0)","v":{"$error":"#N/A"}},{"$f":"MATCH(BU$3,Millwall!$AH151:$AW151,0)","v":{"$error":"#N/A"}},{"$f":"MATCH(BV$3,Millwall!$AH151:$AW151,0)","v":{"$error":"#N/A"}},{"$f":"MATCH(BW$3,Millwall!$AH151:$AW151,0)","v":{"$error":"#N/A"}},{"$f":"MATCH(BX$3,Millwall!$AH151:$AW151,0)","v":{"$error":"#N/A"}},{"$f":"MATCH(BY$3,Millwall!$AH151:$AW151,0)","v":{"$error":"#N/A"}},{"$f":"MATCH(BZ$3,Millwall!$AH151:$AW151,0)","v":{"$error":"#N/A"}},{"$f":"MATCH(CA$3,Millwall!$AH151:$AW151,0)","v":{"$error":"#N/A"}},{"$f":"MATCH(CB$3,Millwall!$AH151:$AW151,0)","v":{"$error":"#N/A"}},{"$f":"MATCH(CC$3,Millwall!$AH151:$AW151,0)","v":{"$error":"#N/A"}},{"$f":"MATCH(CD$3,Millwall!$AH151:$AW151,0)","v":{"$error":"#N/A"}},{"$f":"MATCH(CE$3,Millwall!$AH151:$AW151,0)","v":{"$error":"#N/A"}},{"$f":"MATCH(CF$3,Millwall!$AH151:$AW151,0)","v":{"$error":"#N/A"}},{"$f":"MATCH(CG$3,Millwall!$AH151:$AW151,0)","v":{"$error":"#N/A"}},{"$f":"MATCH(CH$3,Millwall!$AH151:$AW151,0)","v":{"$error":"#N/A"}},{"$f":"MATCH(CI$3,Millwall!$AH151:$AW151,0)","v":{"$error":"#N/A"}},{"$f":"MATCH(CJ$3,Millwall!$AH151:$AW151,0)","v":{"$error":"#N/A"}},{"$f":"MATCH(CK$3,Millwall!$AH151:$AW151,0)","v":{"$error":"#N/A"}},{"$f":"MATCH(CL$3,Millwall!$AH151:$AW151,0)","v":{"$error":"#N/A"}},{"$f":"MATCH(CM$3,Millwall!$AH151:$AW151,0)","v":{"$error":"#N/A"}},null,null,{"$f":"MATCH($CP$3,Millwall!$AH$151:$AW$151,0)","v":{"$error":"#N/A"}},{"$f":"MATCH($CQ$3,Millwall!$AH$151:$AW$151,0)","v":{"$error":"#N/A"}},{"$f":"MATCH($CR$3,Millwall!$AH$151:$AW$151,0)","v":{"$error":"#N/A"}},{"$f":"MATCH($CS$3,Millwall!$AH$151:$AW$151,0)","v":{"$error":"#N/A"}},{"$f":"MATCH($CT$3,Millwall!$AH$151:$AW$151,0)","v":{"$error":"#N/A"}},{"$f":"MATCH($CU$3,Millwall!$AH$151:$AW$151,0)","v":{"$error":"#N/A"}},{"$f":"MATCH($CV$3,Millwall!$AH$151:$AW$151,0)","v":{"$error":"#N/A"}},{"$f":"MATCH($CW$3,Millwall!$AH$151:$AW$151,0)","v":{"$error":"#N/A"}},{"$f":"MATCH($CX$3,Millwall!$AH$151:$AW$151,0)","v":{"$error":"#N/A"}},{"$f":"MATCH($CY$3,Millwall!$AH$151:$AW$151,0)","v":{"$error":"#N/A"}},{"$f":"MATCH($CZ$3,Millwall!$AH$151:$AW$151,0)","v":{"$error":"#N/A"}},{"$f":"MATCH($DA$3,Millwall!$AH$151:$AW$151,0)","v":{"$error":"#N/A"}},{"$f":"MATCH($DB$3,Millwall!$AH$151:$AW$151,0)","v":{"$error":"#N/A"}},{"$f":"MATCH($DC$3,Millwall!$AH$151:$AW$151,0)","v":{"$error":"#N/A"}},{"$f":"MATCH($DD$3,Millwall!$AH$151:$AW$151,0)","v":{"$error":"#N/A"}},{"$f":"MATCH($DE$3,Millwall!$AH$151:$AW$151,0)","v":{"$error":"#N/A"}},{"$f":"MATCH($DF$3,Millwall!$AH$151:$AW$151,0)","v":{"$error":"#N/A"}},{"$f":"MATCH($DG$3,Millwall!$AH$151:$AW$151,0)","v":{"$error":"#N/A"}},{"$f":"MATCH($DH$3,Millwall!$AH$151:$AW$151,0)","v":{"$error":"#N/A"}},{"$f":"MATCH($DI$3,Millwall!$AH$151:$AW$151,0)","v":{"$error":"#N/A"}},{"$f":"MATCH($DJ$3,Millwall!$AH$151:$AW$151,0)","v":{"$error":"#N/A"}},{"$f":"MATCH($DK$3,Millwall!$AH$151:$AW$151,0)","v":{"$error":"#N/A"}},{"$f":"MATCH($DL$3,Millwall!$AH$151:$AW$151,0)","v":{"$error":"#N/A"}},{"$f":"MATCH($DM$3,Millwall!$AH$151:$AW$151,0)","v":{"$error":"#N/A"}},{"$f":"MATCH($DN$3,Millwall!$AH$151:$AW$151,0)","v":{"$error":"#N/A"}},{"$f":"MATCH($DO$3,Millwall!$AH$151:$AW$151,0)","v":{"$error":"#N/A"}},{"$f":"MATCH($DP$3,Millwall!$AH$151:$AW$151,0)","v":{"$error":"#N/A"}},{"$f":"MATCH($DQ$3,Millwall!$AH$151:$AW$151,0)","v":{"$error":"#N/A"}},{"$f":"MATCH($DR$3,Millwall!$AH$151:$AW$151,0)","v":{"$error":"#N/A"}},{"$f":"MATCH($DS$3,Millwall!$AH$151:$AW$151,0)","v":{"$error":"#N/A"}},{"$f":"MATCH($DT$3,Millwall!$AH$151:$AW$151,0)","v":{"$error":"#N/A"}},{"$f":"MATCH($DU$3,Millwall!$AH$151:$AW$151,0)","v":{"$error":"#N/A"}},{"$f":"MATCH($DV$3,Millwall!$AH$151:$AW$151,0)","v":{"$error":"#N/A"}},{"$f":"MATCH($DW$3,Millwall!$AH$151:$AW$151,0)","v":{"$error":"#N/A"}},{"$f":"MATCH($DX$3,Millwall!$AH$151:$AW$151,0)","v":{"$error":"#N/A"}},{"$f":"MATCH($DY$3,Millwall!$AH$151:$AW$151,0)","v":{"$error":"#N/A"}},{"$f":"MATCH($DZ$3,Millwall!$AH$151:$AW$151,0)","v":{"$error":"#N/A"}},{"$f":"MATCH($EA$3,Millwall!$AH$151:$AW$151,0)","v":{"$error":"#N/A"}},null,null,{"$f":"MATCH(ED$3,Millwall!$AH$151:$AW$151,0)","v":{"$error":"#N/A"}},{"$f":"MATCH(EE$3,Millwall!$AH$151:$AW$151,0)","v":{"$error":"#N/A"}},{"$f":"MATCH(EF$3,Millwall!$AH$151:$AW$151,0)","v":{"$error":"#N/A"}},{"$f":"MATCH(EG$3,Millwall!$AH$151:$AW$151,0)","v":{"$error":"#N/A"}},{"$f":"MATCH(EH$3,Millwall!$AH$151:$AW$151,0)","v":{"$error":"#N/A"}},{"$f":"MATCH(EI$3,Millwall!$AH$151:$AW$151,0)","v":{"$error":"#N/A"}},{"$f":"MATCH(EJ$3,Millwall!$AH$151:$AW$151,0)","v":{"$error":"#N/A"}},{"$f":"MATCH(EK$3,Millwall!$AH$151:$AW$151,0)","v":{"$error":"#N/A"}},{"$f":"MATCH(EL$3,Millwall!$AH$151:$AW$151,0)","v":{"$error":"#N/A"}},{"$f":"MATCH(EM$3,Millwall!$AH$151:$AW$151,0)","v":{"$error":"#N/A"}},{"$f":"MATCH(EN$3,Millwall!$AH$151:$AW$151,0)","v":{"$error":"#N/A"}},{"$f":"MATCH(EO$3,Millwall!$AH$151:$AW$151,0)","v":{"$error":"#N/A"}},{"$f":"MATCH(EP$3,Millwall!$AH$151:$AW$151,0)","v":{"$error":"#N/A"}},{"$f":"MATCH(EQ$3,Millwall!$AH$151:$AW$151,0)","v":{"$error":"#N/A"}},{"$f":"MATCH(ER$3,Millwall!$AH$151:$AW$151,0)","v":{"$error":"#N/A"}},{"$f":"MATCH(ES$3,Millwall!$AH$151:$AW$151,0)","v":{"$error":"#N/A"}},{"$f":"MATCH(ET$3,Millwall!$AH$151:$AW$151,0)","v":{"$error":"#N/A"}},{"$f":"MATCH(EU$3,Millwall!$AH$151:$AW$151,0)","v":{"$error":"#N/A"}},{"$f":"MATCH(EV$3,Millwall!$AH$151:$AW$151,0)","v":{"$error":"#N/A"}},{"$f":"MATCH(EW$3,Millwall!$AH$151:$AW$151,0)","v":{"$error":"#N/A"}},{"$f":"MATCH(EX$3,Millwall!$AH$151:$AW$151,0)","v":{"$error":"#N/A"}},{"$f":"MATCH(EY$3,Millwall!$AH$151:$AW$151,0)","v":{"$error":"#N/A"}},{"$f":"MATCH(EZ$3,Millwall!$AH$151:$AW$151,0)","v":{"$error":"#N/A"}},{"$f":"MATCH(FA$3,Millwall!$AH$151:$AW$151,0)","v":{"$error":"#N/A"}},{"$f":"MATCH(FB$3,Millwall!$AH$151:$AW$151,0)","v":{"$error":"#N/A"}},{"$f":"MATCH(FC$3,Millwall!$AH$151:$AW$151,0)","v":{"$error":"#N/A"}},{"$f":"MATCH(FD$3,Millwall!$AH$151:$AW$151,0)","v":{"$error":"#N/A"}},{"$f":"MATCH(FE$3,Millwall!$AH$151:$AW$151,0)","v":{"$error":"#N/A"}},{"$f":"MATCH(FF$3,Millwall!$AH$151:$AW$151,0)","v":{"$error":"#N/A"}},{"$f":"MATCH(FG$3,Millwall!$AH$151:$AW$151,0)","v":{"$error":"#N/A"}},{"$f":"MATCH(FH$3,Millwall!$AH$151:$AW$151,0)","v":{"$error":"#N/A"}},{"$f":"MATCH(FI$3,Millwall!$AH$151:$AW$151,0)","v":{"$error":"#N/A"}},{"$f":"MATCH(FJ$3,Millwall!$AH$151:$AW$151,0)","v":{"$error":"#N/A"}},{"$f":"MATCH(FK$3,Millwall!$AH$151:$AW$151,0)","v":{"$error":"#N/A"}},{"$f":"MATCH(FL$3,Millwall!$AH$151:$AW$151,0)","v":{"$error":"#N/A"}},{"$f":"MATCH(FM$3,Millwall!$AH$151:$AW$151,0)","v":{"$error":"#N/A"}},{"$f":"MATCH(FN$3,Millwall!$AH$151:$AW$151,0)","v":{"$error":"#N/A"}},{"$f":"MATCH(FO$3,Millwall!$AH$151:$AW$151,0)","v":{"$error":"#N/A"}}]
[null,null,1,null,null,{"$f":"Millwall!AD152","v":"00:00:00"},null,{"$f":"Millwall!AE152","v":"00:00:00"},{"$f":"Millwall!AF152","v":"00:00:00"},{"$f":"Millwall!AG152","v":0},{"$f":"MATCH(K$4,Millwall!$AH152:$AW152,0)","v":{"$error":"#N/A"}},{"$f":"MATCH(L$4,Millwall!$AH152:$AW152,0)","v":{"$error":"#N/A"}},{"$f":"MATCH(M$4,Millwall!$AH152:$AW152,0)","v":{"$error":"#N/A"}},{"$f":"MATCH(N$4,Millwall!$AH152:$AW152,0)","v":{"$error":"#N/A"}},{"$f":"MATCH(O$4,Millwall!$AH152:$AW152,0)","v":{"$error":"#N/A"}},{"$f":"MATCH(P$4,Millwall!$AH152:$AW152,0)","v":{"$error":"#N/A"}},{"$f":"MATCH(Q$4,Millwall!$AH152:$AW152,0)","v":{"$error":"#N/A"}},{"$f":"MATCH(R$4,Millwall!$AH152:$AW152,0)","v":{"$error":"#N/A"}},{"$f":"MATCH(S$4,Millwall!$AH152:$AW152,0)","v":{"$error":"#N/A"}},{"$f":"MATCH(T$4,Millwall!$AH152:$AW152,0)","v":{"$error":"#N/A"}},{"$f":"MATCH(U$4,Millwall!$AH152:$AW152,0)","v":{"$error":"#N/A"}},{"$f":"MATCH(V$4,Millwall!$AH152:$AW152,0)","v":{"$error":"#N/A"}},{"$f":"MATCH(W$4,Millwall!$AH152:$AW152,0)","v":{"$error":"#N/A"}},{"$f":"MATCH(X$4,Millwall!$AH152:$AW152,0)","v":{"$error":"#N/A"}},{"$f":"MATCH(Y$4,Millwall!$AH152:$AW152,0)","v":{"$error":"#N/A"}},{"$f":"MATCH(Z$4,Millwall!$AH152:$AW152,0)","v":{"$error":"#N/A"}},{"$f":"MATCH(AA$4,Millwall!$AH152:$AW152,0)","v":{"$error":"#N/A"}},{"$f":"MATCH(AB$4,Millwall!$AH152:$AW152,0)","v":{"$error":"#N/A"}},{"$f":"MATCH(AC$4,Millwall!$AH152:$AW152,0)","v":{"$error":"#N/A"}},{"$f":"MATCH(AD$4,Millwall!$AH152:$AW152,0)","v":{"$error":"#N/A"}},{"$f":"MATCH(AE$4,Millwall!$AH152:$AW152,0)","v":{"$error":"#N/A"}},{"$f":"MATCH(AF$4,Millwall!$AH152:$AW152,0)","v":{"$error":"#N/A"}},{"$f":"MATCH(AG$4,Millwall!$AH152:$AW152,0)","v":{"$error":"#N/A"}},{"$f":"MATCH(AH$4,Millwall!$AH152:$AW152,0)","v":{"$error":"#N/A"}},{"$f":"MATCH(AI$4,Millwall!$AH152:$AW152,0)","v":{"$error":"#N/A"}},{"$f":"MATCH(AJ$4,Millwall!$AH152:$AW152,0)","v":{"$error":"#N/A"}},{"$f":"MATCH(AK$4,Millwall!$AH152:$AW152,0)","v":{"$error":"#N/A"}},{"$f":"MATCH(AL$4,Millwall!$AH152:$AW152,0)","v":{"$error":"#N/A"}},{"$f":"MATCH(AM$4,Millwall!$AH152:$AW152,0)","v":{"$error":"#N/A"}},{"$f":"MATCH(AN$4,Millwall!$AH152:$AW152,0)","v":{"$error":"#N/A"}},{"$f":"MATCH(AO$4,Millwall!$AH152:$AW152,0)","v":{"$error":"#N/A"}},{"$f":"MATCH(AP$4,Millwall!$AH152:$AW152,0)","v":{"$error":"#N/A"}},{"$f":"MATCH(AQ$4,Millwall!$AH152:$AW152,0)","v":{"$error":"#N/A"}},{"$f":"MATCH(AR$4,Millwall!$AH152:$AW152,0)","v":{"$error":"#N/A"}},{"$f":"MATCH(AS$4,Millwall!$AH152:$AW152,0)","v":{"$error":"#N/A"}},{"$f":"MATCH(AT$4,Millwall!$AH152:$AW152,0)","v":{"$error":"#N/A"}},{"$f":"MATCH(AU$4,Millwall!$AH152:$AW152,0)","v":{"$error":"#N/A"}},{"$f":"MATCH(AV$4,Millwall!$AH152:$AW152,0)","v":{"$error":"#N/A"}},null,null,null,null,null,{"$f":"MATCH(BB$3,Millwall!$AH152:$AW152,0)","v":{"$error":"#N/A"}},{"$f":"MATCH(BC$3,Millwall!$AH152:$AW152,0)","v":{"$error":"#N/A"}},{"$f":"MATCH(BD$3,Millwall!$AH152:$AW152,0)","v":{"$error":"#N/A"}},{"$f":"MATCH(BE$3,Millwall!$AH152:$AW152,0)","v":{"$error":"#N/A"}},{"$f":"MATCH(BF$3,Millwall!$AH152:$AW152,0)","v":{"$error":"#N/A"}},{"$f":"MATCH(BG$3,Millwall!$AH152:$AW152,0)","v":{"$error":"#N/A"}},{"$f":"MATCH(BH$3,Millwall!$AH152:$AW152,0)","v":{"$error":"#N/A"}},{"$f":"MATCH(BI$3,Millwall!$AH152:$AW152,0)","v":{"$error":"#N/A"}},{"$f":"MATCH(BJ$3,Millwall!$AH152:$AW152,0)","v":{"$error":"#N/A"}},{"$f":"MATCH(BK$3,Millwall!$AH152:$AW152,0)","v":{"$error":"#N/A"}},{"$f":"MATCH(BL$3,Millwall!$AH152:$AW152,0)","v":{"$error":"#N/A"}},{"$f":"MATCH(BM$3,Millwall!$AH152:$AW152,0)","v":{"$error":"#N/A"}},{"$f":"MATCH(BN$3,Millwall!$AH152:$AW152,0)","v":{"$error":"#N/A"}},{"$f":"MATCH(BO$3,Millwall!$AH152:$AW152,0)","v":{"$error":"#N/A"}},{"$f":"MATCH(BP$3,Millwall!$AH152:$AW152,0)","v":{"$error":"#N/A"}},{"$f":"MATCH(BQ$3,Millwall!$AH152:$AW152,0)","v":{"$error":"#N/A"}},{"$f":"MATCH(BR$3,Millwall!$AH152:$AW152,0)","v":{"$error":"#N/A"}},{"$f":"MATCH(BS$3,Millwall!$AH152:$AW152,0)","v":{"$error":"#N/A"}},{"$f":"MATCH(BT$3,Millwall!$AH152:$AW152,0)","v":{"$error":"#N/A"}},{"$f":"MATCH(BU$3,Millwall!$AH152:$AW152,0)","v":{"$error":"#N/A"}},{"$f":"MATCH(BV$3,Millwall!$AH152:$AW152,0)","v":{"$error":"#N/A"}},{"$f":"MATCH(BW$3,Millwall!$AH152:$AW152,0)","v":{"$error":"#N/A"}},{"$f":"MATCH(BX$3,Millwall!$AH152:$AW152,0)","v":{"$error":"#N/A"}},{"$f":"MATCH(BY$3,Millwall!$AH152:$AW152,0)","v":{"$error":"#N/A"}},{"$f":"MATCH(BZ$3,Millwall!$AH152:$AW152,0)","v":{"$error":"#N/A"}},{"$f":"MATCH(CA$3,Millwall!$AH152:$AW152,0)","v":{"$error":"#N/A"}},{"$f":"MATCH(CB$3,Millwall!$AH152:$AW152,0)","v":{"$error":"#N/A"}},{"$f":"MATCH(CC$3,Millwall!$AH152:$AW152,0)","v":{"$error":"#N/A"}},{"$f":"MATCH(CD$3,Millwall!$AH152:$AW152,0)","v":{"$error":"#N/A"}},{"$f":"MATCH(CE$3,Millwall!$AH152:$AW152,0)","v":{"$error":"#N/A"}},{"$f":"MATCH(CF$3,Millwall!$AH152:$AW152,0)","v":{"$error":"#N/A"}},{"$f":"MATCH(CG$3,Millwall!$AH152:$AW152,0)","v":{"$error":"#N/A"}},{"$f":"MATCH(CH$3,Millwall!$AH152:$AW152,0)","v":{"$error":"#N/A"}},{"$f":"MATCH(CI$3,Millwall!$AH152:$AW152,0)","v":{"$error":"#N/A"}},{"$f":"MATCH(CJ$3,Millwall!$AH152:$AW152,0)","v":{"$error":"#N/A"}},{"$f":"MATCH(CK$3,Millwall!$AH152:$AW152,0)","v":{"$error":"#N/A"}},{"$f":"MATCH(CL$3,Millwall!$AH152:$AW152,0)","v":{"$error":"#N/A"}},{"$f":"MATCH(CM$3,Millwall!$AH152:$AW152,0)","v":{"$error":"#N/A"}},null,null,{"$f":"MATCH($CP$3,Millwall!$AH$152:$AW$152,0)","v":{"$error":"#N/A"}},{"$f":"MATCH($CQ$3,Millwall!$AH$152:$AW$152,0)","v":{"$error":"#N/A"}},{"$f":"MATCH($CR$3,Millwall!$AH$152:$AW$152,0)","v":{"$error":"#N/A"}},{"$f":"MATCH($CS$3,Millwall!$AH$152:$AW$152,0)","v":{"$error":"#N/A"}},{"$f":"MATCH($CT$3,Millwall!$AH$152:$AW$152,0)","v":{"$error":"#N/A"}},{"$f":"MATCH($CU$3,Millwall!$AH$152:$AW$152,0)","v":{"$error":"#N/A"}},{"$f":"MATCH($CV$3,Millwall!$AH$152:$AW$152,0)","v":{"$error":"#N/A"}},{"$f":"MATCH($CW$3,Millwall!$AH$152:$AW$152,0)","v":{"$error":"#N/A"}},{"$f":"MATCH($CX$3,Millwall!$AH$152:$AW$152,0)","v":{"$error":"#N/A"}},{"$f":"MATCH($CY$3,Millwall!$AH$152:$AW$152,0)","v":{"$error":"#N/A"}},{"$f":"MATCH($CZ$3,Millwall!$AH$152:$AW$152,0)","v":{"$error":"#N/A"}},{"$f":"MATCH($DA$3,Millwall!$AH$152:$AW$152,0)","v":{"$error":"#N/A"}},{"$f":"MATCH($DB$3,Millwall!$AH$152:$AW$152,0)","v":{"$error":"#N/A"}},{"$f":"MATCH($DC$3,Millwall!$AH$152:$AW$152,0)","v":{"$error":"#N/A"}},{"$f":"MATCH($DD$3,Millwall!$AH$152:$AW$152,0)","v":{"$error":"#N/A"}},{"$f":"MATCH($DE$3,Millwall!$AH$152:$AW$152,0)","v":{"$error":"#N/A"}},{"$f":"MATCH($DF$3,Millwall!$AH$152:$AW$152,0)","v":{"$error":"#N/A"}},{"$f":"MATCH($DG$3,Millwall!$AH$152:$AW$152,0)","v":{"$error":"#N/A"}},{"$f":"MATCH($DH$3,Millwall!$AH$152:$AW$152,0)","v":{"$error":"#N/A"}},{"$f":"MATCH($DI$3,Millwall!$AH$152:$AW$152,0)","v":{"$error":"#N/A"}},{"$f":"MATCH($DJ$3,Millwall!$AH$152:$AW$152,0)","v":{"$error":"#N/A"}},{"$f":"MATCH($DK$3,Millwall!$AH$152:$AW$152,0)","v":{"$error":"#N/A"}},{"$f":"MATCH($DL$3,Millwall!$AH$152:$AW$152,0)","v":{"$error":"#N/A"}},{"$f":"MATCH($DM$3,Millwall!$AH$152:$AW$152,0)","v":{"$error":"#N/A"}},{"$f":"MATCH($DN$3,Millwall!$AH$152:$AW$152,0)","v":{"$error":"#N/A"}},{"$f":"MATCH($DO$3,Millwall!$AH$152:$AW$152,0)","v":{"$error":"#N/A"}},{"$f":"MATCH($DP$3,Millwall!$AH$152:$AW$152,0)","v":{"$error":"#N/A"}},{"$f":"MATCH($DQ$3,Millwall!$AH$152:$AW$152,0)","v":{"$error":"#N/A"}},{"$f":"MATCH($DR$3,Millwall!$AH$152:$AW$152,0)","v":{"$error":"#N/A"}},{"$f":"MATCH($DS$3,Millwall!$AH$152:$AW$152,0)","v":{"$error":"#N/A"}},{"$f":"MATCH($DT$3,Millwall!$AH$152:$AW$152,0)","v":{"$error":"#N/A"}},{"$f":"MATCH($DU$3,Millwall!$AH$152:$AW$152,0)","v":{"$error":"#N/A"}},{"$f":"MATCH($DV$3,Millwall!$AH$152:$AW$152,0)","v":{"$error":"#N/A"}},{"$f":"MATCH($DW$3,Millwall!$AH$152:$AW$152,0)","v":{"$error":"#N/A"}},{"$f":"MATCH($DX$3,Millwall!$AH$152:$AW$152,0)","v":{"$error":"#N/A"}},{"$f":"MATCH($DY$3,Millwall!$AH$152:$AW$152,0)","v":{"$error":"#N/A"}},{"$f":"MATCH($DZ$3,Millwall!$AH$152:$AW$152,0)","v":{"$error":"#N/A"}},{"$f":"MATCH($EA$3,Millwall!$AH$152:$AW$152,0)","v":{"$error":"#N/A"}},null,null,{"$f":"MATCH(ED$3,Millwall!$AH$152:$AW$152,0)","v":{"$error":"#N/A"}},{"$f":"MATCH(EE$3,Millwall!$AH$152:$AW$152,0)","v":{"$error":"#N/A"}},{"$f":"MATCH(EF$3,Millwall!$AH$152:$AW$152,0)","v":{"$error":"#N/A"}},{"$f":"MATCH(EG$3,Millwall!$AH$152:$AW$152,0)","v":{"$error":"#N/A"}},{"$f":"MATCH(EH$3,Millwall!$AH$152:$AW$152,0)","v":{"$error":"#N/A"}},{"$f":"MATCH(EI$3,Millwall!$AH$152:$AW$152,0)","v":{"$error":"#N/A"}},{"$f":"MATCH(EJ$3,Millwall!$AH$152:$AW$152,0)","v":{"$error":"#N/A"}},{"$f":"MATCH(EK$3,Millwall!$AH$152:$AW$152,0)","v":{"$error":"#N/A"}},{"$f":"MATCH(EL$3,Millwall!$AH$152:$AW$152,0)","v":{"$error":"#N/A"}},{"$f":"MATCH(EM$3,Millwall!$AH$152:$AW$152,0)","v":{"$error":"#N/A"}},{"$f":"MATCH(EN$3,Millwall!$AH$152:$AW$152,0)","v":{"$error":"#N/A"}},{"$f":"MATCH(EO$3,Millwall!$AH$152:$AW$152,0)","v":{"$error":"#N/A"}},{"$f":"MATCH(EP$3,Millwall!$AH$152:$AW$152,0)","v":{"$error":"#N/A"}},{"$f":"MATCH(EQ$3,Millwall!$AH$152:$AW$152,0)","v":{"$error":"#N/A"}},{"$f":"MATCH(ER$3,Millwall!$AH$152:$AW$152,0)","v":{"$error":"#N/A"}},{"$f":"MATCH(ES$3,Millwall!$AH$152:$AW$152,0)","v":{"$error":"#N/A"}},{"$f":"MATCH(ET$3,Millwall!$AH$152:$AW$152,0)","v":{"$error":"#N/A"}},{"$f":"MATCH(EU$3,Millwall!$AH$152:$AW$152,0)","v":{"$error":"#N/A"}},{"$f":"MATCH(EV$3,Millwall!$AH$152:$AW$152,0)","v":{"$error":"#N/A"}},{"$f":"MATCH(EW$3,Millwall!$AH$152:$AW$152,0)","v":{"$error":"#N/A"}},{"$f":"MATCH(EX$3,Millwall!$AH$152:$AW$152,0)","v":{"$error":"#N/A"}},{"$f":"MATCH(EY$3,Millwall!$AH$152:$AW$152,0)","v":{"$error":"#N/A"}},{"$f":"MATCH(EZ$3,Millwall!$AH$152:$AW$152,0)","v":{"$error":"#N/A"}},{"$f":"MATCH(FA$3,Millwall!$AH$152:$AW$152,0)","v":{"$error":"#N/A"}},{"$f":"MATCH(FB$3,Millwall!$AH$152:$AW$152,0)","v":{"$error":"#N/A"}},{"$f":"MATCH(FC$3,Millwall!$AH$152:$AW$152,0)","v":{"$error":"#N/A"}},{"$f":"MATCH(FD$3,Millwall!$AH$152:$AW$152,0)","v":{"$error":"#N/A"}},{"$f":"MATCH(FE$3,Millwall!$AH$152:$AW$152,0)","v":{"$error":"#N/A"}},{"$f":"MATCH(FF$3,Millwall!$AH$152:$AW$152,0)","v":{"$error":"#N/A"}},{"$f":"MATCH(FG$3,Millwall!$AH$152:$AW$152,0)","v":{"$error":"#N/A"}},{"$f":"MATCH(FH$3,Millwall!$AH$152:$AW$152,0)","v":{"$error":"#N/A"}},{"$f":"MATCH(FI$3,Millwall!$AH$152:$AW$152,0)","v":{"$error":"#N/A"}},{"$f":"MATCH(FJ$3,Millwall!$AH$152:$AW$152,0)","v":{"$error":"#N/A"}},{"$f":"MATCH(FK$3,Millwall!$AH$152:$AW$152,0)","v":{"$error":"#N/A"}},{"$f":"MATCH(FL$3,Millwall!$AH$152:$AW$152,0)","v":{"$error":"#N/A"}},{"$f":"MATCH(FM$3,Millwall!$AH$152:$AW$152,0)","v":{"$error":"#N/A"}},{"$f":"MATCH(FN$3,Millwall!$AH$152:$AW$152,0)","v":{"$error":"#N/A"}},{"$f":"MATCH(FO$3,Millwall!$AH$152:$AW$152,0)","v":{"$error":"#N/A"}}]
[null,null,1,null,null,{"$f":"Millwall!AD153","v":"00:00:00"},null,{"$f":"Millwall!AE153","v":"00:00:00"},{"$f":"Millwall!AF153","v":"00:00:00"},{"$f":"Millwall!AG153","v":0},{"$f":"MATCH(K$4,Millwall!$AH153:$AW153,0)","v":{"$error":"#N/A"}},{"$f":"MATCH(L$4,Millwall!$AH153:$AW153,0)","v":{"$error":"#N/A"}},{"$f":"MATCH(M$4,Millwall!$AH153:$AW153,0)","v":{"$error":"#N/A"}},{"$f":"MATCH(N$4,Millwall!$AH153:$AW153,0)","v":{"$error":"#N/A"}},{"$f":"MATCH(O$4,Millwall!$AH153:$AW153,0)","v":{"$error":"#N/A"}},{"$f":"MATCH(P$4,Millwall!$AH153:$AW153,0)","v":{"$error":"#N/A"}},{"$f":"MATCH(Q$4,Millwall!$AH153:$AW153,0)","v":{"$error":"#N/A"}},{"$f":"MATCH(R$4,Millwall!$AH153:$AW153,0)","v":{"$error":"#N/A"}},{"$f":"MATCH(S$4,Millwall!$AH153:$AW153,0)","v":{"$error":"#N/A"}},{"$f":"MATCH(T$4,Millwall!$AH153:$AW153,0)","v":{"$error":"#N/A"}},{"$f":"MATCH(U$4,Millwall!$AH153:$AW153,0)","v":{"$error":"#N/A"}},{"$f":"MATCH(V$4,Millwall!$AH153:$AW153,0)","v":{"$error":"#N/A"}},{"$f":"MATCH(W$4,Millwall!$AH153:$AW153,0)","v":{"$error":"#N/A"}},{"$f":"MATCH(X$4,Millwall!$AH153:$AW153,0)","v":{"$error":"#N/A"}},{"$f":"MATCH(Y$4,Millwall!$AH153:$AW153,0)","v":{"$error":"#N/A"}},{"$f":"MATCH(Z$4,Millwall!$AH153:$AW153,0)","v":{"$error":"#N/A"}},{"$f":"MATCH(AA$4,Millwall!$AH153:$AW153,0)","v":{"$error":"#N/A"}},{"$f":"MATCH(AB$4,Millwall!$AH153:$AW153,0)","v":{"$error":"#N/A"}},{"$f":"MATCH(AC$4,Millwall!$AH153:$AW153,0)","v":{"$error":"#N/A"}},{"$f":"MATCH(AD$4,Millwall!$AH153:$AW153,0)","v":{"$error":"#N/A"}},{"$f":"MATCH(AE$4,Millwall!$AH153:$AW153,0)","v":{"$error":"#N/A"}},{"$f":"MATCH(AF$4,Millwall!$AH153:$AW153,0)","v":{"$error":"#N/A"}},{"$f":"MATCH(AG$4,Millwall!$AH153:$AW153,0)","v":{"$error":"#N/A"}},{"$f":"MATCH(AH$4,Millwall!$AH153:$AW153,0)","v":{"$error":"#N/A"}},{"$f":"MATCH(AI$4,Millwall!$AH153:$AW153,0)","v":{"$error":"#N/A"}},{"$f":"MATCH(AJ$4,Millwall!$AH153:$AW153,0)","v":{"$error":"#N/A"}},{"$f":"MATCH(AK$4,Millwall!$AH153:$AW153,0)","v":{"$error":"#N/A"}},{"$f":"MATCH(AL$4,Millwall!$AH153:$AW153,0)","v":{"$error":"#N/A"}},{"$f":"MATCH(AM$4,Millwall!$AH153:$AW153,0)","v":{"$error":"#N/A"}},{"$f":"MATCH(AN$4,Millwall!$AH153:$AW153,0)","v":{"$error":"#N/A"}},{"$f":"MATCH(AO$4,Millwall!$AH153:$AW153,0)","v":{"$error":"#N/A"}},{"$f":"MATCH(AP$4,Millwall!$AH153:$AW153,0)","v":{"$error":"#N/A"}},{"$f":"MATCH(AQ$4,Millwall!$AH153:$AW153,0)","v":{"$error":"#N/A"}},{"$f":"MATCH(AR$4,Millwall!$AH153:$AW153,0)","v":{"$error":"#N/A"}},{"$f":"MATCH(AS$4,Millwall!$AH153:$AW153,0)","v":{"$error":"#N/A"}},{"$f":"MATCH(AT$4,Millwall!$AH153:$AW153,0)","v":{"$error":"#N/A"}},{"$f":"MATCH(AU$4,Millwall!$AH153:$AW153,0)","v":{"$error":"#N/A"}},{"$f":"MATCH(AV$4,Millwall!$AH153:$AW153,0)","v":{"$error":"#N/A"}},null,null,null,null,null,{"$f":"MATCH(BB$3,Millwall!$AH153:$AW153,0)","v":{"$error":"#N/A"}},{"$f":"MATCH(BC$3,Millwall!$AH153:$AW153,0)","v":{"$error":"#N/A"}},{"$f":"MATCH(BD$3,Millwall!$AH153:$AW153,0)","v":{"$error":"#N/A"}},{"$f":"MATCH(BE$3,Millwall!$AH153:$AW153,0)","v":{"$error":"#N/A"}},{"$f":"MATCH(BF$3,Millwall!$AH153:$AW153,0)","v":{"$error":"#N/A"}},{"$f":"MATCH(BG$3,Millwall!$AH153:$AW153,0)","v":{"$error":"#N/A"}},{"$f":"MATCH(BH$3,Millwall!$AH153:$AW153,0)","v":{"$error":"#N/A"}},{"$f":"MATCH(BI$3,Millwall!$AH153:$AW153,0)","v":{"$error":"#N/A"}},{"$f":"MATCH(BJ$3,Millwall!$AH153:$AW153,0)","v":{"$error":"#N/A"}},{"$f":"MATCH(BK$3,Millwall!$AH153:$AW153,0)","v":{"$error":"#N/A"}},{"$f":"MATCH(BL$3,Millwall!$AH153:$AW153,0)","v":{"$error":"#N/A"}},{"$f":"MATCH(BM$3,Millwall!$AH153:$AW153,0)","v":{"$error":"#N/A"}},{"$f":"MATCH(BN$3,Millwall!$AH153:$AW153,0)","v":{"$error":"#N/A"}},{"$f":"MATCH(BO$3,Millwall!$AH153:$AW153,0)","v":{"$error":"#N/A"}},{"$f":"MATCH(BP$3,Millwall!$AH153:$AW153,0)","v":{"$error":"#N/A"}},{"$f":"MATCH(BQ$3,Millwall!$AH153:$AW153,0)","v":{"$error":"#N/A"}},{"$f":"MATCH(BR$3,Millwall!$AH153:$AW153,0)","v":{"$error":"#N/A"}},{"$f":"MATCH(BS$3,Millwall!$AH153:$AW153,0)","v":{"$error":"#N/A"}},{"$f":"MATCH(BT$3,Millwall!$AH153:$AW153,0)","v":{"$error":"#N/A"}},{"$f":"MATCH(BU$3,Millwall!$AH153:$AW153,0)","v":{"$error":"#N/A"}},{"$f":"MATCH(BV$3,Millwall!$AH153:$AW153,0)","v":{"$error":"#N/A"}},{"$f":"MATCH(BW$3,Millwall!$AH153:$AW153,0)","v":{"$error":"#N/A"}},{"$f":"MATCH(BX$3,Millwall!$AH153:$AW153,0)","v":{"$error":"#N/A"}},{"$f":"MATCH(BY$3,Millwall!$AH153:$AW153,0)","v":{"$error":"#N/A"}},{"$f":"MATCH(BZ$3,Millwall!$AH153:$AW153,0)","v":{"$error":"#N/A"}},{"$f":"MATCH(CA$3,Millwall!$AH153:$AW153,0)","v":{"$error":"#N/A"}},{"$f":"MATCH(CB$3,Millwall!$AH153:$AW153,0)","v":{"$error":"#N/A"}},{"$f":"MATCH(CC$3,Millwall!$AH153:$AW153,0)","v":{"$error":"#N/A"}},{"$f":"MATCH(CD$3,Millwall!$AH153:$AW153,0)","v":{"$error":"#N/A"}},{"$f":"MATCH(CE$3,Millwall!$AH153:$AW153,0)","v":{"$error":"#N/A"}},{"$f":"MATCH(CF$3,Millwall!$AH153:$AW153,0)","v":{"$error":"#N/A"}},{"$f":"MATCH(CG$3,Millwall!$AH153:$AW153,0)","v":{"$error":"#N/A"}},{"$f":"MATCH(CH$3,Millwall!$AH153:$AW153,0)","v":{"$error":"#N/A"}},{"$f":"MATCH(CI$3,Millwall!$AH153:$AW153,0)","v":{"$error":"#N/A"}},{"$f":"MATCH(CJ$3,Millwall!$AH153:$AW153,0)","v":{"$error":"#N/A"}},{"$f":"MATCH(CK$3,Millwall!$AH153:$AW153,0)","v":{"$error":"#N/A"}},{"$f":"MATCH(CL$3,Millwall!$AH153:$AW153,0)","v":{"$error":"#N/A"}},{"$f":"MATCH(CM$3,Millwall!$AH153:$AW153,0)","v":{"$error":"#N/A"}},null,null,{"$f":"MATCH($CP$3,Millwall!$AH$153:$AW$153,0)","v":{"$error":"#N/A"}},{"$f":"MATCH($CQ$3,Millwall!$AH$153:$AW$153,0)","v":{"$error":"#N/A"}},{"$f":"MATCH($CR$3,Millwall!$AH$153:$AW$153,0)","v":{"$error":"#N/A"}},{"$f":"MATCH($CS$3,Millwall!$AH$153:$AW$153,0)","v":{"$error":"#N/A"}},{"$f":"MATCH($CT$3,Millwall!$AH$153:$AW$153,0)","v":{"$error":"#N/A"}},{"$f":"MATCH($CU$3,Millwall!$AH$153:$AW$153,0)","v":{"$error":"#N/A"}},{"$f":"MATCH($CV$3,Millwall!$AH$153:$AW$153,0)","v":{"$error":"#N/A"}},{"$f":"MATCH($CW$3,Millwall!$AH$153:$AW$153,0)","v":{"$error":"#N/A"}},{"$f":"MATCH($CX$3,Millwall!$AH$153:$AW$153,0)","v":{"$error":"#N/A"}},{"$f":"MATCH($CY$3,Millwall!$AH$153:$AW$153,0)","v":{"$error":"#N/A"}},{"$f":"MATCH($CZ$3,Millwall!$AH$153:$AW$153,0)","v":{"$error":"#N/A"}},{"$f":"MATCH($DA$3,Millwall!$AH$153:$AW$153,0)","v":{"$error":"#N/A"}},{"$f":"MATCH($DB$3,Millwall!$AH$153:$AW$153,0)","v":{"$error":"#N/A"}},{"$f":"MATCH($DC$3,Millwall!$AH$153:$AW$153,0)","v":{"$error":"#N/A"}},{"$f":"MATCH($DD$3,Millwall!$AH$153:$AW$153,0)","v":{"$error":"#N/A"}},{"$f":"MATCH($DE$3,Millwall!$AH$153:$AW$153,0)","v":{"$error":"#N/A"}},{"$f":"MATCH($DF$3,Millwall!$AH$153:$AW$153,0)","v":{"$error":"#N/A"}},{"$f":"MATCH($DG$3,Millwall!$AH$153:$AW$153,0)","v":{"$error":"#N/A"}},{"$f":"MATCH($DH$3,Millwall!$AH$153:$AW$153,0)","v":{"$error":"#N/A"}},{"$f":"MATCH($DI$3,Millwall!$AH$153:$AW$153,0)","v":{"$error":"#N/A"}},{"$f":"MATCH($DJ$3,Millwall!$AH$153:$AW$153,0)","v":{"$error":"#N/A"}},{"$f":"MATCH($DK$3,Millwall!$AH$153:$AW$153,0)","v":{"$error":"#N/A"}},{"$f":"MATCH($DL$3,Millwall!$AH$153:$AW$153,0)","v":{"$error":"#N/A"}},{"$f":"MATCH($DM$3,Millwall!$AH$153:$AW$153,0)","v":{"$error":"#N/A"}},{"$f":"MATCH($DN$3,Millwall!$AH$153:$AW$153,0)","v":{"$error":"#N/A"}},{"$f":"MATCH($DO$3,Millwall!$AH$153:$AW$153,0)","v":{"$error":"#N/A"}},{"$f":"MATCH($DP$3,Millwall!$AH$153:$AW$153,0)","v":{"$error":"#N/A"}},{"$f":"MATCH($DQ$3,Millwall!$AH$153:$AW$153,0)","v":{"$error":"#N/A"}},{"$f":"MATCH($DR$3,Millwall!$AH$153:$AW$153,0)","v":{"$error":"#N/A"}},{"$f":"MATCH($DS$3,Millwall!$AH$153:$AW$153,0)","v":{"$error":"#N/A"}},{"$f":"MATCH($DT$3,Millwall!$AH$153:$AW$153,0)","v":{"$error":"#N/A"}},{"$f":"MATCH($DU$3,Millwall!$AH$153:$AW$153,0)","v":{"$error":"#N/A"}},{"$f":"MATCH($DV$3,Millwall!$AH$153:$AW$153,0)","v":{"$error":"#N/A"}},{"$f":"MATCH($DW$3,Millwall!$AH$153:$AW$153,0)","v":{"$error":"#N/A"}},{"$f":"MATCH($DX$3,Millwall!$AH$153:$AW$153,0)","v":{"$error":"#N/A"}},{"$f":"MATCH($DY$3,Millwall!$AH$153:$AW$153,0)","v":{"$error":"#N/A"}},{"$f":"MATCH($DZ$3,Millwall!$AH$153:$AW$153,0)","v":{"$error":"#N/A"}},{"$f":"MATCH($EA$3,Millwall!$AH$153:$AW$153,0)","v":{"$error":"#N/A"}},null,null,{"$f":"MATCH(ED$3,Millwall!$AH$153:$AW$153,0)","v":{"$error":"#N/A"}},{"$f":"MATCH(EE$3,Millwall!$AH$153:$AW$153,0)","v":{"$error":"#N/A"}},{"$f":"MATCH(EF$3,Millwall!$AH$153:$AW$153,0)","v":{"$error":"#N/A"}},{"$f":"MATCH(EG$3,Millwall!$AH$153:$AW$153,0)","v":{"$error":"#N/A"}},{"$f":"MATCH(EH$3,Millwall!$AH$153:$AW$153,0)","v":{"$error":"#N/A"}},{"$f":"MATCH(EI$3,Millwall!$AH$153:$AW$153,0)","v":{"$error":"#N/A"}},{"$f":"MATCH(EJ$3,Millwall!$AH$153:$AW$153,0)","v":{"$error":"#N/A"}},{"$f":"MATCH(EK$3,Millwall!$AH$153:$AW$153,0)","v":{"$error":"#N/A"}},{"$f":"MATCH(EL$3,Millwall!$AH$153:$AW$153,0)","v":{"$error":"#N/A"}},{"$f":"MATCH(EM$3,Millwall!$AH$153:$AW$153,0)","v":{"$error":"#N/A"}},{"$f":"MATCH(EN$3,Millwall!$AH$153:$AW$153,0)","v":{"$error":"#N/A"}},{"$f":"MATCH(EO$3,Millwall!$AH$153:$AW$153,0)","v":{"$error":"#N/A"}},{"$f":"MATCH(EP$3,Millwall!$AH$153:$AW$153,0)","v":{"$error":"#N/A"}},{"$f":"MATCH(EQ$3,Millwall!$AH$153:$AW$153,0)","v":{"$error":"#N/A"}},{"$f":"MATCH(ER$3,Millwall!$AH$153:$AW$153,0)","v":{"$error":"#N/A"}},{"$f":"MATCH(ES$3,Millwall!$AH$153:$AW$153,0)","v":{"$error":"#N/A"}},{"$f":"MATCH(ET$3,Millwall!$AH$153:$AW$153,0)","v":{"$error":"#N/A"}},{"$f":"MATCH(EU$3,Millwall!$AH$153:$AW$153,0)","v":{"$error":"#N/A"}},{"$f":"MATCH(EV$3,Millwall!$AH$153:$AW$153,0)","v":{"$error":"#N/A"}},{"$f":"MATCH(EW$3,Millwall!$AH$153:$AW$153,0)","v":{"$error":"#N/A"}},{"$f":"MATCH(EX$3,Millwall!$AH$153:$AW$153,0)","v":{"$error":"#N/A"}},{"$f":"MATCH(EY$3,Millwall!$AH$153:$AW$153,0)","v":{"$error":"#N/A"}},{"$f":"MATCH(EZ$3,Millwall!$AH$153:$AW$153,0)","v":{"$error":"#N/A"}},{"$f":"MATCH(FA$3,Millwall!$AH$153:$AW$153,0)","v":{"$error":"#N/A"}},{"$f":"MATCH(FB$3,Millwall!$AH$153:$AW$153,0)","v":{"$error":"#N/A"}},{"$f":"MATCH(FC$3,Millwall!$AH$153:$AW$153,0)","v":{"$error":"#N/A"}},{"$f":"MATCH(FD$3,Millwall!$AH$153:$AW$153,0)","v":{"$error":"#N/A"}},{"$f":"MATCH(FE$3,Millwall!$AH$153:$AW$153,0)","v":{"$error":"#N/A"}},{"$f":"MATCH(FF$3,Millwall!$AH$153:$AW$153,0)","v":{"$error":"#N/A"}},{"$f":"MATCH(FG$3,Millwall!$AH$153:$AW$153,0)","v":{"$error":"#N/A"}},{"$f":"MATCH(FH$3,Millwall!$AH$153:$AW$153,0)","v":{"$error":"#N/A"}},{"$f":"MATCH(FI$3,Millwall!$AH$153:$AW$153,0)","v":{"$error":"#N/A"}},{"$f":"MATCH(FJ$3,Millwall!$AH$153:$AW$153,0)","v":{"$error":"#N/A"}},{"$f":"MATCH(FK$3,Millwall!$AH$153:$AW$153,0)","v":{"$error":"#N/A"}},{"$f":"MATCH(FL$3,Millwall!$AH$153:$AW$153,0)","v":{"$error":"#N/A"}},{"$f":"MATCH(FM$3,Millwall!$AH$153:$AW$153,0)","v":{"$error":"#N/A"}},{"$f":"MATCH(FN$3,Millwall!$AH$153:$AW$153,0)","v":{"$error":"#N/A"}},{"$f":"MATCH(FO$3,Millwall!$AH$153:$AW$153,0)","v":{"$error":"#N/A"}}]
[null,null,1,null,null,{"$f":"Millwall!AD154","v":"00:00:00"},null,{"$f":"Millwall!AE154","v":"00:00:00"},{"$f":"Millwall!AF154","v":"00:00:00"},{"$f":"Millwall!AG154","v":0},{"$f":"MATCH(K$4,Millwall!$AH154:$AW154,0)","v":{"$error":"#N/A"}},{"$f":"MATCH(L$4,Millwall!$AH154:$AW154,0)","v":{"$error":"#N/A"}},{"$f":"MATCH(M$4,Millwall!$AH154:$AW154,0)","v":{"$error":"#N/A"}},{"$f":"MATCH(N$4,Millwall!$AH154:$AW154,0)","v":{"$error":"#N/A"}},{"$f":"MATCH(O$4,Millwall!$AH154:$AW154,0)","v":{"$error":"#N/A"}},{"$f":"MATCH(P$4,Millwall!$AH154:$AW154,0)","v":{"$error":"#N/A"}},{"$f":"MATCH(Q$4,Millwall!$AH154:$AW154,0)","v":{"$error":"#N/A"}},{"$f":"MATCH(R$4,Millwall!$AH154:$AW154,0)","v":{"$error":"#N/A"}},{"$f":"MATCH(S$4,Millwall!$AH154:$AW154,0)","v":{"$error":"#N/A"}},{"$f":"MATCH(T$4,Millwall!$AH154:$AW154,0)","v":{"$error":"#N/A"}},{"$f":"MATCH(U$4,Millwall!$AH154:$AW154,0)","v":{"$error":"#N/A"}},{"$f":"MATCH(V$4,Millwall!$AH154:$AW154,0)","v":{"$error":"#N/A"}},{"$f":"MATCH(W$4,Millwall!$AH154:$AW154,0)","v":{"$error":"#N/A"}},{"$f":"MATCH(X$4,Millwall!$AH154:$AW154,0)","v":{"$error":"#N/A"}},{"$f":"MATCH(Y$4,Millwall!$AH154:$AW154,0)","v":{"$error":"#N/A"}},{"$f":"MATCH(Z$4,Millwall!$AH154:$AW154,0)","v":{"$error":"#N/A"}},{"$f":"MATCH(AA$4,Millwall!$AH154:$AW154,0)","v":{"$error":"#N/A"}},{"$f":"MATCH(AB$4,Millwall!$AH154:$AW154,0)","v":{"$error":"#N/A"}},{"$f":"MATCH(AC$4,Millwall!$AH154:$AW154,0)","v":{"$error":"#N/A"}},{"$f":"MATCH(AD$4,Millwall!$AH154:$AW154,0)","v":{"$error":"#N/A"}},{"$f":"MATCH(AE$4,Millwall!$AH154:$AW154,0)","v":{"$error":"#N/A"}},{"$f":"MATCH(AF$4,Millwall!$AH154:$AW154,0)","v":{"$error":"#N/A"}},{"$f":"MATCH(AG$4,Millwall!$AH154:$AW154,0)","v":{"$error":"#N/A"}},{"$f":"MATCH(AH$4,Millwall!$AH154:$AW154,0)","v":{"$error":"#N/A"}},{"$f":"MATCH(AI$4,Millwall!$AH154:$AW154,0)","v":{"$error":"#N/A"}},{"$f":"MATCH(AJ$4,Millwall!$AH154:$AW154,0)","v":{"$error":"#N/A"}},{"$f":"MATCH(AK$4,Millwall!$AH154:$AW154,0)","v":{"$error":"#N/A"}},{"$f":"MATCH(AL$4,Millwall!$AH154:$AW154,0)","v":{"$error":"#N/A"}},{"$f":"MATCH(AM$4,Millwall!$AH154:$AW154,0)","v":{"$error":"#N/A"}},{"$f":"MATCH(AN$4,Millwall!$AH154:$AW154,0)","v":{"$error":"#N/A"}},{"$f":"MATCH(AO$4,Millwall!$AH154:$AW154,0)","v":{"$error":"#N/A"}},{"$f":"MATCH(AP$4,Millwall!$AH154:$AW154,0)","v":{"$error":"#N/A"}},{"$f":"MATCH(AQ$4,Millwall!$AH154:$AW154,0)","v":{"$error":"#N/A"}},{"$f":"MATCH(AR$4,Millwall!$AH154:$AW154,0)","v":{"$error":"#N/A"}},{"$f":"MATCH(AS$4,Millwall!$AH154:$AW154,0)","v":{"$error":"#N/A"}},{"$f":"MATCH(AT$4,Millwall!$AH154:$AW154,0)","v":{"$error":"#N/A"}},{"$f":"MATCH(AU$4,Millwall!$AH154:$AW154,0)","v":{"$error":"#N/A"}},{"$f":"MATCH(AV$4,Millwall!$AH154:$AW154,0)","v":{"$error":"#N/A"}},null,null,null,null,null,{"$f":"MATCH(BB$3,Millwall!$AH154:$AW154,0)","v":{"$error":"#N/A"}},{"$f":"MATCH(BC$3,Millwall!$AH154:$AW154,0)","v":{"$error":"#N/A"}},{"$f":"MATCH(BD$3,Millwall!$AH154:$AW154,0)","v":{"$error":"#N/A"}},{"$f":"MATCH(BE$3,Millwall!$AH154:$AW154,0)","v":{"$error":"#N/A"}},{"$f":"MATCH(BF$3,Millwall!$AH154:$AW154,0)","v":{"$error":"#N/A"}},{"$f":"MATCH(BG$3,Millwall!$AH154:$AW154,0)","v":{"$error":"#N/A"}},{"$f":"MATCH(BH$3,Millwall!$AH154:$AW154,0)","v":{"$error":"#N/A"}},{"$f":"MATCH(BI$3,Millwall!$AH154:$AW154,0)","v":{"$error":"#N/A"}},{"$f":"MATCH(BJ$3,Millwall!$AH154:$AW154,0)","v":{"$error":"#N/A"}},{"$f":"MATCH(BK$3,Millwall!$AH154:$AW154,0)","v":{"$error":"#N/A"}},{"$f":"MATCH(BL$3,Millwall!$AH154:$AW154,0)","v":{"$error":"#N/A"}},{"$f":"MATCH(BM$3,Millwall!$AH154:$AW154,0)","v":{"$error":"#N/A"}},{"$f":"MATCH(BN$3,Millwall!$AH154:$AW154,0)","v":{"$error":"#N/A"}},{"$f":"MATCH(BO$3,Millwall!$AH154:$AW154,0)","v":{"$error":"#N/A"}},{"$f":"MATCH(BP$3,Millwall!$AH154:$AW154,0)","v":{"$error":"#N/A"}},{"$f":"MATCH(BQ$3,Millwall!$AH154:$AW154,0)","v":{"$error":"#N/A"}},{"$f":"MATCH(BR$3,Millwall!$AH154:$AW154,0)","v":{"$error":"#N/A"}},{"$f":"MATCH(BS$3,Millwall!$AH154:$AW154,0)","v":{"$error":"#N/A"}},{"$f":"MATCH(BT$3,Millwall!$AH154:$AW154,0)","v":{"$error":"#N/A"}},{"$f":"MATCH(BU$3,Millwall!$AH154:$AW154,0)","v":{"$error":"#N/A"}},{"$f":"MATCH(BV$3,Millwall!$AH154:$AW154,0)","v":{"$error":"#N/A"}},{"$f":"MATCH(BW$3,Millwall!$AH154:$AW154,0)","v":{"$error":"#N/A"}},{"$f":"MATCH(BX$3,Millwall!$AH154:$AW154,0)","v":{"$error":"#N/A"}},{"$f":"MATCH(BY$3,Millwall!$AH154:$AW154,0)","v":{"$error":"#N/A"}},{"$f":"MATCH(BZ$3,Millwall!$AH154:$AW154,0)","v":{"$error":"#N/A"}},{"$f":"MATCH(CA$3,Millwall!$AH154:$AW154,0)","v":{"$error":"#N/A"}},{"$f":"MATCH(CB$3,Millwall!$AH154:$AW154,0)","v":{"$error":"#N/A"}},{"$f":"MATCH(CC$3,Millwall!$AH154:$AW154,0)","v":{"$error":"#N/A"}},{"$f":"MATCH(CD$3,Millwall!$AH154:$AW154,0)","v":{"$error":"#N/A"}},{"$f":"MATCH(CE$3,Millwall!$AH154:$AW154,0)","v":{"$error":"#N/A"}},{"$f":"MATCH(CF$3,Millwall!$AH154:$AW154,0)","v":{"$error":"#N/A"}},{"$f":"MATCH(CG$3,Millwall!$AH154:$AW154,0)","v":{"$error":"#N/A"}},{"$f":"MATCH(CH$3,Millwall!$AH154:$AW154,0)","v":{"$error":"#N/A"}},{"$f":"MATCH(CI$3,Millwall!$AH154:$AW154,0)","v":{"$error":"#N/A"}},{"$f":"MATCH(CJ$3,Millwall!$AH154:$AW154,0)","v":{"$error":"#N/A"}},{"$f":"MATCH(CK$3,Millwall!$AH154:$AW154,0)","v":{"$error":"#N/A"}},{"$f":"MATCH(CL$3,Millwall!$AH154:$AW154,0)","v":{"$error":"#N/A"}},{"$f":"MATCH(CM$3,Millwall!$AH154:$AW154,0)","v":{"$error":"#N/A"}},null,null,{"$f":"MATCH($CP$3,Millwall!$AH$154:$AW$154,0)","v":{"$error":"#N/A"}},{"$f":"MATCH($CQ$3,Millwall!$AH$154:$AW$154,0)","v":{"$error":"#N/A"}},{"$f":"MATCH($CR$3,Millwall!$AH$154:$AW$154,0)","v":{"$error":"#N/A"}},{"$f":"MATCH($CS$3,Millwall!$AH$154:$AW$154,0)","v":{"$error":"#N/A"}},{"$f":"MATCH($CT$3,Millwall!$AH$154:$AW$154,0)","v":{"$error":"#N/A"}},{"$f":"MATCH($CU$3,Millwall!$AH$154:$AW$154,0)","v":{"$error":"#N/A"}},{"$f":"MATCH($CV$3,Millwall!$AH$154:$AW$154,0)","v":{"$error":"#N/A"}},{"$f":"MATCH($CW$3,Millwall!$AH$154:$AW$154,0)","v":{"$error":"#N/A"}},{"$f":"MATCH($CX$3,Millwall!$AH$154:$AW$154,0)","v":{"$error":"#N/A"}},{"$f":"MATCH($CY$3,Millwall!$AH$154:$AW$154,0)","v":{"$error":"#N/A"}},{"$f":"MATCH($CZ$3,Millwall!$AH$154:$AW$154,0)","v":{"$error":"#N/A"}},{"$f":"MATCH($DA$3,Millwall!$AH$154:$AW$154,0)","v":{"$error":"#N/A"}},{"$f":"MATCH($DB$3,Millwall!$AH$154:$AW$154,0)","v":{"$error":"#N/A"}},{"$f":"MATCH($DC$3,Millwall!$AH$154:$AW$154,0)","v":{"$error":"#N/A"}},{"$f":"MATCH($DD$3,Millwall!$AH$154:$AW$154,0)","v":{"$error":"#N/A"}},{"$f":"MATCH($DE$3,Millwall!$AH$154:$AW$154,0)","v":{"$error":"#N/A"}},{"$f":"MATCH($DF$3,Millwall!$AH$154:$AW$154,0)","v":{"$error":"#N/A"}},{"$f":"MATCH($DG$3,Millwall!$AH$154:$AW$154,0)","v":{"$error":"#N/A"}},{"$f":"MATCH($DH$3,Millwall!$AH$154:$AW$154,0)","v":{"$error":"#N/A"}},{"$f":"MATCH($DI$3,Millwall!$AH$154:$AW$154,0)","v":{"$error":"#N/A"}},{"$f":"MATCH($DJ$3,Millwall!$AH$154:$AW$154,0)","v":{"$error":"#N/A"}},{"$f":"MATCH($DK$3,Millwall!$AH$154:$AW$154,0)","v":{"$error":"#N/A"}},{"$f":"MATCH($DL$3,Millwall!$AH$154:$AW$154,0)","v":{"$error":"#N/A"}},{"$f":"MATCH($DM$3,Millwall!$AH$154:$AW$154,0)","v":{"$error":"#N/A"}},{"$f":"MATCH($DN$3,Millwall!$AH$154:$AW$154,0)","v":{"$error":"#N/A"}},{"$f":"MATCH($DO$3,Millwall!$AH$154:$AW$154,0)","v":{"$error":"#N/A"}},{"$f":"MATCH($DP$3,Millwall!$AH$154:$AW$154,0)","v":{"$error":"#N/A"}},{"$f":"MATCH($DQ$3,Millwall!$AH$154:$AW$154,0)","v":{"$error":"#N/A"}},{"$f":"MATCH($DR$3,Millwall!$AH$154:$AW$154,0)","v":{"$error":"#N/A"}},{"$f":"MATCH($DS$3,Millwall!$AH$154:$AW$154,0)","v":{"$error":"#N/A"}},{"$f":"MATCH($DT$3,Millwall!$AH$154:$AW$154,0)","v":{"$error":"#N/A"}},{"$f":"MATCH($DU$3,Millwall!$AH$154:$AW$154,0)","v":{"$error":"#N/A"}},{"$f":"MATCH($DV$3,Millwall!$AH$154:$AW$154,0)","v":{"$error":"#N/A"}},{"$f":"MATCH($DW$3,Millwall!$AH$154:$AW$154,0)","v":{"$error":"#N/A"}},{"$f":"MATCH($DX$3,Millwall!$AH$154:$AW$154,0)","v":{"$error":"#N/A"}},{"$f":"MATCH($DY$3,Millwall!$AH$154:$AW$154,0)","v":{"$error":"#N/A"}},{"$f":"MATCH($DZ$3,Millwall!$AH$154:$AW$154,0)","v":{"$error":"#N/A"}},{"$f":"MATCH($EA$3,Millwall!$AH$154:$AW$154,0)","v":{"$error":"#N/A"}},null,null,{"$f":"MATCH(ED$3,Millwall!$AH$154:$AW$154,0)","v":{"$error":"#N/A"}},{"$f":"MATCH(EE$3,Millwall!$AH$154:$AW$154,0)","v":{"$error":"#N/A"}},{"$f":"MATCH(EF$3,Millwall!$AH$154:$AW$154,0)","v":{"$error":"#N/A"}},{"$f":"MATCH(EG$3,Millwall!$AH$154:$AW$154,0)","v":{"$error":"#N/A"}},{"$f":"MATCH(EH$3,Millwall!$AH$154:$AW$154,0)","v":{"$error":"#N/A"}},{"$f":"MATCH(EI$3,Millwall!$AH$154:$AW$154,0)","v":{"$error":"#N/A"}},{"$f":"MATCH(EJ$3,Millwall!$AH$154:$AW$154,0)","v":{"$error":"#N/A"}},{"$f":"MATCH(EK$3,Millwall!$AH$154:$AW$154,0)","v":{"$error":"#N/A"}},{"$f":"MATCH(EL$3,Millwall!$AH$154:$AW$154,0)","v":{"$error":"#N/A"}},{"$f":"MATCH(EM$3,Millwall!$AH$154:$AW$154,0)","v":{"$error":"#N/A"}},{"$f":"MATCH(EN$3,Millwall!$AH$154:$AW$154,0)","v":{"$error":"#N/A"}},{"$f":"MATCH(EO$3,Millwall!$AH$154:$AW$154,0)","v":{"$error":"#N/A"}},{"$f":"MATCH(EP$3,Millwall!$AH$154:$AW$154,0)","v":{"$error":"#N/A"}},{"$f":"MATCH(EQ$3,Millwall!$AH$154:$AW$154,0)","v":{"$error":"#N/A"}},{"$f":"MATCH(ER$3,Millwall!$AH$154:$AW$154,0)","v":{"$error":"#N/A"}},{"$f":"MATCH(ES$3,Millwall!$AH$154:$AW$154,0)","v":{"$error":"#N/A"}},{"$f":"MATCH(ET$3,Millwall!$AH$154:$AW$154,0)","v":{"$error":"#N/A"}},{"$f":"MATCH(EU$3,Millwall!$AH$154:$AW$154,0)","v":{"$error":"#N/A"}},{"$f":"MATCH(EV$3,Millwall!$AH$154:$AW$154,0)","v":{"$error":"#N/A"}},{"$f":"MATCH(EW$3,Millwall!$AH$154:$AW$154,0)","v":{"$error":"#N/A"}},{"$f":"MATCH(EX$3,Millwall!$AH$154:$AW$154,0)","v":{"$error":"#N/A"}},{"$f":"MATCH(EY$3,Millwall!$AH$154:$AW$154,0)","v":{"$error":"#N/A"}},{"$f":"MATCH(EZ$3,Millwall!$AH$154:$AW$154,0)","v":{"$error":"#N/A"}},{"$f":"MATCH(FA$3,Millwall!$AH$154:$AW$154,0)","v":{"$error":"#N/A"}},{"$f":"MATCH(FB$3,Millwall!$AH$154:$AW$154,0)","v":{"$error":"#N/A"}},{"$f":"MATCH(FC$3,Millwall!$AH$154:$AW$154,0)","v":{"$error":"#N/A"}},{"$f":"MATCH(FD$3,Millwall!$AH$154:$AW$154,0)","v":{"$error":"#N/A"}},{"$f":"MATCH(FE$3,Millwall!$AH$154:$AW$154,0)","v":{"$error":"#N/A"}},{"$f":"MATCH(FF$3,Millwall!$AH$154:$AW$154,0)","v":{"$error":"#N/A"}},{"$f":"MATCH(FG$3,Millwall!$AH$154:$AW$154,0)","v":{"$error":"#N/A"}},{"$f":"MATCH(FH$3,Millwall!$AH$154:$AW$154,0)","v":{"$error":"#N/A"}},{"$f":"MATCH(FI$3,Millwall!$AH$154:$AW$154,0)","v":{"$error":"#N/A"}},{"$f":"MATCH(FJ$3,Millwall!$AH$154:$AW$154,0)","v":{"$error":"#N/A"}},{"$f":"MATCH(FK$3,Millwall!$AH$154:$AW$154,0)","v":{"$error":"#N/A"}},{"$f":"MATCH(FL$3,Millwall!$AH$154:$AW$154,0)","v":{"$error":"#N/A"}},{"$f":"MATCH(FM$3,Millwall!$AH$154:$AW$154,0)","v":{"$error":"#N/A"}},{"$f":"MATCH(FN$3,Millwall!$AH$154:$AW$154,0)","v":{"$error":"#N/A"}},{"$f":"MATCH(FO$3,Millwall!$AH$154:$AW$154,0)","v":{"$error":"#N/A"}}]
[null,null,{"$f":"IF(J$91=0,1,0)","v":0}]
[null,null,0,null,null,null,null,null,null,"Total AutoWindscreensTrophy Apperances",{"$f":"COUNT($K$91:$K$99)-$K$102-$K$103","v":0},{"$f":"COUNT($L$91:$L$99)-$L$102-$L$103","v":0},{"$f":"COUNT($M$91:$M$99)-$M$102-$M$103","v":0},{"$f":"COUNT($N$91:$N$99)-$N$102-$N$103","v":0},{"$f":"COUNT($O$91:$O$99)-$O$102-$O$103","v":1},{"$f":"COUNT($P$91:$P$99)-$P$102-$P$103","v":0},{"$f":"COUNT($Q$91:$Q$99)-$Q$102-$Q$103","v":0},{"$f":"COUNT($R$91:$R$99)-$R$102-$R$103","v":1},{"$f":"COUNT($S$91:$S$99)-$S$102-$S$103","v":2},{"$f":"COUNT($T$91:$T$99)-$T$102-$T$103","v":1},{"$f":"COUNT($U$91:$U$99)-$U$102-$U$103","v":2},{"$f":"COUNT($V$91:$V$99)-$V$102-$V$103","v":1},{"$f":"COUNT($W$91:$W$99)-$W$102-$W$103","v":0},{"$f":"COUNT($X$91:$X$99)-$X$102-$X$103","v":0},{"$f":"COUNT($Y$91:$Y$99)-$Y$102-$Y$103","v":1},{"$f":"COUNT($Z$91:$Z$99)-$Z$102-$Z$103","v":1},{"$f":"COUNT($AA$91:$AA$99)-$AA$102-$AA$103","v":0},{"$f":"COUNT($AB$91:$AB$99)-$AB$102-$AB$103","v":0},{"$f":"COUNT($AC$91:$AC$99)-$AC$102-$AC$103","v":1},{"$f":"COUNT($AD$91:$AD$99)-$AD$102-$AD$103","v":1},{"$f":"COUNT($AE$91:$AE$99)-$AE$102-$AE$103","v":0},{"$f":"COUNT($AF$91:$AF$99)-$AF$102-$AF$103","v":0},{"$f":"COUNT($AG$91:$AG$99)-$AG$102-$AG$103","v":0},{"$f":"COUNT($AH$91:$AH$99)-$AH$102-$AH$103","v":1},{"$f":"COUNT($AI$91:$AI$99)-$AI$102-$AI$103","v":2},{"$f":"COUNT($AJ$91:$AJ$99)-$AJ$102-$AJ$103","v":0},{"$f":"COUNT($AK$91:$AK$99)-$AK$102-$AK$103","v":0},{"$f":"COUNT($AL$91:$AL$99)-$AL$102-$AL$103","v":1},{"$f":"COUNT($AM$91:$AM$99)-$AM$102-$AM$103","v":0},{"$f":"COUNT($AN$91:$AN$99)-$AN$102-$AN$103","v":1},{"$f":"COUNT($AO$91:$AO$99)-$AO$102-$AO$103","v":1},{"$f":"COUNT($AP$91:$AP$99)-$AP$102-$AP$103","v":0},{"$f":"COUNT($AQ$91:$AQ$99)-$AQ$102-$AQ$103","v":1},{"$f":"COUNT($AR$91:$AR$99)-$AR$102-$AR$103","v":2},{"$f":"COUNT($AS$91:$AS$99)-$AS$102-$AS$103","v":1},{"$f":"COUNT($AT$91:$AT$99)-$AT$102-$AT$103","v":0},{"$f":"COUNT($AU$91:$AU$99)-$AU$102-$AU$103","v":0},{"$f":"COUNT($AV$91:$AV$99)-$AV$102-$AV$103","v":0}]
[null,null,0,null,null,null,null,null,null,"Total AutoWindscreensTrophy Sub Appearences ",{"$f":"$BB$102+$CP$102","v":0},{"$f":"$BC$102+$CQ$102","v":0},{"$f":"$BD$102+$CR$102","v":0},{"$f":"$BE$102+$CS$102","v":0},{"$f":"$BF$102+$CT$102","v":0},{"$f":"$BG$102+$CU$102","v":0},{"$f":"$BH$102+$CV$102","v":0},{"$f":"$BI$102+$CW$102","v":0},{"$f":"$BJ$102+$CX$102","v":0},{"$f":"$BK$102+$CY$102","v":0},{"$f":"$BL$102+$CZ$102","v":0},{"$f":"$BM$102+$DA$102","v":0},{"$f":"$BN$102+$DB$102","v":0},{"$f":"$BO$102+$DC$102","v":0},{"$f":"$BP$102+$DD$102","v":0},{"$f":"$BQ$102+$DE$102","v":0},{"$f":"$BR$102+$DF$102","v":0},{"$f":"$BS$102+$DG$102","v":0},{"$f":"$BT$102+$DH$102","v":0},{"$f":"$BU$102+$DI$102","v":0},{"$f":"$BV$102+$DJ$102","v":0},{"$f":"$BW$102+$DK$102","v":0},{"$f":"$BX$102+$DL$102","v":1},{"$f":"$BY$102+$DM$102","v":0},{"$f":"$BZ$102+$DN$102","v":0},{"$f":"$CA$102+$DO$102","v":0},{"$f":"$CB$102+$DP$102","v":0},{"$f":"$CC$102+$DQ$102","v":0},{"$f":"$CD$102+$DR$102","v":0},{"$f":"$CE$102+$DS$102","v":0},{"$f":"$CF$102+$DT$102","v":1},{"$f":"$CG$102+$DU$102","v":0},{"$f":"$CH$102+$DV$102","v":0},{"$f":"$CI$102+$DW$102","v":0},{"$f":"$CH$102+$DV$102","v":0},{"$f":"$CI$102+$DW$102","v":0},{"$f":"$CH$102+$DV$102","v":0},{"$f":"$CI$102+$DW$102","v":0},null,null,null,null,null,{"$f":"COUNTIF(BB91:BB99,12)","v":0},{"$f":"COUNTIF(BC91:BC99,12)","v":0},0,0,0,0,0,0,0,0,0,0,0,0,0,0,0,0,0,0,0,0,1,0,0,0,0,0,0,0,1,0,0,0,0,0,0,0,null,null,{"$f":"COUNTIF(CP91:CP99,14)","v":0},{"$f":"COUNTIF(CQ91:CQ99,14)","v":0},0,0,0,0,0,0,0,0,0,0,0,0,0,0,0,0,0,0,0,0,0,0,0,0,0,0,0,0,0,0,0,0,0,0,0,0,null,null,{"$f":"COUNTIF(ED91:ED99,14)","v":1},{"$f":"COUNTIF(EE91:EE99,14)","v":0},0,0,0,0,0,0,0,0,0,1,0,0,0,0,0,0,0,0,0,0,0,0,0,0,0,0,0,0,0,0,0,0,0,0,0,0]
[null,null,0,null,null,null,null,null,null,"Non Playing Substitute",{"$f":"COUNTIF($K$91:$K$99,\">=12\")-$K$102","v":1},{"$f":"COUNTIF($L$91:$L$99,\">=12\")-$L$102","v":0},{"$f":"COUNTIF($M$91:$M$99,\">=12\")-$M$102","v":0},{"$f":"COUNTIF($N$91:$N$99,\">=12\")-$N$102","v":0},{"$f":"COUNTIF($O$91:$O$99,\">=12\")-$O$102","v":0},{"$f":"COUNTIF($P$91:$P$99,\">=12\")-$P$102","v":0},{"$f":"COUNTIF($Q$91:$Q$99,\">=12\")-$Q$102","v":0},{"$f":"COUNTIF($R$91:$R$99,\">=12\")-$R$102","v":0},{"$f":"COUNTIF($S$91:$S$99,\">=12\")-$S$102","v":0},{"$f":"COUNTIF($T$91:$T$99,\">=12\")-$T$102","v":0},{"$f":"COUNTIF($U$91:$U$99,\">=12\")-$U$102","v":0},{"$f":"COUNTIF($V$91:$V$99,\">=12\")-$V$102","v":1},{"$f":"COUNTIF($W$91:$W$99,\">=12\")-$W$102","v":0},{"$f":"COUNTIF($X$91:$X$99,\">=12\")-$X$102","v":0},{"$f":"COUNTIF($Y$91:$Y$99,\">=12\")-$Y$102","v":0},{"$f":"COUNTIF($Z$91:$Z$99,\">=12\")-$Z$102","v":0},{"$f":"COUNTIF($AA$91:$AA$99,\">=12\")-$AA$102","v":0},{"$f":"COUNTIF($AB$91:$AB$99,\">=12\")-$AB$102","v":0},{"$f":"COUNTIF($AC$91:$AC$99,\">=12\")-$AC$102","v":0},{"$f":"COUNTIF($AD$91:$AD$99,\">=12\")-$AD$102","v":0},{"$f":"COUNTIF($AE$91:$AE$99,\">=12\")-$AE$102","v":0},{"$f":"COUNTIF($AF$91:$AF$99,\">=12\")-$AF$102","v":0},{"$f":"COUNTIF($AG$91:$AG$99,\">=12\")-$AG$102","v":0},{"$f":"COUNTIF($AH$91:$AH$99,\">=12\")-$AH$102","v":0},{"$f":"COUNTIF($AI$91:$AI$99,\">=12\")-$AI$102","v":0},{"$f":"COUNTIF($AJ$91:$AJ$99,\">=12\")-$AJ$102","v":1},{"$f":"COUNTIF($AK$91:$AK$99,\">=12\")-$AK$102","v":0},{"$f":"COUNTIF($AL$91:$AL$99,\">=12\")-$AL$102","v":0},{"$f":"COUNTIF($AM$91:$AM$99,\">=12\")-$AM$102","v":0},{"$f":"COUNTIF($AN$91:$AN$99,\">=12\")-$AN$102","v":0},{"$f":"COUNTIF($AO$91:$AO$99,\">=12\")-$AO$102","v":0},{"$f":"COUNTIF($AP$91:$AP$99,\">=12\")-$AP$102","v":0},{"$f":"COUNTIF($AQ$91:$AQ$99,\">=12\")-$AQ$102","v":1},{"$f":"COUNTIF($AR$91:$AR$99,\">=12\")-$AR$102","v":0},{"$f":"COUNTIF($AS$91:$AS$99,\">=12\")-$AS$102","v":0},{"$f":"COUNTIF($AT$91:$AT$99,\">=12\")-$AT$102","v":0},{"$f":"COUNTIF($AU$91:$AU$99,\">=12\")-$AU$102","v":0},{"$f":"COUNTIF($AV$91:$AV$99,\">=12\")-$AV$102","v":0}]
[null,null,0,null,null,null,null,null,null,"Goals",{"$f":"Millwall!$CW$6","v":0},{"$f":"Millwall!$CW$7","v":0},{"$f":"Millwall!$CW$8","v":0},{"$f":"Millwall!$CW$9","v":0},{"$f":"Millwall!$CW$10","v":0},{"$f":"Millwall!$CW$11","v":0},{"$f":"Millwall!$CW$12","v":0},{"$f":"Millwall!$CW$13","v":0},{"$f":"Millwall!$CW$14","v":3},{"$f":"Millwall!$CW$15","v":2},{"$f":"Millwall!$CW$16","v":0},{"$f":"Millwall!$CW$17","v":0},{"$f":"Millwall!$CW$18","v":0},{"$f":"Millwall!$CW$19","v":0},{"$f":"Millwall!$CW$20","v":0},{"$f":"Millwall!$CW$21","v":0},{"$f":"Millwall!$CW$22","v":0},{"$f":"Millwall!$CW$23","v":0},{"$f":"Millwall!$CW$24","v":0},{"$f":"Millwall!$CW$25","v":0},{"$f":"Millwall!$CW$26","v":0},{"$f":"Millwall!$CW$27","v":0},{"$f":"Millwall!$CW$28","v":0},{"$f":"Millwall!$CW$29","v":0},{"$f":"Millwall!$CW$30","v":0},{"$f":"Millwall!$CW$31","v":0},{"$f":"Millwall!$CW$32","v":0},{"$f":"Millwall!$CW$33","v":0},{"$f":"Millwall!$CW$34","v":0},{"$f":"Millwall!$CW$35","v":1},{"$f":"Millwall!$CW$36","v":0},{"$f":"Millwall!$CW$37","v":0},{"$f":"Millwall!$CW$38","v":0},{"$f":"Millwall!$CW$39","v":0},{"$f":"Millwall!$CW$40","v":0},{"$f":"Millwall!$CW$41","v":0},{"$f":"Millwall!$CW$42","v":0},{"$f":"Millwall!$CW$47","v":0}]
[null,null,0]
[null,null,1]
[null,null,1]
[]
[]
[null,null,null,null,null,null,null,"Checks",null,null,null,null,null,null,null,null,null,null,1]
[]
["Manual Input",null,null,null,null,null,null,"Opponents","Venue/Result",null,{"$f":"K3","v":"Aris"},"Berry","Bircham","Bowry","Bright","Cadette","Canoville","Carter","Crawford","Dair","Dolby","Doyle","Fitzgerald","Forbes","Harle","Hartley","Hockton","Huckerby","Iga","Lavin","Malkin","McLeary","McRobert","Neill","Newman","Robertson","Roche","Rogan","Sadlier","Savage","Sinclair","Stevens","Van Blerk","Webber","Wilkins","Witter",0,0]
[null,null,{"$f":"IF(J113=0,1,0)","v":0},1,null,{"$f":"F5","v":"1996-08-17"},null,{"$f":"H5","v":"Wrexham"},"(H)","D 1-1",null,null,null,7,null,null,null,1,10,11,12,2,null,null,null,13,null,null,null,null,9,null,null,14,3,null,null,null,null,8,4,6,null,null,null,5]
[null,null,0,2,null,"1996-08-24",null,"Watford","(A)","W 2-0",null,null,null,7,null,null,null,1,10,11,null,12,null,null,3,13,null,null,null,null,9,null,null,14,2,null,null,null,null,8,null,6,null,4,null,5]
[null,null,0,3,null,"1996-08-27",null,"York","(A)","L 2-3",null,null,null,7,null,null,null,1,10,11,null,12,null,null,3,14,null,null,null,null,9,null,null,13,2,null,null,null,null,8,null,6,null,4,null,5]
[null,null,0,4,null,"1996-08-31",null,"Burnley","(H)","W 2-1",null,null,null,7,null,null,null,1,10,11,13,14,null,null,12,null,null,null,null,null,9,null,null,3,2,null,null,null,null,8,null,6,null,4,null,5]
[null,null,0,5,null,"1996-09-07",null,"Bristol R","(H)","W 2-0",null,null,null,7,null,null,null,1,null,10,null,14,null,null,13,11,null,9,null,null,12,null,null,8,2,null,null,3,null,null,null,6,null,4,null,5]
[null,null,0,6,null,"1996-09-10",null,"Peterborough","(A)","D 3-3",null,null,null,7,null,null,null,1,14,11,null,6,null,null,12,13,null,10,null,null,9,null,null,8,2,null,null,3,null,null,null,null,null,4,null,5]
[null,null,0,7,null,"1996-09-14",null,"Notts Co","(A)","W 2-1",null,null,null,7,null,null,null,1,14,11,null,4,null,null,12,13,null,10,null,null,9,null,null,8,2,null,null,3,null,null,null,null,null,6,null,5]
[null,null,0,8,null,"1996-09-21",null,"Crewe","(H)","W 2-0",null,null,null,7,null,null,null,1,9,11,null,2,null,null,13,14,null,10,null,null,12,null,null,8,4,null,null,3,null,null,null,null,null,6,null,5]
[null,null,0,9,null,"1996-09-28",null,"Preston","(A)","L 1-2",null,null,null,7,null,null,null,1,8,11,null,2,null,null,null,13,null,10,null,null,9,null,null,null,4,null,null,3,null,14,12,null,null,6,null,5]
[null,null,0,10,null,"1996-10-02",null,"Stockport","(H)","L 3-4",null,null,null,7,null,null,null,1,9,null,null,2,null,null,12,13,14,10,null,null,null,null,null,8,4,null,null,3,null,11,null,null,null,6,null,5]
[null,null,0,11,null,"1996-10-05",null,"Plymouth","(A)","D 0-0",null,null,null,7,null,null,null,1,null,11,10,2,null,null,5,9,14,null,null,null,null,null,null,8,12,13,null,3,null,6,null,null,null,4]
[null,null,0,12,null,"1996-10-12",null,"Chesterfield","(H)","W 2-1",null,null,null,7,null,null,null,1,9,13,10,12,6,null,14,11,null,null,null,null,null,null,null,8,2,null,null,3,null,4,null,null,null,null,null,5]
[null,null,0,13,null,"1996-10-16",null,"Bury","(H)","W 1-0",null,null,null,7,null,null,null,1,9,13,11,12,6,null,14,10,null,null,null,null,null,null,null,8,2,null,null,3,null,4,null,null,null,null,null,5]
[null,null,0,14,null,"1996-10-19",null,"Gillingham","(A)","W 3-2",null,null,null,7,null,null,null,1,9,13,11,12,6,null,14,10,null,null,null,null,null,null,null,8,2,null,null,3,null,4,null,null,null,null,null,5]
[null,null,0,15,null,"1996-10-26",null,"Brentford","(A)","D 0-0",null,null,null,7,null,null,null,1,9,13,11,12,6,null,14,10,null,null,null,null,null,null,null,8,2,null,null,3,null,4,null,null,null,null,null,5]
[null,null,0,16,null,"1996-10-30",null,"Blackpool","(H)","W 2-1",null,null,null,7,null,null,null,1,9,13,11,12,6,null,14,10,null,null,null,null,null,null,null,8,2,null,null,3,null,4,null,null,null,null,null,5]
[null,null,0,17,null,"1996-11-02",null,{"$f":"H21","v":"Walsall"},"(H)","W 1-0",null,null,null,7,null,null,null,1,9,4,10,null,6,null,12,11,14,null,null,13,null,null,null,8,2,null,null,3,null,null,null,null,null,null,null,5]
[null,null,0,18,null,"1996-11-09",null,"Bristol C","(A)","D 1-1",null,null,null,7,null,null,null,1,9,10,null,null,6,null,3,11,null,null,null,12,null,null,null,8,2,null,null,null,null,4,null,null,13,14,null,5]
[null,null,0,19,null,"1996-11-20",null,"Shrewsbury","(H)","W 2-1",null,null,null,7,null,null,null,1,9,10,14,12,null,null,null,11,null,null,null,2,null,null,null,8,6,null,null,3,null,4,13,null,null,5]
[null,null,0,20,null,"1996-11-23",null,"Rotherham","(A)","D 0-0",null,null,null,7,null,null,null,1,9,10,14,12,null,null,null,11,null,null,null,2,null,null,null,8,6,null,null,3,null,4,13,null,null,5]
[null,null,0,21,null,"1996-11-29",null,"Brentford","(H)","D 0-0",null,null,null,null,null,null,null,1,9,10,12,13,null,null,null,11,null,null,null,2,null,null,null,8,4,null,null,3,null,7,6,null,14,5,null,null,null,null,null,null,null,"Contary to Newspaper reports Van Blerk for Savage"]
[null,null,0,22,null,"1996-12-03",null,"Wycombe","(A)","L 0-1",null,null,null,7,null,null,null,1,9,10,13,12,null,null,null,11,null,null,null,2,null,null,null,8,null,null,null,3,null,4,6,null,14,5]
[null,null,0,23,null,"1996-12-14",null,"Bournemouth","(A)","D 1-1",null,null,null,null,10,null,null,1,9,11,12,14,null,null,null,13,null,null,null,2,null,null,null,8,7,null,null,null,null,4,6,null,3,5]
[null,null,0,24,null,"1996-12-18",null,"Luton","(H)","L 0-1",null,null,null,null,10,null,null,1,9,11,14,null,null,null,13,7,null,null,null,2,null,null,null,8,4,null,null,6,null,12,5,null,3]
[null,null,0,25,null,"1996-12-26",null,"Peterborough","(H)","L 0-2",null,null,null,null,10,null,null,1,9,11,14,null,null,null,6,7,null,null,13,2,null,null,null,null,8,null,null,3,null,null,4,null,12,5]
[null,null,0,26,null,"1997-01-11",null,"Preston","(H)","W 3-2",null,null,2,14,null,10,null,1,9,null,13,null,null,null,6,11,null,null,null,null,null,null,null,null,4,null,3,null,null,7,12,null,null,5,8]
[null,null,0,27,null,"1997-01-18",null,"Stockport","(A)","L 1-5",null,null,2,14,null,10,null,1,9,null,13,null,null,null,6,11,null,null,null,null,null,null,null,null,4,null,3,null,null,7,12,null,null,5,8]
[null,null,0,28,null,"1997-01-25",null,"Blackpool","(A)","L 0-3",null,null,null,7,null,10,null,1,9,null,12,null,null,null,3,11,null,null,null,null,null,null,null,14,2,null,null,6,null,4,13,null,null,5,8]
[null,null,0,29,null,"1997-02-01",null,"Bristol C","(H)","L 0-2",null,null,null,8,null,null,null,1,9,10,11,null,null,null,12,13,null,null,null,null,null,null,null,7,2,null,null,3,14,4,null,6,null,null,null,5]
[null,null,0,30,null,"1997-02-08",null,"Walsall","(A)","L 1-2",null,null,null,4,null,null,null,1,9,11,10,null,null,null,12,8,null,null,null,null,null,null,13,2,6,null,null,3,14,7,null,null,null,5]
[null,null,0,31,null,"1997-02-15",null,"Rotherham","(H)","W 2-0",null,3,14,null,null,10,null,1,9,13,null,12,null,null,null,7,null,null,null,null,null,null,11,2,4,null,null,null,null,8,null,null,null,5,null,6]
[null,null,0,32,null,"1997-02-22",null,"Shrewsbury","(A)","D 1-1",null,3,12,null,null,10,null,1,9,null,null,13,null,14,null,7,null,null,null,null,null,5,11,2,4,null,null,null,null,8,null,null,null,null,null,6]
[null,null,0,33,null,"1997-02-25",null,{"$f":"H37","v":"Notts Co"},"(H)","W 1-0",null,3,null,null,null,10,null,1,9,null,12,13,null,14,null,7,null,null,null,null,null,5,11,2,4,null,null,null,null,8,null,null,null,null,null,6]
[null,null,0,34,null,"1997-03-01",null,"Wycombe","(H)","W 2-1",null,3,14,null,null,10,null,1,9,null,11,8,null,null,null,7,null,null,null,null,null,5,null,2,4,null,13,null,null,null,null,null,null,12,null,6]
[null,null,0,35,null,"1997-03-08",null,"Luton","(A)","W 2-0",null,3,14,null,null,null,null,1,9,null,11,8,null,null,null,7,null,null,null,null,null,5,null,2,null,null,10,null,13,4,null,null,null,12,null,6]
[null,null,0,36,null,"1997-03-15",null,"Bournemouth","(H)","L 0-1",null,3,14,null,null,null,null,1,9,null,11,8,null,null,null,7,null,null,null,null,null,5,null,2,null,null,13,null,10,4,null,null,null,12,null,6]
[null,null,0,37,null,"1997-03-18",null,"Crewe","(A)","D 0-0",null,3,14,null,null,null,null,1,9,null,11,8,null,null,null,7,null,null,null,null,null,5,null,2,4,null,13,null,10,null,null,null,null,12,null,6]
[null,null,0,38,null,"1997-03-22",null,"Watford","(H)","L 0-1",null,3,14,null,null,null,13,1,9,null,11,8,null,null,null,7,null,null,null,null,null,5,null,2,4,null,10,null,null,null,null,null,null,12,null,6]
[null,null,0,39,null,"1997-03-28",null,"Wrexham","(A)","D 3-3",null,3,null,null,null,null,null,1,9,null,11,8,null,null,null,7,null,null,null,null,null,5,null,2,4,null,null,12,10,13,null,null,null,14,null,6]
[null,null,0,40,null,"1997-04-02",null,"York","(H)","D 1-1",13,3,2,null,null,null,14,1,9,null,null,8,null,null,null,7,null,null,null,null,null,5,null,null,null,null,12,11,10,4,null,null,null,6]
[null,null,0,41,null,"1997-04-05",null,"Burnley","(A)","L 0-1",null,null,2,null,null,null,14,1,9,null,null,8,null,null,null,7,null,null,null,null,null,5,null,11,13,null,null,3,10,4,null,null,null,12,null,6]
[null,null,0,42,null,"1997-04-08",null,"Bristol R","(A)","L 0-1",null,null,13,null,null,null,null,1,9,null,null,8,null,null,3,7,null,null,null,null,null,5,null,2,4,null,null,12,10,11,null,null,null,14,null,6]
[null,null,0,43,null,"1997-04-12",null,"Plymouth","(H)","D 0-0",null,11,2,null,null,null,null,1,9,null,null,8,null,null,3,7,null,null,null,null,null,5,null,null,4,null,null,12,10,13,null,null,null,14,null,6]
[null,null,0,44,null,"1997-04-19",null,"Chesterfield","(A)","L 0-1",null,14,2,null,null,null,13,1,9,null,null,8,null,null,3,7,null,null,null,null,null,5,null,null,4,null,null,12,null,11,null,null,null,10,null,6]
[null,null,{"$f":"IF(J157=0,1,0)","v":0},45,null,"1997-04-26",null,"Gillingham","(H)","L 0-2",null,11,14,9,null,null,13,1,null,null,null,8,null,null,3,7,null,null,null,null,null,5,null,2,12,null,null,4,null,null,null,null,null,10,null,6]
[null,null,{"$f":"IF(J158=0,1,0)","v":0},46,null,"1997-05-03",null,"Bury","(A)","L 0-2",null,11,14,9,null,null,null,1,null,null,null,12,null,null,13,7,null,null,null,null,null,5,null,2,3,null,null,4,null,8,null,null,null,10,null,6]
[null,null,{"$f":"IF(J159=0,1,0)","v":1},47,null,"00:00:00",null,"00:00:00","00:00:00",0]
[null,null,1,48,null,"00:00:00",null,"00:00:00","00:00:00",0]
[null,null,1,49,null,"00:00:00",null,{"$f":"H53","v":"00:00:00"},"00:00:00",0]
[]
[null,null,null,null,null,null,null,null,null,"Total League Apperances",{"$f":"COUNT($K$113:$K$161)-$K$164-$K$165","v":0},{"$f":"COUNT($L$113:$L$161)-$L$164-$L$165","v":13},{"$f":"COUNT($M$113:$M$161)-$M$164-$M$165","v":6},{"$f":"COUNT($N$113:$N$161)-$N$164-$N$165","v":26},{"$f":"COUNT($O$113:$O$161)-$O$164-$O$165","v":3},{"$f":"COUNT($P$113:$P$161)-$P$164-$P$165","v":7},{"$f":"COUNT($Q$113:$Q$161)-$Q$164-$Q$165","v":0},{"$f":"COUNT($R$113:$R$161)-$R$164-$R$165","v":46},{"$f":"COUNT($S$113:$S$161)-$S$164-$S$165","v":40},{"$f":"COUNT($T$113:$T$161)-$T$164-$T$165","v":21},{"$f":"COUNT($U$113:$U$161)-$U$164-$U$165","v":15},{"$f":"COUNT($V$113:$V$161)-$V$164-$V$165","v":19},{"$f":"COUNT($W$113:$W$161)-$W$164-$W$165","v":7},{"$f":"COUNT($X$113:$X$161)-$X$164-$X$165","v":0},{"$f":"COUNT($Y$113:$Y$161)-$Y$164-$Y$165","v":12},{"$f":"COUNT($Z$113:$Z$161)-$Z$164-$Z$165","v":35},{"$f":"COUNT($AA$113:$AA$161)-$AA$164-$AA$165","v":0},{"$f":"COUNT($AB$113:$AB$161)-$AB$164-$AB$165","v":6},{"$f":"COUNT($AC$113:$AC$161)-$AC$164-$AC$165","v":0},{"$f":"COUNT($AD$113:$AD$161)-$AD$164-$AD$165","v":7},{"$f":"COUNT($AE$113:$AE$161)-$AE$164-$AE$165","v":7},{"$f":"COUNT($AF$113:$AF$161)-$AF$164-$AF$165","v":15},{"$f":"COUNT($AG$113:$AG$161)-$AG$164-$AG$165","v":3},{"$f":"COUNT($AH$113:$AH$161)-$AH$164-$AH$165","v":35},{"$f":"COUNT($AI$113:$AI$161)-$AI$164-$AI$165","v":39},{"$f":"COUNT($AJ$113:$AJ$161)-$AJ$164-$AJ$165","v":0},{"$f":"COUNT($AK$113:$AK$161)-$AK$164-$AK$165","v":4},{"$f":"COUNT($AL$113:$AL$161)-$AL$164-$AL$165","v":26},{"$f":"COUNT($AM$113:$AM$161)-$AM$164-$AM$165","v":7},{"$f":"COUNT($AN$113:$AN$161)-$AN$164-$AN$165","v":32},{"$f":"COUNT($AO$113:$AO$161)-$AO$164-$AO$165","v":6},{"$f":"COUNT($AP$113:$AP$161)-$AP$164-$AP$165","v":6},{"$f":"COUNT($AQ$113:$AQ$161)-$AQ$164-$AQ$165","v":2},{"$f":"COUNT($AR$113:$AR$161)-$AR$164-$AR$165","v":25},{"$f":"COUNT($AS$113:$AS$161)-$AS$164-$AS$165","v":3},{"$f":"COUNT($AT$113:$AT$161)-$AT$164-$AT$165","v":33},{"$f":"COUNT($AU$113:$AU$161)-$AU$164-$AU$165","v":0},{"$f":"COUNT($AV$113:$AV$161)-$AV$164-$AV$165","v":0}]
[null,null,null,null,null,null,null,null,null,"Total League Substitute Appearences ",{"$f":"$BB$56+$CP$56+$ED$56","v":0},{"$f":"$BC$56+$CQ$56+$EE$56","v":1},{"$f":"$BD$56+$CR$56+$EF$56","v":0},{"$f":"$BE$56+$CS$56+$EG$56","v":2},{"$f":"$BF$56+$CT$56+$EH$56","v":0},{"$f":"$BG$56+$CU$56+$EI$56","v":0},{"$f":"$BH$56+$CV$56+$EJ$56","v":2},{"$f":"$BI$56+$CW$56+$EK$56","v":0},{"$f":"$BJ$56+$CX$56+$EL$56","v":2},{"$f":"$BK$56+$CY$56+$EM$56","v":3},{"$f":"$BL$56+$CZ$56+$EN$56","v":6},{"$f":"$BM$56+$DA$56+$EO$56","v":9},{"$f":"$BN$56+$DB$56+$EP$56","v":0},{"$f":"$BO$56+$DC$56+$EQ$56","v":0},{"$f":"$BP$56+$DD$56+$ER$56","v":9},{"$f":"$BQ$56+$DE$56+$ES$56","v":9},{"$f":"$BR$56+$DF$56+$ET$56","v":2},{"$f":"$BS$56+$DG$56+$EU$56","v":0},{"$f":"$BT$56+$DH$56+$EV$56","v":1},{"$f":"$BU$56+$DI$56+$EW$56","v":2},{"$f":"$BV$56+$DJ$56+$EX$56","v":2},{"$f":"$BW$56+$DK$56+$EY$56","v":0},{"$f":"$BX$56+$DL$56+$EZ$56","v":1},{"$f":"$BY$56+$DM$56+$FA$56","v":4},{"$f":"$BZ$56+$DN$56+$FB$56","v":2},{"$f":"$CA$56+$DO$56+$FC$56","v":1},{"$f":"$CB$56+$DP$56+$FD$56","v":3},{"$f":"$CC$56+$DQ$56+$FE$56","v":2},{"$f":"$CD$56+$DR$56+$FF$56","v":3},{"$f":"$CE$56+$DS$56+$FG$56","v":3},{"$f":"$CF$56+$DT$56+$FH$56","v":2},{"$f":"$CG$56+$DU$56+$FI$56","v":0},{"$f":"$CH$56+$DV$56+$FJ$56","v":3},{"$f":"$CI$56+$DW$56+$FK$56","v":1},{"$f":"$CJ$56+$DX$56+$FL$56","v":0},{"$f":"$CK$56+$DY$56+$FM$56","v":0},{"$f":"$CL$56+$DZ$56+$FN$56","v":0},{"$f":"$CM$56+$EA$56+$FO$56","v":0}]
[null,null,null,null,null,null,null,null,null,"Non Playing Substitute",{"$f":"COUNTIF($K$113:$K$161,\">=12\")-$K$164","v":1},{"$f":"COUNTIF($L$113:$L$161,\">=12\")-$L$164","v":0},{"$f":"COUNTIF($M$113:$M$161,\">=12\")-$M$164","v":10},{"$f":"COUNTIF($N$113:$N$161,\">=12\")-$N$164","v":0},{"$f":"COUNTIF($O$113:$O$161,\">=12\")-$O$164","v":0},{"$f":"COUNTIF($P$113:$P$161,\">=12\")-$P$164","v":0},{"$f":"COUNTIF($Q$113:$Q$161,\">=12\")-$Q$164","v":3},{"$f":"COUNTIF($R$113:$R$161,\">=12\")-$R$164","v":0},{"$f":"COUNTIF($S$113:$S$161,\">=12\")-$S$164","v":0},{"$f":"COUNTIF($T$113:$T$161,\">=12\")-$T$164","v":3},{"$f":"COUNTIF($U$113:$U$161,\">=12\")-$U$164","v":7},{"$f":"COUNTIF($V$113:$V$161,\">=12\")-$V$164","v":9},{"$f":"COUNTIF($W$113:$W$161,\">=12\")-$W$164","v":0},{"$f":"COUNTIF($X$113:$X$161,\">=12\")-$X$164","v":2},{"$f":"COUNTIF($Y$113:$Y$161,\">=12\")-$Y$164","v":7},{"$f":"COUNTIF($Z$113:$Z$161,\">=12\")-$Z$164","v":1},{"$f":"COUNTIF($AA$113:$AA$161,\">=12\")-$AA$164","v":1},{"$f":"COUNTIF($AB$113:$AB$161,\">=12\")-$AB$164","v":0},{"$f":"COUNTIF($AC$113:$AC$161,\">=12\")-$AC$164","v":0},{"$f":"COUNTIF($AD$113:$AD$161,\">=12\")-$AD$164","v":0},{"$f":"COUNTIF($AE$113:$AE$161,\">=12\")-$AE$164","v":0},{"$f":"COUNTIF($AF$113:$AF$161,\">=12\")-$AF$164","v":0},{"$f":"COUNTIF($AG$113:$AG$161,\">=12\")-$AG$164","v":0},{"$f":"COUNTIF($AH$113:$AH$161,\">=12\")-$AH$164","v":0},{"$f":"COUNTIF($AI$113:$AI$161,\">=12\")-$AI$164","v":1},{"$f":"COUNTIF($AJ$113:$AJ$161,\">=12\")-$AJ$164","v":0},{"$f":"COUNTIF($AK$113:$AK$161,\">=12\")-$AK$164","v":1},{"$f":"COUNTIF($AL$113:$AL$161,\">=12\")-$AL$164","v":2},{"$f":"COUNTIF($AM$113:$AM$161,\">=12\")-$AM$164","v":0},{"$f":"COUNTIF($AN$113:$AN$161,\">=12\")-$AN$164","v":1},{"$f":"COUNTIF($AO$113:$AO$161,\">=12\")-$AO$164","v":4},{"$f":"COUNTIF($AP$113:$AP$161,\">=12\")-$AP$164","v":0},{"$f":"COUNTIF($AQ$113:$AQ$161,\">=12\")-$AQ$164","v":1},{"$f":"COUNTIF($AR$113:$AR$161,\">=12\")-$AR$164","v":9},{"$f":"COUNTIF($AS$113:$AS$161,\">=12\")-$AS$164","v":0},{"$f":"COUNTIF($AT$113:$AT$161,\">=12\")-$AT$164","v":0},{"$f":"COUNTIF($AU$113:$AU$161,\">=12\")-$AU$164","v":0},{"$f":"COUNTIF($AV$113:$AV$161,\">=12\")-$AV$164","v":0}]
[null,null,null,null,null,null,null,null,null,"Goals",0,0,0,1,1,1,0,0,11,1,2,1,0,0,1,4,0,3,0,0,2,0,0,4,3,0,0,8,0,3,0,0,0,2,0,0,0,0]
[]
[null,null,0,null,null,null,null,"FA Cup"]
[null,null,{"$f":"IF(J169=0,1,0)","v":0},{"$f":"D61","v":1},null,{"$f":"F61","v":"1996-11-15"},null,{"$f":"H61","v":"Woking"},"(A)","D 2-2",null,null,null,7,null,null,null,1,9,10,null,null,null,null,6,11,null,null,null,13,null,null,null,8,2,null,null,3,null,4,null,null,14,12,null,5]
[null,null,0,{"$f":"D62","v":"1R"},null,"1996-11-26",null,"Woking","(H)","L 0-1",null,null,null,7,null,null,null,1,9,10,14,12,null,null,null,11,null,null,null,2,null,null,null,8,6,null,null,3,null,4,13,null,null,5]
[null,null,1,0,null,"00:00:00",null,"00:00:00","00:00:00",0]
[null,null,1,0,null,"00:00:00",null,"00:00:00","00:00:00",0]
[null,null,1,0,null,"00:00:00",null,"00:00:00","00:00:00",0]
[null,null,1,0,null,"00:00:00",null,"00:00:00","00:00:00",0]
[null,null,1,0,null,"00:00:00",null,"00:00:00","00:00:00",0]
[]
[null,null,null,null,null,null,null,null,null,"Total FA Cup Apperances",{"$f":"COUNT($K$169:$K$175)-$K$178-$K$179","v":0},{"$f":"COUNT($L$169:$L$175)-$L$178-$L$179","v":0},{"$f":"COUNT($M$169:$M$175)-$M$178-$M$179","v":0},{"$f":"COUNT($N$169:$N$175)-$N$178-$N$179","v":2},{"$f":"COUNT($O$169:$O$175)-$O$178-$O$179","v":0},{"$f":"COUNT($P$169:$P$175)-$P$178-$P$179","v":0},{"$f":"COUNT($Q$169:$Q$175)-$Q$178-$Q$179","v":0},{"$f":"COUNT($R$169:$R$175)-$R$178-$R$179","v":2},{"$f":"COUNT($S$169:$S$175)-$S$178-$S$179","v":2},{"$f":"COUNT($T$169:$T$175)-$T$178-$T$179","v":2},{"$f":"COUNT($U$169:$U$175)-$U$178-$U$179","v":0},{"$f":"COUNT($V$169:$V$175)-$V$178-$V$179","v":0},{"$f":"COUNT($W$169:$W$175)-$W$178-$W$179","v":0},{"$f":"COUNT($X$169:$X$175)-$X$178-$X$179","v":0},{"$f":"COUNT($Y$169:$Y$175)-$Y$178-$Y$179","v":1},{"$f":"COUNT($Z$169:$Z$175)-$Z$178-$Z$179","v":2},{"$f":"COUNT($AA$169:$AA$175)-$AA$178-$AA$179","v":0},{"$f":"COUNT($AB$169:$AB$175)-$AB$178-$AB$179","v":0},{"$f":"COUNT($AC$169:$AC$175)-$AC$178-$AC$179","v":0},{"$f":"COUNT($AD$169:$AD$175)-$AD$178-$AD$179","v":1},{"$f":"COUNT($AE$169:$AE$175)-$AE$178-$AE$179","v":0},{"$f":"COUNT($AF$169:$AF$175)-$AF$178-$AF$179","v":0},{"$f":"COUNT($AG$169:$AG$175)-$AG$178-$AG$179","v":0},{"$f":"COUNT($AH$169:$AH$175)-$AH$178-$AH$179","v":2},{"$f":"COUNT($AI$169:$AI$175)-$AI$178-$AI$179","v":2},{"$f":"COUNT($AJ$169:$AJ$175)-$AJ$178-$AJ$179","v":0},{"$f":"COUNT($AK$169:$AK$175)-$AK$178-$AK$179","v":0},{"$f":"COUNT($AL$169:$AL$175)-$AL$178-$AL$179","v":2},{"$f":"COUNT($AM$169:$AM$175)-$AM$178-$AM$179","v":0},{"$f":"COUNT($AN$169:$AN$175)-$AN$178-$AN$179","v":2},{"$f":"COUNT($AO$169:$AO$175)-$AO$178-$AO$179","v":0},{"$f":"COUNT($AP$169:$AP$175)-$AP$178-$AP$179","v":0},{"$f":"COUNT($AQ$169:$AQ$175)-$AQ$178-$AQ$179","v":0},{"$f":"COUNT($AR$169:$AR$175)-$AR$178-$AR$179","v":1},{"$f":"COUNT($AS$169:$AS$175)-$AS$178-$AS$179","v":0},{"$f":"COUNT($AT$169:$AT$175)-$AT$178-$AT$179","v":1},{"$f":"COUNT($AU$169:$AU$175)-$AU$178-$AU$179","v":0},{"$f":"COUNT($AV$169:$AV$175)-$AV$178-$AV$179","v":0}]
[null,null,null,null,null,null,null,null,null,"Total FA Cup Substitute Appearences ",{"$f":"$BB$70+$CP$70+$ED$70","v":0},{"$f":"$BC$70+$CQ$70+$EE$70","v":0},{"$f":"$BD$70+$CR$70+$EF$70","v":0},{"$f":"$BE$70+$CS$70+$EG$70","v":0},{"$f":"$BF$70+$CT$70+$EH$70","v":0},{"$f":"$BG$70+$CU$70+$EI$70","v":0},{"$f":"$BH$70+$CV$70+$EJ$70","v":0},{"$f":"$BI$70+$CW$70+$EK$70","v":0},{"$f":"$BJ$70+$CX$70+$EL$70","v":0},{"$f":"$BK$70+$CY$70+$EM$70","v":0},{"$f":"$BL$70+$CZ$70+$EN$70","v":1},{"$f":"$BM$70+$DA$70+$EO$70","v":0},{"$f":"$BN$70+$DB$70+$EP$70","v":0},{"$f":"$BO$70+$DC$70+$EQ$70","v":0},{"$f":"$BP$70+$DD$70+$ER$70","v":0},{"$f":"$BQ$70+$DE$70+$ES$70","v":0},{"$f":"$BR$70+$DF$70+$ET$70","v":0},{"$f":"$BS$70+$DG$70+$EU$70","v":0},{"$f":"$BT$70+$DH$70+$EV$70","v":0},{"$f":"$BU$70+$DI$70+$EW$70","v":1},{"$f":"$BV$70+$DJ$70+$EX$70","v":0},{"$f":"$BW$70+$DK$70+$EY$70","v":0},{"$f":"$BX$70+$DL$70+$EZ$70","v":0},{"$f":"$BY$70+$DM$70+$FA$70","v":0},{"$f":"$BZ$70+$DN$70+$FB$70","v":0},{"$f":"$CA$70+$DO$70+$FC$70","v":0},{"$f":"$CB$70+$DP$70+$FD$70","v":0},{"$f":"$CC$70+$DQ$70+$FE$70","v":0},{"$f":"$CD$70+$DR$70+$FF$70","v":0},{"$f":"$CE$70+$DS$70+$FG$70","v":0},{"$f":"$CF$70+$DT$70+$FH$70","v":1},{"$f":"$CG$70+$DU$70+$FI$70","v":0},{"$f":"$CH$70+$DV$70+$FJ$70","v":1},{"$f":"$CI$70+$DW$70+$FK$70","v":0},{"$f":"$CJ$70+$DX$70+$FL$70","v":0},{"$f":"$CK$70+$DY$70+$FM$70","v":0},{"$f":"$CL$70+$DZ$70+$FN$70","v":0},{"$f":"$CM$70+$EA$70+$FO$70","v":0}]
[null,null,null,null,null,null,null,null,null,"Non Playing Substitute",{"$f":"COUNTIF($K$169:$K$175,\">=12\")-$K$178","v":0},{"$f":"COUNTIF($L$169:$L$175,\">=12\")-$L$178","v":0},{"$f":"COUNTIF($M$169:$M$175,\">=12\")-$M$178","v":0},{"$f":"COUNTIF($N$169:$N$175,\">=12\")-$N$178","v":0},{"$f":"COUNTIF($O$169:$O$175,\">=12\")-$O$178","v":0},{"$f":"COUNTIF($P$169:$P$175,\">=12\")-$P$178","v":0},{"$f":"COUNTIF($Q$169:$Q$175,\">=12\")-$Q$178","v":0},{"$f":"COUNTIF($R$169:$R$175,\">=12\")-$R$178","v":0},{"$f":"COUNTIF($S$169:$S$175,\">=12\")-$S$178","v":0},{"$f":"COUNTIF($T$169:$T$175,\">=12\")-$T$178","v":0},{"$f":"COUNTIF($U$169:$U$175,\">=12\")-$U$178","v":0},{"$f":"COUNTIF($V$169:$V$175,\">=12\")-$V$178","v":1},{"$f":"COUNTIF($W$169:$W$175,\">=12\")-$W$178","v":0},{"$f":"COUNTIF($X$169:$X$175,\">=12\")-$X$178","v":0},{"$f":"COUNTIF($Y$169:$Y$175,\">=12\")-$Y$178","v":0},{"$f":"COUNTIF($Z$169:$Z$175,\">=12\")-$Z$178","v":0},{"$f":"COUNTIF($AA$169:$AA$175,\">=12\")-$AA$178","v":0},{"$f":"COUNTIF($AB$169:$AB$175,\">=12\")-$AB$178","v":0},{"$f":"COUNTIF($AC$169:$AC$175,\">=12\")-$AC$178","v":0},{"$f":"COUNTIF($AD$169:$AD$175,\">=12\")-$AD$178","v":0},{"$f":"COUNTIF($AE$169:$AE$175,\">=12\")-$AE$178","v":0},{"$f":"COUNTIF($AF$169:$AF$175,\">=12\")-$AF$178","v":0},{"$f":"COUNTIF($AG$169:$AG$175,\">=12\")-$AG$178","v":0},{"$f":"COUNTIF($AH$169:$AH$175,\">=12\")-$AH$178","v":0},{"$f":"COUNTIF($AI$169:$AI$175,\">=12\")-$AI$178","v":0},{"$f":"COUNTIF($AJ$169:$AJ$175,\">=12\")-$AJ$178","v":0},{"$f":"COUNTIF($AK$169:$AK$175,\">=12\")-$AK$178","v":0},{"$f":"COUNTIF($AL$169:$AL$175,\">=12\")-$AL$178","v":0},{"$f":"COUNTIF($AM$169:$AM$175,\">=12\")-$AM$178","v":0},{"$f":"COUNTIF($AN$169:$AN$175,\">=12\")-$AN$178","v":0},{"$f":"COUNTIF($AO$169:$AO$175,\">=12\")-$AO$178","v":0},{"$f":"COUNTIF($AP$169:$AP$175,\">=12\")-$AP$178","v":0},{"$f":"COUNTIF($AQ$169:$AQ$175,\">=12\")-$AQ$178","v":0},{"$f":"COUNTIF($AR$169:$AR$175,\">=12\")-$AR$178","v":1},{"$f":"COUNTIF($AS$169:$AS$175,\">=12\")-$AS$178","v":0},{"$f":"COUNTIF($AT$169:$AT$175,\">=12\")-$AT$178","v":0},{"$f":"COUNTIF($AU$169:$AU$175,\">=12\")-$AU$178","v":0},{"$f":"COUNTIF($AV$169:$AV$175,\">=12\")-$AV$178","v":0}]
[null,null,null,null,null,null,null,null,null,"Goals",0,0,0,0,0,0,0,0,1,0,0,0,0,0,0,0,0,0,0,0,0,0,0,0,0,0,0,0,0,1,0,0,0,0,0,0,0,0]
[]
[null,null,null,null,null,null,null,"League Cup"]
[null,null,{"$f":"IF(J183=0,1,0)","v":0},{"$f":"D75","v":1},null,{"$f":"F75","v":"1996-08-21"},null,{"$f":"H75","v":"Peterborough"},"(H)","W 1-0",null,null,null,4,null,null,null,1,10,11,13,12,null,null,3,7,null,null,null,null,9,null,null,14,2,null,null,null,null,8,null,6,null,null,null,5]
[null,null,0,{"$f":"D76","v":1},null,"1996-09-03",null,"Peterborough","(A)","L 0-2",null,null,null,7,null,null,null,1,null,11,10,12,null,null,13,14,null,null,null,null,9,null,null,2,8,null,null,3,null,null,null,6,null,4,null,5]
[null,null,1,3,null,"00:00:00",null,"00:00:00","00:00:00",0]
[null,null,1,0,null,"00:00:00",null,"00:00:00","00:00:00",0]
[null,null,1,0,null,"00:00:00",null,"00:00:00","00:00:00",0]
[null,null,1,0,null,"00:00:00",null,"00:00:00","00:00:00",0]
[null,null,1,0,null,"00:00:00",null,"00:00:00","00:00:00",0]
[null,null,1,0,null,"00:00:00",null,"00:00:00","00:00:00",0]
[null,null,1,0,null,"00:00:00",null,"00:00:00","00:00:00",0]
[]
[null,null,null,null,null,null,null,null,null,"Total League Cup Apperances",{"$f":"COUNT($K$183:$K$191)-$K$195-$K$194","v":0},{"$f":"COUNT($L$183:$L$191)-$L$195-$L$194","v":0},{"$f":"COUNT($M$183:$M$191)-$M$195-$M$194","v":0},{"$f":"COUNT($N$183:$N$191)-$N$195-$N$194","v":2},{"$f":"COUNT($O$183:$O$191)-$O$195-$O$194","v":0},{"$f":"COUNT($P$183:$P$191)-$P$195-$P$194","v":0},{"$f":"COUNT($Q$183:$Q$191)-$Q$195-$Q$194","v":0},{"$f":"COUNT($R$183:$R$191)-$R$195-$R$194","v":2},{"$f":"COUNT($S$183:$S$191)-$S$195-$S$194","v":1},{"$f":"COUNT($T$183:$T$191)-$T$195-$T$194","v":2},{"$f":"COUNT($U$183:$U$191)-$U$195-$U$194","v":1},{"$f":"COUNT($V$183:$V$191)-$V$195-$V$194","v":0},{"$f":"COUNT($W$183:$W$191)-$W$195-$W$194","v":0},{"$f":"COUNT($X$183:$X$191)-$X$195-$X$194","v":0},{"$f":"COUNT($Y$183:$Y$191)-$Y$195-$Y$194","v":1},{"$f":"COUNT($Z$183:$Z$191)-$Z$195-$Z$194","v":1},{"$f":"COUNT($AA$183:$AA$191)-$AA$195-$AA$194","v":0},{"$f":"COUNT($AB$183:$AB$191)-$AB$195-$AB$194","v":0},{"$f":"COUNT($AC$183:$AC$191)-$AC$195-$AC$194","v":0},{"$f":"COUNT($AD$183:$AD$191)-$AD$195-$AD$194","v":0},{"$f":"COUNT($AE$183:$AE$191)-$AE$195-$AE$194","v":2},{"$f":"COUNT($AF$183:$AF$191)-$AF$195-$AF$194","v":0},{"$f":"COUNT($AG$183:$AG$191)-$AG$195-$AG$194","v":0},{"$f":"COUNT($AH$183:$AH$191)-$AH$195-$AH$194","v":1},{"$f":"COUNT($AI$183:$AI$191)-$AI$195-$AI$194","v":2},{"$f":"COUNT($AJ$183:$AJ$191)-$AJ$195-$AJ$194","v":0},{"$f":"COUNT($AK$183:$AK$191)-$AK$195-$AK$194","v":0},{"$f":"COUNT($AL$183:$AL$191)-$AL$195-$AL$194","v":1},{"$f":"COUNT($AM$183:$AM$191)-$AM$195-$AM$194","v":0},{"$f":"COUNT($AN$183:$AN$191)-$AN$195-$AN$194","v":1},{"$f":"COUNT($AO$183:$AO$191)-$AO$195-$AO$194","v":0},{"$f":"COUNT($AP$183:$AP$191)-$AP$195-$AP$194","v":2},{"$f":"COUNT($AQ$183:$AQ$191)-$AQ$195-$AQ$194","v":0},{"$f":"COUNT($AR$183:$AR$191)-$AR$195-$AR$194","v":1},{"$f":"COUNT($AS$183:$AS$191)-$AS$195-$AS$194","v":0},{"$f":"COUNT($AT$183:$AT$191)-$AT$195-$AT$194","v":2},{"$f":"COUNT($AU$183:$AU$191)-$AU$195-$AU$194","v":0},{"$f":"COUNT($AV$183:$AV$191)-$AV$195-$AV$194","v":0}]
[null,null,null,null,null,null,null,null,null,"Total League Cup Substitute Appearences ",{"$f":"$BB$86+$CP$86+$ED$86","v":0},{"$f":"$BC$86+$CQ$86+$EE$86","v":0},{"$f":"$BD$86+$CR$86+$EF$86","v":0},{"$f":"$BE$86+$CS$86+$EG$86","v":0},{"$f":"$BF$86+$CT$86+$EH$86","v":0},{"$f":"$BG$86+$CU$86+$EI$86","v":0},{"$f":"$BH$86+$CV$86+$EJ$86","v":0},{"$f":"$BI$86+$CW$86+$EK$86","v":0},{"$f":"$BJ$86+$CX$86+$EL$86","v":0},{"$f":"$BK$86+$CY$86+$EM$86","v":0},{"$f":"$BL$86+$CZ$86+$EN$86","v":1},{"$f":"$BM$86+$DA$86+$EO$86","v":0},{"$f":"$BN$86+$DB$86+$EP$86","v":0},{"$f":"$BO$86+$DC$86+$EQ$86","v":0},{"$f":"$BP$86+$DD$86+$ER$86","v":1},{"$f":"$BQ$86+$DE$86+$ES$86","v":1},{"$f":"$BR$86+$DF$86+$ET$86","v":0},{"$f":"$BS$86+$DG$86+$EU$86","v":0},{"$f":"$BT$86+$DH$86+$EV$86","v":0},{"$f":"$BU$86+$DI$86+$EW$86","v":0},{"$f":"$BV$86+$DJ$86+$EX$86","v":0},{"$f":"$BW$86+$DK$86+$EY$86","v":0},{"$f":"$BX$86+$DL$86+$EZ$86","v":0},{"$f":"$BY$86+$DM$86+$FA$86","v":1},{"$f":"$BZ$86+$DN$86+$FB$86","v":0},{"$f":"$CA$86+$DO$86+$FC$86","v":0},{"$f":"$CB$86+$DP$86+$FD$86","v":0},{"$f":"$CC$86+$DQ$86+$FE$86","v":0},{"$f":"$CD$86+$DR$86+$FF$86","v":0},{"$f":"$CE$86+$DS$86+$FG$86","v":0},{"$f":"$CF$86+$DT$86+$FH$86","v":0},{"$f":"$CG$86+$DU$86+$FI$86","v":0},{"$f":"$CH$86+$DV$86+$FJ$86","v":0},{"$f":"$CI$86+$DW$86+$FK$86","v":0},{"$f":"$CJ$86+$DX$86+$FL$86","v":0},{"$f":"$CK$86+$DY$86+$FM$86","v":0},{"$f":"$CL$86+$DZ$86+$FN$86","v":0},{"$f":"$CM$86+$EA$86+$FO$86","v":0}]
[null,null,null,null,null,null,null,null,null,"Non Playing Substitute",{"$f":"COUNTIF($K$183:$K$191,\">=12\")-$K$194","v":0},{"$f":"COUNTIF($L$183:$L$191,\">=12\")-$L$194","v":0},{"$f":"COUNTIF($M$183:$M$191,\">=12\")-$M$194","v":0},{"$f":"COUNTIF($N$183:$N$191,\">=12\")-$N$194","v":0},{"$f":"COUNTIF($O$183:$O$191,\">=12\")-$O$194","v":0},{"$f":"COUNTIF($P$183:$P$191,\">=12\")-$P$194","v":0},{"$f":"COUNTIF($Q$183:$Q$191,\">=12\")-$Q$194","v":0},{"$f":"COUNTIF($R$183:$R$191,\">=12\")-$R$194","v":0},{"$f":"COUNTIF($S$183:$S$191,\">=12\")-$S$194","v":0},{"$f":"COUNTIF($T$183:$T$191,\">=12\")-$T$194","v":0},{"$f":"COUNTIF($U$183:$U$191,\">=12\")-$U$194","v":0},{"$f":"COUNTIF($V$183:$V$191,\">=12\")-$V$194","v":2},{"$f":"COUNTIF($W$183:$W$191,\">=12\")-$W$194","v":0},{"$f":"COUNTIF($X$183:$X$191,\">=12\")-$X$194","v":0},{"$f":"COUNTIF($Y$183:$Y$191,\">=12\")-$Y$194","v":0},{"$f":"COUNTIF($Z$183:$Z$191,\">=12\")-$Z$194","v":0},{"$f":"COUNTIF($AA$183:$AA$191,\">=12\")-$AA$194","v":0},{"$f":"COUNTIF($AB$183:$AB$191,\">=12\")-$AB$194","v":0},{"$f":"COUNTIF($AC$183:$AC$191,\">=12\")-$AC$194","v":0},{"$f":"COUNTIF($AD$183:$AD$191,\">=12\")-$AD$194","v":0},{"$f":"COUNTIF($AE$183:$AE$191,\">=12\")-$AE$194","v":0},{"$f":"COUNTIF($AF$183:$AF$191,\">=12\")-$AF$194","v":0},{"$f":"COUNTIF($AG$183:$AG$191,\">=12\")-$AG$194","v":0},{"$f":"COUNTIF($AH$183:$AH$191,\">=12\")-$AH$194","v":0},{"$f":"COUNTIF($AI$183:$AI$191,\">=12\")-$AI$194","v":0},{"$f":"COUNTIF($AJ$183:$AJ$191,\">=12\")-$AJ$194","v":0},{"$f":"COUNTIF($AK$183:$AK$191,\">=12\")-$AK$194","v":0},{"$f":"COUNTIF($AL$183:$AL$191,\">=12\")-$AL$194","v":0},{"$f":"COUNTIF($AM$183:$AM$191,\">=12\")-$AM$194","v":0},{"$f":"COUNTIF($AN$183:$AN$191,\">=12\")-$AN$194","v":0},{"$f":"COUNTIF($AO$183:$AO$191,\">=12\")-$AO$194","v":0},{"$f":"COUNTIF($AP$183:$AP$191,\">=12\")-$AP$194","v":0},{"$f":"COUNTIF($AQ$183:$AQ$191,\">=12\")-$AQ$194","v":0},{"$f":"COUNTIF($AR$183:$AR$191,\">=12\")-$AR$194","v":0},{"$f":"COUNTIF($AS$183:$AS$191,\">=12\")-$AS$194","v":0},{"$f":"COUNTIF($AT$183:$AT$191,\">=12\")-$AT$194","v":0},{"$f":"COUNTIF($AU$183:$AU$191,\">=12\")-$AU$194","v":0},{"$f":"COUNTIF($AV$183:$AV$191,\">=12\")-$AV$194","v":0}]
[null,null,null,null,null,null,null,null,null,"Goals",0,0,0,0,0,0,0,0,0,0,0,0,0,0,0,0,0,0,0,0,1,0,0,0,0,0,0,0,0,0,0,0,0,0,0,0,0,0]
[null,null,{"$f":"IF(J199=0,1,0)","v":0}]
[null,null,{"$f":"IF(J199=0,1,0)","v":0},null,null,null,null,"AutoWindscreensTrophy"]
[null,null,{"$f":"IF(J199=0,1,0)","v":0},{"$f":"D91","v":1},null,{"$f":"F91","v":"1996-12-07"},null,{"$f":"H91","v":"Hereford Utd"},"(A)","W 4-0",14,null,null,null,null,null,null,1,9,10,11,7,null,null,null,null,null,null,null,2,null,null,12,8,4,13,null,null,null,null,6,null,3,5]
[null,null,0,{"$f":"D92","v":2},null,"1997-01-07",null,"Colchester Utd","(H)","L 2-3",null,null,null,null,10,null,null,null,9,null,11,14,null,null,3,7,null,null,1,null,null,null,null,null,2,null,null,6,null,4,12,null,13,5,8]
[null,null,{"$f":"IF(J201=0,1,0)","v":1},0,null,"00:00:00",null,"00:00:00","00:00:00",0]
[null,null,1,0,null,"00:00:00",null,"00:00:00","00:00:00",0]
[null,null,1,0,null,"00:00:00",null,"00:00:00","00:00:00",0]
[null,null,1,0,null,"00:00:00",null,"00:00:00","00:00:00",0]
[null,null,1,0,null,"00:00:00",null,"00:00:00","00:00:00",0]
[null,null,1,0,null,"00:00:00",null,"00:00:00","00:00:00",0]
[null,null,1,0,null,"00:00:00",null,"00:00:00","00:00:00",0]
[]
[null,null,{"$f":"IF(J$199=0,1,0)","v":0},null,null,null,null,null,null,"Total AutoWindscreensTrophy Apperances",{"$f":"COUNT($K$199:$K$207)-$K$210-$K$211","v":0},{"$f":"COUNT($L$199:$L$207)-$L$210-$L$211","v":0},{"$f":"COUNT($M$199:$M$207)-$M$210-$M$211","v":0},{"$f":"COUNT($N$199:$N$207)-$N$210-$N$211","v":0},{"$f":"COUNT($O$199:$O$207)-$O$210-$O$211","v":1},{"$f":"COUNT($P$199:$P$207)-$P$210-$P$211","v":0},{"$f":"COUNT($Q$199:$Q$207)-$Q$210-$Q$211","v":0},{"$f":"COUNT($R$199:$R$207)-$R$210-$R$211","v":1},{"$f":"COUNT($S$199:$S$207)-$S$210-$S$211","v":2},{"$f":"COUNT($T$199:$T$207)-$T$210-$T$211","v":1},{"$f":"COUNT($U$199:$U$207)-$U$210-$U$211","v":2},{"$f":"COUNT($V$199:$V$207)-$V$210-$V$211","v":1},{"$f":"COUNT($W$199:$W$207)-$W$210-$W$211","v":0},{"$f":"COUNT($X$199:$X$207)-$X$210-$X$211","v":0},{"$f":"COUNT($Y$199:$Y$207)-$Y$210-$Y$211","v":1},{"$f":"COUNT($Z$199:$Z$207)-$Z$210-$Z$211","v":1},{"$f":"COUNT($AA$199:$AA$207)-$AA$210-$AA$211","v":0},{"$f":"COUNT($AB$199:$AB$207)-$AB$210-$AB$211","v":0},{"$f":"COUNT($AC$199:$AC$207)-$AC$210-$AC$211","v":1},{"$f":"COUNT($AD$199:$AD$207)-$AD$210-$AD$211","v":1},{"$f":"COUNT($AE$199:$AE$207)-$AE$210-$AE$211","v":0},{"$f":"COUNT($AF$199:$AF$207)-$AF$210-$AF$211","v":0},{"$f":"COUNT($AG$199:$AG$207)-$AG$210-$AG$211","v":0},{"$f":"COUNT($AH$199:$AH$207)-$AH$210-$AH$211","v":1},{"$f":"COUNT($AI$199:$AI$207)-$AI$210-$AI$211","v":2},{"$f":"COUNT($AJ$199:$AJ$207)-$AJ$210-$AJ$211","v":0},{"$f":"COUNT($AK$199:$AK$207)-$AK$210-$AK$211","v":0},{"$f":"COUNT($AL$199:$AL$207)-$AL$210-$AL$211","v":1},{"$f":"COUNT($AM$199:$AM$207)-$AM$210-$AM$211","v":0},{"$f":"COUNT($AN$199:$AN$207)-$AN$210-$AN$211","v":1},{"$f":"COUNT($AO$199:$AO$207)-$AO$210-$AO$211","v":1},{"$f":"COUNT($AP$199:$AP$207)-$AP$210-$AP$211","v":0},{"$f":"COUNT($AQ$199:$AQ$207)-$AQ$210-$AQ$211","v":1},{"$f":"COUNT($AR$199:$AR$207)-$AR$210-$AR$211","v":2},{"$f":"COUNT($AS$199:$AS$207)-$AS$210-$AS$211","v":1},{"$f":"COUNT($AT$199:$AT$207)-$AT$210-$AT$211","v":0},{"$f":"COUNT($AU$199:$AU$207)-$AU$210-$AU$211","v":0},{"$f":"COUNT($AV$199:$AV$207)-$AV$210-$AV$211","v":0}]
[null,null,{"$f":"IF(J$199=0,1,0)","v":0},null,null,null,null,null,null,"Total AutoWindscreensTrophy Sub Appearences ",{"$f":"$BB$102+$CP$102","v":0},{"$f":"$BC$102+$CQ$102","v":0},{"$f":"$BD$102+$CR$102","v":0},{"$f":"$BE$102+$CS$102","v":0},{"$f":"$BF$102+$CT$102","v":0},{"$f":"$BG$102+$CU$102","v":0},{"$f":"$BH$102+$CV$102","v":0},{"$f":"$BI$102+$CW$102","v":0},{"$f":"$BJ$102+$CX$102","v":0},{"$f":"$BK$102+$CY$102","v":0},{"$f":"$BL$102+$CZ$102","v":0},{"$f":"$BM$102+$DA$102","v":0},{"$f":"$BN$102+$DB$102","v":0},{"$f":"$BO$102+$DC$102","v":0},{"$f":"$BP$102+$DD$102","v":0},{"$f":"$BQ$102+$DE$102","v":0},{"$f":"$BR$102+$DF$102","v":0},{"$f":"$BS$102+$DG$102","v":0},{"$f":"$BT$102+$DH$102","v":0},{"$f":"$BU$102+$DI$102","v":0},{"$f":"$BV$102+$DJ$102","v":0},{"$f":"$BW$102+$DK$102","v":0},{"$f":"$BX$102+$DL$102","v":1},{"$f":"$BY$102+$DM$102","v":0},{"$f":"$BZ$102+$DN$102","v":0},{"$f":"$CA$102+$DO$102","v":0},{"$f":"$CB$102+$DP$102","v":0},{"$f":"$CC$102+$DQ$102","v":0},{"$f":"$CD$102+$DR$102","v":0},{"$f":"$CE$102+$DS$102","v":0},{"$f":"$CF$102+$DT$102","v":1},{"$f":"$CG$102+$DU$102","v":0},{"$f":"$CH$102+$DV$102","v":0},{"$f":"$CI$210+$DW$210","v":0},{"$f":"$CH$102+$DV$102","v":0},{"$f":"$CI$210+$DW$210","v":0},{"$f":"$CH$102+$DV$102","v":0},{"$f":"$CI$210+$DW$210","v":0}]
[null,null,0,null,null,null,null,null,null,"Non Playing Substitute",{"$f":"COUNTIF($K$199:$K$207,\">=12\")-$K$210","v":1},{"$f":"COUNTIF($L$199:$L$207,\">=12\")-$L$210","v":0},{"$f":"COUNTIF($M$199:$M$207,\">=12\")-$M$210","v":0},{"$f":"COUNTIF($N$199:$N$207,\">=12\")-$N$210","v":0},{"$f":"COUNTIF($O$199:$O$207,\">=12\")-$O$210","v":0},{"$f":"COUNTIF($P$199:$P$207,\">=12\")-$P$210","v":0},{"$f":"COUNTIF($Q$199:$Q$207,\">=12\")-$Q$210","v":0},{"$f":"COUNTIF($R$199:$R$207,\">=12\")-$R$210","v":0},{"$f":"COUNTIF($S$199:$S$207,\">=12\")-$S$210","v":0},{"$f":"COUNTIF($T$199:$T$207,\">=12\")-$T$210","v":0},{"$f":"COUNTIF($U$199:$U$207,\">=12\")-$U$210","v":0},{"$f":"COUNTIF($V$199:$V$207,\">=12\")-$V$210","v":1},{"$f":"COUNTIF($W$199:$W$207,\">=12\")-$W$210","v":0},{"$f":"COUNTIF($X$199:$X$207,\">=12\")-$X$210","v":0},{"$f":"COUNTIF($Y$199:$Y$207,\">=12\")-$Y$210","v":0},{"$f":"COUNTIF($Z$199:$Z$207,\">=12\")-$Z$210","v":0},{"$f":"COUNTIF($AA$199:$AA$207,\">=12\")-$AA$210","v":0},{"$f":"COUNTIF($AB$199:$AB$207,\">=12\")-$AB$210","v":0},{"$f":"COUNTIF($AC$199:$AC$207,\">=12\")-$AC$210","v":0},{"$f":"COUNTIF($AD$199:$AD$207,\">=12\")-$AD$210","v":0},{"$f":"COUNTIF($AE$199:$AE$207,\">=12\")-$AE$210","v":0},{"$f":"COUNTIF($AF$199:$AF$207,\">=12\")-$AF$210","v":0},{"$f":"COUNTIF($AG$199:$AG$207,\">=12\")-$AG$210","v":0},{"$f":"COUNTIF($AH$199:$AH$207,\">=12\")-$AH$210","v":0},{"$f":"COUNTIF($AI$199:$AI$207,\">=12\")-$AI$210","v":0},{"$f":"COUNTIF($AJ$199:$AJ$207,\">=12\")-$AJ$210","v":1},{"$f":"COUNTIF($AK$199:$AK$207,\">=12\")-$AK$210","v":0},{"$f":"COUNTIF($AL$199:$AL$207,\">=12\")-$AL$210","v":0},{"$f":"COUNTIF($AM$199:$AM$207,\">=12\")-$AM$210","v":0},{"$f":"COUNTIF($AN$199:$AN$207,\">=12\")-$AN$210","v":0},{"$f":"COUNTIF($AO$199:$AO$207,\">=12\")-$AO$210","v":0},{"$f":"COUNTIF($AP$199:$AP$207,\">=12\")-$AP$210","v":0},{"$f":"COUNTIF($AQ$199:$AQ$207,\">=12\")-$AQ$210","v":1},{"$f":"COUNTIF($AR$199:$AR$207,\">=12\")-$AR$210","v":0},{"$f":"COUNTIF($AS$199:$AS$207,\">=12\")-$AS$210","v":0},{"$f":"COUNTIF($AT$199:$AT$207,\">=12\")-$AT$210","v":0},{"$f":"COUNTIF($AU$199:$AU$207,\">=12\")-$AU$210","v":0},{"$f":"COUNTIF($AV$199:$AV$207,\">=12\")-$AV$210","v":0}]
[null,null,0,null,null,null,null,null,null,"Goals",0,0,0,0,0,0,0,0,3,2,0,0,0,0,0,0,0,0,0,0,0,0,0,0,0,0,0,0,0,1,0,0,0,0,0,0,0,0]
[null,null,1]
[null,null,1]
[]
[]
[]
[]
["Manual Input",null,null,null,null,null,null,"Opponents","Venue/Result",null,{"$f":"K3","v":"Aris"},{"$f":"L3","v":"Berry"},{"$f":"M3","v":"Bircham"},"Bowry","Bright","Cadette","Canoville","Carter","Crawford","Dair","Dolby","Doyle","Fitzgerald","Forbes","Harle","Hartley","Hockton","Huckerby","Iga","Lavin","Malkin","McLeary","McRobert","Neill","Newman","Robertson","Roche","Rogan","Sadlier","Savage","Sinclair","Stevens","Van Blerk","Webber","Wilkins","Witter",0,0]
[null,null,{"$f":"IF(J220=0,1,0)","v":0},1,null,{"$f":"F5","v":"1996-08-17"},null,{"$f":"H5","v":"Wrexham"},"(H)","D 1-1",null,null,null,7,null,null,null,1,10,11,12,2,null,null,null,13,null,null,null,null,9,null,null,14,3,null,null,null,null,8,4,6,null,null,null,5]
[null,null,0,2,null,"1996-08-24",null,"Watford","(A)","W 2-0",null,null,null,7,null,null,null,1,10,11,null,12,null,null,3,13,null,null,null,null,9,null,null,14,2,null,null,null,null,8,null,6,null,4,null,5]
[null,null,0,3,null,"1996-08-27",null,"York","(A)","L 2-3",null,null,null,7,null,null,null,1,10,11,null,12,null,null,3,14,null,null,null,null,9,null,null,13,2,null,null,null,null,8,null,6,null,4,null,5]
[null,null,0,4,null,"1996-08-31",null,"Burnley","(H)","W 2-1",null,null,null,7,null,null,null,1,10,11,13,14,null,null,12,null,null,null,null,null,9,null,null,3,2,null,null,null,null,8,null,6,null,4,null,5]
[null,null,0,5,null,"1996-09-07",null,"Bristol R","(H)","W 2-0",null,null,null,7,null,null,null,1,null,10,null,14,null,null,13,11,null,9,null,null,12,null,null,8,2,null,null,3,null,null,null,6,null,4,null,5]
[null,null,0,6,null,"1996-09-10",null,"Peterborough","(A)","D 3-3",null,null,null,7,null,null,null,1,14,11,null,6,null,null,12,13,null,10,null,null,9,null,null,8,2,null,null,3,null,null,null,null,null,4,null,5]
[null,null,0,7,null,"1996-09-14",null,"Notts Co","(A)","W 2-1",null,null,null,7,null,null,null,1,14,11,null,4,null,null,12,13,null,10,null,null,9,null,null,8,2,null,null,3,null,null,null,null,null,6,null,5]
[null,null,0,8,null,"1996-09-21",null,"Crewe","(H)","W 2-0",null,null,null,7,null,null,null,1,9,11,null,2,null,null,13,14,null,10,null,null,12,null,null,8,4,null,null,3,null,null,null,null,null,6,null,5]
[null,null,0,9,null,"1996-09-28",null,"Preston","(A)","L 1-2",null,null,null,7,null,null,null,1,8,11,null,2,null,null,null,13,null,10,null,null,9,null,null,null,4,null,null,3,null,14,12,null,null,6,null,5]
[null,null,0,10,null,"1996-10-02",null,"Stockport","(H)","L 3-4",null,null,null,7,null,null,null,1,9,null,null,2,null,null,12,13,14,10,null,null,null,null,null,8,4,null,null,3,null,11,null,null,null,6,null,5]
[null,null,0,11,null,"1996-10-05",null,"Plymouth","(A)","D 0-0",null,null,null,7,null,null,null,1,null,11,10,2,null,null,5,9,14,null,null,null,null,null,null,8,12,13,null,3,null,6,null,null,null,4]
[null,null,0,12,null,"1996-10-12",null,"Chesterfield","(H)","W 2-1",null,null,null,7,null,null,null,1,9,13,10,12,6,null,14,11,null,null,null,null,null,null,null,8,2,null,null,3,null,4,null,null,null,null,null,5]
[null,null,0,13,null,"1996-10-16",null,"Bury","(H)","W 1-0",null,null,null,7,null,null,null,1,9,13,11,12,6,null,14,10,null,null,null,null,null,null,null,8,2,null,null,3,null,4,null,null,null,null,null,5]
[null,null,0,14,null,"1996-10-19",null,"Gillingham","(A)","W 3-2",null,null,null,7,null,null,null,1,9,13,11,12,6,null,14,10,null,null,null,null,null,null,null,8,2,null,null,3,null,4,null,null,null,null,null,5]
[null,null,0,15,null,"1996-10-26",null,"Brentford","(A)","D 0-0",null,null,null,7,null,null,null,1,9,13,11,12,6,null,14,10,null,null,null,null,null,null,null,8,2,null,null,3,null,4,null,null,null,null,null,5]
[null,null,0,16,null,"1996-10-30",null,"Blackpool","(H)","W 2-1",null,null,null,7,null,null,null,1,9,13,11,12,6,null,14,10,null,null,null,null,null,null,null,8,2,null,null,3,null,4,null,null,null,null,null,5]
[null,null,0,17,null,"1996-11-02",null,{"$f":"H21","v":"Walsall"},"(H)","W 1-0",null,null,null,7,null,null,null,1,9,4,10,null,6,null,12,11,14,null,null,13,null,null,null,8,2,null,null,3,null,null,null,null,null,null,null,5]
[null,null,0,18,null,"1996-11-09",null,"Bristol C","(A)","D 1-1",null,null,null,7,null,null,null,1,9,10,null,null,6,null,3,11,null,null,null,12,null,null,null,8,2,null,null,null,null,4,null,null,13,14,null,5]
[null,null,0,19,null,"1996-11-20",null,"Shrewsbury","(H)","W 2-1",null,null,null,7,null,null,null,1,9,10,14,12,null,null,null,11,null,null,null,2,null,null,null,8,6,null,null,3,null,4,13,null,null,5]
[null,null,0,20,null,"1996-11-23",null,"Rotherham","(A)","D 0-0",null,null,null,7,null,null,null,1,9,10,14,12,null,null,null,11,null,null,null,2,null,null,null,8,6,null,null,3,null,4,13,null,null,5]
[null,null,0,21,null,"1996-11-29",null,"Brentford","(H)","D 0-0",null,null,null,null,null,null,null,1,9,10,12,13,null,null,null,11,null,null,null,2,null,null,null,8,4,null,null,3,null,7,6,null,14,5]
[null,null,0,22,null,"1996-12-03",null,"Wycombe","(A)","L 0-1",null,null,null,7,null,null,null,1,9,10,13,12,null,null,null,11,null,null,null,2,null,null,null,8,null,null,null,3,null,4,6,null,14,5,null,null,null,null,null,null,null,"Contary to Newspaper reports Van Blerk for Savage"]
[null,null,0,23,null,"1996-12-14",null,"Bournemouth","(A)","D 1-1",null,null,null,null,10,null,null,1,9,11,12,14,null,null,null,13,null,null,null,2,null,null,null,8,7,null,null,null,null,4,6,null,3,5]
[null,null,0,24,null,"1996-12-18",null,"Luton","(H)","L 0-1",null,null,null,null,10,null,null,1,9,11,14,null,null,null,13,7,null,null,null,2,null,null,null,8,4,null,null,6,null,12,5,null,3]
[null,null,0,25,null,"1996-12-26",null,"Peterborough","(H)","L 0-2",null,null,null,null,10,null,null,1,9,11,14,null,null,null,6,7,null,null,13,2,null,null,null,null,8,null,null,3,null,null,4,null,12,5]
[null,null,0,26,null,"1997-01-11",null,"Preston","(H)","W 3-2",null,null,2,14,null,10,null,1,9,null,13,null,null,null,6,11,null,null,null,null,null,null,null,null,4,null,3,null,null,7,12,null,null,5,8]
[null,null,0,27,null,"1997-01-18",null,"Stockport","(A)","L 1-5",null,null,2,14,null,10,null,1,9,null,13,null,null,null,6,11,null,null,null,null,null,null,null,null,4,null,3,null,null,7,12,null,null,5,8]
[null,null,0,28,null,"1997-01-25",null,"Blackpool","(A)","L 0-3",null,null,null,7,null,10,null,1,9,null,12,null,null,null,3,11,null,null,null,null,null,null,null,14,2,null,null,6,null,4,13,null,null,5,8]
[null,null,0,29,null,"1997-02-01",null,"Bristol C","(H)","L 0-2",null,null,null,8,null,null,null,1,9,10,11,null,null,null,12,13,null,null,null,null,null,null,null,7,2,null,null,3,14,4,null,6,null,null,null,5]
[null,null,0,30,null,"1997-02-08",null,"Walsall","(A)","L 1-2",null,null,null,4,null,null,null,1,9,11,10,null,null,null,12,8,null,null,null,null,null,null,13,2,6,null,null,3,14,7,null,null,null,5]
[null,null,0,31,null,"1997-02-15",null,"Rotherham","(H)","W 2-0",null,3,14,null,null,10,null,1,9,13,null,12,null,null,null,7,null,null,null,null,null,null,11,2,4,null,null,null,null,8,null,null,null,5,null,6]
[null,null,0,32,null,"1997-02-22",null,"Shrewsbury","(A)","D 1-1",null,3,12,null,null,10,null,1,9,null,null,13,null,14,null,7,null,null,null,null,null,5,11,2,4,null,null,null,null,8,null,null,null,null,null,6]
[null,null,0,33,null,"1997-02-25",null,{"$f":"H37","v":"Notts Co"},"(H)","W 1-0",null,3,null,null,null,10,null,1,9,null,12,13,null,14,null,7,null,null,null,null,null,5,11,2,4,null,null,null,null,8,null,null,null,null,null,6]
[null,null,0,34,null,"1997-03-01",null,"Wycombe","(H)","W 2-1",null,3,14,null,null,10,null,1,9,null,11,8,null,null,null,7,null,null,null,null,null,5,null,2,4,null,13,null,null,null,null,null,null,12,null,6]
[null,null,0,35,null,"1997-03-08",null,"Luton","(A)","W 2-0",null,3,14,null,null,null,null,1,9,null,11,8,null,null,null,7,null,null,null,null,null,5,null,2,null,null,10,null,13,4,null,null,null,12,null,6]
[null,null,0,36,null,"1997-03-15",null,"Bournemouth","(H)","L 0-1",null,3,14,null,null,null,null,1,9,null,11,8,null,null,null,7,null,null,null,null,null,5,null,2,null,null,13,null,10,4,null,null,null,12,null,6]
[null,null,0,37,null,"1997-03-18",null,"Crewe","(A)","D 0-0",null,3,14,null,null,null,null,1,9,null,11,8,null,null,null,7,null,null,null,null,null,5,null,2,4,null,13,null,10,null,null,null,null,12,null,6]
[null,null,0,38,null,"1997-03-22",null,"Watford","(H)","L 0-1",null,3,14,null,null,null,13,1,9,null,11,8,null,null,null,7,null,null,null,null,null,5,null,2,4,null,10,null,null,null,null,null,null,12,null,6]
[null,null,0,39,null,"1997-03-28",null,"Wrexham","(A)","D 3-3",null,3,null,null,null,null,null,1,9,null,11,8,null,null,null,7,null,null,null,null,null,5,null,2,4,null,null,12,10,13,null,null,null,14,null,6]
[null,null,0,40,null,"1997-04-02",null,"York","(H)","D 1-1",13,3,2,null,null,null,14,1,9,null,null,8,null,null,null,7,null,null,null,null,null,5,null,null,null,null,12,11,10,4,null,null,null,6]
[null,null,0,41,null,"1997-04-05",null,"Burnley","(A)","L 0-1",null,null,2,null,null,null,14,1,9,null,null,8,null,null,null,7,null,null,null,null,null,5,null,11,13,null,null,3,10,4,null,null,null,12,null,6]
[null,null,0,42,null,"1997-04-08",null,"Bristol R","(A)","L 0-1",null,null,13,null,null,null,null,1,9,null,null,8,null,null,3,7,null,null,null,null,null,5,null,2,4,null,null,12,10,11,null,null,null,14,null,6]
[null,null,0,43,null,"1997-04-12",null,"Plymouth","(H)","D 0-0",null,11,2,null,null,null,null,1,9,null,null,8,null,null,3,7,null,null,null,null,null,5,null,null,4,null,null,12,10,13,null,null,null,14,null,6]
[null,null,0,44,null,"1997-04-19",null,"Chesterfield","(A)","L 0-1",null,14,2,null,null,null,13,1,9,null,null,8,null,null,3,7,null,null,null,null,null,5,null,null,4,null,null,12,null,11,null,null,null,10,null,6]
[null,null,{"$f":"IF(J264=0,1,0)","v":0},45,null,"1997-04-26",null,"Gillingham","(H)","L 0-2",null,11,14,9,null,null,13,1,null,null,null,8,null,null,3,7,null,null,null,null,null,5,null,2,12,null,null,4,null,null,null,null,null,10,null,6]
[null,null,{"$f":"IF(J265=0,1,0)","v":0},46,null,"1997-05-03",null,"Bury","(A)","L 0-2",null,11,14,9,null,null,null,1,null,null,null,12,null,null,13,7,null,null,null,null,null,5,null,2,3,null,null,4,null,8,null,null,null,10,null,6]
[null,null,{"$f":"IF(J266=0,1,0)","v":1},47,null,"00:00:00",null,"00:00:00","00:00:00",0]
[null,null,1,48,null,"00:00:00",null,"00:00:00","00:00:00",0]
[null,null,1,49,null,"00:00:00",null,{"$f":"H53","v":"00:00:00"},"00:00:00",0]
[]
[null,null,null,null,null,null,null,null,null,"Total League Apperances",{"$f":"COUNT($K$220:$K$268)-$K$271-$K$272","v":0},{"$f":"COUNT($L$220:$L$268)-$L$271-$L$272","v":13},{"$f":"COUNT($M$220:$M$268)-$M$271-$M$272","v":6},{"$f":"COUNT($N$220:$N$268)-$N$271-$N$272","v":26},{"$f":"COUNT($O$220:$O$268)-$O$271-$O$272","v":3},{"$f":"COUNT($P$220:$P$268)-$P$271-$P$272","v":7},{"$f":"COUNT($Q$220:$Q$268)-$Q$271-$Q$272","v":0},{"$f":"COUNT($R$220:$R$268)-$R$271-$R$272","v":46},{"$f":"COUNT($S$220:$S$268)-$S$271-$S$272","v":40},{"$f":"COUNT($T$220:$T$268)-$T$271-$T$272","v":21},{"$f":"COUNT($U$220:$U$268)-$U$271-$U$272","v":15},{"$f":"COUNT($V$220:$V$268)-$V$271-$V$272","v":19},{"$f":"COUNT($W$220:$W$268)-$W$271-$W$272","v":7},{"$f":"COUNT($X$220:$X$268)-$X$271-$X$272","v":0},{"$f":"COUNT($Y$220:$Y$268)-$Y$271-$Y$272","v":12},{"$f":"COUNT($Z$220:$Z$268)-$Z$271-$Z$272","v":35},{"$f":"COUNT($AA$220:$AA$268)-$AA$271-$AA$272","v":0},{"$f":"COUNT($AB$220:$AB$268)-$AB$271-$AB$272","v":6},{"$f":"COUNT($AC$220:$AC$268)-$AC$271-$AC$272","v":0},{"$f":"COUNT($AD$220:$AD$268)-$AD$271-$AD$272","v":7},{"$f":"COUNT($AE$220:$AE$268)-$AE$271-$AE$272","v":7},{"$f":"COUNT($AF$220:$AF$268)-$AF$271-$AF$272","v":15},{"$f":"COUNT($AG$220:$AG$268)-$AG$271-$AG$272","v":3},{"$f":"COUNT($AH$220:$AH$268)-$AH$271-$AH$272","v":35},{"$f":"COUNT($AI$220:$AI$268)-$AI$271-$AI$272","v":39},{"$f":"COUNT($AJ$220:$AJ$268)-$AJ$271-$AJ$272","v":0},{"$f":"COUNT($AK$220:$AK$268)-$AK$271-$AK$272","v":4},{"$f":"COUNT($AL$220:$AL$268)-$AL$271-$AL$272","v":26},{"$f":"COUNT($AM$220:$AM$268)-$AM$271-$AM$272","v":7},{"$f":"COUNT($AN$220:$AN$268)-$AN$271-$AN$272","v":32},{"$f":"COUNT($AO$220:$AO$268)-$AO$271-$AO$272","v":6},{"$f":"COUNT($AP$220:$AP$268)-$AP$271-$AP$272","v":6},{"$f":"COUNT($AQ$220:$AQ$268)-$AQ$271-$AQ$272","v":2},{"$f":"COUNT($AR$220:$AR$268)-$AR$271-$AR$272","v":25},{"$f":"COUNT($AS$220:$AS$268)-$AS$271-$AS$272","v":3},{"$f":"COUNT($AT$220:$AT$268)-$AT$271-$AT$272","v":33},{"$f":"COUNT($AU$220:$AU$268)-$AU$271-$AU$272","v":0},{"$f":"COUNT($AV$220:$AV$268)-$AV$271-$AV$272","v":0}]
[null,null,null,null,null,null,null,null,null,"Total League Substitute Appearences ",{"$f":"$BB$56+$CP$56+$ED$56","v":0},{"$f":"$BC$56+$CQ$56+$EE$56","v":1},{"$f":"$BD$56+$CR$56+$EF$56","v":0},{"$f":"$BE$56+$CS$56+$EG$56","v":2},{"$f":"$BF$56+$CT$56+$EH$56","v":0},{"$f":"$BG$56+$CU$56+$EI$56","v":0},{"$f":"$BH$56+$CV$56+$EJ$56","v":2},{"$f":"$BI$56+$CW$56+$EK$56","v":0},{"$f":"$BJ$56+$CX$56+$EL$56","v":2},{"$f":"$BK$56+$CY$56+$EM$56","v":3},{"$f":"$BL$56+$CZ$56+$EN$56","v":6},{"$f":"$BM$56+$DA$56+$EO$56","v":9},{"$f":"$BN$56+$DB$56+$EP$56","v":0},{"$f":"$BO$56+$DC$56+$EQ$56","v":0},{"$f":"$BP$56+$DD$56+$ER$56","v":9},{"$f":"$BQ$56+$DE$56+$ES$56","v":9},{"$f":"$BR$56+$DF$56+$ET$56","v":2},{"$f":"$BS$56+$DG$56+$EU$56","v":0},{"$f":"$BT$56+$DH$56+$EV$56","v":1},{"$f":"$BU$56+$DI$56+$EW$56","v":2},{"$f":"$BV$56+$DJ$56+$EX$56","v":2},{"$f":"$BW$56+$DK$56+$EY$56","v":0},{"$f":"$BX$56+$DL$56+$EZ$56","v":1},{"$f":"$BY$56+$DM$56+$FA$56","v":4},{"$f":"$BZ$56+$DN$56+$FB$56","v":2},{"$f":"$CA$56+$DO$56+$FC$56","v":1},{"$f":"$CB$56+$DP$56+$FD$56","v":3},{"$f":"$CC$56+$DQ$56+$FE$56","v":2},{"$f":"$CD$56+$DR$56+$FF$56","v":3},{"$f":"$CE$56+$DS$56+$FG$56","v":3},{"$f":"$CF$56+$DT$56+$FH$56","v":2},{"$f":"$CG$56+$DU$56+$FI$56","v":0},{"$f":"$CH$56+$DV$56+$FJ$56","v":3},{"$f":"$CI$56+$DW$56+$FK$56","v":1},{"$f":"$CJ$56+$DX$56+$FL$56","v":0},{"$f":"$CK$56+$DY$56+$FM$56","v":0},{"$f":"$CL$56+$DZ$56+$FN$56","v":0},{"$f":"$CM$56+$EA$56+$FO$56","v":0}]
[null,null,null,null,null,null,null,null,null,"Non Playing Substitute",{"$f":"COUNTIF($K$220:$K$268,\">=12\")-$K$271","v":1},{"$f":"COUNTIF($L$220:$L$268,\">=12\")-$L$271","v":0},{"$f":"COUNTIF($M$220:$M$268,\">=12\")-$M$271","v":10},{"$f":"COUNTIF($N$220:$N$268,\">=12\")-$N$271","v":0},{"$f":"COUNTIF($O$220:$O$268,\">=12\")-$O$271","v":0},{"$f":"COUNTIF($P$220:$P$268,\">=12\")-$P$271","v":0},{"$f":"COUNTIF($Q$220:$Q$268,\">=12\")-$Q$271","v":3},{"$f":"COUNTIF($R$220:$R$268,\">=12\")-$R$271","v":0},{"$f":"COUNTIF($S$220:$S$268,\">=12\")-$S$271","v":0},{"$f":"COUNTIF($T$220:$T$268,\">=12\")-$T$271","v":3},{"$f":"COUNTIF($U$220:$U$268,\">=12\")-$U$271","v":7},{"$f":"COUNTIF($V$220:$V$268,\">=12\")-$V$271","v":9},{"$f":"COUNTIF($W$220:$W$268,\">=12\")-$W$271","v":0},{"$f":"COUNTIF($X$220:$X$268,\">=12\")-$X$271","v":2},{"$f":"COUNTIF($Y$220:$Y$268,\">=12\")-$Y$271","v":7},{"$f":"COUNTIF($Z$220:$Z$268,\">=12\")-$Z$271","v":1},{"$f":"COUNTIF($AA$220:$AA$268,\">=12\")-$AA$271","v":1},{"$f":"COUNTIF($AB$220:$AB$268,\">=12\")-$AB$271","v":0},{"$f":"COUNTIF($AC$220:$AC$268,\">=12\")-$AC$271","v":0},{"$f":"COUNTIF($AD$220:$AD$268,\">=12\")-$AD$271","v":0},{"$f":"COUNTIF($AE$220:$AE$268,\">=12\")-$AE$271","v":0},{"$f":"COUNTIF($AF$220:$AF$268,\">=12\")-$AF$271","v":0},{"$f":"COUNTIF($AG$220:$AG$268,\">=12\")-$AG$271","v":0},{"$f":"COUNTIF($AH$220:$AH$268,\">=12\")-$AH$271","v":0},{"$f":"COUNTIF($AI$220:$AI$268,\">=12\")-$AI$271","v":1},{"$f":"COUNTIF($AJ$220:$AJ$268,\">=12\")-$AJ$271","v":0},{"$f":"COUNTIF($AK$220:$AK$268,\">=12\")-$AK$271","v":1},{"$f":"COUNTIF($AL$220:$AL$268,\">=12\")-$AL$271","v":2},{"$f":"COUNTIF($AM$220:$AM$268,\">=12\")-$AM$271","v":0},{"$f":"COUNTIF($AN$220:$AN$268,\">=12\")-$AN$271","v":1},{"$f":"COUNTIF($AO$220:$AO$268,\">=12\")-$AO$271","v":4},{"$f":"COUNTIF($AP$220:$AP$268,\">=12\")-$AP$271","v":0},{"$f":"COUNTIF($AQ$220:$AQ$268,\">=12\")-$AQ$271","v":1},{"$f":"COUNTIF($AR$220:$AR$268,\">=12\")-$AR$271","v":9},{"$f":"COUNTIF($AS$220:$AS$268,\">=12\")-$AS$271","v":0},{"$f":"COUNTIF($AT$220:$AT$268,\">=12\")-$AT$271","v":0},{"$f":"COUNTIF($AU$220:$AU$268,\">=12\")-$AU$271","v":0},{"$f":"COUNTIF($AV$220:$AV$268,\">=12\")-$AV$271","v":0}]
[null,null,null,null,null,null,null,null,null,"Goals",0,0,0,1,1,1,0,0,11,1,2,1,0,0,1,4,0,3,0,0,2,0,0,4,3,0,0,8,0,3,0,0,0,2,0,0,0,0]
[]
[null,null,null,null,null,null,null,"FA Cup"]
[null,null,{"$f":"IF(J276=0,1,0)","v":0},{"$f":"D61","v":1},null,{"$f":"F61","v":"1996-11-15"},null,{"$f":"H61","v":"Woking"},"(A)","D 2-2",null,null,null,7,null,null,null,1,9,10,null,null,null,null,6,11,null,null,null,13,null,null,null,8,2,null,null,3,null,4,null,null,14,12,null,5]
[null,null,0,{"$f":"D62","v":"1R"},null,"1996-11-26",null,"Woking","(H)","L 0-1",null,null,null,7,null,null,null,1,9,10,14,12,null,null,null,11,null,null,null,2,null,null,null,8,6,null,null,3,null,4,13,null,null,5]
[null,null,1,0,null,"00:00:00",null,"00:00:00","00:00:00",0]
[null,null,1,0,null,"00:00:00",null,"00:00:00","00:00:00",0]
[null,null,1,0,null,"00:00:00",null,"00:00:00","00:00:00",0]
[null,null,1,0,null,"00:00:00",null,"00:00:00","00:00:00",0]
[null,null,1,0,null,"00:00:00",null,"00:00:00","00:00:00",0]
[]
[null,null,null,null,null,null,null,null,null,"Total FA Cup Apperances",{"$f":"COUNT($K$276:$K$282)-$K$285-$K$286","v":0},{"$f":"COUNT($L$276:$L$282)-$L$285-$L$286","v":0},{"$f":"COUNT($M$276:$M$282)-$M$285-$M$286","v":0},{"$f":"COUNT($N$276:$N$282)-$N$285-$N$286","v":2},{"$f":"COUNT($O$276:$O$282)-$O$285-$O$286","v":0},{"$f":"COUNT($P$276:$P$282)-$P$285-$P$286","v":0},{"$f":"COUNT($Q$276:$Q$282)-$Q$285-$Q$286","v":0},{"$f":"COUNT($R$276:$R$282)-$R$285-$R$286","v":2},{"$f":"COUNT($S$276:$S$282)-$S$285-$S$286","v":2},{"$f":"COUNT($T$276:$T$282)-$T$285-$T$286","v":2},{"$f":"COUNT($U$276:$U$282)-$U$285-$U$286","v":0},{"$f":"COUNT($V$276:$V$282)-$V$285-$V$286","v":0},{"$f":"COUNT($W$276:$W$282)-$W$285-$W$286","v":0},{"$f":"COUNT($X$276:$X$282)-$X$285-$X$286","v":0},{"$f":"COUNT($Y$276:$Y$282)-$Y$285-$Y$286","v":1},{"$f":"COUNT($Z$276:$Z$282)-$Z$285-$Z$286","v":2},{"$f":"COUNT($AA$276:$AA$282)-$AA$285-$AA$286","v":0},{"$f":"COUNT($AB$276:$AB$282)-$AB$285-$AB$286","v":0},{"$f":"COUNT($AC$276:$AC$282)-$AC$285-$AC$286","v":0},{"$f":"COUNT($AD$276:$AD$282)-$AD$285-$AD$286","v":1},{"$f":"COUNT($AE$276:$AE$282)-$AE$285-$AE$286","v":0},{"$f":"COUNT($AF$276:$AF$282)-$AF$285-$AF$286","v":0},{"$f":"COUNT($AG$276:$AG$282)-$AG$285-$AG$286","v":0},{"$f":"COUNT($AH$276:$AH$282)-$AH$285-$AH$286","v":2},{"$f":"COUNT($AI$276:$AI$282)-$AI$285-$AI$286","v":2},{"$f":"COUNT($AJ$276:$AJ$282)-$AJ$285-$AJ$286","v":0},{"$f":"COUNT($AK$276:$AK$282)-$AK$285-$AK$286","v":0},{"$f":"COUNT($AL$276:$AL$282)-$AL$285-$AL$286","v":2},{"$f":"COUNT($AM$276:$AM$282)-$AM$285-$AM$286","v":0},{"$f":"COUNT($AN$276:$AN$282)-$AN$285-$AN$286","v":2},{"$f":"COUNT($AO$276:$AO$282)-$AO$285-$AO$286","v":0},{"$f":"COUNT($AP$276:$AP$282)-$AP$285-$AP$286","v":0},{"$f":"COUNT($AQ$276:$AQ$282)-$AQ$285-$AQ$286","v":0},{"$f":"COUNT($AR$276:$AR$282)-$AR$285-$AR$286","v":1},{"$f":"COUNT($AS$276:$AS$282)-$AS$285-$AS$286","v":0},{"$f":"COUNT($AT$276:$AT$282)-$AT$285-$AT$286","v":1},{"$f":"COUNT($AU$276:$AU$282)-$AU$285-$AU$286","v":0},{"$f":"COUNT($AV$276:$AV$282)-$AV$285-$AV$286","v":0}]
[null,null,null,null,null,null,null,null,null,"Total FA Cup Substitute Appearences ",{"$f":"$BB$70+$CP$70+$ED$70","v":0},{"$f":"$BC$70+$CQ$70+$EE$70","v":0},{"$f":"$BD$70+$CR$70+$EF$70","v":0},{"$f":"$BE$70+$CS$70+$EG$70","v":0},{"$f":"$BF$70+$CT$70+$EH$70","v":0},{"$f":"$BG$70+$CU$70+$EI$70","v":0},{"$f":"$BH$70+$CV$70+$EJ$70","v":0},{"$f":"$BI$70+$CW$70+$EK$70","v":0},{"$f":"$BJ$70+$CX$70+$EL$70","v":0},{"$f":"$BK$70+$CY$70+$EM$70","v":0},{"$f":"$BL$70+$CZ$70+$EN$70","v":1},{"$f":"$BM$70+$DA$70+$EO$70","v":0},{"$f":"$BN$70+$DB$70+$EP$70","v":0},{"$f":"$BO$70+$DC$70+$EQ$70","v":0},{"$f":"$BP$70+$DD$70+$ER$70","v":0},{"$f":"$BQ$70+$DE$70+$ES$70","v":0},{"$f":"$BR$70+$DF$70+$ET$70","v":0},{"$f":"$BS$70+$DG$70+$EU$70","v":0},{"$f":"$BT$70+$DH$70+$EV$70","v":0},{"$f":"$BU$70+$DI$70+$EW$70","v":1},{"$f":"$BV$70+$DJ$70+$EX$70","v":0},{"$f":"$BW$70+$DK$70+$EY$70","v":0},{"$f":"$BX$70+$DL$70+$EZ$70","v":0},{"$f":"$BY$70+$DM$70+$FA$70","v":0},{"$f":"$BZ$70+$DN$70+$FB$70","v":0},{"$f":"$CA$70+$DO$70+$FC$70","v":0},{"$f":"$CB$70+$DP$70+$FD$70","v":0},{"$f":"$CC$70+$DQ$70+$FE$70","v":0},{"$f":"$CD$70+$DR$70+$FF$70","v":0},{"$f":"$CE$70+$DS$70+$FG$70","v":0},{"$f":"$CF$70+$DT$70+$FH$70","v":1},{"$f":"$CG$70+$DU$70+$FI$70","v":0},{"$f":"$CH$70+$DV$70+$FJ$70","v":1},{"$f":"$CI$70+$DW$70+$FK$70","v":0},{"$f":"$CJ$70+$DX$70+$FL$70","v":0},{"$f":"$CK$70+$DY$70+$FM$70","v":0},{"$f":"$CL$70+$DZ$70+$FN$70","v":0},{"$f":"$CM$70+$EA$70+$FO$70","v":0}]
[null,null,null,null,null,null,null,null,null,"Non Playing Substitute",{"$f":"COUNTIF($K$276:$K$282,\">=12\")-$K$285","v":0},{"$f":"COUNTIF($L$276:$L$282,\">=12\")-$L$285","v":0},{"$f":"COUNTIF($M$276:$M$282,\">=12\")-$M$285","v":0},{"$f":"COUNTIF($N$276:$N$282,\">=12\")-$N$285","v":0},{"$f":"COUNTIF($O$276:$O$282,\">=12\")-$O$285","v":0},{"$f":"COUNTIF($P$276:$P$282,\">=12\")-$P$285","v":0},{"$f":"COUNTIF($Q$276:$Q$282,\">=12\")-$Q$285","v":0},{"$f":"COUNTIF($R$276:$R$282,\">=12\")-$R$285","v":0},{"$f":"COUNTIF($S$276:$S$282,\">=12\")-$S$285","v":0},{"$f":"COUNTIF($T$276:$T$282,\">=12\")-$T$285","v":0},{"$f":"COUNTIF($U$276:$U$282,\">=12\")-$U$285","v":0},{"$f":"COUNTIF($V$276:$V$282,\">=12\")-$V$285","v":1},{"$f":"COUNTIF($W$276:$W$282,\">=12\")-$W$285","v":0},{"$f":"COUNTIF($X$276:$X$282,\">=12\")-$X$285","v":0},{"$f":"COUNTIF($Y$276:$Y$282,\">=12\")-$Y$285","v":0},{"$f":"COUNTIF($Z$276:$Z$282,\">=12\")-$Z$285","v":0},{"$f":"COUNTIF($AA$276:$AA$282,\">=12\")-$AA$285","v":0},{"$f":"COUNTIF($AB$276:$AB$282,\">=12\")-$AB$285","v":0},{"$f":"COUNTIF($AC$276:$AC$282,\">=12\")-$AC$285","v":0},{"$f":"COUNTIF($AD$276:$AD$282,\">=12\")-$AD$285","v":0},{"$f":"COUNTIF($AE$276:$AE$282,\">=12\")-$AE$285","v":0},{"$f":"COUNTIF($AF$276:$AF$282,\">=12\")-$AF$285","v":0},{"$f":"COUNTIF($AG$276:$AG$282,\">=12\")-$AG$285","v":0},{"$f":"COUNTIF($AH$276:$AH$282,\">=12\")-$AH$285","v":0},{"$f":"COUNTIF($AI$276:$AI$282,\">=12\")-$AI$285","v":0},{"$f":"COUNTIF($AJ$276:$AJ$282,\">=12\")-$AJ$285","v":0},{"$f":"COUNTIF($AK$276:$AK$282,\">=12\")-$AK$285","v":0},{"$f":"COUNTIF($AL$276:$AL$282,\">=12\")-$AL$285","v":0},{"$f":"COUNTIF($AM$276:$AM$282,\">=12\")-$AM$285","v":0},{"$f":"COUNTIF($AN$276:$AN$282,\">=12\")-$AN$285","v":0},{"$f":"COUNTIF($AO$276:$AO$282,\">=12\")-$AO$285","v":0},{"$f":"COUNTIF($AP$276:$AP$282,\">=12\")-$AP$285","v":0},{"$f":"COUNTIF($AQ$276:$AQ$282,\">=12\")-$AQ$285","v":0},{"$f":"COUNTIF($AR$276:$AR$282,\">=12\")-$AR$285","v":1},{"$f":"COUNTIF($AS$276:$AS$282,\">=12\")-$AS$285","v":0},{"$f":"COUNTIF($AT$276:$AT$282,\">=12\")-$AT$285","v":0},{"$f":"COUNTIF($AU$276:$AU$282,\">=12\")-$AU$285","v":0},{"$f":"COUNTIF($AV$276:$AV$282,\">=12\")-$AV$285","v":0}]
[null,null,null,null,null,null,null,null,null,"Goals",0,0,0,0,0,0,0,0,1,0,0,0,0,0,0,0,0,0,0,0,0,0,0,0,0,0,0,0,0,1,0,0,0,0,0,0,0,0]
[]
[null,null,null,null,null,null,null,"League Cup"]
[null,null,{"$f":"IF(J290=0,1,0)","v":0},{"$f":"D75","v":1},null,{"$f":"F75","v":"1996-08-21"},null,{"$f":"H75","v":"Peterborough"},{"$f":"I75","v":"(H)"},{"$f":"J75","v":"W 1-0"},null,null,null,4,null,null,null,1,10,11,13,12,null,null,3,7,null,null,null,null,9,null,null,14,2,null,null,null,null,8,null,6,null,null,null,5]
[null,null,0,{"$f":"D76","v":1},null,{"$f":"F76","v":"1996-09-03"},null,{"$f":"H76","v":"Peterborough"},"(A)","L 0-2",null,null,null,7,null,null,null,1,null,11,10,12,null,null,13,14,null,null,null,null,9,null,null,2,8,null,null,3,null,null,null,6,null,4,null,5]
[null,null,1,3,null,"00:00:00",null,"00:00:00","00:00:00",0]
[null,null,1,0,null,"00:00:00",null,"00:00:00","00:00:00",0]
[null,null,1,0,null,"00:00:00",null,"00:00:00","00:00:00",0]
[null,null,1,0,null,"00:00:00",null,"00:00:00","00:00:00",0]
[null,null,1,0,null,"00:00:00",null,"00:00:00","00:00:00",0]
[null,null,1,0,null,"00:00:00",null,"00:00:00","00:00:00",0]
[null,null,1,0,null,"00:00:00",null,"00:00:00","00:00:00",0]
[]
[null,null,null,null,null,null,null,null,null,"Total League Cup Apperances",{"$f":"COUNT($K$290:$K$298)-$K$302-$K$301","v":0},{"$f":"COUNT($L$290:$L$298)-$L$302-$L$301","v":0},{"$f":"COUNT($M$290:$M$298)-$M$302-$M$301","v":0},{"$f":"COUNT($N$290:$N$298)-$N$302-$N$301","v":2},{"$f":"COUNT($O$290:$O$298)-$O$302-$O$301","v":0},{"$f":"COUNT($P$290:$P$298)-$P$302-$P$301","v":0},{"$f":"COUNT($Q$290:$Q$298)-$Q$302-$Q$301","v":0},{"$f":"COUNT($R$290:$R$298)-$R$302-$R$301","v":2},{"$f":"COUNT($S$290:$S$298)-$S$302-$S$301","v":1},{"$f":"COUNT($T$290:$T$298)-$T$302-$T$301","v":2},{"$f":"COUNT($U$290:$U$298)-$U$302-$U$301","v":1},{"$f":"COUNT($V$290:$V$298)-$V$302-$V$301","v":0},{"$f":"COUNT($W$290:$W$298)-$W$302-$W$301","v":0},{"$f":"COUNT($X$290:$X$298)-$X$302-$X$301","v":0},{"$f":"COUNT($Y$290:$Y$298)-$Y$302-$Y$301","v":1},{"$f":"COUNT($Z$290:$Z$298)-$Z$302-$Z$301","v":1},{"$f":"COUNT($AA$290:$AA$298)-$AA$302-$AA$301","v":0},{"$f":"COUNT($AB$290:$AB$298)-$AB$302-$AB$301","v":0},{"$f":"COUNT($AC$290:$AC$298)-$AC$302-$AC$301","v":0},{"$f":"COUNT($AD$290:$AD$298)-$AD$302-$AD$301","v":0},{"$f":"COUNT($AE$290:$AE$298)-$AE$302-$AE$301","v":2},{"$f":"COUNT($AF$290:$AF$298)-$AF$302-$AF$301","v":0},{"$f":"COUNT($AG$290:$AG$298)-$AG$302-$AG$301","v":0},{"$f":"COUNT($AH$290:$AH$298)-$AH$302-$AH$301","v":1},{"$f":"COUNT($AI$290:$AI$298)-$AI$302-$AI$301","v":2},{"$f":"COUNT($AJ$290:$AJ$298)-$AJ$302-$AJ$301","v":0},{"$f":"COUNT($AK$290:$AK$298)-$AK$302-$AK$301","v":0},{"$f":"COUNT($AL$290:$AL$298)-$AL$302-$AL$301","v":1},{"$f":"COUNT($AM$290:$AM$298)-$AM$302-$AM$301","v":0},{"$f":"COUNT($AN$290:$AN$298)-$AN$302-$AN$301","v":1},{"$f":"COUNT($AO$290:$AO$298)-$AO$302-$AO$301","v":0},{"$f":"COUNT($AP$290:$AP$298)-$AP$302-$AP$301","v":2},{"$f":"COUNT($AQ$290:$AQ$298)-$AQ$302-$AQ$301","v":0},{"$f":"COUNT($AR$290:$AR$298)-$AR$302-$AR$301","v":1},{"$f":"COUNT($AS$290:$AS$298)-$AS$302-$AS$301","v":0},{"$f":"COUNT($AT$290:$AT$298)-$AT$302-$AT$301","v":2},{"$f":"COUNT($AU$290:$AU$298)-$AU$302-$AU$301","v":0},{"$f":"COUNT($AV$290:$AV$298)-$AV$302-$AV$301","v":0}]
[null,null,null,null,null,null,null,null,null,"Total League Cup Substitute Appearences ",{"$f":"$BB$86+$CP$86+$ED$86","v":0},{"$f":"$BC$86+$CQ$86+$EE$86","v":0},{"$f":"$BD$86+$CR$86+$EF$86","v":0},{"$f":"$BE$86+$CS$86+$EG$86","v":0},{"$f":"$BF$86+$CT$86+$EH$86","v":0},{"$f":"$BG$86+$CU$86+$EI$86","v":0},{"$f":"$BH$86+$CV$86+$EJ$86","v":0},{"$f":"$BI$86+$CW$86+$EK$86","v":0},{"$f":"$BJ$86+$CX$86+$EL$86","v":0},{"$f":"$BK$86+$CY$86+$EM$86","v":0},{"$f":"$BL$86+$CZ$86+$EN$86","v":1},{"$f":"$BM$86+$DA$86+$EO$86","v":0},{"$f":"$BN$86+$DB$86+$EP$86","v":0},{"$f":"$BO$86+$DC$86+$EQ$86","v":0},{"$f":"$BP$86+$DD$86+$ER$86","v":1},{"$f":"$BQ$86+$DE$86+$ES$86","v":1},{"$f":"$BR$86+$DF$86+$ET$86","v":0},{"$f":"$BS$86+$DG$86+$EU$86","v":0},{"$f":"$BT$86+$DH$86+$EV$86","v":0},{"$f":"$BU$86+$DI$86+$EW$86","v":0},{"$f":"$BV$86+$DJ$86+$EX$86","v":0},{"$f":"$BW$86+$DK$86+$EY$86","v":0},{"$f":"$BX$86+$DL$86+$EZ$86","v":0},{"$f":"$BY$86+$DM$86+$FA$86","v":1},{"$f":"$BZ$86+$DN$86+$FB$86","v":0},{"$f":"$CA$86+$DO$86+$FC$86","v":0},{"$f":"$CB$86+$DP$86+$FD$86","v":0},{"$f":"$CC$86+$DQ$86+$FE$86","v":0},{"$f":"$CD$86+$DR$86+$FF$86","v":0},{"$f":"$CE$86+$DS$86+$FG$86","v":0},{"$f":"$CF$86+$DT$86+$FH$86","v":0},{"$f":"$CG$86+$DU$86+$FI$86","v":0},{"$f":"$CH$86+$DV$86+$FJ$86","v":0},{"$f":"$CI$86+$DW$86+$FK$86","v":0},{"$f":"$CJ$86+$DX$86+$FL$86","v":0},{"$f":"$CK$86+$DY$86+$FM$86","v":0},{"$f":"$CL$86+$DZ$86+$FN$86","v":0},{"$f":"$CM$86+$EA$86+$FO$86","v":0}]
[null,null,null,null,null,null,null,null,null,"Non Playing Substitute",{"$f":"COUNTIF($K$290:$K$298,\">=12\")-$K$301","v":0},{"$f":"COUNTIF($L$290:$L$298,\">=12\")-$L$301","v":0},{"$f":"COUNTIF($M$290:$M$298,\">=12\")-$M$301","v":0},{"$f":"COUNTIF($N$290:$N$298,\">=12\")-$N$301","v":0},{"$f":"COUNTIF($O$290:$O$298,\">=12\")-$O$301","v":0},{"$f":"COUNTIF($P$290:$P$298,\">=12\")-$P$301","v":0},{"$f":"COUNTIF($Q$290:$Q$298,\">=12\")-$Q$301","v":0},{"$f":"COUNTIF($R$290:$R$298,\">=12\")-$R$301","v":0},{"$f":"COUNTIF($S$290:$S$298,\">=12\")-$S$301","v":0},{"$f":"COUNTIF($T$290:$T$298,\">=12\")-$T$301","v":0},{"$f":"COUNTIF($U$290:$U$298,\">=12\")-$U$301","v":0},{"$f":"COUNTIF($V$290:$V$298,\">=12\")-$V$301","v":2},{"$f":"COUNTIF($W$290:$W$298,\">=12\")-$W$301","v":0},{"$f":"COUNTIF($X$290:$X$298,\">=12\")-$X$301","v":0},{"$f":"COUNTIF($Y$290:$Y$298,\">=12\")-$Y$301","v":0},{"$f":"COUNTIF($Z$290:$Z$298,\">=12\")-$Z$301","v":0},{"$f":"COUNTIF($AA$290:$AA$298,\">=12\")-$AA$301","v":0},{"$f":"COUNTIF($AB$290:$AB$298,\">=12\")-$AB$301","v":0},{"$f":"COUNTIF($AC$290:$AC$298,\">=12\")-$AC$301","v":0},{"$f":"COUNTIF($AD$290:$AD$298,\">=12\")-$AD$301","v":0},{"$f":"COUNTIF($AE$290:$AE$298,\">=12\")-$AE$301","v":0},{"$f":"COUNTIF($AF$290:$AF$298,\">=12\")-$AF$301","v":0},{"$f":"COUNTIF($AG$290:$AG$298,\">=12\")-$AG$301","v":0},{"$f":"COUNTIF($AH$290:$AH$298,\">=12\")-$AH$301","v":0},{"$f":"COUNTIF($AI$290:$AI$298,\">=12\")-$AI$301","v":0},{"$f":"COUNTIF($AJ$290:$AJ$298,\">=12\")-$AJ$301","v":0},{"$f":"COUNTIF($AK$290:$AK$298,\">=12\")-$AK$301","v":0},{"$f":"COUNTIF($AL$290:$AL$298,\">=12\")-$AL$301","v":0},{"$f":"COUNTIF($AM$290:$AM$298,\">=12\")-$AM$301","v":0},{"$f":"COUNTIF($AN$290:$AN$298,\">=12\")-$AN$301","v":0},{"$f":"COUNTIF($AO$290:$AO$298,\">=12\")-$AO$301","v":0},{"$f":"COUNTIF($AP$290:$AP$298,\">=12\")-$AP$301","v":0},{"$f":"COUNTIF($AQ$290:$AQ$298,\">=12\")-$AQ$301","v":0},{"$f":"COUNTIF($AR$290:$AR$298,\">=12\")-$AR$301","v":0},{"$f":"COUNTIF($AS$290:$AS$298,\">=12\")-$AS$301","v":0},{"$f":"COUNTIF($AT$290:$AT$298,\">=12\")-$AT$301","v":0},{"$f":"COUNTIF($AU$290:$AU$298,\">=12\")-$AU$301","v":0},{"$f":"COUNTIF($AV$290:$AV$298,\">=12\")-$AV$301","v":0}]
[null,null,null,null,null,null,null,null,null,"Goals",0,0,0,0,0,0,0,0,0,0,0,0,0,0,0,0,0,0,0,0,1,0,0,0,0,0,0,0,0,0,0,0,0,0,0,0,0,0]
[null,null,{"$f":"IF(J$306=0,1,0)","v":0}]
[null,null,{"$f":"IF(J$306=0,1,0)","v":0},null,null,null,null,"AutoWindscreensTrophy"]
[null,null,{"$f":"IF(J306=0,1,0)","v":0},{"$f":"D91","v":1},null,{"$f":"F91","v":"1996-12-07"},null,{"$f":"H91","v":"Hereford Utd"},"(A)","W 4-0",14,null,null,null,null,null,null,1,9,10,11,7,null,null,null,null,null,null,null,2,null,null,12,8,4,13,null,null,null,null,6,null,3,5]
[null,null,{"$f":"IF(J307=0,1,0)","v":0},2,null,"1997-01-07",null,"Colchester Utd","(H)","L 2-3",null,null,null,null,10,null,null,null,9,null,11,14,null,null,3,7,null,null,1,null,null,null,null,null,2,null,null,6,null,4,12,null,13,5,8]
[null,null,1,0,null,"00:00:00",null,"00:00:00","00:00:00",0]
[null,null,1,0,null,"00:00:00",null,"00:00:00","00:00:00",0]
[null,null,1,0,null,"00:00:00",null,"00:00:00","00:00:00",0]
[null,null,1,0,null,"00:00:00",null,"00:00:00","00:00:00",0]
[null,null,1,0,null,"00:00:00",null,"00:00:00","00:00:00",0]
[null,null,1,0,null,"00:00:00",null,"00:00:00","00:00:00",0]
[null,null,1,0,null,"00:00:00",null,"00:00:00","00:00:00",0]
[null,null,{"$f":"IF(J$306=0,1,0)","v":0}]
[null,null,0,null,null,null,null,null,null,"Total AutoWindscreensTrophy Apperances",{"$f":"COUNT($K$306:$K$314)-$K$317-$K$318","v":0},{"$f":"COUNT($L$306:$L$314)-$L$317-$L$318","v":0},{"$f":"COUNT($M$306:$M$314)-$M$317-$M$318","v":0},{"$f":"COUNT($N$306:$N$314)-$N$317-$N$318","v":0},{"$f":"COUNT($O$306:$O$314)-$O$317-$O$318","v":1},{"$f":"COUNT($P$306:$P$314)-$P$317-$P$318","v":0},{"$f":"COUNT($Q$306:$Q$314)-$Q$317-$Q$318","v":0},{"$f":"COUNT($R$306:$R$314)-$R$317-$R$318","v":1},{"$f":"COUNT($S$306:$S$314)-$S$317-$S$318","v":2},{"$f":"COUNT($T$306:$T$314)-$T$317-$T$318","v":1},{"$f":"COUNT($U$306:$U$314)-$U$317-$U$318","v":2},{"$f":"COUNT($V$306:$V$314)-$V$317-$V$318","v":1},{"$f":"COUNT($W$306:$W$314)-$W$317-$W$318","v":0},{"$f":"COUNT($X$306:$X$314)-$X$317-$X$318","v":0},{"$f":"COUNT($Y$306:$Y$314)-$Y$317-$Y$318","v":1},{"$f":"COUNT($Z$306:$Z$314)-$Z$317-$Z$318","v":1},{"$f":"COUNT($AA$306:$AA$314)-$AA$317-$AA$318","v":0},{"$f":"COUNT($AB$306:$AB$314)-$AB$317-$AB$318","v":0},{"$f":"COUNT($AC$306:$AC$314)-$AC$317-$AC$318","v":1},{"$f":"COUNT($AD$306:$AD$314)-$AD$317-$AD$318","v":1},{"$f":"COUNT($AE$306:$AE$314)-$AE$317-$AE$318","v":0},{"$f":"COUNT($AF$306:$AF$314)-$AF$317-$AF$318","v":0},{"$f":"COUNT($AG$306:$AG$314)-$AG$317-$AG$318","v":0},{"$f":"COUNT($AH$306:$AH$314)-$AH$317-$AH$318","v":1},{"$f":"COUNT($AI$306:$AI$314)-$AI$317-$AI$318","v":2},{"$f":"COUNT($AJ$306:$AJ$314)-$AJ$317-$AJ$318","v":0},{"$f":"COUNT($AK$306:$AK$314)-$AK$317-$AK$318","v":0},{"$f":"COUNT($AL$306:$AL$314)-$AL$317-$AL$318","v":1},{"$f":"COUNT($AM$306:$AM$314)-$AM$317-$AM$318","v":0},{"$f":"COUNT($AN$306:$AN$314)-$AN$317-$AN$318","v":1},{"$f":"COUNT($AO$306:$AO$314)-$AO$317-$AO$318","v":1},{"$f":"COUNT($AP$306:$AP$314)-$AP$317-$AP$318","v":0},{"$f":"COUNT($AQ$306:$AQ$314)-$AQ$317-$AQ$318","v":1},{"$f":"COUNT($AR$306:$AR$314)-$AR$317-$AR$318","v":2},{"$f":"COUNT($AS$306:$AS$314)-$AS$317-$AS$318","v":1},{"$f":"COUNT($AT$306:$AT$314)-$AT$317-$AT$318","v":0},{"$f":"COUNT($AU$306:$AU$314)-$AU$317-$AU$318","v":0},{"$f":"COUNT($AV$306:$AV$314)-$AV$317-$AV$318","v":0}]
[null,null,0,null,null,null,null,null,null,"Total AutoWindscreensTrophy Sub Appearences ",{"$f":"$BB$102+$CP$102","v":0},{"$f":"$BC$102+$CQ$102","v":0},{"$f":"$BD$102+$CR$102","v":0},{"$f":"$BE$102+$CS$102","v":0},{"$f":"$BF$102+$CT$102","v":0},{"$f":"$BG$102+$CU$102","v":0},{"$f":"$BH$102+$CV$102","v":0},{"$f":"$BI$102+$CW$102","v":0},{"$f":"$BJ$102+$CX$102","v":0},{"$f":"$BK$102+$CY$102","v":0},{"$f":"$BL$102+$CZ$102","v":0},{"$f":"$BM$102+$DA$102","v":0},{"$f":"$BN$102+$DB$102","v":0},{"$f":"$BO$102+$DC$102","v":0},{"$f":"$BP$102+$DD$102","v":0},{"$f":"$BQ$102+$DE$102","v":0},{"$f":"$BR$102+$DF$102","v":0},{"$f":"$BS$102+$DG$102","v":0},{"$f":"$BT$102+$DH$102","v":0},{"$f":"$BU$102+$DI$102","v":0},{"$f":"$BV$102+$DJ$102","v":0},{"$f":"$BW$102+$DK$102","v":0},{"$f":"$BX$102+$DL$102","v":1},{"$f":"$BY$102+$DM$102","v":0},{"$f":"$BZ$102+$DN$102","v":0},{"$f":"$CA$102+$DO$102","v":0},{"$f":"$CB$102+$DP$102","v":0},{"$f":"$CC$102+$DQ$102","v":0},{"$f":"$CD$102+$DR$102","v":0},{"$f":"$CE$102+$DS$102","v":0},{"$f":"$CF$102+$DT$102","v":1},{"$f":"$CG$102+$DU$102","v":0},{"$f":"$CH$102+$DV$102","v":0},{"$f":"$CI$317+$DW$317","v":0},{"$f":"$CH$102+$DV$102","v":0},{"$f":"$CI$317+$DW$317","v":0},{"$f":"$CH$102+$DV$102","v":0},{"$f":"$CI$317+$DW$317","v":0}]
[null,null,0,null,null,null,null,null,null,"Non Playing Substitute",{"$f":"COUNTIF($K$306:$K$314,\">=12\")-$K$317","v":1},{"$f":"COUNTIF($L$306:$L$314,\">=12\")-$L$317","v":0},{"$f":"COUNTIF($M$306:$M$314,\">=12\")-$M$317","v":0},{"$f":"COUNTIF($N$306:$N$314,\">=12\")-$N$317","v":0},{"$f":"COUNTIF($O$306:$O$314,\">=12\")-$O$317","v":0},{"$f":"COUNTIF($P$306:$P$314,\">=12\")-$P$317","v":0},{"$f":"COUNTIF($Q$306:$Q$314,\">=12\")-$Q$317","v":0},{"$f":"COUNTIF($R$306:$R$314,\">=12\")-$R$317","v":0},{"$f":"COUNTIF($S$306:$S$314,\">=12\")-$S$317","v":0},{"$f":"COUNTIF($T$306:$T$314,\">=12\")-$T$317","v":0},{"$f":"COUNTIF($U$306:$U$314,\">=12\")-$U$317","v":0},{"$f":"COUNTIF($V$306:$V$314,\">=12\")-$V$317","v":1},{"$f":"COUNTIF($W$306:$W$314,\">=12\")-$W$317","v":0},{"$f":"COUNTIF($X$306:$X$314,\">=12\")-$X$317","v":0},{"$f":"COUNTIF($Y$306:$Y$314,\">=12\")-$Y$317","v":0},{"$f":"COUNTIF($Z$306:$Z$314,\">=12\")-$Z$317","v":0},{"$f":"COUNTIF($AA$306:$AA$314,\">=12\")-$AA$317","v":0},{"$f":"COUNTIF($AB$306:$AB$314,\">=12\")-$AB$317","v":0},{"$f":"COUNTIF($AC$306:$AC$314,\">=12\")-$AC$317","v":0},{"$f":"COUNTIF($AD$306:$AD$314,\">=12\")-$AD$317","v":0},{"$f":"COUNTIF($AE$306:$AE$314,\">=12\")-$AE$317","v":0},{"$f":"COUNTIF($AF$306:$AF$314,\">=12\")-$AF$317","v":0},{"$f":"COUNTIF($AG$306:$AG$314,\">=12\")-$AG$317","v":0},{"$f":"COUNTIF($AH$306:$AH$314,\">=12\")-$AH$317","v":0},{"$f":"COUNTIF($AI$306:$AI$314,\">=12\")-$AI$317","v":0},{"$f":"COUNTIF($AJ$306:$AJ$314,\">=12\")-$AJ$317","v":1},{"$f":"COUNTIF($AK$306:$AK$314,\">=12\")-$AK$317","v":0},{"$f":"COUNTIF($AL$306:$AL$314,\">=12\")-$AL$317","v":0},{"$f":"COUNTIF($AM$306:$AM$314,\">=12\")-$AM$317","v":0},{"$f":"COUNTIF($AN$306:$AN$314,\">=12\")-$AN$317","v":0},{"$f":"COUNTIF($AO$306:$AO$314,\">=12\")-$AO$317","v":0},{"$f":"COUNTIF($AP$306:$AP$314,\">=12\")-$AP$317","v":0},{"$f":"COUNTIF($AQ$306:$AQ$314,\">=12\")-$AQ$317","v":1},{"$f":"COUNTIF($AR$306:$AR$314,\">=12\")-$AR$317","v":0},{"$f":"COUNTIF($AS$306:$AS$314,\">=12\")-$AS$317","v":0},{"$f":"COUNTIF($AT$306:$AT$314,\">=12\")-$AT$317","v":0},{"$f":"COUNTIF($AU$306:$AU$314,\">=12\")-$AU$317","v":0},{"$f":"COUNTIF($AV$306:$AV$314,\">=12\")-$AV$317","v":0}]
[null,null,0,null,null,null,null,null,null,"Goals",0,0,0,0,0,0,0,0,3,2,0,0,0,0,0,0,0,0,0,0,0,0,0,0,0,0,0,0,0,1,0,0,0,0,0,0,0,0]
[null,null,1]
[]
[]
[]
[]
["Manual Input",null,null,null,null,null,null,"Opponents","Venue/Result",null,{"$f":"K3","v":"Aris"},{"$f":"L3","v":"Berry"},"Bircham","Bowry","Bright","Cadette","Canoville","Carter","Crawford","Dair","Dolby","Doyle","Fitzgerald","Forbes","Harle","Hartley","Hockton","Huckerby","Iga","Lavin","Malkin","McLeary","McRobert","Neill","Newman","Robertson","Roche","Rogan","Sadlier","Savage","Sinclair","Stevens","Van Blerk","Webber","Wilkins","Witter",0,0,null,null,null,null,"Mainly Sub Numbers different"]
[null,null,{"$f":"IF(J326=0,1,0)","v":0},1,null,{"$f":"F5","v":"1996-08-17"},null,{"$f":"H5","v":"Wrexham"},{"$f":"I5","v":"(H)"},{"$f":"J5","v":"D 1-1"},null,null,null,7,null,null,null,1,10,11,12,2,null,null,null,13,null,null,null,null,9,null,null,14,3,null,null,null,null,8,4,6,null,null,null,5,null,null,null,null,null,null,"No apps different just numbers swapped"]
[null,null,0,2,null,{"$f":"F6","v":"1996-08-24"},null,{"$f":"H6","v":"Watford"},"(A)","W 2-0",null,null,null,7,null,null,null,1,10,11,null,12,null,null,3,13,null,null,null,null,9,null,null,14,2,null,null,null,null,8,null,6,null,4,null,5]
[null,null,0,3,null,"1996-08-27",null,"York","(A)","L 2-3",null,null,null,7,null,null,null,1,10,11,null,12,null,null,3,14,null,null,null,null,9,null,null,13,2,null,null,null,null,8,null,6,null,4,null,5]
[null,null,0,4,null,"1996-08-31",null,"Burnley","(H)","W 2-1",null,null,null,7,null,null,null,1,10,11,13,14,null,null,12,null,null,null,null,null,9,null,null,3,2,null,null,null,null,8,null,6,null,4,null,5]
[null,null,0,5,null,"1996-09-07",null,"Bristol R","(H)","W 2-0",null,null,null,7,null,null,null,1,null,10,null,14,null,null,13,11,null,9,null,null,12,null,null,8,2,null,null,3,null,null,null,6,null,4,null,5]
[null,null,0,6,null,"1996-09-10",null,"Peterborough","(A)","D 3-3",null,null,null,7,null,null,null,1,14,11,null,6,null,null,12,13,null,10,null,null,9,null,null,8,2,null,null,3,null,null,null,null,null,4,null,5]
[null,null,0,7,null,"1996-09-14",null,"Notts Co","(A)","W 2-1",null,null,null,7,null,null,null,1,14,11,null,4,null,null,12,13,null,10,null,null,9,null,null,8,2,null,null,3,null,null,null,null,null,6,null,5]
[null,null,0,8,null,"1996-09-21",null,"Crewe","(H)","W 2-0",null,null,null,7,null,null,null,1,9,11,null,2,null,null,13,14,null,10,null,null,12,null,null,8,4,null,null,3,null,null,null,null,null,6,null,5]
[null,null,0,9,null,"1996-09-28",null,"Preston","(A)","L 1-2",null,null,null,7,null,null,null,1,8,11,null,2,null,null,null,13,null,10,null,null,9,null,null,null,4,null,null,3,null,14,12,null,null,6,null,5]
[null,null,0,10,null,"1996-10-02",null,"Stockport","(H)","L 3-4",null,null,null,7,null,null,null,1,9,null,null,2,null,null,12,13,14,10,null,null,null,null,null,8,4,null,null,3,null,11,null,null,null,6,null,5]
[null,null,0,11,null,"1996-10-05",null,"Plymouth","(A)","D 0-0",null,null,null,7,null,null,null,1,null,11,10,2,null,null,5,9,14,null,null,null,null,null,null,8,12,13,null,3,null,6,null,null,null,4]
[null,null,0,12,null,"1996-10-12",null,"Chesterfield","(H)","W 2-1",null,null,null,7,null,null,null,1,9,13,10,12,6,null,14,11,null,null,null,null,null,null,null,8,2,null,null,3,null,4,null,null,null,null,null,5]
[null,null,0,13,null,"1996-10-16",null,"Bury","(H)","W 1-0",null,null,null,7,null,null,null,1,9,13,11,12,6,null,14,10,null,null,null,null,null,null,null,8,2,null,null,3,null,4,null,null,null,null,null,5]
[null,null,0,14,null,"1996-10-19",null,"Gillingham","(A)","W 3-2",null,null,null,7,null,null,null,1,9,13,11,12,6,null,14,10,null,null,null,null,null,null,null,8,2,null,null,3,null,4,null,null,null,null,null,5]
[null,null,0,15,null,"1996-10-26",null,"Brentford","(A)","D 0-0",null,null,null,7,null,null,null,1,9,13,11,12,6,null,14,10,null,null,null,null,null,null,null,8,2,null,null,3,null,4,null,null,null,null,null,5]
[null,null,0,16,null,"1996-10-30",null,"Blackpool","(H)","W 2-1",null,null,null,7,null,null,null,1,9,13,11,12,6,null,14,10,null,null,null,null,null,null,null,8,2,null,null,3,null,4,null,null,null,null,null,5]
[null,null,0,17,null,"1996-11-02",null,"Walsall","(H)","W 1-0",null,null,null,7,null,null,null,1,9,4,10,null,6,null,12,11,14,null,null,13,null,null,null,8,2,null,null,3,null,null,null,null,null,null,null,5]
[null,null,0,18,null,"1996-11-09",null,{"$f":"H22","v":"Bristol C"},"(A)","D 1-1",null,null,null,7,null,null,null,1,9,10,null,null,6,null,3,11,null,null,null,12,null,null,null,8,2,null,null,null,null,4,null,null,13,14,null,5]
[null,null,0,19,null,"1996-11-20",null,"Shrewsbury","(H)","W 2-1",null,null,null,7,null,null,null,1,9,10,14,12,null,null,null,11,null,null,null,2,null,null,null,8,6,null,null,3,null,4,13,null,null,5]
[null,null,0,20,null,"1996-11-23",null,"Rotherham","(A)","D 0-0",null,null,null,7,null,null,null,1,9,10,14,12,null,null,null,11,null,null,null,2,null,null,null,8,6,null,null,3,null,4,13,null,null,5]
[null,null,0,21,null,"1996-11-29",null,"Brentford","(H)","D 0-0",null,null,null,null,null,null,null,1,9,10,12,13,null,null,null,11,null,null,null,2,null,null,null,8,4,null,null,3,null,7,6,null,14,5]
[null,null,0,22,null,"1996-12-03",null,"Wycombe","(A)","L 0-1",null,null,null,7,null,null,null,1,9,10,13,12,null,null,null,11,null,null,null,2,null,null,null,8,null,null,null,3,null,4,6,null,14,5]
[null,null,0,23,null,"1996-12-14",null,"Bournemouth","(A)","D 1-1",null,null,null,null,10,null,null,1,9,11,12,14,null,null,null,13,null,null,null,2,null,null,null,8,7,null,null,null,null,4,6,null,3,5]
[null,null,0,24,null,"1996-12-18",null,"Luton","(H)","L 0-1",null,null,null,null,10,null,null,1,9,11,14,null,null,null,13,7,null,null,null,2,null,null,null,8,4,null,null,6,null,12,5,null,3]
[null,null,0,25,null,"1996-12-26",null,"Peterborough","(H)","L 0-2",null,null,null,null,10,null,null,1,9,11,14,null,null,null,6,7,null,null,13,2,null,null,null,null,8,null,null,3,null,null,4,null,12,5]
[null,null,0,26,null,"1997-01-11",null,"Preston","(H)","W 3-2",null,null,2,14,null,10,null,1,9,null,13,null,null,null,6,11,null,null,null,null,null,null,null,null,4,null,3,null,null,7,12,null,null,5,8]
[null,null,0,27,null,"1997-01-18",null,"Stockport","(A)","L 1-5",null,null,2,14,null,10,null,1,9,null,13,null,null,null,6,11,null,null,null,null,null,null,null,null,4,null,3,null,null,7,12,null,null,5,8]
[null,null,0,28,null,"1997-01-25",null,"Blackpool","(A)","L 0-3",null,null,null,7,null,10,null,1,9,null,12,null,null,null,3,11,null,null,null,null,null,null,null,14,2,null,null,6,null,4,13,null,null,5,8]
[null,null,0,29,null,"1997-02-01",null,"Bristol C","(H)","L 0-2",null,null,null,8,null,null,null,1,9,10,11,null,null,null,12,13,null,null,null,null,null,null,null,7,2,null,null,3,14,4,null,6,null,null,null,5]
[null,null,0,30,null,"1997-02-08",null,"Walsall","(A)","L 1-2",null,null,null,4,null,null,null,1,9,11,10,null,null,null,12,8,null,null,null,null,null,null,13,2,6,null,null,3,14,7,null,null,null,5]
[null,null,0,31,null,"1997-02-15",null,"Rotherham","(H)","W 2-0",null,3,14,null,null,10,null,1,9,13,null,12,null,null,null,7,null,null,null,null,null,null,11,2,4,null,null,null,null,8,null,null,null,5,null,6]
[null,null,0,32,null,"1997-02-22",null,"Shrewsbury","(A)","D 1-1",null,3,12,null,null,10,null,1,9,null,null,13,null,14,null,7,null,null,null,null,null,5,11,2,4,null,null,null,null,8,null,null,null,null,null,6]
[null,null,0,33,null,"1997-02-25",null,"Notts Co","(H)","W 1-0",null,3,null,null,null,10,null,1,9,null,12,13,null,14,null,7,null,null,null,null,null,5,11,2,4,null,null,null,null,8,null,null,null,null,null,6]
[null,null,0,34,null,"1997-03-01",null,{"$f":"H38","v":"Wycombe"},"(H)","W 2-1",null,3,14,null,null,10,null,1,9,null,11,8,null,null,null,7,null,null,null,null,null,5,null,2,4,null,13,null,null,null,null,null,null,12,null,6]
[null,null,0,35,null,"1997-03-08",null,"Luton","(A)","W 2-0",null,3,14,null,null,null,null,1,9,null,11,8,null,null,null,7,null,null,null,null,null,5,null,2,null,null,10,null,13,4,null,null,null,12,null,6]
[null,null,0,36,null,"1997-03-15",null,"Bournemouth","(H)","L 0-1",null,3,14,null,null,null,null,1,9,null,11,8,null,null,null,7,null,null,null,null,null,5,null,2,null,null,13,null,10,4,null,null,null,12,null,6]
[null,null,0,37,null,"1997-03-18",null,"Crewe","(A)","D 0-0",null,3,14,null,null,null,null,1,9,null,11,8,null,null,null,7,null,null,null,null,null,5,null,2,4,null,13,null,10,null,null,null,null,12,null,6]
[null,null,0,38,null,"1997-03-22",null,"Watford","(H)","L 0-1",null,3,14,null,null,null,13,1,9,null,11,8,null,null,null,7,null,null,null,null,null,5,null,2,4,null,10,null,null,null,null,null,null,12,null,6]
[null,null,0,39,null,"1997-03-28",null,"Wrexham","(A)","D 3-3",null,3,null,null,null,null,null,1,9,null,11,8,null,null,null,7,null,null,null,null,null,5,null,2,4,null,null,12,10,13,null,null,null,14,null,6]
[null,null,0,40,null,"1997-04-02",null,"York","(H)","D 1-1",13,3,2,null,null,null,14,1,9,null,null,8,null,null,null,7,null,null,null,null,null,5,null,null,null,null,12,11,10,4,null,null,null,6]
[null,null,0,41,null,"1997-04-05",null,"Burnley","(A)","L 0-1",null,null,2,null,null,null,14,1,9,null,null,8,null,null,null,7,null,null,null,null,null,5,null,11,13,null,null,3,10,4,null,null,null,12,null,6]
[null,null,0,42,null,"1997-04-08",null,"Bristol R","(A)","L 0-1",null,null,13,null,null,null,null,1,9,null,null,8,null,null,3,7,null,null,null,null,null,5,null,2,4,null,null,12,10,11,null,null,null,14,null,6]
[null,null,0,43,null,"1997-04-12",null,"Plymouth","(H)","D 0-0",null,11,2,null,null,null,null,1,9,null,null,8,null,null,3,7,null,null,null,null,null,5,null,null,4,null,null,12,10,13,null,null,null,14,null,6]
[null,null,0,44,null,"1997-04-19",null,"Chesterfield","(A)","L 0-1",null,14,2,null,null,null,13,1,9,null,null,8,null,null,3,7,null,null,null,null,null,5,null,null,4,null,null,12,null,11,null,null,null,10,null,6]
[null,null,{"$f":"IF(J370=0,1,0)","v":0},45,null,"1997-04-26",null,"Gillingham","(H)","L 0-2",null,11,14,9,null,null,13,1,null,null,null,8,null,null,3,7,null,null,null,null,null,5,null,2,12,null,null,4,null,null,null,null,null,10,null,6]
[null,null,0,46,null,"1997-05-03",null,"Bury","(A)","L 0-2",null,11,14,9,null,null,null,1,null,null,null,12,null,null,13,7,null,null,null,null,null,5,null,2,3,null,null,4,null,8,null,null,null,10,null,6]
[null,null,1,47,null,"00:00:00",null,"00:00:00","00:00:00",0]
[null,null,1,48,null,"00:00:00",null,"00:00:00","00:00:00",0]
[null,null,1,49,null,"00:00:00",null,"00:00:00","00:00:00",0]
[]
[null,null,null,null,null,null,null,null,null,"Total League Apperances",{"$f":"COUNT($K$326:$K$374)-$K$377-$K$378","v":0},{"$f":"COUNT($L$326:$L$374)-$L$377-$L$378","v":13},{"$f":"COUNT($M$326:$M$374)-$M$377-$M$378","v":6},{"$f":"COUNT($N$326:$N$374)-$N$377-$N$378","v":26},{"$f":"COUNT($O$326:$O$374)-$O$377-$O$378","v":3},{"$f":"COUNT($P$326:$P$374)-$P$377-$P$378","v":7},{"$f":"COUNT($Q$326:$Q$374)-$Q$377-$Q$378","v":0},{"$f":"COUNT($R$326:$R$374)-$R$377-$R$378","v":46},{"$f":"COUNT($S$326:$S$374)-$S$377-$S$378","v":40},{"$f":"COUNT($T$326:$T$374)-$T$377-$T$378","v":21},{"$f":"COUNT($U$326:$U$374)-$U$377-$U$378","v":15},{"$f":"COUNT($V$326:$V$374)-$V$377-$V$378","v":19},{"$f":"COUNT($W$326:$W$374)-$W$377-$W$378","v":7},{"$f":"COUNT($X$326:$X$374)-$X$377-$X$378","v":0},{"$f":"COUNT($Y$326:$Y$374)-$Y$377-$Y$378","v":12},{"$f":"COUNT($Z$326:$Z$374)-$Z$377-$Z$378","v":35},{"$f":"COUNT($AA$326:$AA$374)-$AA$377-$AA$378","v":0},{"$f":"COUNT($AB$326:$AB$374)-$AB$377-$AB$378","v":6},{"$f":"COUNT($AC$326:$AC$374)-$AC$377-$AC$378","v":0},{"$f":"COUNT($AD$326:$AD$374)-$AD$377-$AD$378","v":7},{"$f":"COUNT($AE$326:$AE$374)-$AE$377-$AE$378","v":7},{"$f":"COUNT($AF$326:$AF$374)-$AF$377-$AF$378","v":15},{"$f":"COUNT($AG$326:$AG$374)-$AG$377-$AG$378","v":3},{"$f":"COUNT($AH$326:$AH$374)-$AH$377-$AH$378","v":35},{"$f":"COUNT($AI$326:$AI$374)-$AI$377-$AI$378","v":39},{"$f":"COUNT($AJ$326:$AJ$374)-$AJ$377-$AJ$378","v":0},{"$f":"COUNT($AK$326:$AK$374)-$AK$377-$AK$378","v":4},{"$f":"COUNT($AL$326:$AL$374)-$AL$377-$AL$378","v":26},{"$f":"COUNT($AM$326:$AM$374)-$AM$377-$AM$378","v":7},{"$f":"COUNT($AN$326:$AN$374)-$AN$377-$AN$378","v":32},{"$f":"COUNT($AO$326:$AO$374)-$AO$377-$AO$378","v":6},{"$f":"COUNT($AP$326:$AP$374)-$AP$377-$AP$378","v":6},{"$f":"COUNT($AQ$326:$AQ$374)-$AQ$377-$AQ$378","v":2},{"$f":"COUNT($AR$326:$AR$374)-$AR$377-$AR$378","v":25},{"$f":"COUNT($AS$326:$AS$374)-$AS$377-$AS$378","v":3},{"$f":"COUNT($AT$326:$AT$374)-$AT$377-$AT$378","v":33},{"$f":"COUNT($AU$326:$AU$374)-$AU$377-$AU$378","v":0},{"$f":"COUNT($AV$326:$AV$374)-$AV$377-$AV$378","v":0}]
[null,null,null,null,null,null,null,null,null,"Total League Substitute Appearences ",{"$f":"$BB$56+$CP$56+$ED$56","v":0},{"$f":"$BC$56+$CQ$56+$EE$56","v":1},{"$f":"$BD$56+$CR$56+$EF$56","v":0},{"$f":"$BE$56+$CS$56+$EG$56","v":2},{"$f":"$BF$56+$CT$56+$EH$56","v":0},{"$f":"$BG$56+$CU$56+$EI$56","v":0},{"$f":"$BH$56+$CV$56+$EJ$56","v":2},{"$f":"$BI$56+$CW$56+$EK$56","v":0},{"$f":"$BJ$56+$CX$56+$EL$56","v":2},{"$f":"$BK$56+$CY$56+$EM$56","v":3},{"$f":"$BL$56+$CZ$56+$EN$56","v":6},{"$f":"$BM$56+$DA$56+$EO$56","v":9},{"$f":"$BN$56+$DB$56+$EP$56","v":0},{"$f":"$BO$56+$DC$56+$EQ$56","v":0},{"$f":"$BP$56+$DD$56+$ER$56","v":9},{"$f":"$BQ$56+$DE$56+$ES$56","v":9},{"$f":"$BR$56+$DF$56+$ET$56","v":2},{"$f":"$BS$56+$DG$56+$EU$56","v":0},{"$f":"$BT$56+$DH$56+$EV$56","v":1},{"$f":"$BU$56+$DI$56+$EW$56","v":2},{"$f":"$BV$56+$DJ$56+$EX$56","v":2},{"$f":"$BW$56+$DK$56+$EY$56","v":0},{"$f":"$BX$56+$DL$56+$EZ$56","v":1},{"$f":"$BY$56+$DM$56+$FA$56","v":4},{"$f":"$BZ$56+$DN$56+$FB$56","v":2},{"$f":"$CA$56+$DO$56+$FC$56","v":1},{"$f":"$CB$56+$DP$56+$FD$56","v":3},{"$f":"$CC$56+$DQ$56+$FE$56","v":2},{"$f":"$CD$56+$DR$56+$FF$56","v":3},{"$f":"$CE$56+$DS$56+$FG$56","v":3},{"$f":"$CF$56+$DT$56+$FH$56","v":2},{"$f":"$CG$56+$DU$56+$FI$56","v":0},{"$f":"$CH$56+$DV$56+$FJ$56","v":3},{"$f":"$CI$56+$DW$56+$FK$56","v":1},{"$f":"$CJ$56+$DX$56+$FL$56","v":0},{"$f":"$CK$56+$DY$56+$FM$56","v":0},{"$f":"$CL$56+$DZ$56+$FN$56","v":0},{"$f":"$CM$56+$EA$56+$FO$56","v":0}]
[null,null,null,null,null,null,null,null,null,"Non Playing Substitute",{"$f":"COUNTIF($K$326:$K$374,\">=12\")-$K$377","v":1},{"$f":"COUNTIF($L$326:$L$374,\">=12\")-$L$377","v":0},{"$f":"COUNTIF($M$326:$M$374,\">=12\")-$M$377","v":10},{"$f":"COUNTIF($N$326:$N$374,\">=12\")-$N$377","v":0},{"$f":"COUNTIF($O$326:$O$374,\">=12\")-$O$377","v":0},{"$f":"COUNTIF($P$326:$P$374,\">=12\")-$P$377","v":0},{"$f":"COUNTIF($Q$326:$Q$374,\">=12\")-$Q$377","v":3},{"$f":"COUNTIF($R$326:$R$374,\">=12\")-$R$377","v":0},{"$f":"COUNTIF($S$326:$S$374,\">=12\")-$S$377","v":0},{"$f":"COUNTIF($T$326:$T$374,\">=12\")-$T$377","v":3},{"$f":"COUNTIF($U$326:$U$374,\">=12\")-$U$377","v":7},{"$f":"COUNTIF($V$326:$V$374,\">=12\")-$V$377","v":9},{"$f":"COUNTIF($W$326:$W$374,\">=12\")-$W$377","v":0},{"$f":"COUNTIF($X$326:$X$374,\">=12\")-$X$377","v":2},{"$f":"COUNTIF($Y$326:$Y$374,\">=12\")-$Y$377","v":7},{"$f":"COUNTIF($Z$326:$Z$374,\">=12\")-$Z$377","v":1},{"$f":"COUNTIF($AA$326:$AA$374,\">=12\")-$AA$377","v":1},{"$f":"COUNTIF($AB$326:$AB$374,\">=12\")-$AB$377","v":0},{"$f":"COUNTIF($AC$326:$AC$374,\">=12\")-$AC$377","v":0},{"$f":"COUNTIF($AD$326:$AD$374,\">=12\")-$AD$377","v":0},{"$f":"COUNTIF($AE$326:$AE$374,\">=12\")-$AE$377","v":0},{"$f":"COUNTIF($AF$326:$AF$374,\">=12\")-$AF$377","v":0},{"$f":"COUNTIF($AG$326:$AG$374,\">=12\")-$AG$377","v":0},{"$f":"COUNTIF($AH$326:$AH$374,\">=12\")-$AH$377","v":0},{"$f":"COUNTIF($AI$326:$AI$374,\">=12\")-$AI$377","v":1},{"$f":"COUNTIF($AJ$326:$AJ$374,\">=12\")-$AJ$377","v":0},{"$f":"COUNTIF($AK$326:$AK$374,\">=12\")-$AK$377","v":1},{"$f":"COUNTIF($AL$326:$AL$374,\">=12\")-$AL$377","v":2},{"$f":"COUNTIF($AM$326:$AM$374,\">=12\")-$AM$377","v":0},{"$f":"COUNTIF($AN$326:$AN$374,\">=12\")-$AN$377","v":1},{"$f":"COUNTIF($AO$326:$AO$374,\">=12\")-$AO$377","v":4},{"$f":"COUNTIF($AP$326:$AP$374,\">=12\")-$AP$377","v":0},{"$f":"COUNTIF($AQ$326:$AQ$374,\">=12\")-$AQ$377","v":1},{"$f":"COUNTIF($AR$326:$AR$374,\">=12\")-$AR$377","v":9},{"$f":"COUNTIF($AS$326:$AS$374,\">=12\")-$AS$377","v":0},{"$f":"COUNTIF($AT$326:$AT$374,\">=12\")-$AT$377","v":0},{"$f":"COUNTIF($AU$326:$AU$374,\">=12\")-$AU$377","v":0},{"$f":"COUNTIF($AV$326:$AV$374,\">=12\")-$AV$377","v":0}]
[null,null,null,null,null,null,null,null,null,"Goals",0,0,0,1,1,1,0,0,11,1,2,1,0,0,1,4,0,3,0,0,2,0,0,4,3,0,0,8,0,3,0,0,0,2,0,0,0,0]
[]
[null,null,null,null,null,null,null,"FA Cup"]
[null,null,{"$f":"IF(J382=0,1,0)","v":0},{"$f":"D61","v":1},null,{"$f":"F61","v":"1996-11-15"},null,{"$f":"H61","v":"Woking"},{"$f":"I61","v":"(A)"},{"$f":"J61","v":"D 2-2"},null,null,null,7,null,null,null,1,9,10,null,null,null,null,6,11,null,null,null,13,null,null,null,8,2,null,null,3,null,4,null,null,14,12,null,5]
[null,null,0,{"$f":"D62","v":"1R"},null,{"$f":"F62","v":"1996-11-26"},null,{"$f":"H62","v":"Woking"},"(H)","L 0-1",null,null,null,7,null,null,null,1,9,10,14,12,null,null,null,11,null,null,null,2,null,null,null,8,6,null,null,3,null,4,13,null,null,5]
[null,null,1,0,null,"00:00:00",null,"00:00:00","00:00:00",0]
[null,null,1,0,null,"00:00:00",null,"00:00:00","00:00:00",0]
[null,null,1,0,null,"00:00:00",null,"00:00:00","00:00:00",0]
[null,null,1,0,null,"00:00:00",null,"00:00:00","00:00:00",0]
[null,null,1,0,null,"00:00:00",null,"00:00:00","00:00:00",0]
[]
[null,null,null,null,null,null,null,null,null,"Total FA Cup Apperances",{"$f":"COUNT($K$382:$K$388)-$K$391-$K$392","v":0},{"$f":"COUNT($L$382:$L$388)-$L$391-$L$392","v":0},{"$f":"COUNT($M$382:$M$388)-$M$391-$M$392","v":0},{"$f":"COUNT($N$382:$N$388)-$N$391-$N$392","v":2},{"$f":"COUNT($O$382:$O$388)-$O$391-$O$392","v":0},{"$f":"COUNT($P$382:$P$388)-$P$391-$P$392","v":0},{"$f":"COUNT($Q$382:$Q$388)-$Q$391-$Q$392","v":0},{"$f":"COUNT($R$382:$R$388)-$R$391-$R$392","v":2},{"$f":"COUNT($S$382:$S$388)-$S$391-$S$392","v":2},{"$f":"COUNT($T$382:$T$388)-$T$391-$T$392","v":2},{"$f":"COUNT($U$382:$U$388)-$U$391-$U$392","v":0},{"$f":"COUNT($V$382:$V$388)-$V$391-$V$392","v":0},{"$f":"COUNT($W$382:$W$388)-$W$391-$W$392","v":0},{"$f":"COUNT($X$382:$X$388)-$X$391-$X$392","v":0},{"$f":"COUNT($Y$382:$Y$388)-$Y$391-$Y$392","v":1},{"$f":"COUNT($Z$382:$Z$388)-$Z$391-$Z$392","v":2},{"$f":"COUNT($AA$382:$AA$388)-$AA$391-$AA$392","v":0},{"$f":"COUNT($AB$382:$AB$388)-$AB$391-$AB$392","v":0},{"$f":"COUNT($AC$382:$AC$388)-$AC$391-$AC$392","v":0},{"$f":"COUNT($AD$382:$AD$388)-$AD$391-$AD$392","v":1},{"$f":"COUNT($AE$382:$AE$388)-$AE$391-$AE$392","v":0},{"$f":"COUNT($AF$382:$AF$388)-$AF$391-$AF$392","v":0},{"$f":"COUNT($AG$382:$AG$388)-$AG$391-$AG$392","v":0},{"$f":"COUNT($AH$382:$AH$388)-$AH$391-$AH$392","v":2},{"$f":"COUNT($AI$382:$AI$388)-$AI$391-$AI$392","v":2},{"$f":"COUNT($AJ$382:$AJ$388)-$AJ$391-$AJ$392","v":0},{"$f":"COUNT($AK$382:$AK$388)-$AK$391-$AK$392","v":0},{"$f":"COUNT($AL$382:$AL$388)-$AL$391-$AL$392","v":2},{"$f":"COUNT($AM$382:$AM$388)-$AM$391-$AM$392","v":0},{"$f":"COUNT($AN$382:$AN$388)-$AN$391-$AN$392","v":2},{"$f":"COUNT($AO$382:$AO$388)-$AO$391-$AO$392","v":0},{"$f":"COUNT($AP$382:$AP$388)-$AP$391-$AP$392","v":0},{"$f":"COUNT($AQ$382:$AQ$388)-$AQ$391-$AQ$392","v":0},{"$f":"COUNT($AR$382:$AR$388)-$AR$391-$AR$392","v":1},{"$f":"COUNT($AS$382:$AS$388)-$AS$391-$AS$392","v":0},{"$f":"COUNT($AT$382:$AT$388)-$AT$391-$AT$392","v":1},{"$f":"COUNT($AU$382:$AU$388)-$AU$391-$AU$392","v":0},{"$f":"COUNT($AV$382:$AV$388)-$AV$391-$AV$392","v":0}]
[null,null,null,null,null,null,null,null,null,"Total FA Cup Substitute Appearences ",{"$f":"$BB$70+$CP$70+$ED$70","v":0},{"$f":"$BC$70+$CQ$70+$EE$70","v":0},{"$f":"$BD$70+$CR$70+$EF$70","v":0},{"$f":"$BE$70+$CS$70+$EG$70","v":0},{"$f":"$BF$70+$CT$70+$EH$70","v":0},{"$f":"$BG$70+$CU$70+$EI$70","v":0},{"$f":"$BH$70+$CV$70+$EJ$70","v":0},{"$f":"$BI$70+$CW$70+$EK$70","v":0},{"$f":"$BJ$70+$CX$70+$EL$70","v":0},{"$f":"$BK$70+$CY$70+$EM$70","v":0},{"$f":"$BL$70+$CZ$70+$EN$70","v":1},{"$f":"$BM$70+$DA$70+$EO$70","v":0},{"$f":"$BN$70+$DB$70+$EP$70","v":0},{"$f":"$BO$70+$DC$70+$EQ$70","v":0},{"$f":"$BP$70+$DD$70+$ER$70","v":0},{"$f":"$BQ$70+$DE$70+$ES$70","v":0},{"$f":"$BR$70+$DF$70+$ET$70","v":0},{"$f":"$BS$70+$DG$70+$EU$70","v":0},{"$f":"$BT$70+$DH$70+$EV$70","v":0},{"$f":"$BU$70+$DI$70+$EW$70","v":1},{"$f":"$BV$70+$DJ$70+$EX$70","v":0},{"$f":"$BW$70+$DK$70+$EY$70","v":0},{"$f":"$BX$70+$DL$70+$EZ$70","v":0},{"$f":"$BY$70+$DM$70+$FA$70","v":0},{"$f":"$BZ$70+$DN$70+$FB$70","v":0},{"$f":"$CA$70+$DO$70+$FC$70","v":0},{"$f":"$CB$70+$DP$70+$FD$70","v":0},{"$f":"$CC$70+$DQ$70+$FE$70","v":0},{"$f":"$CD$70+$DR$70+$FF$70","v":0},{"$f":"$CE$70+$DS$70+$FG$70","v":0},{"$f":"$CF$70+$DT$70+$FH$70","v":1},{"$f":"$CG$70+$DU$70+$FI$70","v":0},{"$f":"$CH$70+$DV$70+$FJ$70","v":1},{"$f":"$CI$70+$DW$70+$FK$70","v":0},{"$f":"$CJ$70+$DX$70+$FL$70","v":0},{"$f":"$CK$70+$DY$70+$FM$70","v":0},{"$f":"$CL$70+$DZ$70+$FN$70","v":0},{"$f":"$CM$70+$EA$70+$FO$70","v":0}]
[null,null,null,null,null,null,null,null,null,"Non Playing Substitute",{"$f":"COUNTIF($K$382:$K$388,\">=12\")-$K$391","v":0},{"$f":"COUNTIF($L$382:$L$388,\">=12\")-$L$391","v":0},{"$f":"COUNTIF($M$382:$M$388,\">=12\")-$M$391","v":0},{"$f":"COUNTIF($N$382:$N$388,\">=12\")-$N$391","v":0},{"$f":"COUNTIF($O$382:$O$388,\">=12\")-$O$391","v":0},{"$f":"COUNTIF($P$382:$P$388,\">=12\")-$P$391","v":0},{"$f":"COUNTIF($Q$382:$Q$388,\">=12\")-$Q$391","v":0},{"$f":"COUNTIF($R$382:$R$388,\">=12\")-$R$391","v":0},{"$f":"COUNTIF($S$382:$S$388,\">=12\")-$S$391","v":0},{"$f":"COUNTIF($T$382:$T$388,\">=12\")-$T$391","v":0},{"$f":"COUNTIF($U$382:$U$388,\">=12\")-$U$391","v":0},{"$f":"COUNTIF($V$382:$V$388,\">=12\")-$V$391","v":1},{"$f":"COUNTIF($W$382:$W$388,\">=12\")-$W$391","v":0},{"$f":"COUNTIF($X$382:$X$388,\">=12\")-$X$391","v":0},{"$f":"COUNTIF($Y$382:$Y$388,\">=12\")-$Y$391","v":0},{"$f":"COUNTIF($Z$382:$Z$388,\">=12\")-$Z$391","v":0},{"$f":"COUNTIF($AA$382:$AA$388,\">=12\")-$AA$391","v":0},{"$f":"COUNTIF($AB$382:$AB$388,\">=12\")-$AB$391","v":0},{"$f":"COUNTIF($AC$382:$AC$388,\">=12\")-$AC$391","v":0},{"$f":"COUNTIF($AD$382:$AD$388,\">=12\")-$AD$391","v":0},{"$f":"COUNTIF($AE$382:$AE$388,\">=12\")-$AE$391","v":0},{"$f":"COUNTIF($AF$382:$AF$388,\">=12\")-$AF$391","v":0},{"$f":"COUNTIF($AG$382:$AG$388,\">=12\")-$AG$391","v":0},{"$f":"COUNTIF($AH$382:$AH$388,\">=12\")-$AH$391","v":0},{"$f":"COUNTIF($AI$382:$AI$388,\">=12\")-$AI$391","v":0},{"$f":"COUNTIF($AJ$382:$AJ$388,\">=12\")-$AJ$391","v":0},{"$f":"COUNTIF($AK$382:$AK$388,\">=12\")-$AK$391","v":0},{"$f":"COUNTIF($AL$382:$AL$388,\">=12\")-$AL$391","v":0},{"$f":"COUNTIF($AM$382:$AM$388,\">=12\")-$AM$391","v":0},{"$f":"COUNTIF($AN$382:$AN$388,\">=12\")-$AN$391","v":0},{"$f":"COUNTIF($AO$382:$AO$388,\">=12\")-$AO$391","v":0},{"$f":"COUNTIF($AP$382:$AP$388,\">=12\")-$AP$391","v":0},{"$f":"COUNTIF($AQ$382:$AQ$388,\">=12\")-$AQ$391","v":0},{"$f":"COUNTIF($AR$382:$AR$388,\">=12\")-$AR$391","v":1},{"$f":"COUNTIF($AS$382:$AS$388,\">=12\")-$AS$391","v":0},{"$f":"COUNTIF($AT$382:$AT$388,\">=12\")-$AT$391","v":0},{"$f":"COUNTIF($AU$382:$AU$388,\">=12\")-$AU$391","v":0},{"$f":"COUNTIF($AV$382:$AV$388,\">=12\")-$AV$391","v":0}]
[null,null,null,null,null,null,null,null,null,"Goals",0,0,0,0,0,0,0,0,1,0,0,0,0,0,0,0,0,0,0,0,0,0,0,0,0,0,0,0,0,1,0,0,0,0,0,0,0,0]
[]
[null,null,null,null,null,null,null,"League Cup"]
[null,null,{"$f":"IF(J396=0,1,0)","v":0},{"$f":"D75","v":1},null,{"$f":"F75","v":"1996-08-21"},null,{"$f":"H75","v":"Peterborough"},{"$f":"I75","v":"(H)"},{"$f":"J75","v":"W 1-0"},null,null,null,4,null,null,null,1,10,11,13,12,null,null,3,7,null,null,null,null,9,null,null,14,2,null,null,null,null,8,null,6,null,null,null,5]
[null,null,0,{"$f":"D76","v":1},null,{"$f":"F76","v":"1996-09-03"},null,{"$f":"H76","v":"Peterborough"},"(A)","L 0-2",null,null,null,7,null,null,null,1,null,11,10,12,null,null,13,14,null,null,null,null,9,null,null,2,8,null,null,3,null,null,null,6,null,4,null,5]
[null,null,1,3,null,"00:00:00",null,"00:00:00","00:00:00",0]
[null,null,1,0,null,"00:00:00",null,"00:00:00","00:00:00",0]
[null,null,1,0,null,"00:00:00",null,"00:00:00","00:00:00",0]
[null,null,1,0,null,"00:00:00",null,"00:00:00","00:00:00",0]
[null,null,1,0,null,"00:00:00",null,"00:00:00","00:00:00",0]
[null,null,1,0,null,"00:00:00",null,"00:00:00","00:00:00",0]
[null,null,1,0,null,"00:00:00",null,"00:00:00","00:00:00",0]
[]
[null,null,null,null,null,null,null,null,null,"Total League Cup Apperances",{"$f":"COUNT($K$396:$K$404)-$K$408-$K$407","v":0},{"$f":"COUNT($L$396:$L$404)-$L$408-$L$407","v":0},{"$f":"COUNT($M$396:$M$404)-$M$408-$M$407","v":0},{"$f":"COUNT($N$396:$N$404)-$N$408-$N$407","v":2},{"$f":"COUNT($O$396:$O$404)-$O$408-$O$407","v":0},{"$f":"COUNT($P$396:$P$404)-$P$408-$P$407","v":0},{"$f":"COUNT($Q$396:$Q$404)-$Q$408-$Q$407","v":0},{"$f":"COUNT($R$396:$R$404)-$R$408-$R$407","v":2},{"$f":"COUNT($S$396:$S$404)-$S$408-$S$407","v":1},{"$f":"COUNT($T$396:$T$404)-$T$408-$T$407","v":2},{"$f":"COUNT($U$396:$U$404)-$U$408-$U$407","v":1},{"$f":"COUNT($V$396:$V$404)-$V$408-$V$407","v":0},{"$f":"COUNT($W$396:$W$404)-$W$408-$W$407","v":0},{"$f":"COUNT($X$396:$X$404)-$X$408-$X$407","v":0},{"$f":"COUNT($Y$396:$Y$404)-$Y$408-$Y$407","v":1},{"$f":"COUNT($Z$396:$Z$404)-$Z$408-$Z$407","v":1},{"$f":"COUNT($AA$396:$AA$404)-$AA$408-$AA$407","v":0},{"$f":"COUNT($AB$396:$AB$404)-$AB$408-$AB$407","v":0},{"$f":"COUNT($AC$396:$AC$404)-$AC$408-$AC$407","v":0},{"$f":"COUNT($AD$396:$AD$404)-$AD$408-$AD$407","v":0},{"$f":"COUNT($AE$396:$AE$404)-$AE$408-$AE$407","v":2},{"$f":"COUNT($AF$396:$AF$404)-$AF$408-$AF$407","v":0},{"$f":"COUNT($AG$396:$AG$404)-$AG$408-$AG$407","v":0},{"$f":"COUNT($AH$396:$AH$404)-$AH$408-$AH$407","v":1},{"$f":"COUNT($AI$396:$AI$404)-$AI$408-$AI$407","v":2},{"$f":"COUNT($AJ$396:$AJ$404)-$AJ$408-$AJ$407","v":0},{"$f":"COUNT($AK$396:$AK$404)-$AK$408-$AK$407","v":0},{"$f":"COUNT($AL$396:$AL$404)-$AL$408-$AL$407","v":1},{"$f":"COUNT($AM$396:$AM$404)-$AM$408-$AM$407","v":0},{"$f":"COUNT($AN$396:$AN$404)-$AN$408-$AN$407","v":1},{"$f":"COUNT($AO$396:$AO$404)-$AO$408-$AO$407","v":0},{"$f":"COUNT($AP$396:$AP$404)-$AP$408-$AP$407","v":2},{"$f":"COUNT($AQ$396:$AQ$404)-$AQ$408-$AQ$407","v":0},{"$f":"COUNT($AR$396:$AR$404)-$AR$408-$AR$407","v":1},{"$f":"COUNT($AS$396:$AS$404)-$AS$408-$AS$407","v":0},{"$f":"COUNT($AT$396:$AT$404)-$AT$408-$AT$407","v":2},{"$f":"COUNT($AU$396:$AU$404)-$AU$408-$AU$407","v":0},{"$f":"COUNT($AV$396:$AV$404)-$AV$408-$AV$407","v":0}]
[null,null,null,null,null,null,null,null,null,"Total League Cup Substitute Appearences ",{"$f":"$BB$86+$CP$86+$ED$86","v":0},{"$f":"$BC$86+$CQ$86+$EE$86","v":0},{"$f":"$BD$86+$CR$86+$EF$86","v":0},{"$f":"$BE$86+$CS$86+$EG$86","v":0},{"$f":"$BF$86+$CT$86+$EH$86","v":0},{"$f":"$BG$86+$CU$86+$EI$86","v":0},{"$f":"$BH$86+$CV$86+$EJ$86","v":0},{"$f":"$BI$86+$CW$86+$EK$86","v":0},{"$f":"$BJ$86+$CX$86+$EL$86","v":0},{"$f":"$BK$86+$CY$86+$EM$86","v":0},{"$f":"$BL$86+$CZ$86+$EN$86","v":1},{"$f":"$BM$86+$DA$86+$EO$86","v":0},{"$f":"$BN$86+$DB$86+$EP$86","v":0},{"$f":"$BO$86+$DC$86+$EQ$86","v":0},{"$f":"$BP$86+$DD$86+$ER$86","v":1},{"$f":"$BQ$86+$DE$86+$ES$86","v":1},{"$f":"$BR$86+$DF$86+$ET$86","v":0},{"$f":"$BS$86+$DG$86+$EU$86","v":0},{"$f":"$BT$86+$DH$86+$EV$86","v":0},{"$f":"$BU$86+$DI$86+$EW$86","v":0},{"$f":"$BV$86+$DJ$86+$EX$86","v":0},{"$f":"$BW$86+$DK$86+$EY$86","v":0},{"$f":"$BX$86+$DL$86+$EZ$86","v":0},{"$f":"$BY$86+$DM$86+$FA$86","v":1},{"$f":"$BZ$86+$DN$86+$FB$86","v":0},{"$f":"$CA$86+$DO$86+$FC$86","v":0},{"$f":"$CB$86+$DP$86+$FD$86","v":0},{"$f":"$CC$86+$DQ$86+$FE$86","v":0},{"$f":"$CD$86+$DR$86+$FF$86","v":0},{"$f":"$CE$86+$DS$86+$FG$86","v":0},{"$f":"$CF$86+$DT$86+$FH$86","v":0},{"$f":"$CG$86+$DU$86+$FI$86","v":0},{"$f":"$CH$86+$DV$86+$FJ$86","v":0},{"$f":"$CI$86+$DW$86+$FK$86","v":0},{"$f":"$CJ$86+$DX$86+$FL$86","v":0},{"$f":"$CK$86+$DY$86+$FM$86","v":0},{"$f":"$CL$86+$DZ$86+$FN$86","v":0},{"$f":"$CM$86+$EA$86+$FO$86","v":0}]
[null,null,null,null,null,null,null,null,null,"Non Playing Substitute",{"$f":"COUNTIF($K$396:$K$404,\">=12\")-$K$407","v":0},{"$f":"COUNTIF($L$396:$L$404,\">=12\")-$L$407","v":0},{"$f":"COUNTIF($M$396:$M$404,\">=12\")-$M$407","v":0},{"$f":"COUNTIF($N$396:$N$404,\">=12\")-$N$407","v":0},{"$f":"COUNTIF($O$396:$O$404,\">=12\")-$O$407","v":0},{"$f":"COUNTIF($P$396:$P$404,\">=12\")-$P$407","v":0},{"$f":"COUNTIF($Q$396:$Q$404,\">=12\")-$Q$407","v":0},{"$f":"COUNTIF($R$396:$R$404,\">=12\")-$R$407","v":0},{"$f":"COUNTIF($S$396:$S$404,\">=12\")-$S$407","v":0},{"$f":"COUNTIF($T$396:$T$404,\">=12\")-$T$407","v":0},{"$f":"COUNTIF($U$396:$U$404,\">=12\")-$U$407","v":0},{"$f":"COUNTIF($V$396:$V$404,\">=12\")-$V$407","v":2},{"$f":"COUNTIF($W$396:$W$404,\">=12\")-$W$407","v":0},{"$f":"COUNTIF($X$396:$X$404,\">=12\")-$X$407","v":0},{"$f":"COUNTIF($Y$396:$Y$404,\">=12\")-$Y$407","v":0},{"$f":"COUNTIF($Z$396:$Z$404,\">=12\")-$Z$407","v":0},{"$f":"COUNTIF($AA$396:$AA$404,\">=12\")-$AA$407","v":0},{"$f":"COUNTIF($AB$396:$AB$404,\">=12\")-$AB$407","v":0},{"$f":"COUNTIF($AC$396:$AC$404,\">=12\")-$AC$407","v":0},{"$f":"COUNTIF($AD$396:$AD$404,\">=12\")-$AD$407","v":0},{"$f":"COUNTIF($AE$396:$AE$404,\">=12\")-$AE$407","v":0},{"$f":"COUNTIF($AF$396:$AF$404,\">=12\")-$AF$407","v":0},{"$f":"COUNTIF($AG$396:$AG$404,\">=12\")-$AG$407","v":0},{"$f":"COUNTIF($AH$396:$AH$404,\">=12\")-$AH$407","v":0},{"$f":"COUNTIF($AI$396:$AI$404,\">=12\")-$AI$407","v":0},{"$f":"COUNTIF($AJ$396:$AJ$404,\">=12\")-$AJ$407","v":0},{"$f":"COUNTIF($AK$396:$AK$404,\">=12\")-$AK$407","v":0},{"$f":"COUNTIF($AL$396:$AL$404,\">=12\")-$AL$407","v":0},{"$f":"COUNTIF($AM$396:$AM$404,\">=12\")-$AM$407","v":0},{"$f":"COUNTIF($AN$396:$AN$404,\">=12\")-$AN$407","v":0},{"$f":"COUNTIF($AO$396:$AO$404,\">=12\")-$AO$407","v":0},{"$f":"COUNTIF($AP$396:$AP$404,\">=12\")-$AP$407","v":0},{"$f":"COUNTIF($AQ$396:$AQ$404,\">=12\")-$AQ$407","v":0},{"$f":"COUNTIF($AR$396:$AR$404,\">=12\")-$AR$407","v":0},{"$f":"COUNTIF($AS$396:$AS$404,\">=12\")-$AS$407","v":0},{"$f":"COUNTIF($AT$396:$AT$404,\">=12\")-$AT$407","v":0},{"$f":"COUNTIF($AU$396:$AU$404,\">=12\")-$AU$407","v":0},{"$f":"COUNTIF($AV$396:$AV$404,\">=12\")-$AV$407","v":0}]
[null,null,null,null,null,null,null,null,null,"Goals",0,0,0,0,0,0,0,0,0,0,0,0,0,0,0,0,0,0,0,0,1,0,0,0,0,0,0,0,0,0,0,0,0,0,0,0,0,0]
[null,null,{"$f":"IF(J$412=0,1,0)","v":0}]
[null,null,{"$f":"IF(J$412=0,1,0)","v":0},null,null,null,null,"AutoWindscreensTrophy"]
[null,null,{"$f":"IF(J412=0,1,0)","v":0},{"$f":"D91","v":1},null,{"$f":"F91","v":"1996-12-07"},null,{"$f":"H91","v":"Hereford Utd"},"(A)","W 4-0",14,null,null,null,null,null,null,1,9,10,11,7,null,null,null,null,null,null,null,2,null,null,12,8,4,13,null,null,null,null,6,null,3,5]
[null,null,{"$f":"IF(J413=0,1,0)","v":0},2,null,"1997-01-07",null,"Colchester Utd","(H)","L 2-3",null,null,null,null,10,null,null,null,9,null,11,14,null,null,3,7,null,null,1,null,null,null,null,null,2,null,null,6,null,4,12,null,13,5,8]
[null,null,1,0,null,"00:00:00",null,"00:00:00","00:00:00",0]
[null,null,1,0,null,"00:00:00",null,"00:00:00","00:00:00",0]
[null,null,1,0,null,"00:00:00",null,"00:00:00","00:00:00",0]
[null,null,1,0,null,"00:00:00",null,"00:00:00","00:00:00",0]
[null,null,1,0,null,"00:00:00",null,"00:00:00","00:00:00",0]
[null,null,1,0,null,"00:00:00",null,"00:00:00","00:00:00",0]
[null,null,1,0,null,"00:00:00",null,"00:00:00","00:00:00",0]
[]
[null,null,{"$f":"IF(J$412=0,1,0)","v":0},null,null,null,null,null,null,"Total AutoWindscreensTrophy Apperances",{"$f":"COUNT($K$412:$K$420)-$K$423-$K$424","v":0},{"$f":"COUNT($L$412:$L$420)-$L$423-$L$424","v":0},{"$f":"COUNT($M$412:$M$420)-$M$423-$M$424","v":0},{"$f":"COUNT($N$412:$N$420)-$N$423-$N$424","v":0},{"$f":"COUNT($O$412:$O$420)-$O$423-$O$424","v":1},{"$f":"COUNT($P$412:$P$420)-$P$423-$P$424","v":0},{"$f":"COUNT($Q$412:$Q$420)-$Q$423-$Q$424","v":0},{"$f":"COUNT($R$412:$R$420)-$R$423-$R$424","v":1},{"$f":"COUNT($S$412:$S$420)-$S$423-$S$424","v":2},{"$f":"COUNT($T$412:$T$420)-$T$423-$T$424","v":1},{"$f":"COUNT($U$412:$U$420)-$U$423-$U$424","v":2},{"$f":"COUNT($V$412:$V$420)-$V$423-$V$424","v":1},{"$f":"COUNT($W$412:$W$420)-$W$423-$W$424","v":0},{"$f":"COUNT($X$412:$X$420)-$X$423-$X$424","v":0},{"$f":"COUNT($Y$412:$Y$420)-$Y$423-$Y$424","v":1},{"$f":"COUNT($Z$412:$Z$420)-$Z$423-$Z$424","v":1},{"$f":"COUNT($AA$412:$AA$420)-$AA$423-$AA$424","v":0},{"$f":"COUNT($AB$412:$AB$420)-$AB$423-$AB$424","v":0},{"$f":"COUNT($AC$412:$AC$420)-$AC$423-$AC$424","v":1},{"$f":"COUNT($AD$412:$AD$420)-$AD$423-$AD$424","v":1},{"$f":"COUNT($AE$412:$AE$420)-$AE$423-$AE$424","v":0},{"$f":"COUNT($AF$412:$AF$420)-$AF$423-$AF$424","v":0},{"$f":"COUNT($AG$412:$AG$420)-$AG$423-$AG$424","v":0},{"$f":"COUNT($AH$412:$AH$420)-$AH$423-$AH$424","v":1},{"$f":"COUNT($AI$412:$AI$420)-$AI$423-$AI$424","v":2},{"$f":"COUNT($AJ$412:$AJ$420)-$AJ$423-$AJ$424","v":0},{"$f":"COUNT($AK$412:$AK$420)-$AK$423-$AK$424","v":0},{"$f":"COUNT($AL$412:$AL$420)-$AL$423-$AL$424","v":1},{"$f":"COUNT($AM$412:$AM$420)-$AM$423-$AM$424","v":0},{"$f":"COUNT($AN$412:$AN$420)-$AN$423-$AN$424","v":1},{"$f":"COUNT($AO$412:$AO$420)-$AO$423-$AO$424","v":1},{"$f":"COUNT($AP$412:$AP$420)-$AP$423-$AP$424","v":0},{"$f":"COUNT($AQ$412:$AQ$420)-$AQ$423-$AQ$424","v":1},{"$f":"COUNT($AR$412:$AR$420)-$AR$423-$AR$424","v":2},{"$f":"COUNT($AS$412:$AS$420)-$AS$423-$AS$424","v":1},{"$f":"COUNT($AT$412:$AT$420)-$AT$423-$AT$424","v":0},{"$f":"COUNT($AU$412:$AU$420)-$AU$423-$AU$424","v":0},{"$f":"COUNT($AV$412:$AV$420)-$AV$423-$AV$424","v":0}]
[null,null,{"$f":"IF(J$412=0,1,0)","v":0},null,null,null,null,null,null,"Total AutoWindscreensTrophy Sub Appearences ",{"$f":"$BB$102+$CP$102","v":0},{"$f":"$BC$102+$CQ$102","v":0},{"$f":"$BD$102+$CR$102","v":0},{"$f":"$BE$102+$CS$102","v":0},{"$f":"$BF$102+$CT$102","v":0},{"$f":"$BG$102+$CU$102","v":0},{"$f":"$BH$102+$CV$102","v":0},{"$f":"$BI$102+$CW$102","v":0},{"$f":"$BJ$102+$CX$102","v":0},{"$f":"$BK$102+$CY$102","v":0},{"$f":"$BL$102+$CZ$102","v":0},{"$f":"$BM$102+$DA$102","v":0},{"$f":"$BN$102+$DB$102","v":0},{"$f":"$BO$102+$DC$102","v":0},{"$f":"$BP$102+$DD$102","v":0},{"$f":"$BQ$102+$DE$102","v":0},{"$f":"$BR$102+$DF$102","v":0},{"$f":"$BS$102+$DG$102","v":0},{"$f":"$BT$102+$DH$102","v":0},{"$f":"$BU$102+$DI$102","v":0},{"$f":"$BV$102+$DJ$102","v":0},{"$f":"$BW$102+$DK$102","v":0},{"$f":"$BX$102+$DL$102","v":1},{"$f":"$BY$102+$DM$102","v":0},{"$f":"$BZ$102+$DN$102","v":0},{"$f":"$CA$102+$DO$102","v":0},{"$f":"$CB$102+$DP$102","v":0},{"$f":"$CC$102+$DQ$102","v":0},{"$f":"$CD$102+$DR$102","v":0},{"$f":"$CE$102+$DS$102","v":0},{"$f":"$CF$102+$DT$102","v":1},{"$f":"$CG$102+$DU$102","v":0},{"$f":"$CH$102+$DV$102","v":0},{"$f":"$CI$423+$DW$423","v":0},{"$f":"$CH$102+$DV$102","v":0},{"$f":"$CI$423+$DW$423","v":0},{"$f":"$CH$102+$DV$102","v":0},{"$f":"$CI$423+$DW$423","v":0}]
[null,null,{"$f":"IF(J$412=0,1,0)","v":0},null,null,null,null,null,null,"Non Playing Substitute",{"$f":"COUNTIF($K$412:$K$420,\">=12\")-$K$423","v":1},{"$f":"COUNTIF($L$412:$L$420,\">=12\")-$L$423","v":0},{"$f":"COUNTIF($M$412:$M$420,\">=12\")-$M$423","v":0},{"$f":"COUNTIF($N$412:$N$420,\">=12\")-$N$423","v":0},{"$f":"COUNTIF($O$412:$O$420,\">=12\")-$O$423","v":0},{"$f":"COUNTIF($P$412:$P$420,\">=12\")-$P$423","v":0},{"$f":"COUNTIF($Q$412:$Q$420,\">=12\")-$Q$423","v":0},{"$f":"COUNTIF($R$412:$R$420,\">=12\")-$R$423","v":0},{"$f":"COUNTIF($S$412:$S$420,\">=12\")-$S$423","v":0},{"$f":"COUNTIF($T$412:$T$420,\">=12\")-$T$423","v":0},{"$f":"COUNTIF($U$412:$U$420,\">=12\")-$U$423","v":0},{"$f":"COUNTIF($V$412:$V$420,\">=12\")-$V$423","v":1},{"$f":"COUNTIF($W$412:$W$420,\">=12\")-$W$423","v":0},{"$f":"COUNTIF($X$412:$X$420,\">=12\")-$X$423","v":0},{"$f":"COUNTIF($Y$412:$Y$420,\">=12\")-$Y$423","v":0},{"$f":"COUNTIF($Z$412:$Z$420,\">=12\")-$Z$423","v":0},{"$f":"COUNTIF($AA$412:$AA$420,\">=12\")-$AA$423","v":0},{"$f":"COUNTIF($AB$412:$AB$420,\">=12\")-$AB$423","v":0},{"$f":"COUNTIF($AC$412:$AC$420,\">=12\")-$AC$423","v":0},{"$f":"COUNTIF($AD$412:$AD$420,\">=12\")-$AD$423","v":0},{"$f":"COUNTIF($AE$412:$AE$420,\">=12\")-$AE$423","v":0},{"$f":"COUNTIF($AF$412:$AF$420,\">=12\")-$AF$423","v":0},{"$f":"COUNTIF($AG$412:$AG$420,\">=12\")-$AG$423","v":0},{"$f":"COUNTIF($AH$412:$AH$420,\">=12\")-$AH$423","v":0},{"$f":"COUNTIF($AI$412:$AI$420,\">=12\")-$AI$423","v":0},{"$f":"COUNTIF($AJ$412:$AJ$420,\">=12\")-$AJ$423","v":1},{"$f":"COUNTIF($AK$412:$AK$420,\">=12\")-$AK$423","v":0},{"$f":"COUNTIF($AL$412:$AL$420,\">=12\")-$AL$423","v":0},{"$f":"COUNTIF($AM$412:$AM$420,\">=12\")-$AM$423","v":0},{"$f":"COUNTIF($AN$412:$AN$420,\">=12\")-$AN$423","v":0},{"$f":"COUNTIF($AO$412:$AO$420,\">=12\")-$AO$423","v":0},{"$f":"COUNTIF($AP$412:$AP$420,\">=12\")-$AP$423","v":0},{"$f":"COUNTIF($AQ$412:$AQ$420,\">=12\")-$AQ$423","v":1},{"$f":"COUNTIF($AR$412:$AR$420,\">=12\")-$AR$423","v":0},{"$f":"COUNTIF($AS$412:$AS$420,\">=12\")-$AS$423","v":0},{"$f":"COUNTIF($AT$412:$AT$420,\">=12\")-$AT$423","v":0},{"$f":"COUNTIF($AU$412:$AU$420,\">=12\")-$AU$423","v":0},{"$f":"COUNTIF($AV$412:$AV$420,\">=12\")-$AV$423","v":0}]
[null,null,{"$f":"IF(J$412=0,1,0)","v":0},null,null,null,null,null,null,"Goals",0,0,0,0,0,0,0,0,3,2,0,0,0,0,0,0,0,0,0,0,0,0,0,0,0,0,0,0,0,1,0,0,0,0,0,0,0,0]

{"sheet":"Sheet1","index":2,"n_rows":152,"n_cols":57,"rows_kept":152,"cut":false,"hidden":false,"merged":[[95,1,97,1],[95,50,97,50],[100,1,102,1],[100,50,102,50],[105,1,106,1],[105,50,106,50],[80,1,82,1],[80,50,82,50],[85,1,87,1],[85,50,87,50],[90,1,92,1],[90,50,92,50],[65,1,67,1],[65,50,67,50],[70,1,72,1],[70,50,72,50],[75,1,77,1],[75,50,77,50],[50,1,52,1],[50,50,52,50],[55,1,57,1],[55,50,57,50],[60,1,62,1],[60,50,62,50],[35,1,37,1],[35,50,37,50],[40,1,42,1],[40,50,42,50],[45,1,47,1],[45,50,47,50],[20,1,22,1],[20,50,22,50],[25,1,27,1],[25,50,27,50],[30,1,32,1],[30,50,32,50],[5,1,7,1],[5,50,7,50],[11,1,12,1],[11,50,12,50],[15,1,17,1],[15,50,17,50]]}
[null,null,null,null,null,null,null,null,null,null,null,null,null,null,null,null,null,null,null,null,null,null,null,null,null,null,null,null,null,null,null,null,null,null,null,null,null,null,null,null,null,null,null,null,null,null,null,null,null,null,null,null,null,null,null,"Done","Next"]
[null,null,null,null,null,null,null,null,null,null,null,null,null,null,null,null,null,null,null,null,null,null,null,null,null,null,null,null,null,null,null,null,null,null,null,null,null,null,null,null,null,null,null,null,null,null,null,null,null,null,null,null,null,null,null,4,49]
[null,null,null,null,null,null,null,null,null,null,null,null,null,null,null,null,null,null,null,null,null,null,null,null,null,null,null,null,null,null,null,null,null,null,null,null,null,null,null,null,null,null,null,null,null,null,null,null,null,null,null,null,null,null,null,{"$f":"AW119+3","v":3},{"$f":"BD3+1-1","v":3}]
[]
[]
[null,100,null,null,null,null,null,null,null,null,null,null,null,null,null,null,null,null,null,null,null,null,null,null,null,null,null,null,null,null,null,null,null,null,null,null,null,null,null,null,null,null,null,null,null,null,null,null,null,null,100]
[]
[]
[]
[]
[]
[null,95,null,null,null,null,null,null,null,null,null,null,null,null,null,null,null,null,null,null,null,null,null,null,null,null,null,null,null,null,null,null,null,null,null,null,null,null,null,null,null,null,null,null,null,null,null,null,null,null,95]
[]
[]
[]
[null,90,null,null,null,null,null,null,null,null,null,null,null,null,null,null,null,null,null,null,null,null,null,null,null,null,null,null,null,null,null,null,null,null,null,null,null,null,null,null,null,null,null,null,null,null,null,null,null,null,90]
[]
[]
[]
[]
[null,85,null,null,null,null,null,null,null,null,null,null,null,null,null,null,null,null,null,null,null,null,null,null,null,null,null,null,null,null,null,null,null,null,null,null,null,null,null,null,null,null,null,null,null,null,null,null,null,null,85]
[]
[]
[]
[]
[null,80,null,null,null,null,null,null,null,null,null,null,null,null,null,null,null,null,null,null,null,null,null,null,null,null,null,null,null,null,null,null,null,null,null,null,null,null,null,null,null,null,null,null,null,null,null,null,null,null,80]
[]
[]
[]
[]
[null,75,null,null,null,null,null,null,null,null,null,null,null,null,null,null,null,null,null,null,null,null,null,null,null,null,null,null,null,null,null,null,null,null,null,null,null,null,null,null,null,null,null,null,null,null,null,null,null,null,75]
[]
[]
[]
[]
[null,70,null,null,null,null,null,null,null,null,null,null,null,null,null,null,null,null,null,null,null,null,null,null,null,null,null,null,null,null,null,null,null,null,null,null,null,null,null,null,null,null,null,null,null,null,null,null,null,null,70]
[]
[]
[]
[]
[null,65,null,null,null,null,null,null,null,null,null,null,null,null,null,null,null,null,null,null,null,null,null,null,null,null,null,null,null,null,null,null,null,null,null,null,null,null,null,null,null,null,null,null,null,null,null,null,null,null,65]
[]
[]
[]
[]
[null,60,null,null,null,null,null,null,null,null,null,null,null,null,null,null,null,null,null,null,null,null,null,null,null,null,null,null,null,null,null,null,null,null,null,null,null,null,null,null,null,null,null,null,null,null,null,null,null,null,60]
[]
[]
[]
[]
[null,55,null,null,null,null,null,null,null,null,null,null,null,null,null,null,null,null,null,null,null,null,null,null,null,null,null,null,null,null,null,null,null,null,null,null,null,null,null,null,null,null,null,null,null,null,null,null,null,null,55]
[]
[]
[]
[]
[null,50,null,null,null,null,null,null,null,null,null,null,null,null,null,null,null,null,null,null,null,null,null,null,null,null,null,null,null,null,null,null,null,null,null,null,null,null,null,null,null,null,null,null,null,null,null,null,null,null,50]
[]
[]
[]
[]
[null,45,null,null,null,null,null,null,null,null,null,null,null,null,null,null,null,null,null,null,null,null,null,null,null,null,null,null,null,null,null,null,null,null,null,null,null,null,null,null,null,null,null,null,null,null,null,null,null,null,45]
[]
[]
[]
[]
[null,40,null,null,null,null,null,null,null,null,null,null,null,null,null,null,null,null,null,null,null,null,null,null,null,null,null,null,null,null,null,null,null,null,null,null,null,null,null,null,null,null,null,null,null,null,null,null,null,null,40]
[]
[]
[]
[]
[null,35,null,null,null,null,null,null,null,null,null,null,null,null,null,null,null,null,null,null,null,null,null,null,null,null,null,null,null,null,null,null,null,null,null,null,null,null,null,null,null,null,null,null,null,null,null,null,null,null,35]
[]
[]
[]
[]
[null,30,null,null,null,null,null,null,null,null,null,null,null,null,null,null,null,null,null,null,null,null,null,null,null,null,null,null,null,null,null,null,null,null,null,null,null,null,null,null,null,null,null,null,null,null,null,null,null,null,30]
[]
[]
[]
[]
[null,25,null,null,null,null,null,null,null,null,null,null,null,null,null,null,null,null,null,null,null,null,null,null,null,null,null,null,null,null,null,null,null,null,null,null,null,null,null,null,null,null,null,null,null,null,null,null,null,null,25]
[]
[]
[]
[]
[null,20,null,null,null,null,null,null,null,null,null,null,null,null,null,null,null,null,null,null,null,null,null,null,null,null,null,null,null,null,null,null,null,null,null,null,null,null,null,null,null,null,null,null,null,null,null,null,null,null,20]
[]
[]
[]
[]
[null,15,null,null,null,null,null,null,null,null,null,null,null,null,null,null,null,null,null,null,null,null,null,null,null,null,null,null,null,null,null,null,null,null,null,null,null,null,null,null,null,null,null,null,null,null,null,null,null,null,15]
[]
[]
[]
[]
[null,10,null,null,null,null,null,null,null,null,null,null,null,null,null,null,null,null,null,null,null,null,null,null,null,null,null,null,null,null,null,null,null,null,null,null,null,null,null,null,null,null,null,null,null,null,null,null,null,null,10]
[]
[]
[]
[]
[null,5,null,null,null,null,null,null,null,null,null,null,null,null,null,null,null,null,null,null,null,null,null,null,null,null,null,null,null,null,null,null,null,null,null,null,null,null,null,null,null,null,null,null,null,null,null,null,null,null,5]
[]
[]
[]
[]
[null,0,null,null,null,null,null,null,null,null,null,null,null,null,null,null,null,null,null,null,null,null,null,null,null,null,null,null,null,null,null,null,null,null,null,null,null,null,null,null,null,null,null,null,null,null,null,null,null,null,0]
[]
[]
[null,null,null,"Wrexham (H) D 1-1","Watford (A) W 2-0","York (A) L 2-3","Burnley (H) W 2-1","Bristol R (H) W 2-0","Peterborough (A) D 3-3","Notts Co (A) W 2-1","Crewe (H) W 2-0","Preston (A) L 1-2","Stockport (H) L 3-4","Plymouth (A) D 0-0","Chesterfield (H) W 2-1","Bury (H) W 1-0","Gillingham (A) W 3-2","Brentford (A) D 0-0","Blackpool (H) W 2-1","Walsall (H) W 1-0","Bristol C (A) D 1-1","Shrewsbury (H) W 2-1","Rotherham (A) D 0-0","Brentford (H) D 0-0","Wycombe (A) L 0-1","Bournemouth (A) D 1-1","Luton (H) L 0-1","Peterborough (H) L 0-2","Preston (H) W 3-2","Stockport (A) L 1-5","Blackpool (A) L 0-3","Bristol C (H) L 0-2","Walsall (A) L 1-2","Rotherham (H) W 2-0","Shrewsbury (A) D 1-1","Notts Co (H) W 1-0","Wycombe (H) W 2-1","Luton (A) W 2-0","Bournemouth (H) L 0-1","Crewe (A) D 0-0","Watford (H) L 0-1","Wrexham (A) D 3-3","York (H) D 1-1","Burnley (A) L 0-1","Bristol R (A) L 0-1","Plymouth (H) D 0-0","Chesterfield (A) L 0-1","Gillingham (H) L 0-2","Bury (A) L 0-2"]
[]
[]
[]
[]
[]
[]
[]
[]
[null,null,null,4,5,6,7,8,9,10,11,12,13,14,15,16,17,18,19,20,21,22,23,24,25,26,27,28,29,30,31,32,33,34,35,36,37,38,39,40,41,42,43,44,45,46,47,48,49]
[]
[null,"Top Y",null,{"$f":"Sheet2!$I$6","v":3},{"$f":"Sheet2!$I$7","v":6},{"$f":"Sheet2!$I$8","v":7},{"$f":"Sheet2!$I$9","v":10},{"$f":"Sheet2!$I$10","v":13},{"$f":"Sheet2!$I$11","v":16},{"$f":"Sheet2!$I$12","v":17},{"$f":"Sheet2!$I$13","v":20},{"$f":"Sheet2!$I$14","v":21},{"$f":"Sheet2!$I$15","v":24},{"$f":"Sheet2!$I$16","v":27},{"$f":"Sheet2!$I$17","v":27},{"$f":"Sheet2!$I$18","v":30},{"$f":"Sheet2!$I$19","v":31},{"$f":"Sheet2!$I$20","v":32},{"$f":"Sheet2!$I$21","v":32},{"$f":"Sheet2!$I$22","v":34},{"$f":"Sheet2!$I$23","v":35},{"$f":"Sheet2!$I$24","v":38},{"$f":"Sheet2!$I$25","v":39},{"$f":"Sheet2!$I$26","v":40},{"$f":"Sheet2!$I$27","v":40},{"$f":"Sheet2!$I$28","v":43},{"$f":"Sheet2!$I$29","v":43},{"$f":"Sheet2!$I$30","v":47},{"$f":"Sheet2!$I$31","v":50},{"$f":"Sheet2!$I$32","v":51},{"$f":"Sheet2!$I$33","v":52},{"$f":"Sheet2!$I$34","v":55},{"$f":"Sheet2!$I$35","v":56},{"$f":"Sheet2!$I$36","v":56},{"$f":"Sheet2!$I$37","v":59},{"$f":"Sheet2!$I$38","v":59},{"$f":"Sheet2!$I$39","v":60},{"$f":"Sheet2!$I$40","v":61},{"$f":"Sheet2!$I$41","v":61},{"$f":"Sheet2!$I$42","v":61},{"$f":"Sheet2!$I$43","v":61},{"$f":"Sheet2!$I$44","v":64},{"$f":"Sheet2!$I$45","v":70},{"$f":"Sheet2!$I$46","v":70},{"$f":"Sheet2!$I$47","v":73},{"$f":"Sheet2!$I$48","v":73},{"$f":"Sheet2!$I$49","v":79},{"$f":"Sheet2!$I$50","v":81},{"$f":"Sheet2!$I$51","v":84}]
[]
[null,"3rd a",null,{"$f":"Sheet2!$K$6","v":3},{"$f":"Sheet2!$K$7","v":4},{"$f":"Sheet2!$K$8","v":7},{"$f":"Sheet2!$K$9","v":10},{"$f":"Sheet2!$K$10","v":11},{"$f":"Sheet2!$K$11","v":12},{"$f":"Sheet2!$K$12","v":15},{"$f":"Sheet2!$K$13","v":16},{"$f":"Sheet2!$K$14","v":16},{"$f":"Sheet2!$K$15","v":19},{"$f":"Sheet2!$K$16","v":21},{"$f":"Sheet2!$K$17","v":23},{"$f":"Sheet2!$K$18","v":24},{"$f":"Sheet2!$K$19","v":25},{"$f":"Sheet2!$K$20","v":28},{"$f":"Sheet2!$K$21","v":29},{"$f":"Sheet2!$K$22","v":31},{"$f":"Sheet2!$K$23","v":33},{"$f":"Sheet2!$K$24","v":33},{"$f":"Sheet2!$K$25","v":36},{"$f":"Sheet2!$K$26","v":36},{"$f":"Sheet2!$K$27","v":39},{"$f":"Sheet2!$K$28","v":40},{"$f":"Sheet2!$K$29","v":41},{"$f":"Sheet2!$K$30","v":41},{"$f":"Sheet2!$K$31","v":44},{"$f":"Sheet2!$K$32","v":44},{"$f":"Sheet2!$K$33","v":46},{"$f":"Sheet2!$K$34","v":47},{"$f":"Sheet2!$K$35","v":48},{"$f":"Sheet2!$K$36","v":50},{"$f":"Sheet2!$K$37","v":51},{"$f":"Sheet2!$K$38","v":52},{"$f":"Sheet2!$K$39","v":54},{"$f":"Sheet2!$K$40","v":57},{"$f":"Sheet2!$K$41","v":58},{"$f":"Sheet2!$K$42","v":58},{"$f":"Sheet2!$K$43","v":61},{"$f":"Sheet2!$K$44","v":61},{"$f":"Sheet2!$K$45","v":65},{"$f":"Sheet2!$K$46","v":68},{"$f":"Sheet2!$K$47","v":68},{"$f":"Sheet2!$K$48","v":69},{"$f":"Sheet2!$K$49","v":73},{"$f":"Sheet2!$K$50","v":77},{"$f":"Sheet2!$K$51","v":78}]
[]
[null,"7th b",null,{"$f":"Sheet2!$M$6","v":3},{"$f":"Sheet2!$M$7","v":4},{"$f":"Sheet2!$M$8","v":6},{"$f":"Sheet2!$M$9","v":7},{"$f":"Sheet2!$M$10","v":9},{"$f":"Sheet2!$M$11","v":11},{"$f":"Sheet2!$M$12","v":12},{"$f":"Sheet2!$M$13","v":13},{"$f":"Sheet2!$M$14","v":16},{"$f":"Sheet2!$M$15","v":16},{"$f":"Sheet2!$M$16","v":18},{"$f":"Sheet2!$M$17","v":20},{"$f":"Sheet2!$M$18","v":21},{"$f":"Sheet2!$M$19","v":23},{"$f":"Sheet2!$M$20","v":25},{"$f":"Sheet2!$M$21","v":27},{"$f":"Sheet2!$M$22","v":28},{"$f":"Sheet2!$M$23","v":31},{"$f":"Sheet2!$M$24","v":31},{"$f":"Sheet2!$M$25","v":33},{"$f":"Sheet2!$M$26","v":33},{"$f":"Sheet2!$M$27","v":36},{"$f":"Sheet2!$M$28","v":37},{"$f":"Sheet2!$M$29","v":37},{"$f":"Sheet2!$M$30","v":38},{"$f":"Sheet2!$M$31","v":41},{"$f":"Sheet2!$M$32","v":43},{"$f":"Sheet2!$M$33","v":43},{"$f":"Sheet2!$M$34","v":45},{"$f":"Sheet2!$M$35","v":45},{"$f":"Sheet2!$M$36","v":47},{"$f":"Sheet2!$M$37","v":48},{"$f":"Sheet2!$M$38","v":50},{"$f":"Sheet2!$M$39","v":51},{"$f":"Sheet2!$M$40","v":53},{"$f":"Sheet2!$M$41","v":55},{"$f":"Sheet2!$M$42","v":57},{"$f":"Sheet2!$M$43","v":58},{"$f":"Sheet2!$M$44","v":59},{"$f":"Sheet2!$M$45","v":60},{"$f":"Sheet2!$M$46","v":62},{"$f":"Sheet2!$M$47","v":63},{"$f":"Sheet2!$M$48","v":64},{"$f":"Sheet2!$M$49","v":66},{"$f":"Sheet2!$M$50","v":69},{"$f":"Sheet2!$M$51","v":69}]
[]
[null,"21st c",null,{"$f":"Sheet2!$O$6","v":0},{"$f":"Sheet2!$O$7","v":1},{"$f":"Sheet2!$O$8","v":1},{"$f":"Sheet2!$O$9","v":3},{"$f":"Sheet2!$O$10","v":3},{"$f":"Sheet2!$O$11","v":5},{"$f":"Sheet2!$O$12","v":5},{"$f":"Sheet2!$O$13","v":8},{"$f":"Sheet2!$O$14","v":9},{"$f":"Sheet2!$O$15","v":10},{"$f":"Sheet2!$O$16","v":10},{"$f":"Sheet2!$O$17","v":11},{"$f":"Sheet2!$O$18","v":14},{"$f":"Sheet2!$O$19","v":15},{"$f":"Sheet2!$O$20","v":15},{"$f":"Sheet2!$O$21","v":16},{"$f":"Sheet2!$O$22","v":17},{"$f":"Sheet2!$O$23","v":17},{"$f":"Sheet2!$O$24","v":19},{"$f":"Sheet2!$O$25","v":21},{"$f":"Sheet2!$O$26","v":21},{"$f":"Sheet2!$O$27","v":23},{"$f":"Sheet2!$O$28","v":24},{"$f":"Sheet2!$O$29","v":24},{"$f":"Sheet2!$O$30","v":27},{"$f":"Sheet2!$O$31","v":27},{"$f":"Sheet2!$O$32","v":28},{"$f":"Sheet2!$O$33","v":30},{"$f":"Sheet2!$O$34","v":30},{"$f":"Sheet2!$O$35","v":33},{"$f":"Sheet2!$O$36","v":33},{"$f":"Sheet2!$O$37","v":34},{"$f":"Sheet2!$O$38","v":37},{"$f":"Sheet2!$O$39","v":38},{"$f":"Sheet2!$O$40","v":41},{"$f":"Sheet2!$O$41","v":41},{"$f":"Sheet2!$O$42","v":41},{"$f":"Sheet2!$O$43","v":41},{"$f":"Sheet2!$O$44","v":42},{"$f":"Sheet2!$O$45","v":45},{"$f":"Sheet2!$O$46","v":45},{"$f":"Sheet2!$O$47","v":46},{"$f":"Sheet2!$O$48","v":48},{"$f":"Sheet2!$O$49","v":48},{"$f":"Sheet2!$O$50","v":51},{"$f":"Sheet2!$O$51","v":52}]
[]
[null,"24th d",null,{"$f":"Sheet2!$Q$6","v":0},{"$f":"Sheet2!$Q$7","v":0},{"$f":"Sheet2!$Q$8","v":0},{"$f":"Sheet2!$Q$9","v":1},{"$f":"Sheet2!$Q$10","v":1},{"$f":"Sheet2!$Q$11","v":1},{"$f":"Sheet2!$Q$12","v":2},{"$f":"Sheet2!$Q$13","v":2},{"$f":"Sheet2!$Q$14","v":4},{"$f":"Sheet2!$Q$15","v":5},{"$f":"Sheet2!$Q$16","v":5},{"$f":"Sheet2!$Q$17","v":8},{"$f":"Sheet2!$Q$18","v":9},{"$f":"Sheet2!$Q$19","v":9},{"$f":"Sheet2!$Q$20","v":11},{"$f":"Sheet2!$Q$21","v":11},{"$f":"Sheet2!$Q$22","v":11},{"$f":"Sheet2!$Q$23","v":14},{"$f":"Sheet2!$Q$24","v":14},{"$f":"Sheet2!$Q$25","v":14},{"$f":"Sheet2!$Q$26","v":14},{"$f":"Sheet2!$Q$27","v":15},{"$f":"Sheet2!$Q$28","v":16},{"$f":"Sheet2!$Q$29","v":16},{"$f":"Sheet2!$Q$30","v":16},{"$f":"Sheet2!$Q$31","v":18},{"$f":"Sheet2!$Q$32","v":21},{"$f":"Sheet2!$Q$33","v":21},{"$f":"Sheet2!$Q$34","v":21},{"$f":"Sheet2!$Q$35","v":21},{"$f":"Sheet2!$Q$36","v":21},{"$f":"Sheet2!$Q$37","v":23},{"$f":"Sheet2!$Q$38","v":23},{"$f":"Sheet2!$Q$39","v":24},{"$f":"Sheet2!$Q$40","v":24},{"$f":"Sheet2!$Q$41","v":25},{"$f":"Sheet2!$Q$42","v":27},{"$f":"Sheet2!$Q$43","v":27},{"$f":"Sheet2!$Q$44","v":27},{"$f":"Sheet2!$Q$45","v":28},{"$f":"Sheet2!$Q$46","v":31},{"$f":"Sheet2!$Q$47","v":31},{"$f":"Sheet2!$Q$48","v":31},{"$f":"Sheet2!$Q$49","v":32},{"$f":"Sheet2!$Q$50","v":32},{"$f":"Sheet2!$Q$51","v":35}]
[]
[null,"Millwall",null,{"$f":"Sheet2!$G$6","v":1},{"$f":"Sheet2!$G$7","v":4},{"$f":"Sheet2!$G$8","v":4},{"$f":"Sheet2!$G$9","v":7},{"$f":"Sheet2!$G$10","v":10},{"$f":"Sheet2!$G$11","v":11},{"$f":"Sheet2!$G$12","v":14},{"$f":"Sheet2!$G$13","v":17},{"$f":"Sheet2!$G$14","v":17},{"$f":"Sheet2!$G$15","v":17},{"$f":"Sheet2!$G$16","v":18},{"$f":"Sheet2!$G$17","v":21},{"$f":"Sheet2!$G$18","v":24},{"$f":"Sheet2!$G$19","v":27},{"$f":"Sheet2!$G$20","v":28},{"$f":"Sheet2!$G$21","v":31},{"$f":"Sheet2!$G$22","v":34},{"$f":"Sheet2!$G$23","v":35},{"$f":"Sheet2!$G$24","v":38},{"$f":"Sheet2!$G$25","v":39},{"$f":"Sheet2!$G$26","v":40},{"$f":"Sheet2!$G$27","v":40},{"$f":"Sheet2!$G$28","v":41},{"$f":"Sheet2!$G$29","v":41},{"$f":"Sheet2!$G$30","v":41},{"$f":"Sheet2!$G$31","v":44},{"$f":"Sheet2!$G$32","v":44},{"$f":"Sheet2!$G$33","v":44},{"$f":"Sheet2!$G$34","v":44},{"$f":"Sheet2!$G$35","v":44},{"$f":"Sheet2!$G$36","v":47},{"$f":"Sheet2!$G$37","v":48},{"$f":"Sheet2!$G$38","v":51},{"$f":"Sheet2!$G$39","v":54},{"$f":"Sheet2!$G$40","v":57},{"$f":"Sheet2!$G$41","v":57},{"$f":"Sheet2!$G$42","v":58},{"$f":"Sheet2!$G$43","v":58},{"$f":"Sheet2!$G$44","v":59},{"$f":"Sheet2!$G$45","v":60},{"$f":"Sheet2!$G$46","v":60},{"$f":"Sheet2!$G$47","v":60},{"$f":"Sheet2!$G$48","v":61},{"$f":"Sheet2!$G$49","v":61},{"$f":"Sheet2!$G$50","v":61},{"$f":"Sheet2!$G$51","v":61}]
[]
[]
[]
[]
[]
[]
[]
[]
[]
[]
[]
[]
[]
[]
[null,"2nd f",null,{"$f":"(Sheet2!$T$6)","v":3},{"$f":"(Sheet2!$T$7)","v":4},{"$f":"(Sheet2!$T$8)","v":7},{"$f":"(Sheet2!$T$9)","v":10},{"$f":"(Sheet2!$T$10)","v":13},{"$f":"(Sheet2!$T$11)","v":13},{"$f":"(Sheet2!$T$12)","v":15},{"$f":"(Sheet2!$T$13)","v":17},{"$f":"(Sheet2!$T$14)","v":17},{"$f":"(Sheet2!$T$15)","v":19},{"$f":"(Sheet2!$T$16)","v":22},{"$f":"(Sheet2!$T$17)","v":24},{"$f":"(Sheet2!$T$18)","v":24},{"$f":"(Sheet2!$T$19)","v":27},{"$f":"(Sheet2!$T$20)","v":28},{"$f":"(Sheet2!$T$21)","v":31},{"$f":"(Sheet2!$T$22)","v":32},{"$f":"(Sheet2!$T$23)","v":33},{"$f":"(Sheet2!$T$24)","v":34},{"$f":"(Sheet2!$T$25)","v":36},{"$f":"(Sheet2!$T$26)","v":37},{"$f":"(Sheet2!$T$27)","v":40},{"$f":"(Sheet2!$T$28)","v":41},{"$f":"(Sheet2!$T$29)","v":43},{"$f":"(Sheet2!$T$30)","v":46},{"$f":"(Sheet2!$T$31)","v":46},{"$f":"(Sheet2!$T$32)","v":47},{"$f":"(Sheet2!$T$33)","v":47},{"$f":"(Sheet2!$T$34)","v":51},{"$f":"(Sheet2!$T$35)","v":52},{"$f":"(Sheet2!$T$36)","v":52},{"$f":"(Sheet2!$T$37)","v":55},{"$f":"(Sheet2!$T$38)","v":55},{"$f":"(Sheet2!$T$39)","v":56},{"$f":"(Sheet2!$T$40)","v":57},{"$f":"(Sheet2!$T$41)","v":58},{"$f":"(Sheet2!$T$42)","v":58},{"$f":"(Sheet2!$T$43)","v":61},{"$f":"(Sheet2!$T$44)","v":64},{"$f":"(Sheet2!$T$45)","v":67},{"$f":"(Sheet2!$T$46)","v":68},{"$f":"(Sheet2!$T$47)","v":69},{"$f":"(Sheet2!$T$48)","v":71},{"$f":"(Sheet2!$T$49)","v":74},{"$f":"(Sheet2!$T$50)","v":78},{"$f":"(Sheet2!$T$51)","v":82}]
[]
[null,"6th g",null,{"$f":"(Sheet2!$V$6)","v":3},{"$f":"(Sheet2!$V$7)","v":4},{"$f":"(Sheet2!$V$8)","v":6},{"$f":"(Sheet2!$V$9)","v":7},{"$f":"(Sheet2!$V$10)","v":9},{"$f":"(Sheet2!$V$11)","v":11},{"$f":"(Sheet2!$V$12)","v":13},{"$f":"(Sheet2!$V$13)","v":13},{"$f":"(Sheet2!$V$14)","v":16},{"$f":"(Sheet2!$V$15)","v":17},{"$f":"(Sheet2!$V$16)","v":18},{"$f":"(Sheet2!$V$17)","v":20},{"$f":"(Sheet2!$V$18)","v":21},{"$f":"(Sheet2!$V$19)","v":24},{"$f":"(Sheet2!$V$20)","v":26},{"$f":"(Sheet2!$V$21)","v":27},{"$f":"(Sheet2!$V$22)","v":29},{"$f":"(Sheet2!$V$23)","v":31},{"$f":"(Sheet2!$V$24)","v":32},{"$f":"(Sheet2!$V$25)","v":33},{"$f":"(Sheet2!$V$26)","v":33},{"$f":"(Sheet2!$V$27)","v":37},{"$f":"(Sheet2!$V$28)","v":37},{"$f":"(Sheet2!$V$29)","v":37},{"$f":"(Sheet2!$V$30)","v":39},{"$f":"(Sheet2!$V$31)","v":41},{"$f":"(Sheet2!$V$32)","v":43},{"$f":"(Sheet2!$V$33)","v":44},{"$f":"(Sheet2!$V$34)","v":45},{"$f":"(Sheet2!$V$35)","v":46},{"$f":"(Sheet2!$V$36)","v":48},{"$f":"(Sheet2!$V$37)","v":48},{"$f":"(Sheet2!$V$38)","v":50},{"$f":"(Sheet2!$V$39)","v":52},{"$f":"(Sheet2!$V$40)","v":54},{"$f":"(Sheet2!$V$41)","v":57},{"$f":"(Sheet2!$V$42)","v":58},{"$f":"(Sheet2!$V$43)","v":59},{"$f":"(Sheet2!$V$44)","v":59},{"$f":"(Sheet2!$V$45)","v":62},{"$f":"(Sheet2!$V$46)","v":63},{"$f":"(Sheet2!$V$47)","v":63},{"$f":"(Sheet2!$V$48)","v":66},{"$f":"(Sheet2!$V$49)","v":67},{"$f":"(Sheet2!$V$50)","v":70},{"$f":"(Sheet2!$V$51)","v":73}]
[]
[null,"22nd h",null,{"$f":"(Sheet2!$X$6)","v":0},{"$f":"(Sheet2!$X$7)","v":1},{"$f":"(Sheet2!$X$8)","v":1},{"$f":"(Sheet2!$X$9)","v":2},{"$f":"(Sheet2!$X$10)","v":3},{"$f":"(Sheet2!$X$11)","v":4},{"$f":"(Sheet2!$X$12)","v":5},{"$f":"(Sheet2!$X$13)","v":7},{"$f":"(Sheet2!$X$14)","v":9},{"$f":"(Sheet2!$X$15)","v":9},{"$f":"(Sheet2!$X$16)","v":10},{"$f":"(Sheet2!$X$17)","v":10},{"$f":"(Sheet2!$X$18)","v":13},{"$f":"(Sheet2!$X$19)","v":14},{"$f":"(Sheet2!$X$20)","v":14},{"$f":"(Sheet2!$X$21)","v":16},{"$f":"(Sheet2!$X$22)","v":16},{"$f":"(Sheet2!$X$23)","v":17},{"$f":"(Sheet2!$X$24)","v":17},{"$f":"(Sheet2!$X$25)","v":17},{"$f":"(Sheet2!$X$26)","v":17},{"$f":"(Sheet2!$X$27)","v":20},{"$f":"(Sheet2!$X$28)","v":21},{"$f":"(Sheet2!$X$29)","v":21},{"$f":"(Sheet2!$X$30)","v":27},{"$f":"(Sheet2!$X$31)","v":27},{"$f":"(Sheet2!$X$32)","v":28},{"$f":"(Sheet2!$X$33)","v":29},{"$f":"(Sheet2!$X$34)","v":29},{"$f":"(Sheet2!$X$35)","v":30},{"$f":"(Sheet2!$X$36)","v":32},{"$f":"(Sheet2!$X$37)","v":32},{"$f":"(Sheet2!$X$38)","v":34},{"$f":"(Sheet2!$X$39)","v":34},{"$f":"(Sheet2!$X$40)","v":38},{"$f":"(Sheet2!$X$41)","v":38},{"$f":"(Sheet2!$X$42)","v":38},{"$f":"(Sheet2!$X$43)","v":38},{"$f":"(Sheet2!$X$44)","v":38},{"$f":"(Sheet2!$X$45)","v":41},{"$f":"(Sheet2!$X$46)","v":44},{"$f":"(Sheet2!$X$47)","v":45},{"$f":"(Sheet2!$X$48)","v":46},{"$f":"(Sheet2!$X$49)","v":46},{"$f":"(Sheet2!$X$50)","v":46},{"$f":"(Sheet2!$X$51)","v":47}]
[]
[]
[null,null,null,{"$f":"D126-D149","v":0},{"$f":"E126-E149","v":0},0,1,0,1,0,1,0,1,0,1,1,1,1,0,1,0,2,4,4,3,3,3,0,0,0,1,1,3,1,2,3,4,3,3,3,3,4]

{"sheet":"Sheet2","index":3,"n_rows":51,"n_cols":26,"rows_kept":51,"cut":false,"hidden":false,"merged":[]}
[null,null,"Millwall 1996/97 results and fixtures ",null,null,null,{"$f":"[3]Summary!$AP$66","v":61},{"$f":"[3]Summary!$Q$22","v":14},{"$f":"[3]Summary!$AP$10","v":84},1,{"$f":"[3]Summary!$AP$12","v":78},3,{"$f":"[3]Summary!$AP$16","v":69},7,{"$f":"[3]Summary!$AP$29","v":52},20,{"$f":"[3]Summary!$AP$33","v":35},24,{"$f":"[3]Summary!$T$5","v":94},{"$f":"[3]Summary!$AP$11","v":82},2,{"$f":"[3]Summary!$AP$15","v":73},6,{"$f":"[3]Summary!$AP$30","v":47},21,{"$f":"[3]Summary!$U$7","v":"Bury (A) L 0-2"}]
[]
[]
[null,null,null,null,null,null,"x"]
[null,"Game","Competition",null,"Pts","Pos","Millwall","Pos","top","Pos","3rd","Pos","7th","Pos","20th","Pos","Bottom","Pos","Day","2nd","Pos","6th ","Pos","21st","Pos","Vesus"]
[null,1,"Division Two","Wrexham (H) D 1-1",null,null,1,11,3,1,3,3,3,7,0,20,0,24,1,3,2,3,6,0,21,"Wrexham (H) D 1-1"]
[null,2,"Division Two","Watford (A) W 2-0",null,null,4,5,6,1,4,3,4,7,1,20,0,24,3,4,2,4,6,1,21,"Watford (A) W 2-0"]
[null,3,"Division Two","York (A) L 2-3",null,null,4,9,7,1,7,3,6,7,1,20,0,24,4,7,2,6,6,1,21,"York (A) L 2-3"]
[null,4,"Division Two","Burnley (H) W 2-1",null,null,7,5,10,1,10,3,7,7,3,20,1,24,6,10,2,7,6,2,21,"Burnley (H) W 2-1"]
[null,5,"Division Two","Bristol R (H) W 2-0",null,null,10,4,13,1,11,3,9,7,3,20,1,24,7,13,2,9,6,3,21,"Bristol R (H) W 2-0"]
[null,6,"Division Two","Peterborough (A) D 3-3",null,null,11,5,16,1,12,3,11,7,5,20,1,24,8,13,2,11,6,4,21,"Peterborough (A) D 3-3"]
[null,7,"Division Two","Notts Co (A) W 2-1",null,null,14,4,17,1,15,3,12,7,5,20,2,24,9,15,2,13,6,5,21,"Notts Co (A) W 2-1"]
[null,8,"Division Two","Crewe (H) W 2-0",null,null,17,2,20,1,16,3,13,7,8,20,2,24,11,17,2,13,6,7,21,"Crewe (H) W 2-0"]
[null,9,"Division Two","Preston (A) L 1-2",null,null,17,2,21,1,16,3,16,7,9,20,4,24,13,17,2,16,6,9,21,"Preston (A) L 1-2"]
[null,10,"Division Two","Stockport (H) L 3-4",null,null,17,6,24,1,19,3,16,7,10,20,5,24,15,19,2,17,6,9,21,"Stockport (H) L 3-4"]
[null,11,"Division Two","Plymouth (A) D 0-0",null,null,18,6,27,1,21,3,18,7,10,20,5,24,17,22,2,18,6,10,21,"Plymouth (A) D 0-0"]
[null,12,"Division Two","Chesterfield (H) W 2-1",null,null,21,5,27,1,23,3,20,7,11,20,8,24,20,24,2,20,6,10,21,"Chesterfield (H) W 2-1"]
[null,13,"Division Two","Bury (H) W 1-0",null,null,24,2,30,1,24,3,21,7,14,20,9,24,22,24,2,21,6,13,21,"Bury (H) W 1-0"]
[null,14,"Division Two","Gillingham (A) W 3-2",null,null,27,2,31,1,25,3,23,7,15,20,9,24,23,27,2,24,6,14,21,"Gillingham (A) W 3-2"]
[null,15,"Division Two","Brentford (A) D 0-0",null,null,28,2,32,1,28,3,25,7,15,20,11,24,24,28,2,26,6,14,21,"Brentford (A) D 0-0"]
[null,16,"Division Two","Blackpool (H) W 2-1",null,null,31,2,32,1,29,3,27,7,16,20,11,24,26,31,2,27,6,16,21,"Blackpool (H) W 2-1"]
[null,17,"Division Two","Walsall (H) W 1-0",null,null,34,1,34,1,31,3,28,7,17,20,11,24,27,32,2,29,6,16,21,"Walsall (H) W 1-0"]
[null,18,"Division Two","Bristol C (A) D 1-1",null,null,35,1,35,1,33,3,31,7,17,20,14,24,28,33,2,31,6,17,21,"Bristol C (A) D 1-1"]
[null,19,"Division Two","Shrewsbury (H) W 2-1",null,null,38,1,38,1,33,3,31,7,19,20,14,24,31,34,2,32,6,17,21,"Shrewsbury (H) W 2-1"]
[null,20,"Division Two","Rotherham (A) D 0-0",null,null,39,1,39,1,36,3,33,7,21,20,14,24,32,36,2,33,6,17,21,"Rotherham (A) D 0-0"]
[null,21,"Division Two","Brentford (H) D 0-0",null,null,40,1,40,1,36,3,33,7,21,20,14,24,33,37,2,33,6,17,21,"Brentford (H) D 0-0"]
[null,22,"Division Two","Wycombe (A) L 0-1",null,null,40,2,40,1,39,3,36,7,23,20,15,24,35,40,2,37,6,20,21,"Wycombe (A) L 0-1"]
[null,23,"Division Two","Bournemouth (A) D 1-1",null,null,41,2,43,1,40,3,37,7,24,20,16,24,37,41,2,37,6,21,21,"Bournemouth (A) D 1-1"]
[null,24,"Division Two","Luton (H) L 0-1",null,null,41,3,43,1,41,3,37,7,24,20,16,24,39,43,2,37,6,21,21,"Luton (H) L 0-1"]
[null,25,"Division Two","Peterborough (H) L 0-2",null,null,41,4,47,1,41,3,38,7,27,20,16,24,42,46,2,39,6,27,21,"Peterborough (H) L 0-2"]
[null,26,"Division Two","Preston (H) W 3-2",null,null,44,3,50,1,44,3,41,7,27,20,18,24,45,46,2,41,6,27,21,"Preston (H) W 3-2"]
[null,27,"Division Two","Stockport (A) L 1-5",null,null,44,5,51,1,44,3,43,7,28,20,21,24,47,47,2,43,6,28,21,"Stockport (A) L 1-5"]
[null,28,"Division Two","Blackpool (A) L 0-3",null,null,44,6,52,1,46,3,43,7,30,20,21,24,49,47,2,44,6,29,21,"Blackpool (A) L 0-3"]
[null,29,"Division Two","Bristol C (H) L 0-2",null,null,44,9,55,1,47,3,45,7,30,20,21,24,52,51,2,45,6,29,21,"Bristol C (H) L 0-2"]
[null,30,"Division Two","Walsall (A) L 1-2",null,null,44,10,56,1,48,3,45,7,33,20,21,24,55,52,2,46,6,30,21,"Walsall (A) L 1-2"]
[null,31,"Division Two","Rotherham (H) W 2-0",null,null,47,7,56,1,50,3,47,7,33,20,21,24,57,52,2,48,6,32,21,"Rotherham (H) W 2-0"]
[null,32,"Division Two","Shrewsbury (A) D 1-1",null,null,48,7,59,1,51,3,48,7,34,20,23,24,59,55,2,48,6,32,21,"Shrewsbury (A) D 1-1"]
[null,33,"Division Two","Notts Co (H) W 1-0",null,null,51,5,59,1,52,3,50,7,37,20,23,24,60,55,2,50,6,34,21,"Notts Co (H) W 1-0"]
[null,34,"Division Two","Wycombe (H) W 2-1",null,null,54,3,60,1,54,3,51,7,38,20,24,24,61,56,2,52,6,34,21,"Wycombe (H) W 2-1"]
[null,35,"Division Two","Luton (A) W 2-0",null,null,57,3,61,1,57,3,53,7,41,20,24,24,63,57,2,54,6,38,21,"Luton (A) W 2-0"]
[null,36,"Division Two","Bournemouth (H) L 0-1",null,null,57,6,61,1,58,3,55,7,41,20,25,24,66,58,2,57,6,38,21,"Bournemouth (H) L 0-1"]
[null,37,"Division Two","Crewe (A) D 0-0",null,null,58,5,61,1,58,3,57,7,41,20,27,24,68,58,2,58,6,38,21,"Crewe (A) D 0-0"]
[null,38,"Division Two","Watford (H) L 0-1",null,null,58,8,61,1,61,3,58,7,41,20,27,24,70,61,2,59,6,38,21,"Watford (H) L 0-1"]
[null,39,"Division Two","Wrexham (A) D 3-3",null,null,59,6,64,1,61,3,59,7,42,20,27,24,73,64,2,59,6,38,21,"Wrexham (A) D 3-3"]
[null,40,"Division Two","York (H) D 1-1",null,null,60,8,70,1,65,3,60,7,45,20,28,24,77,67,2,62,6,41,21,"York (H) D 1-1"]
[null,41,"Division Two","Burnley (A) L 0-1",null,null,60,10,70,1,68,3,62,7,45,20,31,24,78,68,2,63,6,44,21,"Burnley (A) L 0-1"]
[null,42,"Division Two","Bristol R (A) L 0-1",null,null,60,10,73,1,68,3,63,7,46,20,31,24,79,69,2,63,6,45,21,"Bristol R (A) L 0-1"]
[null,43,"Division Two","Plymouth (H) D 0-0",null,null,61,11,73,1,69,3,64,7,48,20,31,24,81,71,2,66,6,46,21,"Plymouth (H) D 0-0"]
[null,44,"Division Two","Chesterfield (A) L 0-1",null,null,61,12,79,1,73,3,66,7,48,20,32,24,85,74,2,67,6,46,21,"Chesterfield (A) L 0-1"]
[null,45,"Division Two","Gillingham (H) L 0-2",null,null,61,14,81,1,77,3,69,7,51,20,32,24,89,78,2,70,6,46,21,"Gillingham (H) L 0-2"]
[null,46,"Division Two","Bury (A) L 0-2",null,null,61,14,84,1,78,3,69,7,52,20,35,24,93,82,2,73,6,47,21,"Bury (A) L 0-2"]

{"sheet":"Sheet3","index":4,"n_rows":121,"n_cols":57,"rows_kept":121,"cut":false,"hidden":false,"merged":[[105,1,106,1],[80,1,82,1],[81,50,83,50],[85,1,87,1],[85,50,87,50],[89,50,91,50],[90,1,92,1],[93,50,95,50],[95,1,97,1],[97,50,99,50],[100,1,102,1],[101,50,103,50],[65,1,67,1],[65,50,67,50],[69,50,71,50],[70,1,72,1],[73,50,75,50],[75,1,77,1],[77,50,79,50],[60,1,62,1],[61,50,63,50],[33,50,35,50],[35,1,37,1],[37,50,39,50],[40,1,42,1],[41,50,43,50],[45,1,47,1],[45,50,47,50],[49,50,51,50],[50,1,52,1],[53,50,55,50],[55,1,57,1],[57,50,59,50],[20,1,22,1],[21,50,23,50],[25,1,27,1],[25,50,27,50],[29,50,31,50],[30,1,32,1],[5,1,7,1],[5,49,7,51],[9,50,10,50],[11,1,12,1],[13,50,15,50],[15,1,17,1],[17,50,19,50]]}
[]
[null,null,null,null,null,null,null,null,null,null,null,null,null,null,null,null,null,null,null,null,null,null,null,null,null,null,null,null,null,null,null,null,null,null,null,null,null,null,null,null,null,null,null,null,null,null,null,null,null,null,null,null,null,null,null,4,{"$f":"COUNT(D115:AW115)+3","v":49}]
[]
[]
[null,null,"Points"]
[null,100,null,null,null,null,null,null,null,null,null,null,null,null,null,null,null,null,null,null,null,null,null,null,null,null,null,null,null,null,null,null,null,null,null,null,null,null,null,null,null,null,null,null,null,null,null,null,null,"Position"]
[]
[]
[]
[null,null,null,null,null,null,null,null,null,null,null,null,null,null,null,null,null,null,null,null,null,null,null,null,null,null,null,null,null,null,null,null,null,null,null,null,null,null,null,null,null,null,null,null,null,null,null,null,null,null,1]
[]
[null,95]
[]
[null,null,null,null,null,null,null,null,null,null,null,null,null,null,null,null,null,null,null,null,null,null,null,null,null,null,null,null,null,null,null,null,null,null,null,null,null,null,null,null,null,null,null,null,null,null,null,null,null,null,2]
[]
[null,90]
[]
[null,null,null,null,null,null,null,null,null,null,null,null,null,null,null,null,null,null,null,null,null,null,null,null,null,null,null,null,null,null,null,null,null,null,null,null,null,null,null,null,null,null,null,null,null,null,null,null,null,null,3]
[]
[]
[null,85]
[null,null,null,null,null,null,null,null,null,null,null,null,null,null,null,null,null,null,null,null,null,null,null,null,null,null,null,null,null,null,null,null,null,null,null,null,null,null,null,null,null,null,null,null,null,null,null,null,null,null,4]
[]
[]
[]
[null,80,null,null,null,null,null,null,null,null,null,null,null,null,null,null,null,null,null,null,null,null,null,null,null,null,null,null,null,null,null,null,null,null,null,null,null,null,null,null,null,null,null,null,null,null,null,null,null,null,5]
[]
[]
[]
[null,null,null,null,null,null,null,null,null,null,null,null,null,null,null,null,null,null,null,null,null,null,null,null,null,null,null,null,null,null,null,null,null,null,null,null,null,null,null,null,null,null,null,null,null,null,null,null,null,null,6]
[null,75]
[]
[]
[null,null,null,null,null,null,null,null,null,null,null,null,null,null,null,null,null,null,null,null,null,null,null,null,null,null,null,null,null,null,null,null,null,null,null,null,null,null,null,null,null,null,null,null,null,null,null,null,null,null,7]
[]
[null,70]
[]
[null,null,null,null,null,null,null,null,null,null,null,null,null,null,null,null,null,null,null,null,null,null,null,null,null,null,null,null,null,null,null,null,null,null,null,null,null,null,null,null,null,null,null,null,null,null,null,null,null,null,8]
[]
[]
[null,65]
[null,null,null,null,null,null,null,null,null,null,null,null,null,null,null,null,null,null,null,null,null,null,null,null,null,null,null,null,null,null,null,null,null,null,null,null,null,null,null,null,null,null,null,null,null,null,null,null,null,null,9]
[]
[]
[]
[null,60,null,null,null,null,null,null,null,null,null,null,null,null,null,null,null,null,null,null,null,null,null,null,null,null,null,null,null,null,null,null,null,null,null,null,null,null,null,null,null,null,null,null,null,null,null,null,null,null,10]
[]
[]
[]
[null,null,null,null,null,null,null,null,null,null,null,null,null,null,null,null,null,null,null,null,null,null,null,null,null,null,null,null,null,null,null,null,null,null,null,null,null,null,null,null,null,null,null,null,null,null,null,null,null,null,11]
[null,55]
[]
[]
[null,null,null,null,null,null,null,null,null,null,null,null,null,null,null,null,null,null,null,null,null,null,null,null,null,null,null,null,null,null,null,null,null,null,null,null,null,null,null,null,null,null,null,null,null,null,null,null,null,null,12]
[]
[null,50]
[]
[null,null,null,null,null,null,null,null,null,null,null,null,null,null,null,null,null,null,null,null,null,null,null,null,null,null,null,null,null,null,null,null,null,null,null,null,null,null,null,null,null,null,null,null,null,null,null,null,null,null,13]
[]
[]
[null,45]
[null,null,null,null,null,null,null,null,null,null,null,null,null,null,null,null,null,null,null,null,null,null,null,null,null,null,null,null,null,null,null,null,null,null,null,null,null,null,null,null,null,null,null,null,null,null,null,null,null,null,14]
[]
[]
[]
[null,40,null,null,null,null,null,null,null,null,null,null,null,null,null,null,null,null,null,null,null,null,null,null,null,null,null,null,null,null,null,null,null,null,null,null,null,null,null,null,null,null,null,null,null,null,null,null,null,null,15]
[]
[]
[]
[null,null,null,null,null,null,null,null,null,null,null,null,null,null,null,null,null,null,null,null,null,null,null,null,null,null,null,null,null,null,null,null,null,null,null,null,null,null,null,null,null,null,null,null,null,null,null,null,null,null,16]
[null,35]
[]
[]
[null,null,null,null,null,null,null,null,null,null,null,null,null,null,null,null,null,null,null,null,null,null,null,null,null,null,null,null,null,null,null,null,null,null,null,null,null,null,null,null,null,null,null,null,null,null,null,null,null,null,17]
[]
[null,30]
[]
[null,null,null,null,null,null,null,null,null,null,null,null,null,null,null,null,null,null,null,null,null,null,null,null,null,null,null,null,null,null,null,null,null,null,null,null,null,null,null,null,null,null,null,null,null,null,null,null,null,null,18]
[]
[]
[null,25]
[null,null,null,null,null,null,null,null,null,null,null,null,null,null,null,null,null,null,null,null,null,null,null,null,null,null,null,null,null,null,null,null,null,null,null,null,null,null,null,null,null,null,null,null,null,null,null,null,null,null,19]
[]
[]
[]
[null,20,null,null,null,null,null,null,null,null,null,null,null,null,null,null,null,null,null,null,null,null,null,null,null,null,null,null,null,null,null,null,null,null,null,null,null,null,null,null,null,null,null,null,null,null,null,null,null,null,20]
[]
[]
[]
[null,null,null,null,null,null,null,null,null,null,null,null,null,null,null,null,null,null,null,null,null,null,null,null,null,null,null,null,null,null,null,null,null,null,null,null,null,null,null,null,null,null,null,null,null,null,null,null,null,null,21]
[null,15]
[]
[]
[null,null,null,null,null,null,null,null,null,null,null,null,null,null,null,null,null,null,null,null,null,null,null,null,null,null,null,null,null,null,null,null,null,null,null,null,null,null,null,null,null,null,null,null,null,null,null,null,null,null,22]
[]
[null,10]
[]
[null,null,null,null,null,null,null,null,null,null,null,null,null,null,null,null,null,null,null,null,null,null,null,null,null,null,null,null,null,null,null,null,null,null,null,null,null,null,null,null,null,null,null,null,null,null,null,null,null,null,23]
[]
[]
[null,5]
[null,null,null,null,null,null,null,null,null,null,null,null,null,null,null,null,null,null,null,null,null,null,null,null,null,null,null,null,null,null,null,null,null,null,null,null,null,null,null,null,null,null,null,null,null,null,null,null,null,null,24]
[]
[]
[]
[null,0]
[]
[]
[null,null,null,{"$f":"#REF!","v":{"$error":"#REF!"}},{"$f":"#REF!","v":{"$error":"#REF!"}},{"$f":"#REF!","v":{"$error":"#REF!"}},{"$f":"#REF!","v":{"$error":"#REF!"}},{"$f":"#REF!","v":{"$error":"#REF!"}},{"$f":"#REF!","v":{"$error":"#REF!"}},{"$f":"#REF!","v":{"$error":"#REF!"}},{"$f":"#REF!","v":{"$error":"#REF!"}},{"$f":"#REF!","v":{"$error":"#REF!"}},{"$f":"#REF!","v":{"$error":"#REF!"}},{"$f":"#REF!","v":{"$error":"#REF!"}},{"$f":"#REF!","v":{"$error":"#REF!"}},{"$f":"#REF!","v":{"$error":"#REF!"}},{"$f":"#REF!","v":{"$error":"#REF!"}},{"$f":"#REF!","v":{"$error":"#REF!"}},{"$f":"#REF!","v":{"$error":"#REF!"}},{"$f":"#REF!","v":{"$error":"#REF!"}},{"$f":"#REF!","v":{"$error":"#REF!"}},{"$f":"#REF!","v":{"$error":"#REF!"}},{"$f":"#REF!","v":{"$error":"#REF!"}},{"$f":"#REF!","v":{"$error":"#REF!"}},{"$f":"#REF!","v":{"$error":"#REF!"}},{"$f":"#REF!","v":{"$error":"#REF!"}},{"$f":"#REF!","v":{"$error":"#REF!"}},{"$f":"#REF!","v":{"$error":"#REF!"}},{"$f":"#REF!","v":{"$error":"#REF!"}},{"$f":"#REF!","v":{"$error":"#REF!"}},{"$f":"#REF!","v":{"$error":"#REF!"}},{"$f":"#REF!","v":{"$error":"#REF!"}},{"$f":"#REF!","v":{"$error":"#REF!"}},{"$f":"#REF!","v":{"$error":"#REF!"}},{"$f":"#REF!","v":{"$error":"#REF!"}},{"$f":"#REF!","v":{"$error":"#REF!"}},{"$f":"#REF!","v":{"$error":"#REF!"}},{"$f":"#REF!","v":{"$error":"#REF!"}},{"$f":"#REF!","v":{"$error":"#REF!"}},{"$f":"#REF!","v":{"$error":"#REF!"}},{"$f":"#REF!","v":{"$error":"#REF!"}},{"$f":"#REF!","v":{"$error":"#REF!"}},{"$f":"#REF!","v":{"$error":"#REF!"}},{"$f":"#REF!","v":{"$error":"#REF!"}},{"$f":"#REF!","v":{"$error":"#REF!"}},{"$f":"#REF!","v":{"$error":"#REF!"}},{"$f":"#REF!","v":{"$error":"#REF!"}},{"$f":"#REF!","v":{"$error":"#REF!"}},{"$f":"#REF!","v":{"$error":"#REF!"}}]
[]
[]
[]
[]
[]
[null,"Millwall",null,{"$f":"Sheet2!$G$6","v":1},{"$f":"Sheet2!$G$7","v":4},{"$f":"Sheet2!$G$8","v":4},{"$f":"Sheet2!$G$9","v":7},{"$f":"Sheet2!$G$10","v":10},{"$f":"Sheet2!$G$11","v":11},{"$f":"Sheet2!$G$12","v":14},{"$f":"Sheet2!$G$13","v":17},{"$f":"Sheet2!$G$14","v":17},{"$f":"Sheet2!$G$15","v":17},{"$f":"Sheet2!$G$16","v":18},{"$f":"Sheet2!$G$17","v":21},{"$f":"Sheet2!$G$18","v":24},{"$f":"Sheet2!$G$19","v":27},{"$f":"Sheet2!$G$20","v":28},{"$f":"Sheet2!$G$21","v":31},{"$f":"Sheet2!$G$22","v":34},{"$f":"Sheet2!$G$23","v":35},{"$f":"Sheet2!$G$24","v":38},{"$f":"Sheet2!$G$25","v":39},{"$f":"Sheet2!$G$26","v":40},{"$f":"Sheet2!$G$27","v":40},{"$f":"Sheet2!$G$28","v":41},{"$f":"Sheet2!$G$29","v":41},{"$f":"Sheet2!$G$30","v":41},{"$f":"Sheet2!$G$31","v":44},{"$f":"Sheet2!$G$32","v":44},{"$f":"Sheet2!$G$33","v":44},{"$f":"Sheet2!$G$34","v":44},{"$f":"Sheet2!$G$35","v":44},{"$f":"Sheet2!$G$36","v":47},{"$f":"Sheet2!$G$37","v":48},{"$f":"Sheet2!$G$38","v":51},{"$f":"Sheet2!$G$39","v":54},{"$f":"Sheet2!$G$40","v":57},{"$f":"Sheet2!$G$41","v":57},{"$f":"Sheet2!$G$42","v":58},{"$f":"Sheet2!$G$43","v":58},{"$f":"Sheet2!$G$44","v":59},{"$f":"Sheet2!$G$45","v":60},{"$f":"Sheet2!$G$46","v":60},{"$f":"Sheet2!$G$47","v":60},{"$f":"Sheet2!$G$48","v":61},{"$f":"Sheet2!$G$49","v":61},{"$f":"Sheet2!$G$50","v":61},{"$f":"Sheet2!$G$51","v":61}]
[]
[null,"Position",null,{"$f":"100-(D121*4)","v":56},80,64,80,84,80,84,92,92,76,76,80,92,92,92,92,96,96,96,96,96,92,92,88,84,88,80,76,64,60,72,72,80,88,88,76,80,68,76,68,60,60,56,52,44,44]
[]
[]
[]
[null,null,null,{"$f":"Sheet2!$H$6","v":11},{"$f":"Sheet2!$H$7","v":5},{"$f":"Sheet2!$H$8","v":9},{"$f":"Sheet2!$H$9","v":5},{"$f":"Sheet2!$H$10","v":4},{"$f":"Sheet2!$H$11","v":5},{"$f":"Sheet2!$H$12","v":4},{"$f":"Sheet2!$H$13","v":2},{"$f":"Sheet2!$H$14","v":2},{"$f":"Sheet2!$H$15","v":6},{"$f":"Sheet2!$H$16","v":6},{"$f":"Sheet2!$H$17","v":5},{"$f":"Sheet2!$H$18","v":2},{"$f":"Sheet2!$H$19","v":2},{"$f":"Sheet2!$H$20","v":2},{"$f":"Sheet2!$H$21","v":2},{"$f":"Sheet2!$H$22","v":1},{"$f":"Sheet2!$H$23","v":1},{"$f":"Sheet2!$H$24","v":1},{"$f":"Sheet2!$H$25","v":1},{"$f":"Sheet2!$H$26","v":1},{"$f":"Sheet2!$H$27","v":2},{"$f":"Sheet2!$H$28","v":2},{"$f":"Sheet2!$H$29","v":3},{"$f":"Sheet2!$H$30","v":4},{"$f":"Sheet2!$H$31","v":3},{"$f":"Sheet2!$H$32","v":5},{"$f":"Sheet2!$H$33","v":6},{"$f":"Sheet2!$H$34","v":9},{"$f":"Sheet2!$H$35","v":10},{"$f":"Sheet2!$H$36","v":7},{"$f":"Sheet2!$H$37","v":7},{"$f":"Sheet2!$H$38","v":5},{"$f":"Sheet2!$H$39","v":3},{"$f":"Sheet2!$H$40","v":3},{"$f":"Sheet2!$H$41","v":6},{"$f":"Sheet2!$H$42","v":5},{"$f":"Sheet2!$H$43","v":8},{"$f":"Sheet2!$H$44","v":6},{"$f":"Sheet2!$H$45","v":8},{"$f":"Sheet2!$H$46","v":10},{"$f":"Sheet2!$H$47","v":10},{"$f":"Sheet2!$H$48","v":11},{"$f":"Sheet2!$H$49","v":12},{"$f":"Sheet2!$H$50","v":14},{"$f":"Sheet2!$H$51","v":14}]