{"text_format":"1","workbook":"xlsx","n_sheets":5,"sheets":["Millwall","Comparisons","Sheet1","Sheet2","Sheet3"],"not_rendered":{"charts":0,"images":3,"macros":1,"external_links":3,"defined_names":43,"comments":0,"pivot_tables":0},"unopened":[],"bounds":{"document_bytes":16777216,"sheet_cells":100000,"rows_first":2000,"rows_last":500,"rows_between":2000,"halvings":0,"cell_chars":16384,"cell_head_chars":4096},"cells_cut":0,"cells_raw":0,"read":"whole","date_system":"1900"}

{"sheet":"Millwall","index":0,"n_rows":147,"n_cols":100,"rows_kept":147,"cut":false,"hidden":false,"merged":[[4,88,4,91],[5,68,5,70],[5,73,5,75],[5,78,5,80],[5,83,5,85],[5,88,5,90],[4,68,4,71],[4,73,4,76],[4,78,4,81],[4,83,4,86]]}
[null,null,1]
[]
[]
[null,null,"Game","Competition","Date","Opponents",null,"Score","HT","Att","Pts","Pos","Goal Scorers",null,null,null,null,null,null,null,null,"Game","Competition","Date","Opponents",null,"Score",1,2,3,4,5,6,7,8,9,10,11,12,null,14]
[null,null,1,"Division 1","1992-08-15","Watford","(A)","L 1-3","1-2",9745,0,16,"McGinlay (12) / Drysdale (30 pen) Nogan (44) Bazeley (84)",null,null,null,null,null,null,null,null,1,"Division 1","1992-08-15","Watford","(A)","L 1-3","Davidson","Cunningham","Dawes","May (75)","Cooper","Stevensn","Roberts","McGinlay (59)¹n","Allen (14)n","Armstrong","Barber","Stephenson (59)",null,"Rae (75)",null,null,null,null,null,null,null,null,null,null,null,null,null,null,null,null,null,null,null,null,null,null,null,null,null,null,null,"All",null,null,null,null,"League",null,null,null,null,"FA Cup",null,null,null,null,"League Cup",null,null,null,null,"Anglo Italian Cup",null,null,null,null,null,null,null,null,null,null,"Watford (A) L 1-3"]
[null,null,2,"League Cup","1992-08-18","Leyton Orient","(A)","D 2-2","0-1",4939,"-","-","Roberts (47) Stevens (55) / Tomlinson (3) Cooper (70)",null,null,null,null,null,null,null,null,2,"League Cup","1992-08-18","Leyton Orient","(A)","D 2-2","Davidson","Cunningham","Dawes","May","Coopern","Stevens","Roberts","McGinlay","Allen","Armstrong","Barber","Stephenson",null,"Rae",null,null,null,null,null,null,null,null,null,null,null,null,null,null,null,null,null,null,null,null,null,null,null,null,null,null,null,"Max (53)",null,null,null,null,"Max (46)",null,null,null,null,"Max (1)",null,null,null,null,"Max (4)",null,null,null,null,"Max (2)",null,null,null,null,null,null,null,null,null,null,"Oxford (H) W 3-1"]
[null,null,3,"Division 1","1992-08-22","Oxford","(H)","W 3-1","2-0",6746,3,12,"Rae (23) Armstrong (43) Allen (55) / Penney (47)",null,null,null,null,null,null,null,null,3,"Division 1","1992-08-22","Oxford","(H)","W 3-1","Keller","Cunningham","Dawes","May (14)","Coopern","Stevens","Roberts","McGinlay (80)","Allen","Armstrong","Barber","Goodman (80)",null,"Rae (14)",null,null,null,null,null,null,null,null,null,null,null,null,null,null,null,null,null,null,null,null,null,null,null,null,null,null,"Player ","Apps","Sub","Nps","Goals",null,"Apps","Sub","Nps","Goals",null,"Apps","Sub","Nps","Goals",null,"Apps","Sub","Nps","Goals",null,"Apps","Sub","Nps","Goals",null,null,null,null,null,null,null,"Barnsley (A) D 0-0"]
[null,null,4,"League Cup","1992-08-26","Leyton Orient","(H)","W 3-0","2-0",5444,"-","-","Armstrong (16) Allen (31) (64)",null,null,null,null,null,null,null,null,4,"League Cup","1992-08-26","Leyton Orient","(H)","W 3-0","Keller","Cunningham","Dawes","Rae","Coopern","Stevensn","Roberts","McGinlay (78)","Allenn","Armstrong","Barber (82)","Goodman (78)",null,"Holsgrove (82)",null,null,null,null,null,null,null,null,null,null,null,null,null,null,null,null,null,null,null,null,null,null,null,null,null,null,"Malcolm Allen",{"$f":"BV8+CA8+CF8+CK8","v":34},12,1,12,null,30,11,1,10,null,0,1,0,0,null,4,0,0,2,null,0,0,0,0,null,null,null,null,null,null,null,"Swindon (H) W 2-1"]
[null,null,5,"Division 1","1992-08-29","Barnsley","(A)","D 0-0","0-0",4795,4,12,null,null,null,null,null,null,null,null,null,5,"Division 1","1992-08-29","Barnsley","(A)","D 0-0","Keller","Cunningham","Dawes","Raen","Cooper","Stevensn","Roberts","McGinlay (72)","Goodman","Armstrong","Barber","Stephenson (72)",null,"McLeary",null,null,null,null,null,null,null,null,null,null,null,null,null,null,null,null,null,null,null,null,null,null,null,null,null,null,"Chris Armstrong",5,0,0,2,null,3,0,0,1,null,0,0,0,0,null,2,0,0,1,null,0,0,0,0,null,null,null,null,null,null,null,"Birmingham (H) D 0-0"]
[null,null,6,"Anglo-Italian","1992-09-02","Charlton","(H)","L 1-2","1-0",3975,"-","-","Cunningham (38) / Barness (84) Pardew (90)",null,null,null,null,null,null,null,null,6,"Anglo-Italian","1992-09-02","Charlton","(H)","L 1-2","Keller","Cunningham","Holsgrove","Rae (64)","Cooper","McLeary","Roberts","McGinlay","Goodman","Bogie","Stephenson","Dolby (64)",null,"Barber",null,null,null,null,null,null,null,null,null,null,null,null,null,null,null,null,null,null,null,null,null,null,null,null,null,null,"Phil Barber",51,0,1,8,null,46,0,0,8,null,1,0,0,0,null,4,0,0,0,null,0,0,1,0,null,null,null,null,null,null,null,"Peterborough (A) D 0-0"]
[null,null,7,"Division 1","1992-09-05","Swindon","(H)","W 2-1","0-1",8091,7,10,"McGinlay (48) Goodman (86) / Maskell (20) ",null,null,null,null,null,null,null,null,7,"Division 1","1992-09-05","Swindon","(H)","W 2-1","Keller","Cunningham","Dawes","Bogie (77)","Coopern","Stevens","Roberts (73)","McGinlay","Goodman","Holsgrove","Barber","Stephenson (73)",null,"Dolby (77)",null,null,null,null,null,null,null,null,null,null,null,null,null,null,null,null,null,null,null,null,null,null,null,null,null,null,"Ian Bogie",{"$f":"BV11+CA11+CF11+CK11","v":23},{"$f":"BW11+CB11+CG11+CL11","v":2},{"$f":"BX11+CC11+CH11+CM11","v":0},{"$f":"BY11+CD11+CI11+CN11","v":0},null,20,2,0,0,null,1,0,0,0,null,0,0,0,0,null,2,0,0,0,null,null,null,null,null,null,null,"Notts Co (H) W 6-0"]
[null,null,8,"Division 1","1992-09-12","Birmingham","(H)","D 0-0","0-0",8581,8,10,null,null,null,null,null,null,null,null,null,8,"Division 1","1992-09-12","Birmingham","(H)","D 0-0","Keller","Cunningham","Dawes","May","Cooper","Stevens","Roberts","McGinlay","Allen (77)","Goodman","Barber","Dolby (77)",null,"Holsgrove",null,null,null,null,null,null,null,null,null,null,null,null,null,null,null,null,null,null,null,null,null,null,null,null,null,null,"John Byrne",11,{"$f":"BW12+CB12+CG12+CL12","v":2},{"$f":"BX12+CC12+CH12+CM12","v":0},{"$f":"BY12+CD12+CI12+CN12","v":1},null,11,2,0,1,null,0,0,0,0,null,0,0,0,0,null,0,0,0,0,null,null,null,null,null,null,null,"Brentford (A) D 1-1"]
[null,null,9,"Division 1","1992-09-15","Peterborough","(A)","D 0-0","0-0",5619,9,8,null,null,null,null,null,null,null,null,null,9,"Division 1","1992-09-15","Peterborough","(A)","D 0-0","Keller","Cunningham","Dawes","May","Cooper (45)","Stevens","Roberts","McGinlay (64)","Allen","Goodman","Barber","Dolby (64)n",null,"Holsgrove (45)",null,null,null,null,null,null,null,null,null,null,null,null,null,null,null,null,null,null,null,null,null,null,null,null,null,null,"Colin Cooper",47,0,0,4,null,41,0,0,4,null,1,0,0,0,null,4,0,0,0,null,1,0,0,0,null,null,null,null,null,null,null,"Sunderland (A) L 0-2"]
[null,null,10,"Division 1","1992-09-19","Notts Co","(H)","W 6-0","1-0",6689,12,5,"Goodman (17) Allen (54) (70) Barber (55) (58) Dolby (89)",null,null,null,null,null,null,null,null,10,"Division 1","1992-09-19","Notts Co","(H)","W 6-0","Keller","Cunningham","Dawes","May (80)","Cooper","Stevens","Roberts","Dolby","Allen","Goodman (72)","Barber","McGinlay (72)",null,"Holsgrove (80)",null,null,null,null,null,null,null,null,null,null,null,null,null,null,null,null,null,null,null,null,null,null,null,null,null,null,"Kenny Cunningham",43,0,0,1,null,37,0,0,0,null,0,0,0,0,null,4,0,0,0,null,2,0,0,1,null,null,null,null,null,null,null,"Cambridge (H) D 2-2"]
[null,null,11,"League Cup","1992-09-22","Arsenal","(A)","D 1-1","0-0",20940,"-","-","Roberts (52) / Campbell (78)",null,null,null,null,null,null,null,null,11,"League Cup","1992-09-22","Arsenal","(A)","D 1-1","Keller","Cunningham","Dawes","May","Cooper","Stevensn","Roberts","Dolby (74)","Allenn","Goodman","Barber","McGinlay (74)",null,"Holsgrove",null,null,null,null,null,null,null,null,null,null,null,null,null,null,null,null,null,null,null,null,null,null,null,null,null,null,"Aiden Davidson",3,0,0,0,null,1,0,0,0,null,0,0,0,0,null,1,0,0,0,null,1,0,0,0,null,null,null,null,null,null,null,"Charlton (A) W 2-0"]
[null,null,12,"Division 1","1992-09-26","Brentford","(A)","D 1-1","0-1",8823,13,6,"Allen (57) / Ratcliffe (43)",null,null,null,null,null,null,null,null,12,"Division 1","1992-09-26","Brentford","(A)","D 1-1","Keller","Cunningham","Dawes","May","Cooper","Stevens","Roberts","Dolby","Allen","Goodman","Barber","McGinlay",null,"Holsgrove",null,null,null,null,null,null,null,null,null,null,null,null,null,null,null,null,null,null,null,null,null,null,null,null,null,null,"Ian Dawes",52,0,0,0,null,46,0,0,0,null,1,0,0,0,null,4,0,0,0,null,1,0,0,0,null,null,null,null,null,null,null,"Wolves (H) W 2-0"]
[null,null,13,"Anglo-Italian","1992-09-29","Portsmouth","(A)","D 1-1","1-0",2535,"-","-","Rae (19) / Whittingham (76)",null,null,null,null,null,null,null,null,13,"Anglo-Italian","1992-09-29","Portsmouth","(A)","D 1-1","Davidson","Cunningham","Dawes (79)","Holsgrove","M McCarthy","Roberts","Stephenson","Rae","Bogie","Moralee","Sion","Goodman",null,"Manning (79)",null,null,null,null,null,null,null,null,null,null,null,null,null,null,null,null,null,null,null,null,null,null,null,null,null,null,"Tony Dolby",6,15,0,1,null,4,14,0,1,null,0,0,0,0,null,2,0,0,0,null,0,1,0,0,null,null,null,null,null,null,null,"Bristol R (A) L 0-1"]
[null,null,14,"Division 1","1992-10-03","Sunderland","(A)","L 0-2","0-0",14871,13,9,"Goodman (57) (76)",null,null,null,null,null,null,null,null,14,"Division 1","1992-10-03","Sunderland","(A)","L 0-2","Keller","Cunningham","Dawes","May","Cooper","Stevens","Roberts (60)","Dolby (60)","Allen","Goodman","Barber","Moralee (60)",null,"Holsgrove (60)",null,null,null,null,null,null,null,null,null,null,null,null,null,null,null,null,null,null,null,null,null,null,null,null,null,null,"Tommy Gaynor",0,3,0,0,null,0,3,0,0,null,0,0,0,0,null,0,0,0,0,null,0,0,0,0,null,null,null,null,null,null,null,"Bristol C (H) W 4-1"]
[null,null,15,"League Cup","1992-10-07","Arsenal","(H)","D 1-1aet 1-1",null,16994,"-","-","Dixon o.g. (25) / Campbell (16)",null,null,null,null,null,null,null,null,15,"League Cup","1992-10-07","Arsenal","(H)","D 1-1","Keller","Cunningham","Dawes","May (83)","Cooper","Stevens","Roberts","Dolby (75)n","Allen","Goodman","Barber","Moralee (75)",null,"Rae (83)n",null,null,null,null,null,null,null,null,null,null,null,null,null,null,null,null,null,null,null,null,null,null,null,null,null,null,"Jon Goodman",33,7,2,12,null,29,6,1,12,null,1,0,0,0,null,2,1,0,0,null,1,0,1,0,null,null,null,null,null,null,null,"Derby (A) W 2-1"]
[null,null,null,null,null,"(1-1 after 90 mins: Arsenal win 3-1 on Penalties: Takers Allenû, Goodmanû, Dawesü, Cooperû.)",null,null,null,null,null,null,null,null,null,null,null,null,null,null,null,16,"Division 1","1992-10-10","Cambridge","(H)","D 2-2","Keller","Cunningham","Dawes","May","Coopern","Stevens","Roberts","Dolby (87)","Allen","Goodman (80)¹","Barber","Moralee (80)",null,"Rae (87)",null,null,null,null,null,null,null,null,null,null,null,null,null,null,null,null,null,null,null,null,null,null,null,null,null,null,"Paul Holsgrove",5,10,5,0,null,3,8,4,0,null,0,1,0,0,null,0,1,1,0,null,2,0,0,0,null,null,null,null,null,null,null,"West Ham (H) W 2-1"]
[null,null,16,"Division 1","1992-10-10","Cambridge","(H)","D 2-2","2-2",7096,14,11,"Allen (36) Goodman (44) / White (1) Leadbitter (32)",null,null,null,null,null,null,null,null,17,"Division 1","1992-10-18","Charlton","(A)","W 2-0","Keller","Cunningham","Dawesn","May","Cooper","Rae","Robertsn","Moralee (90)","Allen","Goodman","Barber","Dolby (90)",null,"Holsgrove",null,null,null,null,null,null,null,null,null,null,null,null,null,null,null,null,null,null,null,null,null,null,null,null,null,null,"Kasey Keller",50,0,0,0,null,45,0,0,0,null,1,0,0,0,null,3,0,0,0,null,1,0,0,0,null,null,null,null,null,null,null,"Luton (A) D 1-1"]
[null,null,17,"Division 1","1992-10-18","Charlton","(A)","W 2-0","1-0",7527,17,8,"Rae (37) Moralee (50)",null,null,null,null,null,null,null,null,18,"Division 1","1992-10-25","Wolves","(H)","W 2-0","Keller","Cunningham","Dawes","May","Cooper","Rae","Roberts","Moralee","Allen","Goodman (76)","Barber (89)","Dolby (76)",null,"Holsgrove (89)",null,null,null,null,null,null,null,null,null,null,null,null,null,null,null,null,null,null,null,null,null,null,null,null,null,null,"Mark Kennedy",0,1,0,0,null,0,1,0,0,null,0,0,0,0,null,0,0,0,0,null,0,0,0,0,null,null,null,null,null,null,null,"Portsmouth (A) L 0-1"]
[null,null,18,"Division 1","1992-10-25","Wolves","(H)","W 2-0","0-0",6543,20,8,"Cooper (58) Moralee (78)",null,null,null,null,null,null,null,null,19,"Division 1","1992-10-31","Bristol R","(A)","L 0-1","Keller","Cunningham","Dawes","Mayn","Cooper","Rae (73)","Roberts(60)nnn","Moralee","Allen (77)","Goodman","Barber","Dolby (73)",null,"Byrne (77)",null,null,null,null,null,null,null,null,null,null,null,null,null,null,null,null,null,null,null,null,null,null,null,null,null,null,"Paul Kerr",1,5,0,1,null,1,5,0,1,null,0,0,0,0,null,0,0,0,0,null,0,0,0,0,null,null,null,null,null,null,null,"Southend (H) D 1-1"]
[null,null,19,"Division 1","1992-10-31","Bristol R","(A)","L 0-1","0-0",5378,20,8,"Saunders (85)",null,null,null,null,null,null,null,null,20,"Division 1","1992-11-04","Bristol C","(H)","W 4-1","Keller","Cunningham","Dawes","May","Cooper","Rae","Roberts","Moralee (76)","Allen","Byrne (89)","Barber","Dolby (76)",null,"Goodman (89)",null,null,null,null,null,null,null,null,null,null,null,null,null,null,null,null,null,null,null,null,null,null,null,null,null,null,"Gavin Maguire",9,0,0,0,null,9,0,0,0,null,0,0,0,0,null,0,0,0,0,null,0,0,0,0,null,null,null,null,null,null,null,"Grimsby (H) W 2-1"]
[null,null,20,"Division 1","1992-11-04","Bristol C","(H)","W 4-1","4-1",5934,23,7,"Cooper (12) Allen (18) May (24) Moralee (29) / Cole (44)",null,null,null,null,null,null,null,null,21,"Division 1","1992-11-07","Derby","(A)","W 2-1","Keller","Cunningham","Dawes","May","Cooper","Raen","Roberts","Moralee (86)","Allen","Byrne (89)","Barber","Dolby (86)",null,"Goodman (89)",null,null,null,null,null,null,null,null,null,null,null,null,null,null,null,null,null,null,null,null,null,null,null,null,null,null,"Paul Manning",1,1,0,0,null,1,0,0,0,null,0,0,0,0,null,0,0,0,0,null,0,1,0,0,null,null,null,null,null,null,null,"Newcastle (A) D 1-1"]
[null,null,21,"Division 1","1992-11-07","Derby","(A)","W 2-1","0-1",17087,26,5,"Moralee (61) Rae (63) / Pembridge (35)",null,null,null,null,null,null,null,null,22,"Division 1","1992-11-15","West Ham","(H)","W 2-1","Keller","Cunningham","Dawes","May","Coopern","Stevensn","Raen","Moralee (66)","Allen (84)¹n","Byrne","Barber¹","Dolby (66)",null,"Goodman (84)",null,null,null,null,null,null,null,null,null,null,null,null,null,null,null,null,null,null,null,null,null,null,null,null,null,null,"Andy May",38,1,0,1,null,34,1,0,1,null,1,0,0,0,null,3,0,0,0,null,0,0,0,0,null,null,null,null,null,null,null,"Tranmere (A) D 1-1"]
[null,null,22,"Division 1","1992-11-15","West Ham","(H)","W 2-1","1-0",12445,29,4,"Allen (40 pen) Barber (55) / Robson (77)",null,null,null,null,null,null,null,null,23,"Division 1","1992-11-21","Luton","(A)","D 1-1","Keller","Cunninghamn","Dawes","Mayn","Cooper","Stevens","Rae (65)","Moralee","Allen","Byrne","Barber","Goodman",null,"Roberts (65)",null,null,null,null,null,null,null,null,null,null,null,null,null,null,null,null,null,null,null,null,null,null,null,null,null,null,"Mick McCarthy",1,0,0,0,null,0,0,0,0,null,0,0,0,0,null,0,0,0,0,null,1,0,0,0,null,null,null,null,null,null,null,"Leicester (H) W 2-0"]
[null,null,23,"Division 1","1992-11-21","Luton","(A)","D 1-1","0-1",8371,30,5,"Byrne (59) / Gray (27)  ",null,null,null,null,null,null,null,null,24,"Division 1","1992-11-28","Portsmouth","(A)","L 0-1","Keller","Cunningham","Dawes","May","Cooper","Stevens","Rae (55)","Moralee (80)","Allen","Byrne","Barber","Goodman (80)",null,"Roberts (55)",null,null,null,null,null,null,null,null,null,null,null,null,null,null,null,null,null,null,null,null,null,null,null,null,null,null,"Tony McCarthy",6,1,2,1,null,6,1,2,1,null,0,0,0,0,null,0,0,0,0,null,0,0,0,0,null,null,null,null,null,null,null,"Notts Co (A) W 2-1"]
[null,null,24,"Division 1","1992-11-28","Portsmouth","(A)","L 0-1","0-1",12445,30,6,"McLoughlin (30)",null,null,null,null,null,null,null,null,25,"Division 1","1992-12-05","Southend","(H)","D 1-1","Keller","Cunningham","Dawes","May","Cooper","Stevens","Roberts","Moralee (79)","Allen (88)","Byrne","Barber","Goodman (79)",null,"Rae (88)",null,null,null,null,null,null,null,null,null,null,null,null,null,null,null,null,null,null,null,null,null,null,null,null,null,null,"John McGinlay",9,2,1,2,null,6,1,1,2,null,0,0,0,0,null,2,1,0,0,null,1,0,0,0,null,null,null,null,null,null,null,"Brentford (H) W 6-1"]
[null,null,25,"Division 1","1992-12-05","Southend","(H)","D 1-1","1-1",7928,31,6,"Barber (45) / Cornwell (6)  ",null,null,null,null,null,null,null,null,26,"Division 1","1992-12-12","Grimsby","(H)","W 2-1","Keller","Cunningham","Dawes","May","Cooper","Stevens","Roberts","Moralee","Bogie (66)","Byrne (76)","Barber","Allen (66)",null,"Dolby (76)",null,null,null,null,null,null,null,null,null,null,null,null,null,null,null,null,null,null,null,null,null,null,null,null,null,null,"Alan McLeary",5,2,1,0,null,4,2,1,0,null,0,0,0,0,null,0,0,0,0,null,1,0,0,0,null,null,null,null,null,null,null,"Peterborough (H) W 4-0"]
[null,null,26,"Division 1","1992-12-12","Grimsby","(H)","W 2-1","1-0",6900,34,4,"Moralee (9) Moralee (88) / McDermott (61)",null,null,null,null,null,null,null,null,27,"Division 1","1992-12-20","Newcastle","(A)","D 1-1","Keller","Cunninghamn","Dawes","Mayn","Cooper","Stevens","Roberts","Moralee (67)","Bogie (60)","Goodman","Barber","Allen (67)",null,"Rae (60)",null,null,null,null,null,null,null,null,null,null,null,null,null,null,null,null,null,null,null,null,null,null,null,null,null,null,"Jamie Moralee",33,7,0,15,null,31,6,0,15,null,1,0,0,0,null,0,1,0,0,null,1,0,0,0,null,null,null,null,null,null,null,"Oxford (A) L 0-3"]
[null,null,27,"Division 1","1992-12-20","Newcastle","(A)","D 1-1","1-0",26089,35,4,"Moralee (20) / Kelly (75 pen)",null,null,null,null,null,null,null,null,28,"Division 1","1992-12-26","Tranmere","(A)","D 1-1","Keller","Cunningham","Dawes","May","Cooper","Stevensn","Roberts","Moralee","Bogie (78)","Goodman (88)","Barber","Allen (88)",null,"Rae (78)",null,null,null,null,null,null,null,null,null,null,null,null,null,null,null,null,null,null,null,null,null,null,null,null,null,null,"Alex Rae",27,8,3,7,null,23,7,2,6,null,1,0,0,0,null,1,1,1,0,null,2,0,0,1,null,null,null,null,null,null,null,"Watford (H) W 5-2"]
[null,null,28,"Division 1","1992-12-26","Tranmere","(A)","D 1-1","0-1",13118,36,4,"Goodman (49) / Morrissey (37)",null,null,null,null,null,null,null,null,29,"Division 1","1992-12-28","Leicester","(H)","W 2-0","Keller","Cunningham","Dawes","May","Cooper","Stevens","Roberts","Moralee","Bogie (73)","Goodman","Barber","Allen (73)",null,"Rae",null,null,null,null,null,null,null,null,null,null,null,null,null,null,null,null,null,null,null,null,null,null,null,null,null,null,"Andy Roberts",48,4,0,2,null,41,4,0,0,null,1,0,0,0,null,4,0,0,2,null,2,0,0,0,null,null,null,null,null,null,null,"Birmingham (A) D 0-0"]
[null,null,29,"Division 1","1992-12-28","Leicester","(H)","W 2-0","1-0",12217,39,4,"Moralee (25) Goodman (66)",null,null,null,null,null,null,null,null,30,"Division 1","1993-01-09","Notts Co","(A)","W 2-1","Keller","Cunningham","Dawes","May","Cooper","Stevens","Roberts","Moralee","Bogie (85)","Goodman","Barber","Allen (85)",null,"Rae",null,null,null,null,null,null,null,null,null,null,null,null,null,null,null,null,null,null,null,null,null,null,null,null,null,null,"Romano Sion",1,0,0,0,null,0,0,0,0,null,0,0,0,0,null,0,0,0,0,null,1,0,0,0,null,null,null,null,null,null,null,"Swindon (A) L 0-3"]
[null,null,30,"Division 1","1993-01-09","Notts Co","(A)","W 2-1","0-1",6148,42,3,"Moralee (58) Goodman (85) / Thomas (21)",null,null,null,null,null,null,null,null,31,"FA Cup","1993-01-13","Southend","(A)","L 0-1","Keller","Raen","Dawes","May","Coopern","Stevensn","Roberts","Moralee","Bogie (87)n","Goodman (76)","Barber","Allen (76)",null,"Holsgrove (87)",null,null,null,null,null,null,null,null,null,null,null,null,null,null,null,null,null,null,null,null,null,null,null,null,null,null,"Paul Stephenson",2,5,1,0,null,0,5,0,0,null,0,0,0,0,null,0,0,1,0,null,2,0,0,0,null,null,null,null,null,null,null,"Barnsley (H) L 0-4"]
[null,null,31,"FA Cup","1993-01-13","Southend","(A)","L 0-1","0-1",8028,"-","-","Collymore (7)",null,null,null,null,null,null,null,null,32,"Division 1","1993-01-17","Brentford","(H)","W 6-1","Keller","Rae","Dawes","May (82)","Cooper","Stevens","Roberts","Moralee","Bogie (70)","Goodman","Barber","Allen (70)",null,"Holsgrove (82)",null,null,null,null,null,null,null,null,null,null,null,null,null,null,null,null,null,null,null,null,null,null,null,null,null,null,"Keith Stevens",36,0,0,3,null,31,0,0,2,null,1,0,0,0,null,4,0,0,1,null,0,0,0,0,null,null,null,null,null,null,null,"Cambridge (A) D 1-1"]
[null,null,32,"Division 1","1993-01-17","Brentford","(H)","W 6-1","3-0",7571,45,4,"Rae (1) Cooper (26) Goodman (40) (80)  Moralee (51) (68) / Blisset (52)",null,null,null,null,null,null,null,null,33,"Division 1","1993-01-27","Peterborough","(H)","W 4-0","Keller","Rae","Dawes","May (82)","T McCarthy","McLeary","Roberts","Moralee","Bogie","Goodman (82)","Barber","Allen (82)",null,"Holsgrove (82)",null,null,null,null,null,null,null,null,null,null,null,null,null,null,null,null,null,null,null,null,null,null,null,null,null,null,"Etienne Verveer",0,1,0,0,null,0,1,0,0,null,0,0,0,0,null,0,0,0,0,null,0,0,0,0,null,null,null,null,null,null,null,"Sunderland (H) D 0-0"]
[null,null,33,"Division 1","1993-01-27","Peterborough","(H)","W 4-0","2-0",8732,48,3,"Barber (18) T McCarthy (45) Rae (53) Goodman (72)",null,null,null,null,null,null,null,null,34,"Division 1","1993-01-30","Oxford","(A)","L 0-3","Keller","Rae (65)n","Dawes","May (71)","T McCarthy","McLeary","Robertsn","Moralee","Bogie (72)","Goodman","Barber","Allen (72)",null,"Holsgrove (71)",null,null,null,null,null,null,null,null,null,null,null,null,null,null,null,null,null,null,null,null,null,null,null,null,null,null,"Danny Wallace",3,0,0,0,null,3,0,0,0,null,0,0,0,0,null,0,0,0,0,null,0,0,0,0,null,null,null,null,null,null,null,"Bristol C (A) W 1-0"]
[null,null,34,"Division 1","1993-01-30","Oxford","(A)","L 0-3","0-1",7474,48,3,"Magilton (36 pen) Beauchamp (56) (89)",null,null,null,null,null,null,null,null,35,"Division 1","1993-02-06","Watford","(H)","W 5-2","Keller","Rae","Dawes","Mayn","Cooper","Stevens","Roberts","Moralee","Bogie","Goodman (84)","Barber","Allen (84)",null,"Holsgrove",null,null,null,null,null,null,null,null,null,null,null,null,null,null,null,null,null,null,null,null,null,null,null,null,null,null,null,null,null,null,null,null,null,null,null,null,null,null,null,null,null,null,null,null,null,null,null,null,null,null,null,null,null,null,null,null,null,null,"Derby (H) W 1-0"]
[null,null,35,"Division 1","1993-02-06","Watford","(H)","W 5-2","4-0",8847,51,3,"Moralee (6) (51) Rae (9) Cooper (15) Goodman (35) / Furlong (50) Nogan (61)",null,null,null,null,null,null,null,null,36,"Division 1","1993-02-09","Birmingham","(A)","D 0-0","Keller","Rae (81)","Dawes","May","Cooper","Stevens","Roberts","Moralee","Bogie","Goodman","Barber","Allen",null,"McLeary (81)",null,null,null,null,null,null,null,null,null,null,null,null,null,null,null,null,null,null,null,null,null,null,null,null,null,null,"Own Goals",null,null,null,{"$f":"BY40+CD40+CI40+CN40","v":1},null,null,null,null,0,null,null,null,null,0,null,null,null,null,1,null,null,null,null,0,null,null,null,null,null,null,null,"Southend (A) D 3-3"]
[null,null,36,"Division 1","1993-02-09","Birmingham","(A)","D 0-0","0-0",8504,52,3,null,null,null,null,null,null,null,null,null,37,"Division 1","1993-02-13","Swindon","(A)","L 0-3","Keller","Holsgrove (65)","Dawes","May","Cooper","Stevensn","Roberts","Moralee","Bogie (65)","Goodman","Barbern","Allen (65)n",null,"McLeary (65)",null,null,null,null,null,null,null,null,null,null,null,null,null,null,null,null,null,null,null,null,null,null,null,null,null,null,null,null,null,null,null,null,null,null,null,null,null,null,null,null,null,null,null,null,null,null,null,null,null,null,null,null,null,null,null,null,null,null,"Luton (H) W 1-0"]
[null,null,37,"Division 1","1993-02-13","Swindon","(A)","L 0-3","0-1",10544,52,3,"White (44) Bodin (60) Taylor (84)",null,null,null,null,null,null,null,null,38,"Division 1","1993-02-20","Barnsley","(H)","L 0-4","Keller","McLeary (45)","Dawes","Mayn","Cooper","Stevens","Roberts","Moralee","Bogie","Goodman (45)","Barber","Allen (45)",null,"Stephenson (45)",null,null,null,null,null,null,null,null,null,null,null,null,null,null,null,null,null,null,null,null,null,null,null,null,null,null,"Total Goals",null,null,null,{"$f":"SUM(BT8:BT40)","v":74},null,null,null,null,{"$f":"SUM(BY8:BY40)","v":65},null,null,null,null,{"$f":"SUM(CD8:CD40)","v":0},null,null,null,null,{"$f":"SUM(CI8:CI40)","v":7},null,null,null,null,{"$f":"SUM(CN8:CN40)","v":2},null,null,null,null,null,null,null,"West Ham (A) D 2-2"]
[null,null,38,"Division 1","1993-02-20","Barnsley","(H)","L 0-4","0-3",8034,52,3,"Archdeacon (3) (77) Biggins (9) (41)",null,null,null,null,null,null,null,null,39,"Division 1","1993-02-27","Cambridge","(A)","D 1-1","Keller","Cunningham","Dawes","May","Cooper","Stevens","Roberts","Allen","Bogie","Byrne (74)","Barber (85)","Moralee (85)",null,"Stephenson (74)",null,null,null,null,null,null,null,null,null,null,null,null,null,null,null,null,null,null,null,null,null,null,null,null,null,null,null,null,null,null,null,null,null,null,null,null,null,null,null,null,null,null,null,null,null,null,null,null,null,null,null,null,null,null,null,null,null,null,"Portsmouth (H) D 1-1"]
[null,null,39,"Division 1","1993-02-27","Cambridge","(A)","D 1-1","1-0",5144,53,3,"Allen (45) / Butler (58)",null,null,null,null,null,null,null,null,40,"Division 1","1993-03-06","Sunderland","(H)","D 0-0","Keller","Cunningham","Dawes","May (72)","Coopern","Stevens","Roberts (69)","Allen","Bogie","Byrne","Barber","Moralee (72)",null,"Rae (69)n",null,null,null,null,null,null,null,null,null,null,null,null,null,null,null,null,null,null,null,null,null,null,null,null,null,null,null,null,null,null,null,null,null,null,null,null,null,null,null,null,null,null,null,null,null,null,null,null,null,null,null,null,null,null,null,null,null,null,"Grimsby (A) L 0-1"]
[null,null,40,"Division 1","1993-03-06","Sunderland","(H)","D 0-0","0-0",8761,54,5,"  ",null,null,null,null,null,null,null,null,41,"Division 1","1993-03-09","Bristol C","(A)","W 1-0","Keller","Cunningham","Dawes","Rae","Cooper","Stevens","Roberts","Allen","Bogie (70)","Byrne (60)","Barber","Moralee (60)",null,"Dolby (70)",null,null,null,null,null,null,null,null,null,null,null,null,null,null,null,null,null,null,null,null,null,null,null,null,null,null,null,null,null,null,null,null,null,null,null,null,null,null,null,null,null,null,null,null,null,null,null,null,null,null,null,null,null,null,null,null,null,null,"Tranmere (H) D 0-0"]
[null,null,41,"Division 1","1993-03-09","Bristol C","(A)","W 1-0","1-0",8771,57,4,"Barber (26)",null,null,null,null,null,null,null,null,42,"Division 1","1993-03-13","Derby","(H)","W 1-0","Keller","Cunningham","Dawes","May (65)","Cooper","Stevens","Rae","Allen","Bogie","Byrne (61)","Barber","Moralee (61)",null,"Roberts (65)",null,null,null,null,null,null,null,null,null,null,null,null,null,null,null,null,null,null,null,null,null,null,null,null,null,null,null,null,null,null,null,null,null,null,null,null,null,null,null,null,null,null,null,null,null,null,null,null,null,null,null,null,null,null,null,null,null,null,"Leicester (A) L 0-3"]
[null,null,42,"Division 1","1993-03-13","Derby","(H)","W 1-0","0-0",9395,60,5,"Allen (93 pen)",null,null,null,null,null,null,null,null,43,"Division 1","1993-03-21","Southend","(A)","D 3-3","Keller","Cunningham","Dawes","Holsgrove","Cooper (45)n","Stevens","Roberts","Bogie (57)","Goodman (57)","Moralee","Barber","Byrne (57)",null,"T McCarthy (57)",null,null,null,null,null,null,null,null,null,null,null,null,null,null,null,null,null,null,null,null,null,null,null,null,null,null,null,null,null,null,null,null,null,null,null,null,null,null,null,null,null,null,null,null,null,null,null,null,null,null,null,null,null,null,null,null,null,null,"Newcastle (H) L 1-2"]
[null,null,43,"Division 1","1993-03-21","Southend","(A)","D 3-3","3-1",3840,61,5,"Barber (34) Stevens (36) Goodman (44) / Collymore (12) Tilson (53) (87)",null,null,null,null,null,null,null,null,44,"Division 1","1993-03-24","Luton","(H)","W 1-0","Keller","Cunningham","Dawes","Roberts","Cooper","Stevens","Rae","Bogie","Allen","Moralee","Barber","Kerr",null,"T McCarthy",null,null,null,null,null,null,null,null,null,null,null,null,null,null,null,null,null,null,null,null,null,null,null,null,null,null,null,null,null,null,null,null,null,null,null,null,null,null,null,null,null,null,null,null,null,null,null,null,null,null,null,null,null,null,null,null,null,null,"Charlton (H) W 1-0"]
[null,null,44,"Division 1","1993-03-24","Luton","(H)","W 1-0","1-0",8286,64,5,"Moralee (24)",null,null,null,null,null,null,null,null,45,"Division 1","1993-03-28","West Ham","(A)","D 2-2","Keller","Cunningham","Dawes","Robertsn","Cooper","Stevens","Maguire (74)","Bogie","Allen (64)","Moralee","Barber","Kerr (64)",null,"Gaynor (74)",null,null,null,null,null,null,null,null,null,null,null,null,null,null,null,null,null,null,null,null,null,null,null,null,null,null,null,null,null,null,null,null,null,null,null,null,null,null,null,null,null,null,null,null,null,null,null,null,null,null,null,null,null,null,null,null,null,null,"Wolves (A) L 1-3"]
[null,null,45,"Division 1","1993-03-28","West Ham","(A)","D 2-2","1-2",15723,65,5,"Moralee (1) Stevens (77) / Keen (13) Morley (14)",null,null,null,null,null,null,null,null,46,"Division 1","1993-04-03","Portsmouth","(H)","D 1-1","Keller","Cunningham","Dawes","Roberts","Cooper","T McCarthy","Maguire","Wallace (72)","Allen (56)","Moralee","Barber","Kerr (56)",null,"Bogie (72)",null,null,null,null,null,null,null,null,null,null,null,null,null,null,null,null,null,null,null,null,null,null,null,null,null,null,null,null,null,null,null,null,"Apps","Sub","Nps","Goals",null,"Apps","Sub","Nps","Goals",null,"Apps","Sub","Nps","Goals",null,"Apps","Sub","Nps","Goals",null,null,null,null,null,null,null,"Bristol R (H) L 0-3"]
[null,null,46,"Division 1","1993-04-03","Portsmouth","(H)","D 1-1","0-1",12921,66,5,"Kerr (65) / Chamberlain (41)",null,null,null,null,null,null,null,null,47,"Division 1","1993-04-06","Grimsby","(A)","L 0-1","Keller","May (47)","Dawes","Roberts","McLeary","T McCarthyn","Maguire","Wallace (65)","Kerr","Moralee","Barber","Bogie (47)",null,"Gaynor (65)",null,null,null,null,null,null,null,null,null,null,null,null,null,null,null,null,null,null,null,null,null,null,null,null,{"$f":"BP51&\" [**\"","v":"Allen [**"},null,"Allen","Allen (**",null,{"$f":"BP51&\"**\"","v":"Allen**"},null,null,{"$f":"COUNTIF($AB$75:$AL$120,$BS51)","v":30},{"$f":"COUNTIF($AM$75:$AO$120,$BQ51)+COUNTIF($AM$75:$AO$120,$BN51)","v":11},{"$f":"COUNTIF($AM$75:$AO$120,$BP51)","v":1},10,null,{"$f":"COUNTIF($AB$126:$AL$126,$BS51)","v":0},{"$f":"COUNTIF($AM$126:$AO$126,$BQ51)+COUNTIF($AM$126:$AO$126,$BN51)","v":1},{"$f":"COUNTIF($AM$126:$AO$126,$BP51)","v":0},0,null,{"$f":"COUNTIF($AB$136:$AL$139,$BS51)","v":4},{"$f":"COUNTIF($AM$136:$AO$139,$BQ51)+COUNTIF($AM$136:$AO$139,$BN51)","v":0},{"$f":"COUNTIF($AM$136:$AO$139,$BP51)","v":0},2,null,{"$f":"COUNTIF($AB$146:$AL$147,$BS51)","v":0},{"$f":"COUNTIF($AM$146:$AO$147,$BQ51)+COUNTIF($AM$146:$AO$147,$BN51)","v":0},{"$f":"COUNTIF($AM$146:$AO$147,$BP51)","v":0},0]
[null,null,47,"Division 1","1993-04-06","Grimsby","(A)","L 0-1","0-0",4445,66,5,"Mendonca (89 pen)",null,null,null,null,null,null,null,null,48,"Division 1","1993-04-10","Tranmere","(H)","D 0-0","Keller","Cunningham","Dawes","May (53)","T McCarthyn","Maguiren","Rae","Goodman (73)","Allen","Moralee","Barber","Kerr (73)",null,"Roberts (53)",null,null,null,null,null,null,null,null,null,null,null,null,null,null,null,null,null,null,null,null,null,null,null,null,{"$f":"BP52&\" [**\"","v":"Armstrong [**"},null,"Armstrong","Armstrong (**",null,{"$f":"BP52&\"**\"","v":"Armstrong**"},null,null,3,{"$f":"COUNTIF($AM$75:$AO$120,$BQ52)+COUNTIF($AM$75:$AO$120,$BN52)","v":0},0,1,null,0,{"$f":"COUNTIF($AM$126:$AO$126,$BQ52)+COUNTIF($AM$126:$AO$126,$BN52)","v":0},0,0,null,2,{"$f":"COUNTIF($AM$136:$AO$139,$BQ52)+COUNTIF($AM$136:$AO$139,$BN52)","v":0},0,1,null,0,{"$f":"COUNTIF($AM$146:$AO$147,$BQ52)+COUNTIF($AM$146:$AO$147,$BN52)","v":0},0,0]
[null,null,48,"Division 1","1993-04-10","Tranmere","(H)","D 0-0","0-0",9392,67,6,null,null,null,null,null,null,null,null,null,49,"Division 1","1993-04-14","Leicester","(A)","L 0-3","Keller","Cunningham","Dawes","Roberts","T McCarthy (78)","Maguire (66)n","Rae","Goodman","Allenn","Moralee","Barber","Kerr (78)",null,"Holsgrove (66)",null,null,null,null,null,null,null,null,null,null,null,null,null,null,null,null,null,null,null,null,null,null,null,null,"Barber [**",null,"Barber","Barber (**",null,"Barber**",null,null,46,0,0,8,null,1,0,0,0,null,4,0,0,0,null,0,0,1,0]
[null,null,49,"Division 1","1993-04-14","Leicester","(A)","L 0-3","0-1",19711,67,7,"Agnew (34) Thompson (55) Oldfield (78)",null,null,null,null,null,null,null,null,50,"Division 1","1993-04-17","Newcastle","(H)","L 1-2","Keller","Cunningham","Dawes","Roberts","Cooper","Maguire","Rae","Wallace (79)","Allen","Goodman (59)","Barber¹","Dolby (59)",null,"Gaynor (79)",null,null,null,null,null,null,null,null,null,null,null,null,null,null,null,null,null,null,null,null,null,null,null,null,"Bogie [**",null,"Bogie","Bogie (**",null,"Bogie**",null,null,20,2,0,0,null,1,0,0,0,null,0,0,0,0,null,2,0,0,0]
[null,null,50,"Division 1","1993-04-17","Newcastle","(H)","L 1-2","1-0",14262,67,7,"Barber (19) / Clarke (65) Cole (73)",null,null,null,null,null,null,null,null,51,"Division 1","1993-04-24","Charlton","(H)","W 1-0","Keller","Cunningham","Dawes","Roberts","Cooper","Maguire","Rae","Moralee (76)","Allen","Goodman¹n","Barber","T McCarthy",null,"Kennedy (76)",null,null,null,null,null,null,null,null,null,null,null,null,null,null,null,null,null,null,null,null,null,null,null,null,"Byrne [**",null,"Byrne","Byrne (**",null,"Byrne**",null,null,11,2,0,1,null,0,0,0,0,null,0,0,0,0,null,0,0,0,0]
[null,null,51,"Division 1","1993-04-24","Charlton","(H)","W 1-0","1-0",10159,70,7,"Goodman (16) ",null,null,null,null,null,null,null,null,52,"Division 1","1993-05-01","Wolves","(A)","L 1-3","Keller","Cunningham (51)","Dawes","Roberts","Cooper","Maguire","Rae (45)","Moralee","Allen","Goodman","Barber","Dolby (51)n",null,"May (45)",null,null,null,null,null,null,null,null,null,null,null,null,null,null,null,null,null,null,null,null,null,null,null,null,"Cooper [**",null,"Cooper","Cooper (**",null,"Cooper**",null,null,41,0,0,4,null,1,0,0,0,null,4,0,0,0,null,1,0,0,0]
[null,null,52,"Division 1","1993-05-01","Wolves","(A)","L 1-3","0-3",12054,70,7,"Allen (67) / Bradbury (20) (28) Burke (44)",null,null,null,null,null,null,null,null,53,"Division 1","1993-05-08","Bristol R","(H)","L 0-3","Keller","Manning (60)","Dawes","Roberts","Cooper","Maguire","Rae","Moralee (57)","Allen","Goodman","Barber","Verveer (57)",null,"Dolby (60)",null,null,null,null,null,null,null,null,null,null,null,null,null,null,null,null,null,null,null,null,null,null,null,null,"Cunningham [**",null,"Cunningham","Cunningham (**",null,"Cunningham**",null,null,37,0,0,0,null,0,0,0,0,null,4,0,0,0,null,2,0,0,1]
[null,null,53,"Division 1","1993-05-08","Bristol R","(H)","L 0-3","0-1",15821,70,7,"Archer (35) Stewart (46) Davis (80)",null,null,null,null,null,null,null,null,null,null,null,null,null,null,null,null,null,null,null,null,null,null,null,null,null,null,null,null,null,null,null,null,null,null,null,null,null,null,null,null,null,null,null,null,null,null,null,null,null,null,null,null,"Davidson [**",null,"Davidson","Davidson (**",null,"Davidson**",null,null,1,0,0,0,null,0,0,0,0,null,1,0,0,0,null,1,0,0,0]
[null,null,null,null,null,null,null,null,null,null,null,null,null,null,null,null,null,null,null,null,null,null,null,null,null,null,null,null,null,null,null,null,null,null,null,null,null,null,null,null,null,null,null,null,null,null,null,null,null,null,null,null,null,null,null,null,null,null,null,null,null,null,null,null,null,"Dawes [**",null,"Dawes","Dawes (**",null,"Dawes**",null,null,46,0,0,0,null,1,0,0,0,null,4,0,0,0,null,1,0,0,0]
[null,null,null,null,null,null,null,null,null,null,null,null,null,null,null,null,null,null,null,null,null,null,null,null,null,null,null,null,null,null,null,null,null,null,null,null,null,null,null,null,null,null,null,null,null,null,null,null,null,null,null,null,null,null,null,null,null,null,null,null,null,null,null,null,null,"Dolby [**",null,"Dolby","Dolby (**",null,"Dolby**",null,null,4,14,0,1,null,0,0,0,0,null,2,0,0,0,null,0,1,0,0]
[null,null,null,null,null,null,null,null,null,null,null,null,null,null,null,null,null,null,null,null,null,null,null,null,null,null,null,null,null,null,null,null,null,null,null,null,null,null,null,null,null,null,null,null,null,null,null,null,null,null,null,null,null,null,null,null,null,null,null,null,null,null,null,null,null,"Gaynor [**",null,"Gaynor","Gaynor (**",null,"Gaynor**",null,null,0,3,0,0,null,0,0,0,0,null,0,0,0,0,null,0,0,0,0]
[null,null,null,null,null,null,null,null,null,null,null,null,null,null,null,null,null,null,null,null,null,null,null,null,null,null,null,null,null,null,null,null,null,null,null,null,null,null,null,null,null,null,null,null,null,null,null,null,null,null,null,null,null,null,null,null,null,null,null,null,null,null,null,null,null,"Goodman [**",null,"Goodman","Goodman (**",null,"Goodman**",null,null,29,6,1,12,null,1,0,0,0,null,2,1,0,0,null,1,0,1,0]
[null,null,null,null,null,null,null,null,null,null,null,null,null,null,null,null,null,null,null,null,null,null,null,null,null,null,null,null,null,null,null,null,null,null,null,null,null,null,null,null,null,null,null,null,null,null,null,null,null,null,null,null,null,null,null,null,null,null,null,null,null,null,null,null,null,"Holsgrove [**",null,"Holsgrove","Holsgrove (**",null,"Holsgrove**",null,null,3,8,4,0,null,0,1,0,0,null,0,1,1,0,null,2,0,0,0]
[null,null,null,null,null,null,null,null,null,null,null,null,null,null,null,null,null,null,null,null,null,null,null,null,null,null,null,null,null,null,null,null,null,null,null,null,null,null,null,null,null,null,null,null,null,null,null,null,null,null,null,null,null,null,null,null,null,null,null,null,null,null,null,null,null,"Keller [**",null,"Keller","Keller (**",null,"Keller**",null,null,45,0,0,0,null,1,0,0,0,null,3,0,0,0,null,1,0,0,0]
[null,null,null,null,null,null,null,null,null,null,null,null,null,null,null,null,null,null,null,null,null,null,null,null,null,null,null,null,null,null,null,null,null,null,null,null,null,null,null,null,null,null,null,null,null,null,null,null,null,null,null,null,null,null,null,null,null,null,null,null,null,null,null,null,null,"Kennedy [**",null,"Kennedy","Kennedy (**",null,"Kennedy**",null,null,0,1,0,0,null,0,0,0,0,null,0,0,0,0,null,0,0,0,0]
[null,null,null,null,null,null,null,null,null,null,null,null,null,null,null,null,null,null,null,null,null,null,null,null,null,null,null,null,null,null,null,null,null,null,null,null,null,null,null,null,null,null,null,null,null,null,null,null,null,null,null,null,null,null,null,null,null,null,null,null,null,null,null,null,null,"Kerr [**",null,"Kerr","Kerr (**",null,"Kerr**",null,null,1,5,0,1,null,0,0,0,0,null,0,0,0,0,null,0,0,0,0]
[null,null,null,null,null,null,null,null,null,null,null,null,null,null,null,null,null,null,null,null,null,null,null,null,null,null,null,null,null,null,null,null,null,null,null,null,null,null,null,null,null,null,null,null,null,null,null,null,null,null,null,null,null,null,null,null,null,null,null,null,null,null,null,null,null,"Maguire [**",null,"Maguire","Maguire (**",null,"Maguire**",null,null,9,0,0,0,null,0,0,0,0,null,0,0,0,0,null,0,0,0,0]
[null,null,null,null,null,null,null,null,null,null,null,null,null,null,null,null,null,null,null,null,null,null,null,null,null,null,null,null,null,null,null,null,null,null,null,null,null,null,null,null,null,null,null,null,null,null,null,null,null,null,null,null,null,null,null,null,null,null,null,null,null,null,null,null,null,"Manning [**",null,"Manning","Manning (**",null,"Manning**",null,null,1,0,0,0,null,0,0,0,0,null,0,0,0,0,null,0,1,0,0]
[null,null,null,null,null,null,null,null,null,null,null,null,null,null,null,null,null,null,null,null,null,null,null,null,null,null,null,null,null,null,null,null,null,null,null,null,null,null,null,null,null,null,null,null,null,null,null,null,null,null,null,null,null,null,null,null,null,null,null,null,null,null,null,null,null,"May [**",null,"May","May (**",null,"May**",null,null,34,1,0,1,null,1,0,0,0,null,3,0,0,0,null,0,0,0,0]
[null,null,null,null,null,null,null,null,null,null,null,null,null,null,null,null,null,null,null,null,null,null,null,null,null,null,null,null,null,null,null,null,null,null,null,null,null,null,null,null,null,null,null,null,null,null,null,null,null,null,null,null,null,null,null,null,null,null,null,null,null,null,null,null,null,"M McCarthy [**",null,"M McCarthy","M McCarthy (**",null,"M McCarthy**",null,null,0,0,0,0,null,0,0,0,0,null,0,0,0,0,null,1,0,0,0]
[null,null,null,null,null,null,null,null,null,null,null,null,null,null,null,null,null,null,null,null,null,null,null,null,null,null,null,null,null,null,null,null,null,null,null,null,null,null,null,null,null,null,null,null,null,null,null,null,null,null,null,null,null,null,null,null,null,null,null,null,null,null,null,null,null,"T McCarthy [**",null,"T McCarthy","T McCarthy (**",null,"T McCarthy**",null,null,6,1,2,1,null,0,0,0,0,null,0,0,0,0,null,0,0,0,0]
[null,null,null,null,null,null,null,null,null,null,null,null,null,null,null,null,null,null,null,null,null,null,null,null,null,null,null,null,null,null,null,null,null,null,null,null,null,null,null,null,null,null,null,null,null,null,null,null,null,null,null,null,null,null,null,null,null,null,null,null,null,null,null,null,null,"McGinlay [**",null,"McGinlay","McGinlay (**",null,"McGinlay**",null,null,6,1,1,2,null,0,0,0,0,null,2,1,0,0,null,1,0,0,0]
[null,null,null,null,null,null,null,null,null,null,null,null,null,null,null,null,null,null,null,null,null,null,null,null,null,null,null,null,null,null,null,null,null,null,null,null,null,null,null,null,null,null,null,null,null,null,null,null,null,null,null,null,null,null,null,null,null,null,null,null,null,null,null,null,null,"McLeary [**",null,"McLeary","McLeary (**",null,"McLeary**",null,null,4,2,1,0,null,0,0,0,0,null,0,0,0,0,null,1,0,0,0]
[null,null,null,null,null,null,null,null,null,null,null,null,null,null,null,null,null,null,null,null,null,"Game","Competition","Date","Opponents",null,"Score",1,2,3,4,5,6,7,8,9,10,11,12,null,14,null,null,null,null,null,null,null,null,null,null,null,null,null,null,null,null,null,null,null,null,null,null,null,null,"Moralee [**",null,"Moralee","Moralee (**",null,"Moralee**",null,null,31,6,0,15,null,1,0,0,0,null,0,1,0,0,null,1,0,0,0]
[null,null,null,null,null,null,null,null,null,null,null,null,null,null,null,null,null,null,null,null,null,1,"Division 1","1992-08-15","Watford","(A)","L 1-3","Davidson","Cunningham","Dawes","May [75]","Cooper","Stevensn","Roberts","McGinlay (59)¹n","Allenn","Armstrong","Barber","Stephenson (59)",null,"Rae [75]",null,null,null,null,null,null,null,null,null,null,null,null,null,null,null,null,null,null,null,null,null,null,null,null,"Rae [**",null,"Rae","Rae (**",null,"Rae**",null,null,23,7,2,6,null,1,0,0,0,null,1,1,1,0,null,2,0,0,1]
[null,null,null,null,null,null,null,null,null,null,null,null,null,null,null,null,null,null,null,null,null,3,"Division 1","1992-08-22","Oxford","(H)","W 3-1","Keller","Cunningham","Dawes","May [14]","Coopern","Stevens","Roberts","McGinlay (80)","Allen","Armstrong","Barber","Goodman (80)",null,"Rae [14]",null,null,null,null,null,null,null,null,null,null,null,null,null,null,null,null,null,null,null,null,null,null,null,null,"Roberts [**",null,"Roberts","Roberts (**",null,"Roberts**",null,null,41,4,0,0,null,1,0,0,0,null,4,0,0,2,null,2,0,0,0]
[null,null,null,null,null,null,null,null,null,null,null,null,null,null,null,null,null,null,null,null,null,5,"Division 1","1992-08-29","Barnsley","(A)","D 0-0","Keller","Cunningham","Dawes","Raen","Cooper","Stevensn","Roberts","McGinlay (72)","Goodman","Armstrong","Barber","Stephenson (72)",null,"McLeary",null,null,null,null,null,null,null,null,null,null,null,null,null,null,null,null,null,null,null,null,null,null,null,null,"Sion [**",null,"Sion","Sion (**",null,"Sion**",null,null,0,0,0,0,null,0,0,0,0,null,0,0,0,0,null,1,0,0,0]
[null,null,null,null,null,null,null,null,null,null,null,null,null,null,null,null,null,null,null,null,null,7,"Division 1","1992-09-05","Swindon","(H)","W 2-1","Keller","Cunningham","Dawes","Bogie [77]","Coopern","Stevens","Roberts (73)","McGinlay","Goodman","Holsgrove","Barber","Stephenson (73)",null,"Dolby [77]",null,null,null,null,null,null,null,null,null,null,null,null,null,null,null,null,null,null,null,null,null,null,null,null,"Stephenson [**",null,"Stephenson","Stephenson (**",null,"Stephenson**",null,null,0,5,0,0,null,0,0,0,0,null,0,0,1,0,null,2,0,0,0]
[null,null,null,null,null,null,null,null,null,null,null,null,null,null,null,null,null,null,null,null,null,8,"Division 1","1992-09-12","Birmingham","(H)","D 0-0","Keller","Cunningham","Dawes","May","Cooper","Stevens","Roberts","McGinlay","Allen (77)","Goodman","Barber","Dolby (77)",null,"Holsgrove",null,null,null,null,null,null,null,null,null,null,null,null,null,null,null,null,null,null,null,null,null,null,null,null,"Stevens [**",null,"Stevens","Stevens (**",null,"Stevens**",null,null,31,0,0,2,null,1,0,0,0,null,4,0,0,1,null,0,0,0,0]
[null,null,null,null,null,null,null,null,null,null,null,null,null,null,null,null,null,null,null,null,null,9,"Division 1","1992-09-15","Peterborough","(A)","D 0-0","Keller","Cunningham","Dawes","May","Cooper [45]","Stevens","Roberts","McGinlay (64)","Allen","Goodman","Barber","Dolby (64)n",null,"Holsgrove [45]",null,null,null,null,null,null,null,null,null,null,null,null,null,null,null,null,null,null,null,null,null,null,null,null,"Verveer [**",null,"Verveer","Verveer (**",null,"Verveer**",null,null,0,1,0,0,null,0,0,0,0,null,0,0,0,0,null,0,0,0,0]
[null,null,null,null,null,null,null,null,null,null,null,null,null,null,null,null,null,null,null,null,null,10,"Division 1","1992-09-19","Notts Co","(H)","W 6-0","Keller","Cunningham","Dawes","May [80]","Cooper","Stevens","Roberts","Dolby","Allen","Goodman (72)","Barber","McGinlay (72)",null,"Holsgrove [80]",null,null,null,null,null,null,null,null,null,null,null,null,null,null,null,null,null,null,null,null,null,null,null,null,"Wallace [**",null,"Wallace","Wallace (**",null,"Wallace**",null,null,3,0,0,0,null,0,0,0,0,null,0,0,0,0,null,0,0,0,0]
[null,null,null,null,null,null,null,null,null,null,null,null,null,null,null,null,null,null,null,null,null,12,"Division 1","1992-09-26","Brentford","(A)","D 1-1","Keller","Cunningham","Dawes","May","Cooper","Stevens","Roberts","Dolby","Allen","Goodman","Barber","McGinlay",null,"Holsgrove"]
[null,null,null,null,null,null,null,null,null,null,null,null,"Watford (A) L 1-3",null,null,null,null,null,null,null,null,14,"Division 1","1992-10-03","Sunderland","(A)","L 0-2","Keller","Cunningham","Dawes","May","Cooper","Stevens","Roberts (60)","Dolby [60]","Allen","Goodman","Barber","Moralee (60)",null,"Holsgrove [60]"]
[null,null,null,null,null,null,null,null,null,null,null,null,"Oxford (H) W 3-1",null,null,null,null,null,null,null,null,16,"Division 1","1992-10-10","Cambridge","(H)","D 2-2","Keller","Cunningham","Dawes","May","Coopern","Stevens","Roberts","Dolby [87]","Allen","Goodman (80)¹","Barber","Moralee (80)",null,"Rae [87]",null,null,null,null,null,null,null,null,null,null,null,null,null,null,null,null,null,null,null,null,null,null,null,null,null,null,"Allen (**"]
[null,null,null,null,null,null,null,null,null,null,null,null,"Barnsley (A) D 0-0",null,null,null,null,null,null,null,null,17,"Division 1","1992-10-18","Charlton","(A)","W 2-0","Keller","Cunningham","Dawesn","May","Cooper","Rae","Robertsn","Moralee (90)","Allen","Goodman","Barber","Dolby (90)",null,"Holsgrove",null,null,null,null,null,null,null,null,null,null,null,null,null,null,null,null,null,null,null,null,null,null,null,null,null,null,"Armstrong (**"]
[null,null,null,null,null,null,null,null,null,null,null,null,"Swindon (H) W 2-1",null,null,null,null,null,null,null,null,18,"Division 1","1992-10-25","Wolves","(H)","W 2-0","Keller","Cunningham","Dawes","May","Cooper","Rae","Roberts","Moralee","Allen","Goodman (76)","Barber [89]","Dolby (76)",null,"Holsgrove [89]",null,null,null,null,null,null,null,null,null,null,null,null,null,null,null,null,null,null,null,null,null,null,null,null,null,null,"Barber (**"]
[null,null,null,null,null,null,null,null,null,null,null,null,"Birmingham (H) D 0-0",null,null,null,null,null,null,null,null,19,"Division 1","1992-10-31","Bristol R","(A)","L 0-1","Keller","Cunningham","Dawes","Mayn","Cooper","Rae (73)","Roberts(60)nnn","Moralee","Allen [77]","Goodman","Barber","Dolby (73)",null,"Byrne [77]",null,null,null,null,null,null,null,null,null,null,null,null,null,null,null,null,null,null,null,null,null,null,null,null,null,null,"Bogie (**"]
[null,null,null,null,null,null,null,null,null,null,null,null,"Peterborough (A) D 0-0",null,null,null,null,null,null,null,null,20,"Division 1","1992-11-04","Bristol C","(H)","W 4-1","Keller","Cunningham","Dawes","May","Cooper","Rae","Roberts","Moralee (76)","Allen","Byrne [89]","Barber","Dolby (76)",null,"Goodman [89]",null,null,null,null,null,null,null,null,null,null,null,null,null,null,null,null,null,null,null,null,null,null,null,null,null,null,"Byrne (**"]
[null,null,null,null,null,null,null,null,null,null,null,null,"Notts Co (H) W 6-0",null,null,null,null,null,null,null,null,21,"Division 1","1992-11-07","Derby","(A)","W 2-1","Keller","Cunningham","Dawes","May","Cooper","Raen","Roberts","Moralee (86)","Allen","Byrne [89]","Barber","Dolby (86)",null,"Goodman [89]",null,null,null,null,null,null,null,null,null,null,null,null,null,null,null,null,null,null,null,null,null,null,null,null,null,null,"Cooper (**"]
[null,null,null,null,null,null,null,null,null,null,null,null,"Brentford (A) D 1-1",null,null,null,null,null,null,null,null,22,"Division 1","1992-11-15","West Ham","(H)","W 2-1","Keller","Cunningham","Dawes","May","Coopern","Stevensn","Raen","Moralee (66)","Allen [84]¹n","Byrne","Barber¹","Dolby (66)",null,"Goodman [84]",null,null,null,null,null,null,null,null,null,null,null,null,null,null,null,null,null,null,null,null,null,null,null,null,null,null,"Cunningham (**"]
[null,null,null,null,null,null,null,null,null,null,null,null,"Sunderland (A) L 0-2",null,null,null,null,null,null,null,null,23,"Division 1","1992-11-21","Luton","(A)","D 1-1","Keller","Cunninghamn","Dawes","Mayn","Cooper","Stevens","Rae [65]","Moralee","Allen","Byrne","Barber","Goodman",null,"Roberts [65]",null,null,null,null,null,null,null,null,null,null,null,null,null,null,null,null,null,null,null,null,null,null,null,null,null,null,"Davidson (**"]
[null,null,null,null,null,null,null,null,null,null,null,null,"Cambridge (H) D 2-2",null,null,null,null,null,null,null,null,24,"Division 1","1992-11-28","Portsmouth","(A)","L 0-1","Keller","Cunningham","Dawes","May","Cooper","Stevens","Rae [55]","Moralee (80)","Allen","Byrne","Barber","Goodman (80)",null,"Roberts [55]",null,null,null,null,null,null,null,null,null,null,null,null,null,null,null,null,null,null,null,null,null,null,null,null,null,null,"Dawes (**"]
[null,null,null,null,null,null,null,null,null,null,null,null,"Charlton (A) W 2-0",null,null,null,null,null,null,null,null,25,"Division 1","1992-12-05","Southend","(H)","D 1-1","Keller","Cunningham","Dawes","May","Cooper","Stevens","Roberts","Moralee (79)","Allen [88]","Byrne","Barber","Goodman (79)",null,"Rae [88]",null,null,null,null,null,null,null,null,null,null,null,null,null,null,null,null,null,null,null,null,null,null,null,null,null,null,"Dolby (**"]
[null,null,null,null,null,null,null,null,null,null,null,null,"Wolves (H) W 2-0",null,null,null,null,null,null,null,null,26,"Division 1","1992-12-12","Grimsby","(H)","W 2-1","Keller","Cunningham","Dawes","May","Cooper","Stevens","Roberts","Moralee","Bogie (66)","Byrne [76]","Barber","Allen (66)",null,"Dolby [76]",null,null,null,null,null,null,null,null,null,null,null,null,null,null,null,null,null,null,null,null,null,null,null,null,null,null,"Gaynor (**"]
[null,null,null,null,null,null,null,null,null,null,null,null,"Bristol R (A) L 0-1",null,null,null,null,null,null,null,null,27,"Division 1","1992-12-20","Newcastle","(A)","D 1-1","Keller","Cunninghamn","Dawes","Mayn","Cooper","Stevens","Roberts","Moralee (67)","Bogie [60]","Goodman","Barber","Allen (67)",null,"Rae [60]",null,null,null,null,null,null,null,null,null,null,null,null,null,null,null,null,null,null,null,null,null,null,null,null,null,null,"Goodman (**"]
[null,null,null,null,null,null,null,null,null,null,null,null,"Bristol C (H) W 4-1",null,null,null,null,null,null,null,null,28,"Division 1","1992-12-26","Tranmere","(A)","D 1-1","Keller","Cunningham","Dawes","May","Cooper","Stevensn","Roberts","Moralee","Bogie [78]","Goodman (88)","Barber","Allen (88)",null,"Rae [78]",null,null,null,null,null,null,null,null,null,null,null,null,null,null,null,null,null,null,null,null,null,null,null,null,null,null,"Holsgrove (**"]
[null,null,null,null,null,null,null,null,null,null,null,null,"Derby (A) W 2-1",null,null,null,null,null,null,null,null,29,"Division 1","1992-12-28","Leicester","(H)","W 2-0","Keller","Cunningham","Dawes","May","Cooper","Stevens","Roberts","Moralee","Bogie (73)","Goodman","Barber","Allen (73)",null,"Rae",null,null,null,null,null,null,null,null,null,null,null,null,null,null,null,null,null,null,null,null,null,null,null,null,null,null,"Keller (**"]
[null,null,null,null,null,null,null,null,null,null,null,null,"West Ham (H) W 2-1",null,null,null,null,null,null,null,null,30,"Division 1","1993-01-09","Notts Co","(A)","W 2-1","Keller","Cunningham","Dawes","May","Cooper","Stevens","Roberts","Moralee","Bogie (85)","Goodman","Barber","Allen (85)",null,"Rae",null,null,null,null,null,null,null,null,null,null,null,null,null,null,null,null,null,null,null,null,null,null,null,null,null,null,"Kennedy (**"]
[null,null,null,null,null,null,null,null,null,null,null,null,"Luton (A) D 1-1",null,null,null,null,null,null,null,null,32,"Division 1","1993-01-17","Brentford","(H)","W 6-1","Keller","Rae","Dawes","May [82]","Cooper","Stevens","Roberts","Moralee","Bogie (70)","Goodman","Barber","Allen (70)",null,"Holsgrove [82]",null,null,null,null,null,null,null,null,null,null,null,null,null,null,null,null,null,null,null,null,null,null,null,null,null,null,"Kerr (**"]
[null,null,null,null,null,null,null,null,null,null,null,null,"Portsmouth (A) L 0-1",null,null,null,null,null,null,null,null,33,"Division 1","1993-01-27","Peterborough","(H)","W 4-0","Keller","Rae","Dawes","May [82]","T McCarthy","McLeary","Roberts","Moralee","Bogie","Goodman (82)","Barber","Allen (82)",null,"Holsgrove [82]",null,null,null,null,null,null,null,null,null,null,null,null,null,null,null,null,null,null,null,null,null,null,null,null,null,null,"Maguire (**"]
[null,null,null,null,null,null,null,null,null,null,null,null,"Southend (H) D 1-1",null,null,null,null,null,null,null,null,34,"Division 1","1993-01-30","Oxford","(A)","L 0-3","Keller","Rae (65)n","Dawes","May (71)","T McCarthy","McLeary","Robertsn","Moralee","Bogie [72]","Goodman","Barber","Allen (72)",null,"Holsgrove [71]",null,null,null,null,null,null,null,null,null,null,null,null,null,null,null,null,null,null,null,null,null,null,null,null,null,null,"Manning (**"]
[null,null,null,null,null,null,null,null,null,null,null,null,"Grimsby (H) W 2-1",null,null,null,null,null,null,null,null,35,"Division 1","1993-02-06","Watford","(H)","W 5-2","Keller","Rae","Dawes","Mayn","Cooper","Stevens","Roberts","Moralee","Bogie","Goodman (84)","Barber","Allen (84)",null,"Holsgrove",null,null,null,null,null,null,null,null,null,null,null,null,null,null,null,null,null,null,null,null,null,null,null,null,null,null,"May (**"]
[null,null,null,null,null,null,null,null,null,null,null,null,"Newcastle (A) D 1-1",null,null,null,null,null,null,null,null,36,"Division 1","1993-02-09","Birmingham","(A)","D 0-0","Keller","Rae [81]","Dawes","May","Cooper","Stevens","Roberts","Moralee","Bogie","Goodman","Barber","Allen",null,"McLeary [81]",null,null,null,null,null,null,null,null,null,null,null,null,null,null,null,null,null,null,null,null,null,null,null,null,null,null,"M McCarthy (**"]
[null,null,null,null,null,null,null,null,null,null,null,null,"Tranmere (A) D 1-1",null,null,null,null,null,null,null,null,37,"Division 1","1993-02-13","Swindon","(A)","L 0-3","Keller","Holsgrove [65]","Dawes","May","Cooper","Stevensn","Roberts","Moralee","Bogie (65)","Goodman","Barbern","Allen (65)n",null,"McLeary [65]",null,null,null,null,null,null,null,null,null,null,null,null,null,null,null,null,null,null,null,null,null,null,null,null,null,null,"T McCarthy (**"]
[null,null,null,null,null,null,null,null,null,null,null,null,"Leicester (H) W 2-0",null,null,null,null,null,null,null,null,38,"Division 1","1993-02-20","Barnsley","(H)","L 0-4","Keller","McLeary [45]","Dawes","Mayn","Cooper","Stevens","Roberts","Moralee","Bogie","Goodman (45)","Barber","Allen (45)",null,"Stephenson [45]",null,null,null,null,null,null,null,null,null,null,null,null,null,null,null,null,null,null,null,null,null,null,null,null,null,null,"McGinlay (**"]
[null,null,null,null,null,null,null,null,null,null,null,null,"Notts Co (A) W 2-1",null,null,null,null,null,null,null,null,39,"Division 1","1993-02-27","Cambridge","(A)","D 1-1","Keller","Cunningham","Dawes","May","Cooper","Stevens","Roberts","Allen","Bogie","Byrne [74]","Barber (85)","Moralee (85)",null,"Stephenson [74]",null,null,null,null,null,null,null,null,null,null,null,null,null,null,null,null,null,null,null,null,null,null,null,null,null,null,"McLeary (**"]
[null,null,null,null,null,null,null,null,null,null,null,null,"Brentford (H) W 6-1",null,null,null,null,null,null,null,null,40,"Division 1","1993-03-06","Sunderland","(H)","D 0-0","Keller","Cunningham","Dawes","May (72)","Coopern","Stevens","Roberts [69]","Allen","Bogie","Byrne","Barber","Moralee (72)",null,"Rae [69]n",null,null,null,null,null,null,null,null,null,null,null,null,null,null,null,null,null,null,null,null,null,null,null,null,null,null,"Moralee (**"]
[null,null,null,null,null,null,null,null,null,null,null,null,"Peterborough (H) W 4-0",null,null,null,null,null,null,null,null,41,"Division 1","1993-03-09","Bristol C","(A)","W 1-0","Keller","Cunningham","Dawes","Rae","Cooper","Stevens","Roberts","Allen","Bogie [70]","Byrne (60)","Barber","Moralee (60)",null,"Dolby [70]",null,null,null,null,null,null,null,null,null,null,null,null,null,null,null,null,null,null,null,null,null,null,null,null,null,null,"Rae (**"]
[null,null,null,null,null,null,null,null,null,null,null,null,"Oxford (A) L 0-3",null,null,null,null,null,null,null,null,42,"Division 1","1993-03-13","Derby","(H)","W 1-0","Keller","Cunningham","Dawes","May [65]","Cooper","Stevens","Rae","Allen","Bogie","Byrne (61)","Barber","Moralee (61)",null,"Roberts [65]",null,null,null,null,null,null,null,null,null,null,null,null,null,null,null,null,null,null,null,null,null,null,null,null,null,null,"Roberts (**"]
[null,null,null,null,null,null,null,null,null,null,null,null,"Watford (H) W 5-2",null,null,null,null,null,null,null,null,43,"Division 1","1993-03-21","Southend","(A)","D 3-3","Keller","Cunningham","Dawes","Holsgrove","Cooper (45)n","Stevens","Roberts","Bogie [57]","Goodman (57)","Moralee","Barber","Byrne (57)",null,"T McCarthy [57]",null,null,null,null,null,null,null,null,null,null,null,null,null,null,null,null,null,null,null,null,null,null,null,null,null,null,"Sion (**"]
[null,null,null,null,null,null,null,null,null,null,null,null,"Birmingham (A) D 0-0",null,null,null,null,null,null,null,null,44,"Division 1","1993-03-24","Luton","(H)","W 1-0","Keller","Cunningham","Dawes","Roberts","Cooper","Stevens","Rae","Bogie","Allen","Moralee","Barber","Kerr (--)",null,"T McCarthy",null,null,null,null,null,null,null,null,null,null,null,null,null,null,null,null,null,null,null,null,null,null,null,null,null,null,"Stephenson (**"]
[null,null,null,null,null,null,null,null,null,null,null,null,"Swindon (A) L 0-3",null,null,null,null,null,null,null,null,45,"Division 1","1993-03-28","West Ham","(A)","D 2-2","Keller","Cunningham","Dawes","Robertsn","Cooper","Stevens","Maguire [74]","Bogie","Allen (64)","Moralee","Barber","Kerr (64)",null,"Gaynor [74]",null,null,null,null,null,null,null,null,null,null,null,null,null,null,null,null,null,null,null,null,null,null,null,null,null,null,"Stevens (**"]
[null,null,null,null,null,null,null,null,null,null,null,null,"Barnsley (H) L 0-4",null,null,null,null,null,null,null,null,46,"Division 1","1993-04-03","Portsmouth","(H)","D 1-1","Keller","Cunningham","Dawes","Roberts","Cooper","T McCarthy","Maguire","Wallace [72]","Allen (56)","Moralee","Barber","Kerr (56)",null,"Bogie [72]",null,null,null,null,null,null,null,null,null,null,null,null,null,null,null,null,null,null,null,null,null,null,null,null,null,null,"Verveer (**"]
[null,null,null,null,null,null,null,null,null,null,null,null,"Cambridge (A) D 1-1",null,null,null,null,null,null,null,null,47,"Division 1","1993-04-06","Grimsby","(A)","L 0-1","Keller","May (47)","Dawes","Roberts","McLeary","T McCarthyn","Maguire","Wallace [65]","Kerr","Moralee","Barber","Bogie (47)",null,"Gaynor [65]",null,null,null,null,null,null,null,null,null,null,null,null,null,null,null,null,null,null,null,null,null,null,null,null,null,null,"Wallace (**"]
[null,null,null,null,null,null,null,null,null,null,null,null,"Sunderland (H) D 0-0",null,null,null,null,null,null,null,null,48,"Division 1","1993-04-10","Tranmere","(H)","D 0-0","Keller","Cunningham","Dawes","May [53]","T McCarthyn","Maguiren","Rae","Goodman (73)","Allen","Moralee","Barber","Kerr (73)",null,"Roberts [53]"]
[null,null,null,null,null,null,null,null,null,null,null,null,"Bristol C (A) W 1-0",null,null,null,null,null,null,null,null,49,"Division 1","1993-04-14","Leicester","(A)","L 0-3","Keller","Cunningham","Dawes","Roberts","T McCarthy (78)","Maguire [66]n","Rae","Goodman","Allenn","Moralee","Barber","Kerr (78)",null,"Holsgrove [66]"]
[null,null,null,null,null,null,null,null,null,null,null,null,"Derby (H) W 1-0",null,null,null,null,null,null,null,null,50,"Division 1","1993-04-17","Newcastle","(H)","L 1-2","Keller","Cunningham","Dawes","Roberts","Cooper","Maguire","Rae","Wallace [79]","Allen","Goodman (59)","Barber¹","Dolby (59)",null,"Gaynor [79]"]
[null,null,null,null,null,null,null,null,null,null,null,null,"Southend (A) D 3-3",null,null,null,null,null,null,null,null,51,"Division 1","1993-04-24","Charlton","(H)","W 1-0","Keller","Cunningham","Dawes","Roberts","Cooper","Maguire","Rae","Moralee [76]","Allen","Goodman¹n","Barber","T McCarthy",null,"Kennedy [76]"]
[null,null,null,null,null,null,null,null,null,null,null,null,"Luton (H) W 1-0",null,null,null,null,null,null,null,null,52,"Division 1","1993-05-01","Wolves","(A)","L 1-3","Keller","Cunningham (51)","Dawes","Roberts","Cooper","Maguire","Rae [45]","Moralee","Allen","Goodman","Barber","Dolby (51)n",null,"May [45]"]
[null,null,null,null,null,null,null,null,null,null,null,null,"West Ham (A) D 2-2",null,null,null,null,null,null,null,null,53,"Division 1","1993-05-08","Bristol R","(H)","L 0-3","Keller","Manning [60]","Dawes","Roberts","Cooper","Maguire","Rae","Moralee (57)","Allen","Goodman","Barber","Verveer (57)",null,"Dolby [60]"]
[null,null,null,null,null,null,null,null,null,null,null,null,"Portsmouth (H) D 1-1"]
[null,null,null,null,null,null,null,null,null,null,null,null,"Grimsby (A) L 0-1"]
[null,null,null,null,null,null,null,null,null,null,null,null,"Tranmere (H) D 0-0"]
[null,null,null,null,null,null,null,null,null,null,null,null,"Leicester (A) L 0-3"]
[null,null,null,null,null,null,null,null,null,null,null,null,"Newcastle (H) L 1-2"]
[null,null,null,null,null,null,null,null,null,null,null,null,"Charlton (H) W 1-0",null,null,null,null,null,null,null,null,31,"FA Cup","1993-01-13","Southend","(A)","L 0-1","Keller","Raen","Dawes","May","Coopern","Stevensn","Roberts","Moralee","Bogie [87]n","Goodman (76)","Barber","Allen (76)",null,"Holsgrove [87]"]
[null,null,null,null,null,null,null,null,null,null,null,null,"Wolves (A) L 1-3"]
[null,null,null,null,null,null,null,null,null,null,null,null,"Bristol R (H) L 0-3"]
[null,null,null,null,null,null,null,null,null,null,null,null,{"$f":"E129&\" \"&F129&\" \"&G129","v":"  "}]
[]
[]
[]
[]
[]
[]
[null,null,null,null,null,null,null,null,null,null,null,null,null,null,null,null,null,null,null,null,null,2,"League Cup","1992-08-18","Leyton Orient","(A)","D 2-2","Davidson","Cunningham","Dawes","May","Coopern","Stevens","Roberts","McGinlay","Allen","Armstrong","Barber","Stephenson",null,"Rae"]
[null,null,null,null,null,null,null,null,null,null,null,null,null,null,null,null,null,null,null,null,null,4,"League Cup","1992-08-26","Leyton Orient","(H)","W 3-0","Keller","Cunningham","Dawes","Rae","Coopern","Stevensn","Roberts","McGinlay (78)","Allenn","Armstrong","Barber [82]","Goodman (78)",null,"Holsgrove [82]"]
[null,null,null,null,null,null,null,null,null,null,null,null,null,null,null,null,null,null,null,null,null,11,"League Cup","1992-09-22","Arsenal","(A)","D 1-1","Keller","Cunningham","Dawes","May","Cooper","Stevensn","Roberts","Dolby (74)","Allenn","Goodman","Barber","McGinlay (74)",null,"Holsgrove"]
[null,null,null,null,null,null,null,null,null,null,null,null,null,null,null,null,null,null,null,null,null,15,"League Cup","1992-10-07","Arsenal","(H)","D 1-1","Keller","Cunningham","Dawes","May [83]","Cooper","Stevens","Roberts","Dolby (75)n","Allen","Goodman","Barber","Moralee (75)",null,"Rae [83]n"]
[]
[]
[]
[]
[]
[]
[null,null,null,null,null,null,null,null,null,null,null,null,null,null,null,null,null,null,null,null,null,6,"Anglo-Italian","1992-09-02","Charlton","(H)","L 1-2","Keller","Cunningham","Holsgrove","Rae (64)","Cooper","McLeary","Roberts","McGinlay","Goodman","Bogie","Stephenson","Dolby (64)",null,"Barber"]
[null,null,null,null,null,null,null,null,null,null,null,null,null,null,null,null,null,null,null,null,null,13,"Anglo-Italian","1992-09-29","Portsmouth","(A)","D 1-1","Davidson","Cunningham","Dawes [79]","Holsgrove","M McCarthy","Roberts","Stephenson","Rae","Bogie","Moralee","Sion","Goodman",null,"Manning [79]"]

{"sheet":"Comparisons","index":1,"n_rows":425,"n_cols":140,"rows_kept":425,"cut":false,"hidden":false,"merged":[[304,7,304,9],[410,7,410,9],[59,7,59,9],[73,7,73,9],[89,7,89,9],[175,7,175,9],[181,7,181,9],[197,7,197,9]]}
[]
[null,null,null,null,null,null,null,null,null,null,{"$f":"IF(K3=0,0,1)","v":1},{"$f":"IF(L3=0,0,1)","v":1},1,1,1,1,1,1,1,1,1,1,1,1,1,1,1,1,1,1,1,1,1,1,1,1,1,1,1,1,1,0,0,0,null,null,null,null,null,null,null,null,null,null,null,null,null,null,null,null,null,null,null,null,null,null,null,null,null,null,null,{"$f":"IF(BT3=0,0,1)","v":1},1,1,1,1,1,1,1,1,1,1,1]
["Formulas",null,null,null,null,"Date",null,"Opponents","Venue / Result",null,{"$f":"$DY$5","v":"Allen"},{"$f":"$DY$6","v":"Armstrong"},{"$f":"$DY$7","v":"Barber"},{"$f":"$DY$8","v":"Bogie"},{"$f":"$DY$9","v":"Byrne"},{"$f":"$DY$10","v":"Cooper"},{"$f":"$DY$11","v":"Cunningham"},{"$f":"$DY$12","v":"Davidson"},{"$f":"$DY$13","v":"Dawes"},{"$f":"$DY$14","v":"Dolby"},{"$f":"$DY$15","v":"Gaynor"},{"$f":"$DY$16","v":"Goodman"},{"$f":"$DY$17","v":"Holsgrove"},{"$f":"$DY$18","v":"Keller"},{"$f":"$DY$19","v":"Kennedy"},{"$f":"$DY$20","v":"Kerr"},{"$f":"$DY$21","v":"Maguire"},{"$f":"$DY$22","v":"Manning"},{"$f":"$DY$23","v":"May"},{"$f":"$DY$24","v":"M McCarthy"},{"$f":"$DY$25","v":"T McCarthy"},{"$f":"$DY$26","v":"McGinlay"},{"$f":"$DY$27","v":"McLeary"},{"$f":"$DY$28","v":"Moralee"},{"$f":"$DY$29","v":"Rae"},{"$f":"$DY$30","v":"Roberts"},{"$f":"$DY$31","v":"Sion"},{"$f":"$DY$32","v":"Stephenson"},{"$f":"$DY$33","v":"Stevens"},{"$f":"$DY$34","v":"Verveer"},{"$f":"$DY$35","v":"Wallace"},{"$f":"$DY$36","v":0},{"$f":"$DY$37","v":0},{"$f":"$DY$38","v":0},null,null,null,null,null,{"$f":"$DZ$5","v":"Allen (**"},{"$f":"$DZ$6","v":"Armstrong (**"},{"$f":"$DZ$7","v":"Barber (**"},{"$f":"$DZ$8","v":"Bogie (**"},{"$f":"$DZ$9","v":"Byrne (**"},{"$f":"$DZ$10","v":"Cooper (**"},{"$f":"$DZ$11","v":"Cunningham (**"},{"$f":"$DZ$12","v":"Davidson (**"},{"$f":"$DZ$13","v":"Dawes (**"},{"$f":"$DZ$14","v":"Dolby (**"},{"$f":"$DZ$15","v":"Gaynor (**"},{"$f":"$DZ$16","v":"Goodman (**"},{"$f":"$DZ$17","v":"Holsgrove (**"},{"$f":"$DZ$18","v":"Keller (**"},{"$f":"$DZ$19","v":"Kennedy (**"},{"$f":"$DZ$20","v":"Kerr (**"},{"$f":"$DZ$21","v":"Maguire (**"},{"$f":"$DZ$22","v":"Manning (**"},{"$f":"$DZ$23","v":"May (**"},{"$f":"$DZ$24","v":"M McCarthy (**"},{"$f":"$DZ$25","v":"T McCarthy (**"},{"$f":"$DZ$26","v":"McGinlay (**"},{"$f":"$DZ$27","v":"McLeary (**"},{"$f":"$DZ$28","v":"Moralee (**"},{"$f":"$DZ$29","v":"Rae (**"},{"$f":"$DZ$30","v":"Roberts (**"},{"$f":"$DZ$31","v":"Sion (**"},{"$f":"$DZ$32","v":"Stephenson (**"},{"$f":"$DZ$33","v":"Stevens (**"},{"$f":"$DZ$34","v":"Verveer (**"},{"$f":"$DZ$35","v":"Wallace (**"},{"$f":"$DZ$36","v":"0 (**"},{"$f":"$DZ$37","v":"0 (**"},{"$f":"$DZ$38","v":" (**"},null,null,{"$f":"$DX$5","v":"Allen [**"},{"$f":"$DX$6","v":"Armstrong [**"},{"$f":"$DX$7","v":"Barber [**"},{"$f":"$DX$8","v":"Bogie [**"},{"$f":"$DX$9","v":"Byrne [**"},{"$f":"$DX$10","v":"Cooper [**"},{"$f":"$DX$11","v":"Cunningham [**"},{"$f":"$DX$12","v":"Davidson [**"},{"$f":"$DX$13","v":"Dawes [**"},{"$f":"$DX$14","v":"Dolby [**"},{"$f":"$DX$15","v":"Gaynor [**"},{"$f":"$DX$16","v":"Goodman [**"},{"$f":"$DX$17","v":"Holsgrove [**"},{"$f":"$DX$18","v":"Keller [**"},{"$f":"$DX$19","v":"Kennedy [**"},{"$f":"$DX$20","v":"Kerr [**"},{"$f":"$DX$21","v":"Maguire [**"},{"$f":"$DX$22","v":"Manning [**"},{"$f":"$DX$23","v":"May [**"},{"$f":"$DX$24","v":"M McCarthy [**"},{"$f":"$DX$25","v":"T McCarthy [**"},{"$f":"$DX$26","v":"McGinlay [**"},{"$f":"$DX$27","v":"McLeary [**"},{"$f":"$DX$28","v":"Moralee [**"},{"$f":"$DX$29","v":"Rae [**"},{"$f":"$DX$30","v":"Roberts [**"},{"$f":"$DX$31","v":"Sion [**"},{"$f":"$DX$32","v":"Stephenson [**"},{"$f":"$DX$33","v":"Stevens [**"},{"$f":"$DX$34","v":"Verveer [**"},{"$f":"$DX$35","v":"Wallace [**"},{"$f":"$DX$36","v":"0 [**"},{"$f":"$DX$37","v":"0 [**"},{"$f":"$DX$38","v":" [**"}]
[null,null,1,null,null,null,null,null,null,null,{"$f":"$DY$5&\"**\"","v":"Allen**"},{"$f":"$DY$6&\"**\"","v":"Armstrong**"},{"$f":"$DY$7&\"**\"","v":"Barber**"},{"$f":"$DY$8&\"**\"","v":"Bogie**"},{"$f":"$DY$9&\"**\"","v":"Byrne**"},{"$f":"$DY$10&\"**\"","v":"Cooper**"},{"$f":"$DY$11&\"**\"","v":"Cunningham**"},{"$f":"$DY$12&\"**\"","v":"Davidson**"},{"$f":"$DY$13&\"**\"","v":"Dawes**"},{"$f":"$DY$14&\"**\"","v":"Dolby**"},{"$f":"$DY$15&\"**\"","v":"Gaynor**"},{"$f":"$DY$16&\"**\"","v":"Goodman**"},{"$f":"$DY$17&\"**\"","v":"Holsgrove**"},{"$f":"$DY$18&\"**\"","v":"Keller**"},{"$f":"$DY$19&\"**\"","v":"Kennedy**"},{"$f":"$DY$20&\"**\"","v":"Kerr**"},{"$f":"$DY$21&\"**\"","v":"Maguire**"},{"$f":"$DY$22&\"**\"","v":"Manning**"},{"$f":"$DY$23&\"**\"","v":"May**"},{"$f":"$DY$24&\"**\"","v":"M McCarthy**"},{"$f":"$DY$25&\"**\"","v":"T McCarthy**"},{"$f":"$DY$26&\"**\"","v":"McGinlay**"},{"$f":"$DY$27&\"**\"","v":"McLeary**"},{"$f":"$DY$28&\"**\"","v":"Moralee**"},{"$f":"$DY$29&\"**\"","v":"Rae**"},{"$f":"$DY$30&\"**\"","v":"Roberts**"},{"$f":"$DY$31&\"**\"","v":"Sion**"},{"$f":"$DY$32&\"**\"","v":"Stephenson**"},{"$f":"$DY$33&\"**\"","v":"Stevens**"},{"$f":"$DY$34&\"**\"","v":"Verveer**"},{"$f":"$DY$35&\"**\"","v":"Wallace**"},{"$f":"$DY$36&\"**\"","v":"0**"},{"$f":"$DY$37&\"**\"","v":"0**"},null,null,null,null,null,null,{"$f":"$EA$5","v":"Allen**"},{"$f":"$EA$6","v":"Armstrong**"},{"$f":"$EA$7","v":"Barber**"},{"$f":"$EA$8","v":"Bogie**"},{"$f":"$EA$9","v":"Byrne**"},{"$f":"$EA$10","v":"Cooper**"},{"$f":"$EA$11","v":"Cunningham**"},{"$f":"$EA$12","v":"Davidson**"},{"$f":"$EA$13","v":"Dawes**"},{"$f":"$EA$14","v":"Dolby**"},{"$f":"$EA$15","v":"Gaynor**"},{"$f":"$EA$16","v":"Goodman**"},{"$f":"$EA$17","v":"Holsgrove**"},{"$f":"$EA$18","v":"Keller**"},{"$f":"$EA$19","v":"Kennedy**"},{"$f":"$EA$20","v":"Kerr**"},{"$f":"$EA$21","v":"Maguire**"},{"$f":"$EA$22","v":"Manning**"},{"$f":"$EA$23","v":"May**"},{"$f":"$EA$24","v":"M McCarthy**"},{"$f":"$EA$25","v":"T McCarthy**"},{"$f":"$EA$26","v":"McGinlay**"},{"$f":"$EA$27","v":"McLeary**"},{"$f":"$EA$28","v":"Moralee**"},{"$f":"$EA$29","v":"Rae**"},{"$f":"$EA$30","v":"Roberts**"},{"$f":"$EA$31","v":"Sion**"},{"$f":"$EA$32","v":"Stephenson**"},{"$f":"$EA$33","v":"Stevens**"},{"$f":"$EA$34","v":"Verveer**"},{"$f":"$EA$35","v":"Wallace**"},{"$f":"$EA$36","v":"0**"},{"$f":"$EA$37","v":"0**"},{"$f":"$EA$38","v":"**"}]
[null,null,{"$f":"IF(J5=0,1,0)","v":0},1,null,{"$f":"Millwall!X75","v":"1992-08-15"},null,{"$f":"Millwall!Y75","v":"Watford"},{"$f":"Millwall!Z75","v":"(A)"},{"$f":"Millwall!AA75","v":"L 1-3"},{"$f":"MATCH($K$4,Millwall!$AB$75:$AP$75,0)","v":9},{"$f":"MATCH($L$4,Millwall!$AB$75:$AP$75,0)","v":10},{"$f":"MATCH($M$4,Millwall!$AB$75:$AP$75,0)","v":11},{"$f":"MATCH($N$4,Millwall!$AB$75:$AP$75,0)","v":{"$error":"#N/A"}},{"$f":"MATCH($O$4,Millwall!$AB$75:$AP$75,0)","v":{"$error":"#N/A"}},{"$f":"MATCH($P$4,Millwall!$AB$75:$AP$75,0)","v":5},{"$f":"MATCH($Q$4,Millwall!$AB$75:$AP$75,0)","v":2},{"$f":"MATCH($R$4,Millwall!$AB$75:$AP$75,0)","v":1},{"$f":"MATCH($S$4,Millwall!$AB$75:$AP$75,0)","v":3},{"$f":"MATCH($T$4,Millwall!$AB$75:$AP$75,0)","v":{"$error":"#N/A"}},{"$f":"MATCH($U$4,Millwall!$AB$75:$AP$75,0)","v":{"$error":"#N/A"}},{"$f":"MATCH($V$4,Millwall!$AB$75:$AP$75,0)","v":{"$error":"#N/A"}},{"$f":"MATCH($W$4,Millwall!$AB$75:$AP$75,0)","v":{"$error":"#N/A"}},{"$f":"MATCH($X$4,Millwall!$AB$75:$AP$75,0)","v":{"$error":"#N/A"}},{"$f":"MATCH($Y$4,Millwall!$AB$75:$AP$75,0)","v":{"$error":"#N/A"}},{"$f":"MATCH($Z$4,Millwall!$AB$75:$AP$75,0)","v":{"$error":"#N/A"}},{"$f":"MATCH($AA$4,Millwall!$AB$75:$AP$75,0)","v":{"$error":"#N/A"}},{"$f":"MATCH($AB$4,Millwall!$AB$75:$AP$75,0)","v":{"$error":"#N/A"}},{"$f":"MATCH($AC$4,Millwall!$AB$75:$AP$75,0)","v":4},{"$f":"MATCH($AD$4,Millwall!$AB$75:$AP$75,0)","v":{"$error":"#N/A"}},{"$f":"MATCH($AE$4,Millwall!$AB$75:$AP$75,0)","v":{"$error":"#N/A"}},{"$f":"MATCH($AF$4,Millwall!$AB$75:$AP$75,0)","v":8},{"$f":"MATCH($AG$4,Millwall!$AB$75:$AP$75,0)","v":{"$error":"#N/A"}},{"$f":"MATCH($AH$4,Millwall!$AB$75:$AP$75,0)","v":{"$error":"#N/A"}},{"$f":"MATCH($AI$4,Millwall!$AB$75:$AP$75,0)","v":14},{"$f":"MATCH($AJ$4,Millwall!$AB$75:$AP$75,0)","v":7},{"$f":"MATCH($AK$4,Millwall!$AB$75:$AP$75,0)","v":{"$error":"#N/A"}},{"$f":"MATCH($AL$4,Millwall!$AB$75:$AP$75,0)","v":12},{"$f":"MATCH($AM$4,Millwall!$AB$75:$AP$75,0)","v":6},{"$f":"MATCH($AN$4,Millwall!$AB$75:$AP$75,0)","v":{"$error":"#N/A"}},{"$f":"MATCH($AO$4,Millwall!$AB$75:$AP$75,0)","v":{"$error":"#N/A"}},{"$f":"MATCH($AP$4,Millwall!$AB$75:$AP$75,0)","v":{"$error":"#N/A"}},{"$f":"MATCH($AQ$4,Millwall!$AB$75:$AP$75,0)","v":{"$error":"#N/A"}},{"$f":"MATCH($AR$4,Millwall!$AE$75:$AP$75,0)","v":{"$error":"#N/A"}},null,null,null,null,null,{"$f":"MATCH(AX$3,Millwall!$AB75:$AP75,0)","v":{"$error":"#N/A"}},{"$f":"MATCH(AY$3,Millwall!$AB75:$AP75,0)","v":{"$error":"#N/A"}},{"$f":"MATCH(AZ$3,Millwall!$AB75:$AP75,0)","v":{"$error":"#N/A"}},{"$f":"MATCH(BA$3,Millwall!$AB75:$AP75,0)","v":{"$error":"#N/A"}},{"$f":"MATCH(BB$3,Millwall!$AB75:$AP75,0)","v":{"$error":"#N/A"}},{"$f":"MATCH(BC$3,Millwall!$AB75:$AP75,0)","v":{"$error":"#N/A"}},{"$f":"MATCH(BD$3,Millwall!$AB75:$AP75,0)","v":{"$error":"#N/A"}},{"$f":"MATCH(BE$3,Millwall!$AB75:$AP75,0)","v":{"$error":"#N/A"}},{"$f":"MATCH(BF$3,Millwall!$AB75:$AP75,0)","v":{"$error":"#N/A"}},{"$f":"MATCH(BG$3,Millwall!$AB75:$AP75,0)","v":{"$error":"#N/A"}},{"$f":"MATCH(BH$3,Millwall!$AB75:$AP75,0)","v":{"$error":"#N/A"}},{"$f":"MATCH(BI$3,Millwall!$AB75:$AP75,0)","v":{"$error":"#N/A"}},{"$f":"MATCH(BJ$3,Millwall!$AB75:$AP75,0)","v":{"$error":"#N/A"}},{"$f":"MATCH(BK$3,Millwall!$AB75:$AP75,0)","v":{"$error":"#N/A"}},{"$f":"MATCH(BL$3,Millwall!$AB75:$AP75,0)","v":{"$error":"#N/A"}},{"$f":"MATCH(BM$3,Millwall!$AB75:$AP75,0)","v":{"$error":"#N/A"}},{"$f":"MATCH(BN$3,Millwall!$AB75:$AP75,0)","v":{"$error":"#N/A"}},{"$f":"MATCH(BO$3,Millwall!$AB75:$AP75,0)","v":{"$error":"#N/A"}},{"$f":"MATCH(BP$3,Millwall!$AB75:$AP75,0)","v":{"$error":"#N/A"}},{"$f":"MATCH(BQ$3,Millwall!$AB75:$AP75,0)","v":{"$error":"#N/A"}},{"$f":"MATCH(BR$3,Millwall!$AB75:$AP75,0)","v":{"$error":"#N/A"}},{"$f":"MATCH(BS$3,Millwall!$AB75:$AP75,0)","v":8},{"$f":"MATCH(BT$3,Millwall!$AB75:$AP75,0)","v":{"$error":"#N/A"}},{"$f":"MATCH(BU$3,Millwall!$AB75:$AP75,0)","v":{"$error":"#N/A"}},{"$f":"MATCH(BV$3,Millwall!$AB75:$AP75,0)","v":{"$error":"#N/A"}},{"$f":"MATCH(BW$3,Millwall!$AB75:$AP75,0)","v":{"$error":"#N/A"}},{"$f":"MATCH(BX$3,Millwall!$AB75:$AP75,0)","v":{"$error":"#N/A"}},{"$f":"MATCH(BY$3,Millwall!$AB75:$AP75,0)","v":12},{"$f":"MATCH(BZ$3,Millwall!$AB75:$AP75,0)","v":{"$error":"#N/A"}},{"$f":"MATCH(CA$3,Millwall!$AB75:$AP75,0)","v":{"$error":"#N/A"}},{"$f":"MATCH(CB$3,Millwall!$AB75:$AP75,0)","v":{"$error":"#N/A"}},{"$f":"MATCH(CC$3,Millwall!$AB75:$AP75,0)","v":{"$error":"#N/A"}},{"$f":"MATCH(CD$3,Millwall!$AB75:$AP75,0)","v":{"$error":"#N/A"}},{"$f":"MATCH(CE$3,Millwall!$AB75:$AP75,0)","v":{"$error":"#N/A"}},null,null,{"$f":"MATCH($CH$3,Millwall!$AB$75:$AP$75,0)","v":{"$error":"#N/A"}},{"$f":"MATCH($CI$3,Millwall!$AB$75:$AP$75,0)","v":{"$error":"#N/A"}},{"$f":"MATCH($CJ$3,Millwall!$AB$75:$AP$75,0)","v":{"$error":"#N/A"}},{"$f":"MATCH($CK$3,Millwall!$AB$75:$AP$75,0)","v":{"$error":"#N/A"}},{"$f":"MATCH($CL$3,Millwall!$AB$75:$AP$75,0)","v":{"$error":"#N/A"}},{"$f":"MATCH($CM$3,Millwall!$AB$75:$AP$75,0)","v":{"$error":"#N/A"}},{"$f":"MATCH($CN$3,Millwall!$AB$75:$AP$75,0)","v":{"$error":"#N/A"}},{"$f":"MATCH($CO$3,Millwall!$AB$75:$AP$75,0)","v":{"$error":"#N/A"}},{"$f":"MATCH($CP$3,Millwall!$AB$75:$AP$75,0)","v":{"$error":"#N/A"}},{"$f":"MATCH($CQ$3,Millwall!$AB$75:$AP$75,0)","v":{"$error":"#N/A"}},{"$f":"MATCH($CR$3,Millwall!$AB$75:$AP$75,0)","v":{"$error":"#N/A"}},{"$f":"MATCH($CS$3,Millwall!$AB$75:$AP$75,0)","v":{"$error":"#N/A"}},{"$f":"MATCH($CT$3,Millwall!$AB$75:$AP$75,0)","v":{"$error":"#N/A"}},{"$f":"MATCH($CU$3,Millwall!$AB$75:$AP$75,0)","v":{"$error":"#N/A"}},{"$f":"MATCH($CV$3,Millwall!$AB$75:$AP$75,0)","v":{"$error":"#N/A"}},{"$f":"MATCH($CW$3,Millwall!$AB$75:$AP$75,0)","v":{"$error":"#N/A"}},{"$f":"MATCH($CX$3,Millwall!$AB$75:$AP$75,0)","v":{"$error":"#N/A"}},{"$f":"MATCH($CY$3,Millwall!$AB$75:$AP$75,0)","v":{"$error":"#N/A"}},{"$f":"MATCH($CZ$3,Millwall!$AB$75:$AP$75,0)","v":4},{"$f":"MATCH($DA$3,Millwall!$AB$75:$AP$75,0)","v":{"$error":"#N/A"}},{"$f":"MATCH($DB$3,Millwall!$AB$75:$AP$75,0)","v":{"$error":"#N/A"}},{"$f":"MATCH($DC$3,Millwall!$AB$75:$AP$75,0)","v":{"$error":"#N/A"}},{"$f":"MATCH($DD$3,Millwall!$AB$75:$AP$75,0)","v":{"$error":"#N/A"}},{"$f":"MATCH($DE$3,Millwall!$AB$75:$AP$75,0)","v":{"$error":"#N/A"}},{"$f":"MATCH($DF$3,Millwall!$AB$75:$AP$75,0)","v":14},{"$f":"MATCH($DG$3,Millwall!$AB$75:$AP$75,0)","v":{"$error":"#N/A"}},{"$f":"MATCH($DH$3,Millwall!$AB$75:$AP$75,0)","v":{"$error":"#N/A"}},{"$f":"MATCH($DI$3,Millwall!$AB$75:$AP$75,0)","v":{"$error":"#N/A"}},{"$f":"MATCH($DJ$3,Millwall!$AB$75:$AP$75,0)","v":{"$error":"#N/A"}},{"$f":"MATCH($DK$3,Millwall!$AB$75:$AP$75,0)","v":{"$error":"#N/A"}},{"$f":"MATCH($DL$3,Millwall!$AB$75:$AP$75,0)","v":{"$error":"#N/A"}},{"$f":"MATCH($DM$3,Millwall!$AB$75:$AP$75,0)","v":{"$error":"#N/A"}},{"$f":"MATCH($DN$3,Millwall!$AB$75:$AP$75,0)","v":{"$error":"#N/A"}},{"$f":"MATCH($DO$3,Millwall!$AB$75:$AP$75,0)","v":{"$error":"#N/A"}},null,null,null,null,null,null,null,null,{"$f":"$DY$5&\" [**\"","v":"Allen [**"},{"$f":"Millwall!$BP51","v":"Allen"},{"$f":"DY5&\" (**\"","v":"Allen (**"},{"$f":"$DY$5&\"**\"","v":"Allen**"},null,{"$f":"$DY$5","v":"Allen"},{"$f":"$DZ$5","v":"Allen (**"},{"$f":"$EA$5","v":"Allen**"},null,{"$f":"Millwall!$BX6","v":0},{"$f":"Millwall!$CC6","v":0},{"$f":"Millwall!$CH6","v":0},{"$f":"Millwall!$CM6","v":0}]
[null,null,0,2,null,{"$f":"Millwall!X76","v":"1992-08-22"},null,{"$f":"Millwall!Y76","v":"Oxford"},{"$f":"Millwall!Z76","v":"(H)"},{"$f":"Millwall!AA76","v":"W 3-1"},{"$f":"MATCH($K$4,Millwall!$AB$76:$AP$76,0)","v":9},{"$f":"MATCH($L$4,Millwall!$AB$76:$AP$76,0)","v":10},{"$f":"MATCH($M$4,Millwall!$AB$76:$AP$76,0)","v":11},{"$f":"MATCH($N$4,Millwall!$AB$76:$AP$76,0)","v":{"$error":"#N/A"}},{"$f":"MATCH($O$4,Millwall!$AB$76:$AP$76,0)","v":{"$error":"#N/A"}},{"$f":"MATCH($P$4,Millwall!$AB$76:$AP$76,0)","v":5},{"$f":"MATCH($Q$4,Millwall!$AB$76:$AP$76,0)","v":2},{"$f":"MATCH($R$4,Millwall!$AB$76:$AP$76,0)","v":{"$error":"#N/A"}},{"$f":"MATCH($S$4,Millwall!$AB$76:$AP$76,0)","v":3},{"$f":"MATCH($T$4,Millwall!$AB$76:$AP$76,0)","v":{"$error":"#N/A"}},{"$f":"MATCH($U$4,Millwall!$AB$76:$AP$76,0)","v":{"$error":"#N/A"}},{"$f":"MATCH($V$4,Millwall!$AB$76:$AP$76,0)","v":12},{"$f":"MATCH($W$4,Millwall!$AB$76:$AP$76,0)","v":{"$error":"#N/A"}},{"$f":"MATCH($X$4,Millwall!$AB$76:$AP$76,0)","v":1},{"$f":"MATCH($Y$4,Millwall!$AB$76:$AP$76,0)","v":{"$error":"#N/A"}},{"$f":"MATCH($Z$4,Millwall!$AB$76:$AP$76,0)","v":{"$error":"#N/A"}},{"$f":"MATCH($AA$4,Millwall!$AB$76:$AP$76,0)","v":{"$error":"#N/A"}},{"$f":"MATCH($AB$4,Millwall!$AB$76:$AP$76,0)","v":{"$error":"#N/A"}},{"$f":"MATCH($AC$4,Millwall!$AB$76:$AP$76,0)","v":4},{"$f":"MATCH($AD$4,Millwall!$AB$76:$AP$76,0)","v":{"$error":"#N/A"}},{"$f":"MATCH($AE$4,Millwall!$AB$76:$AP$76,0)","v":{"$error":"#N/A"}},{"$f":"MATCH($AF$4,Millwall!$AB$76:$AP$76,0)","v":8},{"$f":"MATCH($AG$4,Millwall!$AB$76:$AP$76,0)","v":{"$error":"#N/A"}},{"$f":"MATCH($AH$4,Millwall!$AB$76:$AP$76,0)","v":{"$error":"#N/A"}},{"$f":"MATCH($AI$4,Millwall!$AB$76:$AP$76,0)","v":14},{"$f":"MATCH($AJ$4,Millwall!$AB$76:$AP$76,0)","v":7},{"$f":"MATCH($AK$4,Millwall!$AB$76:$AP$76,0)","v":{"$error":"#N/A"}},{"$f":"MATCH($AL$4,Millwall!$AB$76:$AP$76,0)","v":{"$error":"#N/A"}},{"$f":"MATCH($AM$4,Millwall!$AB$76:$AP$76,0)","v":6},{"$f":"MATCH($AN$4,Millwall!$AB$76:$AP$76,0)","v":{"$error":"#N/A"}},{"$f":"MATCH($AO$4,Millwall!$AB$76:$AP$76,0)","v":{"$error":"#N/A"}},{"$f":"MATCH($AP$4,Millwall!$AB$76:$AP$76,0)","v":{"$error":"#N/A"}},{"$f":"MATCH($AQ$4,Millwall!$AB$76:$AP$76,0)","v":{"$error":"#N/A"}},{"$f":"MATCH($AR$4,Millwall!$AE$76:$AP$76,0)","v":{"$error":"#N/A"}},null,null,null,null,null,{"$f":"MATCH(AX$3,Millwall!$AB76:$AP76,0)","v":{"$error":"#N/A"}},{"$f":"MATCH(AY$3,Millwall!$AB76:$AP76,0)","v":{"$error":"#N/A"}},{"$f":"MATCH(AZ$3,Millwall!$AB76:$AP76,0)","v":{"$error":"#N/A"}},{"$f":"MATCH(BA$3,Millwall!$AB76:$AP76,0)","v":{"$error":"#N/A"}},{"$f":"MATCH(BB$3,Millwall!$AB76:$AP76,0)","v":{"$error":"#N/A"}},{"$f":"MATCH(BC$3,Millwall!$AB76:$AP76,0)","v":{"$error":"#N/A"}},{"$f":"MATCH(BD$3,Millwall!$AB76:$AP76,0)","v":{"$error":"#N/A"}},{"$f":"MATCH(BE$3,Millwall!$AB76:$AP76,0)","v":{"$error":"#N/A"}},{"$f":"MATCH(BF$3,Millwall!$AB76:$AP76,0)","v":{"$error":"#N/A"}},{"$f":"MATCH(BG$3,Millwall!$AB76:$AP76,0)","v":{"$error":"#N/A"}},{"$f":"MATCH(BH$3,Millwall!$AB76:$AP76,0)","v":{"$error":"#N/A"}},{"$f":"MATCH(BI$3,Millwall!$AB76:$AP76,0)","v":12},{"$f":"MATCH(BJ$3,Millwall!$AB76:$AP76,0)","v":{"$error":"#N/A"}},{"$f":"MATCH(BK$3,Millwall!$AB76:$AP76,0)","v":{"$error":"#N/A"}},{"$f":"MATCH(BL$3,Millwall!$AB76:$AP76,0)","v":{"$error":"#N/A"}},{"$f":"MATCH(BM$3,Millwall!$AB76:$AP76,0)","v":{"$error":"#N/A"}},{"$f":"MATCH(BN$3,Millwall!$AB76:$AP76,0)","v":{"$error":"#N/A"}},{"$f":"MATCH(BO$3,Millwall!$AB76:$AP76,0)","v":{"$error":"#N/A"}},{"$f":"MATCH(BP$3,Millwall!$AB76:$AP76,0)","v":{"$error":"#N/A"}},{"$f":"MATCH(BQ$3,Millwall!$AB76:$AP76,0)","v":{"$error":"#N/A"}},{"$f":"MATCH(BR$3,Millwall!$AB76:$AP76,0)","v":{"$error":"#N/A"}},{"$f":"MATCH(BS$3,Millwall!$AB76:$AP76,0)","v":8},{"$f":"MATCH(BT$3,Millwall!$AB76:$AP76,0)","v":{"$error":"#N/A"}},{"$f":"MATCH(BU$3,Millwall!$AB76:$AP76,0)","v":{"$error":"#N/A"}},{"$f":"MATCH(BV$3,Millwall!$AB76:$AP76,0)","v":{"$error":"#N/A"}},{"$f":"MATCH(BW$3,Millwall!$AB76:$AP76,0)","v":{"$error":"#N/A"}},{"$f":"MATCH(BX$3,Millwall!$AB76:$AP76,0)","v":{"$error":"#N/A"}},{"$f":"MATCH(BY$3,Millwall!$AB76:$AP76,0)","v":{"$error":"#N/A"}},{"$f":"MATCH(BZ$3,Millwall!$AB76:$AP76,0)","v":{"$error":"#N/A"}},{"$f":"MATCH(CA$3,Millwall!$AB76:$AP76,0)","v":{"$error":"#N/A"}},{"$f":"MATCH(CB$3,Millwall!$AB76:$AP76,0)","v":{"$error":"#N/A"}},{"$f":"MATCH(CC$3,Millwall!$AB76:$AP76,0)","v":{"$error":"#N/A"}},{"$f":"MATCH(CD$3,Millwall!$AB76:$AP76,0)","v":{"$error":"#N/A"}},{"$f":"MATCH(CE$3,Millwall!$AB76:$AP76,0)","v":{"$error":"#N/A"}},null,null,{"$f":"MATCH($CH$3,Millwall!$AB$76:$AP$76,0)","v":{"$error":"#N/A"}},{"$f":"MATCH($CI$3,Millwall!$AB$76:$AP$76,0)","v":{"$error":"#N/A"}},{"$f":"MATCH($CJ$3,Millwall!$AB$76:$AP$76,0)","v":{"$error":"#N/A"}},{"$f":"MATCH($CK$3,Millwall!$AB$76:$AP$76,0)","v":{"$error":"#N/A"}},{"$f":"MATCH($CL$3,Millwall!$AB$76:$AP$76,0)","v":{"$error":"#N/A"}},{"$f":"MATCH($CM$3,Millwall!$AB$76:$AP$76,0)","v":{"$error":"#N/A"}},{"$f":"MATCH($CN$3,Millwall!$AB$76:$AP$76,0)","v":{"$error":"#N/A"}},{"$f":"MATCH($CO$3,Millwall!$AB$76:$AP$76,0)","v":{"$error":"#N/A"}},{"$f":"MATCH($CP$3,Millwall!$AB$76:$AP$76,0)","v":{"$error":"#N/A"}},{"$f":"MATCH($CQ$3,Millwall!$AB$76:$AP$76,0)","v":{"$error":"#N/A"}},{"$f":"MATCH($CR$3,Millwall!$AB$76:$AP$76,0)","v":{"$error":"#N/A"}},{"$f":"MATCH($CS$3,Millwall!$AB$76:$AP$76,0)","v":{"$error":"#N/A"}},{"$f":"MATCH($CT$3,Millwall!$AB$76:$AP$76,0)","v":{"$error":"#N/A"}},{"$f":"MATCH($CU$3,Millwall!$AB$76:$AP$76,0)","v":{"$error":"#N/A"}},{"$f":"MATCH($CV$3,Millwall!$AB$76:$AP$76,0)","v":{"$error":"#N/A"}},{"$f":"MATCH($CW$3,Millwall!$AB$76:$AP$76,0)","v":{"$error":"#N/A"}},{"$f":"MATCH($CX$3,Millwall!$AB$76:$AP$76,0)","v":{"$error":"#N/A"}},{"$f":"MATCH($CY$3,Millwall!$AB$76:$AP$76,0)","v":{"$error":"#N/A"}},{"$f":"MATCH($CZ$3,Millwall!$AB$76:$AP$76,0)","v":4},{"$f":"MATCH($DA$3,Millwall!$AB$76:$AP$76,0)","v":{"$error":"#N/A"}},{"$f":"MATCH($DB$3,Millwall!$AB$76:$AP$76,0)","v":{"$error":"#N/A"}},{"$f":"MATCH($DC$3,Millwall!$AB$76:$AP$76,0)","v":{"$error":"#N/A"}},{"$f":"MATCH($DD$3,Millwall!$AB$76:$AP$76,0)","v":{"$error":"#N/A"}},{"$f":"MATCH($DE$3,Millwall!$AB$76:$AP$76,0)","v":{"$error":"#N/A"}},{"$f":"MATCH($DF$3,Millwall!$AB$76:$AP$76,0)","v":14},{"$f":"MATCH($DG$3,Millwall!$AB$76:$AP$76,0)","v":{"$error":"#N/A"}},{"$f":"MATCH($DH$3,Millwall!$AB$76:$AP$76,0)","v":{"$error":"#N/A"}},{"$f":"MATCH($DI$3,Millwall!$AB$76:$AP$76,0)","v":{"$error":"#N/A"}},{"$f":"MATCH($DJ$3,Millwall!$AB$76:$AP$76,0)","v":{"$error":"#N/A"}},{"$f":"MATCH($DK$3,Millwall!$AB$76:$AP$76,0)","v":{"$error":"#N/A"}},{"$f":"MATCH($DL$3,Millwall!$AB$76:$AP$76,0)","v":{"$error":"#N/A"}},{"$f":"MATCH($DM$3,Millwall!$AB$76:$AP$76,0)","v":{"$error":"#N/A"}},{"$f":"MATCH($DN$3,Millwall!$AB$76:$AP$76,0)","v":{"$error":"#N/A"}},{"$f":"MATCH($DO$3,Millwall!$AB$76:$AP$76,0)","v":{"$error":"#N/A"}},null,null,null,null,null,null,null,null,{"$f":"$DY$6&\" [**\"","v":"Armstrong [**"},{"$f":"Millwall!$BP52","v":"Armstrong"},{"$f":"DY6&\" (**\"","v":"Armstrong (**"},{"$f":"$DY$6&\"**\"","v":"Armstrong**"},null,{"$f":"$DY$6","v":"Armstrong"},{"$f":"$DZ$6","v":"Armstrong (**"},{"$f":"$EA$6","v":"Armstrong**"},null,{"$f":"Millwall!$BX7","v":"Nps"},{"$f":"Millwall!$CC7","v":"Nps"},{"$f":"Millwall!$CH7","v":"Nps"},{"$f":"Millwall!$CM7","v":"Nps"}]
[null,null,0,3,null,{"$f":"Millwall!X77","v":"1992-08-29"},null,{"$f":"Millwall!Y77","v":"Barnsley"},{"$f":"Millwall!Z77","v":"(A)"},{"$f":"Millwall!AA77","v":"D 0-0"},{"$f":"MATCH($K$4,Millwall!$AB$77:$AP$77,0)","v":{"$error":"#N/A"}},{"$f":"MATCH($L$4,Millwall!$AB$77:$AP$77,0)","v":10},{"$f":"MATCH($M$4,Millwall!$AB$77:$AP$77,0)","v":11},{"$f":"MATCH($N$4,Millwall!$AB$77:$AP$77,0)","v":{"$error":"#N/A"}},{"$f":"MATCH($O$4,Millwall!$AB$77:$AP$77,0)","v":{"$error":"#N/A"}},{"$f":"MATCH($P$4,Millwall!$AB$77:$AP$77,0)","v":5},{"$f":"MATCH($Q$4,Millwall!$AB$77:$AP$77,0)","v":2},{"$f":"MATCH($R$4,Millwall!$AB$77:$AP$77,0)","v":{"$error":"#N/A"}},{"$f":"MATCH($S$4,Millwall!$AB$77:$AP$77,0)","v":3},{"$f":"MATCH($T$4,Millwall!$AB$77:$AP$77,0)","v":{"$error":"#N/A"}},{"$f":"MATCH($U$4,Millwall!$AB$77:$AP$77,0)","v":{"$error":"#N/A"}},{"$f":"MATCH($V$4,Millwall!$AB$77:$AP$77,0)","v":9},{"$f":"MATCH($W$4,Millwall!$AB$77:$AP$77,0)","v":{"$error":"#N/A"}},{"$f":"MATCH($X$4,Millwall!$AB$77:$AP$77,0)","v":1},{"$f":"MATCH($Y$4,Millwall!$AB$77:$AP$77,0)","v":{"$error":"#N/A"}},{"$f":"MATCH($Z$4,Millwall!$AB$77:$AP$77,0)","v":{"$error":"#N/A"}},{"$f":"MATCH($AA$4,Millwall!$AB$77:$AP$77,0)","v":{"$error":"#N/A"}},{"$f":"MATCH($AB$4,Millwall!$AB$77:$AP$77,0)","v":{"$error":"#N/A"}},{"$f":"MATCH($AC$4,Millwall!$AB$77:$AP$77,0)","v":{"$error":"#N/A"}},{"$f":"MATCH($AD$4,Millwall!$AB$77:$AP$77,0)","v":{"$error":"#N/A"}},{"$f":"MATCH($AE$4,Millwall!$AB$77:$AP$77,0)","v":{"$error":"#N/A"}},{"$f":"MATCH($AF$4,Millwall!$AB$77:$AP$77,0)","v":8},{"$f":"MATCH($AG$4,Millwall!$AB$77:$AP$77,0)","v":14},{"$f":"MATCH($AH$4,Millwall!$AB$77:$AP$77,0)","v":{"$error":"#N/A"}},{"$f":"MATCH($AI$4,Millwall!$AB$77:$AP$77,0)","v":4},{"$f":"MATCH($AJ$4,Millwall!$AB$77:$AP$77,0)","v":7},{"$f":"MATCH($AK$4,Millwall!$AB$77:$AP$77,0)","v":{"$error":"#N/A"}},{"$f":"MATCH($AL$4,Millwall!$AB$77:$AP$77,0)","v":12},{"$f":"MATCH($AM$4,Millwall!$AB$77:$AP$77,0)","v":6},{"$f":"MATCH($AN$4,Millwall!$AB$77:$AP$77,0)","v":{"$error":"#N/A"}},{"$f":"MATCH($AO$4,Millwall!$AB$77:$AP$77,0)","v":{"$error":"#N/A"}},{"$f":"MATCH($AP$4,Millwall!$AB$77:$AP$77,0)","v":{"$error":"#N/A"}},{"$f":"MATCH($AQ$4,Millwall!$AB$77:$AP$77,0)","v":{"$error":"#N/A"}},{"$f":"MATCH($AR$4,Millwall!$AE$77:$AP$77,0)","v":{"$error":"#N/A"}},null,null,null,null,null,{"$f":"MATCH(AX$3,Millwall!$AB77:$AP77,0)","v":{"$error":"#N/A"}},{"$f":"MATCH(AY$3,Millwall!$AB77:$AP77,0)","v":{"$error":"#N/A"}},{"$f":"MATCH(AZ$3,Millwall!$AB77:$AP77,0)","v":{"$error":"#N/A"}},{"$f":"MATCH(BA$3,Millwall!$AB77:$AP77,0)","v":{"$error":"#N/A"}},{"$f":"MATCH(BB$3,Millwall!$AB77:$AP77,0)","v":{"$error":"#N/A"}},{"$f":"MATCH(BC$3,Millwall!$AB77:$AP77,0)","v":{"$error":"#N/A"}},{"$f":"MATCH(BD$3,Millwall!$AB77:$AP77,0)","v":{"$error":"#N/A"}},{"$f":"MATCH(BE$3,Millwall!$AB77:$AP77,0)","v":{"$error":"#N/A"}},{"$f":"MATCH(BF$3,Millwall!$AB77:$AP77,0)","v":{"$error":"#N/A"}},{"$f":"MATCH(BG$3,Millwall!$AB77:$AP77,0)","v":{"$error":"#N/A"}},{"$f":"MATCH(BH$3,Millwall!$AB77:$AP77,0)","v":{"$error":"#N/A"}},{"$f":"MATCH(BI$3,Millwall!$AB77:$AP77,0)","v":{"$error":"#N/A"}},{"$f":"MATCH(BJ$3,Millwall!$AB77:$AP77,0)","v":{"$error":"#N/A"}},{"$f":"MATCH(BK$3,Millwall!$AB77:$AP77,0)","v":{"$error":"#N/A"}},{"$f":"MATCH(BL$3,Millwall!$AB77:$AP77,0)","v":{"$error":"#N/A"}},{"$f":"MATCH(BM$3,Millwall!$AB77:$AP77,0)","v":{"$error":"#N/A"}},{"$f":"MATCH(BN$3,Millwall!$AB77:$AP77,0)","v":{"$error":"#N/A"}},{"$f":"MATCH(BO$3,Millwall!$AB77:$AP77,0)","v":{"$error":"#N/A"}},{"$f":"MATCH(BP$3,Millwall!$AB77:$AP77,0)","v":{"$error":"#N/A"}},{"$f":"MATCH(BQ$3,Millwall!$AB77:$AP77,0)","v":{"$error":"#N/A"}},{"$f":"MATCH(BR$3,Millwall!$AB77:$AP77,0)","v":{"$error":"#N/A"}},{"$f":"MATCH(BS$3,Millwall!$AB77:$AP77,0)","v":8},{"$f":"MATCH(BT$3,Millwall!$AB77:$AP77,0)","v":{"$error":"#N/A"}},{"$f":"MATCH(BU$3,Millwall!$AB77:$AP77,0)","v":{"$error":"#N/A"}},{"$f":"MATCH(BV$3,Millwall!$AB77:$AP77,0)","v":{"$error":"#N/A"}},{"$f":"MATCH(BW$3,Millwall!$AB77:$AP77,0)","v":{"$error":"#N/A"}},{"$f":"MATCH(BX$3,Millwall!$AB77:$AP77,0)","v":{"$error":"#N/A"}},{"$f":"MATCH(BY$3,Millwall!$AB77:$AP77,0)","v":12},{"$f":"MATCH(BZ$3,Millwall!$AB77:$AP77,0)","v":{"$error":"#N/A"}},{"$f":"MATCH(CA$3,Millwall!$AB77:$AP77,0)","v":{"$error":"#N/A"}},{"$f":"MATCH(CB$3,Millwall!$AB77:$AP77,0)","v":{"$error":"#N/A"}},{"$f":"MATCH(CC$3,Millwall!$AB77:$AP77,0)","v":{"$error":"#N/A"}},{"$f":"MATCH(CD$3,Millwall!$AB77:$AP77,0)","v":{"$error":"#N/A"}},{"$f":"MATCH(CE$3,Millwall!$AB77:$AP77,0)","v":{"$error":"#N/A"}},null,null,{"$f":"MATCH($CH$3,Millwall!$AB$77:$AP$77,0)","v":{"$error":"#N/A"}},{"$f":"MATCH($CI$3,Millwall!$AB$77:$AP$77,0)","v":{"$error":"#N/A"}},{"$f":"MATCH($CJ$3,Millwall!$AB$77:$AP$77,0)","v":{"$error":"#N/A"}},{"$f":"MATCH($CK$3,Millwall!$AB$77:$AP$77,0)","v":{"$error":"#N/A"}},{"$f":"MATCH($CL$3,Millwall!$AB$77:$AP$77,0)","v":{"$error":"#N/A"}},{"$f":"MATCH($CM$3,Millwall!$AB$77:$AP$77,0)","v":{"$error":"#N/A"}},{"$f":"MATCH($CN$3,Millwall!$AB$77:$AP$77,0)","v":{"$error":"#N/A"}},{"$f":"MATCH($CO$3,Millwall!$AB$77:$AP$77,0)","v":{"$error":"#N/A"}},{"$f":"MATCH($CP$3,Millwall!$AB$77:$AP$77,0)","v":{"$error":"#N/A"}},{"$f":"MATCH($CQ$3,Millwall!$AB$77:$AP$77,0)","v":{"$error":"#N/A"}},{"$f":"MATCH($CR$3,Millwall!$AB$77:$AP$77,0)","v":{"$error":"#N/A"}},{"$f":"MATCH($CS$3,Millwall!$AB$77:$AP$77,0)","v":{"$error":"#N/A"}},{"$f":"MATCH($CT$3,Millwall!$AB$77:$AP$77,0)","v":{"$error":"#N/A"}},{"$f":"MATCH($CU$3,Millwall!$AB$77:$AP$77,0)","v":{"$error":"#N/A"}},{"$f":"MATCH($CV$3,Millwall!$AB$77:$AP$77,0)","v":{"$error":"#N/A"}},{"$f":"MATCH($CW$3,Millwall!$AB$77:$AP$77,0)","v":{"$error":"#N/A"}},{"$f":"MATCH($CX$3,Millwall!$AB$77:$AP$77,0)","v":{"$error":"#N/A"}},{"$f":"MATCH($CY$3,Millwall!$AB$77:$AP$77,0)","v":{"$error":"#N/A"}},{"$f":"MATCH($CZ$3,Millwall!$AB$77:$AP$77,0)","v":{"$error":"#N/A"}},{"$f":"MATCH($DA$3,Millwall!$AB$77:$AP$77,0)","v":{"$error":"#N/A"}},{"$f":"MATCH($DB$3,Millwall!$AB$77:$AP$77,0)","v":{"$error":"#N/A"}},{"$f":"MATCH($DC$3,Millwall!$AB$77:$AP$77,0)","v":{"$error":"#N/A"}},{"$f":"MATCH($DD$3,Millwall!$AB$77:$AP$77,0)","v":{"$error":"#N/A"}},{"$f":"MATCH($DE$3,Millwall!$AB$77:$AP$77,0)","v":{"$error":"#N/A"}},{"$f":"MATCH($DF$3,Millwall!$AB$77:$AP$77,0)","v":{"$error":"#N/A"}},{"$f":"MATCH($DG$3,Millwall!$AB$77:$AP$77,0)","v":{"$error":"#N/A"}},{"$f":"MATCH($DH$3,Millwall!$AB$77:$AP$77,0)","v":{"$error":"#N/A"}},{"$f":"MATCH($DI$3,Millwall!$AB$77:$AP$77,0)","v":{"$error":"#N/A"}},{"$f":"MATCH($DJ$3,Millwall!$AB$77:$AP$77,0)","v":{"$error":"#N/A"}},{"$f":"MATCH($DK$3,Millwall!$AB$77:$AP$77,0)","v":{"$error":"#N/A"}},{"$f":"MATCH($DL$3,Millwall!$AB$77:$AP$77,0)","v":{"$error":"#N/A"}},{"$f":"MATCH($DM$3,Millwall!$AB$77:$AP$77,0)","v":{"$error":"#N/A"}},{"$f":"MATCH($DN$3,Millwall!$AB$77:$AP$77,0)","v":{"$error":"#N/A"}},{"$f":"MATCH($DO$3,Millwall!$AB$77:$AP$77,0)","v":{"$error":"#N/A"}},null,null,null,null,null,null,null,null,{"$f":"$DY$7&\" [**\"","v":"Barber [**"},{"$f":"Millwall!$BP53","v":"Barber"},"Barber (**",{"$f":"$DY$7&\"**\"","v":"Barber**"},null,{"$f":"$DY$7","v":"Barber"},{"$f":"$DZ$7","v":"Barber (**"},{"$f":"$EA$7","v":"Barber**"},null,{"$f":"Millwall!$BX8","v":1},{"$f":"Millwall!$CC8","v":0},{"$f":"Millwall!$CH8","v":0},{"$f":"Millwall!$CM8","v":0}]
[null,null,0,4,null,{"$f":"Millwall!X78","v":"1992-09-05"},null,{"$f":"Millwall!Y78","v":"Swindon"},{"$f":"Millwall!Z78","v":"(H)"},{"$f":"Millwall!AA78","v":"W 2-1"},{"$f":"MATCH($K$4,Millwall!$AB$78:$AP$78,0)","v":{"$error":"#N/A"}},{"$f":"MATCH($L$4,Millwall!$AB$78:$AP$78,0)","v":{"$error":"#N/A"}},{"$f":"MATCH($M$4,Millwall!$AB$78:$AP$78,0)","v":11},{"$f":"MATCH($N$4,Millwall!$AB$78:$AP$78,0)","v":4},{"$f":"MATCH($O$4,Millwall!$AB$78:$AP$78,0)","v":{"$error":"#N/A"}},{"$f":"MATCH($P$4,Millwall!$AB$78:$AP$78,0)","v":5},{"$f":"MATCH($Q$4,Millwall!$AB$78:$AP$78,0)","v":2},{"$f":"MATCH($R$4,Millwall!$AB$78:$AP$78,0)","v":{"$error":"#N/A"}},{"$f":"MATCH($S$4,Millwall!$AB$78:$AP$78,0)","v":3},{"$f":"MATCH($T$4,Millwall!$AB$78:$AP$78,0)","v":14},{"$f":"MATCH($U$4,Millwall!$AB$78:$AP$78,0)","v":{"$error":"#N/A"}},{"$f":"MATCH($V$4,Millwall!$AB$78:$AP$78,0)","v":9},{"$f":"MATCH($W$4,Millwall!$AB$78:$AP$78,0)","v":10},{"$f":"MATCH($X$4,Millwall!$AB$78:$AP$78,0)","v":1},{"$f":"MATCH($Y$4,Millwall!$AB$78:$AP$78,0)","v":{"$error":"#N/A"}},{"$f":"MATCH($Z$4,Millwall!$AB$78:$AP$78,0)","v":{"$error":"#N/A"}},{"$f":"MATCH($AA$4,Millwall!$AB$78:$AP$78,0)","v":{"$error":"#N/A"}},{"$f":"MATCH($AB$4,Millwall!$AB$78:$AP$78,0)","v":{"$error":"#N/A"}},{"$f":"MATCH($AC$4,Millwall!$AB$78:$AP$78,0)","v":{"$error":"#N/A"}},{"$f":"MATCH($AD$4,Millwall!$AB$78:$AP$78,0)","v":{"$error":"#N/A"}},{"$f":"MATCH($AE$4,Millwall!$AB$78:$AP$78,0)","v":{"$error":"#N/A"}},{"$f":"MATCH($AF$4,Millwall!$AB$78:$AP$78,0)","v":8},{"$f":"MATCH($AG$4,Millwall!$AB$78:$AP$78,0)","v":{"$error":"#N/A"}},{"$f":"MATCH($AH$4,Millwall!$AB$78:$AP$78,0)","v":{"$error":"#N/A"}},{"$f":"MATCH($AI$4,Millwall!$AB$78:$AP$78,0)","v":{"$error":"#N/A"}},{"$f":"MATCH($AJ$4,Millwall!$AB$78:$AP$78,0)","v":7},{"$f":"MATCH($AK$4,Millwall!$AB$78:$AP$78,0)","v":{"$error":"#N/A"}},{"$f":"MATCH($AL$4,Millwall!$AB$78:$AP$78,0)","v":12},{"$f":"MATCH($AM$4,Millwall!$AB$78:$AP$78,0)","v":6},{"$f":"MATCH($AN$4,Millwall!$AB$78:$AP$78,0)","v":{"$error":"#N/A"}},{"$f":"MATCH($AO$4,Millwall!$AB$78:$AP$78,0)","v":{"$error":"#N/A"}},{"$f":"MATCH($AP$4,Millwall!$AB$78:$AP$78,0)","v":{"$error":"#N/A"}},{"$f":"MATCH($AQ$4,Millwall!$AB$78:$AP$78,0)","v":{"$error":"#N/A"}},{"$f":"MATCH($AR$4,Millwall!$AE$78:$AP$78,0)","v":{"$error":"#N/A"}},null,null,null,null,null,{"$f":"MATCH(AX$3,Millwall!$AB78:$AP78,0)","v":{"$error":"#N/A"}},{"$f":"MATCH(AY$3,Millwall!$AB78:$AP78,0)","v":{"$error":"#N/A"}},{"$f":"MATCH(AZ$3,Millwall!$AB78:$AP78,0)","v":{"$error":"#N/A"}},{"$f":"MATCH(BA$3,Millwall!$AB78:$AP78,0)","v":{"$error":"#N/A"}},{"$f":"MATCH(BB$3,Millwall!$AB78:$AP78,0)","v":{"$error":"#N/A"}},{"$f":"MATCH(BC$3,Millwall!$AB78:$AP78,0)","v":{"$error":"#N/A"}},{"$f":"MATCH(BD$3,Millwall!$AB78:$AP78,0)","v":{"$error":"#N/A"}},{"$f":"MATCH(BE$3,Millwall!$AB78:$AP78,0)","v":{"$error":"#N/A"}},{"$f":"MATCH(BF$3,Millwall!$AB78:$AP78,0)","v":{"$error":"#N/A"}},{"$f":"MATCH(BG$3,Millwall!$AB78:$AP78,0)","v":{"$error":"#N/A"}},{"$f":"MATCH(BH$3,Millwall!$AB78:$AP78,0)","v":{"$error":"#N/A"}},{"$f":"MATCH(BI$3,Millwall!$AB78:$AP78,0)","v":{"$error":"#N/A"}},{"$f":"MATCH(BJ$3,Millwall!$AB78:$AP78,0)","v":{"$error":"#N/A"}},{"$f":"MATCH(BK$3,Millwall!$AB78:$AP78,0)","v":{"$error":"#N/A"}},{"$f":"MATCH(BL$3,Millwall!$AB78:$AP78,0)","v":{"$error":"#N/A"}},{"$f":"MATCH(BM$3,Millwall!$AB78:$AP78,0)","v":{"$error":"#N/A"}},{"$f":"MATCH(BN$3,Millwall!$AB78:$AP78,0)","v":{"$error":"#N/A"}},{"$f":"MATCH(BO$3,Millwall!$AB78:$AP78,0)","v":{"$error":"#N/A"}},{"$f":"MATCH(BP$3,Millwall!$AB78:$AP78,0)","v":{"$error":"#N/A"}},{"$f":"MATCH(BQ$3,Millwall!$AB78:$AP78,0)","v":{"$error":"#N/A"}},{"$f":"MATCH(BR$3,Millwall!$AB78:$AP78,0)","v":{"$error":"#N/A"}},{"$f":"MATCH(BS$3,Millwall!$AB78:$AP78,0)","v":{"$error":"#N/A"}},{"$f":"MATCH(BT$3,Millwall!$AB78:$AP78,0)","v":{"$error":"#N/A"}},{"$f":"MATCH(BU$3,Millwall!$AB78:$AP78,0)","v":{"$error":"#N/A"}},{"$f":"MATCH(BV$3,Millwall!$AB78:$AP78,0)","v":{"$error":"#N/A"}},{"$f":"MATCH(BW$3,Millwall!$AB78:$AP78,0)","v":7},{"$f":"MATCH(BX$3,Millwall!$AB78:$AP78,0)","v":{"$error":"#N/A"}},{"$f":"MATCH(BY$3,Millwall!$AB78:$AP78,0)","v":12},{"$f":"MATCH(BZ$3,Millwall!$AB78:$AP78,0)","v":{"$error":"#N/A"}},{"$f":"MATCH(CA$3,Millwall!$AB78:$AP78,0)","v":{"$error":"#N/A"}},{"$f":"MATCH(CB$3,Millwall!$AB78:$AP78,0)","v":{"$error":"#N/A"}},{"$f":"MATCH(CC$3,Millwall!$AB78:$AP78,0)","v":{"$error":"#N/A"}},{"$f":"MATCH(CD$3,Millwall!$AB78:$AP78,0)","v":{"$error":"#N/A"}},{"$f":"MATCH(CE$3,Millwall!$AB78:$AP78,0)","v":{"$error":"#N/A"}},null,null,{"$f":"MATCH($CH$3,Millwall!$AB$78:$AP$78,0)","v":{"$error":"#N/A"}},{"$f":"MATCH($CI$3,Millwall!$AB$78:$AP$78,0)","v":{"$error":"#N/A"}},{"$f":"MATCH($CJ$3,Millwall!$AB$78:$AP$78,0)","v":{"$error":"#N/A"}},{"$f":"MATCH($CK$3,Millwall!$AB$78:$AP$78,0)","v":4},{"$f":"MATCH($CL$3,Millwall!$AB$78:$AP$78,0)","v":{"$error":"#N/A"}},{"$f":"MATCH($CM$3,Millwall!$AB$78:$AP$78,0)","v":{"$error":"#N/A"}},{"$f":"MATCH($CN$3,Millwall!$AB$78:$AP$78,0)","v":{"$error":"#N/A"}},{"$f":"MATCH($CO$3,Millwall!$AB$78:$AP$78,0)","v":{"$error":"#N/A"}},{"$f":"MATCH($CP$3,Millwall!$AB$78:$AP$78,0)","v":{"$error":"#N/A"}},{"$f":"MATCH($CQ$3,Millwall!$AB$78:$AP$78,0)","v":14},{"$f":"MATCH($CR$3,Millwall!$AB$78:$AP$78,0)","v":{"$error":"#N/A"}},{"$f":"MATCH($CS$3,Millwall!$AB$78:$AP$78,0)","v":{"$error":"#N/A"}},{"$f":"MATCH($CT$3,Millwall!$AB$78:$AP$78,0)","v":{"$error":"#N/A"}},{"$f":"MATCH($CU$3,Millwall!$AB$78:$AP$78,0)","v":{"$error":"#N/A"}},{"$f":"MATCH($CV$3,Millwall!$AB$78:$AP$78,0)","v":{"$error":"#N/A"}},{"$f":"MATCH($CW$3,Millwall!$AB$78:$AP$78,0)","v":{"$error":"#N/A"}},{"$f":"MATCH($CX$3,Millwall!$AB$78:$AP$78,0)","v":{"$error":"#N/A"}},{"$f":"MATCH($CY$3,Millwall!$AB$78:$AP$78,0)","v":{"$error":"#N/A"}},{"$f":"MATCH($CZ$3,Millwall!$AB$78:$AP$78,0)","v":{"$error":"#N/A"}},{"$f":"MATCH($DA$3,Millwall!$AB$78:$AP$78,0)","v":{"$error":"#N/A"}},{"$f":"MATCH($DB$3,Millwall!$AB$78:$AP$78,0)","v":{"$error":"#N/A"}},{"$f":"MATCH($DC$3,Millwall!$AB$78:$AP$78,0)","v":{"$error":"#N/A"}},{"$f":"MATCH($DD$3,Millwall!$AB$78:$AP$78,0)","v":{"$error":"#N/A"}},{"$f":"MATCH($DE$3,Millwall!$AB$78:$AP$78,0)","v":{"$error":"#N/A"}},{"$f":"MATCH($DF$3,Millwall!$AB$78:$AP$78,0)","v":{"$error":"#N/A"}},{"$f":"MATCH($DG$3,Millwall!$AB$78:$AP$78,0)","v":{"$error":"#N/A"}},{"$f":"MATCH($DH$3,Millwall!$AB$78:$AP$78,0)","v":{"$error":"#N/A"}},{"$f":"MATCH($DI$3,Millwall!$AB$78:$AP$78,0)","v":{"$error":"#N/A"}},{"$f":"MATCH($DJ$3,Millwall!$AB$78:$AP$78,0)","v":{"$error":"#N/A"}},{"$f":"MATCH($DK$3,Millwall!$AB$78:$AP$78,0)","v":{"$error":"#N/A"}},{"$f":"MATCH($DL$3,Millwall!$AB$78:$AP$78,0)","v":{"$error":"#N/A"}},{"$f":"MATCH($DM$3,Millwall!$AB$78:$AP$78,0)","v":{"$error":"#N/A"}},{"$f":"MATCH($DN$3,Millwall!$AB$78:$AP$78,0)","v":{"$error":"#N/A"}},{"$f":"MATCH($DO$3,Millwall!$AB$78:$AP$78,0)","v":{"$error":"#N/A"}},null,null,null,null,null,null,null,null,{"$f":"$DY$8&\" [**\"","v":"Bogie [**"},{"$f":"Millwall!$BP54","v":"Bogie"},"Bogie (**",{"$f":"$DY$8&\"**\"","v":"Bogie**"},null,{"$f":"$DY$8","v":"Bogie"},{"$f":"$DZ$8","v":"Bogie (**"},{"$f":"$EA$8","v":"Bogie**"},null,{"$f":"Millwall!$BX9","v":0},{"$f":"Millwall!$CC9","v":0},{"$f":"Millwall!$CH9","v":0},{"$f":"Millwall!$CM9","v":0}]
[null,null,0,5,null,{"$f":"Millwall!X79","v":"1992-09-12"},null,{"$f":"Millwall!Y79","v":"Birmingham"},{"$f":"Millwall!Z79","v":"(H)"},{"$f":"Millwall!AA79","v":"D 0-0"},{"$f":"MATCH($K$4,Millwall!$AB$79:$AP$79,0)","v":9},{"$f":"MATCH($L$4,Millwall!$AB$79:$AP$79,0)","v":{"$error":"#N/A"}},{"$f":"MATCH($M$4,Millwall!$AB$79:$AP$79,0)","v":11},{"$f":"MATCH($N$4,Millwall!$AB$79:$AP$79,0)","v":{"$error":"#N/A"}},{"$f":"MATCH($O$4,Millwall!$AB$79:$AP$79,0)","v":{"$error":"#N/A"}},{"$f":"MATCH($P$4,Millwall!$AB$79:$AP$79,0)","v":5},{"$f":"MATCH($Q$4,Millwall!$AB$79:$AP$79,0)","v":2},{"$f":"MATCH($R$4,Millwall!$AB$79:$AP$79,0)","v":{"$error":"#N/A"}},{"$f":"MATCH($S$4,Millwall!$AB$79:$AP$79,0)","v":3},{"$f":"MATCH($T$4,Millwall!$AB$79:$AP$79,0)","v":12},{"$f":"MATCH($U$4,Millwall!$AB$79:$AP$79,0)","v":{"$error":"#N/A"}},{"$f":"MATCH($V$4,Millwall!$AB$79:$AP$79,0)","v":10},{"$f":"MATCH($W$4,Millwall!$AB$79:$AP$79,0)","v":14},{"$f":"MATCH($X$4,Millwall!$AB$79:$AP$79,0)","v":1},{"$f":"MATCH($Y$4,Millwall!$AB$79:$AP$79,0)","v":{"$error":"#N/A"}},{"$f":"MATCH($Z$4,Millwall!$AB$79:$AP$79,0)","v":{"$error":"#N/A"}},{"$f":"MATCH($AA$4,Millwall!$AB$79:$AP$79,0)","v":{"$error":"#N/A"}},{"$f":"MATCH($AB$4,Millwall!$AB$79:$AP$79,0)","v":{"$error":"#N/A"}},{"$f":"MATCH($AC$4,Millwall!$AB$79:$AP$79,0)","v":4},{"$f":"MATCH($AD$4,Millwall!$AB$79:$AP$79,0)","v":{"$error":"#N/A"}},{"$f":"MATCH($AE$4,Millwall!$AB$79:$AP$79,0)","v":{"$error":"#N/A"}},{"$f":"MATCH($AF$4,Millwall!$AB$79:$AP$79,0)","v":8},{"$f":"MATCH($AG$4,Millwall!$AB$79:$AP$79,0)","v":{"$error":"#N/A"}},{"$f":"MATCH($AH$4,Millwall!$AB$79:$AP$79,0)","v":{"$error":"#N/A"}},{"$f":"MATCH($AI$4,Millwall!$AB$79:$AP$79,0)","v":{"$error":"#N/A"}},{"$f":"MATCH($AJ$4,Millwall!$AB$79:$AP$79,0)","v":7},{"$f":"MATCH($AK$4,Millwall!$AB$79:$AP$79,0)","v":{"$error":"#N/A"}},{"$f":"MATCH($AL$4,Millwall!$AB$79:$AP$79,0)","v":{"$error":"#N/A"}},{"$f":"MATCH($AM$4,Millwall!$AB$79:$AP$79,0)","v":6},{"$f":"MATCH($AN$4,Millwall!$AB$79:$AP$79,0)","v":{"$error":"#N/A"}},{"$f":"MATCH($AO$4,Millwall!$AB$79:$AP$79,0)","v":{"$error":"#N/A"}},{"$f":"MATCH($AP$4,Millwall!$AB$79:$AP$79,0)","v":{"$error":"#N/A"}},{"$f":"MATCH($AQ$4,Millwall!$AB$79:$AP$79,0)","v":{"$error":"#N/A"}},{"$f":"MATCH($AR$4,Millwall!$AE$79:$AP$79,0)","v":{"$error":"#N/A"}},null,null,null,null,null,{"$f":"MATCH(AX$3,Millwall!$AB79:$AP79,0)","v":9},{"$f":"MATCH(AY$3,Millwall!$AB79:$AP79,0)","v":{"$error":"#N/A"}},{"$f":"MATCH(AZ$3,Millwall!$AB79:$AP79,0)","v":{"$error":"#N/A"}},{"$f":"MATCH(BA$3,Millwall!$AB79:$AP79,0)","v":{"$error":"#N/A"}},{"$f":"MATCH(BB$3,Millwall!$AB79:$AP79,0)","v":{"$error":"#N/A"}},{"$f":"MATCH(BC$3,Millwall!$AB79:$AP79,0)","v":{"$error":"#N/A"}},{"$f":"MATCH(BD$3,Millwall!$AB79:$AP79,0)","v":{"$error":"#N/A"}},{"$f":"MATCH(BE$3,Millwall!$AB79:$AP79,0)","v":{"$error":"#N/A"}},{"$f":"MATCH(BF$3,Millwall!$AB79:$AP79,0)","v":{"$error":"#N/A"}},{"$f":"MATCH(BG$3,Millwall!$AB79:$AP79,0)","v":12},{"$f":"MATCH(BH$3,Millwall!$AB79:$AP79,0)","v":{"$error":"#N/A"}},{"$f":"MATCH(BI$3,Millwall!$AB79:$AP79,0)","v":{"$error":"#N/A"}},{"$f":"MATCH(BJ$3,Millwall!$AB79:$AP79,0)","v":{"$error":"#N/A"}},{"$f":"MATCH(BK$3,Millwall!$AB79:$AP79,0)","v":{"$error":"#N/A"}},{"$f":"MATCH(BL$3,Millwall!$AB79:$AP79,0)","v":{"$error":"#N/A"}},{"$f":"MATCH(BM$3,Millwall!$AB79:$AP79,0)","v":{"$error":"#N/A"}},{"$f":"MATCH(BN$3,Millwall!$AB79:$AP79,0)","v":{"$error":"#N/A"}},{"$f":"MATCH(BO$3,Millwall!$AB79:$AP79,0)","v":{"$error":"#N/A"}},{"$f":"MATCH(BP$3,Millwall!$AB79:$AP79,0)","v":{"$error":"#N/A"}},{"$f":"MATCH(BQ$3,Millwall!$AB79:$AP79,0)","v":{"$error":"#N/A"}},{"$f":"MATCH(BR$3,Millwall!$AB79:$AP79,0)","v":{"$error":"#N/A"}},{"$f":"MATCH(BS$3,Millwall!$AB79:$AP79,0)","v":{"$error":"#N/A"}},{"$f":"MATCH(BT$3,Millwall!$AB79:$AP79,0)","v":{"$error":"#N/A"}},{"$f":"MATCH(BU$3,Millwall!$AB79:$AP79,0)","v":{"$error":"#N/A"}},{"$f":"MATCH(BV$3,Millwall!$AB79:$AP79,0)","v":{"$error":"#N/A"}},{"$f":"MATCH(BW$3,Millwall!$AB79:$AP79,0)","v":{"$error":"#N/A"}},{"$f":"MATCH(BX$3,Millwall!$AB79:$AP79,0)","v":{"$error":"#N/A"}},{"$f":"MATCH(BY$3,Millwall!$AB79:$AP79,0)","v":{"$error":"#N/A"}},{"$f":"MATCH(BZ$3,Millwall!$AB79:$AP79,0)","v":{"$error":"#N/A"}},{"$f":"MATCH(CA$3,Millwall!$AB79:$AP79,0)","v":{"$error":"#N/A"}},{"$f":"MATCH(CB$3,Millwall!$AB79:$AP79,0)","v":{"$error":"#N/A"}},{"$f":"MATCH(CC$3,Millwall!$AB79:$AP79,0)","v":{"$error":"#N/A"}},{"$f":"MATCH(CD$3,Millwall!$AB79:$AP79,0)","v":{"$error":"#N/A"}},{"$f":"MATCH(CE$3,Millwall!$AB79:$AP79,0)","v":{"$error":"#N/A"}},null,null,{"$f":"MATCH($CH$3,Millwall!$AB$79:$AP$79,0)","v":{"$error":"#N/A"}},{"$f":"MATCH($CI$3,Millwall!$AB$79:$AP$79,0)","v":{"$error":"#N/A"}},{"$f":"MATCH($CJ$3,Millwall!$AB$79:$AP$79,0)","v":{"$error":"#N/A"}},{"$f":"MATCH($CK$3,Millwall!$AB$79:$AP$79,0)","v":{"$error":"#N/A"}},{"$f":"MATCH($CL$3,Millwall!$AB$79:$AP$79,0)","v":{"$error":"#N/A"}},{"$f":"MATCH($CM$3,Millwall!$AB$79:$AP$79,0)","v":{"$error":"#N/A"}},{"$f":"MATCH($CN$3,Millwall!$AB$79:$AP$79,0)","v":{"$error":"#N/A"}},{"$f":"MATCH($CO$3,Millwall!$AB$79:$AP$79,0)","v":{"$error":"#N/A"}},{"$f":"MATCH($CP$3,Millwall!$AB$79:$AP$79,0)","v":{"$error":"#N/A"}},{"$f":"MATCH($CQ$3,Millwall!$AB$79:$AP$79,0)","v":{"$error":"#N/A"}},{"$f":"MATCH($CR$3,Millwall!$AB$79:$AP$79,0)","v":{"$error":"#N/A"}},{"$f":"MATCH($CS$3,Millwall!$AB$79:$AP$79,0)","v":{"$error":"#N/A"}},{"$f":"MATCH($CT$3,Millwall!$AB$79:$AP$79,0)","v":{"$error":"#N/A"}},{"$f":"MATCH($CU$3,Millwall!$AB$79:$AP$79,0)","v":{"$error":"#N/A"}},{"$f":"MATCH($CV$3,Millwall!$AB$79:$AP$79,0)","v":{"$error":"#N/A"}},{"$f":"MATCH($CW$3,Millwall!$AB$79:$AP$79,0)","v":{"$error":"#N/A"}},{"$f":"MATCH($CX$3,Millwall!$AB$79:$AP$79,0)","v":{"$error":"#N/A"}},{"$f":"MATCH($CY$3,Millwall!$AB$79:$AP$79,0)","v":{"$error":"#N/A"}},{"$f":"MATCH($CZ$3,Millwall!$AB$79:$AP$79,0)","v":{"$error":"#N/A"}},{"$f":"MATCH($DA$3,Millwall!$AB$79:$AP$79,0)","v":{"$error":"#N/A"}},{"$f":"MATCH($DB$3,Millwall!$AB$79:$AP$79,0)","v":{"$error":"#N/A"}},{"$f":"MATCH($DC$3,Millwall!$AB$79:$AP$79,0)","v":{"$error":"#N/A"}},{"$f":"MATCH($DD$3,Millwall!$AB$79:$AP$79,0)","v":{"$error":"#N/A"}},{"$f":"MATCH($DE$3,Millwall!$AB$79:$AP$79,0)","v":{"$error":"#N/A"}},{"$f":"MATCH($DF$3,Millwall!$AB$79:$AP$79,0)","v":{"$error":"#N/A"}},{"$f":"MATCH($DG$3,Millwall!$AB$79:$AP$79,0)","v":{"$error":"#N/A"}},{"$f":"MATCH($DH$3,Millwall!$AB$79:$AP$79,0)","v":{"$error":"#N/A"}},{"$f":"MATCH($DI$3,Millwall!$AB$79:$AP$79,0)","v":{"$error":"#N/A"}},{"$f":"MATCH($DJ$3,Millwall!$AB$79:$AP$79,0)","v":{"$error":"#N/A"}},{"$f":"MATCH($DK$3,Millwall!$AB$79:$AP$79,0)","v":{"$error":"#N/A"}},{"$f":"MATCH($DL$3,Millwall!$AB$79:$AP$79,0)","v":{"$error":"#N/A"}},{"$f":"MATCH($DM$3,Millwall!$AB$79:$AP$79,0)","v":{"$error":"#N/A"}},{"$f":"MATCH($DN$3,Millwall!$AB$79:$AP$79,0)","v":{"$error":"#N/A"}},{"$f":"MATCH($DO$3,Millwall!$AB$79:$AP$79,0)","v":{"$error":"#N/A"}},null,null,null,null,null,null,null,null,{"$f":"$DY$9&\" [**\"","v":"Byrne [**"},{"$f":"Millwall!$BP55","v":"Byrne"},"Byrne (**",{"$f":"$DY$9&\"**\"","v":"Byrne**"},null,{"$f":"$DY$9","v":"Byrne"},{"$f":"$DZ$9","v":"Byrne (**"},{"$f":"$EA$9","v":"Byrne**"},null,{"$f":"Millwall!$BX10","v":0},{"$f":"Millwall!$CC10","v":0},{"$f":"Millwall!$CH10","v":0},{"$f":"Millwall!$CM10","v":1}]
[null,null,0,6,null,{"$f":"Millwall!X80","v":"1992-09-15"},null,{"$f":"Millwall!Y80","v":"Peterborough"},{"$f":"Millwall!Z80","v":"(A)"},{"$f":"Millwall!AA80","v":"D 0-0"},{"$f":"MATCH($K$4,Millwall!$AB$80:$AP$80,0)","v":9},{"$f":"MATCH($L$4,Millwall!$AB$80:$AP$80,0)","v":{"$error":"#N/A"}},{"$f":"MATCH($M$4,Millwall!$AB$80:$AP$80,0)","v":11},{"$f":"MATCH($N$4,Millwall!$AB$80:$AP$80,0)","v":{"$error":"#N/A"}},{"$f":"MATCH($O$4,Millwall!$AB$80:$AP$80,0)","v":{"$error":"#N/A"}},{"$f":"MATCH($P$4,Millwall!$AB$80:$AP$80,0)","v":5},{"$f":"MATCH($Q$4,Millwall!$AB$80:$AP$80,0)","v":2},{"$f":"MATCH($R$4,Millwall!$AB$80:$AP$80,0)","v":{"$error":"#N/A"}},{"$f":"MATCH($S$4,Millwall!$AB$80:$AP$80,0)","v":3},{"$f":"MATCH($T$4,Millwall!$AB$80:$AP$80,0)","v":12},{"$f":"MATCH($U$4,Millwall!$AB$80:$AP$80,0)","v":{"$error":"#N/A"}},{"$f":"MATCH($V$4,Millwall!$AB$80:$AP$80,0)","v":10},{"$f":"MATCH($W$4,Millwall!$AB$80:$AP$80,0)","v":14},{"$f":"MATCH($X$4,Millwall!$AB$80:$AP$80,0)","v":1},{"$f":"MATCH($Y$4,Millwall!$AB$80:$AP$80,0)","v":{"$error":"#N/A"}},{"$f":"MATCH($Z$4,Millwall!$AB$80:$AP$80,0)","v":{"$error":"#N/A"}},{"$f":"MATCH($AA$4,Millwall!$AB$80:$AP$80,0)","v":{"$error":"#N/A"}},{"$f":"MATCH($AB$4,Millwall!$AB$80:$AP$80,0)","v":{"$error":"#N/A"}},{"$f":"MATCH($AC$4,Millwall!$AB$80:$AP$80,0)","v":4},{"$f":"MATCH($AD$4,Millwall!$AB$80:$AP$80,0)","v":{"$error":"#N/A"}},{"$f":"MATCH($AE$4,Millwall!$AB$80:$AP$80,0)","v":{"$error":"#N/A"}},{"$f":"MATCH($AF$4,Millwall!$AB$80:$AP$80,0)","v":8},{"$f":"MATCH($AG$4,Millwall!$AB$80:$AP$80,0)","v":{"$error":"#N/A"}},{"$f":"MATCH($AH$4,Millwall!$AB$80:$AP$80,0)","v":{"$error":"#N/A"}},{"$f":"MATCH($AI$4,Millwall!$AB$80:$AP$80,0)","v":{"$error":"#N/A"}},{"$f":"MATCH($AJ$4,Millwall!$AB$80:$AP$80,0)","v":7},{"$f":"MATCH($AK$4,Millwall!$AB$80:$AP$80,0)","v":{"$error":"#N/A"}},{"$f":"MATCH($AL$4,Millwall!$AB$80:$AP$80,0)","v":{"$error":"#N/A"}},{"$f":"MATCH($AM$4,Millwall!$AB$80:$AP$80,0)","v":6},{"$f":"MATCH($AN$4,Millwall!$AB$80:$AP$80,0)","v":{"$error":"#N/A"}},{"$f":"MATCH($AO$4,Millwall!$AB$80:$AP$80,0)","v":{"$error":"#N/A"}},{"$f":"MATCH($AP$4,Millwall!$AB$80:$AP$80,0)","v":{"$error":"#N/A"}},{"$f":"MATCH($AQ$4,Millwall!$AB$80:$AP$80,0)","v":{"$error":"#N/A"}},{"$f":"MATCH($AR$4,Millwall!$AE$80:$AP$80,0)","v":{"$error":"#N/A"}},null,null,null,null,null,{"$f":"MATCH(AX$3,Millwall!$AB80:$AP80,0)","v":{"$error":"#N/A"}},{"$f":"MATCH(AY$3,Millwall!$AB80:$AP80,0)","v":{"$error":"#N/A"}},{"$f":"MATCH(AZ$3,Millwall!$AB80:$AP80,0)","v":{"$error":"#N/A"}},{"$f":"MATCH(BA$3,Millwall!$AB80:$AP80,0)","v":{"$error":"#N/A"}},{"$f":"MATCH(BB$3,Millwall!$AB80:$AP80,0)","v":{"$error":"#N/A"}},{"$f":"MATCH(BC$3,Millwall!$AB80:$AP80,0)","v":{"$error":"#N/A"}},{"$f":"MATCH(BD$3,Millwall!$AB80:$AP80,0)","v":{"$error":"#N/A"}},{"$f":"MATCH(BE$3,Millwall!$AB80:$AP80,0)","v":{"$error":"#N/A"}},{"$f":"MATCH(BF$3,Millwall!$AB80:$AP80,0)","v":{"$error":"#N/A"}},{"$f":"MATCH(BG$3,Millwall!$AB80:$AP80,0)","v":12},{"$f":"MATCH(BH$3,Millwall!$AB80:$AP80,0)","v":{"$error":"#N/A"}},{"$f":"MATCH(BI$3,Millwall!$AB80:$AP80,0)","v":{"$error":"#N/A"}},{"$f":"MATCH(BJ$3,Millwall!$AB80:$AP80,0)","v":{"$error":"#N/A"}},{"$f":"MATCH(BK$3,Millwall!$AB80:$AP80,0)","v":{"$error":"#N/A"}},{"$f":"MATCH(BL$3,Millwall!$AB80:$AP80,0)","v":{"$error":"#N/A"}},{"$f":"MATCH(BM$3,Millwall!$AB80:$AP80,0)","v":{"$error":"#N/A"}},{"$f":"MATCH(BN$3,Millwall!$AB80:$AP80,0)","v":{"$error":"#N/A"}},{"$f":"MATCH(BO$3,Millwall!$AB80:$AP80,0)","v":{"$error":"#N/A"}},{"$f":"MATCH(BP$3,Millwall!$AB80:$AP80,0)","v":{"$error":"#N/A"}},{"$f":"MATCH(BQ$3,Millwall!$AB80:$AP80,0)","v":{"$error":"#N/A"}},{"$f":"MATCH(BR$3,Millwall!$AB80:$AP80,0)","v":{"$error":"#N/A"}},{"$f":"MATCH(BS$3,Millwall!$AB80:$AP80,0)","v":8},{"$f":"MATCH(BT$3,Millwall!$AB80:$AP80,0)","v":{"$error":"#N/A"}},{"$f":"MATCH(BU$3,Millwall!$AB80:$AP80,0)","v":{"$error":"#N/A"}},{"$f":"MATCH(BV$3,Millwall!$AB80:$AP80,0)","v":{"$error":"#N/A"}},{"$f":"MATCH(BW$3,Millwall!$AB80:$AP80,0)","v":{"$error":"#N/A"}},{"$f":"MATCH(BX$3,Millwall!$AB80:$AP80,0)","v":{"$error":"#N/A"}},{"$f":"MATCH(BY$3,Millwall!$AB80:$AP80,0)","v":{"$error":"#N/A"}},{"$f":"MATCH(BZ$3,Millwall!$AB80:$AP80,0)","v":{"$error":"#N/A"}},{"$f":"MATCH(CA$3,Millwall!$AB80:$AP80,0)","v":{"$error":"#N/A"}},{"$f":"MATCH(CB$3,Millwall!$AB80:$AP80,0)","v":{"$error":"#N/A"}},{"$f":"MATCH(CC$3,Millwall!$AB80:$AP80,0)","v":{"$error":"#N/A"}},{"$f":"MATCH(CD$3,Millwall!$AB80:$AP80,0)","v":{"$error":"#N/A"}},{"$f":"MATCH(CE$3,Millwall!$AB80:$AP80,0)","v":{"$error":"#N/A"}},null,null,{"$f":"MATCH($CH$3,Millwall!$AB$80:$AP$80,0)","v":{"$error":"#N/A"}},{"$f":"MATCH($CI$3,Millwall!$AB$80:$AP$80,0)","v":{"$error":"#N/A"}},{"$f":"MATCH($CJ$3,Millwall!$AB$80:$AP$80,0)","v":{"$error":"#N/A"}},{"$f":"MATCH($CK$3,Millwall!$AB$80:$AP$80,0)","v":{"$error":"#N/A"}},{"$f":"MATCH($CL$3,Millwall!$AB$80:$AP$80,0)","v":{"$error":"#N/A"}},{"$f":"MATCH($CM$3,Millwall!$AB$80:$AP$80,0)","v":5},{"$f":"MATCH($CN$3,Millwall!$AB$80:$AP$80,0)","v":{"$error":"#N/A"}},{"$f":"MATCH($CO$3,Millwall!$AB$80:$AP$80,0)","v":{"$error":"#N/A"}},{"$f":"MATCH($CP$3,Millwall!$AB$80:$AP$80,0)","v":{"$error":"#N/A"}},{"$f":"MATCH($CQ$3,Millwall!$AB$80:$AP$80,0)","v":{"$error":"#N/A"}},{"$f":"MATCH($CR$3,Millwall!$AB$80:$AP$80,0)","v":{"$error":"#N/A"}},{"$f":"MATCH($CS$3,Millwall!$AB$80:$AP$80,0)","v":{"$error":"#N/A"}},{"$f":"MATCH($CT$3,Millwall!$AB$80:$AP$80,0)","v":14},{"$f":"MATCH($CU$3,Millwall!$AB$80:$AP$80,0)","v":{"$error":"#N/A"}},{"$f":"MATCH($CV$3,Millwall!$AB$80:$AP$80,0)","v":{"$error":"#N/A"}},{"$f":"MATCH($CW$3,Millwall!$AB$80:$AP$80,0)","v":{"$error":"#N/A"}},{"$f":"MATCH($CX$3,Millwall!$AB$80:$AP$80,0)","v":{"$error":"#N/A"}},{"$f":"MATCH($CY$3,Millwall!$AB$80:$AP$80,0)","v":{"$error":"#N/A"}},{"$f":"MATCH($CZ$3,Millwall!$AB$80:$AP$80,0)","v":{"$error":"#N/A"}},{"$f":"MATCH($DA$3,Millwall!$AB$80:$AP$80,0)","v":{"$error":"#N/A"}},{"$f":"MATCH($DB$3,Millwall!$AB$80:$AP$80,0)","v":{"$error":"#N/A"}},{"$f":"MATCH($DC$3,Millwall!$AB$80:$AP$80,0)","v":{"$error":"#N/A"}},{"$f":"MATCH($DD$3,Millwall!$AB$80:$AP$80,0)","v":{"$error":"#N/A"}},{"$f":"MATCH($DE$3,Millwall!$AB$80:$AP$80,0)","v":{"$error":"#N/A"}},{"$f":"MATCH($DF$3,Millwall!$AB$80:$AP$80,0)","v":{"$error":"#N/A"}},{"$f":"MATCH($DG$3,Millwall!$AB$80:$AP$80,0)","v":{"$error":"#N/A"}},{"$f":"MATCH($DH$3,Millwall!$AB$80:$AP$80,0)","v":{"$error":"#N/A"}},{"$f":"MATCH($DI$3,Millwall!$AB$80:$AP$80,0)","v":{"$error":"#N/A"}},{"$f":"MATCH($DJ$3,Millwall!$AB$80:$AP$80,0)","v":{"$error":"#N/A"}},{"$f":"MATCH($DK$3,Millwall!$AB$80:$AP$80,0)","v":{"$error":"#N/A"}},{"$f":"MATCH($DL$3,Millwall!$AB$80:$AP$80,0)","v":{"$error":"#N/A"}},{"$f":"MATCH($DM$3,Millwall!$AB$80:$AP$80,0)","v":{"$error":"#N/A"}},{"$f":"MATCH($DN$3,Millwall!$AB$80:$AP$80,0)","v":{"$error":"#N/A"}},{"$f":"MATCH($DO$3,Millwall!$AB$80:$AP$80,0)","v":{"$error":"#N/A"}},null,null,null,null,null,null,null,null,{"$f":"$DY$10&\" [**\"","v":"Cooper [**"},{"$f":"Millwall!$BP56","v":"Cooper"},"Cooper (**",{"$f":"$DY$10&\"**\"","v":"Cooper**"},null,{"$f":"$DY$10","v":"Cooper"},{"$f":"$DZ$10","v":"Cooper (**"},{"$f":"$EA$10","v":"Cooper**"},null,{"$f":"Millwall!$BX11","v":0},{"$f":"Millwall!$CC11","v":0},{"$f":"Millwall!$CH11","v":0},{"$f":"Millwall!$CM11","v":0}]
[null,null,0,7,null,{"$f":"Millwall!X81","v":"1992-09-19"},null,{"$f":"Millwall!Y81","v":"Notts Co"},{"$f":"Millwall!Z81","v":"(H)"},{"$f":"Millwall!AA81","v":"W 6-0"},{"$f":"MATCH($K$4,Millwall!$AB$81:$AP$81,0)","v":9},{"$f":"MATCH($L$4,Millwall!$AB$81:$AP$81,0)","v":{"$error":"#N/A"}},{"$f":"MATCH($M$4,Millwall!$AB$81:$AP$81,0)","v":11},{"$f":"MATCH($N$4,Millwall!$AB$81:$AP$81,0)","v":{"$error":"#N/A"}},{"$f":"MATCH($O$4,Millwall!$AB$81:$AP$81,0)","v":{"$error":"#N/A"}},{"$f":"MATCH($P$4,Millwall!$AB$81:$AP$81,0)","v":5},{"$f":"MATCH($Q$4,Millwall!$AB$81:$AP$81,0)","v":2},{"$f":"MATCH($R$4,Millwall!$AB$81:$AP$81,0)","v":{"$error":"#N/A"}},{"$f":"MATCH($S$4,Millwall!$AB$81:$AP$81,0)","v":3},{"$f":"MATCH($T$4,Millwall!$AB$81:$AP$81,0)","v":8},{"$f":"MATCH($U$4,Millwall!$AB$81:$AP$81,0)","v":{"$error":"#N/A"}},{"$f":"MATCH($V$4,Millwall!$AB$81:$AP$81,0)","v":10},{"$f":"MATCH($W$4,Millwall!$AB$81:$AP$81,0)","v":14},{"$f":"MATCH($X$4,Millwall!$AB$81:$AP$81,0)","v":1},{"$f":"MATCH($Y$4,Millwall!$AB$81:$AP$81,0)","v":{"$error":"#N/A"}},{"$f":"MATCH($Z$4,Millwall!$AB$81:$AP$81,0)","v":{"$error":"#N/A"}},{"$f":"MATCH($AA$4,Millwall!$AB$81:$AP$81,0)","v":{"$error":"#N/A"}},{"$f":"MATCH($AB$4,Millwall!$AB$81:$AP$81,0)","v":{"$error":"#N/A"}},{"$f":"MATCH($AC$4,Millwall!$AB$81:$AP$81,0)","v":4},{"$f":"MATCH($AD$4,Millwall!$AB$81:$AP$81,0)","v":{"$error":"#N/A"}},{"$f":"MATCH($AE$4,Millwall!$AB$81:$AP$81,0)","v":{"$error":"#N/A"}},{"$f":"MATCH($AF$4,Millwall!$AB$81:$AP$81,0)","v":12},{"$f":"MATCH($AG$4,Millwall!$AB$81:$AP$81,0)","v":{"$error":"#N/A"}},{"$f":"MATCH($AH$4,Millwall!$AB$81:$AP$81,0)","v":{"$error":"#N/A"}},{"$f":"MATCH($AI$4,Millwall!$AB$81:$AP$81,0)","v":{"$error":"#N/A"}},{"$f":"MATCH($AJ$4,Millwall!$AB$81:$AP$81,0)","v":7},{"$f":"MATCH($AK$4,Millwall!$AB$81:$AP$81,0)","v":{"$error":"#N/A"}},{"$f":"MATCH($AL$4,Millwall!$AB$81:$AP$81,0)","v":{"$error":"#N/A"}},{"$f":"MATCH($AM$4,Millwall!$AB$81:$AP$81,0)","v":6},{"$f":"MATCH($AN$4,Millwall!$AB$81:$AP$81,0)","v":{"$error":"#N/A"}},{"$f":"MATCH($AO$4,Millwall!$AB$81:$AP$81,0)","v":{"$error":"#N/A"}},{"$f":"MATCH($AP$4,Millwall!$AB$81:$AP$81,0)","v":{"$error":"#N/A"}},{"$f":"MATCH($AQ$4,Millwall!$AB$81:$AP$81,0)","v":{"$error":"#N/A"}},{"$f":"MATCH($AR$4,Millwall!$AE$81:$AP$81,0)","v":{"$error":"#N/A"}},null,null,null,null,null,{"$f":"MATCH(AX$3,Millwall!$AB81:$AP81,0)","v":{"$error":"#N/A"}},{"$f":"MATCH(AY$3,Millwall!$AB81:$AP81,0)","v":{"$error":"#N/A"}},{"$f":"MATCH(AZ$3,Millwall!$AB81:$AP81,0)","v":{"$error":"#N/A"}},{"$f":"MATCH(BA$3,Millwall!$AB81:$AP81,0)","v":{"$error":"#N/A"}},{"$f":"MATCH(BB$3,Millwall!$AB81:$AP81,0)","v":{"$error":"#N/A"}},{"$f":"MATCH(BC$3,Millwall!$AB81:$AP81,0)","v":{"$error":"#N/A"}},{"$f":"MATCH(BD$3,Millwall!$AB81:$AP81,0)","v":{"$error":"#N/A"}},{"$f":"MATCH(BE$3,Millwall!$AB81:$AP81,0)","v":{"$error":"#N/A"}},{"$f":"MATCH(BF$3,Millwall!$AB81:$AP81,0)","v":{"$error":"#N/A"}},{"$f":"MATCH(BG$3,Millwall!$AB81:$AP81,0)","v":{"$error":"#N/A"}},{"$f":"MATCH(BH$3,Millwall!$AB81:$AP81,0)","v":{"$error":"#N/A"}},{"$f":"MATCH(BI$3,Millwall!$AB81:$AP81,0)","v":10},{"$f":"MATCH(BJ$3,Millwall!$AB81:$AP81,0)","v":{"$error":"#N/A"}},{"$f":"MATCH(BK$3,Millwall!$AB81:$AP81,0)","v":{"$error":"#N/A"}},{"$f":"MATCH(BL$3,Millwall!$AB81:$AP81,0)","v":{"$error":"#N/A"}},{"$f":"MATCH(BM$3,Millwall!$AB81:$AP81,0)","v":{"$error":"#N/A"}},{"$f":"MATCH(BN$3,Millwall!$AB81:$AP81,0)","v":{"$error":"#N/A"}},{"$f":"MATCH(BO$3,Millwall!$AB81:$AP81,0)","v":{"$error":"#N/A"}},{"$f":"MATCH(BP$3,Millwall!$AB81:$AP81,0)","v":{"$error":"#N/A"}},{"$f":"MATCH(BQ$3,Millwall!$AB81:$AP81,0)","v":{"$error":"#N/A"}},{"$f":"MATCH(BR$3,Millwall!$AB81:$AP81,0)","v":{"$error":"#N/A"}},{"$f":"MATCH(BS$3,Millwall!$AB81:$AP81,0)","v":12},{"$f":"MATCH(BT$3,Millwall!$AB81:$AP81,0)","v":{"$error":"#N/A"}},{"$f":"MATCH(BU$3,Millwall!$AB81:$AP81,0)","v":{"$error":"#N/A"}},{"$f":"MATCH(BV$3,Millwall!$AB81:$AP81,0)","v":{"$error":"#N/A"}},{"$f":"MATCH(BW$3,Millwall!$AB81:$AP81,0)","v":{"$error":"#N/A"}},{"$f":"MATCH(BX$3,Millwall!$AB81:$AP81,0)","v":{"$error":"#N/A"}},{"$f":"MATCH(BY$3,Millwall!$AB81:$AP81,0)","v":{"$error":"#N/A"}},{"$f":"MATCH(BZ$3,Millwall!$AB81:$AP81,0)","v":{"$error":"#N/A"}},{"$f":"MATCH(CA$3,Millwall!$AB81:$AP81,0)","v":{"$error":"#N/A"}},{"$f":"MATCH(CB$3,Millwall!$AB81:$AP81,0)","v":{"$error":"#N/A"}},{"$f":"MATCH(CC$3,Millwall!$AB81:$AP81,0)","v":{"$error":"#N/A"}},{"$f":"MATCH(CD$3,Millwall!$AB81:$AP81,0)","v":{"$error":"#N/A"}},{"$f":"MATCH(CE$3,Millwall!$AB81:$AP81,0)","v":{"$error":"#N/A"}},null,null,{"$f":"MATCH($CH$3,Millwall!$AB$81:$AP$81,0)","v":{"$error":"#N/A"}},{"$f":"MATCH($CI$3,Millwall!$AB$81:$AP$81,0)","v":{"$error":"#N/A"}},{"$f":"MATCH($CJ$3,Millwall!$AB$81:$AP$81,0)","v":{"$error":"#N/A"}},{"$f":"MATCH($CK$3,Millwall!$AB$81:$AP$81,0)","v":{"$error":"#N/A"}},{"$f":"MATCH($CL$3,Millwall!$AB$81:$AP$81,0)","v":{"$error":"#N/A"}},{"$f":"MATCH($CM$3,Millwall!$AB$81:$AP$81,0)","v":{"$error":"#N/A"}},{"$f":"MATCH($CN$3,Millwall!$AB$81:$AP$81,0)","v":{"$error":"#N/A"}},{"$f":"MATCH($CO$3,Millwall!$AB$81:$AP$81,0)","v":{"$error":"#N/A"}},{"$f":"MATCH($CP$3,Millwall!$AB$81:$AP$81,0)","v":{"$error":"#N/A"}},{"$f":"MATCH($CQ$3,Millwall!$AB$81:$AP$81,0)","v":{"$error":"#N/A"}},{"$f":"MATCH($CR$3,Millwall!$AB$81:$AP$81,0)","v":{"$error":"#N/A"}},{"$f":"MATCH($CS$3,Millwall!$AB$81:$AP$81,0)","v":{"$error":"#N/A"}},{"$f":"MATCH($CT$3,Millwall!$AB$81:$AP$81,0)","v":14},{"$f":"MATCH($CU$3,Millwall!$AB$81:$AP$81,0)","v":{"$error":"#N/A"}},{"$f":"MATCH($CV$3,Millwall!$AB$81:$AP$81,0)","v":{"$error":"#N/A"}},{"$f":"MATCH($CW$3,Millwall!$AB$81:$AP$81,0)","v":{"$error":"#N/A"}},{"$f":"MATCH($CX$3,Millwall!$AB$81:$AP$81,0)","v":{"$error":"#N/A"}},{"$f":"MATCH($CY$3,Millwall!$AB$81:$AP$81,0)","v":{"$error":"#N/A"}},{"$f":"MATCH($CZ$3,Millwall!$AB$81:$AP$81,0)","v":4},{"$f":"MATCH($DA$3,Millwall!$AB$81:$AP$81,0)","v":{"$error":"#N/A"}},{"$f":"MATCH($DB$3,Millwall!$AB$81:$AP$81,0)","v":{"$error":"#N/A"}},{"$f":"MATCH($DC$3,Millwall!$AB$81:$AP$81,0)","v":{"$error":"#N/A"}},{"$f":"MATCH($DD$3,Millwall!$AB$81:$AP$81,0)","v":{"$error":"#N/A"}},{"$f":"MATCH($DE$3,Millwall!$AB$81:$AP$81,0)","v":{"$error":"#N/A"}},{"$f":"MATCH($DF$3,Millwall!$AB$81:$AP$81,0)","v":{"$error":"#N/A"}},{"$f":"MATCH($DG$3,Millwall!$AB$81:$AP$81,0)","v":{"$error":"#N/A"}},{"$f":"MATCH($DH$3,Millwall!$AB$81:$AP$81,0)","v":{"$error":"#N/A"}},{"$f":"MATCH($DI$3,Millwall!$AB$81:$AP$81,0)","v":{"$error":"#N/A"}},{"$f":"MATCH($DJ$3,Millwall!$AB$81:$AP$81,0)","v":{"$error":"#N/A"}},{"$f":"MATCH($DK$3,Millwall!$AB$81:$AP$81,0)","v":{"$error":"#N/A"}},{"$f":"MATCH($DL$3,Millwall!$AB$81:$AP$81,0)","v":{"$error":"#N/A"}},{"$f":"MATCH($DM$3,Millwall!$AB$81:$AP$81,0)","v":{"$error":"#N/A"}},{"$f":"MATCH($DN$3,Millwall!$AB$81:$AP$81,0)","v":{"$error":"#N/A"}},{"$f":"MATCH($DO$3,Millwall!$AB$81:$AP$81,0)","v":{"$error":"#N/A"}},null,null,null,null,null,null,null,null,{"$f":"$DY$11&\" [**\"","v":"Cunningham [**"},{"$f":"Millwall!$BP57","v":"Cunningham"},"Cunningham (**",{"$f":"$DY$11&\"**\"","v":"Cunningham**"},null,{"$f":"$DY$11","v":"Cunningham"},{"$f":"$DZ$11","v":"Cunningham (**"},{"$f":"$EA$11","v":"Cunningham**"},null,{"$f":"Millwall!$BX12","v":0},{"$f":"Millwall!$CC12","v":0},{"$f":"Millwall!$CH12","v":0},{"$f":"Millwall!$CM12","v":0}]
[null,null,0,8,null,{"$f":"Millwall!X82","v":"1992-09-26"},null,{"$f":"Millwall!Y82","v":"Brentford"},{"$f":"Millwall!Z82","v":"(A)"},{"$f":"Millwall!AA82","v":"D 1-1"},{"$f":"MATCH($K$4,Millwall!$AB$82:$AP$82,0)","v":9},{"$f":"MATCH($L$4,Millwall!$AB$82:$AP$82,0)","v":{"$error":"#N/A"}},{"$f":"MATCH($M$4,Millwall!$AB$82:$AP$82,0)","v":11},{"$f":"MATCH($N$4,Millwall!$AB$82:$AP$82,0)","v":{"$error":"#N/A"}},{"$f":"MATCH($O$4,Millwall!$AB$82:$AP$82,0)","v":{"$error":"#N/A"}},{"$f":"MATCH($P$4,Millwall!$AB$82:$AP$82,0)","v":5},{"$f":"MATCH($Q$4,Millwall!$AB$82:$AP$82,0)","v":2},{"$f":"MATCH($R$4,Millwall!$AB$82:$AP$82,0)","v":{"$error":"#N/A"}},{"$f":"MATCH($S$4,Millwall!$AB$82:$AP$82,0)","v":3},{"$f":"MATCH($T$4,Millwall!$AB$82:$AP$82,0)","v":8},{"$f":"MATCH($U$4,Millwall!$AB$82:$AP$82,0)","v":{"$error":"#N/A"}},{"$f":"MATCH($V$4,Millwall!$AB$82:$AP$82,0)","v":10},{"$f":"MATCH($W$4,Millwall!$AB$82:$AP$82,0)","v":14},{"$f":"MATCH($X$4,Millwall!$AB$82:$AP$82,0)","v":1},{"$f":"MATCH($Y$4,Millwall!$AB$82:$AP$82,0)","v":{"$error":"#N/A"}},{"$f":"MATCH($Z$4,Millwall!$AB$82:$AP$82,0)","v":{"$error":"#N/A"}},{"$f":"MATCH($AA$4,Millwall!$AB$82:$AP$82,0)","v":{"$error":"#N/A"}},{"$f":"MATCH($AB$4,Millwall!$AB$82:$AP$82,0)","v":{"$error":"#N/A"}},{"$f":"MATCH($AC$4,Millwall!$AB$82:$AP$82,0)","v":4},{"$f":"MATCH($AD$4,Millwall!$AB$82:$AP$82,0)","v":{"$error":"#N/A"}},{"$f":"MATCH($AE$4,Millwall!$AB$82:$AP$82,0)","v":{"$error":"#N/A"}},{"$f":"MATCH($AF$4,Millwall!$AB$82:$AP$82,0)","v":12},{"$f":"MATCH($AG$4,Millwall!$AB$82:$AP$82,0)","v":{"$error":"#N/A"}},{"$f":"MATCH($AH$4,Millwall!$AB$82:$AP$82,0)","v":{"$error":"#N/A"}},{"$f":"MATCH($AI$4,Millwall!$AB$82:$AP$82,0)","v":{"$error":"#N/A"}},{"$f":"MATCH($AJ$4,Millwall!$AB$82:$AP$82,0)","v":7},{"$f":"MATCH($AK$4,Millwall!$AB$82:$AP$82,0)","v":{"$error":"#N/A"}},{"$f":"MATCH($AL$4,Millwall!$AB$82:$AP$82,0)","v":{"$error":"#N/A"}},{"$f":"MATCH($AM$4,Millwall!$AB$82:$AP$82,0)","v":6},{"$f":"MATCH($AN$4,Millwall!$AB$82:$AP$82,0)","v":{"$error":"#N/A"}},{"$f":"MATCH($AO$4,Millwall!$AB$82:$AP$82,0)","v":{"$error":"#N/A"}},{"$f":"MATCH($AP$4,Millwall!$AB$82:$AP$82,0)","v":{"$error":"#N/A"}},{"$f":"MATCH($AQ$4,Millwall!$AB$82:$AP$82,0)","v":{"$error":"#N/A"}},{"$f":"MATCH($AR$4,Millwall!$AE$82:$AP$82,0)","v":{"$error":"#N/A"}},null,null,null,null,null,{"$f":"MATCH(AX$3,Millwall!$AB82:$AP82,0)","v":{"$error":"#N/A"}},{"$f":"MATCH(AY$3,Millwall!$AB82:$AP82,0)","v":{"$error":"#N/A"}},{"$f":"MATCH(AZ$3,Millwall!$AB82:$AP82,0)","v":{"$error":"#N/A"}},{"$f":"MATCH(BA$3,Millwall!$AB82:$AP82,0)","v":{"$error":"#N/A"}},{"$f":"MATCH(BB$3,Millwall!$AB82:$AP82,0)","v":{"$error":"#N/A"}},{"$f":"MATCH(BC$3,Millwall!$AB82:$AP82,0)","v":{"$error":"#N/A"}},{"$f":"MATCH(BD$3,Millwall!$AB82:$AP82,0)","v":{"$error":"#N/A"}},{"$f":"MATCH(BE$3,Millwall!$AB82:$AP82,0)","v":{"$error":"#N/A"}},{"$f":"MATCH(BF$3,Millwall!$AB82:$AP82,0)","v":{"$error":"#N/A"}},{"$f":"MATCH(BG$3,Millwall!$AB82:$AP82,0)","v":{"$error":"#N/A"}},{"$f":"MATCH(BH$3,Millwall!$AB82:$AP82,0)","v":{"$error":"#N/A"}},{"$f":"MATCH(BI$3,Millwall!$AB82:$AP82,0)","v":{"$error":"#N/A"}},{"$f":"MATCH(BJ$3,Millwall!$AB82:$AP82,0)","v":{"$error":"#N/A"}},{"$f":"MATCH(BK$3,Millwall!$AB82:$AP82,0)","v":{"$error":"#N/A"}},{"$f":"MATCH(BL$3,Millwall!$AB82:$AP82,0)","v":{"$error":"#N/A"}},{"$f":"MATCH(BM$3,Millwall!$AB82:$AP82,0)","v":{"$error":"#N/A"}},{"$f":"MATCH(BN$3,Millwall!$AB82:$AP82,0)","v":{"$error":"#N/A"}},{"$f":"MATCH(BO$3,Millwall!$AB82:$AP82,0)","v":{"$error":"#N/A"}},{"$f":"MATCH(BP$3,Millwall!$AB82:$AP82,0)","v":{"$error":"#N/A"}},{"$f":"MATCH(BQ$3,Millwall!$AB82:$AP82,0)","v":{"$error":"#N/A"}},{"$f":"MATCH(BR$3,Millwall!$AB82:$AP82,0)","v":{"$error":"#N/A"}},{"$f":"MATCH(BS$3,Millwall!$AB82:$AP82,0)","v":{"$error":"#N/A"}},{"$f":"MATCH(BT$3,Millwall!$AB82:$AP82,0)","v":{"$error":"#N/A"}},{"$f":"MATCH(BU$3,Millwall!$AB82:$AP82,0)","v":{"$error":"#N/A"}},{"$f":"MATCH(BV$3,Millwall!$AB82:$AP82,0)","v":{"$error":"#N/A"}},{"$f":"MATCH(BW$3,Millwall!$AB82:$AP82,0)","v":{"$error":"#N/A"}},{"$f":"MATCH(BX$3,Millwall!$AB82:$AP82,0)","v":{"$error":"#N/A"}},{"$f":"MATCH(BY$3,Millwall!$AB82:$AP82,0)","v":{"$error":"#N/A"}},{"$f":"MATCH(BZ$3,Millwall!$AB82:$AP82,0)","v":{"$error":"#N/A"}},{"$f":"MATCH(CA$3,Millwall!$AB82:$AP82,0)","v":{"$error":"#N/A"}},{"$f":"MATCH(CB$3,Millwall!$AB82:$AP82,0)","v":{"$error":"#N/A"}},{"$f":"MATCH(CC$3,Millwall!$AB82:$AP82,0)","v":{"$error":"#N/A"}},{"$f":"MATCH(CD$3,Millwall!$AB82:$AP82,0)","v":{"$error":"#N/A"}},{"$f":"MATCH(CE$3,Millwall!$AB82:$AP82,0)","v":{"$error":"#N/A"}},null,null,{"$f":"MATCH($CH$3,Millwall!$AB$82:$AP$82,0)","v":{"$error":"#N/A"}},{"$f":"MATCH($CI$3,Millwall!$AB$82:$AP$82,0)","v":{"$error":"#N/A"}},{"$f":"MATCH($CJ$3,Millwall!$AB$82:$AP$82,0)","v":{"$error":"#N/A"}},{"$f":"MATCH($CK$3,Millwall!$AB$82:$AP$82,0)","v":{"$error":"#N/A"}},{"$f":"MATCH($CL$3,Millwall!$AB$82:$AP$82,0)","v":{"$error":"#N/A"}},{"$f":"MATCH($CM$3,Millwall!$AB$82:$AP$82,0)","v":{"$error":"#N/A"}},{"$f":"MATCH($CN$3,Millwall!$AB$82:$AP$82,0)","v":{"$error":"#N/A"}},{"$f":"MATCH($CO$3,Millwall!$AB$82:$AP$82,0)","v":{"$error":"#N/A"}},{"$f":"MATCH($CP$3,Millwall!$AB$82:$AP$82,0)","v":{"$error":"#N/A"}},{"$f":"MATCH($CQ$3,Millwall!$AB$82:$AP$82,0)","v":{"$error":"#N/A"}},{"$f":"MATCH($CR$3,Millwall!$AB$82:$AP$82,0)","v":{"$error":"#N/A"}},{"$f":"MATCH($CS$3,Millwall!$AB$82:$AP$82,0)","v":{"$error":"#N/A"}},{"$f":"MATCH($CT$3,Millwall!$AB$82:$AP$82,0)","v":{"$error":"#N/A"}},{"$f":"MATCH($CU$3,Millwall!$AB$82:$AP$82,0)","v":{"$error":"#N/A"}},{"$f":"MATCH($CV$3,Millwall!$AB$82:$AP$82,0)","v":{"$error":"#N/A"}},{"$f":"MATCH($CW$3,Millwall!$AB$82:$AP$82,0)","v":{"$error":"#N/A"}},{"$f":"MATCH($CX$3,Millwall!$AB$82:$AP$82,0)","v":{"$error":"#N/A"}},{"$f":"MATCH($CY$3,Millwall!$AB$82:$AP$82,0)","v":{"$error":"#N/A"}},{"$f":"MATCH($CZ$3,Millwall!$AB$82:$AP$82,0)","v":{"$error":"#N/A"}},{"$f":"MATCH($DA$3,Millwall!$AB$82:$AP$82,0)","v":{"$error":"#N/A"}},{"$f":"MATCH($DB$3,Millwall!$AB$82:$AP$82,0)","v":{"$error":"#N/A"}},{"$f":"MATCH($DC$3,Millwall!$AB$82:$AP$82,0)","v":{"$error":"#N/A"}},{"$f":"MATCH($DD$3,Millwall!$AB$82:$AP$82,0)","v":{"$error":"#N/A"}},{"$f":"MATCH($DE$3,Millwall!$AB$82:$AP$82,0)","v":{"$error":"#N/A"}},{"$f":"MATCH($DF$3,Millwall!$AB$82:$AP$82,0)","v":{"$error":"#N/A"}},{"$f":"MATCH($DG$3,Millwall!$AB$82:$AP$82,0)","v":{"$error":"#N/A"}},{"$f":"MATCH($DH$3,Millwall!$AB$82:$AP$82,0)","v":{"$error":"#N/A"}},{"$f":"MATCH($DI$3,Millwall!$AB$82:$AP$82,0)","v":{"$error":"#N/A"}},{"$f":"MATCH($DJ$3,Millwall!$AB$82:$AP$82,0)","v":{"$error":"#N/A"}},{"$f":"MATCH($DK$3,Millwall!$AB$82:$AP$82,0)","v":{"$error":"#N/A"}},{"$f":"MATCH($DL$3,Millwall!$AB$82:$AP$82,0)","v":{"$error":"#N/A"}},{"$f":"MATCH($DM$3,Millwall!$AB$82:$AP$82,0)","v":{"$error":"#N/A"}},{"$f":"MATCH($DN$3,Millwall!$AB$82:$AP$82,0)","v":{"$error":"#N/A"}},{"$f":"MATCH($DO$3,Millwall!$AB$82:$AP$82,0)","v":{"$error":"#N/A"}},null,null,null,null,null,null,null,null,{"$f":"$DY$12&\" [**\"","v":"Davidson [**"},{"$f":"Millwall!$BP58","v":"Davidson"},"Davidson (**",{"$f":"$DY$12&\"**\"","v":"Davidson**"},null,{"$f":"$DY$12","v":"Davidson"},{"$f":"$DZ$12","v":"Davidson (**"},{"$f":"$EA$12","v":"Davidson**"},null,{"$f":"Millwall!$BX13","v":0},{"$f":"Millwall!$CC13","v":0},{"$f":"Millwall!$CH13","v":0},{"$f":"Millwall!$CM13","v":0}]
[null,null,0,9,null,{"$f":"Millwall!X83","v":"1992-10-03"},null,{"$f":"Millwall!Y83","v":"Sunderland"},{"$f":"Millwall!Z83","v":"(A)"},{"$f":"Millwall!AA83","v":"L 0-2"},{"$f":"MATCH($K$4,Millwall!$AB$83:$AP$83,0)","v":9},{"$f":"MATCH($L$4,Millwall!$AB$83:$AP$83,0)","v":{"$error":"#N/A"}},{"$f":"MATCH($M$4,Millwall!$AB$83:$AP$83,0)","v":11},{"$f":"MATCH($N$4,Millwall!$AB$83:$AP$83,0)","v":{"$error":"#N/A"}},{"$f":"MATCH($O$4,Millwall!$AB$83:$AP$83,0)","v":{"$error":"#N/A"}},{"$f":"MATCH($P$4,Millwall!$AB$83:$AP$83,0)","v":5},{"$f":"MATCH($Q$4,Millwall!$AB$83:$AP$83,0)","v":2},{"$f":"MATCH($R$4,Millwall!$AB$83:$AP$83,0)","v":{"$error":"#N/A"}},{"$f":"MATCH($S$4,Millwall!$AB$83:$AP$83,0)","v":3},{"$f":"MATCH($T$4,Millwall!$AB$83:$AP$83,0)","v":8},{"$f":"MATCH($U$4,Millwall!$AB$83:$AP$83,0)","v":{"$error":"#N/A"}},{"$f":"MATCH($V$4,Millwall!$AB$83:$AP$83,0)","v":10},{"$f":"MATCH($W$4,Millwall!$AB$83:$AP$83,0)","v":14},{"$f":"MATCH($X$4,Millwall!$AB$83:$AP$83,0)","v":1},{"$f":"MATCH($Y$4,Millwall!$AB$83:$AP$83,0)","v":{"$error":"#N/A"}},{"$f":"MATCH($Z$4,Millwall!$AB$83:$AP$83,0)","v":{"$error":"#N/A"}},{"$f":"MATCH($AA$4,Millwall!$AB$83:$AP$83,0)","v":{"$error":"#N/A"}},{"$f":"MATCH($AB$4,Millwall!$AB$83:$AP$83,0)","v":{"$error":"#N/A"}},{"$f":"MATCH($AC$4,Millwall!$AB$83:$AP$83,0)","v":4},{"$f":"MATCH($AD$4,Millwall!$AB$83:$AP$83,0)","v":{"$error":"#N/A"}},{"$f":"MATCH($AE$4,Millwall!$AB$83:$AP$83,0)","v":{"$error":"#N/A"}},{"$f":"MATCH($AF$4,Millwall!$AB$83:$AP$83,0)","v":{"$error":"#N/A"}},{"$f":"MATCH($AG$4,Millwall!$AB$83:$AP$83,0)","v":{"$error":"#N/A"}},{"$f":"MATCH($AH$4,Millwall!$AB$83:$AP$83,0)","v":12},{"$f":"MATCH($AI$4,Millwall!$AB$83:$AP$83,0)","v":{"$error":"#N/A"}},{"$f":"MATCH($AJ$4,Millwall!$AB$83:$AP$83,0)","v":7},{"$f":"MATCH($AK$4,Millwall!$AB$83:$AP$83,0)","v":{"$error":"#N/A"}},{"$f":"MATCH($AL$4,Millwall!$AB$83:$AP$83,0)","v":{"$error":"#N/A"}},{"$f":"MATCH($AM$4,Millwall!$AB$83:$AP$83,0)","v":6},{"$f":"MATCH($AN$4,Millwall!$AB$83:$AP$83,0)","v":{"$error":"#N/A"}},{"$f":"MATCH($AO$4,Millwall!$AB$83:$AP$83,0)","v":{"$error":"#N/A"}},{"$f":"MATCH($AP$4,Millwall!$AB$83:$AP$83,0)","v":{"$error":"#N/A"}},{"$f":"MATCH($AQ$4,Millwall!$AB$83:$AP$83,0)","v":{"$error":"#N/A"}},{"$f":"MATCH($AR$4,Millwall!$AE$83:$AP$83,0)","v":{"$error":"#N/A"}},null,null,null,null,null,{"$f":"MATCH(AX$3,Millwall!$AB83:$AP83,0)","v":{"$error":"#N/A"}},{"$f":"MATCH(AY$3,Millwall!$AB83:$AP83,0)","v":{"$error":"#N/A"}},{"$f":"MATCH(AZ$3,Millwall!$AB83:$AP83,0)","v":{"$error":"#N/A"}},{"$f":"MATCH(BA$3,Millwall!$AB83:$AP83,0)","v":{"$error":"#N/A"}},{"$f":"MATCH(BB$3,Millwall!$AB83:$AP83,0)","v":{"$error":"#N/A"}},{"$f":"MATCH(BC$3,Millwall!$AB83:$AP83,0)","v":{"$error":"#N/A"}},{"$f":"MATCH(BD$3,Millwall!$AB83:$AP83,0)","v":{"$error":"#N/A"}},{"$f":"MATCH(BE$3,Millwall!$AB83:$AP83,0)","v":{"$error":"#N/A"}},{"$f":"MATCH(BF$3,Millwall!$AB83:$AP83,0)","v":{"$error":"#N/A"}},{"$f":"MATCH(BG$3,Millwall!$AB83:$AP83,0)","v":{"$error":"#N/A"}},{"$f":"MATCH(BH$3,Millwall!$AB83:$AP83,0)","v":{"$error":"#N/A"}},{"$f":"MATCH(BI$3,Millwall!$AB83:$AP83,0)","v":{"$error":"#N/A"}},{"$f":"MATCH(BJ$3,Millwall!$AB83:$AP83,0)","v":{"$error":"#N/A"}},{"$f":"MATCH(BK$3,Millwall!$AB83:$AP83,0)","v":{"$error":"#N/A"}},{"$f":"MATCH(BL$3,Millwall!$AB83:$AP83,0)","v":{"$error":"#N/A"}},{"$f":"MATCH(BM$3,Millwall!$AB83:$AP83,0)","v":{"$error":"#N/A"}},{"$f":"MATCH(BN$3,Millwall!$AB83:$AP83,0)","v":{"$error":"#N/A"}},{"$f":"MATCH(BO$3,Millwall!$AB83:$AP83,0)","v":{"$error":"#N/A"}},{"$f":"MATCH(BP$3,Millwall!$AB83:$AP83,0)","v":{"$error":"#N/A"}},{"$f":"MATCH(BQ$3,Millwall!$AB83:$AP83,0)","v":{"$error":"#N/A"}},{"$f":"MATCH(BR$3,Millwall!$AB83:$AP83,0)","v":{"$error":"#N/A"}},{"$f":"MATCH(BS$3,Millwall!$AB83:$AP83,0)","v":{"$error":"#N/A"}},{"$f":"MATCH(BT$3,Millwall!$AB83:$AP83,0)","v":{"$error":"#N/A"}},{"$f":"MATCH(BU$3,Millwall!$AB83:$AP83,0)","v":12},{"$f":"MATCH(BV$3,Millwall!$AB83:$AP83,0)","v":{"$error":"#N/A"}},{"$f":"MATCH(BW$3,Millwall!$AB83:$AP83,0)","v":7},{"$f":"MATCH(BX$3,Millwall!$AB83:$AP83,0)","v":{"$error":"#N/A"}},{"$f":"MATCH(BY$3,Millwall!$AB83:$AP83,0)","v":{"$error":"#N/A"}},{"$f":"MATCH(BZ$3,Millwall!$AB83:$AP83,0)","v":{"$error":"#N/A"}},{"$f":"MATCH(CA$3,Millwall!$AB83:$AP83,0)","v":{"$error":"#N/A"}},{"$f":"MATCH(CB$3,Millwall!$AB83:$AP83,0)","v":{"$error":"#N/A"}},{"$f":"MATCH(CC$3,Millwall!$AB83:$AP83,0)","v":{"$error":"#N/A"}},{"$f":"MATCH(CD$3,Millwall!$AB83:$AP83,0)","v":{"$error":"#N/A"}},{"$f":"MATCH(CE$3,Millwall!$AB83:$AP83,0)","v":{"$error":"#N/A"}},null,null,{"$f":"MATCH($CH$3,Millwall!$AB$83:$AP$83,0)","v":{"$error":"#N/A"}},{"$f":"MATCH($CI$3,Millwall!$AB$83:$AP$83,0)","v":{"$error":"#N/A"}},{"$f":"MATCH($CJ$3,Millwall!$AB$83:$AP$83,0)","v":{"$error":"#N/A"}},{"$f":"MATCH($CK$3,Millwall!$AB$83:$AP$83,0)","v":{"$error":"#N/A"}},{"$f":"MATCH($CL$3,Millwall!$AB$83:$AP$83,0)","v":{"$error":"#N/A"}},{"$f":"MATCH($CM$3,Millwall!$AB$83:$AP$83,0)","v":{"$error":"#N/A"}},{"$f":"MATCH($CN$3,Millwall!$AB$83:$AP$83,0)","v":{"$error":"#N/A"}},{"$f":"MATCH($CO$3,Millwall!$AB$83:$AP$83,0)","v":{"$error":"#N/A"}},{"$f":"MATCH($CP$3,Millwall!$AB$83:$AP$83,0)","v":{"$error":"#N/A"}},{"$f":"MATCH($CQ$3,Millwall!$AB$83:$AP$83,0)","v":8},{"$f":"MATCH($CR$3,Millwall!$AB$83:$AP$83,0)","v":{"$error":"#N/A"}},{"$f":"MATCH($CS$3,Millwall!$AB$83:$AP$83,0)","v":{"$error":"#N/A"}},{"$f":"MATCH($CT$3,Millwall!$AB$83:$AP$83,0)","v":14},{"$f":"MATCH($CU$3,Millwall!$AB$83:$AP$83,0)","v":{"$error":"#N/A"}},{"$f":"MATCH($CV$3,Millwall!$AB$83:$AP$83,0)","v":{"$error":"#N/A"}},{"$f":"MATCH($CW$3,Millwall!$AB$83:$AP$83,0)","v":{"$error":"#N/A"}},{"$f":"MATCH($CX$3,Millwall!$AB$83:$AP$83,0)","v":{"$error":"#N/A"}},{"$f":"MATCH($CY$3,Millwall!$AB$83:$AP$83,0)","v":{"$error":"#N/A"}},{"$f":"MATCH($CZ$3,Millwall!$AB$83:$AP$83,0)","v":{"$error":"#N/A"}},{"$f":"MATCH($DA$3,Millwall!$AB$83:$AP$83,0)","v":{"$error":"#N/A"}},{"$f":"MATCH($DB$3,Millwall!$AB$83:$AP$83,0)","v":{"$error":"#N/A"}},{"$f":"MATCH($DC$3,Millwall!$AB$83:$AP$83,0)","v":{"$error":"#N/A"}},{"$f":"MATCH($DD$3,Millwall!$AB$83:$AP$83,0)","v":{"$error":"#N/A"}},{"$f":"MATCH($DE$3,Millwall!$AB$83:$AP$83,0)","v":{"$error":"#N/A"}},{"$f":"MATCH($DF$3,Millwall!$AB$83:$AP$83,0)","v":{"$error":"#N/A"}},{"$f":"MATCH($DG$3,Millwall!$AB$83:$AP$83,0)","v":{"$error":"#N/A"}},{"$f":"MATCH($DH$3,Millwall!$AB$83:$AP$83,0)","v":{"$error":"#N/A"}},{"$f":"MATCH($DI$3,Millwall!$AB$83:$AP$83,0)","v":{"$error":"#N/A"}},{"$f":"MATCH($DJ$3,Millwall!$AB$83:$AP$83,0)","v":{"$error":"#N/A"}},{"$f":"MATCH($DK$3,Millwall!$AB$83:$AP$83,0)","v":{"$error":"#N/A"}},{"$f":"MATCH($DL$3,Millwall!$AB$83:$AP$83,0)","v":{"$error":"#N/A"}},{"$f":"MATCH($DM$3,Millwall!$AB$83:$AP$83,0)","v":{"$error":"#N/A"}},{"$f":"MATCH($DN$3,Millwall!$AB$83:$AP$83,0)","v":{"$error":"#N/A"}},{"$f":"MATCH($DO$3,Millwall!$AB$83:$AP$83,0)","v":{"$error":"#N/A"}},null,null,null,null,null,null,null,null,{"$f":"$DY$13&\" [**\"","v":"Dawes [**"},{"$f":"Millwall!$BP59","v":"Dawes"},"Dawes (**",{"$f":"$DY$13&\"**\"","v":"Dawes**"},null,{"$f":"$DY$13","v":"Dawes"},{"$f":"$DZ$13","v":"Dawes (**"},{"$f":"$EA$13","v":"Dawes**"},null,{"$f":"Millwall!$BX14","v":0},{"$f":"Millwall!$CC14","v":0},{"$f":"Millwall!$CH14","v":0},{"$f":"Millwall!$CM14","v":0}]
[null,null,0,10,null,{"$f":"Millwall!X84","v":"1992-10-10"},null,{"$f":"Millwall!Y84","v":"Cambridge"},{"$f":"Millwall!Z84","v":"(H)"},{"$f":"Millwall!AA84","v":"D 2-2"},{"$f":"MATCH($K$4,Millwall!$AB$84:$AP$84,0)","v":9},{"$f":"MATCH($L$4,Millwall!$AB$84:$AP$84,0)","v":{"$error":"#N/A"}},{"$f":"MATCH($M$4,Millwall!$AB$84:$AP$84,0)","v":11},{"$f":"MATCH($N$4,Millwall!$AB$84:$AP$84,0)","v":{"$error":"#N/A"}},{"$f":"MATCH($O$4,Millwall!$AB$84:$AP$84,0)","v":{"$error":"#N/A"}},{"$f":"MATCH($P$4,Millwall!$AB$84:$AP$84,0)","v":5},{"$f":"MATCH($Q$4,Millwall!$AB$84:$AP$84,0)","v":2},{"$f":"MATCH($R$4,Millwall!$AB$84:$AP$84,0)","v":{"$error":"#N/A"}},{"$f":"MATCH($S$4,Millwall!$AB$84:$AP$84,0)","v":3},{"$f":"MATCH($T$4,Millwall!$AB$84:$AP$84,0)","v":8},{"$f":"MATCH($U$4,Millwall!$AB$84:$AP$84,0)","v":{"$error":"#N/A"}},{"$f":"MATCH($V$4,Millwall!$AB$84:$AP$84,0)","v":10},{"$f":"MATCH($W$4,Millwall!$AB$84:$AP$84,0)","v":{"$error":"#N/A"}},{"$f":"MATCH($X$4,Millwall!$AB$84:$AP$84,0)","v":1},{"$f":"MATCH($Y$4,Millwall!$AB$84:$AP$84,0)","v":{"$error":"#N/A"}},{"$f":"MATCH($Z$4,Millwall!$AB$84:$AP$84,0)","v":{"$error":"#N/A"}},{"$f":"MATCH($AA$4,Millwall!$AB$84:$AP$84,0)","v":{"$error":"#N/A"}},{"$f":"MATCH($AB$4,Millwall!$AB$84:$AP$84,0)","v":{"$error":"#N/A"}},{"$f":"MATCH($AC$4,Millwall!$AB$84:$AP$84,0)","v":4},{"$f":"MATCH($AD$4,Millwall!$AB$84:$AP$84,0)","v":{"$error":"#N/A"}},{"$f":"MATCH($AE$4,Millwall!$AB$84:$AP$84,0)","v":{"$error":"#N/A"}},{"$f":"MATCH($AF$4,Millwall!$AB$84:$AP$84,0)","v":{"$error":"#N/A"}},{"$f":"MATCH($AG$4,Millwall!$AB$84:$AP$84,0)","v":{"$error":"#N/A"}},{"$f":"MATCH($AH$4,Millwall!$AB$84:$AP$84,0)","v":12},{"$f":"MATCH($AI$4,Millwall!$AB$84:$AP$84,0)","v":14},{"$f":"MATCH($AJ$4,Millwall!$AB$84:$AP$84,0)","v":7},{"$f":"MATCH($AK$4,Millwall!$AB$84:$AP$84,0)","v":{"$error":"#N/A"}},{"$f":"MATCH($AL$4,Millwall!$AB$84:$AP$84,0)","v":{"$error":"#N/A"}},{"$f":"MATCH($AM$4,Millwall!$AB$84:$AP$84,0)","v":6},{"$f":"MATCH($AN$4,Millwall!$AB$84:$AP$84,0)","v":{"$error":"#N/A"}},{"$f":"MATCH($AO$4,Millwall!$AB$84:$AP$84,0)","v":{"$error":"#N/A"}},{"$f":"MATCH($AP$4,Millwall!$AB$84:$AP$84,0)","v":{"$error":"#N/A"}},{"$f":"MATCH($AQ$4,Millwall!$AB$84:$AP$84,0)","v":{"$error":"#N/A"}},{"$f":"MATCH($AR$4,Millwall!$AE$84:$AP$84,0)","v":{"$error":"#N/A"}},null,null,null,null,null,{"$f":"MATCH(AX$3,Millwall!$AB84:$AP84,0)","v":{"$error":"#N/A"}},{"$f":"MATCH(AY$3,Millwall!$AB84:$AP84,0)","v":{"$error":"#N/A"}},{"$f":"MATCH(AZ$3,Millwall!$AB84:$AP84,0)","v":{"$error":"#N/A"}},{"$f":"MATCH(BA$3,Millwall!$AB84:$AP84,0)","v":{"$error":"#N/A"}},{"$f":"MATCH(BB$3,Millwall!$AB84:$AP84,0)","v":{"$error":"#N/A"}},{"$f":"MATCH(BC$3,Millwall!$AB84:$AP84,0)","v":{"$error":"#N/A"}},{"$f":"MATCH(BD$3,Millwall!$AB84:$AP84,0)","v":{"$error":"#N/A"}},{"$f":"MATCH(BE$3,Millwall!$AB84:$AP84,0)","v":{"$error":"#N/A"}},{"$f":"MATCH(BF$3,Millwall!$AB84:$AP84,0)","v":{"$error":"#N/A"}},{"$f":"MATCH(BG$3,Millwall!$AB84:$AP84,0)","v":{"$error":"#N/A"}},{"$f":"MATCH(BH$3,Millwall!$AB84:$AP84,0)","v":{"$error":"#N/A"}},{"$f":"MATCH(BI$3,Millwall!$AB84:$AP84,0)","v":10},{"$f":"MATCH(BJ$3,Millwall!$AB84:$AP84,0)","v":{"$error":"#N/A"}},{"$f":"MATCH(BK$3,Millwall!$AB84:$AP84,0)","v":{"$error":"#N/A"}},{"$f":"MATCH(BL$3,Millwall!$AB84:$AP84,0)","v":{"$error":"#N/A"}},{"$f":"MATCH(BM$3,Millwall!$AB84:$AP84,0)","v":{"$error":"#N/A"}},{"$f":"MATCH(BN$3,Millwall!$AB84:$AP84,0)","v":{"$error":"#N/A"}},{"$f":"MATCH(BO$3,Millwall!$AB84:$AP84,0)","v":{"$error":"#N/A"}},{"$f":"MATCH(BP$3,Millwall!$AB84:$AP84,0)","v":{"$error":"#N/A"}},{"$f":"MATCH(BQ$3,Millwall!$AB84:$AP84,0)","v":{"$error":"#N/A"}},{"$f":"MATCH(BR$3,Millwall!$AB84:$AP84,0)","v":{"$error":"#N/A"}},{"$f":"MATCH(BS$3,Millwall!$AB84:$AP84,0)","v":{"$error":"#N/A"}},{"$f":"MATCH(BT$3,Millwall!$AB84:$AP84,0)","v":{"$error":"#N/A"}},{"$f":"MATCH(BU$3,Millwall!$AB84:$AP84,0)","v":12},{"$f":"MATCH(BV$3,Millwall!$AB84:$AP84,0)","v":{"$error":"#N/A"}},{"$f":"MATCH(BW$3,Millwall!$AB84:$AP84,0)","v":{"$error":"#N/A"}},{"$f":"MATCH(BX$3,Millwall!$AB84:$AP84,0)","v":{"$error":"#N/A"}},{"$f":"MATCH(BY$3,Millwall!$AB84:$AP84,0)","v":{"$error":"#N/A"}},{"$f":"MATCH(BZ$3,Millwall!$AB84:$AP84,0)","v":{"$error":"#N/A"}},{"$f":"MATCH(CA$3,Millwall!$AB84:$AP84,0)","v":{"$error":"#N/A"}},{"$f":"MATCH(CB$3,Millwall!$AB84:$AP84,0)","v":{"$error":"#N/A"}},{"$f":"MATCH(CC$3,Millwall!$AB84:$AP84,0)","v":{"$error":"#N/A"}},{"$f":"MATCH(CD$3,Millwall!$AB84:$AP84,0)","v":{"$error":"#N/A"}},{"$f":"MATCH(CE$3,Millwall!$AB84:$AP84,0)","v":{"$error":"#N/A"}},null,null,{"$f":"MATCH($CH$3,Millwall!$AB$84:$AP$84,0)","v":{"$error":"#N/A"}},{"$f":"MATCH($CI$3,Millwall!$AB$84:$AP$84,0)","v":{"$error":"#N/A"}},{"$f":"MATCH($CJ$3,Millwall!$AB$84:$AP$84,0)","v":{"$error":"#N/A"}},{"$f":"MATCH($CK$3,Millwall!$AB$84:$AP$84,0)","v":{"$error":"#N/A"}},{"$f":"MATCH($CL$3,Millwall!$AB$84:$AP$84,0)","v":{"$error":"#N/A"}},{"$f":"MATCH($CM$3,Millwall!$AB$84:$AP$84,0)","v":{"$error":"#N/A"}},{"$f":"MATCH($CN$3,Millwall!$AB$84:$AP$84,0)","v":{"$error":"#N/A"}},{"$f":"MATCH($CO$3,Millwall!$AB$84:$AP$84,0)","v":{"$error":"#N/A"}},{"$f":"MATCH($CP$3,Millwall!$AB$84:$AP$84,0)","v":{"$error":"#N/A"}},{"$f":"MATCH($CQ$3,Millwall!$AB$84:$AP$84,0)","v":8},{"$f":"MATCH($CR$3,Millwall!$AB$84:$AP$84,0)","v":{"$error":"#N/A"}},{"$f":"MATCH($CS$3,Millwall!$AB$84:$AP$84,0)","v":{"$error":"#N/A"}},{"$f":"MATCH($CT$3,Millwall!$AB$84:$AP$84,0)","v":{"$error":"#N/A"}},{"$f":"MATCH($CU$3,Millwall!$AB$84:$AP$84,0)","v":{"$error":"#N/A"}},{"$f":"MATCH($CV$3,Millwall!$AB$84:$AP$84,0)","v":{"$error":"#N/A"}},{"$f":"MATCH($CW$3,Millwall!$AB$84:$AP$84,0)","v":{"$error":"#N/A"}},{"$f":"MATCH($CX$3,Millwall!$AB$84:$AP$84,0)","v":{"$error":"#N/A"}},{"$f":"MATCH($CY$3,Millwall!$AB$84:$AP$84,0)","v":{"$error":"#N/A"}},{"$f":"MATCH($CZ$3,Millwall!$AB$84:$AP$84,0)","v":{"$error":"#N/A"}},{"$f":"MATCH($DA$3,Millwall!$AB$84:$AP$84,0)","v":{"$error":"#N/A"}},{"$f":"MATCH($DB$3,Millwall!$AB$84:$AP$84,0)","v":{"$error":"#N/A"}},{"$f":"MATCH($DC$3,Millwall!$AB$84:$AP$84,0)","v":{"$error":"#N/A"}},{"$f":"MATCH($DD$3,Millwall!$AB$84:$AP$84,0)","v":{"$error":"#N/A"}},{"$f":"MATCH($DE$3,Millwall!$AB$84:$AP$84,0)","v":{"$error":"#N/A"}},{"$f":"MATCH($DF$3,Millwall!$AB$84:$AP$84,0)","v":14},{"$f":"MATCH($DG$3,Millwall!$AB$84:$AP$84,0)","v":{"$error":"#N/A"}},{"$f":"MATCH($DH$3,Millwall!$AB$84:$AP$84,0)","v":{"$error":"#N/A"}},{"$f":"MATCH($DI$3,Millwall!$AB$84:$AP$84,0)","v":{"$error":"#N/A"}},{"$f":"MATCH($DJ$3,Millwall!$AB$84:$AP$84,0)","v":{"$error":"#N/A"}},{"$f":"MATCH($DK$3,Millwall!$AB$84:$AP$84,0)","v":{"$error":"#N/A"}},{"$f":"MATCH($DL$3,Millwall!$AB$84:$AP$84,0)","v":{"$error":"#N/A"}},{"$f":"MATCH($DM$3,Millwall!$AB$84:$AP$84,0)","v":{"$error":"#N/A"}},{"$f":"MATCH($DN$3,Millwall!$AB$84:$AP$84,0)","v":{"$error":"#N/A"}},{"$f":"MATCH($DO$3,Millwall!$AB$84:$AP$84,0)","v":{"$error":"#N/A"}},null,null,null,null,null,null,null,null,{"$f":"$DY$14&\" [**\"","v":"Dolby [**"},{"$f":"Millwall!$BP60","v":"Dolby"},"Dolby (**",{"$f":"$DY$14&\"**\"","v":"Dolby**"},null,{"$f":"$DY$14","v":"Dolby"},{"$f":"$DZ$14","v":"Dolby (**"},{"$f":"$EA$14","v":"Dolby**"},null,{"$f":"Millwall!$BX15","v":0},{"$f":"Millwall!$CC15","v":0},{"$f":"Millwall!$CH15","v":0},{"$f":"Millwall!$CM15","v":0}]
[null,null,0,11,null,{"$f":"Millwall!X85","v":"1992-10-18"},null,{"$f":"Millwall!Y85","v":"Charlton"},{"$f":"Millwall!Z85","v":"(A)"},{"$f":"Millwall!AA85","v":"W 2-0"},{"$f":"MATCH($K$4,Millwall!$AB$85:$AP$85,0)","v":9},{"$f":"MATCH($L$4,Millwall!$AB$85:$AP$85,0)","v":{"$error":"#N/A"}},{"$f":"MATCH($M$4,Millwall!$AB$85:$AP$85,0)","v":11},{"$f":"MATCH($N$4,Millwall!$AB$85:$AP$85,0)","v":{"$error":"#N/A"}},{"$f":"MATCH($O$4,Millwall!$AB$85:$AP$85,0)","v":{"$error":"#N/A"}},{"$f":"MATCH($P$4,Millwall!$AB$85:$AP$85,0)","v":5},{"$f":"MATCH($Q$4,Millwall!$AB$85:$AP$85,0)","v":2},{"$f":"MATCH($R$4,Millwall!$AB$85:$AP$85,0)","v":{"$error":"#N/A"}},{"$f":"MATCH($S$4,Millwall!$AB$85:$AP$85,0)","v":3},{"$f":"MATCH($T$4,Millwall!$AB$85:$AP$85,0)","v":12},{"$f":"MATCH($U$4,Millwall!$AB$85:$AP$85,0)","v":{"$error":"#N/A"}},{"$f":"MATCH($V$4,Millwall!$AB$85:$AP$85,0)","v":10},{"$f":"MATCH($W$4,Millwall!$AB$85:$AP$85,0)","v":14},{"$f":"MATCH($X$4,Millwall!$AB$85:$AP$85,0)","v":1},{"$f":"MATCH($Y$4,Millwall!$AB$85:$AP$85,0)","v":{"$error":"#N/A"}},{"$f":"MATCH($Z$4,Millwall!$AB$85:$AP$85,0)","v":{"$error":"#N/A"}},{"$f":"MATCH($AA$4,Millwall!$AB$85:$AP$85,0)","v":{"$error":"#N/A"}},{"$f":"MATCH($AB$4,Millwall!$AB$85:$AP$85,0)","v":{"$error":"#N/A"}},{"$f":"MATCH($AC$4,Millwall!$AB$85:$AP$85,0)","v":4},{"$f":"MATCH($AD$4,Millwall!$AB$85:$AP$85,0)","v":{"$error":"#N/A"}},{"$f":"MATCH($AE$4,Millwall!$AB$85:$AP$85,0)","v":{"$error":"#N/A"}},{"$f":"MATCH($AF$4,Millwall!$AB$85:$AP$85,0)","v":{"$error":"#N/A"}},{"$f":"MATCH($AG$4,Millwall!$AB$85:$AP$85,0)","v":{"$error":"#N/A"}},{"$f":"MATCH($AH$4,Millwall!$AB$85:$AP$85,0)","v":8},{"$f":"MATCH($AI$4,Millwall!$AB$85:$AP$85,0)","v":6},{"$f":"MATCH($AJ$4,Millwall!$AB$85:$AP$85,0)","v":7},{"$f":"MATCH($AK$4,Millwall!$AB$85:$AP$85,0)","v":{"$error":"#N/A"}},{"$f":"MATCH($AL$4,Millwall!$AB$85:$AP$85,0)","v":{"$error":"#N/A"}},{"$f":"MATCH($AM$4,Millwall!$AB$85:$AP$85,0)","v":{"$error":"#N/A"}},{"$f":"MATCH($AN$4,Millwall!$AB$85:$AP$85,0)","v":{"$error":"#N/A"}},{"$f":"MATCH($AO$4,Millwall!$AB$85:$AP$85,0)","v":{"$error":"#N/A"}},{"$f":"MATCH($AP$4,Millwall!$AB$85:$AP$85,0)","v":{"$error":"#N/A"}},{"$f":"MATCH($AQ$4,Millwall!$AB$85:$AP$85,0)","v":{"$error":"#N/A"}},{"$f":"MATCH($AR$4,Millwall!$AE$85:$AP$85,0)","v":{"$error":"#N/A"}},null,null,null,null,null,{"$f":"MATCH(AX$3,Millwall!$AB85:$AP85,0)","v":{"$error":"#N/A"}},{"$f":"MATCH(AY$3,Millwall!$AB85:$AP85,0)","v":{"$error":"#N/A"}},{"$f":"MATCH(AZ$3,Millwall!$AB85:$AP85,0)","v":{"$error":"#N/A"}},{"$f":"MATCH(BA$3,Millwall!$AB85:$AP85,0)","v":{"$error":"#N/A"}},{"$f":"MATCH(BB$3,Millwall!$AB85:$AP85,0)","v":{"$error":"#N/A"}},{"$f":"MATCH(BC$3,Millwall!$AB85:$AP85,0)","v":{"$error":"#N/A"}},{"$f":"MATCH(BD$3,Millwall!$AB85:$AP85,0)","v":{"$error":"#N/A"}},{"$f":"MATCH(BE$3,Millwall!$AB85:$AP85,0)","v":{"$error":"#N/A"}},{"$f":"MATCH(BF$3,Millwall!$AB85:$AP85,0)","v":{"$error":"#N/A"}},{"$f":"MATCH(BG$3,Millwall!$AB85:$AP85,0)","v":12},{"$f":"MATCH(BH$3,Millwall!$AB85:$AP85,0)","v":{"$error":"#N/A"}},{"$f":"MATCH(BI$3,Millwall!$AB85:$AP85,0)","v":{"$error":"#N/A"}},{"$f":"MATCH(BJ$3,Millwall!$AB85:$AP85,0)","v":{"$error":"#N/A"}},{"$f":"MATCH(BK$3,Millwall!$AB85:$AP85,0)","v":{"$error":"#N/A"}},{"$f":"MATCH(BL$3,Millwall!$AB85:$AP85,0)","v":{"$error":"#N/A"}},{"$f":"MATCH(BM$3,Millwall!$AB85:$AP85,0)","v":{"$error":"#N/A"}},{"$f":"MATCH(BN$3,Millwall!$AB85:$AP85,0)","v":{"$error":"#N/A"}},{"$f":"MATCH(BO$3,Millwall!$AB85:$AP85,0)","v":{"$error":"#N/A"}},{"$f":"MATCH(BP$3,Millwall!$AB85:$AP85,0)","v":{"$error":"#N/A"}},{"$f":"MATCH(BQ$3,Millwall!$AB85:$AP85,0)","v":{"$error":"#N/A"}},{"$f":"MATCH(BR$3,Millwall!$AB85:$AP85,0)","v":{"$error":"#N/A"}},{"$f":"MATCH(BS$3,Millwall!$AB85:$AP85,0)","v":{"$error":"#N/A"}},{"$f":"MATCH(BT$3,Millwall!$AB85:$AP85,0)","v":{"$error":"#N/A"}},{"$f":"MATCH(BU$3,Millwall!$AB85:$AP85,0)","v":8},{"$f":"MATCH(BV$3,Millwall!$AB85:$AP85,0)","v":{"$error":"#N/A"}},{"$f":"MATCH(BW$3,Millwall!$AB85:$AP85,0)","v":{"$error":"#N/A"}},{"$f":"MATCH(BX$3,Millwall!$AB85:$AP85,0)","v":{"$error":"#N/A"}},{"$f":"MATCH(BY$3,Millwall!$AB85:$AP85,0)","v":{"$error":"#N/A"}},{"$f":"MATCH(BZ$3,Millwall!$AB85:$AP85,0)","v":{"$error":"#N/A"}},{"$f":"MATCH(CA$3,Millwall!$AB85:$AP85,0)","v":{"$error":"#N/A"}},{"$f":"MATCH(CB$3,Millwall!$AB85:$AP85,0)","v":{"$error":"#N/A"}},{"$f":"MATCH(CC$3,Millwall!$AB85:$AP85,0)","v":{"$error":"#N/A"}},{"$f":"MATCH(CD$3,Millwall!$AB85:$AP85,0)","v":{"$error":"#N/A"}},{"$f":"MATCH(CE$3,Millwall!$AB85:$AP85,0)","v":{"$error":"#N/A"}},null,null,{"$f":"MATCH($CH$3,Millwall!$AB$85:$AP$85,0)","v":{"$error":"#N/A"}},{"$f":"MATCH($CI$3,Millwall!$AB$85:$AP$85,0)","v":{"$error":"#N/A"}},{"$f":"MATCH($CJ$3,Millwall!$AB$85:$AP$85,0)","v":{"$error":"#N/A"}},{"$f":"MATCH($CK$3,Millwall!$AB$85:$AP$85,0)","v":{"$error":"#N/A"}},{"$f":"MATCH($CL$3,Millwall!$AB$85:$AP$85,0)","v":{"$error":"#N/A"}},{"$f":"MATCH($CM$3,Millwall!$AB$85:$AP$85,0)","v":{"$error":"#N/A"}},{"$f":"MATCH($CN$3,Millwall!$AB$85:$AP$85,0)","v":{"$error":"#N/A"}},{"$f":"MATCH($CO$3,Millwall!$AB$85:$AP$85,0)","v":{"$error":"#N/A"}},{"$f":"MATCH($CP$3,Millwall!$AB$85:$AP$85,0)","v":{"$error":"#N/A"}},{"$f":"MATCH($CQ$3,Millwall!$AB$85:$AP$85,0)","v":{"$error":"#N/A"}},{"$f":"MATCH($CR$3,Millwall!$AB$85:$AP$85,0)","v":{"$error":"#N/A"}},{"$f":"MATCH($CS$3,Millwall!$AB$85:$AP$85,0)","v":{"$error":"#N/A"}},{"$f":"MATCH($CT$3,Millwall!$AB$85:$AP$85,0)","v":{"$error":"#N/A"}},{"$f":"MATCH($CU$3,Millwall!$AB$85:$AP$85,0)","v":{"$error":"#N/A"}},{"$f":"MATCH($CV$3,Millwall!$AB$85:$AP$85,0)","v":{"$error":"#N/A"}},{"$f":"MATCH($CW$3,Millwall!$AB$85:$AP$85,0)","v":{"$error":"#N/A"}},{"$f":"MATCH($CX$3,Millwall!$AB$85:$AP$85,0)","v":{"$error":"#N/A"}},{"$f":"MATCH($CY$3,Millwall!$AB$85:$AP$85,0)","v":{"$error":"#N/A"}},{"$f":"MATCH($CZ$3,Millwall!$AB$85:$AP$85,0)","v":{"$error":"#N/A"}},{"$f":"MATCH($DA$3,Millwall!$AB$85:$AP$85,0)","v":{"$error":"#N/A"}},{"$f":"MATCH($DB$3,Millwall!$AB$85:$AP$85,0)","v":{"$error":"#N/A"}},{"$f":"MATCH($DC$3,Millwall!$AB$85:$AP$85,0)","v":{"$error":"#N/A"}},{"$f":"MATCH($DD$3,Millwall!$AB$85:$AP$85,0)","v":{"$error":"#N/A"}},{"$f":"MATCH($DE$3,Millwall!$AB$85:$AP$85,0)","v":{"$error":"#N/A"}},{"$f":"MATCH($DF$3,Millwall!$AB$85:$AP$85,0)","v":{"$error":"#N/A"}},{"$f":"MATCH($DG$3,Millwall!$AB$85:$AP$85,0)","v":{"$error":"#N/A"}},{"$f":"MATCH($DH$3,Millwall!$AB$85:$AP$85,0)","v":{"$error":"#N/A"}},{"$f":"MATCH($DI$3,Millwall!$AB$85:$AP$85,0)","v":{"$error":"#N/A"}},{"$f":"MATCH($DJ$3,Millwall!$AB$85:$AP$85,0)","v":{"$error":"#N/A"}},{"$f":"MATCH($DK$3,Millwall!$AB$85:$AP$85,0)","v":{"$error":"#N/A"}},{"$f":"MATCH($DL$3,Millwall!$AB$85:$AP$85,0)","v":{"$error":"#N/A"}},{"$f":"MATCH($DM$3,Millwall!$AB$85:$AP$85,0)","v":{"$error":"#N/A"}},{"$f":"MATCH($DN$3,Millwall!$AB$85:$AP$85,0)","v":{"$error":"#N/A"}},{"$f":"MATCH($DO$3,Millwall!$AB$85:$AP$85,0)","v":{"$error":"#N/A"}},null,null,null,null,null,null,null,null,{"$f":"$DY$15&\" [**\"","v":"Gaynor [**"},{"$f":"Millwall!$BP61","v":"Gaynor"},"Gaynor (**",{"$f":"$DY$15&\"**\"","v":"Gaynor**"},null,{"$f":"$DY$15","v":"Gaynor"},{"$f":"$DZ$15","v":"Gaynor (**"},{"$f":"$EA$15","v":"Gaynor**"},null,{"$f":"Millwall!$BX16","v":0},{"$f":"Millwall!$CC16","v":0},{"$f":"Millwall!$CH16","v":0},{"$f":"Millwall!$CM16","v":0}]
[null,null,0,12,null,{"$f":"Millwall!X86","v":"1992-10-25"},null,{"$f":"Millwall!Y86","v":"Wolves"},{"$f":"Millwall!Z86","v":"(H)"},{"$f":"Millwall!AA86","v":"W 2-0"},{"$f":"MATCH($K$4,Millwall!$AB$86:$AP$86,0)","v":9},{"$f":"MATCH($L$4,Millwall!$AB$86:$AP$86,0)","v":{"$error":"#N/A"}},{"$f":"MATCH($M$4,Millwall!$AB$86:$AP$86,0)","v":11},{"$f":"MATCH($N$4,Millwall!$AB$86:$AP$86,0)","v":{"$error":"#N/A"}},{"$f":"MATCH($O$4,Millwall!$AB$86:$AP$86,0)","v":{"$error":"#N/A"}},{"$f":"MATCH($P$4,Millwall!$AB$86:$AP$86,0)","v":5},{"$f":"MATCH($Q$4,Millwall!$AB$86:$AP$86,0)","v":2},{"$f":"MATCH($R$4,Millwall!$AB$86:$AP$86,0)","v":{"$error":"#N/A"}},{"$f":"MATCH($S$4,Millwall!$AB$86:$AP$86,0)","v":3},{"$f":"MATCH($T$4,Millwall!$AB$86:$AP$86,0)","v":12},{"$f":"MATCH($U$4,Millwall!$AB$86:$AP$86,0)","v":{"$error":"#N/A"}},{"$f":"MATCH($V$4,Millwall!$AB$86:$AP$86,0)","v":10},{"$f":"MATCH($W$4,Millwall!$AB$86:$AP$86,0)","v":14},{"$f":"MATCH($X$4,Millwall!$AB$86:$AP$86,0)","v":1},{"$f":"MATCH($Y$4,Millwall!$AB$86:$AP$86,0)","v":{"$error":"#N/A"}},{"$f":"MATCH($Z$4,Millwall!$AB$86:$AP$86,0)","v":{"$error":"#N/A"}},{"$f":"MATCH($AA$4,Millwall!$AB$86:$AP$86,0)","v":{"$error":"#N/A"}},{"$f":"MATCH($AB$4,Millwall!$AB$86:$AP$86,0)","v":{"$error":"#N/A"}},{"$f":"MATCH($AC$4,Millwall!$AB$86:$AP$86,0)","v":4},{"$f":"MATCH($AD$4,Millwall!$AB$86:$AP$86,0)","v":{"$error":"#N/A"}},{"$f":"MATCH($AE$4,Millwall!$AB$86:$AP$86,0)","v":{"$error":"#N/A"}},{"$f":"MATCH($AF$4,Millwall!$AB$86:$AP$86,0)","v":{"$error":"#N/A"}},{"$f":"MATCH($AG$4,Millwall!$AB$86:$AP$86,0)","v":{"$error":"#N/A"}},{"$f":"MATCH($AH$4,Millwall!$AB$86:$AP$86,0)","v":8},{"$f":"MATCH($AI$4,Millwall!$AB$86:$AP$86,0)","v":6},{"$f":"MATCH($AJ$4,Millwall!$AB$86:$AP$86,0)","v":7},{"$f":"MATCH($AK$4,Millwall!$AB$86:$AP$86,0)","v":{"$error":"#N/A"}},{"$f":"MATCH($AL$4,Millwall!$AB$86:$AP$86,0)","v":{"$error":"#N/A"}},{"$f":"MATCH($AM$4,Millwall!$AB$86:$AP$86,0)","v":{"$error":"#N/A"}},{"$f":"MATCH($AN$4,Millwall!$AB$86:$AP$86,0)","v":{"$error":"#N/A"}},{"$f":"MATCH($AO$4,Millwall!$AB$86:$AP$86,0)","v":{"$error":"#N/A"}},{"$f":"MATCH($AP$4,Millwall!$AB$86:$AP$86,0)","v":{"$error":"#N/A"}},{"$f":"MATCH($AQ$4,Millwall!$AB$86:$AP$86,0)","v":{"$error":"#N/A"}},{"$f":"MATCH($AR$4,Millwall!$AE$86:$AP$86,0)","v":{"$error":"#N/A"}},null,null,null,null,null,{"$f":"MATCH(AX$3,Millwall!$AB86:$AP86,0)","v":{"$error":"#N/A"}},{"$f":"MATCH(AY$3,Millwall!$AB86:$AP86,0)","v":{"$error":"#N/A"}},{"$f":"MATCH(AZ$3,Millwall!$AB86:$AP86,0)","v":{"$error":"#N/A"}},{"$f":"MATCH(BA$3,Millwall!$AB86:$AP86,0)","v":{"$error":"#N/A"}},{"$f":"MATCH(BB$3,Millwall!$AB86:$AP86,0)","v":{"$error":"#N/A"}},{"$f":"MATCH(BC$3,Millwall!$AB86:$AP86,0)","v":{"$error":"#N/A"}},{"$f":"MATCH(BD$3,Millwall!$AB86:$AP86,0)","v":{"$error":"#N/A"}},{"$f":"MATCH(BE$3,Millwall!$AB86:$AP86,0)","v":{"$error":"#N/A"}},{"$f":"MATCH(BF$3,Millwall!$AB86:$AP86,0)","v":{"$error":"#N/A"}},{"$f":"MATCH(BG$3,Millwall!$AB86:$AP86,0)","v":12},{"$f":"MATCH(BH$3,Millwall!$AB86:$AP86,0)","v":{"$error":"#N/A"}},{"$f":"MATCH(BI$3,Millwall!$AB86:$AP86,0)","v":10},{"$f":"MATCH(BJ$3,Millwall!$AB86:$AP86,0)","v":{"$error":"#N/A"}},{"$f":"MATCH(BK$3,Millwall!$AB86:$AP86,0)","v":{"$error":"#N/A"}},{"$f":"MATCH(BL$3,Millwall!$AB86:$AP86,0)","v":{"$error":"#N/A"}},{"$f":"MATCH(BM$3,Millwall!$AB86:$AP86,0)","v":{"$error":"#N/A"}},{"$f":"MATCH(BN$3,Millwall!$AB86:$AP86,0)","v":{"$error":"#N/A"}},{"$f":"MATCH(BO$3,Millwall!$AB86:$AP86,0)","v":{"$error":"#N/A"}},{"$f":"MATCH(BP$3,Millwall!$AB86:$AP86,0)","v":{"$error":"#N/A"}},{"$f":"MATCH(BQ$3,Millwall!$AB86:$AP86,0)","v":{"$error":"#N/A"}},{"$f":"MATCH(BR$3,Millwall!$AB86:$AP86,0)","v":{"$error":"#N/A"}},{"$f":"MATCH(BS$3,Millwall!$AB86:$AP86,0)","v":{"$error":"#N/A"}},{"$f":"MATCH(BT$3,Millwall!$AB86:$AP86,0)","v":{"$error":"#N/A"}},{"$f":"MATCH(BU$3,Millwall!$AB86:$AP86,0)","v":{"$error":"#N/A"}},{"$f":"MATCH(BV$3,Millwall!$AB86:$AP86,0)","v":{"$error":"#N/A"}},{"$f":"MATCH(BW$3,Millwall!$AB86:$AP86,0)","v":{"$error":"#N/A"}},{"$f":"MATCH(BX$3,Millwall!$AB86:$AP86,0)","v":{"$error":"#N/A"}},{"$f":"MATCH(BY$3,Millwall!$AB86:$AP86,0)","v":{"$error":"#N/A"}},{"$f":"MATCH(BZ$3,Millwall!$AB86:$AP86,0)","v":{"$error":"#N/A"}},{"$f":"MATCH(CA$3,Millwall!$AB86:$AP86,0)","v":{"$error":"#N/A"}},{"$f":"MATCH(CB$3,Millwall!$AB86:$AP86,0)","v":{"$error":"#N/A"}},{"$f":"MATCH(CC$3,Millwall!$AB86:$AP86,0)","v":{"$error":"#N/A"}},{"$f":"MATCH(CD$3,Millwall!$AB86:$AP86,0)","v":{"$error":"#N/A"}},{"$f":"MATCH(CE$3,Millwall!$AB86:$AP86,0)","v":{"$error":"#N/A"}},null,null,{"$f":"MATCH($CH$3,Millwall!$AB$86:$AP$86,0)","v":{"$error":"#N/A"}},{"$f":"MATCH($CI$3,Millwall!$AB$86:$AP$86,0)","v":{"$error":"#N/A"}},{"$f":"MATCH($CJ$3,Millwall!$AB$86:$AP$86,0)","v":11},{"$f":"MATCH($CK$3,Millwall!$AB$86:$AP$86,0)","v":{"$error":"#N/A"}},{"$f":"MATCH($CL$3,Millwall!$AB$86:$AP$86,0)","v":{"$error":"#N/A"}},{"$f":"MATCH($CM$3,Millwall!$AB$86:$AP$86,0)","v":{"$error":"#N/A"}},{"$f":"MATCH($CN$3,Millwall!$AB$86:$AP$86,0)","v":{"$error":"#N/A"}},{"$f":"MATCH($CO$3,Millwall!$AB$86:$AP$86,0)","v":{"$error":"#N/A"}},{"$f":"MATCH($CP$3,Millwall!$AB$86:$AP$86,0)","v":{"$error":"#N/A"}},{"$f":"MATCH($CQ$3,Millwall!$AB$86:$AP$86,0)","v":{"$error":"#N/A"}},{"$f":"MATCH($CR$3,Millwall!$AB$86:$AP$86,0)","v":{"$error":"#N/A"}},{"$f":"MATCH($CS$3,Millwall!$AB$86:$AP$86,0)","v":{"$error":"#N/A"}},{"$f":"MATCH($CT$3,Millwall!$AB$86:$AP$86,0)","v":14},{"$f":"MATCH($CU$3,Millwall!$AB$86:$AP$86,0)","v":{"$error":"#N/A"}},{"$f":"MATCH($CV$3,Millwall!$AB$86:$AP$86,0)","v":{"$error":"#N/A"}},{"$f":"MATCH($CW$3,Millwall!$AB$86:$AP$86,0)","v":{"$error":"#N/A"}},{"$f":"MATCH($CX$3,Millwall!$AB$86:$AP$86,0)","v":{"$error":"#N/A"}},{"$f":"MATCH($CY$3,Millwall!$AB$86:$AP$86,0)","v":{"$error":"#N/A"}},{"$f":"MATCH($CZ$3,Millwall!$AB$86:$AP$86,0)","v":{"$error":"#N/A"}},{"$f":"MATCH($DA$3,Millwall!$AB$86:$AP$86,0)","v":{"$error":"#N/A"}},{"$f":"MATCH($DB$3,Millwall!$AB$86:$AP$86,0)","v":{"$error":"#N/A"}},{"$f":"MATCH($DC$3,Millwall!$AB$86:$AP$86,0)","v":{"$error":"#N/A"}},{"$f":"MATCH($DD$3,Millwall!$AB$86:$AP$86,0)","v":{"$error":"#N/A"}},{"$f":"MATCH($DE$3,Millwall!$AB$86:$AP$86,0)","v":{"$error":"#N/A"}},{"$f":"MATCH($DF$3,Millwall!$AB$86:$AP$86,0)","v":{"$error":"#N/A"}},{"$f":"MATCH($DG$3,Millwall!$AB$86:$AP$86,0)","v":{"$error":"#N/A"}},{"$f":"MATCH($DH$3,Millwall!$AB$86:$AP$86,0)","v":{"$error":"#N/A"}},{"$f":"MATCH($DI$3,Millwall!$AB$86:$AP$86,0)","v":{"$error":"#N/A"}},{"$f":"MATCH($DJ$3,Millwall!$AB$86:$AP$86,0)","v":{"$error":"#N/A"}},{"$f":"MATCH($DK$3,Millwall!$AB$86:$AP$86,0)","v":{"$error":"#N/A"}},{"$f":"MATCH($DL$3,Millwall!$AB$86:$AP$86,0)","v":{"$error":"#N/A"}},{"$f":"MATCH($DM$3,Millwall!$AB$86:$AP$86,0)","v":{"$error":"#N/A"}},{"$f":"MATCH($DN$3,Millwall!$AB$86:$AP$86,0)","v":{"$error":"#N/A"}},{"$f":"MATCH($DO$3,Millwall!$AB$86:$AP$86,0)","v":{"$error":"#N/A"}},null,null,null,null,null,null,null,null,{"$f":"$DY$16&\" [**\"","v":"Goodman [**"},{"$f":"Millwall!$BP62","v":"Goodman"},"Goodman (**",{"$f":"$DY$16&\"**\"","v":"Goodman**"},null,{"$f":"$DY$16","v":"Goodman"},{"$f":"$DZ$16","v":"Goodman (**"},{"$f":"$EA$16","v":"Goodman**"},null,{"$f":"Millwall!$BX17","v":0},{"$f":"Millwall!$CC17","v":0},{"$f":"Millwall!$CH17","v":0},{"$f":"Millwall!$CM17","v":0}]
[null,null,0,13,null,{"$f":"Millwall!X87","v":"1992-10-31"},null,{"$f":"Millwall!Y87","v":"Bristol R"},{"$f":"Millwall!Z87","v":"(A)"},{"$f":"Millwall!AA87","v":"L 0-1"},{"$f":"MATCH($K$4,Millwall!$AB$87:$AP$87,0)","v":9},{"$f":"MATCH($L$4,Millwall!$AB$87:$AP$87,0)","v":{"$error":"#N/A"}},{"$f":"MATCH($M$4,Millwall!$AB$87:$AP$87,0)","v":11},{"$f":"MATCH($N$4,Millwall!$AB$87:$AP$87,0)","v":{"$error":"#N/A"}},{"$f":"MATCH($O$4,Millwall!$AB$87:$AP$87,0)","v":14},{"$f":"MATCH($P$4,Millwall!$AB$87:$AP$87,0)","v":5},{"$f":"MATCH($Q$4,Millwall!$AB$87:$AP$87,0)","v":2},{"$f":"MATCH($R$4,Millwall!$AB$87:$AP$87,0)","v":{"$error":"#N/A"}},{"$f":"MATCH($S$4,Millwall!$AB$87:$AP$87,0)","v":3},{"$f":"MATCH($T$4,Millwall!$AB$87:$AP$87,0)","v":12},{"$f":"MATCH($U$4,Millwall!$AB$87:$AP$87,0)","v":{"$error":"#N/A"}},{"$f":"MATCH($V$4,Millwall!$AB$87:$AP$87,0)","v":10},{"$f":"MATCH($W$4,Millwall!$AB$87:$AP$87,0)","v":{"$error":"#N/A"}},{"$f":"MATCH($X$4,Millwall!$AB$87:$AP$87,0)","v":1},{"$f":"MATCH($Y$4,Millwall!$AB$87:$AP$87,0)","v":{"$error":"#N/A"}},{"$f":"MATCH($Z$4,Millwall!$AB$87:$AP$87,0)","v":{"$error":"#N/A"}},{"$f":"MATCH($AA$4,Millwall!$AB$87:$AP$87,0)","v":{"$error":"#N/A"}},{"$f":"MATCH($AB$4,Millwall!$AB$87:$AP$87,0)","v":{"$error":"#N/A"}},{"$f":"MATCH($AC$4,Millwall!$AB$87:$AP$87,0)","v":4},{"$f":"MATCH($AD$4,Millwall!$AB$87:$AP$87,0)","v":{"$error":"#N/A"}},{"$f":"MATCH($AE$4,Millwall!$AB$87:$AP$87,0)","v":{"$error":"#N/A"}},{"$f":"MATCH($AF$4,Millwall!$AB$87:$AP$87,0)","v":{"$error":"#N/A"}},{"$f":"MATCH($AG$4,Millwall!$AB$87:$AP$87,0)","v":{"$error":"#N/A"}},{"$f":"MATCH($AH$4,Millwall!$AB$87:$AP$87,0)","v":8},{"$f":"MATCH($AI$4,Millwall!$AB$87:$AP$87,0)","v":6},{"$f":"MATCH($AJ$4,Millwall!$AB$87:$AP$87,0)","v":7},{"$f":"MATCH($AK$4,Millwall!$AB$87:$AP$87,0)","v":{"$error":"#N/A"}},{"$f":"MATCH($AL$4,Millwall!$AB$87:$AP$87,0)","v":{"$error":"#N/A"}},{"$f":"MATCH($AM$4,Millwall!$AB$87:$AP$87,0)","v":{"$error":"#N/A"}},{"$f":"MATCH($AN$4,Millwall!$AB$87:$AP$87,0)","v":{"$error":"#N/A"}},{"$f":"MATCH($AO$4,Millwall!$AB$87:$AP$87,0)","v":{"$error":"#N/A"}},{"$f":"MATCH($AP$4,Millwall!$AB$87:$AP$87,0)","v":{"$error":"#N/A"}},{"$f":"MATCH($AQ$4,Millwall!$AB$87:$AP$87,0)","v":{"$error":"#N/A"}},{"$f":"MATCH($AR$4,Millwall!$AE$87:$AP$87,0)","v":{"$error":"#N/A"}},null,null,null,null,null,{"$f":"MATCH(AX$3,Millwall!$AB87:$AP87,0)","v":{"$error":"#N/A"}},{"$f":"MATCH(AY$3,Millwall!$AB87:$AP87,0)","v":{"$error":"#N/A"}},{"$f":"MATCH(AZ$3,Millwall!$AB87:$AP87,0)","v":{"$error":"#N/A"}},{"$f":"MATCH(BA$3,Millwall!$AB87:$AP87,0)","v":{"$error":"#N/A"}},{"$f":"MATCH(BB$3,Millwall!$AB87:$AP87,0)","v":{"$error":"#N/A"}},{"$f":"MATCH(BC$3,Millwall!$AB87:$AP87,0)","v":{"$error":"#N/A"}},{"$f":"MATCH(BD$3,Millwall!$AB87:$AP87,0)","v":{"$error":"#N/A"}},{"$f":"MATCH(BE$3,Millwall!$AB87:$AP87,0)","v":{"$error":"#N/A"}},{"$f":"MATCH(BF$3,Millwall!$AB87:$AP87,0)","v":{"$error":"#N/A"}},{"$f":"MATCH(BG$3,Millwall!$AB87:$AP87,0)","v":12},{"$f":"MATCH(BH$3,Millwall!$AB87:$AP87,0)","v":{"$error":"#N/A"}},{"$f":"MATCH(BI$3,Millwall!$AB87:$AP87,0)","v":{"$error":"#N/A"}},{"$f":"MATCH(BJ$3,Millwall!$AB87:$AP87,0)","v":{"$error":"#N/A"}},{"$f":"MATCH(BK$3,Millwall!$AB87:$AP87,0)","v":{"$error":"#N/A"}},{"$f":"MATCH(BL$3,Millwall!$AB87:$AP87,0)","v":{"$error":"#N/A"}},{"$f":"MATCH(BM$3,Millwall!$AB87:$AP87,0)","v":{"$error":"#N/A"}},{"$f":"MATCH(BN$3,Millwall!$AB87:$AP87,0)","v":{"$error":"#N/A"}},{"$f":"MATCH(BO$3,Millwall!$AB87:$AP87,0)","v":{"$error":"#N/A"}},{"$f":"MATCH(BP$3,Millwall!$AB87:$AP87,0)","v":{"$error":"#N/A"}},{"$f":"MATCH(BQ$3,Millwall!$AB87:$AP87,0)","v":{"$error":"#N/A"}},{"$f":"MATCH(BR$3,Millwall!$AB87:$AP87,0)","v":{"$error":"#N/A"}},{"$f":"MATCH(BS$3,Millwall!$AB87:$AP87,0)","v":{"$error":"#N/A"}},{"$f":"MATCH(BT$3,Millwall!$AB87:$AP87,0)","v":{"$error":"#N/A"}},{"$f":"MATCH(BU$3,Millwall!$AB87:$AP87,0)","v":{"$error":"#N/A"}},{"$f":"MATCH(BV$3,Millwall!$AB87:$AP87,0)","v":6},{"$f":"MATCH(BW$3,Millwall!$AB87:$AP87,0)","v":{"$error":"#N/A"}},{"$f":"MATCH(BX$3,Millwall!$AB87:$AP87,0)","v":{"$error":"#N/A"}},{"$f":"MATCH(BY$3,Millwall!$AB87:$AP87,0)","v":{"$error":"#N/A"}},{"$f":"MATCH(BZ$3,Millwall!$AB87:$AP87,0)","v":{"$error":"#N/A"}},{"$f":"MATCH(CA$3,Millwall!$AB87:$AP87,0)","v":{"$error":"#N/A"}},{"$f":"MATCH(CB$3,Millwall!$AB87:$AP87,0)","v":{"$error":"#N/A"}},{"$f":"MATCH(CC$3,Millwall!$AB87:$AP87,0)","v":{"$error":"#N/A"}},{"$f":"MATCH(CD$3,Millwall!$AB87:$AP87,0)","v":{"$error":"#N/A"}},{"$f":"MATCH(CE$3,Millwall!$AB87:$AP87,0)","v":{"$error":"#N/A"}},null,null,{"$f":"MATCH($CH$3,Millwall!$AB$87:$AP$87,0)","v":9},{"$f":"MATCH($CI$3,Millwall!$AB$87:$AP$87,0)","v":{"$error":"#N/A"}},{"$f":"MATCH($CJ$3,Millwall!$AB$87:$AP$87,0)","v":{"$error":"#N/A"}},{"$f":"MATCH($CK$3,Millwall!$AB$87:$AP$87,0)","v":{"$error":"#N/A"}},{"$f":"MATCH($CL$3,Millwall!$AB$87:$AP$87,0)","v":14},{"$f":"MATCH($CM$3,Millwall!$AB$87:$AP$87,0)","v":{"$error":"#N/A"}},{"$f":"MATCH($CN$3,Millwall!$AB$87:$AP$87,0)","v":{"$error":"#N/A"}},{"$f":"MATCH($CO$3,Millwall!$AB$87:$AP$87,0)","v":{"$error":"#N/A"}},{"$f":"MATCH($CP$3,Millwall!$AB$87:$AP$87,0)","v":{"$error":"#N/A"}},{"$f":"MATCH($CQ$3,Millwall!$AB$87:$AP$87,0)","v":{"$error":"#N/A"}},{"$f":"MATCH($CR$3,Millwall!$AB$87:$AP$87,0)","v":{"$error":"#N/A"}},{"$f":"MATCH($CS$3,Millwall!$AB$87:$AP$87,0)","v":{"$error":"#N/A"}},{"$f":"MATCH($CT$3,Millwall!$AB$87:$AP$87,0)","v":{"$error":"#N/A"}},{"$f":"MATCH($CU$3,Millwall!$AB$87:$AP$87,0)","v":{"$error":"#N/A"}},{"$f":"MATCH($CV$3,Millwall!$AB$87:$AP$87,0)","v":{"$error":"#N/A"}},{"$f":"MATCH($CW$3,Millwall!$AB$87:$AP$87,0)","v":{"$error":"#N/A"}},{"$f":"MATCH($CX$3,Millwall!$AB$87:$AP$87,0)","v":{"$error":"#N/A"}},{"$f":"MATCH($CY$3,Millwall!$AB$87:$AP$87,0)","v":{"$error":"#N/A"}},{"$f":"MATCH($CZ$3,Millwall!$AB$87:$AP$87,0)","v":{"$error":"#N/A"}},{"$f":"MATCH($DA$3,Millwall!$AB$87:$AP$87,0)","v":{"$error":"#N/A"}},{"$f":"MATCH($DB$3,Millwall!$AB$87:$AP$87,0)","v":{"$error":"#N/A"}},{"$f":"MATCH($DC$3,Millwall!$AB$87:$AP$87,0)","v":{"$error":"#N/A"}},{"$f":"MATCH($DD$3,Millwall!$AB$87:$AP$87,0)","v":{"$error":"#N/A"}},{"$f":"MATCH($DE$3,Millwall!$AB$87:$AP$87,0)","v":{"$error":"#N/A"}},{"$f":"MATCH($DF$3,Millwall!$AB$87:$AP$87,0)","v":{"$error":"#N/A"}},{"$f":"MATCH($DG$3,Millwall!$AB$87:$AP$87,0)","v":{"$error":"#N/A"}},{"$f":"MATCH($DH$3,Millwall!$AB$87:$AP$87,0)","v":{"$error":"#N/A"}},{"$f":"MATCH($DI$3,Millwall!$AB$87:$AP$87,0)","v":{"$error":"#N/A"}},{"$f":"MATCH($DJ$3,Millwall!$AB$87:$AP$87,0)","v":{"$error":"#N/A"}},{"$f":"MATCH($DK$3,Millwall!$AB$87:$AP$87,0)","v":{"$error":"#N/A"}},{"$f":"MATCH($DL$3,Millwall!$AB$87:$AP$87,0)","v":{"$error":"#N/A"}},{"$f":"MATCH($DM$3,Millwall!$AB$87:$AP$87,0)","v":{"$error":"#N/A"}},{"$f":"MATCH($DN$3,Millwall!$AB$87:$AP$87,0)","v":{"$error":"#N/A"}},{"$f":"MATCH($DO$3,Millwall!$AB$87:$AP$87,0)","v":{"$error":"#N/A"}},null,null,null,null,null,null,null,null,{"$f":"$DY$17&\" [**\"","v":"Holsgrove [**"},{"$f":"Millwall!$BP63","v":"Holsgrove"},"Holsgrove (**",{"$f":"$DY$17&\"**\"","v":"Holsgrove**"},null,{"$f":"$DY$17","v":"Holsgrove"},{"$f":"$DZ$17","v":"Holsgrove (**"},{"$f":"$EA$17","v":"Holsgrove**"},null,{"$f":"Millwall!$BX18","v":0},{"$f":"Millwall!$CC18","v":0},{"$f":"Millwall!$CH18","v":0},{"$f":"Millwall!$CM18","v":0}]
[null,null,0,14,null,{"$f":"Millwall!X88","v":"1992-11-04"},null,{"$f":"Millwall!Y88","v":"Bristol C"},{"$f":"Millwall!Z88","v":"(H)"},{"$f":"Millwall!AA88","v":"W 4-1"},{"$f":"MATCH($K$4,Millwall!$AB$88:$AP$88,0)","v":9},{"$f":"MATCH($L$4,Millwall!$AB$88:$AP$88,0)","v":{"$error":"#N/A"}},{"$f":"MATCH($M$4,Millwall!$AB$88:$AP$88,0)","v":11},{"$f":"MATCH($N$4,Millwall!$AB$88:$AP$88,0)","v":{"$error":"#N/A"}},{"$f":"MATCH($O$4,Millwall!$AB$88:$AP$88,0)","v":10},{"$f":"MATCH($P$4,Millwall!$AB$88:$AP$88,0)","v":5},{"$f":"MATCH($Q$4,Millwall!$AB$88:$AP$88,0)","v":2},{"$f":"MATCH($R$4,Millwall!$AB$88:$AP$88,0)","v":{"$error":"#N/A"}},{"$f":"MATCH($S$4,Millwall!$AB$88:$AP$88,0)","v":3},{"$f":"MATCH($T$4,Millwall!$AB$88:$AP$88,0)","v":12},{"$f":"MATCH($U$4,Millwall!$AB$88:$AP$88,0)","v":{"$error":"#N/A"}},{"$f":"MATCH($V$4,Millwall!$AB$88:$AP$88,0)","v":14},{"$f":"MATCH($W$4,Millwall!$AB$88:$AP$88,0)","v":{"$error":"#N/A"}},{"$f":"MATCH($X$4,Millwall!$AB$88:$AP$88,0)","v":1},{"$f":"MATCH($Y$4,Millwall!$AB$88:$AP$88,0)","v":{"$error":"#N/A"}},{"$f":"MATCH($Z$4,Millwall!$AB$88:$AP$88,0)","v":{"$error":"#N/A"}},{"$f":"MATCH($AA$4,Millwall!$AB$88:$AP$88,0)","v":{"$error":"#N/A"}},{"$f":"MATCH($AB$4,Millwall!$AB$88:$AP$88,0)","v":{"$error":"#N/A"}},{"$f":"MATCH($AC$4,Millwall!$AB$88:$AP$88,0)","v":4},{"$f":"MATCH($AD$4,Millwall!$AB$88:$AP$88,0)","v":{"$error":"#N/A"}},{"$f":"MATCH($AE$4,Millwall!$AB$88:$AP$88,0)","v":{"$error":"#N/A"}},{"$f":"MATCH($AF$4,Millwall!$AB$88:$AP$88,0)","v":{"$error":"#N/A"}},{"$f":"MATCH($AG$4,Millwall!$AB$88:$AP$88,0)","v":{"$error":"#N/A"}},{"$f":"MATCH($AH$4,Millwall!$AB$88:$AP$88,0)","v":8},{"$f":"MATCH($AI$4,Millwall!$AB$88:$AP$88,0)","v":6},{"$f":"MATCH($AJ$4,Millwall!$AB$88:$AP$88,0)","v":7},{"$f":"MATCH($AK$4,Millwall!$AB$88:$AP$88,0)","v":{"$error":"#N/A"}},{"$f":"MATCH($AL$4,Millwall!$AB$88:$AP$88,0)","v":{"$error":"#N/A"}},{"$f":"MATCH($AM$4,Millwall!$AB$88:$AP$88,0)","v":{"$error":"#N/A"}},{"$f":"MATCH($AN$4,Millwall!$AB$88:$AP$88,0)","v":{"$error":"#N/A"}},{"$f":"MATCH($AO$4,Millwall!$AB$88:$AP$88,0)","v":{"$error":"#N/A"}},{"$f":"MATCH($AP$4,Millwall!$AB$88:$AP$88,0)","v":{"$error":"#N/A"}},{"$f":"MATCH($AQ$4,Millwall!$AB$88:$AP$88,0)","v":{"$error":"#N/A"}},{"$f":"MATCH($AR$4,Millwall!$AE$88:$AP$88,0)","v":{"$error":"#N/A"}},null,null,null,null,null,{"$f":"MATCH(AX$3,Millwall!$AB88:$AP88,0)","v":{"$error":"#N/A"}},{"$f":"MATCH(AY$3,Millwall!$AB88:$AP88,0)","v":{"$error":"#N/A"}},{"$f":"MATCH(AZ$3,Millwall!$AB88:$AP88,0)","v":{"$error":"#N/A"}},{"$f":"MATCH(BA$3,Millwall!$AB88:$AP88,0)","v":{"$error":"#N/A"}},{"$f":"MATCH(BB$3,Millwall!$AB88:$AP88,0)","v":{"$error":"#N/A"}},{"$f":"MATCH(BC$3,Millwall!$AB88:$AP88,0)","v":{"$error":"#N/A"}},{"$f":"MATCH(BD$3,Millwall!$AB88:$AP88,0)","v":{"$error":"#N/A"}},{"$f":"MATCH(BE$3,Millwall!$AB88:$AP88,0)","v":{"$error":"#N/A"}},{"$f":"MATCH(BF$3,Millwall!$AB88:$AP88,0)","v":{"$error":"#N/A"}},{"$f":"MATCH(BG$3,Millwall!$AB88:$AP88,0)","v":12},{"$f":"MATCH(BH$3,Millwall!$AB88:$AP88,0)","v":{"$error":"#N/A"}},{"$f":"MATCH(BI$3,Millwall!$AB88:$AP88,0)","v":{"$error":"#N/A"}},{"$f":"MATCH(BJ$3,Millwall!$AB88:$AP88,0)","v":{"$error":"#N/A"}},{"$f":"MATCH(BK$3,Millwall!$AB88:$AP88,0)","v":{"$error":"#N/A"}},{"$f":"MATCH(BL$3,Millwall!$AB88:$AP88,0)","v":{"$error":"#N/A"}},{"$f":"MATCH(BM$3,Millwall!$AB88:$AP88,0)","v":{"$error":"#N/A"}},{"$f":"MATCH(BN$3,Millwall!$AB88:$AP88,0)","v":{"$error":"#N/A"}},{"$f":"MATCH(BO$3,Millwall!$AB88:$AP88,0)","v":{"$error":"#N/A"}},{"$f":"MATCH(BP$3,Millwall!$AB88:$AP88,0)","v":{"$error":"#N/A"}},{"$f":"MATCH(BQ$3,Millwall!$AB88:$AP88,0)","v":{"$error":"#N/A"}},{"$f":"MATCH(BR$3,Millwall!$AB88:$AP88,0)","v":{"$error":"#N/A"}},{"$f":"MATCH(BS$3,Millwall!$AB88:$AP88,0)","v":{"$error":"#N/A"}},{"$f":"MATCH(BT$3,Millwall!$AB88:$AP88,0)","v":{"$error":"#N/A"}},{"$f":"MATCH(BU$3,Millwall!$AB88:$AP88,0)","v":8},{"$f":"MATCH(BV$3,Millwall!$AB88:$AP88,0)","v":{"$error":"#N/A"}},{"$f":"MATCH(BW$3,Millwall!$AB88:$AP88,0)","v":{"$error":"#N/A"}},{"$f":"MATCH(BX$3,Millwall!$AB88:$AP88,0)","v":{"$error":"#N/A"}},{"$f":"MATCH(BY$3,Millwall!$AB88:$AP88,0)","v":{"$error":"#N/A"}},{"$f":"MATCH(BZ$3,Millwall!$AB88:$AP88,0)","v":{"$error":"#N/A"}},{"$f":"MATCH(CA$3,Millwall!$AB88:$AP88,0)","v":{"$error":"#N/A"}},{"$f":"MATCH(CB$3,Millwall!$AB88:$AP88,0)","v":{"$error":"#N/A"}},{"$f":"MATCH(CC$3,Millwall!$AB88:$AP88,0)","v":{"$error":"#N/A"}},{"$f":"MATCH(CD$3,Millwall!$AB88:$AP88,0)","v":{"$error":"#N/A"}},{"$f":"MATCH(CE$3,Millwall!$AB88:$AP88,0)","v":{"$error":"#N/A"}},null,null,{"$f":"MATCH($CH$3,Millwall!$AB$88:$AP$88,0)","v":{"$error":"#N/A"}},{"$f":"MATCH($CI$3,Millwall!$AB$88:$AP$88,0)","v":{"$error":"#N/A"}},{"$f":"MATCH($CJ$3,Millwall!$AB$88:$AP$88,0)","v":{"$error":"#N/A"}},{"$f":"MATCH($CK$3,Millwall!$AB$88:$AP$88,0)","v":{"$error":"#N/A"}},{"$f":"MATCH($CL$3,Millwall!$AB$88:$AP$88,0)","v":10},{"$f":"MATCH($CM$3,Millwall!$AB$88:$AP$88,0)","v":{"$error":"#N/A"}},{"$f":"MATCH($CN$3,Millwall!$AB$88:$AP$88,0)","v":{"$error":"#N/A"}},{"$f":"MATCH($CO$3,Millwall!$AB$88:$AP$88,0)","v":{"$error":"#N/A"}},{"$f":"MATCH($CP$3,Millwall!$AB$88:$AP$88,0)","v":{"$error":"#N/A"}},{"$f":"MATCH($CQ$3,Millwall!$AB$88:$AP$88,0)","v":{"$error":"#N/A"}},{"$f":"MATCH($CR$3,Millwall!$AB$88:$AP$88,0)","v":{"$error":"#N/A"}},{"$f":"MATCH($CS$3,Millwall!$AB$88:$AP$88,0)","v":14},{"$f":"MATCH($CT$3,Millwall!$AB$88:$AP$88,0)","v":{"$error":"#N/A"}},{"$f":"MATCH($CU$3,Millwall!$AB$88:$AP$88,0)","v":{"$error":"#N/A"}},{"$f":"MATCH($CV$3,Millwall!$AB$88:$AP$88,0)","v":{"$error":"#N/A"}},{"$f":"MATCH($CW$3,Millwall!$AB$88:$AP$88,0)","v":{"$error":"#N/A"}},{"$f":"MATCH($CX$3,Millwall!$AB$88:$AP$88,0)","v":{"$error":"#N/A"}},{"$f":"MATCH($CY$3,Millwall!$AB$88:$AP$88,0)","v":{"$error":"#N/A"}},{"$f":"MATCH($CZ$3,Millwall!$AB$88:$AP$88,0)","v":{"$error":"#N/A"}},{"$f":"MATCH($DA$3,Millwall!$AB$88:$AP$88,0)","v":{"$error":"#N/A"}},{"$f":"MATCH($DB$3,Millwall!$AB$88:$AP$88,0)","v":{"$error":"#N/A"}},{"$f":"MATCH($DC$3,Millwall!$AB$88:$AP$88,0)","v":{"$error":"#N/A"}},{"$f":"MATCH($DD$3,Millwall!$AB$88:$AP$88,0)","v":{"$error":"#N/A"}},{"$f":"MATCH($DE$3,Millwall!$AB$88:$AP$88,0)","v":{"$error":"#N/A"}},{"$f":"MATCH($DF$3,Millwall!$AB$88:$AP$88,0)","v":{"$error":"#N/A"}},{"$f":"MATCH($DG$3,Millwall!$AB$88:$AP$88,0)","v":{"$error":"#N/A"}},{"$f":"MATCH($DH$3,Millwall!$AB$88:$AP$88,0)","v":{"$error":"#N/A"}},{"$f":"MATCH($DI$3,Millwall!$AB$88:$AP$88,0)","v":{"$error":"#N/A"}},{"$f":"MATCH($DJ$3,Millwall!$AB$88:$AP$88,0)","v":{"$error":"#N/A"}},{"$f":"MATCH($DK$3,Millwall!$AB$88:$AP$88,0)","v":{"$error":"#N/A"}},{"$f":"MATCH($DL$3,Millwall!$AB$88:$AP$88,0)","v":{"$error":"#N/A"}},{"$f":"MATCH($DM$3,Millwall!$AB$88:$AP$88,0)","v":{"$error":"#N/A"}},{"$f":"MATCH($DN$3,Millwall!$AB$88:$AP$88,0)","v":{"$error":"#N/A"}},{"$f":"MATCH($DO$3,Millwall!$AB$88:$AP$88,0)","v":{"$error":"#N/A"}},null,null,null,null,null,null,null,null,{"$f":"$DY$18&\" [**\"","v":"Keller [**"},{"$f":"Millwall!$BP64","v":"Keller"},"Keller (**",{"$f":"$DY$18&\"**\"","v":"Keller**"},null,{"$f":"$DY$18","v":"Keller"},{"$f":"$DZ$18","v":"Keller (**"},{"$f":"$EA$18","v":"Keller**"},null,{"$f":"Millwall!$BX19","v":1},{"$f":"Millwall!$CC19","v":0},{"$f":"Millwall!$CH19","v":0},{"$f":"Millwall!$CM19","v":1}]
[null,null,0,15,null,{"$f":"Millwall!X89","v":"1992-11-07"},null,{"$f":"Millwall!Y89","v":"Derby"},{"$f":"Millwall!Z89","v":"(A)"},{"$f":"Millwall!AA89","v":"W 2-1"},{"$f":"MATCH($K$4,Millwall!$AB$89:$AP$89,0)","v":9},{"$f":"MATCH($L$4,Millwall!$AB$89:$AP$89,0)","v":{"$error":"#N/A"}},{"$f":"MATCH($M$4,Millwall!$AB$89:$AP$89,0)","v":11},{"$f":"MATCH($N$4,Millwall!$AB$89:$AP$89,0)","v":{"$error":"#N/A"}},{"$f":"MATCH($O$4,Millwall!$AB$89:$AP$89,0)","v":10},{"$f":"MATCH($P$4,Millwall!$AB$89:$AP$89,0)","v":5},{"$f":"MATCH($Q$4,Millwall!$AB$89:$AP$89,0)","v":2},{"$f":"MATCH($R$4,Millwall!$AB$89:$AP$89,0)","v":{"$error":"#N/A"}},{"$f":"MATCH($S$4,Millwall!$AB$89:$AP$89,0)","v":3},{"$f":"MATCH($T$4,Millwall!$AB$89:$AP$89,0)","v":12},{"$f":"MATCH($U$4,Millwall!$AB$89:$AP$89,0)","v":{"$error":"#N/A"}},{"$f":"MATCH($V$4,Millwall!$AB$89:$AP$89,0)","v":14},{"$f":"MATCH($W$4,Millwall!$AB$89:$AP$89,0)","v":{"$error":"#N/A"}},{"$f":"MATCH($X$4,Millwall!$AB$89:$AP$89,0)","v":1},{"$f":"MATCH($Y$4,Millwall!$AB$89:$AP$89,0)","v":{"$error":"#N/A"}},{"$f":"MATCH($Z$4,Millwall!$AB$89:$AP$89,0)","v":{"$error":"#N/A"}},{"$f":"MATCH($AA$4,Millwall!$AB$89:$AP$89,0)","v":{"$error":"#N/A"}},{"$f":"MATCH($AB$4,Millwall!$AB$89:$AP$89,0)","v":{"$error":"#N/A"}},{"$f":"MATCH($AC$4,Millwall!$AB$89:$AP$89,0)","v":4},{"$f":"MATCH($AD$4,Millwall!$AB$89:$AP$89,0)","v":{"$error":"#N/A"}},{"$f":"MATCH($AE$4,Millwall!$AB$89:$AP$89,0)","v":{"$error":"#N/A"}},{"$f":"MATCH($AF$4,Millwall!$AB$89:$AP$89,0)","v":{"$error":"#N/A"}},{"$f":"MATCH($AG$4,Millwall!$AB$89:$AP$89,0)","v":{"$error":"#N/A"}},{"$f":"MATCH($AH$4,Millwall!$AB$89:$AP$89,0)","v":8},{"$f":"MATCH($AI$4,Millwall!$AB$89:$AP$89,0)","v":6},{"$f":"MATCH($AJ$4,Millwall!$AB$89:$AP$89,0)","v":7},{"$f":"MATCH($AK$4,Millwall!$AB$89:$AP$89,0)","v":{"$error":"#N/A"}},{"$f":"MATCH($AL$4,Millwall!$AB$89:$AP$89,0)","v":{"$error":"#N/A"}},{"$f":"MATCH($AM$4,Millwall!$AB$89:$AP$89,0)","v":{"$error":"#N/A"}},{"$f":"MATCH($AN$4,Millwall!$AB$89:$AP$89,0)","v":{"$error":"#N/A"}},{"$f":"MATCH($AO$4,Millwall!$AB$89:$AP$89,0)","v":{"$error":"#N/A"}},{"$f":"MATCH($AP$4,Millwall!$AB$89:$AP$89,0)","v":{"$error":"#N/A"}},{"$f":"MATCH($AQ$4,Millwall!$AB$89:$AP$89,0)","v":{"$error":"#N/A"}},{"$f":"MATCH($AR$4,Millwall!$AE$89:$AP$89,0)","v":{"$error":"#N/A"}},null,null,null,null,null,{"$f":"MATCH(AX$3,Millwall!$AB89:$AP89,0)","v":{"$error":"#N/A"}},{"$f":"MATCH(AY$3,Millwall!$AB89:$AP89,0)","v":{"$error":"#N/A"}},{"$f":"MATCH(AZ$3,Millwall!$AB89:$AP89,0)","v":{"$error":"#N/A"}},{"$f":"MATCH(BA$3,Millwall!$AB89:$AP89,0)","v":{"$error":"#N/A"}},{"$f":"MATCH(BB$3,Millwall!$AB89:$AP89,0)","v":{"$error":"#N/A"}},{"$f":"MATCH(BC$3,Millwall!$AB89:$AP89,0)","v":{"$error":"#N/A"}},{"$f":"MATCH(BD$3,Millwall!$AB89:$AP89,0)","v":{"$error":"#N/A"}},{"$f":"MATCH(BE$3,Millwall!$AB89:$AP89,0)","v":{"$error":"#N/A"}},{"$f":"MATCH(BF$3,Millwall!$AB89:$AP89,0)","v":{"$error":"#N/A"}},{"$f":"MATCH(BG$3,Millwall!$AB89:$AP89,0)","v":12},{"$f":"MATCH(BH$3,Millwall!$AB89:$AP89,0)","v":{"$error":"#N/A"}},{"$f":"MATCH(BI$3,Millwall!$AB89:$AP89,0)","v":{"$error":"#N/A"}},{"$f":"MATCH(BJ$3,Millwall!$AB89:$AP89,0)","v":{"$error":"#N/A"}},{"$f":"MATCH(BK$3,Millwall!$AB89:$AP89,0)","v":{"$error":"#N/A"}},{"$f":"MATCH(BL$3,Millwall!$AB89:$AP89,0)","v":{"$error":"#N/A"}},{"$f":"MATCH(BM$3,Millwall!$AB89:$AP89,0)","v":{"$error":"#N/A"}},{"$f":"MATCH(BN$3,Millwall!$AB89:$AP89,0)","v":{"$error":"#N/A"}},{"$f":"MATCH(BO$3,Millwall!$AB89:$AP89,0)","v":{"$error":"#N/A"}},{"$f":"MATCH(BP$3,Millwall!$AB89:$AP89,0)","v":{"$error":"#N/A"}},{"$f":"MATCH(BQ$3,Millwall!$AB89:$AP89,0)","v":{"$error":"#N/A"}},{"$f":"MATCH(BR$3,Millwall!$AB89:$AP89,0)","v":{"$error":"#N/A"}},{"$f":"MATCH(BS$3,Millwall!$AB89:$AP89,0)","v":{"$error":"#N/A"}},{"$f":"MATCH(BT$3,Millwall!$AB89:$AP89,0)","v":{"$error":"#N/A"}},{"$f":"MATCH(BU$3,Millwall!$AB89:$AP89,0)","v":8},{"$f":"MATCH(BV$3,Millwall!$AB89:$AP89,0)","v":{"$error":"#N/A"}},{"$f":"MATCH(BW$3,Millwall!$AB89:$AP89,0)","v":{"$error":"#N/A"}},{"$f":"MATCH(BX$3,Millwall!$AB89:$AP89,0)","v":{"$error":"#N/A"}},{"$f":"MATCH(BY$3,Millwall!$AB89:$AP89,0)","v":{"$error":"#N/A"}},{"$f":"MATCH(BZ$3,Millwall!$AB89:$AP89,0)","v":{"$error":"#N/A"}},{"$f":"MATCH(CA$3,Millwall!$AB89:$AP89,0)","v":{"$error":"#N/A"}},{"$f":"MATCH(CB$3,Millwall!$AB89:$AP89,0)","v":{"$error":"#N/A"}},{"$f":"MATCH(CC$3,Millwall!$AB89:$AP89,0)","v":{"$error":"#N/A"}},{"$f":"MATCH(CD$3,Millwall!$AB89:$AP89,0)","v":{"$error":"#N/A"}},{"$f":"MATCH(CE$3,Millwall!$AB89:$AP89,0)","v":{"$error":"#N/A"}},null,null,{"$f":"MATCH($CH$3,Millwall!$AB$89:$AP$89,0)","v":{"$error":"#N/A"}},{"$f":"MATCH($CI$3,Millwall!$AB$89:$AP$89,0)","v":{"$error":"#N/A"}},{"$f":"MATCH($CJ$3,Millwall!$AB$89:$AP$89,0)","v":{"$error":"#N/A"}},{"$f":"MATCH($CK$3,Millwall!$AB$89:$AP$89,0)","v":{"$error":"#N/A"}},{"$f":"MATCH($CL$3,Millwall!$AB$89:$AP$89,0)","v":10},{"$f":"MATCH($CM$3,Millwall!$AB$89:$AP$89,0)","v":{"$error":"#N/A"}},{"$f":"MATCH($CN$3,Millwall!$AB$89:$AP$89,0)","v":{"$error":"#N/A"}},{"$f":"MATCH($CO$3,Millwall!$AB$89:$AP$89,0)","v":{"$error":"#N/A"}},{"$f":"MATCH($CP$3,Millwall!$AB$89:$AP$89,0)","v":{"$error":"#N/A"}},{"$f":"MATCH($CQ$3,Millwall!$AB$89:$AP$89,0)","v":{"$error":"#N/A"}},{"$f":"MATCH($CR$3,Millwall!$AB$89:$AP$89,0)","v":{"$error":"#N/A"}},{"$f":"MATCH($CS$3,Millwall!$AB$89:$AP$89,0)","v":14},{"$f":"MATCH($CT$3,Millwall!$AB$89:$AP$89,0)","v":{"$error":"#N/A"}},{"$f":"MATCH($CU$3,Millwall!$AB$89:$AP$89,0)","v":{"$error":"#N/A"}},{"$f":"MATCH($CV$3,Millwall!$AB$89:$AP$89,0)","v":{"$error":"#N/A"}},{"$f":"MATCH($CW$3,Millwall!$AB$89:$AP$89,0)","v":{"$error":"#N/A"}},{"$f":"MATCH($CX$3,Millwall!$AB$89:$AP$89,0)","v":{"$error":"#N/A"}},{"$f":"MATCH($CY$3,Millwall!$AB$89:$AP$89,0)","v":{"$error":"#N/A"}},{"$f":"MATCH($CZ$3,Millwall!$AB$89:$AP$89,0)","v":{"$error":"#N/A"}},{"$f":"MATCH($DA$3,Millwall!$AB$89:$AP$89,0)","v":{"$error":"#N/A"}},{"$f":"MATCH($DB$3,Millwall!$AB$89:$AP$89,0)","v":{"$error":"#N/A"}},{"$f":"MATCH($DC$3,Millwall!$AB$89:$AP$89,0)","v":{"$error":"#N/A"}},{"$f":"MATCH($DD$3,Millwall!$AB$89:$AP$89,0)","v":{"$error":"#N/A"}},{"$f":"MATCH($DE$3,Millwall!$AB$89:$AP$89,0)","v":{"$error":"#N/A"}},{"$f":"MATCH($DF$3,Millwall!$AB$89:$AP$89,0)","v":{"$error":"#N/A"}},{"$f":"MATCH($DG$3,Millwall!$AB$89:$AP$89,0)","v":{"$error":"#N/A"}},{"$f":"MATCH($DH$3,Millwall!$AB$89:$AP$89,0)","v":{"$error":"#N/A"}},{"$f":"MATCH($DI$3,Millwall!$AB$89:$AP$89,0)","v":{"$error":"#N/A"}},{"$f":"MATCH($DJ$3,Millwall!$AB$89:$AP$89,0)","v":{"$error":"#N/A"}},{"$f":"MATCH($DK$3,Millwall!$AB$89:$AP$89,0)","v":{"$error":"#N/A"}},{"$f":"MATCH($DL$3,Millwall!$AB$89:$AP$89,0)","v":{"$error":"#N/A"}},{"$f":"MATCH($DM$3,Millwall!$AB$89:$AP$89,0)","v":{"$error":"#N/A"}},{"$f":"MATCH($DN$3,Millwall!$AB$89:$AP$89,0)","v":{"$error":"#N/A"}},{"$f":"MATCH($DO$3,Millwall!$AB$89:$AP$89,0)","v":{"$error":"#N/A"}},null,null,null,null,null,null,null,null,{"$f":"$DY$19&\" [**\"","v":"Kennedy [**"},{"$f":"Millwall!$BP65","v":"Kennedy"},"Kennedy (**",{"$f":"$DY$19&\"**\"","v":"Kennedy**"},null,{"$f":"$DY$19","v":"Kennedy"},{"$f":"$DZ$19","v":"Kennedy (**"},{"$f":"$EA$19","v":"Kennedy**"},null,{"$f":"Millwall!$BX20","v":4},{"$f":"Millwall!$CC20","v":0},{"$f":"Millwall!$CH20","v":1},{"$f":"Millwall!$CM20","v":0}]
[null,null,0,16,null,{"$f":"Millwall!X90","v":"1992-11-15"},null,{"$f":"Millwall!Y90","v":"West Ham"},{"$f":"Millwall!Z90","v":"(H)"},{"$f":"Millwall!AA90","v":"W 2-1"},{"$f":"MATCH($K$4,Millwall!$AB$90:$AP$90,0)","v":9},{"$f":"MATCH($L$4,Millwall!$AB$90:$AP$90,0)","v":{"$error":"#N/A"}},{"$f":"MATCH($M$4,Millwall!$AB$90:$AP$90,0)","v":11},{"$f":"MATCH($N$4,Millwall!$AB$90:$AP$90,0)","v":{"$error":"#N/A"}},{"$f":"MATCH($O$4,Millwall!$AB$90:$AP$90,0)","v":10},{"$f":"MATCH($P$4,Millwall!$AB$90:$AP$90,0)","v":5},{"$f":"MATCH($Q$4,Millwall!$AB$90:$AP$90,0)","v":2},{"$f":"MATCH($R$4,Millwall!$AB$90:$AP$90,0)","v":{"$error":"#N/A"}},{"$f":"MATCH($S$4,Millwall!$AB$90:$AP$90,0)","v":3},{"$f":"MATCH($T$4,Millwall!$AB$90:$AP$90,0)","v":12},{"$f":"MATCH($U$4,Millwall!$AB$90:$AP$90,0)","v":{"$error":"#N/A"}},{"$f":"MATCH($V$4,Millwall!$AB$90:$AP$90,0)","v":14},{"$f":"MATCH($W$4,Millwall!$AB$90:$AP$90,0)","v":{"$error":"#N/A"}},{"$f":"MATCH($X$4,Millwall!$AB$90:$AP$90,0)","v":1},{"$f":"MATCH($Y$4,Millwall!$AB$90:$AP$90,0)","v":{"$error":"#N/A"}},{"$f":"MATCH($Z$4,Millwall!$AB$90:$AP$90,0)","v":{"$error":"#N/A"}},{"$f":"MATCH($AA$4,Millwall!$AB$90:$AP$90,0)","v":{"$error":"#N/A"}},{"$f":"MATCH($AB$4,Millwall!$AB$90:$AP$90,0)","v":{"$error":"#N/A"}},{"$f":"MATCH($AC$4,Millwall!$AB$90:$AP$90,0)","v":4},{"$f":"MATCH($AD$4,Millwall!$AB$90:$AP$90,0)","v":{"$error":"#N/A"}},{"$f":"MATCH($AE$4,Millwall!$AB$90:$AP$90,0)","v":{"$error":"#N/A"}},{"$f":"MATCH($AF$4,Millwall!$AB$90:$AP$90,0)","v":{"$error":"#N/A"}},{"$f":"MATCH($AG$4,Millwall!$AB$90:$AP$90,0)","v":{"$error":"#N/A"}},{"$f":"MATCH($AH$4,Millwall!$AB$90:$AP$90,0)","v":8},{"$f":"MATCH($AI$4,Millwall!$AB$90:$AP$90,0)","v":7},{"$f":"MATCH($AJ$4,Millwall!$AB$90:$AP$90,0)","v":{"$error":"#N/A"}},{"$f":"MATCH($AK$4,Millwall!$AB$90:$AP$90,0)","v":{"$error":"#N/A"}},{"$f":"MATCH($AL$4,Millwall!$AB$90:$AP$90,0)","v":{"$error":"#N/A"}},{"$f":"MATCH($AM$4,Millwall!$AB$90:$AP$90,0)","v":6},{"$f":"MATCH($AN$4,Millwall!$AB$90:$AP$90,0)","v":{"$error":"#N/A"}},{"$f":"MATCH($AO$4,Millwall!$AB$90:$AP$90,0)","v":{"$error":"#N/A"}},{"$f":"MATCH($AP$4,Millwall!$AB$90:$AP$90,0)","v":{"$error":"#N/A"}},{"$f":"MATCH($AQ$4,Millwall!$AB$90:$AP$90,0)","v":{"$error":"#N/A"}},{"$f":"MATCH($AR$4,Millwall!$AE$90:$AP$90,0)","v":{"$error":"#N/A"}},null,null,null,null,null,{"$f":"MATCH(AX$3,Millwall!$AB90:$AP90,0)","v":{"$error":"#N/A"}},{"$f":"MATCH(AY$3,Millwall!$AB90:$AP90,0)","v":{"$error":"#N/A"}},{"$f":"MATCH(AZ$3,Millwall!$AB90:$AP90,0)","v":{"$error":"#N/A"}},{"$f":"MATCH(BA$3,Millwall!$AB90:$AP90,0)","v":{"$error":"#N/A"}},{"$f":"MATCH(BB$3,Millwall!$AB90:$AP90,0)","v":{"$error":"#N/A"}},{"$f":"MATCH(BC$3,Millwall!$AB90:$AP90,0)","v":{"$error":"#N/A"}},{"$f":"MATCH(BD$3,Millwall!$AB90:$AP90,0)","v":{"$error":"#N/A"}},{"$f":"MATCH(BE$3,Millwall!$AB90:$AP90,0)","v":{"$error":"#N/A"}},{"$f":"MATCH(BF$3,Millwall!$AB90:$AP90,0)","v":{"$error":"#N/A"}},{"$f":"MATCH(BG$3,Millwall!$AB90:$AP90,0)","v":12},{"$f":"MATCH(BH$3,Millwall!$AB90:$AP90,0)","v":{"$error":"#N/A"}},{"$f":"MATCH(BI$3,Millwall!$AB90:$AP90,0)","v":{"$error":"#N/A"}},{"$f":"MATCH(BJ$3,Millwall!$AB90:$AP90,0)","v":{"$error":"#N/A"}},{"$f":"MATCH(BK$3,Millwall!$AB90:$AP90,0)","v":{"$error":"#N/A"}},{"$f":"MATCH(BL$3,Millwall!$AB90:$AP90,0)","v":{"$error":"#N/A"}},{"$f":"MATCH(BM$3,Millwall!$AB90:$AP90,0)","v":{"$error":"#N/A"}},{"$f":"MATCH(BN$3,Millwall!$AB90:$AP90,0)","v":{"$error":"#N/A"}},{"$f":"MATCH(BO$3,Millwall!$AB90:$AP90,0)","v":{"$error":"#N/A"}},{"$f":"MATCH(BP$3,Millwall!$AB90:$AP90,0)","v":{"$error":"#N/A"}},{"$f":"MATCH(BQ$3,Millwall!$AB90:$AP90,0)","v":{"$error":"#N/A"}},{"$f":"MATCH(BR$3,Millwall!$AB90:$AP90,0)","v":{"$error":"#N/A"}},{"$f":"MATCH(BS$3,Millwall!$AB90:$AP90,0)","v":{"$error":"#N/A"}},{"$f":"MATCH(BT$3,Millwall!$AB90:$AP90,0)","v":{"$error":"#N/A"}},{"$f":"MATCH(BU$3,Millwall!$AB90:$AP90,0)","v":8},{"$f":"MATCH(BV$3,Millwall!$AB90:$AP90,0)","v":{"$error":"#N/A"}},{"$f":"MATCH(BW$3,Millwall!$AB90:$AP90,0)","v":{"$error":"#N/A"}},{"$f":"MATCH(BX$3,Millwall!$AB90:$AP90,0)","v":{"$error":"#N/A"}},{"$f":"MATCH(BY$3,Millwall!$AB90:$AP90,0)","v":{"$error":"#N/A"}},{"$f":"MATCH(BZ$3,Millwall!$AB90:$AP90,0)","v":{"$error":"#N/A"}},{"$f":"MATCH(CA$3,Millwall!$AB90:$AP90,0)","v":{"$error":"#N/A"}},{"$f":"MATCH(CB$3,Millwall!$AB90:$AP90,0)","v":{"$error":"#N/A"}},{"$f":"MATCH(CC$3,Millwall!$AB90:$AP90,0)","v":{"$error":"#N/A"}},{"$f":"MATCH(CD$3,Millwall!$AB90:$AP90,0)","v":{"$error":"#N/A"}},{"$f":"MATCH(CE$3,Millwall!$AB90:$AP90,0)","v":{"$error":"#N/A"}},null,null,{"$f":"MATCH($CH$3,Millwall!$AB$90:$AP$90,0)","v":9},{"$f":"MATCH($CI$3,Millwall!$AB$90:$AP$90,0)","v":{"$error":"#N/A"}},{"$f":"MATCH($CJ$3,Millwall!$AB$90:$AP$90,0)","v":{"$error":"#N/A"}},{"$f":"MATCH($CK$3,Millwall!$AB$90:$AP$90,0)","v":{"$error":"#N/A"}},{"$f":"MATCH($CL$3,Millwall!$AB$90:$AP$90,0)","v":{"$error":"#N/A"}},{"$f":"MATCH($CM$3,Millwall!$AB$90:$AP$90,0)","v":{"$error":"#N/A"}},{"$f":"MATCH($CN$3,Millwall!$AB$90:$AP$90,0)","v":{"$error":"#N/A"}},{"$f":"MATCH($CO$3,Millwall!$AB$90:$AP$90,0)","v":{"$error":"#N/A"}},{"$f":"MATCH($CP$3,Millwall!$AB$90:$AP$90,0)","v":{"$error":"#N/A"}},{"$f":"MATCH($CQ$3,Millwall!$AB$90:$AP$90,0)","v":{"$error":"#N/A"}},{"$f":"MATCH($CR$3,Millwall!$AB$90:$AP$90,0)","v":{"$error":"#N/A"}},{"$f":"MATCH($CS$3,Millwall!$AB$90:$AP$90,0)","v":14},{"$f":"MATCH($CT$3,Millwall!$AB$90:$AP$90,0)","v":{"$error":"#N/A"}},{"$f":"MATCH($CU$3,Millwall!$AB$90:$AP$90,0)","v":{"$error":"#N/A"}},{"$f":"MATCH($CV$3,Millwall!$AB$90:$AP$90,0)","v":{"$error":"#N/A"}},{"$f":"MATCH($CW$3,Millwall!$AB$90:$AP$90,0)","v":{"$error":"#N/A"}},{"$f":"MATCH($CX$3,Millwall!$AB$90:$AP$90,0)","v":{"$error":"#N/A"}},{"$f":"MATCH($CY$3,Millwall!$AB$90:$AP$90,0)","v":{"$error":"#N/A"}},{"$f":"MATCH($CZ$3,Millwall!$AB$90:$AP$90,0)","v":{"$error":"#N/A"}},{"$f":"MATCH($DA$3,Millwall!$AB$90:$AP$90,0)","v":{"$error":"#N/A"}},{"$f":"MATCH($DB$3,Millwall!$AB$90:$AP$90,0)","v":{"$error":"#N/A"}},{"$f":"MATCH($DC$3,Millwall!$AB$90:$AP$90,0)","v":{"$error":"#N/A"}},{"$f":"MATCH($DD$3,Millwall!$AB$90:$AP$90,0)","v":{"$error":"#N/A"}},{"$f":"MATCH($DE$3,Millwall!$AB$90:$AP$90,0)","v":{"$error":"#N/A"}},{"$f":"MATCH($DF$3,Millwall!$AB$90:$AP$90,0)","v":{"$error":"#N/A"}},{"$f":"MATCH($DG$3,Millwall!$AB$90:$AP$90,0)","v":{"$error":"#N/A"}},{"$f":"MATCH($DH$3,Millwall!$AB$90:$AP$90,0)","v":{"$error":"#N/A"}},{"$f":"MATCH($DI$3,Millwall!$AB$90:$AP$90,0)","v":{"$error":"#N/A"}},{"$f":"MATCH($DJ$3,Millwall!$AB$90:$AP$90,0)","v":{"$error":"#N/A"}},{"$f":"MATCH($DK$3,Millwall!$AB$90:$AP$90,0)","v":{"$error":"#N/A"}},{"$f":"MATCH($DL$3,Millwall!$AB$90:$AP$90,0)","v":{"$error":"#N/A"}},{"$f":"MATCH($DM$3,Millwall!$AB$90:$AP$90,0)","v":{"$error":"#N/A"}},{"$f":"MATCH($DN$3,Millwall!$AB$90:$AP$90,0)","v":{"$error":"#N/A"}},{"$f":"MATCH($DO$3,Millwall!$AB$90:$AP$90,0)","v":{"$error":"#N/A"}},null,null,null,null,null,null,null,null,{"$f":"$DY$20&\" [**\"","v":"Kerr [**"},{"$f":"Millwall!$BP66","v":"Kerr"},"Kerr (**",{"$f":"$DY$20&\"**\"","v":"Kerr**"},null,{"$f":"$DY$20","v":"Kerr"},{"$f":"$DZ$20","v":"Kerr (**"},{"$f":"$EA$20","v":"Kerr**"},null,{"$f":"Millwall!$BX21","v":0},{"$f":"Millwall!$CC21","v":0},{"$f":"Millwall!$CH21","v":0},{"$f":"Millwall!$CM21","v":0}]
[null,null,0,17,null,{"$f":"Millwall!X91","v":"1992-11-21"},null,{"$f":"Millwall!Y91","v":"Luton"},{"$f":"Millwall!Z91","v":"(A)"},{"$f":"Millwall!AA91","v":"D 1-1"},{"$f":"MATCH($K$4,Millwall!$AB$91:$AP$91,0)","v":9},{"$f":"MATCH($L$4,Millwall!$AB$91:$AP$91,0)","v":{"$error":"#N/A"}},{"$f":"MATCH($M$4,Millwall!$AB$91:$AP$91,0)","v":11},{"$f":"MATCH($N$4,Millwall!$AB$91:$AP$91,0)","v":{"$error":"#N/A"}},{"$f":"MATCH($O$4,Millwall!$AB$91:$AP$91,0)","v":10},{"$f":"MATCH($P$4,Millwall!$AB$91:$AP$91,0)","v":5},{"$f":"MATCH($Q$4,Millwall!$AB$91:$AP$91,0)","v":2},{"$f":"MATCH($R$4,Millwall!$AB$91:$AP$91,0)","v":{"$error":"#N/A"}},{"$f":"MATCH($S$4,Millwall!$AB$91:$AP$91,0)","v":3},{"$f":"MATCH($T$4,Millwall!$AB$91:$AP$91,0)","v":{"$error":"#N/A"}},{"$f":"MATCH($U$4,Millwall!$AB$91:$AP$91,0)","v":{"$error":"#N/A"}},{"$f":"MATCH($V$4,Millwall!$AB$91:$AP$91,0)","v":12},{"$f":"MATCH($W$4,Millwall!$AB$91:$AP$91,0)","v":{"$error":"#N/A"}},{"$f":"MATCH($X$4,Millwall!$AB$91:$AP$91,0)","v":1},{"$f":"MATCH($Y$4,Millwall!$AB$91:$AP$91,0)","v":{"$error":"#N/A"}},{"$f":"MATCH($Z$4,Millwall!$AB$91:$AP$91,0)","v":{"$error":"#N/A"}},{"$f":"MATCH($AA$4,Millwall!$AB$91:$AP$91,0)","v":{"$error":"#N/A"}},{"$f":"MATCH($AB$4,Millwall!$AB$91:$AP$91,0)","v":{"$error":"#N/A"}},{"$f":"MATCH($AC$4,Millwall!$AB$91:$AP$91,0)","v":4},{"$f":"MATCH($AD$4,Millwall!$AB$91:$AP$91,0)","v":{"$error":"#N/A"}},{"$f":"MATCH($AE$4,Millwall!$AB$91:$AP$91,0)","v":{"$error":"#N/A"}},{"$f":"MATCH($AF$4,Millwall!$AB$91:$AP$91,0)","v":{"$error":"#N/A"}},{"$f":"MATCH($AG$4,Millwall!$AB$91:$AP$91,0)","v":{"$error":"#N/A"}},{"$f":"MATCH($AH$4,Millwall!$AB$91:$AP$91,0)","v":8},{"$f":"MATCH($AI$4,Millwall!$AB$91:$AP$91,0)","v":7},{"$f":"MATCH($AJ$4,Millwall!$AB$91:$AP$91,0)","v":14},{"$f":"MATCH($AK$4,Millwall!$AB$91:$AP$91,0)","v":{"$error":"#N/A"}},{"$f":"MATCH($AL$4,Millwall!$AB$91:$AP$91,0)","v":{"$error":"#N/A"}},{"$f":"MATCH($AM$4,Millwall!$AB$91:$AP$91,0)","v":6},{"$f":"MATCH($AN$4,Millwall!$AB$91:$AP$91,0)","v":{"$error":"#N/A"}},{"$f":"MATCH($AO$4,Millwall!$AB$91:$AP$91,0)","v":{"$error":"#N/A"}},{"$f":"MATCH($AP$4,Millwall!$AB$91:$AP$91,0)","v":{"$error":"#N/A"}},{"$f":"MATCH($AQ$4,Millwall!$AB$91:$AP$91,0)","v":{"$error":"#N/A"}},{"$f":"MATCH($AR$4,Millwall!$AE$91:$AP$91,0)","v":{"$error":"#N/A"}},null,null,null,null,null,{"$f":"MATCH(AX$3,Millwall!$AB91:$AP91,0)","v":{"$error":"#N/A"}},{"$f":"MATCH(AY$3,Millwall!$AB91:$AP91,0)","v":{"$error":"#N/A"}},{"$f":"MATCH(AZ$3,Millwall!$AB91:$AP91,0)","v":{"$error":"#N/A"}},{"$f":"MATCH(BA$3,Millwall!$AB91:$AP91,0)","v":{"$error":"#N/A"}},{"$f":"MATCH(BB$3,Millwall!$AB91:$AP91,0)","v":{"$error":"#N/A"}},{"$f":"MATCH(BC$3,Millwall!$AB91:$AP91,0)","v":{"$error":"#N/A"}},{"$f":"MATCH(BD$3,Millwall!$AB91:$AP91,0)","v":{"$error":"#N/A"}},{"$f":"MATCH(BE$3,Millwall!$AB91:$AP91,0)","v":{"$error":"#N/A"}},{"$f":"MATCH(BF$3,Millwall!$AB91:$AP91,0)","v":{"$error":"#N/A"}},{"$f":"MATCH(BG$3,Millwall!$AB91:$AP91,0)","v":{"$error":"#N/A"}},{"$f":"MATCH(BH$3,Millwall!$AB91:$AP91,0)","v":{"$error":"#N/A"}},{"$f":"MATCH(BI$3,Millwall!$AB91:$AP91,0)","v":{"$error":"#N/A"}},{"$f":"MATCH(BJ$3,Millwall!$AB91:$AP91,0)","v":{"$error":"#N/A"}},{"$f":"MATCH(BK$3,Millwall!$AB91:$AP91,0)","v":{"$error":"#N/A"}},{"$f":"MATCH(BL$3,Millwall!$AB91:$AP91,0)","v":{"$error":"#N/A"}},{"$f":"MATCH(BM$3,Millwall!$AB91:$AP91,0)","v":{"$error":"#N/A"}},{"$f":"MATCH(BN$3,Millwall!$AB91:$AP91,0)","v":{"$error":"#N/A"}},{"$f":"MATCH(BO$3,Millwall!$AB91:$AP91,0)","v":{"$error":"#N/A"}},{"$f":"MATCH(BP$3,Millwall!$AB91:$AP91,0)","v":{"$error":"#N/A"}},{"$f":"MATCH(BQ$3,Millwall!$AB91:$AP91,0)","v":{"$error":"#N/A"}},{"$f":"MATCH(BR$3,Millwall!$AB91:$AP91,0)","v":{"$error":"#N/A"}},{"$f":"MATCH(BS$3,Millwall!$AB91:$AP91,0)","v":{"$error":"#N/A"}},{"$f":"MATCH(BT$3,Millwall!$AB91:$AP91,0)","v":{"$error":"#N/A"}},{"$f":"MATCH(BU$3,Millwall!$AB91:$AP91,0)","v":{"$error":"#N/A"}},{"$f":"MATCH(BV$3,Millwall!$AB91:$AP91,0)","v":{"$error":"#N/A"}},{"$f":"MATCH(BW$3,Millwall!$AB91:$AP91,0)","v":{"$error":"#N/A"}},{"$f":"MATCH(BX$3,Millwall!$AB91:$AP91,0)","v":{"$error":"#N/A"}},{"$f":"MATCH(BY$3,Millwall!$AB91:$AP91,0)","v":{"$error":"#N/A"}},{"$f":"MATCH(BZ$3,Millwall!$AB91:$AP91,0)","v":{"$error":"#N/A"}},{"$f":"MATCH(CA$3,Millwall!$AB91:$AP91,0)","v":{"$error":"#N/A"}},{"$f":"MATCH(CB$3,Millwall!$AB91:$AP91,0)","v":{"$error":"#N/A"}},{"$f":"MATCH(CC$3,Millwall!$AB91:$AP91,0)","v":{"$error":"#N/A"}},{"$f":"MATCH(CD$3,Millwall!$AB91:$AP91,0)","v":{"$error":"#N/A"}},{"$f":"MATCH(CE$3,Millwall!$AB91:$AP91,0)","v":{"$error":"#N/A"}},null,null,{"$f":"MATCH($CH$3,Millwall!$AB$91:$AP$91,0)","v":{"$error":"#N/A"}},{"$f":"MATCH($CI$3,Millwall!$AB$91:$AP$91,0)","v":{"$error":"#N/A"}},{"$f":"MATCH($CJ$3,Millwall!$AB$91:$AP$91,0)","v":{"$error":"#N/A"}},{"$f":"MATCH($CK$3,Millwall!$AB$91:$AP$91,0)","v":{"$error":"#N/A"}},{"$f":"MATCH($CL$3,Millwall!$AB$91:$AP$91,0)","v":{"$error":"#N/A"}},{"$f":"MATCH($CM$3,Millwall!$AB$91:$AP$91,0)","v":{"$error":"#N/A"}},{"$f":"MATCH($CN$3,Millwall!$AB$91:$AP$91,0)","v":{"$error":"#N/A"}},{"$f":"MATCH($CO$3,Millwall!$AB$91:$AP$91,0)","v":{"$error":"#N/A"}},{"$f":"MATCH($CP$3,Millwall!$AB$91:$AP$91,0)","v":{"$error":"#N/A"}},{"$f":"MATCH($CQ$3,Millwall!$AB$91:$AP$91,0)","v":{"$error":"#N/A"}},{"$f":"MATCH($CR$3,Millwall!$AB$91:$AP$91,0)","v":{"$error":"#N/A"}},{"$f":"MATCH($CS$3,Millwall!$AB$91:$AP$91,0)","v":{"$error":"#N/A"}},{"$f":"MATCH($CT$3,Millwall!$AB$91:$AP$91,0)","v":{"$error":"#N/A"}},{"$f":"MATCH($CU$3,Millwall!$AB$91:$AP$91,0)","v":{"$error":"#N/A"}},{"$f":"MATCH($CV$3,Millwall!$AB$91:$AP$91,0)","v":{"$error":"#N/A"}},{"$f":"MATCH($CW$3,Millwall!$AB$91:$AP$91,0)","v":{"$error":"#N/A"}},{"$f":"MATCH($CX$3,Millwall!$AB$91:$AP$91,0)","v":{"$error":"#N/A"}},{"$f":"MATCH($CY$3,Millwall!$AB$91:$AP$91,0)","v":{"$error":"#N/A"}},{"$f":"MATCH($CZ$3,Millwall!$AB$91:$AP$91,0)","v":{"$error":"#N/A"}},{"$f":"MATCH($DA$3,Millwall!$AB$91:$AP$91,0)","v":{"$error":"#N/A"}},{"$f":"MATCH($DB$3,Millwall!$AB$91:$AP$91,0)","v":{"$error":"#N/A"}},{"$f":"MATCH($DC$3,Millwall!$AB$91:$AP$91,0)","v":{"$error":"#N/A"}},{"$f":"MATCH($DD$3,Millwall!$AB$91:$AP$91,0)","v":{"$error":"#N/A"}},{"$f":"MATCH($DE$3,Millwall!$AB$91:$AP$91,0)","v":{"$error":"#N/A"}},{"$f":"MATCH($DF$3,Millwall!$AB$91:$AP$91,0)","v":7},{"$f":"MATCH($DG$3,Millwall!$AB$91:$AP$91,0)","v":14},{"$f":"MATCH($DH$3,Millwall!$AB$91:$AP$91,0)","v":{"$error":"#N/A"}},{"$f":"MATCH($DI$3,Millwall!$AB$91:$AP$91,0)","v":{"$error":"#N/A"}},{"$f":"MATCH($DJ$3,Millwall!$AB$91:$AP$91,0)","v":{"$error":"#N/A"}},{"$f":"MATCH($DK$3,Millwall!$AB$91:$AP$91,0)","v":{"$error":"#N/A"}},{"$f":"MATCH($DL$3,Millwall!$AB$91:$AP$91,0)","v":{"$error":"#N/A"}},{"$f":"MATCH($DM$3,Millwall!$AB$91:$AP$91,0)","v":{"$error":"#N/A"}},{"$f":"MATCH($DN$3,Millwall!$AB$91:$AP$91,0)","v":{"$error":"#N/A"}},{"$f":"MATCH($DO$3,Millwall!$AB$91:$AP$91,0)","v":{"$error":"#N/A"}},null,null,null,null,null,null,null,null,{"$f":"$DY$21&\" [**\"","v":"Maguire [**"},{"$f":"Millwall!$BP67","v":"Maguire"},"Maguire (**",{"$f":"$DY$21&\"**\"","v":"Maguire**"},null,{"$f":"$DY$21","v":"Maguire"},{"$f":"$DZ$21","v":"Maguire (**"},{"$f":"$EA$21","v":"Maguire**"},null,{"$f":"Millwall!$BX22","v":0},{"$f":"Millwall!$CC22","v":0},{"$f":"Millwall!$CH22","v":0},{"$f":"Millwall!$CM22","v":0}]
[null,null,0,18,null,{"$f":"Millwall!X92","v":"1992-11-28"},null,{"$f":"Millwall!Y92","v":"Portsmouth"},{"$f":"Millwall!Z92","v":"(A)"},{"$f":"Millwall!AA92","v":"L 0-1"},{"$f":"MATCH($K$4,Millwall!$AB$92:$AP$92,0)","v":9},{"$f":"MATCH($L$4,Millwall!$AB$92:$AP$92,0)","v":{"$error":"#N/A"}},{"$f":"MATCH($M$4,Millwall!$AB$92:$AP$92,0)","v":11},{"$f":"MATCH($N$4,Millwall!$AB$92:$AP$92,0)","v":{"$error":"#N/A"}},{"$f":"MATCH($O$4,Millwall!$AB$92:$AP$92,0)","v":10},{"$f":"MATCH($P$4,Millwall!$AB$92:$AP$92,0)","v":5},{"$f":"MATCH($Q$4,Millwall!$AB$92:$AP$92,0)","v":2},{"$f":"MATCH($R$4,Millwall!$AB$92:$AP$92,0)","v":{"$error":"#N/A"}},{"$f":"MATCH($S$4,Millwall!$AB$92:$AP$92,0)","v":3},{"$f":"MATCH($T$4,Millwall!$AB$92:$AP$92,0)","v":{"$error":"#N/A"}},{"$f":"MATCH($U$4,Millwall!$AB$92:$AP$92,0)","v":{"$error":"#N/A"}},{"$f":"MATCH($V$4,Millwall!$AB$92:$AP$92,0)","v":12},{"$f":"MATCH($W$4,Millwall!$AB$92:$AP$92,0)","v":{"$error":"#N/A"}},{"$f":"MATCH($X$4,Millwall!$AB$92:$AP$92,0)","v":1},{"$f":"MATCH($Y$4,Millwall!$AB$92:$AP$92,0)","v":{"$error":"#N/A"}},{"$f":"MATCH($Z$4,Millwall!$AB$92:$AP$92,0)","v":{"$error":"#N/A"}},{"$f":"MATCH($AA$4,Millwall!$AB$92:$AP$92,0)","v":{"$error":"#N/A"}},{"$f":"MATCH($AB$4,Millwall!$AB$92:$AP$92,0)","v":{"$error":"#N/A"}},{"$f":"MATCH($AC$4,Millwall!$AB$92:$AP$92,0)","v":4},{"$f":"MATCH($AD$4,Millwall!$AB$92:$AP$92,0)","v":{"$error":"#N/A"}},{"$f":"MATCH($AE$4,Millwall!$AB$92:$AP$92,0)","v":{"$error":"#N/A"}},{"$f":"MATCH($AF$4,Millwall!$AB$92:$AP$92,0)","v":{"$error":"#N/A"}},{"$f":"MATCH($AG$4,Millwall!$AB$92:$AP$92,0)","v":{"$error":"#N/A"}},{"$f":"MATCH($AH$4,Millwall!$AB$92:$AP$92,0)","v":8},{"$f":"MATCH($AI$4,Millwall!$AB$92:$AP$92,0)","v":7},{"$f":"MATCH($AJ$4,Millwall!$AB$92:$AP$92,0)","v":14},{"$f":"MATCH($AK$4,Millwall!$AB$92:$AP$92,0)","v":{"$error":"#N/A"}},{"$f":"MATCH($AL$4,Millwall!$AB$92:$AP$92,0)","v":{"$error":"#N/A"}},{"$f":"MATCH($AM$4,Millwall!$AB$92:$AP$92,0)","v":6},{"$f":"MATCH($AN$4,Millwall!$AB$92:$AP$92,0)","v":{"$error":"#N/A"}},{"$f":"MATCH($AO$4,Millwall!$AB$92:$AP$92,0)","v":{"$error":"#N/A"}},{"$f":"MATCH($AP$4,Millwall!$AB$92:$AP$92,0)","v":{"$error":"#N/A"}},{"$f":"MATCH($AQ$4,Millwall!$AB$92:$AP$92,0)","v":{"$error":"#N/A"}},{"$f":"MATCH($AR$4,Millwall!$AE$92:$AP$92,0)","v":{"$error":"#N/A"}},null,null,null,null,null,{"$f":"MATCH(AX$3,Millwall!$AB92:$AP92,0)","v":{"$error":"#N/A"}},{"$f":"MATCH(AY$3,Millwall!$AB92:$AP92,0)","v":{"$error":"#N/A"}},{"$f":"MATCH(AZ$3,Millwall!$AB92:$AP92,0)","v":{"$error":"#N/A"}},{"$f":"MATCH(BA$3,Millwall!$AB92:$AP92,0)","v":{"$error":"#N/A"}},{"$f":"MATCH(BB$3,Millwall!$AB92:$AP92,0)","v":{"$error":"#N/A"}},{"$f":"MATCH(BC$3,Millwall!$AB92:$AP92,0)","v":{"$error":"#N/A"}},{"$f":"MATCH(BD$3,Millwall!$AB92:$AP92,0)","v":{"$error":"#N/A"}},{"$f":"MATCH(BE$3,Millwall!$AB92:$AP92,0)","v":{"$error":"#N/A"}},{"$f":"MATCH(BF$3,Millwall!$AB92:$AP92,0)","v":{"$error":"#N/A"}},{"$f":"MATCH(BG$3,Millwall!$AB92:$AP92,0)","v":{"$error":"#N/A"}},{"$f":"MATCH(BH$3,Millwall!$AB92:$AP92,0)","v":{"$error":"#N/A"}},{"$f":"MATCH(BI$3,Millwall!$AB92:$AP92,0)","v":12},{"$f":"MATCH(BJ$3,Millwall!$AB92:$AP92,0)","v":{"$error":"#N/A"}},{"$f":"MATCH(BK$3,Millwall!$AB92:$AP92,0)","v":{"$error":"#N/A"}},{"$f":"MATCH(BL$3,Millwall!$AB92:$AP92,0)","v":{"$error":"#N/A"}},{"$f":"MATCH(BM$3,Millwall!$AB92:$AP92,0)","v":{"$error":"#N/A"}},{"$f":"MATCH(BN$3,Millwall!$AB92:$AP92,0)","v":{"$error":"#N/A"}},{"$f":"MATCH(BO$3,Millwall!$AB92:$AP92,0)","v":{"$error":"#N/A"}},{"$f":"MATCH(BP$3,Millwall!$AB92:$AP92,0)","v":{"$error":"#N/A"}},{"$f":"MATCH(BQ$3,Millwall!$AB92:$AP92,0)","v":{"$error":"#N/A"}},{"$f":"MATCH(BR$3,Millwall!$AB92:$AP92,0)","v":{"$error":"#N/A"}},{"$f":"MATCH(BS$3,Millwall!$AB92:$AP92,0)","v":{"$error":"#N/A"}},{"$f":"MATCH(BT$3,Millwall!$AB92:$AP92,0)","v":{"$error":"#N/A"}},{"$f":"MATCH(BU$3,Millwall!$AB92:$AP92,0)","v":8},{"$f":"MATCH(BV$3,Millwall!$AB92:$AP92,0)","v":{"$error":"#N/A"}},{"$f":"MATCH(BW$3,Millwall!$AB92:$AP92,0)","v":{"$error":"#N/A"}},{"$f":"MATCH(BX$3,Millwall!$AB92:$AP92,0)","v":{"$error":"#N/A"}},{"$f":"MATCH(BY$3,Millwall!$AB92:$AP92,0)","v":{"$error":"#N/A"}},{"$f":"MATCH(BZ$3,Millwall!$AB92:$AP92,0)","v":{"$error":"#N/A"}},{"$f":"MATCH(CA$3,Millwall!$AB92:$AP92,0)","v":{"$error":"#N/A"}},{"$f":"MATCH(CB$3,Millwall!$AB92:$AP92,0)","v":{"$error":"#N/A"}},{"$f":"MATCH(CC$3,Millwall!$AB92:$AP92,0)","v":{"$error":"#N/A"}},{"$f":"MATCH(CD$3,Millwall!$AB92:$AP92,0)","v":{"$error":"#N/A"}},{"$f":"MATCH(CE$3,Millwall!$AB92:$AP92,0)","v":{"$error":"#N/A"}},null,null,{"$f":"MATCH($CH$3,Millwall!$AB$92:$AP$92,0)","v":{"$error":"#N/A"}},{"$f":"MATCH($CI$3,Millwall!$AB$92:$AP$92,0)","v":{"$error":"#N/A"}},{"$f":"MATCH($CJ$3,Millwall!$AB$92:$AP$92,0)","v":{"$error":"#N/A"}},{"$f":"MATCH($CK$3,Millwall!$AB$92:$AP$92,0)","v":{"$error":"#N/A"}},{"$f":"MATCH($CL$3,Millwall!$AB$92:$AP$92,0)","v":{"$error":"#N/A"}},{"$f":"MATCH($CM$3,Millwall!$AB$92:$AP$92,0)","v":{"$error":"#N/A"}},{"$f":"MATCH($CN$3,Millwall!$AB$92:$AP$92,0)","v":{"$error":"#N/A"}},{"$f":"MATCH($CO$3,Millwall!$AB$92:$AP$92,0)","v":{"$error":"#N/A"}},{"$f":"MATCH($CP$3,Millwall!$AB$92:$AP$92,0)","v":{"$error":"#N/A"}},{"$f":"MATCH($CQ$3,Millwall!$AB$92:$AP$92,0)","v":{"$error":"#N/A"}},{"$f":"MATCH($CR$3,Millwall!$AB$92:$AP$92,0)","v":{"$error":"#N/A"}},{"$f":"MATCH($CS$3,Millwall!$AB$92:$AP$92,0)","v":{"$error":"#N/A"}},{"$f":"MATCH($CT$3,Millwall!$AB$92:$AP$92,0)","v":{"$error":"#N/A"}},{"$f":"MATCH($CU$3,Millwall!$AB$92:$AP$92,0)","v":{"$error":"#N/A"}},{"$f":"MATCH($CV$3,Millwall!$AB$92:$AP$92,0)","v":{"$error":"#N/A"}},{"$f":"MATCH($CW$3,Millwall!$AB$92:$AP$92,0)","v":{"$error":"#N/A"}},{"$f":"MATCH($CX$3,Millwall!$AB$92:$AP$92,0)","v":{"$error":"#N/A"}},{"$f":"MATCH($CY$3,Millwall!$AB$92:$AP$92,0)","v":{"$error":"#N/A"}},{"$f":"MATCH($CZ$3,Millwall!$AB$92:$AP$92,0)","v":{"$error":"#N/A"}},{"$f":"MATCH($DA$3,Millwall!$AB$92:$AP$92,0)","v":{"$error":"#N/A"}},{"$f":"MATCH($DB$3,Millwall!$AB$92:$AP$92,0)","v":{"$error":"#N/A"}},{"$f":"MATCH($DC$3,Millwall!$AB$92:$AP$92,0)","v":{"$error":"#N/A"}},{"$f":"MATCH($DD$3,Millwall!$AB$92:$AP$92,0)","v":{"$error":"#N/A"}},{"$f":"MATCH($DE$3,Millwall!$AB$92:$AP$92,0)","v":{"$error":"#N/A"}},{"$f":"MATCH($DF$3,Millwall!$AB$92:$AP$92,0)","v":7},{"$f":"MATCH($DG$3,Millwall!$AB$92:$AP$92,0)","v":14},{"$f":"MATCH($DH$3,Millwall!$AB$92:$AP$92,0)","v":{"$error":"#N/A"}},{"$f":"MATCH($DI$3,Millwall!$AB$92:$AP$92,0)","v":{"$error":"#N/A"}},{"$f":"MATCH($DJ$3,Millwall!$AB$92:$AP$92,0)","v":{"$error":"#N/A"}},{"$f":"MATCH($DK$3,Millwall!$AB$92:$AP$92,0)","v":{"$error":"#N/A"}},{"$f":"MATCH($DL$3,Millwall!$AB$92:$AP$92,0)","v":{"$error":"#N/A"}},{"$f":"MATCH($DM$3,Millwall!$AB$92:$AP$92,0)","v":{"$error":"#N/A"}},{"$f":"MATCH($DN$3,Millwall!$AB$92:$AP$92,0)","v":{"$error":"#N/A"}},{"$f":"MATCH($DO$3,Millwall!$AB$92:$AP$92,0)","v":{"$error":"#N/A"}},null,null,null,null,null,null,null,null,{"$f":"$DY$22&\" [**\"","v":"Manning [**"},{"$f":"Millwall!$BP68","v":"Manning"},"Manning (**",{"$f":"$DY$22&\"**\"","v":"Manning**"},null,{"$f":"$DY$22","v":"Manning"},{"$f":"$DZ$22","v":"Manning (**"},{"$f":"$EA$22","v":"Manning**"},null,{"$f":"Millwall!$BX23","v":0},{"$f":"Millwall!$CC23","v":0},{"$f":"Millwall!$CH23","v":0},{"$f":"Millwall!$CM23","v":0}]
[null,null,0,19,null,{"$f":"Millwall!X93","v":"1992-12-05"},null,{"$f":"Millwall!Y93","v":"Southend"},{"$f":"Millwall!Z93","v":"(H)"},{"$f":"Millwall!AA93","v":"D 1-1"},{"$f":"MATCH($K$4,Millwall!$AB$93:$AP$93,0)","v":9},{"$f":"MATCH($L$4,Millwall!$AB$93:$AP$93,0)","v":{"$error":"#N/A"}},{"$f":"MATCH($M$4,Millwall!$AB$93:$AP$93,0)","v":11},{"$f":"MATCH($N$4,Millwall!$AB$93:$AP$93,0)","v":{"$error":"#N/A"}},{"$f":"MATCH($O$4,Millwall!$AB$93:$AP$93,0)","v":10},{"$f":"MATCH($P$4,Millwall!$AB$93:$AP$93,0)","v":5},{"$f":"MATCH($Q$4,Millwall!$AB$93:$AP$93,0)","v":2},{"$f":"MATCH($R$4,Millwall!$AB$93:$AP$93,0)","v":{"$error":"#N/A"}},{"$f":"MATCH($S$4,Millwall!$AB$93:$AP$93,0)","v":3},{"$f":"MATCH($T$4,Millwall!$AB$93:$AP$93,0)","v":{"$error":"#N/A"}},{"$f":"MATCH($U$4,Millwall!$AB$93:$AP$93,0)","v":{"$error":"#N/A"}},{"$f":"MATCH($V$4,Millwall!$AB$93:$AP$93,0)","v":12},{"$f":"MATCH($W$4,Millwall!$AB$93:$AP$93,0)","v":{"$error":"#N/A"}},{"$f":"MATCH($X$4,Millwall!$AB$93:$AP$93,0)","v":1},{"$f":"MATCH($Y$4,Millwall!$AB$93:$AP$93,0)","v":{"$error":"#N/A"}},{"$f":"MATCH($Z$4,Millwall!$AB$93:$AP$93,0)","v":{"$error":"#N/A"}},{"$f":"MATCH($AA$4,Millwall!$AB$93:$AP$93,0)","v":{"$error":"#N/A"}},{"$f":"MATCH($AB$4,Millwall!$AB$93:$AP$93,0)","v":{"$error":"#N/A"}},{"$f":"MATCH($AC$4,Millwall!$AB$93:$AP$93,0)","v":4},{"$f":"MATCH($AD$4,Millwall!$AB$93:$AP$93,0)","v":{"$error":"#N/A"}},{"$f":"MATCH($AE$4,Millwall!$AB$93:$AP$93,0)","v":{"$error":"#N/A"}},{"$f":"MATCH($AF$4,Millwall!$AB$93:$AP$93,0)","v":{"$error":"#N/A"}},{"$f":"MATCH($AG$4,Millwall!$AB$93:$AP$93,0)","v":{"$error":"#N/A"}},{"$f":"MATCH($AH$4,Millwall!$AB$93:$AP$93,0)","v":8},{"$f":"MATCH($AI$4,Millwall!$AB$93:$AP$93,0)","v":14},{"$f":"MATCH($AJ$4,Millwall!$AB$93:$AP$93,0)","v":7},{"$f":"MATCH($AK$4,Millwall!$AB$93:$AP$93,0)","v":{"$error":"#N/A"}},{"$f":"MATCH($AL$4,Millwall!$AB$93:$AP$93,0)","v":{"$error":"#N/A"}},{"$f":"MATCH($AM$4,Millwall!$AB$93:$AP$93,0)","v":6},{"$f":"MATCH($AN$4,Millwall!$AB$93:$AP$93,0)","v":{"$error":"#N/A"}},{"$f":"MATCH($AO$4,Millwall!$AB$93:$AP$93,0)","v":{"$error":"#N/A"}},{"$f":"MATCH($AP$4,Millwall!$AB$93:$AP$93,0)","v":{"$error":"#N/A"}},{"$f":"MATCH($AQ$4,Millwall!$AB$93:$AP$93,0)","v":{"$error":"#N/A"}},{"$f":"MATCH($AR$4,Millwall!$AE$93:$AP$93,0)","v":{"$error":"#N/A"}},null,null,null,null,null,{"$f":"MATCH(AX$3,Millwall!$AB93:$AP93,0)","v":{"$error":"#N/A"}},{"$f":"MATCH(AY$3,Millwall!$AB93:$AP93,0)","v":{"$error":"#N/A"}},{"$f":"MATCH(AZ$3,Millwall!$AB93:$AP93,0)","v":{"$error":"#N/A"}},{"$f":"MATCH(BA$3,Millwall!$AB93:$AP93,0)","v":{"$error":"#N/A"}},{"$f":"MATCH(BB$3,Millwall!$AB93:$AP93,0)","v":{"$error":"#N/A"}},{"$f":"MATCH(BC$3,Millwall!$AB93:$AP93,0)","v":{"$error":"#N/A"}},{"$f":"MATCH(BD$3,Millwall!$AB93:$AP93,0)","v":{"$error":"#N/A"}},{"$f":"MATCH(BE$3,Millwall!$AB93:$AP93,0)","v":{"$error":"#N/A"}},{"$f":"MATCH(BF$3,Millwall!$AB93:$AP93,0)","v":{"$error":"#N/A"}},{"$f":"MATCH(BG$3,Millwall!$AB93:$AP93,0)","v":{"$error":"#N/A"}},{"$f":"MATCH(BH$3,Millwall!$AB93:$AP93,0)","v":{"$error":"#N/A"}},{"$f":"MATCH(BI$3,Millwall!$AB93:$AP93,0)","v":12},{"$f":"MATCH(BJ$3,Millwall!$AB93:$AP93,0)","v":{"$error":"#N/A"}},{"$f":"MATCH(BK$3,Millwall!$AB93:$AP93,0)","v":{"$error":"#N/A"}},{"$f":"MATCH(BL$3,Millwall!$AB93:$AP93,0)","v":{"$error":"#N/A"}},{"$f":"MATCH(BM$3,Millwall!$AB93:$AP93,0)","v":{"$error":"#N/A"}},{"$f":"MATCH(BN$3,Millwall!$AB93:$AP93,0)","v":{"$error":"#N/A"}},{"$f":"MATCH(BO$3,Millwall!$AB93:$AP93,0)","v":{"$error":"#N/A"}},{"$f":"MATCH(BP$3,Millwall!$AB93:$AP93,0)","v":{"$error":"#N/A"}},{"$f":"MATCH(BQ$3,Millwall!$AB93:$AP93,0)","v":{"$error":"#N/A"}},{"$f":"MATCH(BR$3,Millwall!$AB93:$AP93,0)","v":{"$error":"#N/A"}},{"$f":"MATCH(BS$3,Millwall!$AB93:$AP93,0)","v":{"$error":"#N/A"}},{"$f":"MATCH(BT$3,Millwall!$AB93:$AP93,0)","v":{"$error":"#N/A"}},{"$f":"MATCH(BU$3,Millwall!$AB93:$AP93,0)","v":8},{"$f":"MATCH(BV$3,Millwall!$AB93:$AP93,0)","v":{"$error":"#N/A"}},{"$f":"MATCH(BW$3,Millwall!$AB93:$AP93,0)","v":{"$error":"#N/A"}},{"$f":"MATCH(BX$3,Millwall!$AB93:$AP93,0)","v":{"$error":"#N/A"}},{"$f":"MATCH(BY$3,Millwall!$AB93:$AP93,0)","v":{"$error":"#N/A"}},{"$f":"MATCH(BZ$3,Millwall!$AB93:$AP93,0)","v":{"$error":"#N/A"}},{"$f":"MATCH(CA$3,Millwall!$AB93:$AP93,0)","v":{"$error":"#N/A"}},{"$f":"MATCH(CB$3,Millwall!$AB93:$AP93,0)","v":{"$error":"#N/A"}},{"$f":"MATCH(CC$3,Millwall!$AB93:$AP93,0)","v":{"$error":"#N/A"}},{"$f":"MATCH(CD$3,Millwall!$AB93:$AP93,0)","v":{"$error":"#N/A"}},{"$f":"MATCH(CE$3,Millwall!$AB93:$AP93,0)","v":{"$error":"#N/A"}},null,null,{"$f":"MATCH($CH$3,Millwall!$AB$93:$AP$93,0)","v":9},{"$f":"MATCH($CI$3,Millwall!$AB$93:$AP$93,0)","v":{"$error":"#N/A"}},{"$f":"MATCH($CJ$3,Millwall!$AB$93:$AP$93,0)","v":{"$error":"#N/A"}},{"$f":"MATCH($CK$3,Millwall!$AB$93:$AP$93,0)","v":{"$error":"#N/A"}},{"$f":"MATCH($CL$3,Millwall!$AB$93:$AP$93,0)","v":{"$error":"#N/A"}},{"$f":"MATCH($CM$3,Millwall!$AB$93:$AP$93,0)","v":{"$error":"#N/A"}},{"$f":"MATCH($CN$3,Millwall!$AB$93:$AP$93,0)","v":{"$error":"#N/A"}},{"$f":"MATCH($CO$3,Millwall!$AB$93:$AP$93,0)","v":{"$error":"#N/A"}},{"$f":"MATCH($CP$3,Millwall!$AB$93:$AP$93,0)","v":{"$error":"#N/A"}},{"$f":"MATCH($CQ$3,Millwall!$AB$93:$AP$93,0)","v":{"$error":"#N/A"}},{"$f":"MATCH($CR$3,Millwall!$AB$93:$AP$93,0)","v":{"$error":"#N/A"}},{"$f":"MATCH($CS$3,Millwall!$AB$93:$AP$93,0)","v":{"$error":"#N/A"}},{"$f":"MATCH($CT$3,Millwall!$AB$93:$AP$93,0)","v":{"$error":"#N/A"}},{"$f":"MATCH($CU$3,Millwall!$AB$93:$AP$93,0)","v":{"$error":"#N/A"}},{"$f":"MATCH($CV$3,Millwall!$AB$93:$AP$93,0)","v":{"$error":"#N/A"}},{"$f":"MATCH($CW$3,Millwall!$AB$93:$AP$93,0)","v":{"$error":"#N/A"}},{"$f":"MATCH($CX$3,Millwall!$AB$93:$AP$93,0)","v":{"$error":"#N/A"}},{"$f":"MATCH($CY$3,Millwall!$AB$93:$AP$93,0)","v":{"$error":"#N/A"}},{"$f":"MATCH($CZ$3,Millwall!$AB$93:$AP$93,0)","v":{"$error":"#N/A"}},{"$f":"MATCH($DA$3,Millwall!$AB$93:$AP$93,0)","v":{"$error":"#N/A"}},{"$f":"MATCH($DB$3,Millwall!$AB$93:$AP$93,0)","v":{"$error":"#N/A"}},{"$f":"MATCH($DC$3,Millwall!$AB$93:$AP$93,0)","v":{"$error":"#N/A"}},{"$f":"MATCH($DD$3,Millwall!$AB$93:$AP$93,0)","v":{"$error":"#N/A"}},{"$f":"MATCH($DE$3,Millwall!$AB$93:$AP$93,0)","v":{"$error":"#N/A"}},{"$f":"MATCH($DF$3,Millwall!$AB$93:$AP$93,0)","v":14},{"$f":"MATCH($DG$3,Millwall!$AB$93:$AP$93,0)","v":{"$error":"#N/A"}},{"$f":"MATCH($DH$3,Millwall!$AB$93:$AP$93,0)","v":{"$error":"#N/A"}},{"$f":"MATCH($DI$3,Millwall!$AB$93:$AP$93,0)","v":{"$error":"#N/A"}},{"$f":"MATCH($DJ$3,Millwall!$AB$93:$AP$93,0)","v":{"$error":"#N/A"}},{"$f":"MATCH($DK$3,Millwall!$AB$93:$AP$93,0)","v":{"$error":"#N/A"}},{"$f":"MATCH($DL$3,Millwall!$AB$93:$AP$93,0)","v":{"$error":"#N/A"}},{"$f":"MATCH($DM$3,Millwall!$AB$93:$AP$93,0)","v":{"$error":"#N/A"}},{"$f":"MATCH($DN$3,Millwall!$AB$93:$AP$93,0)","v":{"$error":"#N/A"}},{"$f":"MATCH($DO$3,Millwall!$AB$93:$AP$93,0)","v":{"$error":"#N/A"}},null,null,null,null,null,null,null,null,{"$f":"$DY$23&\" [**\"","v":"May [**"},{"$f":"Millwall!$BP69","v":"May"},"May (**",{"$f":"$DY$23&\"**\"","v":"May**"},null,{"$f":"$DY$23","v":"May"},{"$f":"$DZ$23","v":"May (**"},{"$f":"$EA$23","v":"May**"},null,{"$f":"Millwall!$BX24","v":0},{"$f":"Millwall!$CC24","v":0},{"$f":"Millwall!$CH24","v":0},{"$f":"Millwall!$CM24","v":0}]
[null,null,0,20,null,{"$f":"Millwall!X94","v":"1992-12-12"},null,{"$f":"Millwall!Y94","v":"Grimsby"},{"$f":"Millwall!Z94","v":"(H)"},{"$f":"Millwall!AA94","v":"W 2-1"},{"$f":"MATCH($K$4,Millwall!$AB$94:$AP$94,0)","v":12},{"$f":"MATCH($L$4,Millwall!$AB$94:$AP$94,0)","v":{"$error":"#N/A"}},{"$f":"MATCH($M$4,Millwall!$AB$94:$AP$94,0)","v":11},{"$f":"MATCH($N$4,Millwall!$AB$94:$AP$94,0)","v":9},{"$f":"MATCH($O$4,Millwall!$AB$94:$AP$94,0)","v":10},{"$f":"MATCH($P$4,Millwall!$AB$94:$AP$94,0)","v":5},{"$f":"MATCH($Q$4,Millwall!$AB$94:$AP$94,0)","v":2},{"$f":"MATCH($R$4,Millwall!$AB$94:$AP$94,0)","v":{"$error":"#N/A"}},{"$f":"MATCH($S$4,Millwall!$AB$94:$AP$94,0)","v":3},{"$f":"MATCH($T$4,Millwall!$AB$94:$AP$94,0)","v":14},{"$f":"MATCH($U$4,Millwall!$AB$94:$AP$94,0)","v":{"$error":"#N/A"}},{"$f":"MATCH($V$4,Millwall!$AB$94:$AP$94,0)","v":{"$error":"#N/A"}},{"$f":"MATCH($W$4,Millwall!$AB$94:$AP$94,0)","v":{"$error":"#N/A"}},{"$f":"MATCH($X$4,Millwall!$AB$94:$AP$94,0)","v":1},{"$f":"MATCH($Y$4,Millwall!$AB$94:$AP$94,0)","v":{"$error":"#N/A"}},{"$f":"MATCH($Z$4,Millwall!$AB$94:$AP$94,0)","v":{"$error":"#N/A"}},{"$f":"MATCH($AA$4,Millwall!$AB$94:$AP$94,0)","v":{"$error":"#N/A"}},{"$f":"MATCH($AB$4,Millwall!$AB$94:$AP$94,0)","v":{"$error":"#N/A"}},{"$f":"MATCH($AC$4,Millwall!$AB$94:$AP$94,0)","v":4},{"$f":"MATCH($AD$4,Millwall!$AB$94:$AP$94,0)","v":{"$error":"#N/A"}},{"$f":"MATCH($AE$4,Millwall!$AB$94:$AP$94,0)","v":{"$error":"#N/A"}},{"$f":"MATCH($AF$4,Millwall!$AB$94:$AP$94,0)","v":{"$error":"#N/A"}},{"$f":"MATCH($AG$4,Millwall!$AB$94:$AP$94,0)","v":{"$error":"#N/A"}},{"$f":"MATCH($AH$4,Millwall!$AB$94:$AP$94,0)","v":8},{"$f":"MATCH($AI$4,Millwall!$AB$94:$AP$94,0)","v":{"$error":"#N/A"}},{"$f":"MATCH($AJ$4,Millwall!$AB$94:$AP$94,0)","v":7},{"$f":"MATCH($AK$4,Millwall!$AB$94:$AP$94,0)","v":{"$error":"#N/A"}},{"$f":"MATCH($AL$4,Millwall!$AB$94:$AP$94,0)","v":{"$error":"#N/A"}},{"$f":"MATCH($AM$4,Millwall!$AB$94:$AP$94,0)","v":6},{"$f":"MATCH($AN$4,Millwall!$AB$94:$AP$94,0)","v":{"$error":"#N/A"}},{"$f":"MATCH($AO$4,Millwall!$AB$94:$AP$94,0)","v":{"$error":"#N/A"}},{"$f":"MATCH($AP$4,Millwall!$AB$94:$AP$94,0)","v":{"$error":"#N/A"}},{"$f":"MATCH($AQ$4,Millwall!$AB$94:$AP$94,0)","v":{"$error":"#N/A"}},{"$f":"MATCH($AR$4,Millwall!$AE$94:$AP$94,0)","v":{"$error":"#N/A"}},null,null,null,null,null,{"$f":"MATCH(AX$3,Millwall!$AB94:$AP94,0)","v":12},{"$f":"MATCH(AY$3,Millwall!$AB94:$AP94,0)","v":{"$error":"#N/A"}},{"$f":"MATCH(AZ$3,Millwall!$AB94:$AP94,0)","v":{"$error":"#N/A"}},{"$f":"MATCH(BA$3,Millwall!$AB94:$AP94,0)","v":9},{"$f":"MATCH(BB$3,Millwall!$AB94:$AP94,0)","v":{"$error":"#N/A"}},{"$f":"MATCH(BC$3,Millwall!$AB94:$AP94,0)","v":{"$error":"#N/A"}},{"$f":"MATCH(BD$3,Millwall!$AB94:$AP94,0)","v":{"$error":"#N/A"}},{"$f":"MATCH(BE$3,Millwall!$AB94:$AP94,0)","v":{"$error":"#N/A"}},{"$f":"MATCH(BF$3,Millwall!$AB94:$AP94,0)","v":{"$error":"#N/A"}},{"$f":"MATCH(BG$3,Millwall!$AB94:$AP94,0)","v":{"$error":"#N/A"}},{"$f":"MATCH(BH$3,Millwall!$AB94:$AP94,0)","v":{"$error":"#N/A"}},{"$f":"MATCH(BI$3,Millwall!$AB94:$AP94,0)","v":{"$error":"#N/A"}},{"$f":"MATCH(BJ$3,Millwall!$AB94:$AP94,0)","v":{"$error":"#N/A"}},{"$f":"MATCH(BK$3,Millwall!$AB94:$AP94,0)","v":{"$error":"#N/A"}},{"$f":"MATCH(BL$3,Millwall!$AB94:$AP94,0)","v":{"$error":"#N/A"}},{"$f":"MATCH(BM$3,Millwall!$AB94:$AP94,0)","v":{"$error":"#N/A"}},{"$f":"MATCH(BN$3,Millwall!$AB94:$AP94,0)","v":{"$error":"#N/A"}},{"$f":"MATCH(BO$3,Millwall!$AB94:$AP94,0)","v":{"$error":"#N/A"}},{"$f":"MATCH(BP$3,Millwall!$AB94:$AP94,0)","v":{"$error":"#N/A"}},{"$f":"MATCH(BQ$3,Millwall!$AB94:$AP94,0)","v":{"$error":"#N/A"}},{"$f":"MATCH(BR$3,Millwall!$AB94:$AP94,0)","v":{"$error":"#N/A"}},{"$f":"MATCH(BS$3,Millwall!$AB94:$AP94,0)","v":{"$error":"#N/A"}},{"$f":"MATCH(BT$3,Millwall!$AB94:$AP94,0)","v":{"$error":"#N/A"}},{"$f":"MATCH(BU$3,Millwall!$AB94:$AP94,0)","v":{"$error":"#N/A"}},{"$f":"MATCH(BV$3,Millwall!$AB94:$AP94,0)","v":{"$error":"#N/A"}},{"$f":"MATCH(BW$3,Millwall!$AB94:$AP94,0)","v":{"$error":"#N/A"}},{"$f":"MATCH(BX$3,Millwall!$AB94:$AP94,0)","v":{"$error":"#N/A"}},{"$f":"MATCH(BY$3,Millwall!$AB94:$AP94,0)","v":{"$error":"#N/A"}},{"$f":"MATCH(BZ$3,Millwall!$AB94:$AP94,0)","v":{"$error":"#N/A"}},{"$f":"MATCH(CA$3,Millwall!$AB94:$AP94,0)","v":{"$error":"#N/A"}},{"$f":"MATCH(CB$3,Millwall!$AB94:$AP94,0)","v":{"$error":"#N/A"}},{"$f":"MATCH(CC$3,Millwall!$AB94:$AP94,0)","v":{"$error":"#N/A"}},{"$f":"MATCH(CD$3,Millwall!$AB94:$AP94,0)","v":{"$error":"#N/A"}},{"$f":"MATCH(CE$3,Millwall!$AB94:$AP94,0)","v":{"$error":"#N/A"}},null,null,{"$f":"MATCH($CH$3,Millwall!$AB$94:$AP$94,0)","v":{"$error":"#N/A"}},{"$f":"MATCH($CI$3,Millwall!$AB$94:$AP$94,0)","v":{"$error":"#N/A"}},{"$f":"MATCH($CJ$3,Millwall!$AB$94:$AP$94,0)","v":{"$error":"#N/A"}},{"$f":"MATCH($CK$3,Millwall!$AB$94:$AP$94,0)","v":{"$error":"#N/A"}},{"$f":"MATCH($CL$3,Millwall!$AB$94:$AP$94,0)","v":10},{"$f":"MATCH($CM$3,Millwall!$AB$94:$AP$94,0)","v":{"$error":"#N/A"}},{"$f":"MATCH($CN$3,Millwall!$AB$94:$AP$94,0)","v":{"$error":"#N/A"}},{"$f":"MATCH($CO$3,Millwall!$AB$94:$AP$94,0)","v":{"$error":"#N/A"}},{"$f":"MATCH($CP$3,Millwall!$AB$94:$AP$94,0)","v":{"$error":"#N/A"}},{"$f":"MATCH($CQ$3,Millwall!$AB$94:$AP$94,0)","v":14},{"$f":"MATCH($CR$3,Millwall!$AB$94:$AP$94,0)","v":{"$error":"#N/A"}},{"$f":"MATCH($CS$3,Millwall!$AB$94:$AP$94,0)","v":{"$error":"#N/A"}},{"$f":"MATCH($CT$3,Millwall!$AB$94:$AP$94,0)","v":{"$error":"#N/A"}},{"$f":"MATCH($CU$3,Millwall!$AB$94:$AP$94,0)","v":{"$error":"#N/A"}},{"$f":"MATCH($CV$3,Millwall!$AB$94:$AP$94,0)","v":{"$error":"#N/A"}},{"$f":"MATCH($CW$3,Millwall!$AB$94:$AP$94,0)","v":{"$error":"#N/A"}},{"$f":"MATCH($CX$3,Millwall!$AB$94:$AP$94,0)","v":{"$error":"#N/A"}},{"$f":"MATCH($CY$3,Millwall!$AB$94:$AP$94,0)","v":{"$error":"#N/A"}},{"$f":"MATCH($CZ$3,Millwall!$AB$94:$AP$94,0)","v":{"$error":"#N/A"}},{"$f":"MATCH($DA$3,Millwall!$AB$94:$AP$94,0)","v":{"$error":"#N/A"}},{"$f":"MATCH($DB$3,Millwall!$AB$94:$AP$94,0)","v":{"$error":"#N/A"}},{"$f":"MATCH($DC$3,Millwall!$AB$94:$AP$94,0)","v":{"$error":"#N/A"}},{"$f":"MATCH($DD$3,Millwall!$AB$94:$AP$94,0)","v":{"$error":"#N/A"}},{"$f":"MATCH($DE$3,Millwall!$AB$94:$AP$94,0)","v":{"$error":"#N/A"}},{"$f":"MATCH($DF$3,Millwall!$AB$94:$AP$94,0)","v":{"$error":"#N/A"}},{"$f":"MATCH($DG$3,Millwall!$AB$94:$AP$94,0)","v":{"$error":"#N/A"}},{"$f":"MATCH($DH$3,Millwall!$AB$94:$AP$94,0)","v":{"$error":"#N/A"}},{"$f":"MATCH($DI$3,Millwall!$AB$94:$AP$94,0)","v":{"$error":"#N/A"}},{"$f":"MATCH($DJ$3,Millwall!$AB$94:$AP$94,0)","v":{"$error":"#N/A"}},{"$f":"MATCH($DK$3,Millwall!$AB$94:$AP$94,0)","v":{"$error":"#N/A"}},{"$f":"MATCH($DL$3,Millwall!$AB$94:$AP$94,0)","v":{"$error":"#N/A"}},{"$f":"MATCH($DM$3,Millwall!$AB$94:$AP$94,0)","v":{"$error":"#N/A"}},{"$f":"MATCH($DN$3,Millwall!$AB$94:$AP$94,0)","v":{"$error":"#N/A"}},{"$f":"MATCH($DO$3,Millwall!$AB$94:$AP$94,0)","v":{"$error":"#N/A"}},null,null,null,null,null,null,null,null,{"$f":"$DY$24&\" [**\"","v":"M McCarthy [**"},{"$f":"Millwall!$BP70","v":"M McCarthy"},"M McCarthy (**",{"$f":"$DY$24&\"**\"","v":"M McCarthy**"},null,{"$f":"$DY$24","v":"M McCarthy"},{"$f":"$DZ$24","v":"M McCarthy (**"},{"$f":"$EA$24","v":"M McCarthy**"},null,{"$f":"Millwall!$BX25","v":0},{"$f":"Millwall!$CC25","v":0},{"$f":"Millwall!$CH25","v":0},{"$f":"Millwall!$CM25","v":0}]
[null,null,0,21,null,{"$f":"Millwall!X95","v":"1992-12-20"},null,{"$f":"Millwall!Y95","v":"Newcastle"},{"$f":"Millwall!Z95","v":"(A)"},{"$f":"Millwall!AA95","v":"D 1-1"},{"$f":"MATCH($K$4,Millwall!$AB$95:$AP$95,0)","v":12},{"$f":"MATCH($L$4,Millwall!$AB$95:$AP$95,0)","v":{"$error":"#N/A"}},{"$f":"MATCH($M$4,Millwall!$AB$95:$AP$95,0)","v":11},{"$f":"MATCH($N$4,Millwall!$AB$95:$AP$95,0)","v":9},{"$f":"MATCH($O$4,Millwall!$AB$95:$AP$95,0)","v":{"$error":"#N/A"}},{"$f":"MATCH($P$4,Millwall!$AB$95:$AP$95,0)","v":5},{"$f":"MATCH($Q$4,Millwall!$AB$95:$AP$95,0)","v":2},{"$f":"MATCH($R$4,Millwall!$AB$95:$AP$95,0)","v":{"$error":"#N/A"}},{"$f":"MATCH($S$4,Millwall!$AB$95:$AP$95,0)","v":3},{"$f":"MATCH($T$4,Millwall!$AB$95:$AP$95,0)","v":{"$error":"#N/A"}},{"$f":"MATCH($U$4,Millwall!$AB$95:$AP$95,0)","v":{"$error":"#N/A"}},{"$f":"MATCH($V$4,Millwall!$AB$95:$AP$95,0)","v":10},{"$f":"MATCH($W$4,Millwall!$AB$95:$AP$95,0)","v":{"$error":"#N/A"}},{"$f":"MATCH($X$4,Millwall!$AB$95:$AP$95,0)","v":1},{"$f":"MATCH($Y$4,Millwall!$AB$95:$AP$95,0)","v":{"$error":"#N/A"}},{"$f":"MATCH($Z$4,Millwall!$AB$95:$AP$95,0)","v":{"$error":"#N/A"}},{"$f":"MATCH($AA$4,Millwall!$AB$95:$AP$95,0)","v":{"$error":"#N/A"}},{"$f":"MATCH($AB$4,Millwall!$AB$95:$AP$95,0)","v":{"$error":"#N/A"}},{"$f":"MATCH($AC$4,Millwall!$AB$95:$AP$95,0)","v":4},{"$f":"MATCH($AD$4,Millwall!$AB$95:$AP$95,0)","v":{"$error":"#N/A"}},{"$f":"MATCH($AE$4,Millwall!$AB$95:$AP$95,0)","v":{"$error":"#N/A"}},{"$f":"MATCH($AF$4,Millwall!$AB$95:$AP$95,0)","v":{"$error":"#N/A"}},{"$f":"MATCH($AG$4,Millwall!$AB$95:$AP$95,0)","v":{"$error":"#N/A"}},{"$f":"MATCH($AH$4,Millwall!$AB$95:$AP$95,0)","v":8},{"$f":"MATCH($AI$4,Millwall!$AB$95:$AP$95,0)","v":14},{"$f":"MATCH($AJ$4,Millwall!$AB$95:$AP$95,0)","v":7},{"$f":"MATCH($AK$4,Millwall!$AB$95:$AP$95,0)","v":{"$error":"#N/A"}},{"$f":"MATCH($AL$4,Millwall!$AB$95:$AP$95,0)","v":{"$error":"#N/A"}},{"$f":"MATCH($AM$4,Millwall!$AB$95:$AP$95,0)","v":6},{"$f":"MATCH($AN$4,Millwall!$AB$95:$AP$95,0)","v":{"$error":"#N/A"}},{"$f":"MATCH($AO$4,Millwall!$AB$95:$AP$95,0)","v":{"$error":"#N/A"}},{"$f":"MATCH($AP$4,Millwall!$AB$95:$AP$95,0)","v":{"$error":"#N/A"}},{"$f":"MATCH($AQ$4,Millwall!$AB$95:$AP$95,0)","v":{"$error":"#N/A"}},{"$f":"MATCH($AR$4,Millwall!$AE$95:$AP$95,0)","v":{"$error":"#N/A"}},null,null,null,null,null,{"$f":"MATCH(AX$3,Millwall!$AB95:$AP95,0)","v":12},{"$f":"MATCH(AY$3,Millwall!$AB95:$AP95,0)","v":{"$error":"#N/A"}},{"$f":"MATCH(AZ$3,Millwall!$AB95:$AP95,0)","v":{"$error":"#N/A"}},{"$f":"MATCH(BA$3,Millwall!$AB95:$AP95,0)","v":{"$error":"#N/A"}},{"$f":"MATCH(BB$3,Millwall!$AB95:$AP95,0)","v":{"$error":"#N/A"}},{"$f":"MATCH(BC$3,Millwall!$AB95:$AP95,0)","v":{"$error":"#N/A"}},{"$f":"MATCH(BD$3,Millwall!$AB95:$AP95,0)","v":{"$error":"#N/A"}},{"$f":"MATCH(BE$3,Millwall!$AB95:$AP95,0)","v":{"$error":"#N/A"}},{"$f":"MATCH(BF$3,Millwall!$AB95:$AP95,0)","v":{"$error":"#N/A"}},{"$f":"MATCH(BG$3,Millwall!$AB95:$AP95,0)","v":{"$error":"#N/A"}},{"$f":"MATCH(BH$3,Millwall!$AB95:$AP95,0)","v":{"$error":"#N/A"}},{"$f":"MATCH(BI$3,Millwall!$AB95:$AP95,0)","v":{"$error":"#N/A"}},{"$f":"MATCH(BJ$3,Millwall!$AB95:$AP95,0)","v":{"$error":"#N/A"}},{"$f":"MATCH(BK$3,Millwall!$AB95:$AP95,0)","v":{"$error":"#N/A"}},{"$f":"MATCH(BL$3,Millwall!$AB95:$AP95,0)","v":{"$error":"#N/A"}},{"$f":"MATCH(BM$3,Millwall!$AB95:$AP95,0)","v":{"$error":"#N/A"}},{"$f":"MATCH(BN$3,Millwall!$AB95:$AP95,0)","v":{"$error":"#N/A"}},{"$f":"MATCH(BO$3,Millwall!$AB95:$AP95,0)","v":{"$error":"#N/A"}},{"$f":"MATCH(BP$3,Millwall!$AB95:$AP95,0)","v":{"$error":"#N/A"}},{"$f":"MATCH(BQ$3,Millwall!$AB95:$AP95,0)","v":{"$error":"#N/A"}},{"$f":"MATCH(BR$3,Millwall!$AB95:$AP95,0)","v":{"$error":"#N/A"}},{"$f":"MATCH(BS$3,Millwall!$AB95:$AP95,0)","v":{"$error":"#N/A"}},{"$f":"MATCH(BT$3,Millwall!$AB95:$AP95,0)","v":{"$error":"#N/A"}},{"$f":"MATCH(BU$3,Millwall!$AB95:$AP95,0)","v":8},{"$f":"MATCH(BV$3,Millwall!$AB95:$AP95,0)","v":{"$error":"#N/A"}},{"$f":"MATCH(BW$3,Millwall!$AB95:$AP95,0)","v":{"$error":"#N/A"}},{"$f":"MATCH(BX$3,Millwall!$AB95:$AP95,0)","v":{"$error":"#N/A"}},{"$f":"MATCH(BY$3,Millwall!$AB95:$AP95,0)","v":{"$error":"#N/A"}},{"$f":"MATCH(BZ$3,Millwall!$AB95:$AP95,0)","v":{"$error":"#N/A"}},{"$f":"MATCH(CA$3,Millwall!$AB95:$AP95,0)","v":{"$error":"#N/A"}},{"$f":"MATCH(CB$3,Millwall!$AB95:$AP95,0)","v":{"$error":"#N/A"}},{"$f":"MATCH(CC$3,Millwall!$AB95:$AP95,0)","v":{"$error":"#N/A"}},{"$f":"MATCH(CD$3,Millwall!$AB95:$AP95,0)","v":{"$error":"#N/A"}},{"$f":"MATCH(CE$3,Millwall!$AB95:$AP95,0)","v":{"$error":"#N/A"}},null,null,{"$f":"MATCH($CH$3,Millwall!$AB$95:$AP$95,0)","v":{"$error":"#N/A"}},{"$f":"MATCH($CI$3,Millwall!$AB$95:$AP$95,0)","v":{"$error":"#N/A"}},{"$f":"MATCH($CJ$3,Millwall!$AB$95:$AP$95,0)","v":{"$error":"#N/A"}},{"$f":"MATCH($CK$3,Millwall!$AB$95:$AP$95,0)","v":9},{"$f":"MATCH($CL$3,Millwall!$AB$95:$AP$95,0)","v":{"$error":"#N/A"}},{"$f":"MATCH($CM$3,Millwall!$AB$95:$AP$95,0)","v":{"$error":"#N/A"}},{"$f":"MATCH($CN$3,Millwall!$AB$95:$AP$95,0)","v":{"$error":"#N/A"}},{"$f":"MATCH($CO$3,Millwall!$AB$95:$AP$95,0)","v":{"$error":"#N/A"}},{"$f":"MATCH($CP$3,Millwall!$AB$95:$AP$95,0)","v":{"$error":"#N/A"}},{"$f":"MATCH($CQ$3,Millwall!$AB$95:$AP$95,0)","v":{"$error":"#N/A"}},{"$f":"MATCH($CR$3,Millwall!$AB$95:$AP$95,0)","v":{"$error":"#N/A"}},{"$f":"MATCH($CS$3,Millwall!$AB$95:$AP$95,0)","v":{"$error":"#N/A"}},{"$f":"MATCH($CT$3,Millwall!$AB$95:$AP$95,0)","v":{"$error":"#N/A"}},{"$f":"MATCH($CU$3,Millwall!$AB$95:$AP$95,0)","v":{"$error":"#N/A"}},{"$f":"MATCH($CV$3,Millwall!$AB$95:$AP$95,0)","v":{"$error":"#N/A"}},{"$f":"MATCH($CW$3,Millwall!$AB$95:$AP$95,0)","v":{"$error":"#N/A"}},{"$f":"MATCH($CX$3,Millwall!$AB$95:$AP$95,0)","v":{"$error":"#N/A"}},{"$f":"MATCH($CY$3,Millwall!$AB$95:$AP$95,0)","v":{"$error":"#N/A"}},{"$f":"MATCH($CZ$3,Millwall!$AB$95:$AP$95,0)","v":{"$error":"#N/A"}},{"$f":"MATCH($DA$3,Millwall!$AB$95:$AP$95,0)","v":{"$error":"#N/A"}},{"$f":"MATCH($DB$3,Millwall!$AB$95:$AP$95,0)","v":{"$error":"#N/A"}},{"$f":"MATCH($DC$3,Millwall!$AB$95:$AP$95,0)","v":{"$error":"#N/A"}},{"$f":"MATCH($DD$3,Millwall!$AB$95:$AP$95,0)","v":{"$error":"#N/A"}},{"$f":"MATCH($DE$3,Millwall!$AB$95:$AP$95,0)","v":{"$error":"#N/A"}},{"$f":"MATCH($DF$3,Millwall!$AB$95:$AP$95,0)","v":14},{"$f":"MATCH($DG$3,Millwall!$AB$95:$AP$95,0)","v":{"$error":"#N/A"}},{"$f":"MATCH($DH$3,Millwall!$AB$95:$AP$95,0)","v":{"$error":"#N/A"}},{"$f":"MATCH($DI$3,Millwall!$AB$95:$AP$95,0)","v":{"$error":"#N/A"}},{"$f":"MATCH($DJ$3,Millwall!$AB$95:$AP$95,0)","v":{"$error":"#N/A"}},{"$f":"MATCH($DK$3,Millwall!$AB$95:$AP$95,0)","v":{"$error":"#N/A"}},{"$f":"MATCH($DL$3,Millwall!$AB$95:$AP$95,0)","v":{"$error":"#N/A"}},{"$f":"MATCH($DM$3,Millwall!$AB$95:$AP$95,0)","v":{"$error":"#N/A"}},{"$f":"MATCH($DN$3,Millwall!$AB$95:$AP$95,0)","v":{"$error":"#N/A"}},{"$f":"MATCH($DO$3,Millwall!$AB$95:$AP$95,0)","v":{"$error":"#N/A"}},null,null,null,null,null,null,null,null,{"$f":"$DY$25&\" [**\"","v":"T McCarthy [**"},{"$f":"Millwall!$BP71","v":"T McCarthy"},"T McCarthy (**",{"$f":"$DY$25&\"**\"","v":"T McCarthy**"},null,{"$f":"$DY$25","v":"T McCarthy"},{"$f":"$DZ$25","v":"T McCarthy (**"},{"$f":"$EA$25","v":"T McCarthy**"},null,{"$f":"Millwall!$BX26","v":0},{"$f":"Millwall!$CC26","v":0},{"$f":"Millwall!$CH26","v":0},{"$f":"Millwall!$CM26","v":0}]
[null,null,0,22,null,{"$f":"Millwall!X96","v":"1992-12-26"},null,{"$f":"Millwall!Y96","v":"Tranmere"},{"$f":"Millwall!Z96","v":"(A)"},{"$f":"Millwall!AA96","v":"D 1-1"},{"$f":"MATCH($K$4,Millwall!$AB$96:$AP$96,0)","v":12},{"$f":"MATCH($L$4,Millwall!$AB$96:$AP$96,0)","v":{"$error":"#N/A"}},{"$f":"MATCH($M$4,Millwall!$AB$96:$AP$96,0)","v":11},{"$f":"MATCH($N$4,Millwall!$AB$96:$AP$96,0)","v":9},{"$f":"MATCH($O$4,Millwall!$AB$96:$AP$96,0)","v":{"$error":"#N/A"}},{"$f":"MATCH($P$4,Millwall!$AB$96:$AP$96,0)","v":5},{"$f":"MATCH($Q$4,Millwall!$AB$96:$AP$96,0)","v":2},{"$f":"MATCH($R$4,Millwall!$AB$96:$AP$96,0)","v":{"$error":"#N/A"}},{"$f":"MATCH($S$4,Millwall!$AB$96:$AP$96,0)","v":3},{"$f":"MATCH($T$4,Millwall!$AB$96:$AP$96,0)","v":{"$error":"#N/A"}},{"$f":"MATCH($U$4,Millwall!$AB$96:$AP$96,0)","v":{"$error":"#N/A"}},{"$f":"MATCH($V$4,Millwall!$AB$96:$AP$96,0)","v":10},{"$f":"MATCH($W$4,Millwall!$AB$96:$AP$96,0)","v":{"$error":"#N/A"}},{"$f":"MATCH($X$4,Millwall!$AB$96:$AP$96,0)","v":1},{"$f":"MATCH($Y$4,Millwall!$AB$96:$AP$96,0)","v":{"$error":"#N/A"}},{"$f":"MATCH($Z$4,Millwall!$AB$96:$AP$96,0)","v":{"$error":"#N/A"}},{"$f":"MATCH($AA$4,Millwall!$AB$96:$AP$96,0)","v":{"$error":"#N/A"}},{"$f":"MATCH($AB$4,Millwall!$AB$96:$AP$96,0)","v":{"$error":"#N/A"}},{"$f":"MATCH($AC$4,Millwall!$AB$96:$AP$96,0)","v":4},{"$f":"MATCH($AD$4,Millwall!$AB$96:$AP$96,0)","v":{"$error":"#N/A"}},{"$f":"MATCH($AE$4,Millwall!$AB$96:$AP$96,0)","v":{"$error":"#N/A"}},{"$f":"MATCH($AF$4,Millwall!$AB$96:$AP$96,0)","v":{"$error":"#N/A"}},{"$f":"MATCH($AG$4,Millwall!$AB$96:$AP$96,0)","v":{"$error":"#N/A"}},{"$f":"MATCH($AH$4,Millwall!$AB$96:$AP$96,0)","v":8},{"$f":"MATCH($AI$4,Millwall!$AB$96:$AP$96,0)","v":14},{"$f":"MATCH($AJ$4,Millwall!$AB$96:$AP$96,0)","v":7},{"$f":"MATCH($AK$4,Millwall!$AB$96:$AP$96,0)","v":{"$error":"#N/A"}},{"$f":"MATCH($AL$4,Millwall!$AB$96:$AP$96,0)","v":{"$error":"#N/A"}},{"$f":"MATCH($AM$4,Millwall!$AB$96:$AP$96,0)","v":6},{"$f":"MATCH($AN$4,Millwall!$AB$96:$AP$96,0)","v":{"$error":"#N/A"}},{"$f":"MATCH($AO$4,Millwall!$AB$96:$AP$96,0)","v":{"$error":"#N/A"}},{"$f":"MATCH($AP$4,Millwall!$AB$96:$AP$96,0)","v":{"$error":"#N/A"}},{"$f":"MATCH($AQ$4,Millwall!$AB$96:$AP$96,0)","v":{"$error":"#N/A"}},{"$f":"MATCH($AR$4,Millwall!$AE$96:$AP$96,0)","v":{"$error":"#N/A"}},null,null,null,null,null,{"$f":"MATCH(AX$3,Millwall!$AB96:$AP96,0)","v":12},{"$f":"MATCH(AY$3,Millwall!$AB96:$AP96,0)","v":{"$error":"#N/A"}},{"$f":"MATCH(AZ$3,Millwall!$AB96:$AP96,0)","v":{"$error":"#N/A"}},{"$f":"MATCH(BA$3,Millwall!$AB96:$AP96,0)","v":{"$error":"#N/A"}},{"$f":"MATCH(BB$3,Millwall!$AB96:$AP96,0)","v":{"$error":"#N/A"}},{"$f":"MATCH(BC$3,Millwall!$AB96:$AP96,0)","v":{"$error":"#N/A"}},{"$f":"MATCH(BD$3,Millwall!$AB96:$AP96,0)","v":{"$error":"#N/A"}},{"$f":"MATCH(BE$3,Millwall!$AB96:$AP96,0)","v":{"$error":"#N/A"}},{"$f":"MATCH(BF$3,Millwall!$AB96:$AP96,0)","v":{"$error":"#N/A"}},{"$f":"MATCH(BG$3,Millwall!$AB96:$AP96,0)","v":{"$error":"#N/A"}},{"$f":"MATCH(BH$3,Millwall!$AB96:$AP96,0)","v":{"$error":"#N/A"}},{"$f":"MATCH(BI$3,Millwall!$AB96:$AP96,0)","v":10},{"$f":"MATCH(BJ$3,Millwall!$AB96:$AP96,0)","v":{"$error":"#N/A"}},{"$f":"MATCH(BK$3,Millwall!$AB96:$AP96,0)","v":{"$error":"#N/A"}},{"$f":"MATCH(BL$3,Millwall!$AB96:$AP96,0)","v":{"$error":"#N/A"}},{"$f":"MATCH(BM$3,Millwall!$AB96:$AP96,0)","v":{"$error":"#N/A"}},{"$f":"MATCH(BN$3,Millwall!$AB96:$AP96,0)","v":{"$error":"#N/A"}},{"$f":"MATCH(BO$3,Millwall!$AB96:$AP96,0)","v":{"$error":"#N/A"}},{"$f":"MATCH(BP$3,Millwall!$AB96:$AP96,0)","v":{"$error":"#N/A"}},{"$f":"MATCH(BQ$3,Millwall!$AB96:$AP96,0)","v":{"$error":"#N/A"}},{"$f":"MATCH(BR$3,Millwall!$AB96:$AP96,0)","v":{"$error":"#N/A"}},{"$f":"MATCH(BS$3,Millwall!$AB96:$AP96,0)","v":{"$error":"#N/A"}},{"$f":"MATCH(BT$3,Millwall!$AB96:$AP96,0)","v":{"$error":"#N/A"}},{"$f":"MATCH(BU$3,Millwall!$AB96:$AP96,0)","v":{"$error":"#N/A"}},{"$f":"MATCH(BV$3,Millwall!$AB96:$AP96,0)","v":{"$error":"#N/A"}},{"$f":"MATCH(BW$3,Millwall!$AB96:$AP96,0)","v":{"$error":"#N/A"}},{"$f":"MATCH(BX$3,Millwall!$AB96:$AP96,0)","v":{"$error":"#N/A"}},{"$f":"MATCH(BY$3,Millwall!$AB96:$AP96,0)","v":{"$error":"#N/A"}},{"$f":"MATCH(BZ$3,Millwall!$AB96:$AP96,0)","v":{"$error":"#N/A"}},{"$f":"MATCH(CA$3,Millwall!$AB96:$AP96,0)","v":{"$error":"#N/A"}},{"$f":"MATCH(CB$3,Millwall!$AB96:$AP96,0)","v":{"$error":"#N/A"}},{"$f":"MATCH(CC$3,Millwall!$AB96:$AP96,0)","v":{"$error":"#N/A"}},{"$f":"MATCH(CD$3,Millwall!$AB96:$AP96,0)","v":{"$error":"#N/A"}},{"$f":"MATCH(CE$3,Millwall!$AB96:$AP96,0)","v":{"$error":"#N/A"}},null,null,{"$f":"MATCH($CH$3,Millwall!$AB$96:$AP$96,0)","v":{"$error":"#N/A"}},{"$f":"MATCH($CI$3,Millwall!$AB$96:$AP$96,0)","v":{"$error":"#N/A"}},{"$f":"MATCH($CJ$3,Millwall!$AB$96:$AP$96,0)","v":{"$error":"#N/A"}},{"$f":"MATCH($CK$3,Millwall!$AB$96:$AP$96,0)","v":9},{"$f":"MATCH($CL$3,Millwall!$AB$96:$AP$96,0)","v":{"$error":"#N/A"}},{"$f":"MATCH($CM$3,Millwall!$AB$96:$AP$96,0)","v":{"$error":"#N/A"}},{"$f":"MATCH($CN$3,Millwall!$AB$96:$AP$96,0)","v":{"$error":"#N/A"}},{"$f":"MATCH($CO$3,Millwall!$AB$96:$AP$96,0)","v":{"$error":"#N/A"}},{"$f":"MATCH($CP$3,Millwall!$AB$96:$AP$96,0)","v":{"$error":"#N/A"}},{"$f":"MATCH($CQ$3,Millwall!$AB$96:$AP$96,0)","v":{"$error":"#N/A"}},{"$f":"MATCH($CR$3,Millwall!$AB$96:$AP$96,0)","v":{"$error":"#N/A"}},{"$f":"MATCH($CS$3,Millwall!$AB$96:$AP$96,0)","v":{"$error":"#N/A"}},{"$f":"MATCH($CT$3,Millwall!$AB$96:$AP$96,0)","v":{"$error":"#N/A"}},{"$f":"MATCH($CU$3,Millwall!$AB$96:$AP$96,0)","v":{"$error":"#N/A"}},{"$f":"MATCH($CV$3,Millwall!$AB$96:$AP$96,0)","v":{"$error":"#N/A"}},{"$f":"MATCH($CW$3,Millwall!$AB$96:$AP$96,0)","v":{"$error":"#N/A"}},{"$f":"MATCH($CX$3,Millwall!$AB$96:$AP$96,0)","v":{"$error":"#N/A"}},{"$f":"MATCH($CY$3,Millwall!$AB$96:$AP$96,0)","v":{"$error":"#N/A"}},{"$f":"MATCH($CZ$3,Millwall!$AB$96:$AP$96,0)","v":{"$error":"#N/A"}},{"$f":"MATCH($DA$3,Millwall!$AB$96:$AP$96,0)","v":{"$error":"#N/A"}},{"$f":"MATCH($DB$3,Millwall!$AB$96:$AP$96,0)","v":{"$error":"#N/A"}},{"$f":"MATCH($DC$3,Millwall!$AB$96:$AP$96,0)","v":{"$error":"#N/A"}},{"$f":"MATCH($DD$3,Millwall!$AB$96:$AP$96,0)","v":{"$error":"#N/A"}},{"$f":"MATCH($DE$3,Millwall!$AB$96:$AP$96,0)","v":{"$error":"#N/A"}},{"$f":"MATCH($DF$3,Millwall!$AB$96:$AP$96,0)","v":14},{"$f":"MATCH($DG$3,Millwall!$AB$96:$AP$96,0)","v":{"$error":"#N/A"}},{"$f":"MATCH($DH$3,Millwall!$AB$96:$AP$96,0)","v":{"$error":"#N/A"}},{"$f":"MATCH($DI$3,Millwall!$AB$96:$AP$96,0)","v":{"$error":"#N/A"}},{"$f":"MATCH($DJ$3,Millwall!$AB$96:$AP$96,0)","v":{"$error":"#N/A"}},{"$f":"MATCH($DK$3,Millwall!$AB$96:$AP$96,0)","v":{"$error":"#N/A"}},{"$f":"MATCH($DL$3,Millwall!$AB$96:$AP$96,0)","v":{"$error":"#N/A"}},{"$f":"MATCH($DM$3,Millwall!$AB$96:$AP$96,0)","v":{"$error":"#N/A"}},{"$f":"MATCH($DN$3,Millwall!$AB$96:$AP$96,0)","v":{"$error":"#N/A"}},{"$f":"MATCH($DO$3,Millwall!$AB$96:$AP$96,0)","v":{"$error":"#N/A"}},null,null,null,null,null,null,null,null,{"$f":"$DY$26&\" [**\"","v":"McGinlay [**"},{"$f":"Millwall!$BP72","v":"McGinlay"},"McGinlay (**",{"$f":"$DY$26&\"**\"","v":"McGinlay**"},null,{"$f":"$DY$26","v":"McGinlay"},{"$f":"$DZ$26","v":"McGinlay (**"},{"$f":"$EA$26","v":"McGinlay**"},null,{"$f":"Millwall!$BX27","v":0},{"$f":"Millwall!$CC27","v":0},{"$f":"Millwall!$CH27","v":0},{"$f":"Millwall!$CM27","v":0}]
[null,null,0,23,null,{"$f":"Millwall!X97","v":"1992-12-28"},null,{"$f":"Millwall!Y97","v":"Leicester"},{"$f":"Millwall!Z97","v":"(H)"},{"$f":"Millwall!AA97","v":"W 2-0"},{"$f":"MATCH($K$4,Millwall!$AB$97:$AP$97,0)","v":12},{"$f":"MATCH($L$4,Millwall!$AB$97:$AP$97,0)","v":{"$error":"#N/A"}},{"$f":"MATCH($M$4,Millwall!$AB$97:$AP$97,0)","v":11},{"$f":"MATCH($N$4,Millwall!$AB$97:$AP$97,0)","v":9},{"$f":"MATCH($O$4,Millwall!$AB$97:$AP$97,0)","v":{"$error":"#N/A"}},{"$f":"MATCH($P$4,Millwall!$AB$97:$AP$97,0)","v":5},{"$f":"MATCH($Q$4,Millwall!$AB$97:$AP$97,0)","v":2},{"$f":"MATCH($R$4,Millwall!$AB$97:$AP$97,0)","v":{"$error":"#N/A"}},{"$f":"MATCH($S$4,Millwall!$AB$97:$AP$97,0)","v":3},{"$f":"MATCH($T$4,Millwall!$AB$97:$AP$97,0)","v":{"$error":"#N/A"}},{"$f":"MATCH($U$4,Millwall!$AB$97:$AP$97,0)","v":{"$error":"#N/A"}},{"$f":"MATCH($V$4,Millwall!$AB$97:$AP$97,0)","v":10},{"$f":"MATCH($W$4,Millwall!$AB$97:$AP$97,0)","v":{"$error":"#N/A"}},{"$f":"MATCH($X$4,Millwall!$AB$97:$AP$97,0)","v":1},{"$f":"MATCH($Y$4,Millwall!$AB$97:$AP$97,0)","v":{"$error":"#N/A"}},{"$f":"MATCH($Z$4,Millwall!$AB$97:$AP$97,0)","v":{"$error":"#N/A"}},{"$f":"MATCH($AA$4,Millwall!$AB$97:$AP$97,0)","v":{"$error":"#N/A"}},{"$f":"MATCH($AB$4,Millwall!$AB$97:$AP$97,0)","v":{"$error":"#N/A"}},{"$f":"MATCH($AC$4,Millwall!$AB$97:$AP$97,0)","v":4},{"$f":"MATCH($AD$4,Millwall!$AB$97:$AP$97,0)","v":{"$error":"#N/A"}},{"$f":"MATCH($AE$4,Millwall!$AB$97:$AP$97,0)","v":{"$error":"#N/A"}},{"$f":"MATCH($AF$4,Millwall!$AB$97:$AP$97,0)","v":{"$error":"#N/A"}},{"$f":"MATCH($AG$4,Millwall!$AB$97:$AP$97,0)","v":{"$error":"#N/A"}},{"$f":"MATCH($AH$4,Millwall!$AB$97:$AP$97,0)","v":8},{"$f":"MATCH($AI$4,Millwall!$AB$97:$AP$97,0)","v":14},{"$f":"MATCH($AJ$4,Millwall!$AB$97:$AP$97,0)","v":7},{"$f":"MATCH($AK$4,Millwall!$AB$97:$AP$97,0)","v":{"$error":"#N/A"}},{"$f":"MATCH($AL$4,Millwall!$AB$97:$AP$97,0)","v":{"$error":"#N/A"}},{"$f":"MATCH($AM$4,Millwall!$AB$97:$AP$97,0)","v":6},{"$f":"MATCH($AN$4,Millwall!$AB$97:$AP$97,0)","v":{"$error":"#N/A"}},{"$f":"MATCH($AO$4,Millwall!$AB$97:$AP$97,0)","v":{"$error":"#N/A"}},{"$f":"MATCH($AP$4,Millwall!$AB$97:$AP$97,0)","v":{"$error":"#N/A"}},{"$f":"MATCH($AQ$4,Millwall!$AB$97:$AP$97,0)","v":{"$error":"#N/A"}},{"$f":"MATCH($AR$4,Millwall!$AE$97:$AP$97,0)","v":{"$error":"#N/A"}},null,null,null,null,null,{"$f":"MATCH(AX$3,Millwall!$AB97:$AP97,0)","v":12},{"$f":"MATCH(AY$3,Millwall!$AB97:$AP97,0)","v":{"$error":"#N/A"}},{"$f":"MATCH(AZ$3,Millwall!$AB97:$AP97,0)","v":{"$error":"#N/A"}},{"$f":"MATCH(BA$3,Millwall!$AB97:$AP97,0)","v":9},{"$f":"MATCH(BB$3,Millwall!$AB97:$AP97,0)","v":{"$error":"#N/A"}},{"$f":"MATCH(BC$3,Millwall!$AB97:$AP97,0)","v":{"$error":"#N/A"}},{"$f":"MATCH(BD$3,Millwall!$AB97:$AP97,0)","v":{"$error":"#N/A"}},{"$f":"MATCH(BE$3,Millwall!$AB97:$AP97,0)","v":{"$error":"#N/A"}},{"$f":"MATCH(BF$3,Millwall!$AB97:$AP97,0)","v":{"$error":"#N/A"}},{"$f":"MATCH(BG$3,Millwall!$AB97:$AP97,0)","v":{"$error":"#N/A"}},{"$f":"MATCH(BH$3,Millwall!$AB97:$AP97,0)","v":{"$error":"#N/A"}},{"$f":"MATCH(BI$3,Millwall!$AB97:$AP97,0)","v":{"$error":"#N/A"}},{"$f":"MATCH(BJ$3,Millwall!$AB97:$AP97,0)","v":{"$error":"#N/A"}},{"$f":"MATCH(BK$3,Millwall!$AB97:$AP97,0)","v":{"$error":"#N/A"}},{"$f":"MATCH(BL$3,Millwall!$AB97:$AP97,0)","v":{"$error":"#N/A"}},{"$f":"MATCH(BM$3,Millwall!$AB97:$AP97,0)","v":{"$error":"#N/A"}},{"$f":"MATCH(BN$3,Millwall!$AB97:$AP97,0)","v":{"$error":"#N/A"}},{"$f":"MATCH(BO$3,Millwall!$AB97:$AP97,0)","v":{"$error":"#N/A"}},{"$f":"MATCH(BP$3,Millwall!$AB97:$AP97,0)","v":{"$error":"#N/A"}},{"$f":"MATCH(BQ$3,Millwall!$AB97:$AP97,0)","v":{"$error":"#N/A"}},{"$f":"MATCH(BR$3,Millwall!$AB97:$AP97,0)","v":{"$error":"#N/A"}},{"$f":"MATCH(BS$3,Millwall!$AB97:$AP97,0)","v":{"$error":"#N/A"}},{"$f":"MATCH(BT$3,Millwall!$AB97:$AP97,0)","v":{"$error":"#N/A"}},{"$f":"MATCH(BU$3,Millwall!$AB97:$AP97,0)","v":{"$error":"#N/A"}},{"$f":"MATCH(BV$3,Millwall!$AB97:$AP97,0)","v":{"$error":"#N/A"}},{"$f":"MATCH(BW$3,Millwall!$AB97:$AP97,0)","v":{"$error":"#N/A"}},{"$f":"MATCH(BX$3,Millwall!$AB97:$AP97,0)","v":{"$error":"#N/A"}},{"$f":"MATCH(BY$3,Millwall!$AB97:$AP97,0)","v":{"$error":"#N/A"}},{"$f":"MATCH(BZ$3,Millwall!$AB97:$AP97,0)","v":{"$error":"#N/A"}},{"$f":"MATCH(CA$3,Millwall!$AB97:$AP97,0)","v":{"$error":"#N/A"}},{"$f":"MATCH(CB$3,Millwall!$AB97:$AP97,0)","v":{"$error":"#N/A"}},{"$f":"MATCH(CC$3,Millwall!$AB97:$AP97,0)","v":{"$error":"#N/A"}},{"$f":"MATCH(CD$3,Millwall!$AB97:$AP97,0)","v":{"$error":"#N/A"}},{"$f":"MATCH(CE$3,Millwall!$AB97:$AP97,0)","v":{"$error":"#N/A"}},null,null,{"$f":"MATCH($CH$3,Millwall!$AB$97:$AP$97,0)","v":{"$error":"#N/A"}},{"$f":"MATCH($CI$3,Millwall!$AB$97:$AP$97,0)","v":{"$error":"#N/A"}},{"$f":"MATCH($CJ$3,Millwall!$AB$97:$AP$97,0)","v":{"$error":"#N/A"}},{"$f":"MATCH($CK$3,Millwall!$AB$97:$AP$97,0)","v":{"$error":"#N/A"}},{"$f":"MATCH($CL$3,Millwall!$AB$97:$AP$97,0)","v":{"$error":"#N/A"}},{"$f":"MATCH($CM$3,Millwall!$AB$97:$AP$97,0)","v":{"$error":"#N/A"}},{"$f":"MATCH($CN$3,Millwall!$AB$97:$AP$97,0)","v":{"$error":"#N/A"}},{"$f":"MATCH($CO$3,Millwall!$AB$97:$AP$97,0)","v":{"$error":"#N/A"}},{"$f":"MATCH($CP$3,Millwall!$AB$97:$AP$97,0)","v":{"$error":"#N/A"}},{"$f":"MATCH($CQ$3,Millwall!$AB$97:$AP$97,0)","v":{"$error":"#N/A"}},{"$f":"MATCH($CR$3,Millwall!$AB$97:$AP$97,0)","v":{"$error":"#N/A"}},{"$f":"MATCH($CS$3,Millwall!$AB$97:$AP$97,0)","v":{"$error":"#N/A"}},{"$f":"MATCH($CT$3,Millwall!$AB$97:$AP$97,0)","v":{"$error":"#N/A"}},{"$f":"MATCH($CU$3,Millwall!$AB$97:$AP$97,0)","v":{"$error":"#N/A"}},{"$f":"MATCH($CV$3,Millwall!$AB$97:$AP$97,0)","v":{"$error":"#N/A"}},{"$f":"MATCH($CW$3,Millwall!$AB$97:$AP$97,0)","v":{"$error":"#N/A"}},{"$f":"MATCH($CX$3,Millwall!$AB$97:$AP$97,0)","v":{"$error":"#N/A"}},{"$f":"MATCH($CY$3,Millwall!$AB$97:$AP$97,0)","v":{"$error":"#N/A"}},{"$f":"MATCH($CZ$3,Millwall!$AB$97:$AP$97,0)","v":{"$error":"#N/A"}},{"$f":"MATCH($DA$3,Millwall!$AB$97:$AP$97,0)","v":{"$error":"#N/A"}},{"$f":"MATCH($DB$3,Millwall!$AB$97:$AP$97,0)","v":{"$error":"#N/A"}},{"$f":"MATCH($DC$3,Millwall!$AB$97:$AP$97,0)","v":{"$error":"#N/A"}},{"$f":"MATCH($DD$3,Millwall!$AB$97:$AP$97,0)","v":{"$error":"#N/A"}},{"$f":"MATCH($DE$3,Millwall!$AB$97:$AP$97,0)","v":{"$error":"#N/A"}},{"$f":"MATCH($DF$3,Millwall!$AB$97:$AP$97,0)","v":{"$error":"#N/A"}},{"$f":"MATCH($DG$3,Millwall!$AB$97:$AP$97,0)","v":{"$error":"#N/A"}},{"$f":"MATCH($DH$3,Millwall!$AB$97:$AP$97,0)","v":{"$error":"#N/A"}},{"$f":"MATCH($DI$3,Millwall!$AB$97:$AP$97,0)","v":{"$error":"#N/A"}},{"$f":"MATCH($DJ$3,Millwall!$AB$97:$AP$97,0)","v":{"$error":"#N/A"}},{"$f":"MATCH($DK$3,Millwall!$AB$97:$AP$97,0)","v":{"$error":"#N/A"}},{"$f":"MATCH($DL$3,Millwall!$AB$97:$AP$97,0)","v":{"$error":"#N/A"}},{"$f":"MATCH($DM$3,Millwall!$AB$97:$AP$97,0)","v":{"$error":"#N/A"}},{"$f":"MATCH($DN$3,Millwall!$AB$97:$AP$97,0)","v":{"$error":"#N/A"}},{"$f":"MATCH($DO$3,Millwall!$AB$97:$AP$97,0)","v":{"$error":"#N/A"}},null,null,null,null,null,null,null,null,{"$f":"$DY$27&\" [**\"","v":"McLeary [**"},{"$f":"Millwall!$BP73","v":"McLeary"},"McLeary (**",{"$f":"$DY$27&\"**\"","v":"McLeary**"},null,{"$f":"$DY$27","v":"McLeary"},{"$f":"$DZ$27","v":"McLeary (**"},{"$f":"$EA$27","v":"McLeary**"},null,{"$f":"Millwall!$BX28","v":2},{"$f":"Millwall!$CC28","v":0},{"$f":"Millwall!$CH28","v":0},{"$f":"Millwall!$CM28","v":0}]
[null,null,0,24,null,{"$f":"Millwall!X98","v":"1993-01-09"},null,{"$f":"Millwall!Y98","v":"Notts Co"},{"$f":"Millwall!Z98","v":"(A)"},{"$f":"Millwall!AA98","v":"W 2-1"},{"$f":"MATCH($K$4,Millwall!$AB$98:$AP$98,0)","v":12},{"$f":"MATCH($L$4,Millwall!$AB$98:$AP$98,0)","v":{"$error":"#N/A"}},{"$f":"MATCH($M$4,Millwall!$AB$98:$AP$98,0)","v":11},{"$f":"MATCH($N$4,Millwall!$AB$98:$AP$98,0)","v":9},{"$f":"MATCH($O$4,Millwall!$AB$98:$AP$98,0)","v":{"$error":"#N/A"}},{"$f":"MATCH($P$4,Millwall!$AB$98:$AP$98,0)","v":5},{"$f":"MATCH($Q$4,Millwall!$AB$98:$AP$98,0)","v":2},{"$f":"MATCH($R$4,Millwall!$AB$98:$AP$98,0)","v":{"$error":"#N/A"}},{"$f":"MATCH($S$4,Millwall!$AB$98:$AP$98,0)","v":3},{"$f":"MATCH($T$4,Millwall!$AB$98:$AP$98,0)","v":{"$error":"#N/A"}},{"$f":"MATCH($U$4,Millwall!$AB$98:$AP$98,0)","v":{"$error":"#N/A"}},{"$f":"MATCH($V$4,Millwall!$AB$98:$AP$98,0)","v":10},{"$f":"MATCH($W$4,Millwall!$AB$98:$AP$98,0)","v":{"$error":"#N/A"}},{"$f":"MATCH($X$4,Millwall!$AB$98:$AP$98,0)","v":1},{"$f":"MATCH($Y$4,Millwall!$AB$98:$AP$98,0)","v":{"$error":"#N/A"}},{"$f":"MATCH($Z$4,Millwall!$AB$98:$AP$98,0)","v":{"$error":"#N/A"}},{"$f":"MATCH($AA$4,Millwall!$AB$98:$AP$98,0)","v":{"$error":"#N/A"}},{"$f":"MATCH($AB$4,Millwall!$AB$98:$AP$98,0)","v":{"$error":"#N/A"}},{"$f":"MATCH($AC$4,Millwall!$AB$98:$AP$98,0)","v":4},{"$f":"MATCH($AD$4,Millwall!$AB$98:$AP$98,0)","v":{"$error":"#N/A"}},{"$f":"MATCH($AE$4,Millwall!$AB$98:$AP$98,0)","v":{"$error":"#N/A"}},{"$f":"MATCH($AF$4,Millwall!$AB$98:$AP$98,0)","v":{"$error":"#N/A"}},{"$f":"MATCH($AG$4,Millwall!$AB$98:$AP$98,0)","v":{"$error":"#N/A"}},{"$f":"MATCH($AH$4,Millwall!$AB$98:$AP$98,0)","v":8},{"$f":"MATCH($AI$4,Millwall!$AB$98:$AP$98,0)","v":14},{"$f":"MATCH($AJ$4,Millwall!$AB$98:$AP$98,0)","v":7},{"$f":"MATCH($AK$4,Millwall!$AB$98:$AP$98,0)","v":{"$error":"#N/A"}},{"$f":"MATCH($AL$4,Millwall!$AB$98:$AP$98,0)","v":{"$error":"#N/A"}},{"$f":"MATCH($AM$4,Millwall!$AB$98:$AP$98,0)","v":6},{"$f":"MATCH($AN$4,Millwall!$AB$98:$AP$98,0)","v":{"$error":"#N/A"}},{"$f":"MATCH($AO$4,Millwall!$AB$98:$AP$98,0)","v":{"$error":"#N/A"}},{"$f":"MATCH($AP$4,Millwall!$AB$98:$AP$98,0)","v":{"$error":"#N/A"}},{"$f":"MATCH($AQ$4,Millwall!$AB$98:$AP$98,0)","v":{"$error":"#N/A"}},{"$f":"MATCH($AR$4,Millwall!$AE$98:$AP$98,0)","v":{"$error":"#N/A"}},null,null,null,null,null,{"$f":"MATCH(AX$3,Millwall!$AB98:$AP98,0)","v":12},{"$f":"MATCH(AY$3,Millwall!$AB98:$AP98,0)","v":{"$error":"#N/A"}},{"$f":"MATCH(AZ$3,Millwall!$AB98:$AP98,0)","v":{"$error":"#N/A"}},{"$f":"MATCH(BA$3,Millwall!$AB98:$AP98,0)","v":9},{"$f":"MATCH(BB$3,Millwall!$AB98:$AP98,0)","v":{"$error":"#N/A"}},{"$f":"MATCH(BC$3,Millwall!$AB98:$AP98,0)","v":{"$error":"#N/A"}},{"$f":"MATCH(BD$3,Millwall!$AB98:$AP98,0)","v":{"$error":"#N/A"}},{"$f":"MATCH(BE$3,Millwall!$AB98:$AP98,0)","v":{"$error":"#N/A"}},{"$f":"MATCH(BF$3,Millwall!$AB98:$AP98,0)","v":{"$error":"#N/A"}},{"$f":"MATCH(BG$3,Millwall!$AB98:$AP98,0)","v":{"$error":"#N/A"}},{"$f":"MATCH(BH$3,Millwall!$AB98:$AP98,0)","v":{"$error":"#N/A"}},{"$f":"MATCH(BI$3,Millwall!$AB98:$AP98,0)","v":{"$error":"#N/A"}},{"$f":"MATCH(BJ$3,Millwall!$AB98:$AP98,0)","v":{"$error":"#N/A"}},{"$f":"MATCH(BK$3,Millwall!$AB98:$AP98,0)","v":{"$error":"#N/A"}},{"$f":"MATCH(BL$3,Millwall!$AB98:$AP98,0)","v":{"$error":"#N/A"}},{"$f":"MATCH(BM$3,Millwall!$AB98:$AP98,0)","v":{"$error":"#N/A"}},{"$f":"MATCH(BN$3,Millwall!$AB98:$AP98,0)","v":{"$error":"#N/A"}},{"$f":"MATCH(BO$3,Millwall!$AB98:$AP98,0)","v":{"$error":"#N/A"}},{"$f":"MATCH(BP$3,Millwall!$AB98:$AP98,0)","v":{"$error":"#N/A"}},{"$f":"MATCH(BQ$3,Millwall!$AB98:$AP98,0)","v":{"$error":"#N/A"}},{"$f":"MATCH(BR$3,Millwall!$AB98:$AP98,0)","v":{"$error":"#N/A"}},{"$f":"MATCH(BS$3,Millwall!$AB98:$AP98,0)","v":{"$error":"#N/A"}},{"$f":"MATCH(BT$3,Millwall!$AB98:$AP98,0)","v":{"$error":"#N/A"}},{"$f":"MATCH(BU$3,Millwall!$AB98:$AP98,0)","v":{"$error":"#N/A"}},{"$f":"MATCH(BV$3,Millwall!$AB98:$AP98,0)","v":{"$error":"#N/A"}},{"$f":"MATCH(BW$3,Millwall!$AB98:$AP98,0)","v":{"$error":"#N/A"}},{"$f":"MATCH(BX$3,Millwall!$AB98:$AP98,0)","v":{"$error":"#N/A"}},{"$f":"MATCH(BY$3,Millwall!$AB98:$AP98,0)","v":{"$error":"#N/A"}},{"$f":"MATCH(BZ$3,Millwall!$AB98:$AP98,0)","v":{"$error":"#N/A"}},{"$f":"MATCH(CA$3,Millwall!$AB98:$AP98,0)","v":{"$error":"#N/A"}},{"$f":"MATCH(CB$3,Millwall!$AB98:$AP98,0)","v":{"$error":"#N/A"}},{"$f":"MATCH(CC$3,Millwall!$AB98:$AP98,0)","v":{"$error":"#N/A"}},{"$f":"MATCH(CD$3,Millwall!$AB98:$AP98,0)","v":{"$error":"#N/A"}},{"$f":"MATCH(CE$3,Millwall!$AB98:$AP98,0)","v":{"$error":"#N/A"}},null,null,{"$f":"MATCH($CH$3,Millwall!$AB$98:$AP$98,0)","v":{"$error":"#N/A"}},{"$f":"MATCH($CI$3,Millwall!$AB$98:$AP$98,0)","v":{"$error":"#N/A"}},{"$f":"MATCH($CJ$3,Millwall!$AB$98:$AP$98,0)","v":{"$error":"#N/A"}},{"$f":"MATCH($CK$3,Millwall!$AB$98:$AP$98,0)","v":{"$error":"#N/A"}},{"$f":"MATCH($CL$3,Millwall!$AB$98:$AP$98,0)","v":{"$error":"#N/A"}},{"$f":"MATCH($CM$3,Millwall!$AB$98:$AP$98,0)","v":{"$error":"#N/A"}},{"$f":"MATCH($CN$3,Millwall!$AB$98:$AP$98,0)","v":{"$error":"#N/A"}},{"$f":"MATCH($CO$3,Millwall!$AB$98:$AP$98,0)","v":{"$error":"#N/A"}},{"$f":"MATCH($CP$3,Millwall!$AB$98:$AP$98,0)","v":{"$error":"#N/A"}},{"$f":"MATCH($CQ$3,Millwall!$AB$98:$AP$98,0)","v":{"$error":"#N/A"}},{"$f":"MATCH($CR$3,Millwall!$AB$98:$AP$98,0)","v":{"$error":"#N/A"}},{"$f":"MATCH($CS$3,Millwall!$AB$98:$AP$98,0)","v":{"$error":"#N/A"}},{"$f":"MATCH($CT$3,Millwall!$AB$98:$AP$98,0)","v":{"$error":"#N/A"}},{"$f":"MATCH($CU$3,Millwall!$AB$98:$AP$98,0)","v":{"$error":"#N/A"}},{"$f":"MATCH($CV$3,Millwall!$AB$98:$AP$98,0)","v":{"$error":"#N/A"}},{"$f":"MATCH($CW$3,Millwall!$AB$98:$AP$98,0)","v":{"$error":"#N/A"}},{"$f":"MATCH($CX$3,Millwall!$AB$98:$AP$98,0)","v":{"$error":"#N/A"}},{"$f":"MATCH($CY$3,Millwall!$AB$98:$AP$98,0)","v":{"$error":"#N/A"}},{"$f":"MATCH($CZ$3,Millwall!$AB$98:$AP$98,0)","v":{"$error":"#N/A"}},{"$f":"MATCH($DA$3,Millwall!$AB$98:$AP$98,0)","v":{"$error":"#N/A"}},{"$f":"MATCH($DB$3,Millwall!$AB$98:$AP$98,0)","v":{"$error":"#N/A"}},{"$f":"MATCH($DC$3,Millwall!$AB$98:$AP$98,0)","v":{"$error":"#N/A"}},{"$f":"MATCH($DD$3,Millwall!$AB$98:$AP$98,0)","v":{"$error":"#N/A"}},{"$f":"MATCH($DE$3,Millwall!$AB$98:$AP$98,0)","v":{"$error":"#N/A"}},{"$f":"MATCH($DF$3,Millwall!$AB$98:$AP$98,0)","v":{"$error":"#N/A"}},{"$f":"MATCH($DG$3,Millwall!$AB$98:$AP$98,0)","v":{"$error":"#N/A"}},{"$f":"MATCH($DH$3,Millwall!$AB$98:$AP$98,0)","v":{"$error":"#N/A"}},{"$f":"MATCH($DI$3,Millwall!$AB$98:$AP$98,0)","v":{"$error":"#N/A"}},{"$f":"MATCH($DJ$3,Millwall!$AB$98:$AP$98,0)","v":{"$error":"#N/A"}},{"$f":"MATCH($DK$3,Millwall!$AB$98:$AP$98,0)","v":{"$error":"#N/A"}},{"$f":"MATCH($DL$3,Millwall!$AB$98:$AP$98,0)","v":{"$error":"#N/A"}},{"$f":"MATCH($DM$3,Millwall!$AB$98:$AP$98,0)","v":{"$error":"#N/A"}},{"$f":"MATCH($DN$3,Millwall!$AB$98:$AP$98,0)","v":{"$error":"#N/A"}},{"$f":"MATCH($DO$3,Millwall!$AB$98:$AP$98,0)","v":{"$error":"#N/A"}},null,null,null,null,null,null,null,null,{"$f":"$DY$28&\" [**\"","v":"Moralee [**"},{"$f":"Millwall!$BP74","v":"Moralee"},"Moralee (**",{"$f":"$DY$28&\"**\"","v":"Moralee**"},null,{"$f":"$DY$28","v":"Moralee"},{"$f":"$DZ$28","v":"Moralee (**"},{"$f":"$EA$28","v":"Moralee**"},null,{"$f":"Millwall!$BX29","v":1},{"$f":"Millwall!$CC29","v":0},{"$f":"Millwall!$CH29","v":0},{"$f":"Millwall!$CM29","v":0}]
[null,null,0,25,null,{"$f":"Millwall!X99","v":"1993-01-17"},null,{"$f":"Millwall!Y99","v":"Brentford"},{"$f":"Millwall!Z99","v":"(H)"},{"$f":"Millwall!AA99","v":"W 6-1"},{"$f":"MATCH($K$4,Millwall!$AB$99:$AP$99,0)","v":12},{"$f":"MATCH($L$4,Millwall!$AB$99:$AP$99,0)","v":{"$error":"#N/A"}},{"$f":"MATCH($M$4,Millwall!$AB$99:$AP$99,0)","v":11},{"$f":"MATCH($N$4,Millwall!$AB$99:$AP$99,0)","v":9},{"$f":"MATCH($O$4,Millwall!$AB$99:$AP$99,0)","v":{"$error":"#N/A"}},{"$f":"MATCH($P$4,Millwall!$AB$99:$AP$99,0)","v":5},{"$f":"MATCH($Q$4,Millwall!$AB$99:$AP$99,0)","v":{"$error":"#N/A"}},{"$f":"MATCH($R$4,Millwall!$AB$99:$AP$99,0)","v":{"$error":"#N/A"}},{"$f":"MATCH($S$4,Millwall!$AB$99:$AP$99,0)","v":3},{"$f":"MATCH($T$4,Millwall!$AB$99:$AP$99,0)","v":{"$error":"#N/A"}},{"$f":"MATCH($U$4,Millwall!$AB$99:$AP$99,0)","v":{"$error":"#N/A"}},{"$f":"MATCH($V$4,Millwall!$AB$99:$AP$99,0)","v":10},{"$f":"MATCH($W$4,Millwall!$AB$99:$AP$99,0)","v":14},{"$f":"MATCH($X$4,Millwall!$AB$99:$AP$99,0)","v":1},{"$f":"MATCH($Y$4,Millwall!$AB$99:$AP$99,0)","v":{"$error":"#N/A"}},{"$f":"MATCH($Z$4,Millwall!$AB$99:$AP$99,0)","v":{"$error":"#N/A"}},{"$f":"MATCH($AA$4,Millwall!$AB$99:$AP$99,0)","v":{"$error":"#N/A"}},{"$f":"MATCH($AB$4,Millwall!$AB$99:$AP$99,0)","v":{"$error":"#N/A"}},{"$f":"MATCH($AC$4,Millwall!$AB$99:$AP$99,0)","v":4},{"$f":"MATCH($AD$4,Millwall!$AB$99:$AP$99,0)","v":{"$error":"#N/A"}},{"$f":"MATCH($AE$4,Millwall!$AB$99:$AP$99,0)","v":{"$error":"#N/A"}},{"$f":"MATCH($AF$4,Millwall!$AB$99:$AP$99,0)","v":{"$error":"#N/A"}},{"$f":"MATCH($AG$4,Millwall!$AB$99:$AP$99,0)","v":{"$error":"#N/A"}},{"$f":"MATCH($AH$4,Millwall!$AB$99:$AP$99,0)","v":8},{"$f":"MATCH($AI$4,Millwall!$AB$99:$AP$99,0)","v":2},{"$f":"MATCH($AJ$4,Millwall!$AB$99:$AP$99,0)","v":7},{"$f":"MATCH($AK$4,Millwall!$AB$99:$AP$99,0)","v":{"$error":"#N/A"}},{"$f":"MATCH($AL$4,Millwall!$AB$99:$AP$99,0)","v":{"$error":"#N/A"}},{"$f":"MATCH($AM$4,Millwall!$AB$99:$AP$99,0)","v":6},{"$f":"MATCH($AN$4,Millwall!$AB$99:$AP$99,0)","v":{"$error":"#N/A"}},{"$f":"MATCH($AO$4,Millwall!$AB$99:$AP$99,0)","v":{"$error":"#N/A"}},{"$f":"MATCH($AP$4,Millwall!$AB$99:$AP$99,0)","v":{"$error":"#N/A"}},{"$f":"MATCH($AQ$4,Millwall!$AB$99:$AP$99,0)","v":{"$error":"#N/A"}},{"$f":"MATCH($AR$4,Millwall!$AE$99:$AP$99,0)","v":{"$error":"#N/A"}},null,null,null,null,null,{"$f":"MATCH(AX$3,Millwall!$AB99:$AP99,0)","v":12},{"$f":"MATCH(AY$3,Millwall!$AB99:$AP99,0)","v":{"$error":"#N/A"}},{"$f":"MATCH(AZ$3,Millwall!$AB99:$AP99,0)","v":{"$error":"#N/A"}},{"$f":"MATCH(BA$3,Millwall!$AB99:$AP99,0)","v":9},{"$f":"MATCH(BB$3,Millwall!$AB99:$AP99,0)","v":{"$error":"#N/A"}},{"$f":"MATCH(BC$3,Millwall!$AB99:$AP99,0)","v":{"$error":"#N/A"}},{"$f":"MATCH(BD$3,Millwall!$AB99:$AP99,0)","v":{"$error":"#N/A"}},{"$f":"MATCH(BE$3,Millwall!$AB99:$AP99,0)","v":{"$error":"#N/A"}},{"$f":"MATCH(BF$3,Millwall!$AB99:$AP99,0)","v":{"$error":"#N/A"}},{"$f":"MATCH(BG$3,Millwall!$AB99:$AP99,0)","v":{"$error":"#N/A"}},{"$f":"MATCH(BH$3,Millwall!$AB99:$AP99,0)","v":{"$error":"#N/A"}},{"$f":"MATCH(BI$3,Millwall!$AB99:$AP99,0)","v":{"$error":"#N/A"}},{"$f":"MATCH(BJ$3,Millwall!$AB99:$AP99,0)","v":{"$error":"#N/A"}},{"$f":"MATCH(BK$3,Millwall!$AB99:$AP99,0)","v":{"$error":"#N/A"}},{"$f":"MATCH(BL$3,Millwall!$AB99:$AP99,0)","v":{"$error":"#N/A"}},{"$f":"MATCH(BM$3,Millwall!$AB99:$AP99,0)","v":{"$error":"#N/A"}},{"$f":"MATCH(BN$3,Millwall!$AB99:$AP99,0)","v":{"$error":"#N/A"}},{"$f":"MATCH(BO$3,Millwall!$AB99:$AP99,0)","v":{"$error":"#N/A"}},{"$f":"MATCH(BP$3,Millwall!$AB99:$AP99,0)","v":{"$error":"#N/A"}},{"$f":"MATCH(BQ$3,Millwall!$AB99:$AP99,0)","v":{"$error":"#N/A"}},{"$f":"MATCH(BR$3,Millwall!$AB99:$AP99,0)","v":{"$error":"#N/A"}},{"$f":"MATCH(BS$3,Millwall!$AB99:$AP99,0)","v":{"$error":"#N/A"}},{"$f":"MATCH(BT$3,Millwall!$AB99:$AP99,0)","v":{"$error":"#N/A"}},{"$f":"MATCH(BU$3,Millwall!$AB99:$AP99,0)","v":{"$error":"#N/A"}},{"$f":"MATCH(BV$3,Millwall!$AB99:$AP99,0)","v":{"$error":"#N/A"}},{"$f":"MATCH(BW$3,Millwall!$AB99:$AP99,0)","v":{"$error":"#N/A"}},{"$f":"MATCH(BX$3,Millwall!$AB99:$AP99,0)","v":{"$error":"#N/A"}},{"$f":"MATCH(BY$3,Millwall!$AB99:$AP99,0)","v":{"$error":"#N/A"}},{"$f":"MATCH(BZ$3,Millwall!$AB99:$AP99,0)","v":{"$error":"#N/A"}},{"$f":"MATCH(CA$3,Millwall!$AB99:$AP99,0)","v":{"$error":"#N/A"}},{"$f":"MATCH(CB$3,Millwall!$AB99:$AP99,0)","v":{"$error":"#N/A"}},{"$f":"MATCH(CC$3,Millwall!$AB99:$AP99,0)","v":{"$error":"#N/A"}},{"$f":"MATCH(CD$3,Millwall!$AB99:$AP99,0)","v":{"$error":"#N/A"}},{"$f":"MATCH(CE$3,Millwall!$AB99:$AP99,0)","v":{"$error":"#N/A"}},null,null,{"$f":"MATCH($CH$3,Millwall!$AB$99:$AP$99,0)","v":{"$error":"#N/A"}},{"$f":"MATCH($CI$3,Millwall!$AB$99:$AP$99,0)","v":{"$error":"#N/A"}},{"$f":"MATCH($CJ$3,Millwall!$AB$99:$AP$99,0)","v":{"$error":"#N/A"}},{"$f":"MATCH($CK$3,Millwall!$AB$99:$AP$99,0)","v":{"$error":"#N/A"}},{"$f":"MATCH($CL$3,Millwall!$AB$99:$AP$99,0)","v":{"$error":"#N/A"}},{"$f":"MATCH($CM$3,Millwall!$AB$99:$AP$99,0)","v":{"$error":"#N/A"}},{"$f":"MATCH($CN$3,Millwall!$AB$99:$AP$99,0)","v":{"$error":"#N/A"}},{"$f":"MATCH($CO$3,Millwall!$AB$99:$AP$99,0)","v":{"$error":"#N/A"}},{"$f":"MATCH($CP$3,Millwall!$AB$99:$AP$99,0)","v":{"$error":"#N/A"}},{"$f":"MATCH($CQ$3,Millwall!$AB$99:$AP$99,0)","v":{"$error":"#N/A"}},{"$f":"MATCH($CR$3,Millwall!$AB$99:$AP$99,0)","v":{"$error":"#N/A"}},{"$f":"MATCH($CS$3,Millwall!$AB$99:$AP$99,0)","v":{"$error":"#N/A"}},{"$f":"MATCH($CT$3,Millwall!$AB$99:$AP$99,0)","v":14},{"$f":"MATCH($CU$3,Millwall!$AB$99:$AP$99,0)","v":{"$error":"#N/A"}},{"$f":"MATCH($CV$3,Millwall!$AB$99:$AP$99,0)","v":{"$error":"#N/A"}},{"$f":"MATCH($CW$3,Millwall!$AB$99:$AP$99,0)","v":{"$error":"#N/A"}},{"$f":"MATCH($CX$3,Millwall!$AB$99:$AP$99,0)","v":{"$error":"#N/A"}},{"$f":"MATCH($CY$3,Millwall!$AB$99:$AP$99,0)","v":{"$error":"#N/A"}},{"$f":"MATCH($CZ$3,Millwall!$AB$99:$AP$99,0)","v":4},{"$f":"MATCH($DA$3,Millwall!$AB$99:$AP$99,0)","v":{"$error":"#N/A"}},{"$f":"MATCH($DB$3,Millwall!$AB$99:$AP$99,0)","v":{"$error":"#N/A"}},{"$f":"MATCH($DC$3,Millwall!$AB$99:$AP$99,0)","v":{"$error":"#N/A"}},{"$f":"MATCH($DD$3,Millwall!$AB$99:$AP$99,0)","v":{"$error":"#N/A"}},{"$f":"MATCH($DE$3,Millwall!$AB$99:$AP$99,0)","v":{"$error":"#N/A"}},{"$f":"MATCH($DF$3,Millwall!$AB$99:$AP$99,0)","v":{"$error":"#N/A"}},{"$f":"MATCH($DG$3,Millwall!$AB$99:$AP$99,0)","v":{"$error":"#N/A"}},{"$f":"MATCH($DH$3,Millwall!$AB$99:$AP$99,0)","v":{"$error":"#N/A"}},{"$f":"MATCH($DI$3,Millwall!$AB$99:$AP$99,0)","v":{"$error":"#N/A"}},{"$f":"MATCH($DJ$3,Millwall!$AB$99:$AP$99,0)","v":{"$error":"#N/A"}},{"$f":"MATCH($DK$3,Millwall!$AB$99:$AP$99,0)","v":{"$error":"#N/A"}},{"$f":"MATCH($DL$3,Millwall!$AB$99:$AP$99,0)","v":{"$error":"#N/A"}},{"$f":"MATCH($DM$3,Millwall!$AB$99:$AP$99,0)","v":{"$error":"#N/A"}},{"$f":"MATCH($DN$3,Millwall!$AB$99:$AP$99,0)","v":{"$error":"#N/A"}},{"$f":"MATCH($DO$3,Millwall!$AB$99:$AP$99,0)","v":{"$error":"#N/A"}},null,null,null,null,null,null,null,null,{"$f":"$DY$29&\" [**\"","v":"Rae [**"},{"$f":"Millwall!$BP75","v":"Rae"},"Rae (**",{"$f":"$DY$29&\"**\"","v":"Rae**"},null,{"$f":"$DY$29","v":"Rae"},{"$f":"$DZ$29","v":"Rae (**"},{"$f":"$EA$29","v":"Rae**"},null,{"$f":"Millwall!$BX30","v":1},{"$f":"Millwall!$CC30","v":0},{"$f":"Millwall!$CH30","v":0},{"$f":"Millwall!$CM30","v":0}]
[null,null,0,26,null,{"$f":"Millwall!X100","v":"1993-01-27"},null,{"$f":"Millwall!Y100","v":"Peterborough"},{"$f":"Millwall!Z100","v":"(H)"},{"$f":"Millwall!AA100","v":"W 4-0"},{"$f":"MATCH($K$4,Millwall!$AB$100:$AP$100,0)","v":12},{"$f":"MATCH($L$4,Millwall!$AB$100:$AP$100,0)","v":{"$error":"#N/A"}},{"$f":"MATCH($M$4,Millwall!$AB$100:$AP$100,0)","v":11},{"$f":"MATCH($N$4,Millwall!$AB$100:$AP$100,0)","v":9},{"$f":"MATCH($O$4,Millwall!$AB$100:$AP$100,0)","v":{"$error":"#N/A"}},{"$f":"MATCH($P$4,Millwall!$AB$100:$AP$100,0)","v":{"$error":"#N/A"}},{"$f":"MATCH($Q$4,Millwall!$AB$100:$AP$100,0)","v":{"$error":"#N/A"}},{"$f":"MATCH($R$4,Millwall!$AB$100:$AP$100,0)","v":{"$error":"#N/A"}},{"$f":"MATCH($S$4,Millwall!$AB$100:$AP$100,0)","v":3},{"$f":"MATCH($T$4,Millwall!$AB$100:$AP$100,0)","v":{"$error":"#N/A"}},{"$f":"MATCH($U$4,Millwall!$AB$100:$AP$100,0)","v":{"$error":"#N/A"}},{"$f":"MATCH($V$4,Millwall!$AB$100:$AP$100,0)","v":10},{"$f":"MATCH($W$4,Millwall!$AB$100:$AP$100,0)","v":14},{"$f":"MATCH($X$4,Millwall!$AB$100:$AP$100,0)","v":1},{"$f":"MATCH($Y$4,Millwall!$AB$100:$AP$100,0)","v":{"$error":"#N/A"}},{"$f":"MATCH($Z$4,Millwall!$AB$100:$AP$100,0)","v":{"$error":"#N/A"}},{"$f":"MATCH($AA$4,Millwall!$AB$100:$AP$100,0)","v":{"$error":"#N/A"}},{"$f":"MATCH($AB$4,Millwall!$AB$100:$AP$100,0)","v":{"$error":"#N/A"}},{"$f":"MATCH($AC$4,Millwall!$AB$100:$AP$100,0)","v":4},{"$f":"MATCH($AD$4,Millwall!$AB$100:$AP$100,0)","v":{"$error":"#N/A"}},{"$f":"MATCH($AE$4,Millwall!$AB$100:$AP$100,0)","v":5},{"$f":"MATCH($AF$4,Millwall!$AB$100:$AP$100,0)","v":{"$error":"#N/A"}},{"$f":"MATCH($AG$4,Millwall!$AB$100:$AP$100,0)","v":6},{"$f":"MATCH($AH$4,Millwall!$AB$100:$AP$100,0)","v":8},{"$f":"MATCH($AI$4,Millwall!$AB$100:$AP$100,0)","v":2},{"$f":"MATCH($AJ$4,Millwall!$AB$100:$AP$100,0)","v":7},{"$f":"MATCH($AK$4,Millwall!$AB$100:$AP$100,0)","v":{"$error":"#N/A"}},{"$f":"MATCH($AL$4,Millwall!$AB$100:$AP$100,0)","v":{"$error":"#N/A"}},{"$f":"MATCH($AM$4,Millwall!$AB$100:$AP$100,0)","v":{"$error":"#N/A"}},{"$f":"MATCH($AN$4,Millwall!$AB$100:$AP$100,0)","v":{"$error":"#N/A"}},{"$f":"MATCH($AO$4,Millwall!$AB$100:$AP$100,0)","v":{"$error":"#N/A"}},{"$f":"MATCH($AP$4,Millwall!$AB$100:$AP$100,0)","v":{"$error":"#N/A"}},{"$f":"MATCH($AQ$4,Millwall!$AB$100:$AP$100,0)","v":{"$error":"#N/A"}},{"$f":"MATCH($AR$4,Millwall!$AE$100:$AP$100,0)","v":{"$error":"#N/A"}},null,null,null,null,null,{"$f":"MATCH(AX$3,Millwall!$AB100:$AP100,0)","v":12},{"$f":"MATCH(AY$3,Millwall!$AB100:$AP100,0)","v":{"$error":"#N/A"}},{"$f":"MATCH(AZ$3,Millwall!$AB100:$AP100,0)","v":{"$error":"#N/A"}},{"$f":"MATCH(BA$3,Millwall!$AB100:$AP100,0)","v":{"$error":"#N/A"}},{"$f":"MATCH(BB$3,Millwall!$AB100:$AP100,0)","v":{"$error":"#N/A"}},{"$f":"MATCH(BC$3,Millwall!$AB100:$AP100,0)","v":{"$error":"#N/A"}},{"$f":"MATCH(BD$3,Millwall!$AB100:$AP100,0)","v":{"$error":"#N/A"}},{"$f":"MATCH(BE$3,Millwall!$AB100:$AP100,0)","v":{"$error":"#N/A"}},{"$f":"MATCH(BF$3,Millwall!$AB100:$AP100,0)","v":{"$error":"#N/A"}},{"$f":"MATCH(BG$3,Millwall!$AB100:$AP100,0)","v":{"$error":"#N/A"}},{"$f":"MATCH(BH$3,Millwall!$AB100:$AP100,0)","v":{"$error":"#N/A"}},{"$f":"MATCH(BI$3,Millwall!$AB100:$AP100,0)","v":10},{"$f":"MATCH(BJ$3,Millwall!$AB100:$AP100,0)","v":{"$error":"#N/A"}},{"$f":"MATCH(BK$3,Millwall!$AB100:$AP100,0)","v":{"$error":"#N/A"}},{"$f":"MATCH(BL$3,Millwall!$AB100:$AP100,0)","v":{"$error":"#N/A"}},{"$f":"MATCH(BM$3,Millwall!$AB100:$AP100,0)","v":{"$error":"#N/A"}},{"$f":"MATCH(BN$3,Millwall!$AB100:$AP100,0)","v":{"$error":"#N/A"}},{"$f":"MATCH(BO$3,Millwall!$AB100:$AP100,0)","v":{"$error":"#N/A"}},{"$f":"MATCH(BP$3,Millwall!$AB100:$AP100,0)","v":{"$error":"#N/A"}},{"$f":"MATCH(BQ$3,Millwall!$AB100:$AP100,0)","v":{"$error":"#N/A"}},{"$f":"MATCH(BR$3,Millwall!$AB100:$AP100,0)","v":{"$error":"#N/A"}},{"$f":"MATCH(BS$3,Millwall!$AB100:$AP100,0)","v":{"$error":"#N/A"}},{"$f":"MATCH(BT$3,Millwall!$AB100:$AP100,0)","v":{"$error":"#N/A"}},{"$f":"MATCH(BU$3,Millwall!$AB100:$AP100,0)","v":{"$error":"#N/A"}},{"$f":"MATCH(BV$3,Millwall!$AB100:$AP100,0)","v":{"$error":"#N/A"}},{"$f":"MATCH(BW$3,Millwall!$AB100:$AP100,0)","v":{"$error":"#N/A"}},{"$f":"MATCH(BX$3,Millwall!$AB100:$AP100,0)","v":{"$error":"#N/A"}},{"$f":"MATCH(BY$3,Millwall!$AB100:$AP100,0)","v":{"$error":"#N/A"}},{"$f":"MATCH(BZ$3,Millwall!$AB100:$AP100,0)","v":{"$error":"#N/A"}},{"$f":"MATCH(CA$3,Millwall!$AB100:$AP100,0)","v":{"$error":"#N/A"}},{"$f":"MATCH(CB$3,Millwall!$AB100:$AP100,0)","v":{"$error":"#N/A"}},{"$f":"MATCH(CC$3,Millwall!$AB100:$AP100,0)","v":{"$error":"#N/A"}},{"$f":"MATCH(CD$3,Millwall!$AB100:$AP100,0)","v":{"$error":"#N/A"}},{"$f":"MATCH(CE$3,Millwall!$AB100:$AP100,0)","v":{"$error":"#N/A"}},null,null,{"$f":"MATCH($CH$3,Millwall!$AB$100:$AP$100,0)","v":{"$error":"#N/A"}},{"$f":"MATCH($CI$3,Millwall!$AB$100:$AP$100,0)","v":{"$error":"#N/A"}},{"$f":"MATCH($CJ$3,Millwall!$AB$100:$AP$100,0)","v":{"$error":"#N/A"}},{"$f":"MATCH($CK$3,Millwall!$AB$100:$AP$100,0)","v":{"$error":"#N/A"}},{"$f":"MATCH($CL$3,Millwall!$AB$100:$AP$100,0)","v":{"$error":"#N/A"}},{"$f":"MATCH($CM$3,Millwall!$AB$100:$AP$100,0)","v":{"$error":"#N/A"}},{"$f":"MATCH($CN$3,Millwall!$AB$100:$AP$100,0)","v":{"$error":"#N/A"}},{"$f":"MATCH($CO$3,Millwall!$AB$100:$AP$100,0)","v":{"$error":"#N/A"}},{"$f":"MATCH($CP$3,Millwall!$AB$100:$AP$100,0)","v":{"$error":"#N/A"}},{"$f":"MATCH($CQ$3,Millwall!$AB$100:$AP$100,0)","v":{"$error":"#N/A"}},{"$f":"MATCH($CR$3,Millwall!$AB$100:$AP$100,0)","v":{"$error":"#N/A"}},{"$f":"MATCH($CS$3,Millwall!$AB$100:$AP$100,0)","v":{"$error":"#N/A"}},{"$f":"MATCH($CT$3,Millwall!$AB$100:$AP$100,0)","v":14},{"$f":"MATCH($CU$3,Millwall!$AB$100:$AP$100,0)","v":{"$error":"#N/A"}},{"$f":"MATCH($CV$3,Millwall!$AB$100:$AP$100,0)","v":{"$error":"#N/A"}},{"$f":"MATCH($CW$3,Millwall!$AB$100:$AP$100,0)","v":{"$error":"#N/A"}},{"$f":"MATCH($CX$3,Millwall!$AB$100:$AP$100,0)","v":{"$error":"#N/A"}},{"$f":"MATCH($CY$3,Millwall!$AB$100:$AP$100,0)","v":{"$error":"#N/A"}},{"$f":"MATCH($CZ$3,Millwall!$AB$100:$AP$100,0)","v":4},{"$f":"MATCH($DA$3,Millwall!$AB$100:$AP$100,0)","v":{"$error":"#N/A"}},{"$f":"MATCH($DB$3,Millwall!$AB$100:$AP$100,0)","v":{"$error":"#N/A"}},{"$f":"MATCH($DC$3,Millwall!$AB$100:$AP$100,0)","v":{"$error":"#N/A"}},{"$f":"MATCH($DD$3,Millwall!$AB$100:$AP$100,0)","v":{"$error":"#N/A"}},{"$f":"MATCH($DE$3,Millwall!$AB$100:$AP$100,0)","v":{"$error":"#N/A"}},{"$f":"MATCH($DF$3,Millwall!$AB$100:$AP$100,0)","v":{"$error":"#N/A"}},{"$f":"MATCH($DG$3,Millwall!$AB$100:$AP$100,0)","v":{"$error":"#N/A"}},{"$f":"MATCH($DH$3,Millwall!$AB$100:$AP$100,0)","v":{"$error":"#N/A"}},{"$f":"MATCH($DI$3,Millwall!$AB$100:$AP$100,0)","v":{"$error":"#N/A"}},{"$f":"MATCH($DJ$3,Millwall!$AB$100:$AP$100,0)","v":{"$error":"#N/A"}},{"$f":"MATCH($DK$3,Millwall!$AB$100:$AP$100,0)","v":{"$error":"#N/A"}},{"$f":"MATCH($DL$3,Millwall!$AB$100:$AP$100,0)","v":{"$error":"#N/A"}},{"$f":"MATCH($DM$3,Millwall!$AB$100:$AP$100,0)","v":{"$error":"#N/A"}},{"$f":"MATCH($DN$3,Millwall!$AB$100:$AP$100,0)","v":{"$error":"#N/A"}},{"$f":"MATCH($DO$3,Millwall!$AB$100:$AP$100,0)","v":{"$error":"#N/A"}},null,null,null,null,null,null,null,null,{"$f":"$DY$30&\" [**\"","v":"Roberts [**"},{"$f":"Millwall!$BP76","v":"Roberts"},"Roberts (**",{"$f":"$DY$30&\"**\"","v":"Roberts**"},null,{"$f":"$DY$30","v":"Roberts"},{"$f":"$DZ$30","v":"Roberts (**"},{"$f":"$EA$30","v":"Roberts**"},null,{"$f":"Millwall!$BX31","v":0},{"$f":"Millwall!$CC31","v":0},{"$f":"Millwall!$CH31","v":0},{"$f":"Millwall!$CM31","v":0}]
[null,null,0,27,null,{"$f":"Millwall!X101","v":"1993-01-30"},null,{"$f":"Millwall!Y101","v":"Oxford"},{"$f":"Millwall!Z101","v":"(A)"},{"$f":"Millwall!AA101","v":"L 0-3"},{"$f":"MATCH($K$4,Millwall!$AB$101:$AP$101,0)","v":12},{"$f":"MATCH($L$4,Millwall!$AB$101:$AP$101,0)","v":{"$error":"#N/A"}},{"$f":"MATCH($M$4,Millwall!$AB$101:$AP$101,0)","v":11},{"$f":"MATCH($N$4,Millwall!$AB$101:$AP$101,0)","v":9},{"$f":"MATCH($O$4,Millwall!$AB$101:$AP$101,0)","v":{"$error":"#N/A"}},{"$f":"MATCH($P$4,Millwall!$AB$101:$AP$101,0)","v":{"$error":"#N/A"}},{"$f":"MATCH($Q$4,Millwall!$AB$101:$AP$101,0)","v":{"$error":"#N/A"}},{"$f":"MATCH($R$4,Millwall!$AB$101:$AP$101,0)","v":{"$error":"#N/A"}},{"$f":"MATCH($S$4,Millwall!$AB$101:$AP$101,0)","v":3},{"$f":"MATCH($T$4,Millwall!$AB$101:$AP$101,0)","v":{"$error":"#N/A"}},{"$f":"MATCH($U$4,Millwall!$AB$101:$AP$101,0)","v":{"$error":"#N/A"}},{"$f":"MATCH($V$4,Millwall!$AB$101:$AP$101,0)","v":10},{"$f":"MATCH($W$4,Millwall!$AB$101:$AP$101,0)","v":14},{"$f":"MATCH($X$4,Millwall!$AB$101:$AP$101,0)","v":1},{"$f":"MATCH($Y$4,Millwall!$AB$101:$AP$101,0)","v":{"$error":"#N/A"}},{"$f":"MATCH($Z$4,Millwall!$AB$101:$AP$101,0)","v":{"$error":"#N/A"}},{"$f":"MATCH($AA$4,Millwall!$AB$101:$AP$101,0)","v":{"$error":"#N/A"}},{"$f":"MATCH($AB$4,Millwall!$AB$101:$AP$101,0)","v":{"$error":"#N/A"}},{"$f":"MATCH($AC$4,Millwall!$AB$101:$AP$101,0)","v":4},{"$f":"MATCH($AD$4,Millwall!$AB$101:$AP$101,0)","v":{"$error":"#N/A"}},{"$f":"MATCH($AE$4,Millwall!$AB$101:$AP$101,0)","v":5},{"$f":"MATCH($AF$4,Millwall!$AB$101:$AP$101,0)","v":{"$error":"#N/A"}},{"$f":"MATCH($AG$4,Millwall!$AB$101:$AP$101,0)","v":6},{"$f":"MATCH($AH$4,Millwall!$AB$101:$AP$101,0)","v":8},{"$f":"MATCH($AI$4,Millwall!$AB$101:$AP$101,0)","v":2},{"$f":"MATCH($AJ$4,Millwall!$AB$101:$AP$101,0)","v":7},{"$f":"MATCH($AK$4,Millwall!$AB$101:$AP$101,0)","v":{"$error":"#N/A"}},{"$f":"MATCH($AL$4,Millwall!$AB$101:$AP$101,0)","v":{"$error":"#N/A"}},{"$f":"MATCH($AM$4,Millwall!$AB$101:$AP$101,0)","v":{"$error":"#N/A"}},{"$f":"MATCH($AN$4,Millwall!$AB$101:$AP$101,0)","v":{"$error":"#N/A"}},{"$f":"MATCH($AO$4,Millwall!$AB$101:$AP$101,0)","v":{"$error":"#N/A"}},{"$f":"MATCH($AP$4,Millwall!$AB$101:$AP$101,0)","v":{"$error":"#N/A"}},{"$f":"MATCH($AQ$4,Millwall!$AB$101:$AP$101,0)","v":{"$error":"#N/A"}},{"$f":"MATCH($AR$4,Millwall!$AE$101:$AP$101,0)","v":{"$error":"#N/A"}},null,null,null,null,null,{"$f":"MATCH(AX$3,Millwall!$AB101:$AP101,0)","v":12},{"$f":"MATCH(AY$3,Millwall!$AB101:$AP101,0)","v":{"$error":"#N/A"}},{"$f":"MATCH(AZ$3,Millwall!$AB101:$AP101,0)","v":{"$error":"#N/A"}},{"$f":"MATCH(BA$3,Millwall!$AB101:$AP101,0)","v":{"$error":"#N/A"}},{"$f":"MATCH(BB$3,Millwall!$AB101:$AP101,0)","v":{"$error":"#N/A"}},{"$f":"MATCH(BC$3,Millwall!$AB101:$AP101,0)","v":{"$error":"#N/A"}},{"$f":"MATCH(BD$3,Millwall!$AB101:$AP101,0)","v":{"$error":"#N/A"}},{"$f":"MATCH(BE$3,Millwall!$AB101:$AP101,0)","v":{"$error":"#N/A"}},{"$f":"MATCH(BF$3,Millwall!$AB101:$AP101,0)","v":{"$error":"#N/A"}},{"$f":"MATCH(BG$3,Millwall!$AB101:$AP101,0)","v":{"$error":"#N/A"}},{"$f":"MATCH(BH$3,Millwall!$AB101:$AP101,0)","v":{"$error":"#N/A"}},{"$f":"MATCH(BI$3,Millwall!$AB101:$AP101,0)","v":{"$error":"#N/A"}},{"$f":"MATCH(BJ$3,Millwall!$AB101:$AP101,0)","v":{"$error":"#N/A"}},{"$f":"MATCH(BK$3,Millwall!$AB101:$AP101,0)","v":{"$error":"#N/A"}},{"$f":"MATCH(BL$3,Millwall!$AB101:$AP101,0)","v":{"$error":"#N/A"}},{"$f":"MATCH(BM$3,Millwall!$AB101:$AP101,0)","v":{"$error":"#N/A"}},{"$f":"MATCH(BN$3,Millwall!$AB101:$AP101,0)","v":{"$error":"#N/A"}},{"$f":"MATCH(BO$3,Millwall!$AB101:$AP101,0)","v":{"$error":"#N/A"}},{"$f":"MATCH(BP$3,Millwall!$AB101:$AP101,0)","v":4},{"$f":"MATCH(BQ$3,Millwall!$AB101:$AP101,0)","v":{"$error":"#N/A"}},{"$f":"MATCH(BR$3,Millwall!$AB101:$AP101,0)","v":{"$error":"#N/A"}},{"$f":"MATCH(BS$3,Millwall!$AB101:$AP101,0)","v":{"$error":"#N/A"}},{"$f":"MATCH(BT$3,Millwall!$AB101:$AP101,0)","v":{"$error":"#N/A"}},{"$f":"MATCH(BU$3,Millwall!$AB101:$AP101,0)","v":{"$error":"#N/A"}},{"$f":"MATCH(BV$3,Millwall!$AB101:$AP101,0)","v":2},{"$f":"MATCH(BW$3,Millwall!$AB101:$AP101,0)","v":{"$error":"#N/A"}},{"$f":"MATCH(BX$3,Millwall!$AB101:$AP101,0)","v":{"$error":"#N/A"}},{"$f":"MATCH(BY$3,Millwall!$AB101:$AP101,0)","v":{"$error":"#N/A"}},{"$f":"MATCH(BZ$3,Millwall!$AB101:$AP101,0)","v":{"$error":"#N/A"}},{"$f":"MATCH(CA$3,Millwall!$AB101:$AP101,0)","v":{"$error":"#N/A"}},{"$f":"MATCH(CB$3,Millwall!$AB101:$AP101,0)","v":{"$error":"#N/A"}},{"$f":"MATCH(CC$3,Millwall!$AB101:$AP101,0)","v":{"$error":"#N/A"}},{"$f":"MATCH(CD$3,Millwall!$AB101:$AP101,0)","v":{"$error":"#N/A"}},{"$f":"MATCH(CE$3,Millwall!$AB101:$AP101,0)","v":{"$error":"#N/A"}},null,null,{"$f":"MATCH($CH$3,Millwall!$AB$101:$AP$101,0)","v":{"$error":"#N/A"}},{"$f":"MATCH($CI$3,Millwall!$AB$101:$AP$101,0)","v":{"$error":"#N/A"}},{"$f":"MATCH($CJ$3,Millwall!$AB$101:$AP$101,0)","v":{"$error":"#N/A"}},{"$f":"MATCH($CK$3,Millwall!$AB$101:$AP$101,0)","v":9},{"$f":"MATCH($CL$3,Millwall!$AB$101:$AP$101,0)","v":{"$error":"#N/A"}},{"$f":"MATCH($CM$3,Millwall!$AB$101:$AP$101,0)","v":{"$error":"#N/A"}},{"$f":"MATCH($CN$3,Millwall!$AB$101:$AP$101,0)","v":{"$error":"#N/A"}},{"$f":"MATCH($CO$3,Millwall!$AB$101:$AP$101,0)","v":{"$error":"#N/A"}},{"$f":"MATCH($CP$3,Millwall!$AB$101:$AP$101,0)","v":{"$error":"#N/A"}},{"$f":"MATCH($CQ$3,Millwall!$AB$101:$AP$101,0)","v":{"$error":"#N/A"}},{"$f":"MATCH($CR$3,Millwall!$AB$101:$AP$101,0)","v":{"$error":"#N/A"}},{"$f":"MATCH($CS$3,Millwall!$AB$101:$AP$101,0)","v":{"$error":"#N/A"}},{"$f":"MATCH($CT$3,Millwall!$AB$101:$AP$101,0)","v":14},{"$f":"MATCH($CU$3,Millwall!$AB$101:$AP$101,0)","v":{"$error":"#N/A"}},{"$f":"MATCH($CV$3,Millwall!$AB$101:$AP$101,0)","v":{"$error":"#N/A"}},{"$f":"MATCH($CW$3,Millwall!$AB$101:$AP$101,0)","v":{"$error":"#N/A"}},{"$f":"MATCH($CX$3,Millwall!$AB$101:$AP$101,0)","v":{"$error":"#N/A"}},{"$f":"MATCH($CY$3,Millwall!$AB$101:$AP$101,0)","v":{"$error":"#N/A"}},{"$f":"MATCH($CZ$3,Millwall!$AB$101:$AP$101,0)","v":{"$error":"#N/A"}},{"$f":"MATCH($DA$3,Millwall!$AB$101:$AP$101,0)","v":{"$error":"#N/A"}},{"$f":"MATCH($DB$3,Millwall!$AB$101:$AP$101,0)","v":{"$error":"#N/A"}},{"$f":"MATCH($DC$3,Millwall!$AB$101:$AP$101,0)","v":{"$error":"#N/A"}},{"$f":"MATCH($DD$3,Millwall!$AB$101:$AP$101,0)","v":{"$error":"#N/A"}},{"$f":"MATCH($DE$3,Millwall!$AB$101:$AP$101,0)","v":{"$error":"#N/A"}},{"$f":"MATCH($DF$3,Millwall!$AB$101:$AP$101,0)","v":{"$error":"#N/A"}},{"$f":"MATCH($DG$3,Millwall!$AB$101:$AP$101,0)","v":{"$error":"#N/A"}},{"$f":"MATCH($DH$3,Millwall!$AB$101:$AP$101,0)","v":{"$error":"#N/A"}},{"$f":"MATCH($DI$3,Millwall!$AB$101:$AP$101,0)","v":{"$error":"#N/A"}},{"$f":"MATCH($DJ$3,Millwall!$AB$101:$AP$101,0)","v":{"$error":"#N/A"}},{"$f":"MATCH($DK$3,Millwall!$AB$101:$AP$101,0)","v":{"$error":"#N/A"}},{"$f":"MATCH($DL$3,Millwall!$AB$101:$AP$101,0)","v":{"$error":"#N/A"}},{"$f":"MATCH($DM$3,Millwall!$AB$101:$AP$101,0)","v":{"$error":"#N/A"}},{"$f":"MATCH($DN$3,Millwall!$AB$101:$AP$101,0)","v":{"$error":"#N/A"}},{"$f":"MATCH($DO$3,Millwall!$AB$101:$AP$101,0)","v":{"$error":"#N/A"}},null,null,null,null,null,null,null,null,{"$f":"$DY$31&\" [**\"","v":"Sion [**"},{"$f":"Millwall!$BP77","v":"Sion"},"Sion (**",{"$f":"$DY$31&\"**\"","v":"Sion**"},null,{"$f":"$DY$31","v":"Sion"},{"$f":"$DZ$31","v":"Sion (**"},{"$f":"$EA$31","v":"Sion**"},null,{"$f":"Millwall!$BX32","v":2},{"$f":"Millwall!$CC32","v":0},{"$f":"Millwall!$CH32","v":1},{"$f":"Millwall!$CM32","v":0}]
[null,null,0,28,null,{"$f":"Millwall!X102","v":"1993-02-06"},null,{"$f":"Millwall!Y102","v":"Watford"},{"$f":"Millwall!Z102","v":"(H)"},{"$f":"Millwall!AA102","v":"W 5-2"},{"$f":"MATCH($K$4,Millwall!$AB$102:$AP$102,0)","v":12},{"$f":"MATCH($L$4,Millwall!$AB$102:$AP$102,0)","v":{"$error":"#N/A"}},{"$f":"MATCH($M$4,Millwall!$AB$102:$AP$102,0)","v":11},{"$f":"MATCH($N$4,Millwall!$AB$102:$AP$102,0)","v":9},{"$f":"MATCH($O$4,Millwall!$AB$102:$AP$102,0)","v":{"$error":"#N/A"}},{"$f":"MATCH($P$4,Millwall!$AB$102:$AP$102,0)","v":5},{"$f":"MATCH($Q$4,Millwall!$AB$102:$AP$102,0)","v":{"$error":"#N/A"}},{"$f":"MATCH($R$4,Millwall!$AB$102:$AP$102,0)","v":{"$error":"#N/A"}},{"$f":"MATCH($S$4,Millwall!$AB$102:$AP$102,0)","v":3},{"$f":"MATCH($T$4,Millwall!$AB$102:$AP$102,0)","v":{"$error":"#N/A"}},{"$f":"MATCH($U$4,Millwall!$AB$102:$AP$102,0)","v":{"$error":"#N/A"}},{"$f":"MATCH($V$4,Millwall!$AB$102:$AP$102,0)","v":10},{"$f":"MATCH($W$4,Millwall!$AB$102:$AP$102,0)","v":14},{"$f":"MATCH($X$4,Millwall!$AB$102:$AP$102,0)","v":1},{"$f":"MATCH($Y$4,Millwall!$AB$102:$AP$102,0)","v":{"$error":"#N/A"}},{"$f":"MATCH($Z$4,Millwall!$AB$102:$AP$102,0)","v":{"$error":"#N/A"}},{"$f":"MATCH($AA$4,Millwall!$AB$102:$AP$102,0)","v":{"$error":"#N/A"}},{"$f":"MATCH($AB$4,Millwall!$AB$102:$AP$102,0)","v":{"$error":"#N/A"}},{"$f":"MATCH($AC$4,Millwall!$AB$102:$AP$102,0)","v":4},{"$f":"MATCH($AD$4,Millwall!$AB$102:$AP$102,0)","v":{"$error":"#N/A"}},{"$f":"MATCH($AE$4,Millwall!$AB$102:$AP$102,0)","v":{"$error":"#N/A"}},{"$f":"MATCH($AF$4,Millwall!$AB$102:$AP$102,0)","v":{"$error":"#N/A"}},{"$f":"MATCH($AG$4,Millwall!$AB$102:$AP$102,0)","v":{"$error":"#N/A"}},{"$f":"MATCH($AH$4,Millwall!$AB$102:$AP$102,0)","v":8},{"$f":"MATCH($AI$4,Millwall!$AB$102:$AP$102,0)","v":2},{"$f":"MATCH($AJ$4,Millwall!$AB$102:$AP$102,0)","v":7},{"$f":"MATCH($AK$4,Millwall!$AB$102:$AP$102,0)","v":{"$error":"#N/A"}},{"$f":"MATCH($AL$4,Millwall!$AB$102:$AP$102,0)","v":{"$error":"#N/A"}},{"$f":"MATCH($AM$4,Millwall!$AB$102:$AP$102,0)","v":6},{"$f":"MATCH($AN$4,Millwall!$AB$102:$AP$102,0)","v":{"$error":"#N/A"}},{"$f":"MATCH($AO$4,Millwall!$AB$102:$AP$102,0)","v":{"$error":"#N/A"}},{"$f":"MATCH($AP$4,Millwall!$AB$102:$AP$102,0)","v":{"$error":"#N/A"}},{"$f":"MATCH($AQ$4,Millwall!$AB$102:$AP$102,0)","v":{"$error":"#N/A"}},{"$f":"MATCH($AR$4,Millwall!$AE$102:$AP$102,0)","v":{"$error":"#N/A"}},null,null,null,null,null,{"$f":"MATCH(AX$3,Millwall!$AB102:$AP102,0)","v":12},{"$f":"MATCH(AY$3,Millwall!$AB102:$AP102,0)","v":{"$error":"#N/A"}},{"$f":"MATCH(AZ$3,Millwall!$AB102:$AP102,0)","v":{"$error":"#N/A"}},{"$f":"MATCH(BA$3,Millwall!$AB102:$AP102,0)","v":{"$error":"#N/A"}},{"$f":"MATCH(BB$3,Millwall!$AB102:$AP102,0)","v":{"$error":"#N/A"}},{"$f":"MATCH(BC$3,Millwall!$AB102:$AP102,0)","v":{"$error":"#N/A"}},{"$f":"MATCH(BD$3,Millwall!$AB102:$AP102,0)","v":{"$error":"#N/A"}},{"$f":"MATCH(BE$3,Millwall!$AB102:$AP102,0)","v":{"$error":"#N/A"}},{"$f":"MATCH(BF$3,Millwall!$AB102:$AP102,0)","v":{"$error":"#N/A"}},{"$f":"MATCH(BG$3,Millwall!$AB102:$AP102,0)","v":{"$error":"#N/A"}},{"$f":"MATCH(BH$3,Millwall!$AB102:$AP102,0)","v":{"$error":"#N/A"}},{"$f":"MATCH(BI$3,Millwall!$AB102:$AP102,0)","v":10},{"$f":"MATCH(BJ$3,Millwall!$AB102:$AP102,0)","v":{"$error":"#N/A"}},{"$f":"MATCH(BK$3,Millwall!$AB102:$AP102,0)","v":{"$error":"#N/A"}},{"$f":"MATCH(BL$3,Millwall!$AB102:$AP102,0)","v":{"$error":"#N/A"}},{"$f":"MATCH(BM$3,Millwall!$AB102:$AP102,0)","v":{"$error":"#N/A"}},{"$f":"MATCH(BN$3,Millwall!$AB102:$AP102,0)","v":{"$error":"#N/A"}},{"$f":"MATCH(BO$3,Millwall!$AB102:$AP102,0)","v":{"$error":"#N/A"}},{"$f":"MATCH(BP$3,Millwall!$AB102:$AP102,0)","v":{"$error":"#N/A"}},{"$f":"MATCH(BQ$3,Millwall!$AB102:$AP102,0)","v":{"$error":"#N/A"}},{"$f":"MATCH(BR$3,Millwall!$AB102:$AP102,0)","v":{"$error":"#N/A"}},{"$f":"MATCH(BS$3,Millwall!$AB102:$AP102,0)","v":{"$error":"#N/A"}},{"$f":"MATCH(BT$3,Millwall!$AB102:$AP102,0)","v":{"$error":"#N/A"}},{"$f":"MATCH(BU$3,Millwall!$AB102:$AP102,0)","v":{"$error":"#N/A"}},{"$f":"MATCH(BV$3,Millwall!$AB102:$AP102,0)","v":{"$error":"#N/A"}},{"$f":"MATCH(BW$3,Millwall!$AB102:$AP102,0)","v":{"$error":"#N/A"}},{"$f":"MATCH(BX$3,Millwall!$AB102:$AP102,0)","v":{"$error":"#N/A"}},{"$f":"MATCH(BY$3,Millwall!$AB102:$AP102,0)","v":{"$error":"#N/A"}},{"$f":"MATCH(BZ$3,Millwall!$AB102:$AP102,0)","v":{"$error":"#N/A"}},{"$f":"MATCH(CA$3,Millwall!$AB102:$AP102,0)","v":{"$error":"#N/A"}},{"$f":"MATCH(CB$3,Millwall!$AB102:$AP102,0)","v":{"$error":"#N/A"}},{"$f":"MATCH(CC$3,Millwall!$AB102:$AP102,0)","v":{"$error":"#N/A"}},{"$f":"MATCH(CD$3,Millwall!$AB102:$AP102,0)","v":{"$error":"#N/A"}},{"$f":"MATCH(CE$3,Millwall!$AB102:$AP102,0)","v":{"$error":"#N/A"}},null,null,{"$f":"MATCH($CH$3,Millwall!$AB$102:$AP$102,0)","v":{"$error":"#N/A"}},{"$f":"MATCH($CI$3,Millwall!$AB$102:$AP$102,0)","v":{"$error":"#N/A"}},{"$f":"MATCH($CJ$3,Millwall!$AB$102:$AP$102,0)","v":{"$error":"#N/A"}},{"$f":"MATCH($CK$3,Millwall!$AB$102:$AP$102,0)","v":{"$error":"#N/A"}},{"$f":"MATCH($CL$3,Millwall!$AB$102:$AP$102,0)","v":{"$error":"#N/A"}},{"$f":"MATCH($CM$3,Millwall!$AB$102:$AP$102,0)","v":{"$error":"#N/A"}},{"$f":"MATCH($CN$3,Millwall!$AB$102:$AP$102,0)","v":{"$error":"#N/A"}},{"$f":"MATCH($CO$3,Millwall!$AB$102:$AP$102,0)","v":{"$error":"#N/A"}},{"$f":"MATCH($CP$3,Millwall!$AB$102:$AP$102,0)","v":{"$error":"#N/A"}},{"$f":"MATCH($CQ$3,Millwall!$AB$102:$AP$102,0)","v":{"$error":"#N/A"}},{"$f":"MATCH($CR$3,Millwall!$AB$102:$AP$102,0)","v":{"$error":"#N/A"}},{"$f":"MATCH($CS$3,Millwall!$AB$102:$AP$102,0)","v":{"$error":"#N/A"}},{"$f":"MATCH($CT$3,Millwall!$AB$102:$AP$102,0)","v":{"$error":"#N/A"}},{"$f":"MATCH($CU$3,Millwall!$AB$102:$AP$102,0)","v":{"$error":"#N/A"}},{"$f":"MATCH($CV$3,Millwall!$AB$102:$AP$102,0)","v":{"$error":"#N/A"}},{"$f":"MATCH($CW$3,Millwall!$AB$102:$AP$102,0)","v":{"$error":"#N/A"}},{"$f":"MATCH($CX$3,Millwall!$AB$102:$AP$102,0)","v":{"$error":"#N/A"}},{"$f":"MATCH($CY$3,Millwall!$AB$102:$AP$102,0)","v":{"$error":"#N/A"}},{"$f":"MATCH($CZ$3,Millwall!$AB$102:$AP$102,0)","v":{"$error":"#N/A"}},{"$f":"MATCH($DA$3,Millwall!$AB$102:$AP$102,0)","v":{"$error":"#N/A"}},{"$f":"MATCH($DB$3,Millwall!$AB$102:$AP$102,0)","v":{"$error":"#N/A"}},{"$f":"MATCH($DC$3,Millwall!$AB$102:$AP$102,0)","v":{"$error":"#N/A"}},{"$f":"MATCH($DD$3,Millwall!$AB$102:$AP$102,0)","v":{"$error":"#N/A"}},{"$f":"MATCH($DE$3,Millwall!$AB$102:$AP$102,0)","v":{"$error":"#N/A"}},{"$f":"MATCH($DF$3,Millwall!$AB$102:$AP$102,0)","v":{"$error":"#N/A"}},{"$f":"MATCH($DG$3,Millwall!$AB$102:$AP$102,0)","v":{"$error":"#N/A"}},{"$f":"MATCH($DH$3,Millwall!$AB$102:$AP$102,0)","v":{"$error":"#N/A"}},{"$f":"MATCH($DI$3,Millwall!$AB$102:$AP$102,0)","v":{"$error":"#N/A"}},{"$f":"MATCH($DJ$3,Millwall!$AB$102:$AP$102,0)","v":{"$error":"#N/A"}},{"$f":"MATCH($DK$3,Millwall!$AB$102:$AP$102,0)","v":{"$error":"#N/A"}},{"$f":"MATCH($DL$3,Millwall!$AB$102:$AP$102,0)","v":{"$error":"#N/A"}},{"$f":"MATCH($DM$3,Millwall!$AB$102:$AP$102,0)","v":{"$error":"#N/A"}},{"$f":"MATCH($DN$3,Millwall!$AB$102:$AP$102,0)","v":{"$error":"#N/A"}},{"$f":"MATCH($DO$3,Millwall!$AB$102:$AP$102,0)","v":{"$error":"#N/A"}},null,null,null,null,null,null,null,null,{"$f":"$DY$32&\" [**\"","v":"Stephenson [**"},{"$f":"Millwall!$BP78","v":"Stephenson"},"Stephenson (**",{"$f":"$DY$32&\"**\"","v":"Stephenson**"},null,{"$f":"$DY$32","v":"Stephenson"},{"$f":"$DZ$32","v":"Stephenson (**"},{"$f":"$EA$32","v":"Stephenson**"},null,{"$f":"Millwall!$BX33","v":0},{"$f":"Millwall!$CC33","v":0},{"$f":"Millwall!$CH33","v":0},{"$f":"Millwall!$CM33","v":0}]
[null,null,0,29,null,{"$f":"Millwall!X103","v":"1993-02-09"},null,{"$f":"Millwall!Y103","v":"Birmingham"},{"$f":"Millwall!Z103","v":"(A)"},{"$f":"Millwall!AA103","v":"D 0-0"},{"$f":"MATCH($K$4,Millwall!$AB$103:$AP$103,0)","v":12},{"$f":"MATCH($L$4,Millwall!$AB$103:$AP$103,0)","v":{"$error":"#N/A"}},{"$f":"MATCH($M$4,Millwall!$AB$103:$AP$103,0)","v":11},{"$f":"MATCH($N$4,Millwall!$AB$103:$AP$103,0)","v":9},{"$f":"MATCH($O$4,Millwall!$AB$103:$AP$103,0)","v":{"$error":"#N/A"}},{"$f":"MATCH($P$4,Millwall!$AB$103:$AP$103,0)","v":5},{"$f":"MATCH($Q$4,Millwall!$AB$103:$AP$103,0)","v":{"$error":"#N/A"}},{"$f":"MATCH($R$4,Millwall!$AB$103:$AP$103,0)","v":{"$error":"#N/A"}},{"$f":"MATCH($S$4,Millwall!$AB$103:$AP$103,0)","v":3},{"$f":"MATCH($T$4,Millwall!$AB$103:$AP$103,0)","v":{"$error":"#N/A"}},{"$f":"MATCH($U$4,Millwall!$AB$103:$AP$103,0)","v":{"$error":"#N/A"}},{"$f":"MATCH($V$4,Millwall!$AB$103:$AP$103,0)","v":10},{"$f":"MATCH($W$4,Millwall!$AB$103:$AP$103,0)","v":{"$error":"#N/A"}},{"$f":"MATCH($X$4,Millwall!$AB$103:$AP$103,0)","v":1},{"$f":"MATCH($Y$4,Millwall!$AB$103:$AP$103,0)","v":{"$error":"#N/A"}},{"$f":"MATCH($Z$4,Millwall!$AB$103:$AP$103,0)","v":{"$error":"#N/A"}},{"$f":"MATCH($AA$4,Millwall!$AB$103:$AP$103,0)","v":{"$error":"#N/A"}},{"$f":"MATCH($AB$4,Millwall!$AB$103:$AP$103,0)","v":{"$error":"#N/A"}},{"$f":"MATCH($AC$4,Millwall!$AB$103:$AP$103,0)","v":4},{"$f":"MATCH($AD$4,Millwall!$AB$103:$AP$103,0)","v":{"$error":"#N/A"}},{"$f":"MATCH($AE$4,Millwall!$AB$103:$AP$103,0)","v":{"$error":"#N/A"}},{"$f":"MATCH($AF$4,Millwall!$AB$103:$AP$103,0)","v":{"$error":"#N/A"}},{"$f":"MATCH($AG$4,Millwall!$AB$103:$AP$103,0)","v":14},{"$f":"MATCH($AH$4,Millwall!$AB$103:$AP$103,0)","v":8},{"$f":"MATCH($AI$4,Millwall!$AB$103:$AP$103,0)","v":2},{"$f":"MATCH($AJ$4,Millwall!$AB$103:$AP$103,0)","v":7},{"$f":"MATCH($AK$4,Millwall!$AB$103:$AP$103,0)","v":{"$error":"#N/A"}},{"$f":"MATCH($AL$4,Millwall!$AB$103:$AP$103,0)","v":{"$error":"#N/A"}},{"$f":"MATCH($AM$4,Millwall!$AB$103:$AP$103,0)","v":6},{"$f":"MATCH($AN$4,Millwall!$AB$103:$AP$103,0)","v":{"$error":"#N/A"}},{"$f":"MATCH($AO$4,Millwall!$AB$103:$AP$103,0)","v":{"$error":"#N/A"}},{"$f":"MATCH($AP$4,Millwall!$AB$103:$AP$103,0)","v":{"$error":"#N/A"}},{"$f":"MATCH($AQ$4,Millwall!$AB$103:$AP$103,0)","v":{"$error":"#N/A"}},{"$f":"MATCH($AR$4,Millwall!$AE$103:$AP$103,0)","v":{"$error":"#N/A"}},null,null,null,null,null,{"$f":"MATCH(AX$3,Millwall!$AB103:$AP103,0)","v":{"$error":"#N/A"}},{"$f":"MATCH(AY$3,Millwall!$AB103:$AP103,0)","v":{"$error":"#N/A"}},{"$f":"MATCH(AZ$3,Millwall!$AB103:$AP103,0)","v":{"$error":"#N/A"}},{"$f":"MATCH(BA$3,Millwall!$AB103:$AP103,0)","v":{"$error":"#N/A"}},{"$f":"MATCH(BB$3,Millwall!$AB103:$AP103,0)","v":{"$error":"#N/A"}},{"$f":"MATCH(BC$3,Millwall!$AB103:$AP103,0)","v":{"$error":"#N/A"}},{"$f":"MATCH(BD$3,Millwall!$AB103:$AP103,0)","v":{"$error":"#N/A"}},{"$f":"MATCH(BE$3,Millwall!$AB103:$AP103,0)","v":{"$error":"#N/A"}},{"$f":"MATCH(BF$3,Millwall!$AB103:$AP103,0)","v":{"$error":"#N/A"}},{"$f":"MATCH(BG$3,Millwall!$AB103:$AP103,0)","v":{"$error":"#N/A"}},{"$f":"MATCH(BH$3,Millwall!$AB103:$AP103,0)","v":{"$error":"#N/A"}},{"$f":"MATCH(BI$3,Millwall!$AB103:$AP103,0)","v":{"$error":"#N/A"}},{"$f":"MATCH(BJ$3,Millwall!$AB103:$AP103,0)","v":{"$error":"#N/A"}},{"$f":"MATCH(BK$3,Millwall!$AB103:$AP103,0)","v":{"$error":"#N/A"}},{"$f":"MATCH(BL$3,Millwall!$AB103:$AP103,0)","v":{"$error":"#N/A"}},{"$f":"MATCH(BM$3,Millwall!$AB103:$AP103,0)","v":{"$error":"#N/A"}},{"$f":"MATCH(BN$3,Millwall!$AB103:$AP103,0)","v":{"$error":"#N/A"}},{"$f":"MATCH(BO$3,Millwall!$AB103:$AP103,0)","v":{"$error":"#N/A"}},{"$f":"MATCH(BP$3,Millwall!$AB103:$AP103,0)","v":{"$error":"#N/A"}},{"$f":"MATCH(BQ$3,Millwall!$AB103:$AP103,0)","v":{"$error":"#N/A"}},{"$f":"MATCH(BR$3,Millwall!$AB103:$AP103,0)","v":{"$error":"#N/A"}},{"$f":"MATCH(BS$3,Millwall!$AB103:$AP103,0)","v":{"$error":"#N/A"}},{"$f":"MATCH(BT$3,Millwall!$AB103:$AP103,0)","v":{"$error":"#N/A"}},{"$f":"MATCH(BU$3,Millwall!$AB103:$AP103,0)","v":{"$error":"#N/A"}},{"$f":"MATCH(BV$3,Millwall!$AB103:$AP103,0)","v":{"$error":"#N/A"}},{"$f":"MATCH(BW$3,Millwall!$AB103:$AP103,0)","v":{"$error":"#N/A"}},{"$f":"MATCH(BX$3,Millwall!$AB103:$AP103,0)","v":{"$error":"#N/A"}},{"$f":"MATCH(BY$3,Millwall!$AB103:$AP103,0)","v":{"$error":"#N/A"}},{"$f":"MATCH(BZ$3,Millwall!$AB103:$AP103,0)","v":{"$error":"#N/A"}},{"$f":"MATCH(CA$3,Millwall!$AB103:$AP103,0)","v":{"$error":"#N/A"}},{"$f":"MATCH(CB$3,Millwall!$AB103:$AP103,0)","v":{"$error":"#N/A"}},{"$f":"MATCH(CC$3,Millwall!$AB103:$AP103,0)","v":{"$error":"#N/A"}},{"$f":"MATCH(CD$3,Millwall!$AB103:$AP103,0)","v":{"$error":"#N/A"}},{"$f":"MATCH(CE$3,Millwall!$AB103:$AP103,0)","v":{"$error":"#N/A"}},null,null,{"$f":"MATCH($CH$3,Millwall!$AB$103:$AP$103,0)","v":{"$error":"#N/A"}},{"$f":"MATCH($CI$3,Millwall!$AB$103:$AP$103,0)","v":{"$error":"#N/A"}},{"$f":"MATCH($CJ$3,Millwall!$AB$103:$AP$103,0)","v":{"$error":"#N/A"}},{"$f":"MATCH($CK$3,Millwall!$AB$103:$AP$103,0)","v":{"$error":"#N/A"}},{"$f":"MATCH($CL$3,Millwall!$AB$103:$AP$103,0)","v":{"$error":"#N/A"}},{"$f":"MATCH($CM$3,Millwall!$AB$103:$AP$103,0)","v":{"$error":"#N/A"}},{"$f":"MATCH($CN$3,Millwall!$AB$103:$AP$103,0)","v":{"$error":"#N/A"}},{"$f":"MATCH($CO$3,Millwall!$AB$103:$AP$103,0)","v":{"$error":"#N/A"}},{"$f":"MATCH($CP$3,Millwall!$AB$103:$AP$103,0)","v":{"$error":"#N/A"}},{"$f":"MATCH($CQ$3,Millwall!$AB$103:$AP$103,0)","v":{"$error":"#N/A"}},{"$f":"MATCH($CR$3,Millwall!$AB$103:$AP$103,0)","v":{"$error":"#N/A"}},{"$f":"MATCH($CS$3,Millwall!$AB$103:$AP$103,0)","v":{"$error":"#N/A"}},{"$f":"MATCH($CT$3,Millwall!$AB$103:$AP$103,0)","v":{"$error":"#N/A"}},{"$f":"MATCH($CU$3,Millwall!$AB$103:$AP$103,0)","v":{"$error":"#N/A"}},{"$f":"MATCH($CV$3,Millwall!$AB$103:$AP$103,0)","v":{"$error":"#N/A"}},{"$f":"MATCH($CW$3,Millwall!$AB$103:$AP$103,0)","v":{"$error":"#N/A"}},{"$f":"MATCH($CX$3,Millwall!$AB$103:$AP$103,0)","v":{"$error":"#N/A"}},{"$f":"MATCH($CY$3,Millwall!$AB$103:$AP$103,0)","v":{"$error":"#N/A"}},{"$f":"MATCH($CZ$3,Millwall!$AB$103:$AP$103,0)","v":{"$error":"#N/A"}},{"$f":"MATCH($DA$3,Millwall!$AB$103:$AP$103,0)","v":{"$error":"#N/A"}},{"$f":"MATCH($DB$3,Millwall!$AB$103:$AP$103,0)","v":{"$error":"#N/A"}},{"$f":"MATCH($DC$3,Millwall!$AB$103:$AP$103,0)","v":{"$error":"#N/A"}},{"$f":"MATCH($DD$3,Millwall!$AB$103:$AP$103,0)","v":14},{"$f":"MATCH($DE$3,Millwall!$AB$103:$AP$103,0)","v":{"$error":"#N/A"}},{"$f":"MATCH($DF$3,Millwall!$AB$103:$AP$103,0)","v":2},{"$f":"MATCH($DG$3,Millwall!$AB$103:$AP$103,0)","v":{"$error":"#N/A"}},{"$f":"MATCH($DH$3,Millwall!$AB$103:$AP$103,0)","v":{"$error":"#N/A"}},{"$f":"MATCH($DI$3,Millwall!$AB$103:$AP$103,0)","v":{"$error":"#N/A"}},{"$f":"MATCH($DJ$3,Millwall!$AB$103:$AP$103,0)","v":{"$error":"#N/A"}},{"$f":"MATCH($DK$3,Millwall!$AB$103:$AP$103,0)","v":{"$error":"#N/A"}},{"$f":"MATCH($DL$3,Millwall!$AB$103:$AP$103,0)","v":{"$error":"#N/A"}},{"$f":"MATCH($DM$3,Millwall!$AB$103:$AP$103,0)","v":{"$error":"#N/A"}},{"$f":"MATCH($DN$3,Millwall!$AB$103:$AP$103,0)","v":{"$error":"#N/A"}},{"$f":"MATCH($DO$3,Millwall!$AB$103:$AP$103,0)","v":{"$error":"#N/A"}},null,null,null,null,null,null,null,null,{"$f":"$DY$33&\" [**\"","v":"Stevens [**"},{"$f":"Millwall!$BP79","v":"Stevens"},"Stevens (**",{"$f":"$DY$33&\"**\"","v":"Stevens**"},null,{"$f":"$DY$33","v":"Stevens"},{"$f":"$DZ$33","v":"Stevens (**"},{"$f":"$EA$33","v":"Stevens**"},null,{"$f":"Millwall!$BX34","v":0},{"$f":"Millwall!$CC34","v":0},{"$f":"Millwall!$CH34","v":0},{"$f":"Millwall!$CM34","v":0}]
[null,null,0,30,null,{"$f":"Millwall!X104","v":"1993-02-13"},null,{"$f":"Millwall!Y104","v":"Swindon"},{"$f":"Millwall!Z104","v":"(A)"},{"$f":"Millwall!AA104","v":"L 0-3"},{"$f":"MATCH($K$4,Millwall!$AB$104:$AP$104,0)","v":12},{"$f":"MATCH($L$4,Millwall!$AB$104:$AP$104,0)","v":{"$error":"#N/A"}},{"$f":"MATCH($M$4,Millwall!$AB$104:$AP$104,0)","v":11},{"$f":"MATCH($N$4,Millwall!$AB$104:$AP$104,0)","v":9},{"$f":"MATCH($O$4,Millwall!$AB$104:$AP$104,0)","v":{"$error":"#N/A"}},{"$f":"MATCH($P$4,Millwall!$AB$104:$AP$104,0)","v":5},{"$f":"MATCH($Q$4,Millwall!$AB$104:$AP$104,0)","v":{"$error":"#N/A"}},{"$f":"MATCH($R$4,Millwall!$AB$104:$AP$104,0)","v":{"$error":"#N/A"}},{"$f":"MATCH($S$4,Millwall!$AB$104:$AP$104,0)","v":3},{"$f":"MATCH($T$4,Millwall!$AB$104:$AP$104,0)","v":{"$error":"#N/A"}},{"$f":"MATCH($U$4,Millwall!$AB$104:$AP$104,0)","v":{"$error":"#N/A"}},{"$f":"MATCH($V$4,Millwall!$AB$104:$AP$104,0)","v":10},{"$f":"MATCH($W$4,Millwall!$AB$104:$AP$104,0)","v":2},{"$f":"MATCH($X$4,Millwall!$AB$104:$AP$104,0)","v":1},{"$f":"MATCH($Y$4,Millwall!$AB$104:$AP$104,0)","v":{"$error":"#N/A"}},{"$f":"MATCH($Z$4,Millwall!$AB$104:$AP$104,0)","v":{"$error":"#N/A"}},{"$f":"MATCH($AA$4,Millwall!$AB$104:$AP$104,0)","v":{"$error":"#N/A"}},{"$f":"MATCH($AB$4,Millwall!$AB$104:$AP$104,0)","v":{"$error":"#N/A"}},{"$f":"MATCH($AC$4,Millwall!$AB$104:$AP$104,0)","v":4},{"$f":"MATCH($AD$4,Millwall!$AB$104:$AP$104,0)","v":{"$error":"#N/A"}},{"$f":"MATCH($AE$4,Millwall!$AB$104:$AP$104,0)","v":{"$error":"#N/A"}},{"$f":"MATCH($AF$4,Millwall!$AB$104:$AP$104,0)","v":{"$error":"#N/A"}},{"$f":"MATCH($AG$4,Millwall!$AB$104:$AP$104,0)","v":14},{"$f":"MATCH($AH$4,Millwall!$AB$104:$AP$104,0)","v":8},{"$f":"MATCH($AI$4,Millwall!$AB$104:$AP$104,0)","v":{"$error":"#N/A"}},{"$f":"MATCH($AJ$4,Millwall!$AB$104:$AP$104,0)","v":7},{"$f":"MATCH($AK$4,Millwall!$AB$104:$AP$104,0)","v":{"$error":"#N/A"}},{"$f":"MATCH($AL$4,Millwall!$AB$104:$AP$104,0)","v":{"$error":"#N/A"}},{"$f":"MATCH($AM$4,Millwall!$AB$104:$AP$104,0)","v":6},{"$f":"MATCH($AN$4,Millwall!$AB$104:$AP$104,0)","v":{"$error":"#N/A"}},{"$f":"MATCH($AO$4,Millwall!$AB$104:$AP$104,0)","v":{"$error":"#N/A"}},{"$f":"MATCH($AP$4,Millwall!$AB$104:$AP$104,0)","v":{"$error":"#N/A"}},{"$f":"MATCH($AQ$4,Millwall!$AB$104:$AP$104,0)","v":{"$error":"#N/A"}},{"$f":"MATCH($AR$4,Millwall!$AE$104:$AP$104,0)","v":{"$error":"#N/A"}},null,null,null,null,null,{"$f":"MATCH(AX$3,Millwall!$AB104:$AP104,0)","v":12},{"$f":"MATCH(AY$3,Millwall!$AB104:$AP104,0)","v":{"$error":"#N/A"}},{"$f":"MATCH(AZ$3,Millwall!$AB104:$AP104,0)","v":{"$error":"#N/A"}},{"$f":"MATCH(BA$3,Millwall!$AB104:$AP104,0)","v":9},{"$f":"MATCH(BB$3,Millwall!$AB104:$AP104,0)","v":{"$error":"#N/A"}},{"$f":"MATCH(BC$3,Millwall!$AB104:$AP104,0)","v":{"$error":"#N/A"}},{"$f":"MATCH(BD$3,Millwall!$AB104:$AP104,0)","v":{"$error":"#N/A"}},{"$f":"MATCH(BE$3,Millwall!$AB104:$AP104,0)","v":{"$error":"#N/A"}},{"$f":"MATCH(BF$3,Millwall!$AB104:$AP104,0)","v":{"$error":"#N/A"}},{"$f":"MATCH(BG$3,Millwall!$AB104:$AP104,0)","v":{"$error":"#N/A"}},{"$f":"MATCH(BH$3,Millwall!$AB104:$AP104,0)","v":{"$error":"#N/A"}},{"$f":"MATCH(BI$3,Millwall!$AB104:$AP104,0)","v":{"$error":"#N/A"}},{"$f":"MATCH(BJ$3,Millwall!$AB104:$AP104,0)","v":{"$error":"#N/A"}},{"$f":"MATCH(BK$3,Millwall!$AB104:$AP104,0)","v":{"$error":"#N/A"}},{"$f":"MATCH(BL$3,Millwall!$AB104:$AP104,0)","v":{"$error":"#N/A"}},{"$f":"MATCH(BM$3,Millwall!$AB104:$AP104,0)","v":{"$error":"#N/A"}},{"$f":"MATCH(BN$3,Millwall!$AB104:$AP104,0)","v":{"$error":"#N/A"}},{"$f":"MATCH(BO$3,Millwall!$AB104:$AP104,0)","v":{"$error":"#N/A"}},{"$f":"MATCH(BP$3,Millwall!$AB104:$AP104,0)","v":{"$error":"#N/A"}},{"$f":"MATCH(BQ$3,Millwall!$AB104:$AP104,0)","v":{"$error":"#N/A"}},{"$f":"MATCH(BR$3,Millwall!$AB104:$AP104,0)","v":{"$error":"#N/A"}},{"$f":"MATCH(BS$3,Millwall!$AB104:$AP104,0)","v":{"$error":"#N/A"}},{"$f":"MATCH(BT$3,Millwall!$AB104:$AP104,0)","v":{"$error":"#N/A"}},{"$f":"MATCH(BU$3,Millwall!$AB104:$AP104,0)","v":{"$error":"#N/A"}},{"$f":"MATCH(BV$3,Millwall!$AB104:$AP104,0)","v":{"$error":"#N/A"}},{"$f":"MATCH(BW$3,Millwall!$AB104:$AP104,0)","v":{"$error":"#N/A"}},{"$f":"MATCH(BX$3,Millwall!$AB104:$AP104,0)","v":{"$error":"#N/A"}},{"$f":"MATCH(BY$3,Millwall!$AB104:$AP104,0)","v":{"$error":"#N/A"}},{"$f":"MATCH(BZ$3,Millwall!$AB104:$AP104,0)","v":{"$error":"#N/A"}},{"$f":"MATCH(CA$3,Millwall!$AB104:$AP104,0)","v":{"$error":"#N/A"}},{"$f":"MATCH(CB$3,Millwall!$AB104:$AP104,0)","v":{"$error":"#N/A"}},{"$f":"MATCH(CC$3,Millwall!$AB104:$AP104,0)","v":{"$error":"#N/A"}},{"$f":"MATCH(CD$3,Millwall!$AB104:$AP104,0)","v":{"$error":"#N/A"}},{"$f":"MATCH(CE$3,Millwall!$AB104:$AP104,0)","v":{"$error":"#N/A"}},null,null,{"$f":"MATCH($CH$3,Millwall!$AB$104:$AP$104,0)","v":{"$error":"#N/A"}},{"$f":"MATCH($CI$3,Millwall!$AB$104:$AP$104,0)","v":{"$error":"#N/A"}},{"$f":"MATCH($CJ$3,Millwall!$AB$104:$AP$104,0)","v":{"$error":"#N/A"}},{"$f":"MATCH($CK$3,Millwall!$AB$104:$AP$104,0)","v":{"$error":"#N/A"}},{"$f":"MATCH($CL$3,Millwall!$AB$104:$AP$104,0)","v":{"$error":"#N/A"}},{"$f":"MATCH($CM$3,Millwall!$AB$104:$AP$104,0)","v":{"$error":"#N/A"}},{"$f":"MATCH($CN$3,Millwall!$AB$104:$AP$104,0)","v":{"$error":"#N/A"}},{"$f":"MATCH($CO$3,Millwall!$AB$104:$AP$104,0)","v":{"$error":"#N/A"}},{"$f":"MATCH($CP$3,Millwall!$AB$104:$AP$104,0)","v":{"$error":"#N/A"}},{"$f":"MATCH($CQ$3,Millwall!$AB$104:$AP$104,0)","v":{"$error":"#N/A"}},{"$f":"MATCH($CR$3,Millwall!$AB$104:$AP$104,0)","v":{"$error":"#N/A"}},{"$f":"MATCH($CS$3,Millwall!$AB$104:$AP$104,0)","v":{"$error":"#N/A"}},{"$f":"MATCH($CT$3,Millwall!$AB$104:$AP$104,0)","v":2},{"$f":"MATCH($CU$3,Millwall!$AB$104:$AP$104,0)","v":{"$error":"#N/A"}},{"$f":"MATCH($CV$3,Millwall!$AB$104:$AP$104,0)","v":{"$error":"#N/A"}},{"$f":"MATCH($CW$3,Millwall!$AB$104:$AP$104,0)","v":{"$error":"#N/A"}},{"$f":"MATCH($CX$3,Millwall!$AB$104:$AP$104,0)","v":{"$error":"#N/A"}},{"$f":"MATCH($CY$3,Millwall!$AB$104:$AP$104,0)","v":{"$error":"#N/A"}},{"$f":"MATCH($CZ$3,Millwall!$AB$104:$AP$104,0)","v":{"$error":"#N/A"}},{"$f":"MATCH($DA$3,Millwall!$AB$104:$AP$104,0)","v":{"$error":"#N/A"}},{"$f":"MATCH($DB$3,Millwall!$AB$104:$AP$104,0)","v":{"$error":"#N/A"}},{"$f":"MATCH($DC$3,Millwall!$AB$104:$AP$104,0)","v":{"$error":"#N/A"}},{"$f":"MATCH($DD$3,Millwall!$AB$104:$AP$104,0)","v":14},{"$f":"MATCH($DE$3,Millwall!$AB$104:$AP$104,0)","v":{"$error":"#N/A"}},{"$f":"MATCH($DF$3,Millwall!$AB$104:$AP$104,0)","v":{"$error":"#N/A"}},{"$f":"MATCH($DG$3,Millwall!$AB$104:$AP$104,0)","v":{"$error":"#N/A"}},{"$f":"MATCH($DH$3,Millwall!$AB$104:$AP$104,0)","v":{"$error":"#N/A"}},{"$f":"MATCH($DI$3,Millwall!$AB$104:$AP$104,0)","v":{"$error":"#N/A"}},{"$f":"MATCH($DJ$3,Millwall!$AB$104:$AP$104,0)","v":{"$error":"#N/A"}},{"$f":"MATCH($DK$3,Millwall!$AB$104:$AP$104,0)","v":{"$error":"#N/A"}},{"$f":"MATCH($DL$3,Millwall!$AB$104:$AP$104,0)","v":{"$error":"#N/A"}},{"$f":"MATCH($DM$3,Millwall!$AB$104:$AP$104,0)","v":{"$error":"#N/A"}},{"$f":"MATCH($DN$3,Millwall!$AB$104:$AP$104,0)","v":{"$error":"#N/A"}},{"$f":"MATCH($DO$3,Millwall!$AB$104:$AP$104,0)","v":{"$error":"#N/A"}},null,null,null,null,null,null,null,null,{"$f":"$DY$34&\" [**\"","v":"Verveer [**"},{"$f":"Millwall!$BP80","v":"Verveer"},"Verveer (**",{"$f":"$DY$34&\"**\"","v":"Verveer**"},null,{"$f":"$DY$34","v":"Verveer"},{"$f":"$DZ$34","v":"Verveer (**"},{"$f":"$EA$34","v":"Verveer**"},null,{"$f":"Millwall!$BX35","v":0},{"$f":"Millwall!$CC35","v":0},{"$f":"Millwall!$CH35","v":1},{"$f":"Millwall!$CM35","v":0}]
[null,null,0,31,null,{"$f":"Millwall!X105","v":"1993-02-20"},null,{"$f":"Millwall!Y105","v":"Barnsley"},{"$f":"Millwall!Z105","v":"(H)"},{"$f":"Millwall!AA105","v":"L 0-4"},{"$f":"MATCH($K$4,Millwall!$AB$105:$AP$105,0)","v":12},{"$f":"MATCH($L$4,Millwall!$AB$105:$AP$105,0)","v":{"$error":"#N/A"}},{"$f":"MATCH($M$4,Millwall!$AB$105:$AP$105,0)","v":11},{"$f":"MATCH($N$4,Millwall!$AB$105:$AP$105,0)","v":9},{"$f":"MATCH($O$4,Millwall!$AB$105:$AP$105,0)","v":{"$error":"#N/A"}},{"$f":"MATCH($P$4,Millwall!$AB$105:$AP$105,0)","v":5},{"$f":"MATCH($Q$4,Millwall!$AB$105:$AP$105,0)","v":{"$error":"#N/A"}},{"$f":"MATCH($R$4,Millwall!$AB$105:$AP$105,0)","v":{"$error":"#N/A"}},{"$f":"MATCH($S$4,Millwall!$AB$105:$AP$105,0)","v":3},{"$f":"MATCH($T$4,Millwall!$AB$105:$AP$105,0)","v":{"$error":"#N/A"}},{"$f":"MATCH($U$4,Millwall!$AB$105:$AP$105,0)","v":{"$error":"#N/A"}},{"$f":"MATCH($V$4,Millwall!$AB$105:$AP$105,0)","v":10},{"$f":"MATCH($W$4,Millwall!$AB$105:$AP$105,0)","v":{"$error":"#N/A"}},{"$f":"MATCH($X$4,Millwall!$AB$105:$AP$105,0)","v":1},{"$f":"MATCH($Y$4,Millwall!$AB$105:$AP$105,0)","v":{"$error":"#N/A"}},{"$f":"MATCH($Z$4,Millwall!$AB$105:$AP$105,0)","v":{"$error":"#N/A"}},{"$f":"MATCH($AA$4,Millwall!$AB$105:$AP$105,0)","v":{"$error":"#N/A"}},{"$f":"MATCH($AB$4,Millwall!$AB$105:$AP$105,0)","v":{"$error":"#N/A"}},{"$f":"MATCH($AC$4,Millwall!$AB$105:$AP$105,0)","v":4},{"$f":"MATCH($AD$4,Millwall!$AB$105:$AP$105,0)","v":{"$error":"#N/A"}},{"$f":"MATCH($AE$4,Millwall!$AB$105:$AP$105,0)","v":{"$error":"#N/A"}},{"$f":"MATCH($AF$4,Millwall!$AB$105:$AP$105,0)","v":{"$error":"#N/A"}},{"$f":"MATCH($AG$4,Millwall!$AB$105:$AP$105,0)","v":2},{"$f":"MATCH($AH$4,Millwall!$AB$105:$AP$105,0)","v":8},{"$f":"MATCH($AI$4,Millwall!$AB$105:$AP$105,0)","v":{"$error":"#N/A"}},{"$f":"MATCH($AJ$4,Millwall!$AB$105:$AP$105,0)","v":7},{"$f":"MATCH($AK$4,Millwall!$AB$105:$AP$105,0)","v":{"$error":"#N/A"}},{"$f":"MATCH($AL$4,Millwall!$AB$105:$AP$105,0)","v":14},{"$f":"MATCH($AM$4,Millwall!$AB$105:$AP$105,0)","v":6},{"$f":"MATCH($AN$4,Millwall!$AB$105:$AP$105,0)","v":{"$error":"#N/A"}},{"$f":"MATCH($AO$4,Millwall!$AB$105:$AP$105,0)","v":{"$error":"#N/A"}},{"$f":"MATCH($AP$4,Millwall!$AB$105:$AP$105,0)","v":{"$error":"#N/A"}},{"$f":"MATCH($AQ$4,Millwall!$AB$105:$AP$105,0)","v":{"$error":"#N/A"}},{"$f":"MATCH($AR$4,Millwall!$AE$105:$AP$105,0)","v":{"$error":"#N/A"}},null,null,null,null,null,{"$f":"MATCH(AX$3,Millwall!$AB105:$AP105,0)","v":12},{"$f":"MATCH(AY$3,Millwall!$AB105:$AP105,0)","v":{"$error":"#N/A"}},{"$f":"MATCH(AZ$3,Millwall!$AB105:$AP105,0)","v":{"$error":"#N/A"}},{"$f":"MATCH(BA$3,Millwall!$AB105:$AP105,0)","v":{"$error":"#N/A"}},{"$f":"MATCH(BB$3,Millwall!$AB105:$AP105,0)","v":{"$error":"#N/A"}},{"$f":"MATCH(BC$3,Millwall!$AB105:$AP105,0)","v":{"$error":"#N/A"}},{"$f":"MATCH(BD$3,Millwall!$AB105:$AP105,0)","v":{"$error":"#N/A"}},{"$f":"MATCH(BE$3,Millwall!$AB105:$AP105,0)","v":{"$error":"#N/A"}},{"$f":"MATCH(BF$3,Millwall!$AB105:$AP105,0)","v":{"$error":"#N/A"}},{"$f":"MATCH(BG$3,Millwall!$AB105:$AP105,0)","v":{"$error":"#N/A"}},{"$f":"MATCH(BH$3,Millwall!$AB105:$AP105,0)","v":{"$error":"#N/A"}},{"$f":"MATCH(BI$3,Millwall!$AB105:$AP105,0)","v":10},{"$f":"MATCH(BJ$3,Millwall!$AB105:$AP105,0)","v":{"$error":"#N/A"}},{"$f":"MATCH(BK$3,Millwall!$AB105:$AP105,0)","v":{"$error":"#N/A"}},{"$f":"MATCH(BL$3,Millwall!$AB105:$AP105,0)","v":{"$error":"#N/A"}},{"$f":"MATCH(BM$3,Millwall!$AB105:$AP105,0)","v":{"$error":"#N/A"}},{"$f":"MATCH(BN$3,Millwall!$AB105:$AP105,0)","v":{"$error":"#N/A"}},{"$f":"MATCH(BO$3,Millwall!$AB105:$AP105,0)","v":{"$error":"#N/A"}},{"$f":"MATCH(BP$3,Millwall!$AB105:$AP105,0)","v":{"$error":"#N/A"}},{"$f":"MATCH(BQ$3,Millwall!$AB105:$AP105,0)","v":{"$error":"#N/A"}},{"$f":"MATCH(BR$3,Millwall!$AB105:$AP105,0)","v":{"$error":"#N/A"}},{"$f":"MATCH(BS$3,Millwall!$AB105:$AP105,0)","v":{"$error":"#N/A"}},{"$f":"MATCH(BT$3,Millwall!$AB105:$AP105,0)","v":{"$error":"#N/A"}},{"$f":"MATCH(BU$3,Millwall!$AB105:$AP105,0)","v":{"$error":"#N/A"}},{"$f":"MATCH(BV$3,Millwall!$AB105:$AP105,0)","v":{"$error":"#N/A"}},{"$f":"MATCH(BW$3,Millwall!$AB105:$AP105,0)","v":{"$error":"#N/A"}},{"$f":"MATCH(BX$3,Millwall!$AB105:$AP105,0)","v":{"$error":"#N/A"}},{"$f":"MATCH(BY$3,Millwall!$AB105:$AP105,0)","v":{"$error":"#N/A"}},{"$f":"MATCH(BZ$3,Millwall!$AB105:$AP105,0)","v":{"$error":"#N/A"}},{"$f":"MATCH(CA$3,Millwall!$AB105:$AP105,0)","v":{"$error":"#N/A"}},{"$f":"MATCH(CB$3,Millwall!$AB105:$AP105,0)","v":{"$error":"#N/A"}},{"$f":"MATCH(CC$3,Millwall!$AB105:$AP105,0)","v":{"$error":"#N/A"}},{"$f":"MATCH(CD$3,Millwall!$AB105:$AP105,0)","v":{"$error":"#N/A"}},{"$f":"MATCH(CE$3,Millwall!$AB105:$AP105,0)","v":{"$error":"#N/A"}},null,null,{"$f":"MATCH($CH$3,Millwall!$AB$105:$AP$105,0)","v":{"$error":"#N/A"}},{"$f":"MATCH($CI$3,Millwall!$AB$105:$AP$105,0)","v":{"$error":"#N/A"}},{"$f":"MATCH($CJ$3,Millwall!$AB$105:$AP$105,0)","v":{"$error":"#N/A"}},{"$f":"MATCH($CK$3,Millwall!$AB$105:$AP$105,0)","v":{"$error":"#N/A"}},{"$f":"MATCH($CL$3,Millwall!$AB$105:$AP$105,0)","v":{"$error":"#N/A"}},{"$f":"MATCH($CM$3,Millwall!$AB$105:$AP$105,0)","v":{"$error":"#N/A"}},{"$f":"MATCH($CN$3,Millwall!$AB$105:$AP$105,0)","v":{"$error":"#N/A"}},{"$f":"MATCH($CO$3,Millwall!$AB$105:$AP$105,0)","v":{"$error":"#N/A"}},{"$f":"MATCH($CP$3,Millwall!$AB$105:$AP$105,0)","v":{"$error":"#N/A"}},{"$f":"MATCH($CQ$3,Millwall!$AB$105:$AP$105,0)","v":{"$error":"#N/A"}},{"$f":"MATCH($CR$3,Millwall!$AB$105:$AP$105,0)","v":{"$error":"#N/A"}},{"$f":"MATCH($CS$3,Millwall!$AB$105:$AP$105,0)","v":{"$error":"#N/A"}},{"$f":"MATCH($CT$3,Millwall!$AB$105:$AP$105,0)","v":{"$error":"#N/A"}},{"$f":"MATCH($CU$3,Millwall!$AB$105:$AP$105,0)","v":{"$error":"#N/A"}},{"$f":"MATCH($CV$3,Millwall!$AB$105:$AP$105,0)","v":{"$error":"#N/A"}},{"$f":"MATCH($CW$3,Millwall!$AB$105:$AP$105,0)","v":{"$error":"#N/A"}},{"$f":"MATCH($CX$3,Millwall!$AB$105:$AP$105,0)","v":{"$error":"#N/A"}},{"$f":"MATCH($CY$3,Millwall!$AB$105:$AP$105,0)","v":{"$error":"#N/A"}},{"$f":"MATCH($CZ$3,Millwall!$AB$105:$AP$105,0)","v":{"$error":"#N/A"}},{"$f":"MATCH($DA$3,Millwall!$AB$105:$AP$105,0)","v":{"$error":"#N/A"}},{"$f":"MATCH($DB$3,Millwall!$AB$105:$AP$105,0)","v":{"$error":"#N/A"}},{"$f":"MATCH($DC$3,Millwall!$AB$105:$AP$105,0)","v":{"$error":"#N/A"}},{"$f":"MATCH($DD$3,Millwall!$AB$105:$AP$105,0)","v":2},{"$f":"MATCH($DE$3,Millwall!$AB$105:$AP$105,0)","v":{"$error":"#N/A"}},{"$f":"MATCH($DF$3,Millwall!$AB$105:$AP$105,0)","v":{"$error":"#N/A"}},{"$f":"MATCH($DG$3,Millwall!$AB$105:$AP$105,0)","v":{"$error":"#N/A"}},{"$f":"MATCH($DH$3,Millwall!$AB$105:$AP$105,0)","v":{"$error":"#N/A"}},{"$f":"MATCH($DI$3,Millwall!$AB$105:$AP$105,0)","v":14},{"$f":"MATCH($DJ$3,Millwall!$AB$105:$AP$105,0)","v":{"$error":"#N/A"}},{"$f":"MATCH($DK$3,Millwall!$AB$105:$AP$105,0)","v":{"$error":"#N/A"}},{"$f":"MATCH($DL$3,Millwall!$AB$105:$AP$105,0)","v":{"$error":"#N/A"}},{"$f":"MATCH($DM$3,Millwall!$AB$105:$AP$105,0)","v":{"$error":"#N/A"}},{"$f":"MATCH($DN$3,Millwall!$AB$105:$AP$105,0)","v":{"$error":"#N/A"}},{"$f":"MATCH($DO$3,Millwall!$AB$105:$AP$105,0)","v":{"$error":"#N/A"}},null,null,null,null,null,null,null,null,{"$f":"$DY$35&\" [**\"","v":"Wallace [**"},{"$f":"Millwall!$BP81","v":"Wallace"},"Wallace (**",{"$f":"$DY$35&\"**\"","v":"Wallace**"},null,{"$f":"$DY$35","v":"Wallace"},{"$f":"$DZ$35","v":"Wallace (**"},{"$f":"$EA$35","v":"Wallace**"},null,{"$f":"Millwall!$BX36","v":0},{"$f":"Millwall!$CC36","v":0},{"$f":"Millwall!$CH36","v":0},{"$f":"Millwall!$CM36","v":0}]
[null,null,0,32,null,{"$f":"Millwall!X106","v":"1993-02-27"},null,{"$f":"Millwall!Y106","v":"Cambridge"},{"$f":"Millwall!Z106","v":"(A)"},{"$f":"Millwall!AA106","v":"D 1-1"},{"$f":"MATCH($K$4,Millwall!$AB$106:$AP$106,0)","v":8},{"$f":"MATCH($L$4,Millwall!$AB$106:$AP$106,0)","v":{"$error":"#N/A"}},{"$f":"MATCH($M$4,Millwall!$AB$106:$AP$106,0)","v":11},{"$f":"MATCH($N$4,Millwall!$AB$106:$AP$106,0)","v":9},{"$f":"MATCH($O$4,Millwall!$AB$106:$AP$106,0)","v":10},{"$f":"MATCH($P$4,Millwall!$AB$106:$AP$106,0)","v":5},{"$f":"MATCH($Q$4,Millwall!$AB$106:$AP$106,0)","v":2},{"$f":"MATCH($R$4,Millwall!$AB$106:$AP$106,0)","v":{"$error":"#N/A"}},{"$f":"MATCH($S$4,Millwall!$AB$106:$AP$106,0)","v":3},{"$f":"MATCH($T$4,Millwall!$AB$106:$AP$106,0)","v":{"$error":"#N/A"}},{"$f":"MATCH($U$4,Millwall!$AB$106:$AP$106,0)","v":{"$error":"#N/A"}},{"$f":"MATCH($V$4,Millwall!$AB$106:$AP$106,0)","v":{"$error":"#N/A"}},{"$f":"MATCH($W$4,Millwall!$AB$106:$AP$106,0)","v":{"$error":"#N/A"}},{"$f":"MATCH($X$4,Millwall!$AB$106:$AP$106,0)","v":1},{"$f":"MATCH($Y$4,Millwall!$AB$106:$AP$106,0)","v":{"$error":"#N/A"}},{"$f":"MATCH($Z$4,Millwall!$AB$106:$AP$106,0)","v":{"$error":"#N/A"}},{"$f":"MATCH($AA$4,Millwall!$AB$106:$AP$106,0)","v":{"$error":"#N/A"}},{"$f":"MATCH($AB$4,Millwall!$AB$106:$AP$106,0)","v":{"$error":"#N/A"}},{"$f":"MATCH($AC$4,Millwall!$AB$106:$AP$106,0)","v":4},{"$f":"MATCH($AD$4,Millwall!$AB$106:$AP$106,0)","v":{"$error":"#N/A"}},{"$f":"MATCH($AE$4,Millwall!$AB$106:$AP$106,0)","v":{"$error":"#N/A"}},{"$f":"MATCH($AF$4,Millwall!$AB$106:$AP$106,0)","v":{"$error":"#N/A"}},{"$f":"MATCH($AG$4,Millwall!$AB$106:$AP$106,0)","v":{"$error":"#N/A"}},{"$f":"MATCH($AH$4,Millwall!$AB$106:$AP$106,0)","v":12},{"$f":"MATCH($AI$4,Millwall!$AB$106:$AP$106,0)","v":{"$error":"#N/A"}},{"$f":"MATCH($AJ$4,Millwall!$AB$106:$AP$106,0)","v":7},{"$f":"MATCH($AK$4,Millwall!$AB$106:$AP$106,0)","v":{"$error":"#N/A"}},{"$f":"MATCH($AL$4,Millwall!$AB$106:$AP$106,0)","v":14},{"$f":"MATCH($AM$4,Millwall!$AB$106:$AP$106,0)","v":6},{"$f":"MATCH($AN$4,Millwall!$AB$106:$AP$106,0)","v":{"$error":"#N/A"}},{"$f":"MATCH($AO$4,Millwall!$AB$106:$AP$106,0)","v":{"$error":"#N/A"}},{"$f":"MATCH($AP$4,Millwall!$AB$106:$AP$106,0)","v":{"$error":"#N/A"}},{"$f":"MATCH($AQ$4,Millwall!$AB$106:$AP$106,0)","v":{"$error":"#N/A"}},{"$f":"MATCH($AR$4,Millwall!$AE$106:$AP$106,0)","v":{"$error":"#N/A"}},null,null,null,null,null,{"$f":"MATCH(AX$3,Millwall!$AB106:$AP106,0)","v":{"$error":"#N/A"}},{"$f":"MATCH(AY$3,Millwall!$AB106:$AP106,0)","v":{"$error":"#N/A"}},{"$f":"MATCH(AZ$3,Millwall!$AB106:$AP106,0)","v":11},{"$f":"MATCH(BA$3,Millwall!$AB106:$AP106,0)","v":{"$error":"#N/A"}},{"$f":"MATCH(BB$3,Millwall!$AB106:$AP106,0)","v":{"$error":"#N/A"}},{"$f":"MATCH(BC$3,Millwall!$AB106:$AP106,0)","v":{"$error":"#N/A"}},{"$f":"MATCH(BD$3,Millwall!$AB106:$AP106,0)","v":{"$error":"#N/A"}},{"$f":"MATCH(BE$3,Millwall!$AB106:$AP106,0)","v":{"$error":"#N/A"}},{"$f":"MATCH(BF$3,Millwall!$AB106:$AP106,0)","v":{"$error":"#N/A"}},{"$f":"MATCH(BG$3,Millwall!$AB106:$AP106,0)","v":{"$error":"#N/A"}},{"$f":"MATCH(BH$3,Millwall!$AB106:$AP106,0)","v":{"$error":"#N/A"}},{"$f":"MATCH(BI$3,Millwall!$AB106:$AP106,0)","v":{"$error":"#N/A"}},{"$f":"MATCH(BJ$3,Millwall!$AB106:$AP106,0)","v":{"$error":"#N/A"}},{"$f":"MATCH(BK$3,Millwall!$AB106:$AP106,0)","v":{"$error":"#N/A"}},{"$f":"MATCH(BL$3,Millwall!$AB106:$AP106,0)","v":{"$error":"#N/A"}},{"$f":"MATCH(BM$3,Millwall!$AB106:$AP106,0)","v":{"$error":"#N/A"}},{"$f":"MATCH(BN$3,Millwall!$AB106:$AP106,0)","v":{"$error":"#N/A"}},{"$f":"MATCH(BO$3,Millwall!$AB106:$AP106,0)","v":{"$error":"#N/A"}},{"$f":"MATCH(BP$3,Millwall!$AB106:$AP106,0)","v":{"$error":"#N/A"}},{"$f":"MATCH(BQ$3,Millwall!$AB106:$AP106,0)","v":{"$error":"#N/A"}},{"$f":"MATCH(BR$3,Millwall!$AB106:$AP106,0)","v":{"$error":"#N/A"}},{"$f":"MATCH(BS$3,Millwall!$AB106:$AP106,0)","v":{"$error":"#N/A"}},{"$f":"MATCH(BT$3,Millwall!$AB106:$AP106,0)","v":{"$error":"#N/A"}},{"$f":"MATCH(BU$3,Millwall!$AB106:$AP106,0)","v":12},{"$f":"MATCH(BV$3,Millwall!$AB106:$AP106,0)","v":{"$error":"#N/A"}},{"$f":"MATCH(BW$3,Millwall!$AB106:$AP106,0)","v":{"$error":"#N/A"}},{"$f":"MATCH(BX$3,Millwall!$AB106:$AP106,0)","v":{"$error":"#N/A"}},{"$f":"MATCH(BY$3,Millwall!$AB106:$AP106,0)","v":{"$error":"#N/A"}},{"$f":"MATCH(BZ$3,Millwall!$AB106:$AP106,0)","v":{"$error":"#N/A"}},{"$f":"MATCH(CA$3,Millwall!$AB106:$AP106,0)","v":{"$error":"#N/A"}},{"$f":"MATCH(CB$3,Millwall!$AB106:$AP106,0)","v":{"$error":"#N/A"}},{"$f":"MATCH(CC$3,Millwall!$AB106:$AP106,0)","v":{"$error":"#N/A"}},{"$f":"MATCH(CD$3,Millwall!$AB106:$AP106,0)","v":{"$error":"#N/A"}},{"$f":"MATCH(CE$3,Millwall!$AB106:$AP106,0)","v":{"$error":"#N/A"}},null,null,{"$f":"MATCH($CH$3,Millwall!$AB$106:$AP$106,0)","v":{"$error":"#N/A"}},{"$f":"MATCH($CI$3,Millwall!$AB$106:$AP$106,0)","v":{"$error":"#N/A"}},{"$f":"MATCH($CJ$3,Millwall!$AB$106:$AP$106,0)","v":{"$error":"#N/A"}},{"$f":"MATCH($CK$3,Millwall!$AB$106:$AP$106,0)","v":{"$error":"#N/A"}},{"$f":"MATCH($CL$3,Millwall!$AB$106:$AP$106,0)","v":10},{"$f":"MATCH($CM$3,Millwall!$AB$106:$AP$106,0)","v":{"$error":"#N/A"}},{"$f":"MATCH($CN$3,Millwall!$AB$106:$AP$106,0)","v":{"$error":"#N/A"}},{"$f":"MATCH($CO$3,Millwall!$AB$106:$AP$106,0)","v":{"$error":"#N/A"}},{"$f":"MATCH($CP$3,Millwall!$AB$106:$AP$106,0)","v":{"$error":"#N/A"}},{"$f":"MATCH($CQ$3,Millwall!$AB$106:$AP$106,0)","v":{"$error":"#N/A"}},{"$f":"MATCH($CR$3,Millwall!$AB$106:$AP$106,0)","v":{"$error":"#N/A"}},{"$f":"MATCH($CS$3,Millwall!$AB$106:$AP$106,0)","v":{"$error":"#N/A"}},{"$f":"MATCH($CT$3,Millwall!$AB$106:$AP$106,0)","v":{"$error":"#N/A"}},{"$f":"MATCH($CU$3,Millwall!$AB$106:$AP$106,0)","v":{"$error":"#N/A"}},{"$f":"MATCH($CV$3,Millwall!$AB$106:$AP$106,0)","v":{"$error":"#N/A"}},{"$f":"MATCH($CW$3,Millwall!$AB$106:$AP$106,0)","v":{"$error":"#N/A"}},{"$f":"MATCH($CX$3,Millwall!$AB$106:$AP$106,0)","v":{"$error":"#N/A"}},{"$f":"MATCH($CY$3,Millwall!$AB$106:$AP$106,0)","v":{"$error":"#N/A"}},{"$f":"MATCH($CZ$3,Millwall!$AB$106:$AP$106,0)","v":{"$error":"#N/A"}},{"$f":"MATCH($DA$3,Millwall!$AB$106:$AP$106,0)","v":{"$error":"#N/A"}},{"$f":"MATCH($DB$3,Millwall!$AB$106:$AP$106,0)","v":{"$error":"#N/A"}},{"$f":"MATCH($DC$3,Millwall!$AB$106:$AP$106,0)","v":{"$error":"#N/A"}},{"$f":"MATCH($DD$3,Millwall!$AB$106:$AP$106,0)","v":{"$error":"#N/A"}},{"$f":"MATCH($DE$3,Millwall!$AB$106:$AP$106,0)","v":{"$error":"#N/A"}},{"$f":"MATCH($DF$3,Millwall!$AB$106:$AP$106,0)","v":{"$error":"#N/A"}},{"$f":"MATCH($DG$3,Millwall!$AB$106:$AP$106,0)","v":{"$error":"#N/A"}},{"$f":"MATCH($DH$3,Millwall!$AB$106:$AP$106,0)","v":{"$error":"#N/A"}},{"$f":"MATCH($DI$3,Millwall!$AB$106:$AP$106,0)","v":14},{"$f":"MATCH($DJ$3,Millwall!$AB$106:$AP$106,0)","v":{"$error":"#N/A"}},{"$f":"MATCH($DK$3,Millwall!$AB$106:$AP$106,0)","v":{"$error":"#N/A"}},{"$f":"MATCH($DL$3,Millwall!$AB$106:$AP$106,0)","v":{"$error":"#N/A"}},{"$f":"MATCH($DM$3,Millwall!$AB$106:$AP$106,0)","v":{"$error":"#N/A"}},{"$f":"MATCH($DN$3,Millwall!$AB$106:$AP$106,0)","v":{"$error":"#N/A"}},{"$f":"MATCH($DO$3,Millwall!$AB$106:$AP$106,0)","v":{"$error":"#N/A"}},null,null,null,null,null,null,null,null,{"$f":"$DY$36&\" [**\"","v":"0 [**"},{"$f":"Millwall!$BP82","v":0},"0 (**",{"$f":"$DY$36&\"**\"","v":"0**"},null,{"$f":"$DY$36","v":0},{"$f":"$DZ$36","v":"0 (**"},{"$f":"$EA$36","v":"0**"},null,{"$f":"Millwall!$BX37","v":0},{"$f":"Millwall!$CC37","v":0},{"$f":"Millwall!$CH37","v":0},{"$f":"Millwall!$CM37","v":0}]
[null,null,0,33,null,{"$f":"Millwall!X107","v":"1993-03-06"},null,{"$f":"Millwall!Y107","v":"Sunderland"},{"$f":"Millwall!Z107","v":"(H)"},{"$f":"Millwall!AA107","v":"D 0-0"},{"$f":"MATCH($K$4,Millwall!$AB$107:$AP$107,0)","v":8},{"$f":"MATCH($L$4,Millwall!$AB$107:$AP$107,0)","v":{"$error":"#N/A"}},{"$f":"MATCH($M$4,Millwall!$AB$107:$AP$107,0)","v":11},{"$f":"MATCH($N$4,Millwall!$AB$107:$AP$107,0)","v":9},{"$f":"MATCH($O$4,Millwall!$AB$107:$AP$107,0)","v":10},{"$f":"MATCH($P$4,Millwall!$AB$107:$AP$107,0)","v":5},{"$f":"MATCH($Q$4,Millwall!$AB$107:$AP$107,0)","v":2},{"$f":"MATCH($R$4,Millwall!$AB$107:$AP$107,0)","v":{"$error":"#N/A"}},{"$f":"MATCH($S$4,Millwall!$AB$107:$AP$107,0)","v":3},{"$f":"MATCH($T$4,Millwall!$AB$107:$AP$107,0)","v":{"$error":"#N/A"}},{"$f":"MATCH($U$4,Millwall!$AB$107:$AP$107,0)","v":{"$error":"#N/A"}},{"$f":"MATCH($V$4,Millwall!$AB$107:$AP$107,0)","v":{"$error":"#N/A"}},{"$f":"MATCH($W$4,Millwall!$AB$107:$AP$107,0)","v":{"$error":"#N/A"}},{"$f":"MATCH($X$4,Millwall!$AB$107:$AP$107,0)","v":1},{"$f":"MATCH($Y$4,Millwall!$AB$107:$AP$107,0)","v":{"$error":"#N/A"}},{"$f":"MATCH($Z$4,Millwall!$AB$107:$AP$107,0)","v":{"$error":"#N/A"}},{"$f":"MATCH($AA$4,Millwall!$AB$107:$AP$107,0)","v":{"$error":"#N/A"}},{"$f":"MATCH($AB$4,Millwall!$AB$107:$AP$107,0)","v":{"$error":"#N/A"}},{"$f":"MATCH($AC$4,Millwall!$AB$107:$AP$107,0)","v":4},{"$f":"MATCH($AD$4,Millwall!$AB$107:$AP$107,0)","v":{"$error":"#N/A"}},{"$f":"MATCH($AE$4,Millwall!$AB$107:$AP$107,0)","v":{"$error":"#N/A"}},{"$f":"MATCH($AF$4,Millwall!$AB$107:$AP$107,0)","v":{"$error":"#N/A"}},{"$f":"MATCH($AG$4,Millwall!$AB$107:$AP$107,0)","v":{"$error":"#N/A"}},{"$f":"MATCH($AH$4,Millwall!$AB$107:$AP$107,0)","v":12},{"$f":"MATCH($AI$4,Millwall!$AB$107:$AP$107,0)","v":14},{"$f":"MATCH($AJ$4,Millwall!$AB$107:$AP$107,0)","v":7},{"$f":"MATCH($AK$4,Millwall!$AB$107:$AP$107,0)","v":{"$error":"#N/A"}},{"$f":"MATCH($AL$4,Millwall!$AB$107:$AP$107,0)","v":{"$error":"#N/A"}},{"$f":"MATCH($AM$4,Millwall!$AB$107:$AP$107,0)","v":6},{"$f":"MATCH($AN$4,Millwall!$AB$107:$AP$107,0)","v":{"$error":"#N/A"}},{"$f":"MATCH($AO$4,Millwall!$AB$107:$AP$107,0)","v":{"$error":"#N/A"}},{"$f":"MATCH($AP$4,Millwall!$AB$107:$AP$107,0)","v":{"$error":"#N/A"}},{"$f":"MATCH($AQ$4,Millwall!$AB$107:$AP$107,0)","v":{"$error":"#N/A"}},{"$f":"MATCH($AR$4,Millwall!$AE$107:$AP$107,0)","v":{"$error":"#N/A"}},null,null,null,null,null,{"$f":"MATCH(AX$3,Millwall!$AB107:$AP107,0)","v":{"$error":"#N/A"}},{"$f":"MATCH(AY$3,Millwall!$AB107:$AP107,0)","v":{"$error":"#N/A"}},{"$f":"MATCH(AZ$3,Millwall!$AB107:$AP107,0)","v":{"$error":"#N/A"}},{"$f":"MATCH(BA$3,Millwall!$AB107:$AP107,0)","v":{"$error":"#N/A"}},{"$f":"MATCH(BB$3,Millwall!$AB107:$AP107,0)","v":{"$error":"#N/A"}},{"$f":"MATCH(BC$3,Millwall!$AB107:$AP107,0)","v":{"$error":"#N/A"}},{"$f":"MATCH(BD$3,Millwall!$AB107:$AP107,0)","v":{"$error":"#N/A"}},{"$f":"MATCH(BE$3,Millwall!$AB107:$AP107,0)","v":{"$error":"#N/A"}},{"$f":"MATCH(BF$3,Millwall!$AB107:$AP107,0)","v":{"$error":"#N/A"}},{"$f":"MATCH(BG$3,Millwall!$AB107:$AP107,0)","v":{"$error":"#N/A"}},{"$f":"MATCH(BH$3,Millwall!$AB107:$AP107,0)","v":{"$error":"#N/A"}},{"$f":"MATCH(BI$3,Millwall!$AB107:$AP107,0)","v":{"$error":"#N/A"}},{"$f":"MATCH(BJ$3,Millwall!$AB107:$AP107,0)","v":{"$error":"#N/A"}},{"$f":"MATCH(BK$3,Millwall!$AB107:$AP107,0)","v":{"$error":"#N/A"}},{"$f":"MATCH(BL$3,Millwall!$AB107:$AP107,0)","v":{"$error":"#N/A"}},{"$f":"MATCH(BM$3,Millwall!$AB107:$AP107,0)","v":{"$error":"#N/A"}},{"$f":"MATCH(BN$3,Millwall!$AB107:$AP107,0)","v":{"$error":"#N/A"}},{"$f":"MATCH(BO$3,Millwall!$AB107:$AP107,0)","v":{"$error":"#N/A"}},{"$f":"MATCH(BP$3,Millwall!$AB107:$AP107,0)","v":4},{"$f":"MATCH(BQ$3,Millwall!$AB107:$AP107,0)","v":{"$error":"#N/A"}},{"$f":"MATCH(BR$3,Millwall!$AB107:$AP107,0)","v":{"$error":"#N/A"}},{"$f":"MATCH(BS$3,Millwall!$AB107:$AP107,0)","v":{"$error":"#N/A"}},{"$f":"MATCH(BT$3,Millwall!$AB107:$AP107,0)","v":{"$error":"#N/A"}},{"$f":"MATCH(BU$3,Millwall!$AB107:$AP107,0)","v":12},{"$f":"MATCH(BV$3,Millwall!$AB107:$AP107,0)","v":{"$error":"#N/A"}},{"$f":"MATCH(BW$3,Millwall!$AB107:$AP107,0)","v":{"$error":"#N/A"}},{"$f":"MATCH(BX$3,Millwall!$AB107:$AP107,0)","v":{"$error":"#N/A"}},{"$f":"MATCH(BY$3,Millwall!$AB107:$AP107,0)","v":{"$error":"#N/A"}},{"$f":"MATCH(BZ$3,Millwall!$AB107:$AP107,0)","v":{"$error":"#N/A"}},{"$f":"MATCH(CA$3,Millwall!$AB107:$AP107,0)","v":{"$error":"#N/A"}},{"$f":"MATCH(CB$3,Millwall!$AB107:$AP107,0)","v":{"$error":"#N/A"}},{"$f":"MATCH(CC$3,Millwall!$AB107:$AP107,0)","v":{"$error":"#N/A"}},{"$f":"MATCH(CD$3,Millwall!$AB107:$AP107,0)","v":{"$error":"#N/A"}},{"$f":"MATCH(CE$3,Millwall!$AB107:$AP107,0)","v":{"$error":"#N/A"}},null,null,{"$f":"MATCH($CH$3,Millwall!$AB$107:$AP$107,0)","v":{"$error":"#N/A"}},{"$f":"MATCH($CI$3,Millwall!$AB$107:$AP$107,0)","v":{"$error":"#N/A"}},{"$f":"MATCH($CJ$3,Millwall!$AB$107:$AP$107,0)","v":{"$error":"#N/A"}},{"$f":"MATCH($CK$3,Millwall!$AB$107:$AP$107,0)","v":{"$error":"#N/A"}},{"$f":"MATCH($CL$3,Millwall!$AB$107:$AP$107,0)","v":{"$error":"#N/A"}},{"$f":"MATCH($CM$3,Millwall!$AB$107:$AP$107,0)","v":{"$error":"#N/A"}},{"$f":"MATCH($CN$3,Millwall!$AB$107:$AP$107,0)","v":{"$error":"#N/A"}},{"$f":"MATCH($CO$3,Millwall!$AB$107:$AP$107,0)","v":{"$error":"#N/A"}},{"$f":"MATCH($CP$3,Millwall!$AB$107:$AP$107,0)","v":{"$error":"#N/A"}},{"$f":"MATCH($CQ$3,Millwall!$AB$107:$AP$107,0)","v":{"$error":"#N/A"}},{"$f":"MATCH($CR$3,Millwall!$AB$107:$AP$107,0)","v":{"$error":"#N/A"}},{"$f":"MATCH($CS$3,Millwall!$AB$107:$AP$107,0)","v":{"$error":"#N/A"}},{"$f":"MATCH($CT$3,Millwall!$AB$107:$AP$107,0)","v":{"$error":"#N/A"}},{"$f":"MATCH($CU$3,Millwall!$AB$107:$AP$107,0)","v":{"$error":"#N/A"}},{"$f":"MATCH($CV$3,Millwall!$AB$107:$AP$107,0)","v":{"$error":"#N/A"}},{"$f":"MATCH($CW$3,Millwall!$AB$107:$AP$107,0)","v":{"$error":"#N/A"}},{"$f":"MATCH($CX$3,Millwall!$AB$107:$AP$107,0)","v":{"$error":"#N/A"}},{"$f":"MATCH($CY$3,Millwall!$AB$107:$AP$107,0)","v":{"$error":"#N/A"}},{"$f":"MATCH($CZ$3,Millwall!$AB$107:$AP$107,0)","v":{"$error":"#N/A"}},{"$f":"MATCH($DA$3,Millwall!$AB$107:$AP$107,0)","v":{"$error":"#N/A"}},{"$f":"MATCH($DB$3,Millwall!$AB$107:$AP$107,0)","v":{"$error":"#N/A"}},{"$f":"MATCH($DC$3,Millwall!$AB$107:$AP$107,0)","v":{"$error":"#N/A"}},{"$f":"MATCH($DD$3,Millwall!$AB$107:$AP$107,0)","v":{"$error":"#N/A"}},{"$f":"MATCH($DE$3,Millwall!$AB$107:$AP$107,0)","v":{"$error":"#N/A"}},{"$f":"MATCH($DF$3,Millwall!$AB$107:$AP$107,0)","v":14},{"$f":"MATCH($DG$3,Millwall!$AB$107:$AP$107,0)","v":7},{"$f":"MATCH($DH$3,Millwall!$AB$107:$AP$107,0)","v":{"$error":"#N/A"}},{"$f":"MATCH($DI$3,Millwall!$AB$107:$AP$107,0)","v":{"$error":"#N/A"}},{"$f":"MATCH($DJ$3,Millwall!$AB$107:$AP$107,0)","v":{"$error":"#N/A"}},{"$f":"MATCH($DK$3,Millwall!$AB$107:$AP$107,0)","v":{"$error":"#N/A"}},{"$f":"MATCH($DL$3,Millwall!$AB$107:$AP$107,0)","v":{"$error":"#N/A"}},{"$f":"MATCH($DM$3,Millwall!$AB$107:$AP$107,0)","v":{"$error":"#N/A"}},{"$f":"MATCH($DN$3,Millwall!$AB$107:$AP$107,0)","v":{"$error":"#N/A"}},{"$f":"MATCH($DO$3,Millwall!$AB$107:$AP$107,0)","v":{"$error":"#N/A"}},null,null,null,null,null,null,null,null,{"$f":"$DY$37&\" [**\"","v":"0 [**"},{"$f":"Millwall!$BP83","v":0},"0 (**",{"$f":"$DY$37&\"**\"","v":"0**"},null,{"$f":"$DY$37","v":0},{"$f":"$DZ$37","v":"0 (**"},{"$f":"$EA$37","v":"0**"},null,{"$f":"Millwall!$BX38","v":0},{"$f":"Millwall!$CC38","v":0},{"$f":"Millwall!$CH38","v":0},{"$f":"Millwall!$CM38","v":0}]
[null,null,0,34,null,{"$f":"Millwall!X108","v":"1993-03-09"},null,{"$f":"Millwall!Y108","v":"Bristol C"},{"$f":"Millwall!Z108","v":"(A)"},{"$f":"Millwall!AA108","v":"W 1-0"},{"$f":"MATCH($K$4,Millwall!$AB$108:$AP$108,0)","v":8},{"$f":"MATCH($L$4,Millwall!$AB$108:$AP$108,0)","v":{"$error":"#N/A"}},{"$f":"MATCH($M$4,Millwall!$AB$108:$AP$108,0)","v":11},{"$f":"MATCH($N$4,Millwall!$AB$108:$AP$108,0)","v":9},{"$f":"MATCH($O$4,Millwall!$AB$108:$AP$108,0)","v":10},{"$f":"MATCH($P$4,Millwall!$AB$108:$AP$108,0)","v":5},{"$f":"MATCH($Q$4,Millwall!$AB$108:$AP$108,0)","v":2},{"$f":"MATCH($R$4,Millwall!$AB$108:$AP$108,0)","v":{"$error":"#N/A"}},{"$f":"MATCH($S$4,Millwall!$AB$108:$AP$108,0)","v":3},{"$f":"MATCH($T$4,Millwall!$AB$108:$AP$108,0)","v":14},{"$f":"MATCH($U$4,Millwall!$AB$108:$AP$108,0)","v":{"$error":"#N/A"}},{"$f":"MATCH($V$4,Millwall!$AB$108:$AP$108,0)","v":{"$error":"#N/A"}},{"$f":"MATCH($W$4,Millwall!$AB$108:$AP$108,0)","v":{"$error":"#N/A"}},{"$f":"MATCH($X$4,Millwall!$AB$108:$AP$108,0)","v":1},{"$f":"MATCH($Y$4,Millwall!$AB$108:$AP$108,0)","v":{"$error":"#N/A"}},{"$f":"MATCH($Z$4,Millwall!$AB$108:$AP$108,0)","v":{"$error":"#N/A"}},{"$f":"MATCH($AA$4,Millwall!$AB$108:$AP$108,0)","v":{"$error":"#N/A"}},{"$f":"MATCH($AB$4,Millwall!$AB$108:$AP$108,0)","v":{"$error":"#N/A"}},{"$f":"MATCH($AC$4,Millwall!$AB$108:$AP$108,0)","v":{"$error":"#N/A"}},{"$f":"MATCH($AD$4,Millwall!$AB$108:$AP$108,0)","v":{"$error":"#N/A"}},{"$f":"MATCH($AE$4,Millwall!$AB$108:$AP$108,0)","v":{"$error":"#N/A"}},{"$f":"MATCH($AF$4,Millwall!$AB$108:$AP$108,0)","v":{"$error":"#N/A"}},{"$f":"MATCH($AG$4,Millwall!$AB$108:$AP$108,0)","v":{"$error":"#N/A"}},{"$f":"MATCH($AH$4,Millwall!$AB$108:$AP$108,0)","v":12},{"$f":"MATCH($AI$4,Millwall!$AB$108:$AP$108,0)","v":4},{"$f":"MATCH($AJ$4,Millwall!$AB$108:$AP$108,0)","v":7},{"$f":"MATCH($AK$4,Millwall!$AB$108:$AP$108,0)","v":{"$error":"#N/A"}},{"$f":"MATCH($AL$4,Millwall!$AB$108:$AP$108,0)","v":{"$error":"#N/A"}},{"$f":"MATCH($AM$4,Millwall!$AB$108:$AP$108,0)","v":6},{"$f":"MATCH($AN$4,Millwall!$AB$108:$AP$108,0)","v":{"$error":"#N/A"}},{"$f":"MATCH($AO$4,Millwall!$AB$108:$AP$108,0)","v":{"$error":"#N/A"}},{"$f":"MATCH($AP$4,Millwall!$AB$108:$AP$108,0)","v":{"$error":"#N/A"}},{"$f":"MATCH($AQ$4,Millwall!$AB$108:$AP$108,0)","v":{"$error":"#N/A"}},{"$f":"MATCH($AR$4,Millwall!$AE$108:$AP$108,0)","v":{"$error":"#N/A"}},null,null,null,null,null,{"$f":"MATCH(AX$3,Millwall!$AB108:$AP108,0)","v":{"$error":"#N/A"}},{"$f":"MATCH(AY$3,Millwall!$AB108:$AP108,0)","v":{"$error":"#N/A"}},{"$f":"MATCH(AZ$3,Millwall!$AB108:$AP108,0)","v":{"$error":"#N/A"}},{"$f":"MATCH(BA$3,Millwall!$AB108:$AP108,0)","v":{"$error":"#N/A"}},{"$f":"MATCH(BB$3,Millwall!$AB108:$AP108,0)","v":10},{"$f":"MATCH(BC$3,Millwall!$AB108:$AP108,0)","v":{"$error":"#N/A"}},{"$f":"MATCH(BD$3,Millwall!$AB108:$AP108,0)","v":{"$error":"#N/A"}},{"$f":"MATCH(BE$3,Millwall!$AB108:$AP108,0)","v":{"$error":"#N/A"}},{"$f":"MATCH(BF$3,Millwall!$AB108:$AP108,0)","v":{"$error":"#N/A"}},{"$f":"MATCH(BG$3,Millwall!$AB108:$AP108,0)","v":{"$error":"#N/A"}},{"$f":"MATCH(BH$3,Millwall!$AB108:$AP108,0)","v":{"$error":"#N/A"}},{"$f":"MATCH(BI$3,Millwall!$AB108:$AP108,0)","v":{"$error":"#N/A"}},{"$f":"MATCH(BJ$3,Millwall!$AB108:$AP108,0)","v":{"$error":"#N/A"}},{"$f":"MATCH(BK$3,Millwall!$AB108:$AP108,0)","v":{"$error":"#N/A"}},{"$f":"MATCH(BL$3,Millwall!$AB108:$AP108,0)","v":{"$error":"#N/A"}},{"$f":"MATCH(BM$3,Millwall!$AB108:$AP108,0)","v":{"$error":"#N/A"}},{"$f":"MATCH(BN$3,Millwall!$AB108:$AP108,0)","v":{"$error":"#N/A"}},{"$f":"MATCH(BO$3,Millwall!$AB108:$AP108,0)","v":{"$error":"#N/A"}},{"$f":"MATCH(BP$3,Millwall!$AB108:$AP108,0)","v":{"$error":"#N/A"}},{"$f":"MATCH(BQ$3,Millwall!$AB108:$AP108,0)","v":{"$error":"#N/A"}},{"$f":"MATCH(BR$3,Millwall!$AB108:$AP108,0)","v":{"$error":"#N/A"}},{"$f":"MATCH(BS$3,Millwall!$AB108:$AP108,0)","v":{"$error":"#N/A"}},{"$f":"MATCH(BT$3,Millwall!$AB108:$AP108,0)","v":{"$error":"#N/A"}},{"$f":"MATCH(BU$3,Millwall!$AB108:$AP108,0)","v":12},{"$f":"MATCH(BV$3,Millwall!$AB108:$AP108,0)","v":{"$error":"#N/A"}},{"$f":"MATCH(BW$3,Millwall!$AB108:$AP108,0)","v":{"$error":"#N/A"}},{"$f":"MATCH(BX$3,Millwall!$AB108:$AP108,0)","v":{"$error":"#N/A"}},{"$f":"MATCH(BY$3,Millwall!$AB108:$AP108,0)","v":{"$error":"#N/A"}},{"$f":"MATCH(BZ$3,Millwall!$AB108:$AP108,0)","v":{"$error":"#N/A"}},{"$f":"MATCH(CA$3,Millwall!$AB108:$AP108,0)","v":{"$error":"#N/A"}},{"$f":"MATCH(CB$3,Millwall!$AB108:$AP108,0)","v":{"$error":"#N/A"}},{"$f":"MATCH(CC$3,Millwall!$AB108:$AP108,0)","v":{"$error":"#N/A"}},{"$f":"MATCH(CD$3,Millwall!$AB108:$AP108,0)","v":{"$error":"#N/A"}},{"$f":"MATCH(CE$3,Millwall!$AB108:$AP108,0)","v":{"$error":"#N/A"}},null,null,{"$f":"MATCH($CH$3,Millwall!$AB$108:$AP$108,0)","v":{"$error":"#N/A"}},{"$f":"MATCH($CI$3,Millwall!$AB$108:$AP$108,0)","v":{"$error":"#N/A"}},{"$f":"MATCH($CJ$3,Millwall!$AB$108:$AP$108,0)","v":{"$error":"#N/A"}},{"$f":"MATCH($CK$3,Millwall!$AB$108:$AP$108,0)","v":9},{"$f":"MATCH($CL$3,Millwall!$AB$108:$AP$108,0)","v":{"$error":"#N/A"}},{"$f":"MATCH($CM$3,Millwall!$AB$108:$AP$108,0)","v":{"$error":"#N/A"}},{"$f":"MATCH($CN$3,Millwall!$AB$108:$AP$108,0)","v":{"$error":"#N/A"}},{"$f":"MATCH($CO$3,Millwall!$AB$108:$AP$108,0)","v":{"$error":"#N/A"}},{"$f":"MATCH($CP$3,Millwall!$AB$108:$AP$108,0)","v":{"$error":"#N/A"}},{"$f":"MATCH($CQ$3,Millwall!$AB$108:$AP$108,0)","v":14},{"$f":"MATCH($CR$3,Millwall!$AB$108:$AP$108,0)","v":{"$error":"#N/A"}},{"$f":"MATCH($CS$3,Millwall!$AB$108:$AP$108,0)","v":{"$error":"#N/A"}},{"$f":"MATCH($CT$3,Millwall!$AB$108:$AP$108,0)","v":{"$error":"#N/A"}},{"$f":"MATCH($CU$3,Millwall!$AB$108:$AP$108,0)","v":{"$error":"#N/A"}},{"$f":"MATCH($CV$3,Millwall!$AB$108:$AP$108,0)","v":{"$error":"#N/A"}},{"$f":"MATCH($CW$3,Millwall!$AB$108:$AP$108,0)","v":{"$error":"#N/A"}},{"$f":"MATCH($CX$3,Millwall!$AB$108:$AP$108,0)","v":{"$error":"#N/A"}},{"$f":"MATCH($CY$3,Millwall!$AB$108:$AP$108,0)","v":{"$error":"#N/A"}},{"$f":"MATCH($CZ$3,Millwall!$AB$108:$AP$108,0)","v":{"$error":"#N/A"}},{"$f":"MATCH($DA$3,Millwall!$AB$108:$AP$108,0)","v":{"$error":"#N/A"}},{"$f":"MATCH($DB$3,Millwall!$AB$108:$AP$108,0)","v":{"$error":"#N/A"}},{"$f":"MATCH($DC$3,Millwall!$AB$108:$AP$108,0)","v":{"$error":"#N/A"}},{"$f":"MATCH($DD$3,Millwall!$AB$108:$AP$108,0)","v":{"$error":"#N/A"}},{"$f":"MATCH($DE$3,Millwall!$AB$108:$AP$108,0)","v":{"$error":"#N/A"}},{"$f":"MATCH($DF$3,Millwall!$AB$108:$AP$108,0)","v":{"$error":"#N/A"}},{"$f":"MATCH($DG$3,Millwall!$AB$108:$AP$108,0)","v":{"$error":"#N/A"}},{"$f":"MATCH($DH$3,Millwall!$AB$108:$AP$108,0)","v":{"$error":"#N/A"}},{"$f":"MATCH($DI$3,Millwall!$AB$108:$AP$108,0)","v":{"$error":"#N/A"}},{"$f":"MATCH($DJ$3,Millwall!$AB$108:$AP$108,0)","v":{"$error":"#N/A"}},{"$f":"MATCH($DK$3,Millwall!$AB$108:$AP$108,0)","v":{"$error":"#N/A"}},{"$f":"MATCH($DL$3,Millwall!$AB$108:$AP$108,0)","v":{"$error":"#N/A"}},{"$f":"MATCH($DM$3,Millwall!$AB$108:$AP$108,0)","v":{"$error":"#N/A"}},{"$f":"MATCH($DN$3,Millwall!$AB$108:$AP$108,0)","v":{"$error":"#N/A"}},{"$f":"MATCH($DO$3,Millwall!$AB$108:$AP$108,0)","v":{"$error":"#N/A"}},null,null,null,null,null,null,null,null,{"$f":"$DY$38&\" [**\"","v":" [**"},null," (**",{"$f":"$DY$38&\"**\"","v":"**"},null,{"$f":"$DY$38","v":0},{"$f":"$DZ$38","v":" (**"},{"$f":"$EA$38","v":"**"},null,{"$f":"Millwall!$BX40","v":0},{"$f":"Millwall!$CC40","v":0},{"$f":"Millwall!$CH40","v":0},{"$f":"Millwall!$CM40","v":0}]
[null,null,0,35,null,{"$f":"Millwall!X109","v":"1993-03-13"},null,{"$f":"Millwall!Y109","v":"Derby"},{"$f":"Millwall!Z109","v":"(H)"},{"$f":"Millwall!AA109","v":"W 1-0"},{"$f":"MATCH($K$4,Millwall!$AB$109:$AP$109,0)","v":8},{"$f":"MATCH($L$4,Millwall!$AB$109:$AP$109,0)","v":{"$error":"#N/A"}},{"$f":"MATCH($M$4,Millwall!$AB$109:$AP$109,0)","v":11},{"$f":"MATCH($N$4,Millwall!$AB$109:$AP$109,0)","v":9},{"$f":"MATCH($O$4,Millwall!$AB$109:$AP$109,0)","v":10},{"$f":"MATCH($P$4,Millwall!$AB$109:$AP$109,0)","v":5},{"$f":"MATCH($Q$4,Millwall!$AB$109:$AP$109,0)","v":2},{"$f":"MATCH($R$4,Millwall!$AB$109:$AP$109,0)","v":{"$error":"#N/A"}},{"$f":"MATCH($S$4,Millwall!$AB$109:$AP$109,0)","v":3},{"$f":"MATCH($T$4,Millwall!$AB$109:$AP$109,0)","v":{"$error":"#N/A"}},{"$f":"MATCH($U$4,Millwall!$AB$109:$AP$109,0)","v":{"$error":"#N/A"}},{"$f":"MATCH($V$4,Millwall!$AB$109:$AP$109,0)","v":{"$error":"#N/A"}},{"$f":"MATCH($W$4,Millwall!$AB$109:$AP$109,0)","v":{"$error":"#N/A"}},{"$f":"MATCH($X$4,Millwall!$AB$109:$AP$109,0)","v":1},{"$f":"MATCH($Y$4,Millwall!$AB$109:$AP$109,0)","v":{"$error":"#N/A"}},{"$f":"MATCH($Z$4,Millwall!$AB$109:$AP$109,0)","v":{"$error":"#N/A"}},{"$f":"MATCH($AA$4,Millwall!$AB$109:$AP$109,0)","v":{"$error":"#N/A"}},{"$f":"MATCH($AB$4,Millwall!$AB$109:$AP$109,0)","v":{"$error":"#N/A"}},{"$f":"MATCH($AC$4,Millwall!$AB$109:$AP$109,0)","v":4},{"$f":"MATCH($AD$4,Millwall!$AB$109:$AP$109,0)","v":{"$error":"#N/A"}},{"$f":"MATCH($AE$4,Millwall!$AB$109:$AP$109,0)","v":{"$error":"#N/A"}},{"$f":"MATCH($AF$4,Millwall!$AB$109:$AP$109,0)","v":{"$error":"#N/A"}},{"$f":"MATCH($AG$4,Millwall!$AB$109:$AP$109,0)","v":{"$error":"#N/A"}},{"$f":"MATCH($AH$4,Millwall!$AB$109:$AP$109,0)","v":12},{"$f":"MATCH($AI$4,Millwall!$AB$109:$AP$109,0)","v":7},{"$f":"MATCH($AJ$4,Millwall!$AB$109:$AP$109,0)","v":14},{"$f":"MATCH($AK$4,Millwall!$AB$109:$AP$109,0)","v":{"$error":"#N/A"}},{"$f":"MATCH($AL$4,Millwall!$AB$109:$AP$109,0)","v":{"$error":"#N/A"}},{"$f":"MATCH($AM$4,Millwall!$AB$109:$AP$109,0)","v":6},{"$f":"MATCH($AN$4,Millwall!$AB$109:$AP$109,0)","v":{"$error":"#N/A"}},{"$f":"MATCH($AO$4,Millwall!$AB$109:$AP$109,0)","v":{"$error":"#N/A"}},{"$f":"MATCH($AP$4,Millwall!$AB$109:$AP$109,0)","v":{"$error":"#N/A"}},{"$f":"MATCH($AQ$4,Millwall!$AB$109:$AP$109,0)","v":{"$error":"#N/A"}},{"$f":"MATCH($AR$4,Millwall!$AE$109:$AP$109,0)","v":{"$error":"#N/A"}},null,null,null,null,null,{"$f":"MATCH(AX$3,Millwall!$AB109:$AP109,0)","v":{"$error":"#N/A"}},{"$f":"MATCH(AY$3,Millwall!$AB109:$AP109,0)","v":{"$error":"#N/A"}},{"$f":"MATCH(AZ$3,Millwall!$AB109:$AP109,0)","v":{"$error":"#N/A"}},{"$f":"MATCH(BA$3,Millwall!$AB109:$AP109,0)","v":{"$error":"#N/A"}},{"$f":"MATCH(BB$3,Millwall!$AB109:$AP109,0)","v":10},{"$f":"MATCH(BC$3,Millwall!$AB109:$AP109,0)","v":{"$error":"#N/A"}},{"$f":"MATCH(BD$3,Millwall!$AB109:$AP109,0)","v":{"$error":"#N/A"}},{"$f":"MATCH(BE$3,Millwall!$AB109:$AP109,0)","v":{"$error":"#N/A"}},{"$f":"MATCH(BF$3,Millwall!$AB109:$AP109,0)","v":{"$error":"#N/A"}},{"$f":"MATCH(BG$3,Millwall!$AB109:$AP109,0)","v":{"$error":"#N/A"}},{"$f":"MATCH(BH$3,Millwall!$AB109:$AP109,0)","v":{"$error":"#N/A"}},{"$f":"MATCH(BI$3,Millwall!$AB109:$AP109,0)","v":{"$error":"#N/A"}},{"$f":"MATCH(BJ$3,Millwall!$AB109:$AP109,0)","v":{"$error":"#N/A"}},{"$f":"MATCH(BK$3,Millwall!$AB109:$AP109,0)","v":{"$error":"#N/A"}},{"$f":"MATCH(BL$3,Millwall!$AB109:$AP109,0)","v":{"$error":"#N/A"}},{"$f":"MATCH(BM$3,Millwall!$AB109:$AP109,0)","v":{"$error":"#N/A"}},{"$f":"MATCH(BN$3,Millwall!$AB109:$AP109,0)","v":{"$error":"#N/A"}},{"$f":"MATCH(BO$3,Millwall!$AB109:$AP109,0)","v":{"$error":"#N/A"}},{"$f":"MATCH(BP$3,Millwall!$AB109:$AP109,0)","v":{"$error":"#N/A"}},{"$f":"MATCH(BQ$3,Millwall!$AB109:$AP109,0)","v":{"$error":"#N/A"}},{"$f":"MATCH(BR$3,Millwall!$AB109:$AP109,0)","v":{"$error":"#N/A"}},{"$f":"MATCH(BS$3,Millwall!$AB109:$AP109,0)","v":{"$error":"#N/A"}},{"$f":"MATCH(BT$3,Millwall!$AB109:$AP109,0)","v":{"$error":"#N/A"}},{"$f":"MATCH(BU$3,Millwall!$AB109:$AP109,0)","v":12},{"$f":"MATCH(BV$3,Millwall!$AB109:$AP109,0)","v":{"$error":"#N/A"}},{"$f":"MATCH(BW$3,Millwall!$AB109:$AP109,0)","v":{"$error":"#N/A"}},{"$f":"MATCH(BX$3,Millwall!$AB109:$AP109,0)","v":{"$error":"#N/A"}},{"$f":"MATCH(BY$3,Millwall!$AB109:$AP109,0)","v":{"$error":"#N/A"}},{"$f":"MATCH(BZ$3,Millwall!$AB109:$AP109,0)","v":{"$error":"#N/A"}},{"$f":"MATCH(CA$3,Millwall!$AB109:$AP109,0)","v":{"$error":"#N/A"}},{"$f":"MATCH(CB$3,Millwall!$AB109:$AP109,0)","v":{"$error":"#N/A"}},{"$f":"MATCH(CC$3,Millwall!$AB109:$AP109,0)","v":{"$error":"#N/A"}},{"$f":"MATCH(CD$3,Millwall!$AB109:$AP109,0)","v":{"$error":"#N/A"}},{"$f":"MATCH(CE$3,Millwall!$AB109:$AP109,0)","v":{"$error":"#N/A"}},null,null,{"$f":"MATCH($CH$3,Millwall!$AB$109:$AP$109,0)","v":{"$error":"#N/A"}},{"$f":"MATCH($CI$3,Millwall!$AB$109:$AP$109,0)","v":{"$error":"#N/A"}},{"$f":"MATCH($CJ$3,Millwall!$AB$109:$AP$109,0)","v":{"$error":"#N/A"}},{"$f":"MATCH($CK$3,Millwall!$AB$109:$AP$109,0)","v":{"$error":"#N/A"}},{"$f":"MATCH($CL$3,Millwall!$AB$109:$AP$109,0)","v":{"$error":"#N/A"}},{"$f":"MATCH($CM$3,Millwall!$AB$109:$AP$109,0)","v":{"$error":"#N/A"}},{"$f":"MATCH($CN$3,Millwall!$AB$109:$AP$109,0)","v":{"$error":"#N/A"}},{"$f":"MATCH($CO$3,Millwall!$AB$109:$AP$109,0)","v":{"$error":"#N/A"}},{"$f":"MATCH($CP$3,Millwall!$AB$109:$AP$109,0)","v":{"$error":"#N/A"}},{"$f":"MATCH($CQ$3,Millwall!$AB$109:$AP$109,0)","v":{"$error":"#N/A"}},{"$f":"MATCH($CR$3,Millwall!$AB$109:$AP$109,0)","v":{"$error":"#N/A"}},{"$f":"MATCH($CS$3,Millwall!$AB$109:$AP$109,0)","v":{"$error":"#N/A"}},{"$f":"MATCH($CT$3,Millwall!$AB$109:$AP$109,0)","v":{"$error":"#N/A"}},{"$f":"MATCH($CU$3,Millwall!$AB$109:$AP$109,0)","v":{"$error":"#N/A"}},{"$f":"MATCH($CV$3,Millwall!$AB$109:$AP$109,0)","v":{"$error":"#N/A"}},{"$f":"MATCH($CW$3,Millwall!$AB$109:$AP$109,0)","v":{"$error":"#N/A"}},{"$f":"MATCH($CX$3,Millwall!$AB$109:$AP$109,0)","v":{"$error":"#N/A"}},{"$f":"MATCH($CY$3,Millwall!$AB$109:$AP$109,0)","v":{"$error":"#N/A"}},{"$f":"MATCH($CZ$3,Millwall!$AB$109:$AP$109,0)","v":4},{"$f":"MATCH($DA$3,Millwall!$AB$109:$AP$109,0)","v":{"$error":"#N/A"}},{"$f":"MATCH($DB$3,Millwall!$AB$109:$AP$109,0)","v":{"$error":"#N/A"}},{"$f":"MATCH($DC$3,Millwall!$AB$109:$AP$109,0)","v":{"$error":"#N/A"}},{"$f":"MATCH($DD$3,Millwall!$AB$109:$AP$109,0)","v":{"$error":"#N/A"}},{"$f":"MATCH($DE$3,Millwall!$AB$109:$AP$109,0)","v":{"$error":"#N/A"}},{"$f":"MATCH($DF$3,Millwall!$AB$109:$AP$109,0)","v":{"$error":"#N/A"}},{"$f":"MATCH($DG$3,Millwall!$AB$109:$AP$109,0)","v":14},{"$f":"MATCH($DH$3,Millwall!$AB$109:$AP$109,0)","v":{"$error":"#N/A"}},{"$f":"MATCH($DI$3,Millwall!$AB$109:$AP$109,0)","v":{"$error":"#N/A"}},{"$f":"MATCH($DJ$3,Millwall!$AB$109:$AP$109,0)","v":{"$error":"#N/A"}},{"$f":"MATCH($DK$3,Millwall!$AB$109:$AP$109,0)","v":{"$error":"#N/A"}},{"$f":"MATCH($DL$3,Millwall!$AB$109:$AP$109,0)","v":{"$error":"#N/A"}},{"$f":"MATCH($DM$3,Millwall!$AB$109:$AP$109,0)","v":{"$error":"#N/A"}},{"$f":"MATCH($DN$3,Millwall!$AB$109:$AP$109,0)","v":{"$error":"#N/A"}},{"$f":"MATCH($DO$3,Millwall!$AB$109:$AP$109,0)","v":{"$error":"#N/A"}}]
[null,null,0,36,null,{"$f":"Millwall!X110","v":"1993-03-21"},null,{"$f":"Millwall!Y110","v":"Southend"},{"$f":"Millwall!Z110","v":"(A)"},{"$f":"Millwall!AA110","v":"D 3-3"},{"$f":"MATCH($K$4,Millwall!$AB$110:$AP$110,0)","v":{"$error":"#N/A"}},{"$f":"MATCH($L$4,Millwall!$AB$110:$AP$110,0)","v":{"$error":"#N/A"}},{"$f":"MATCH($M$4,Millwall!$AB$110:$AP$110,0)","v":11},{"$f":"MATCH($N$4,Millwall!$AB$110:$AP$110,0)","v":8},{"$f":"MATCH($O$4,Millwall!$AB$110:$AP$110,0)","v":12},{"$f":"MATCH($P$4,Millwall!$AB$110:$AP$110,0)","v":5},{"$f":"MATCH($Q$4,Millwall!$AB$110:$AP$110,0)","v":2},{"$f":"MATCH($R$4,Millwall!$AB$110:$AP$110,0)","v":{"$error":"#N/A"}},{"$f":"MATCH($S$4,Millwall!$AB$110:$AP$110,0)","v":3},{"$f":"MATCH($T$4,Millwall!$AB$110:$AP$110,0)","v":{"$error":"#N/A"}},{"$f":"MATCH($U$4,Millwall!$AB$110:$AP$110,0)","v":{"$error":"#N/A"}},{"$f":"MATCH($V$4,Millwall!$AB$110:$AP$110,0)","v":9},{"$f":"MATCH($W$4,Millwall!$AB$110:$AP$110,0)","v":4},{"$f":"MATCH($X$4,Millwall!$AB$110:$AP$110,0)","v":1},{"$f":"MATCH($Y$4,Millwall!$AB$110:$AP$110,0)","v":{"$error":"#N/A"}},{"$f":"MATCH($Z$4,Millwall!$AB$110:$AP$110,0)","v":{"$error":"#N/A"}},{"$f":"MATCH($AA$4,Millwall!$AB$110:$AP$110,0)","v":{"$error":"#N/A"}},{"$f":"MATCH($AB$4,Millwall!$AB$110:$AP$110,0)","v":{"$error":"#N/A"}},{"$f":"MATCH($AC$4,Millwall!$AB$110:$AP$110,0)","v":{"$error":"#N/A"}},{"$f":"MATCH($AD$4,Millwall!$AB$110:$AP$110,0)","v":{"$error":"#N/A"}},{"$f":"MATCH($AE$4,Millwall!$AB$110:$AP$110,0)","v":14},{"$f":"MATCH($AF$4,Millwall!$AB$110:$AP$110,0)","v":{"$error":"#N/A"}},{"$f":"MATCH($AG$4,Millwall!$AB$110:$AP$110,0)","v":{"$error":"#N/A"}},{"$f":"MATCH($AH$4,Millwall!$AB$110:$AP$110,0)","v":10},{"$f":"MATCH($AI$4,Millwall!$AB$110:$AP$110,0)","v":{"$error":"#N/A"}},{"$f":"MATCH($AJ$4,Millwall!$AB$110:$AP$110,0)","v":7},{"$f":"MATCH($AK$4,Millwall!$AB$110:$AP$110,0)","v":{"$error":"#N/A"}},{"$f":"MATCH($AL$4,Millwall!$AB$110:$AP$110,0)","v":{"$error":"#N/A"}},{"$f":"MATCH($AM$4,Millwall!$AB$110:$AP$110,0)","v":6},{"$f":"MATCH($AN$4,Millwall!$AB$110:$AP$110,0)","v":{"$error":"#N/A"}},{"$f":"MATCH($AO$4,Millwall!$AB$110:$AP$110,0)","v":{"$error":"#N/A"}},{"$f":"MATCH($AP$4,Millwall!$AB$110:$AP$110,0)","v":{"$error":"#N/A"}},{"$f":"MATCH($AQ$4,Millwall!$AB$110:$AP$110,0)","v":{"$error":"#N/A"}},{"$f":"MATCH($AR$4,Millwall!$AE$110:$AP$110,0)","v":{"$error":"#N/A"}},null,null,null,null,null,{"$f":"MATCH(AX$3,Millwall!$AB110:$AP110,0)","v":{"$error":"#N/A"}},{"$f":"MATCH(AY$3,Millwall!$AB110:$AP110,0)","v":{"$error":"#N/A"}},{"$f":"MATCH(AZ$3,Millwall!$AB110:$AP110,0)","v":{"$error":"#N/A"}},{"$f":"MATCH(BA$3,Millwall!$AB110:$AP110,0)","v":{"$error":"#N/A"}},{"$f":"MATCH(BB$3,Millwall!$AB110:$AP110,0)","v":12},{"$f":"MATCH(BC$3,Millwall!$AB110:$AP110,0)","v":5},{"$f":"MATCH(BD$3,Millwall!$AB110:$AP110,0)","v":{"$error":"#N/A"}},{"$f":"MATCH(BE$3,Millwall!$AB110:$AP110,0)","v":{"$error":"#N/A"}},{"$f":"MATCH(BF$3,Millwall!$AB110:$AP110,0)","v":{"$error":"#N/A"}},{"$f":"MATCH(BG$3,Millwall!$AB110:$AP110,0)","v":{"$error":"#N/A"}},{"$f":"MATCH(BH$3,Millwall!$AB110:$AP110,0)","v":{"$error":"#N/A"}},{"$f":"MATCH(BI$3,Millwall!$AB110:$AP110,0)","v":9},{"$f":"MATCH(BJ$3,Millwall!$AB110:$AP110,0)","v":{"$error":"#N/A"}},{"$f":"MATCH(BK$3,Millwall!$AB110:$AP110,0)","v":{"$error":"#N/A"}},{"$f":"MATCH(BL$3,Millwall!$AB110:$AP110,0)","v":{"$error":"#N/A"}},{"$f":"MATCH(BM$3,Millwall!$AB110:$AP110,0)","v":{"$error":"#N/A"}},{"$f":"MATCH(BN$3,Millwall!$AB110:$AP110,0)","v":{"$error":"#N/A"}},{"$f":"MATCH(BO$3,Millwall!$AB110:$AP110,0)","v":{"$error":"#N/A"}},{"$f":"MATCH(BP$3,Millwall!$AB110:$AP110,0)","v":{"$error":"#N/A"}},{"$f":"MATCH(BQ$3,Millwall!$AB110:$AP110,0)","v":{"$error":"#N/A"}},{"$f":"MATCH(BR$3,Millwall!$AB110:$AP110,0)","v":{"$error":"#N/A"}},{"$f":"MATCH(BS$3,Millwall!$AB110:$AP110,0)","v":{"$error":"#N/A"}},{"$f":"MATCH(BT$3,Millwall!$AB110:$AP110,0)","v":{"$error":"#N/A"}},{"$f":"MATCH(BU$3,Millwall!$AB110:$AP110,0)","v":{"$error":"#N/A"}},{"$f":"MATCH(BV$3,Millwall!$AB110:$AP110,0)","v":{"$error":"#N/A"}},{"$f":"MATCH(BW$3,Millwall!$AB110:$AP110,0)","v":{"$error":"#N/A"}},{"$f":"MATCH(BX$3,Millwall!$AB110:$AP110,0)","v":{"$error":"#N/A"}},{"$f":"MATCH(BY$3,Millwall!$AB110:$AP110,0)","v":{"$error":"#N/A"}},{"$f":"MATCH(BZ$3,Millwall!$AB110:$AP110,0)","v":{"$error":"#N/A"}},{"$f":"MATCH(CA$3,Millwall!$AB110:$AP110,0)","v":{"$error":"#N/A"}},{"$f":"MATCH(CB$3,Millwall!$AB110:$AP110,0)","v":{"$error":"#N/A"}},{"$f":"MATCH(CC$3,Millwall!$AB110:$AP110,0)","v":{"$error":"#N/A"}},{"$f":"MATCH(CD$3,Millwall!$AB110:$AP110,0)","v":{"$error":"#N/A"}},{"$f":"MATCH(CE$3,Millwall!$AB110:$AP110,0)","v":{"$error":"#N/A"}},null,null,{"$f":"MATCH($CH$3,Millwall!$AB$110:$AP$110,0)","v":{"$error":"#N/A"}},{"$f":"MATCH($CI$3,Millwall!$AB$110:$AP$110,0)","v":{"$error":"#N/A"}},{"$f":"MATCH($CJ$3,Millwall!$AB$110:$AP$110,0)","v":{"$error":"#N/A"}},{"$f":"MATCH($CK$3,Millwall!$AB$110:$AP$110,0)","v":8},{"$f":"MATCH($CL$3,Millwall!$AB$110:$AP$110,0)","v":{"$error":"#N/A"}},{"$f":"MATCH($CM$3,Millwall!$AB$110:$AP$110,0)","v":{"$error":"#N/A"}},{"$f":"MATCH($CN$3,Millwall!$AB$110:$AP$110,0)","v":{"$error":"#N/A"}},{"$f":"MATCH($CO$3,Millwall!$AB$110:$AP$110,0)","v":{"$error":"#N/A"}},{"$f":"MATCH($CP$3,Millwall!$AB$110:$AP$110,0)","v":{"$error":"#N/A"}},{"$f":"MATCH($CQ$3,Millwall!$AB$110:$AP$110,0)","v":{"$error":"#N/A"}},{"$f":"MATCH($CR$3,Millwall!$AB$110:$AP$110,0)","v":{"$error":"#N/A"}},{"$f":"MATCH($CS$3,Millwall!$AB$110:$AP$110,0)","v":{"$error":"#N/A"}},{"$f":"MATCH($CT$3,Millwall!$AB$110:$AP$110,0)","v":{"$error":"#N/A"}},{"$f":"MATCH($CU$3,Millwall!$AB$110:$AP$110,0)","v":{"$error":"#N/A"}},{"$f":"MATCH($CV$3,Millwall!$AB$110:$AP$110,0)","v":{"$error":"#N/A"}},{"$f":"MATCH($CW$3,Millwall!$AB$110:$AP$110,0)","v":{"$error":"#N/A"}},{"$f":"MATCH($CX$3,Millwall!$AB$110:$AP$110,0)","v":{"$error":"#N/A"}},{"$f":"MATCH($CY$3,Millwall!$AB$110:$AP$110,0)","v":{"$error":"#N/A"}},{"$f":"MATCH($CZ$3,Millwall!$AB$110:$AP$110,0)","v":{"$error":"#N/A"}},{"$f":"MATCH($DA$3,Millwall!$AB$110:$AP$110,0)","v":{"$error":"#N/A"}},{"$f":"MATCH($DB$3,Millwall!$AB$110:$AP$110,0)","v":14},{"$f":"MATCH($DC$3,Millwall!$AB$110:$AP$110,0)","v":{"$error":"#N/A"}},{"$f":"MATCH($DD$3,Millwall!$AB$110:$AP$110,0)","v":{"$error":"#N/A"}},{"$f":"MATCH($DE$3,Millwall!$AB$110:$AP$110,0)","v":{"$error":"#N/A"}},{"$f":"MATCH($DF$3,Millwall!$AB$110:$AP$110,0)","v":{"$error":"#N/A"}},{"$f":"MATCH($DG$3,Millwall!$AB$110:$AP$110,0)","v":{"$error":"#N/A"}},{"$f":"MATCH($DH$3,Millwall!$AB$110:$AP$110,0)","v":{"$error":"#N/A"}},{"$f":"MATCH($DI$3,Millwall!$AB$110:$AP$110,0)","v":{"$error":"#N/A"}},{"$f":"MATCH($DJ$3,Millwall!$AB$110:$AP$110,0)","v":{"$error":"#N/A"}},{"$f":"MATCH($DK$3,Millwall!$AB$110:$AP$110,0)","v":{"$error":"#N/A"}},{"$f":"MATCH($DL$3,Millwall!$AB$110:$AP$110,0)","v":{"$error":"#N/A"}},{"$f":"MATCH($DM$3,Millwall!$AB$110:$AP$110,0)","v":{"$error":"#N/A"}},{"$f":"MATCH($DN$3,Millwall!$AB$110:$AP$110,0)","v":{"$error":"#N/A"}},{"$f":"MATCH($DO$3,Millwall!$AB$110:$AP$110,0)","v":{"$error":"#N/A"}}]
[null,null,0,37,null,{"$f":"Millwall!X111","v":"1993-03-24"},null,{"$f":"Millwall!Y111","v":"Luton"},{"$f":"Millwall!Z111","v":"(H)"},{"$f":"Millwall!AA111","v":"W 1-0"},{"$f":"MATCH($K$4,Millwall!$AB$111:$AP$111,0)","v":9},{"$f":"MATCH($L$4,Millwall!$AB$111:$AP$111,0)","v":{"$error":"#N/A"}},{"$f":"MATCH($M$4,Millwall!$AB$111:$AP$111,0)","v":11},{"$f":"MATCH($N$4,Millwall!$AB$111:$AP$111,0)","v":8},{"$f":"MATCH($O$4,Millwall!$AB$111:$AP$111,0)","v":{"$error":"#N/A"}},{"$f":"MATCH($P$4,Millwall!$AB$111:$AP$111,0)","v":5},{"$f":"MATCH($Q$4,Millwall!$AB$111:$AP$111,0)","v":2},{"$f":"MATCH($R$4,Millwall!$AB$111:$AP$111,0)","v":{"$error":"#N/A"}},{"$f":"MATCH($S$4,Millwall!$AB$111:$AP$111,0)","v":3},{"$f":"MATCH($T$4,Millwall!$AB$111:$AP$111,0)","v":{"$error":"#N/A"}},{"$f":"MATCH($U$4,Millwall!$AB$111:$AP$111,0)","v":{"$error":"#N/A"}},{"$f":"MATCH($V$4,Millwall!$AB$111:$AP$111,0)","v":{"$error":"#N/A"}},{"$f":"MATCH($W$4,Millwall!$AB$111:$AP$111,0)","v":{"$error":"#N/A"}},{"$f":"MATCH($X$4,Millwall!$AB$111:$AP$111,0)","v":1},{"$f":"MATCH($Y$4,Millwall!$AB$111:$AP$111,0)","v":{"$error":"#N/A"}},{"$f":"MATCH($Z$4,Millwall!$AB$111:$AP$111,0)","v":12},{"$f":"MATCH($AA$4,Millwall!$AB$111:$AP$111,0)","v":{"$error":"#N/A"}},{"$f":"MATCH($AB$4,Millwall!$AB$111:$AP$111,0)","v":{"$error":"#N/A"}},{"$f":"MATCH($AC$4,Millwall!$AB$111:$AP$111,0)","v":{"$error":"#N/A"}},{"$f":"MATCH($AD$4,Millwall!$AB$111:$AP$111,0)","v":{"$error":"#N/A"}},{"$f":"MATCH($AE$4,Millwall!$AB$111:$AP$111,0)","v":14},{"$f":"MATCH($AF$4,Millwall!$AB$111:$AP$111,0)","v":{"$error":"#N/A"}},{"$f":"MATCH($AG$4,Millwall!$AB$111:$AP$111,0)","v":{"$error":"#N/A"}},{"$f":"MATCH($AH$4,Millwall!$AB$111:$AP$111,0)","v":10},{"$f":"MATCH($AI$4,Millwall!$AB$111:$AP$111,0)","v":7},{"$f":"MATCH($AJ$4,Millwall!$AB$111:$AP$111,0)","v":4},{"$f":"MATCH($AK$4,Millwall!$AB$111:$AP$111,0)","v":{"$error":"#N/A"}},{"$f":"MATCH($AL$4,Millwall!$AB$111:$AP$111,0)","v":{"$error":"#N/A"}},{"$f":"MATCH($AM$4,Millwall!$AB$111:$AP$111,0)","v":6},{"$f":"MATCH($AN$4,Millwall!$AB$111:$AP$111,0)","v":{"$error":"#N/A"}},{"$f":"MATCH($AO$4,Millwall!$AB$111:$AP$111,0)","v":{"$error":"#N/A"}},{"$f":"MATCH($AP$4,Millwall!$AB$111:$AP$111,0)","v":{"$error":"#N/A"}},{"$f":"MATCH($AQ$4,Millwall!$AB$111:$AP$111,0)","v":{"$error":"#N/A"}},{"$f":"MATCH($AR$4,Millwall!$AE$111:$AP$111,0)","v":{"$error":"#N/A"}},null,null,null,null,null,{"$f":"MATCH(AX$3,Millwall!$AB111:$AP111,0)","v":{"$error":"#N/A"}},{"$f":"MATCH(AY$3,Millwall!$AB111:$AP111,0)","v":{"$error":"#N/A"}},{"$f":"MATCH(AZ$3,Millwall!$AB111:$AP111,0)","v":{"$error":"#N/A"}},{"$f":"MATCH(BA$3,Millwall!$AB111:$AP111,0)","v":{"$error":"#N/A"}},{"$f":"MATCH(BB$3,Millwall!$AB111:$AP111,0)","v":{"$error":"#N/A"}},{"$f":"MATCH(BC$3,Millwall!$AB111:$AP111,0)","v":{"$error":"#N/A"}},{"$f":"MATCH(BD$3,Millwall!$AB111:$AP111,0)","v":{"$error":"#N/A"}},{"$f":"MATCH(BE$3,Millwall!$AB111:$AP111,0)","v":{"$error":"#N/A"}},{"$f":"MATCH(BF$3,Millwall!$AB111:$AP111,0)","v":{"$error":"#N/A"}},{"$f":"MATCH(BG$3,Millwall!$AB111:$AP111,0)","v":{"$error":"#N/A"}},{"$f":"MATCH(BH$3,Millwall!$AB111:$AP111,0)","v":{"$error":"#N/A"}},{"$f":"MATCH(BI$3,Millwall!$AB111:$AP111,0)","v":{"$error":"#N/A"}},{"$f":"MATCH(BJ$3,Millwall!$AB111:$AP111,0)","v":{"$error":"#N/A"}},{"$f":"MATCH(BK$3,Millwall!$AB111:$AP111,0)","v":{"$error":"#N/A"}},{"$f":"MATCH(BL$3,Millwall!$AB111:$AP111,0)","v":{"$error":"#N/A"}},{"$f":"MATCH(BM$3,Millwall!$AB111:$AP111,0)","v":12},{"$f":"MATCH(BN$3,Millwall!$AB111:$AP111,0)","v":{"$error":"#N/A"}},{"$f":"MATCH(BO$3,Millwall!$AB111:$AP111,0)","v":{"$error":"#N/A"}},{"$f":"MATCH(BP$3,Millwall!$AB111:$AP111,0)","v":{"$error":"#N/A"}},{"$f":"MATCH(BQ$3,Millwall!$AB111:$AP111,0)","v":{"$error":"#N/A"}},{"$f":"MATCH(BR$3,Millwall!$AB111:$AP111,0)","v":{"$error":"#N/A"}},{"$f":"MATCH(BS$3,Millwall!$AB111:$AP111,0)","v":{"$error":"#N/A"}},{"$f":"MATCH(BT$3,Millwall!$AB111:$AP111,0)","v":{"$error":"#N/A"}},{"$f":"MATCH(BU$3,Millwall!$AB111:$AP111,0)","v":{"$error":"#N/A"}},{"$f":"MATCH(BV$3,Millwall!$AB111:$AP111,0)","v":{"$error":"#N/A"}},{"$f":"MATCH(BW$3,Millwall!$AB111:$AP111,0)","v":{"$error":"#N/A"}},{"$f":"MATCH(BX$3,Millwall!$AB111:$AP111,0)","v":{"$error":"#N/A"}},{"$f":"MATCH(BY$3,Millwall!$AB111:$AP111,0)","v":{"$error":"#N/A"}},{"$f":"MATCH(BZ$3,Millwall!$AB111:$AP111,0)","v":{"$error":"#N/A"}},{"$f":"MATCH(CA$3,Millwall!$AB111:$AP111,0)","v":{"$error":"#N/A"}},{"$f":"MATCH(CB$3,Millwall!$AB111:$AP111,0)","v":{"$error":"#N/A"}},{"$f":"MATCH(CC$3,Millwall!$AB111:$AP111,0)","v":{"$error":"#N/A"}},{"$f":"MATCH(CD$3,Millwall!$AB111:$AP111,0)","v":{"$error":"#N/A"}},{"$f":"MATCH(CE$3,Millwall!$AB111:$AP111,0)","v":{"$error":"#N/A"}},null,null,{"$f":"MATCH($CH$3,Millwall!$AB$111:$AP$111,0)","v":{"$error":"#N/A"}},{"$f":"MATCH($CI$3,Millwall!$AB$111:$AP$111,0)","v":{"$error":"#N/A"}},{"$f":"MATCH($CJ$3,Millwall!$AB$111:$AP$111,0)","v":{"$error":"#N/A"}},{"$f":"MATCH($CK$3,Millwall!$AB$111:$AP$111,0)","v":{"$error":"#N/A"}},{"$f":"MATCH($CL$3,Millwall!$AB$111:$AP$111,0)","v":{"$error":"#N/A"}},{"$f":"MATCH($CM$3,Millwall!$AB$111:$AP$111,0)","v":{"$error":"#N/A"}},{"$f":"MATCH($CN$3,Millwall!$AB$111:$AP$111,0)","v":{"$error":"#N/A"}},{"$f":"MATCH($CO$3,Millwall!$AB$111:$AP$111,0)","v":{"$error":"#N/A"}},{"$f":"MATCH($CP$3,Millwall!$AB$111:$AP$111,0)","v":{"$error":"#N/A"}},{"$f":"MATCH($CQ$3,Millwall!$AB$111:$AP$111,0)","v":{"$error":"#N/A"}},{"$f":"MATCH($CR$3,Millwall!$AB$111:$AP$111,0)","v":{"$error":"#N/A"}},{"$f":"MATCH($CS$3,Millwall!$AB$111:$AP$111,0)","v":{"$error":"#N/A"}},{"$f":"MATCH($CT$3,Millwall!$AB$111:$AP$111,0)","v":{"$error":"#N/A"}},{"$f":"MATCH($CU$3,Millwall!$AB$111:$AP$111,0)","v":{"$error":"#N/A"}},{"$f":"MATCH($CV$3,Millwall!$AB$111:$AP$111,0)","v":{"$error":"#N/A"}},{"$f":"MATCH($CW$3,Millwall!$AB$111:$AP$111,0)","v":{"$error":"#N/A"}},{"$f":"MATCH($CX$3,Millwall!$AB$111:$AP$111,0)","v":{"$error":"#N/A"}},{"$f":"MATCH($CY$3,Millwall!$AB$111:$AP$111,0)","v":{"$error":"#N/A"}},{"$f":"MATCH($CZ$3,Millwall!$AB$111:$AP$111,0)","v":{"$error":"#N/A"}},{"$f":"MATCH($DA$3,Millwall!$AB$111:$AP$111,0)","v":{"$error":"#N/A"}},{"$f":"MATCH($DB$3,Millwall!$AB$111:$AP$111,0)","v":{"$error":"#N/A"}},{"$f":"MATCH($DC$3,Millwall!$AB$111:$AP$111,0)","v":{"$error":"#N/A"}},{"$f":"MATCH($DD$3,Millwall!$AB$111:$AP$111,0)","v":{"$error":"#N/A"}},{"$f":"MATCH($DE$3,Millwall!$AB$111:$AP$111,0)","v":{"$error":"#N/A"}},{"$f":"MATCH($DF$3,Millwall!$AB$111:$AP$111,0)","v":{"$error":"#N/A"}},{"$f":"MATCH($DG$3,Millwall!$AB$111:$AP$111,0)","v":{"$error":"#N/A"}},{"$f":"MATCH($DH$3,Millwall!$AB$111:$AP$111,0)","v":{"$error":"#N/A"}},{"$f":"MATCH($DI$3,Millwall!$AB$111:$AP$111,0)","v":{"$error":"#N/A"}},{"$f":"MATCH($DJ$3,Millwall!$AB$111:$AP$111,0)","v":{"$error":"#N/A"}},{"$f":"MATCH($DK$3,Millwall!$AB$111:$AP$111,0)","v":{"$error":"#N/A"}},{"$f":"MATCH($DL$3,Millwall!$AB$111:$AP$111,0)","v":{"$error":"#N/A"}},{"$f":"MATCH($DM$3,Millwall!$AB$111:$AP$111,0)","v":{"$error":"#N/A"}},{"$f":"MATCH($DN$3,Millwall!$AB$111:$AP$111,0)","v":{"$error":"#N/A"}},{"$f":"MATCH($DO$3,Millwall!$AB$111:$AP$111,0)","v":{"$error":"#N/A"}}]
[null,null,0,38,null,{"$f":"Millwall!X112","v":"1993-03-28"},null,{"$f":"Millwall!Y112","v":"West Ham"},{"$f":"Millwall!Z112","v":"(A)"},{"$f":"Millwall!AA112","v":"D 2-2"},{"$f":"MATCH($K$4,Millwall!$AB$112:$AP$112,0)","v":9},{"$f":"MATCH($L$4,Millwall!$AB$112:$AP$112,0)","v":{"$error":"#N/A"}},{"$f":"MATCH($M$4,Millwall!$AB$112:$AP$112,0)","v":11},{"$f":"MATCH($N$4,Millwall!$AB$112:$AP$112,0)","v":8},{"$f":"MATCH($O$4,Millwall!$AB$112:$AP$112,0)","v":{"$error":"#N/A"}},{"$f":"MATCH($P$4,Millwall!$AB$112:$AP$112,0)","v":5},{"$f":"MATCH($Q$4,Millwall!$AB$112:$AP$112,0)","v":2},{"$f":"MATCH($R$4,Millwall!$AB$112:$AP$112,0)","v":{"$error":"#N/A"}},{"$f":"MATCH($S$4,Millwall!$AB$112:$AP$112,0)","v":3},{"$f":"MATCH($T$4,Millwall!$AB$112:$AP$112,0)","v":{"$error":"#N/A"}},{"$f":"MATCH($U$4,Millwall!$AB$112:$AP$112,0)","v":14},{"$f":"MATCH($V$4,Millwall!$AB$112:$AP$112,0)","v":{"$error":"#N/A"}},{"$f":"MATCH($W$4,Millwall!$AB$112:$AP$112,0)","v":{"$error":"#N/A"}},{"$f":"MATCH($X$4,Millwall!$AB$112:$AP$112,0)","v":1},{"$f":"MATCH($Y$4,Millwall!$AB$112:$AP$112,0)","v":{"$error":"#N/A"}},{"$f":"MATCH($Z$4,Millwall!$AB$112:$AP$112,0)","v":12},{"$f":"MATCH($AA$4,Millwall!$AB$112:$AP$112,0)","v":7},{"$f":"MATCH($AB$4,Millwall!$AB$112:$AP$112,0)","v":{"$error":"#N/A"}},{"$f":"MATCH($AC$4,Millwall!$AB$112:$AP$112,0)","v":{"$error":"#N/A"}},{"$f":"MATCH($AD$4,Millwall!$AB$112:$AP$112,0)","v":{"$error":"#N/A"}},{"$f":"MATCH($AE$4,Millwall!$AB$112:$AP$112,0)","v":{"$error":"#N/A"}},{"$f":"MATCH($AF$4,Millwall!$AB$112:$AP$112,0)","v":{"$error":"#N/A"}},{"$f":"MATCH($AG$4,Millwall!$AB$112:$AP$112,0)","v":{"$error":"#N/A"}},{"$f":"MATCH($AH$4,Millwall!$AB$112:$AP$112,0)","v":10},{"$f":"MATCH($AI$4,Millwall!$AB$112:$AP$112,0)","v":{"$error":"#N/A"}},{"$f":"MATCH($AJ$4,Millwall!$AB$112:$AP$112,0)","v":4},{"$f":"MATCH($AK$4,Millwall!$AB$112:$AP$112,0)","v":{"$error":"#N/A"}},{"$f":"MATCH($AL$4,Millwall!$AB$112:$AP$112,0)","v":{"$error":"#N/A"}},{"$f":"MATCH($AM$4,Millwall!$AB$112:$AP$112,0)","v":6},{"$f":"MATCH($AN$4,Millwall!$AB$112:$AP$112,0)","v":{"$error":"#N/A"}},{"$f":"MATCH($AO$4,Millwall!$AB$112:$AP$112,0)","v":{"$error":"#N/A"}},{"$f":"MATCH($AP$4,Millwall!$AB$112:$AP$112,0)","v":{"$error":"#N/A"}},{"$f":"MATCH($AQ$4,Millwall!$AB$112:$AP$112,0)","v":{"$error":"#N/A"}},{"$f":"MATCH($AR$4,Millwall!$AE$112:$AP$112,0)","v":{"$error":"#N/A"}},null,null,null,null,null,{"$f":"MATCH(AX$3,Millwall!$AB112:$AP112,0)","v":9},{"$f":"MATCH(AY$3,Millwall!$AB112:$AP112,0)","v":{"$error":"#N/A"}},{"$f":"MATCH(AZ$3,Millwall!$AB112:$AP112,0)","v":{"$error":"#N/A"}},{"$f":"MATCH(BA$3,Millwall!$AB112:$AP112,0)","v":{"$error":"#N/A"}},{"$f":"MATCH(BB$3,Millwall!$AB112:$AP112,0)","v":{"$error":"#N/A"}},{"$f":"MATCH(BC$3,Millwall!$AB112:$AP112,0)","v":{"$error":"#N/A"}},{"$f":"MATCH(BD$3,Millwall!$AB112:$AP112,0)","v":{"$error":"#N/A"}},{"$f":"MATCH(BE$3,Millwall!$AB112:$AP112,0)","v":{"$error":"#N/A"}},{"$f":"MATCH(BF$3,Millwall!$AB112:$AP112,0)","v":{"$error":"#N/A"}},{"$f":"MATCH(BG$3,Millwall!$AB112:$AP112,0)","v":{"$error":"#N/A"}},{"$f":"MATCH(BH$3,Millwall!$AB112:$AP112,0)","v":{"$error":"#N/A"}},{"$f":"MATCH(BI$3,Millwall!$AB112:$AP112,0)","v":{"$error":"#N/A"}},{"$f":"MATCH(BJ$3,Millwall!$AB112:$AP112,0)","v":{"$error":"#N/A"}},{"$f":"MATCH(BK$3,Millwall!$AB112:$AP112,0)","v":{"$error":"#N/A"}},{"$f":"MATCH(BL$3,Millwall!$AB112:$AP112,0)","v":{"$error":"#N/A"}},{"$f":"MATCH(BM$3,Millwall!$AB112:$AP112,0)","v":12},{"$f":"MATCH(BN$3,Millwall!$AB112:$AP112,0)","v":{"$error":"#N/A"}},{"$f":"MATCH(BO$3,Millwall!$AB112:$AP112,0)","v":{"$error":"#N/A"}},{"$f":"MATCH(BP$3,Millwall!$AB112:$AP112,0)","v":{"$error":"#N/A"}},{"$f":"MATCH(BQ$3,Millwall!$AB112:$AP112,0)","v":{"$error":"#N/A"}},{"$f":"MATCH(BR$3,Millwall!$AB112:$AP112,0)","v":{"$error":"#N/A"}},{"$f":"MATCH(BS$3,Millwall!$AB112:$AP112,0)","v":{"$error":"#N/A"}},{"$f":"MATCH(BT$3,Millwall!$AB112:$AP112,0)","v":{"$error":"#N/A"}},{"$f":"MATCH(BU$3,Millwall!$AB112:$AP112,0)","v":{"$error":"#N/A"}},{"$f":"MATCH(BV$3,Millwall!$AB112:$AP112,0)","v":{"$error":"#N/A"}},{"$f":"MATCH(BW$3,Millwall!$AB112:$AP112,0)","v":{"$error":"#N/A"}},{"$f":"MATCH(BX$3,Millwall!$AB112:$AP112,0)","v":{"$error":"#N/A"}},{"$f":"MATCH(BY$3,Millwall!$AB112:$AP112,0)","v":{"$error":"#N/A"}},{"$f":"MATCH(BZ$3,Millwall!$AB112:$AP112,0)","v":{"$error":"#N/A"}},{"$f":"MATCH(CA$3,Millwall!$AB112:$AP112,0)","v":{"$error":"#N/A"}},{"$f":"MATCH(CB$3,Millwall!$AB112:$AP112,0)","v":{"$error":"#N/A"}},{"$f":"MATCH(CC$3,Millwall!$AB112:$AP112,0)","v":{"$error":"#N/A"}},{"$f":"MATCH(CD$3,Millwall!$AB112:$AP112,0)","v":{"$error":"#N/A"}},{"$f":"MATCH(CE$3,Millwall!$AB112:$AP112,0)","v":{"$error":"#N/A"}},null,null,{"$f":"MATCH($CH$3,Millwall!$AB$112:$AP$112,0)","v":{"$error":"#N/A"}},{"$f":"MATCH($CI$3,Millwall!$AB$112:$AP$112,0)","v":{"$error":"#N/A"}},{"$f":"MATCH($CJ$3,Millwall!$AB$112:$AP$112,0)","v":{"$error":"#N/A"}},{"$f":"MATCH($CK$3,Millwall!$AB$112:$AP$112,0)","v":{"$error":"#N/A"}},{"$f":"MATCH($CL$3,Millwall!$AB$112:$AP$112,0)","v":{"$error":"#N/A"}},{"$f":"MATCH($CM$3,Millwall!$AB$112:$AP$112,0)","v":{"$error":"#N/A"}},{"$f":"MATCH($CN$3,Millwall!$AB$112:$AP$112,0)","v":{"$error":"#N/A"}},{"$f":"MATCH($CO$3,Millwall!$AB$112:$AP$112,0)","v":{"$error":"#N/A"}},{"$f":"MATCH($CP$3,Millwall!$AB$112:$AP$112,0)","v":{"$error":"#N/A"}},{"$f":"MATCH($CQ$3,Millwall!$AB$112:$AP$112,0)","v":{"$error":"#N/A"}},{"$f":"MATCH($CR$3,Millwall!$AB$112:$AP$112,0)","v":14},{"$f":"MATCH($CS$3,Millwall!$AB$112:$AP$112,0)","v":{"$error":"#N/A"}},{"$f":"MATCH($CT$3,Millwall!$AB$112:$AP$112,0)","v":{"$error":"#N/A"}},{"$f":"MATCH($CU$3,Millwall!$AB$112:$AP$112,0)","v":{"$error":"#N/A"}},{"$f":"MATCH($CV$3,Millwall!$AB$112:$AP$112,0)","v":{"$error":"#N/A"}},{"$f":"MATCH($CW$3,Millwall!$AB$112:$AP$112,0)","v":{"$error":"#N/A"}},{"$f":"MATCH($CX$3,Millwall!$AB$112:$AP$112,0)","v":7},{"$f":"MATCH($CY$3,Millwall!$AB$112:$AP$112,0)","v":{"$error":"#N/A"}},{"$f":"MATCH($CZ$3,Millwall!$AB$112:$AP$112,0)","v":{"$error":"#N/A"}},{"$f":"MATCH($DA$3,Millwall!$AB$112:$AP$112,0)","v":{"$error":"#N/A"}},{"$f":"MATCH($DB$3,Millwall!$AB$112:$AP$112,0)","v":{"$error":"#N/A"}},{"$f":"MATCH($DC$3,Millwall!$AB$112:$AP$112,0)","v":{"$error":"#N/A"}},{"$f":"MATCH($DD$3,Millwall!$AB$112:$AP$112,0)","v":{"$error":"#N/A"}},{"$f":"MATCH($DE$3,Millwall!$AB$112:$AP$112,0)","v":{"$error":"#N/A"}},{"$f":"MATCH($DF$3,Millwall!$AB$112:$AP$112,0)","v":{"$error":"#N/A"}},{"$f":"MATCH($DG$3,Millwall!$AB$112:$AP$112,0)","v":{"$error":"#N/A"}},{"$f":"MATCH($DH$3,Millwall!$AB$112:$AP$112,0)","v":{"$error":"#N/A"}},{"$f":"MATCH($DI$3,Millwall!$AB$112:$AP$112,0)","v":{"$error":"#N/A"}},{"$f":"MATCH($DJ$3,Millwall!$AB$112:$AP$112,0)","v":{"$error":"#N/A"}},{"$f":"MATCH($DK$3,Millwall!$AB$112:$AP$112,0)","v":{"$error":"#N/A"}},{"$f":"MATCH($DL$3,Millwall!$AB$112:$AP$112,0)","v":{"$error":"#N/A"}},{"$f":"MATCH($DM$3,Millwall!$AB$112:$AP$112,0)","v":{"$error":"#N/A"}},{"$f":"MATCH($DN$3,Millwall!$AB$112:$AP$112,0)","v":{"$error":"#N/A"}},{"$f":"MATCH($DO$3,Millwall!$AB$112:$AP$112,0)","v":{"$error":"#N/A"}}]
[null,null,0,39,null,{"$f":"Millwall!X113","v":"1993-04-03"},null,{"$f":"Millwall!Y113","v":"Portsmouth"},{"$f":"Millwall!Z113","v":"(H)"},{"$f":"Millwall!AA113","v":"D 1-1"},{"$f":"MATCH($K$4,Millwall!$AB$113:$AP$113,0)","v":9},{"$f":"MATCH($L$4,Millwall!$AB$113:$AP$113,0)","v":{"$error":"#N/A"}},{"$f":"MATCH($M$4,Millwall!$AB$113:$AP$113,0)","v":11},{"$f":"MATCH($N$4,Millwall!$AB$113:$AP$113,0)","v":14},{"$f":"MATCH($O$4,Millwall!$AB$113:$AP$113,0)","v":{"$error":"#N/A"}},{"$f":"MATCH($P$4,Millwall!$AB$113:$AP$113,0)","v":5},{"$f":"MATCH($Q$4,Millwall!$AB$113:$AP$113,0)","v":2},{"$f":"MATCH($R$4,Millwall!$AB$113:$AP$113,0)","v":{"$error":"#N/A"}},{"$f":"MATCH($S$4,Millwall!$AB$113:$AP$113,0)","v":3},{"$f":"MATCH($T$4,Millwall!$AB$113:$AP$113,0)","v":{"$error":"#N/A"}},{"$f":"MATCH($U$4,Millwall!$AB$113:$AP$113,0)","v":{"$error":"#N/A"}},{"$f":"MATCH($V$4,Millwall!$AB$113:$AP$113,0)","v":{"$error":"#N/A"}},{"$f":"MATCH($W$4,Millwall!$AB$113:$AP$113,0)","v":{"$error":"#N/A"}},{"$f":"MATCH($X$4,Millwall!$AB$113:$AP$113,0)","v":1},{"$f":"MATCH($Y$4,Millwall!$AB$113:$AP$113,0)","v":{"$error":"#N/A"}},{"$f":"MATCH($Z$4,Millwall!$AB$113:$AP$113,0)","v":12},{"$f":"MATCH($AA$4,Millwall!$AB$113:$AP$113,0)","v":7},{"$f":"MATCH($AB$4,Millwall!$AB$113:$AP$113,0)","v":{"$error":"#N/A"}},{"$f":"MATCH($AC$4,Millwall!$AB$113:$AP$113,0)","v":{"$error":"#N/A"}},{"$f":"MATCH($AD$4,Millwall!$AB$113:$AP$113,0)","v":{"$error":"#N/A"}},{"$f":"MATCH($AE$4,Millwall!$AB$113:$AP$113,0)","v":6},{"$f":"MATCH($AF$4,Millwall!$AB$113:$AP$113,0)","v":{"$error":"#N/A"}},{"$f":"MATCH($AG$4,Millwall!$AB$113:$AP$113,0)","v":{"$error":"#N/A"}},{"$f":"MATCH($AH$4,Millwall!$AB$113:$AP$113,0)","v":10},{"$f":"MATCH($AI$4,Millwall!$AB$113:$AP$113,0)","v":{"$error":"#N/A"}},{"$f":"MATCH($AJ$4,Millwall!$AB$113:$AP$113,0)","v":4},{"$f":"MATCH($AK$4,Millwall!$AB$113:$AP$113,0)","v":{"$error":"#N/A"}},{"$f":"MATCH($AL$4,Millwall!$AB$113:$AP$113,0)","v":{"$error":"#N/A"}},{"$f":"MATCH($AM$4,Millwall!$AB$113:$AP$113,0)","v":{"$error":"#N/A"}},{"$f":"MATCH($AN$4,Millwall!$AB$113:$AP$113,0)","v":{"$error":"#N/A"}},{"$f":"MATCH($AO$4,Millwall!$AB$113:$AP$113,0)","v":8},{"$f":"MATCH($AP$4,Millwall!$AB$113:$AP$113,0)","v":{"$error":"#N/A"}},{"$f":"MATCH($AQ$4,Millwall!$AB$113:$AP$113,0)","v":{"$error":"#N/A"}},{"$f":"MATCH($AR$4,Millwall!$AE$113:$AP$113,0)","v":{"$error":"#N/A"}},null,null,null,null,null,{"$f":"MATCH(AX$3,Millwall!$AB113:$AP113,0)","v":9},{"$f":"MATCH(AY$3,Millwall!$AB113:$AP113,0)","v":{"$error":"#N/A"}},{"$f":"MATCH(AZ$3,Millwall!$AB113:$AP113,0)","v":{"$error":"#N/A"}},{"$f":"MATCH(BA$3,Millwall!$AB113:$AP113,0)","v":{"$error":"#N/A"}},{"$f":"MATCH(BB$3,Millwall!$AB113:$AP113,0)","v":{"$error":"#N/A"}},{"$f":"MATCH(BC$3,Millwall!$AB113:$AP113,0)","v":{"$error":"#N/A"}},{"$f":"MATCH(BD$3,Millwall!$AB113:$AP113,0)","v":{"$error":"#N/A"}},{"$f":"MATCH(BE$3,Millwall!$AB113:$AP113,0)","v":{"$error":"#N/A"}},{"$f":"MATCH(BF$3,Millwall!$AB113:$AP113,0)","v":{"$error":"#N/A"}},{"$f":"MATCH(BG$3,Millwall!$AB113:$AP113,0)","v":{"$error":"#N/A"}},{"$f":"MATCH(BH$3,Millwall!$AB113:$AP113,0)","v":{"$error":"#N/A"}},{"$f":"MATCH(BI$3,Millwall!$AB113:$AP113,0)","v":{"$error":"#N/A"}},{"$f":"MATCH(BJ$3,Millwall!$AB113:$AP113,0)","v":{"$error":"#N/A"}},{"$f":"MATCH(BK$3,Millwall!$AB113:$AP113,0)","v":{"$error":"#N/A"}},{"$f":"MATCH(BL$3,Millwall!$AB113:$AP113,0)","v":{"$error":"#N/A"}},{"$f":"MATCH(BM$3,Millwall!$AB113:$AP113,0)","v":12},{"$f":"MATCH(BN$3,Millwall!$AB113:$AP113,0)","v":{"$error":"#N/A"}},{"$f":"MATCH(BO$3,Millwall!$AB113:$AP113,0)","v":{"$error":"#N/A"}},{"$f":"MATCH(BP$3,Millwall!$AB113:$AP113,0)","v":{"$error":"#N/A"}},{"$f":"MATCH(BQ$3,Millwall!$AB113:$AP113,0)","v":{"$error":"#N/A"}},{"$f":"MATCH(BR$3,Millwall!$AB113:$AP113,0)","v":{"$error":"#N/A"}},{"$f":"MATCH(BS$3,Millwall!$AB113:$AP113,0)","v":{"$error":"#N/A"}},{"$f":"MATCH(BT$3,Millwall!$AB113:$AP113,0)","v":{"$error":"#N/A"}},{"$f":"MATCH(BU$3,Millwall!$AB113:$AP113,0)","v":{"$error":"#N/A"}},{"$f":"MATCH(BV$3,Millwall!$AB113:$AP113,0)","v":{"$error":"#N/A"}},{"$f":"MATCH(BW$3,Millwall!$AB113:$AP113,0)","v":{"$error":"#N/A"}},{"$f":"MATCH(BX$3,Millwall!$AB113:$AP113,0)","v":{"$error":"#N/A"}},{"$f":"MATCH(BY$3,Millwall!$AB113:$AP113,0)","v":{"$error":"#N/A"}},{"$f":"MATCH(BZ$3,Millwall!$AB113:$AP113,0)","v":{"$error":"#N/A"}},{"$f":"MATCH(CA$3,Millwall!$AB113:$AP113,0)","v":{"$error":"#N/A"}},{"$f":"MATCH(CB$3,Millwall!$AB113:$AP113,0)","v":{"$error":"#N/A"}},{"$f":"MATCH(CC$3,Millwall!$AB113:$AP113,0)","v":{"$error":"#N/A"}},{"$f":"MATCH(CD$3,Millwall!$AB113:$AP113,0)","v":{"$error":"#N/A"}},{"$f":"MATCH(CE$3,Millwall!$AB113:$AP113,0)","v":{"$error":"#N/A"}},null,null,{"$f":"MATCH($CH$3,Millwall!$AB$113:$AP$113,0)","v":{"$error":"#N/A"}},{"$f":"MATCH($CI$3,Millwall!$AB$113:$AP$113,0)","v":{"$error":"#N/A"}},{"$f":"MATCH($CJ$3,Millwall!$AB$113:$AP$113,0)","v":{"$error":"#N/A"}},{"$f":"MATCH($CK$3,Millwall!$AB$113:$AP$113,0)","v":14},{"$f":"MATCH($CL$3,Millwall!$AB$113:$AP$113,0)","v":{"$error":"#N/A"}},{"$f":"MATCH($CM$3,Millwall!$AB$113:$AP$113,0)","v":{"$error":"#N/A"}},{"$f":"MATCH($CN$3,Millwall!$AB$113:$AP$113,0)","v":{"$error":"#N/A"}},{"$f":"MATCH($CO$3,Millwall!$AB$113:$AP$113,0)","v":{"$error":"#N/A"}},{"$f":"MATCH($CP$3,Millwall!$AB$113:$AP$113,0)","v":{"$error":"#N/A"}},{"$f":"MATCH($CQ$3,Millwall!$AB$113:$AP$113,0)","v":{"$error":"#N/A"}},{"$f":"MATCH($CR$3,Millwall!$AB$113:$AP$113,0)","v":{"$error":"#N/A"}},{"$f":"MATCH($CS$3,Millwall!$AB$113:$AP$113,0)","v":{"$error":"#N/A"}},{"$f":"MATCH($CT$3,Millwall!$AB$113:$AP$113,0)","v":{"$error":"#N/A"}},{"$f":"MATCH($CU$3,Millwall!$AB$113:$AP$113,0)","v":{"$error":"#N/A"}},{"$f":"MATCH($CV$3,Millwall!$AB$113:$AP$113,0)","v":{"$error":"#N/A"}},{"$f":"MATCH($CW$3,Millwall!$AB$113:$AP$113,0)","v":{"$error":"#N/A"}},{"$f":"MATCH($CX$3,Millwall!$AB$113:$AP$113,0)","v":{"$error":"#N/A"}},{"$f":"MATCH($CY$3,Millwall!$AB$113:$AP$113,0)","v":{"$error":"#N/A"}},{"$f":"MATCH($CZ$3,Millwall!$AB$113:$AP$113,0)","v":{"$error":"#N/A"}},{"$f":"MATCH($DA$3,Millwall!$AB$113:$AP$113,0)","v":{"$error":"#N/A"}},{"$f":"MATCH($DB$3,Millwall!$AB$113:$AP$113,0)","v":{"$error":"#N/A"}},{"$f":"MATCH($DC$3,Millwall!$AB$113:$AP$113,0)","v":{"$error":"#N/A"}},{"$f":"MATCH($DD$3,Millwall!$AB$113:$AP$113,0)","v":{"$error":"#N/A"}},{"$f":"MATCH($DE$3,Millwall!$AB$113:$AP$113,0)","v":{"$error":"#N/A"}},{"$f":"MATCH($DF$3,Millwall!$AB$113:$AP$113,0)","v":{"$error":"#N/A"}},{"$f":"MATCH($DG$3,Millwall!$AB$113:$AP$113,0)","v":{"$error":"#N/A"}},{"$f":"MATCH($DH$3,Millwall!$AB$113:$AP$113,0)","v":{"$error":"#N/A"}},{"$f":"MATCH($DI$3,Millwall!$AB$113:$AP$113,0)","v":{"$error":"#N/A"}},{"$f":"MATCH($DJ$3,Millwall!$AB$113:$AP$113,0)","v":{"$error":"#N/A"}},{"$f":"MATCH($DK$3,Millwall!$AB$113:$AP$113,0)","v":{"$error":"#N/A"}},{"$f":"MATCH($DL$3,Millwall!$AB$113:$AP$113,0)","v":8},{"$f":"MATCH($DM$3,Millwall!$AB$113:$AP$113,0)","v":{"$error":"#N/A"}},{"$f":"MATCH($DN$3,Millwall!$AB$113:$AP$113,0)","v":{"$error":"#N/A"}},{"$f":"MATCH($DO$3,Millwall!$AB$113:$AP$113,0)","v":{"$error":"#N/A"}}]
[null,null,0,40,null,{"$f":"Millwall!X114","v":"1993-04-06"},null,{"$f":"Millwall!Y114","v":"Grimsby"},{"$f":"Millwall!Z114","v":"(A)"},{"$f":"Millwall!AA114","v":"L 0-1"},{"$f":"MATCH($K$4,Millwall!$AB$114:$AP$114,0)","v":{"$error":"#N/A"}},{"$f":"MATCH($L$4,Millwall!$AB$114:$AP$114,0)","v":{"$error":"#N/A"}},{"$f":"MATCH($M$4,Millwall!$AB$114:$AP$114,0)","v":11},{"$f":"MATCH($N$4,Millwall!$AB$114:$AP$114,0)","v":12},{"$f":"MATCH($O$4,Millwall!$AB$114:$AP$114,0)","v":{"$error":"#N/A"}},{"$f":"MATCH($P$4,Millwall!$AB$114:$AP$114,0)","v":{"$error":"#N/A"}},{"$f":"MATCH($Q$4,Millwall!$AB$114:$AP$114,0)","v":{"$error":"#N/A"}},{"$f":"MATCH($R$4,Millwall!$AB$114:$AP$114,0)","v":{"$error":"#N/A"}},{"$f":"MATCH($S$4,Millwall!$AB$114:$AP$114,0)","v":3},{"$f":"MATCH($T$4,Millwall!$AB$114:$AP$114,0)","v":{"$error":"#N/A"}},{"$f":"MATCH($U$4,Millwall!$AB$114:$AP$114,0)","v":14},{"$f":"MATCH($V$4,Millwall!$AB$114:$AP$114,0)","v":{"$error":"#N/A"}},{"$f":"MATCH($W$4,Millwall!$AB$114:$AP$114,0)","v":{"$error":"#N/A"}},{"$f":"MATCH($X$4,Millwall!$AB$114:$AP$114,0)","v":1},{"$f":"MATCH($Y$4,Millwall!$AB$114:$AP$114,0)","v":{"$error":"#N/A"}},{"$f":"MATCH($Z$4,Millwall!$AB$114:$AP$114,0)","v":9},{"$f":"MATCH($AA$4,Millwall!$AB$114:$AP$114,0)","v":7},{"$f":"MATCH($AB$4,Millwall!$AB$114:$AP$114,0)","v":{"$error":"#N/A"}},{"$f":"MATCH($AC$4,Millwall!$AB$114:$AP$114,0)","v":2},{"$f":"MATCH($AD$4,Millwall!$AB$114:$AP$114,0)","v":{"$error":"#N/A"}},{"$f":"MATCH($AE$4,Millwall!$AB$114:$AP$114,0)","v":6},{"$f":"MATCH($AF$4,Millwall!$AB$114:$AP$114,0)","v":{"$error":"#N/A"}},{"$f":"MATCH($AG$4,Millwall!$AB$114:$AP$114,0)","v":5},{"$f":"MATCH($AH$4,Millwall!$AB$114:$AP$114,0)","v":10},{"$f":"MATCH($AI$4,Millwall!$AB$114:$AP$114,0)","v":{"$error":"#N/A"}},{"$f":"MATCH($AJ$4,Millwall!$AB$114:$AP$114,0)","v":4},{"$f":"MATCH($AK$4,Millwall!$AB$114:$AP$114,0)","v":{"$error":"#N/A"}},{"$f":"MATCH($AL$4,Millwall!$AB$114:$AP$114,0)","v":{"$error":"#N/A"}},{"$f":"MATCH($AM$4,Millwall!$AB$114:$AP$114,0)","v":{"$error":"#N/A"}},{"$f":"MATCH($AN$4,Millwall!$AB$114:$AP$114,0)","v":{"$error":"#N/A"}},{"$f":"MATCH($AO$4,Millwall!$AB$114:$AP$114,0)","v":8},{"$f":"MATCH($AP$4,Millwall!$AB$114:$AP$114,0)","v":{"$error":"#N/A"}},{"$f":"MATCH($AQ$4,Millwall!$AB$114:$AP$114,0)","v":{"$error":"#N/A"}},{"$f":"MATCH($AR$4,Millwall!$AE$114:$AP$114,0)","v":{"$error":"#N/A"}},null,null,null,null,null,{"$f":"MATCH(AX$3,Millwall!$AB114:$AP114,0)","v":{"$error":"#N/A"}},{"$f":"MATCH(AY$3,Millwall!$AB114:$AP114,0)","v":{"$error":"#N/A"}},{"$f":"MATCH(AZ$3,Millwall!$AB114:$AP114,0)","v":{"$error":"#N/A"}},{"$f":"MATCH(BA$3,Millwall!$AB114:$AP114,0)","v":12},{"$f":"MATCH(BB$3,Millwall!$AB114:$AP114,0)","v":{"$error":"#N/A"}},{"$f":"MATCH(BC$3,Millwall!$AB114:$AP114,0)","v":{"$error":"#N/A"}},{"$f":"MATCH(BD$3,Millwall!$AB114:$AP114,0)","v":{"$error":"#N/A"}},{"$f":"MATCH(BE$3,Millwall!$AB114:$AP114,0)","v":{"$error":"#N/A"}},{"$f":"MATCH(BF$3,Millwall!$AB114:$AP114,0)","v":{"$error":"#N/A"}},{"$f":"MATCH(BG$3,Millwall!$AB114:$AP114,0)","v":{"$error":"#N/A"}},{"$f":"MATCH(BH$3,Millwall!$AB114:$AP114,0)","v":{"$error":"#N/A"}},{"$f":"MATCH(BI$3,Millwall!$AB114:$AP114,0)","v":{"$error":"#N/A"}},{"$f":"MATCH(BJ$3,Millwall!$AB114:$AP114,0)","v":{"$error":"#N/A"}},{"$f":"MATCH(BK$3,Millwall!$AB114:$AP114,0)","v":{"$error":"#N/A"}},{"$f":"MATCH(BL$3,Millwall!$AB114:$AP114,0)","v":{"$error":"#N/A"}},{"$f":"MATCH(BM$3,Millwall!$AB114:$AP114,0)","v":{"$error":"#N/A"}},{"$f":"MATCH(BN$3,Millwall!$AB114:$AP114,0)","v":{"$error":"#N/A"}},{"$f":"MATCH(BO$3,Millwall!$AB114:$AP114,0)","v":{"$error":"#N/A"}},{"$f":"MATCH(BP$3,Millwall!$AB114:$AP114,0)","v":2},{"$f":"MATCH(BQ$3,Millwall!$AB114:$AP114,0)","v":{"$error":"#N/A"}},{"$f":"MATCH(BR$3,Millwall!$AB114:$AP114,0)","v":{"$error":"#N/A"}},{"$f":"MATCH(BS$3,Millwall!$AB114:$AP114,0)","v":{"$error":"#N/A"}},{"$f":"MATCH(BT$3,Millwall!$AB114:$AP114,0)","v":{"$error":"#N/A"}},{"$f":"MATCH(BU$3,Millwall!$AB114:$AP114,0)","v":{"$error":"#N/A"}},{"$f":"MATCH(BV$3,Millwall!$AB114:$AP114,0)","v":{"$error":"#N/A"}},{"$f":"MATCH(BW$3,Millwall!$AB114:$AP114,0)","v":{"$error":"#N/A"}},{"$f":"MATCH(BX$3,Millwall!$AB114:$AP114,0)","v":{"$error":"#N/A"}},{"$f":"MATCH(BY$3,Millwall!$AB114:$AP114,0)","v":{"$error":"#N/A"}},{"$f":"MATCH(BZ$3,Millwall!$AB114:$AP114,0)","v":{"$error":"#N/A"}},{"$f":"MATCH(CA$3,Millwall!$AB114:$AP114,0)","v":{"$error":"#N/A"}},{"$f":"MATCH(CB$3,Millwall!$AB114:$AP114,0)","v":{"$error":"#N/A"}},{"$f":"MATCH(CC$3,Millwall!$AB114:$AP114,0)","v":{"$error":"#N/A"}},{"$f":"MATCH(CD$3,Millwall!$AB114:$AP114,0)","v":{"$error":"#N/A"}},{"$f":"MATCH(CE$3,Millwall!$AB114:$AP114,0)","v":{"$error":"#N/A"}},null,null,{"$f":"MATCH($CH$3,Millwall!$AB$114:$AP$114,0)","v":{"$error":"#N/A"}},{"$f":"MATCH($CI$3,Millwall!$AB$114:$AP$114,0)","v":{"$error":"#N/A"}},{"$f":"MATCH($CJ$3,Millwall!$AB$114:$AP$114,0)","v":{"$error":"#N/A"}},{"$f":"MATCH($CK$3,Millwall!$AB$114:$AP$114,0)","v":{"$error":"#N/A"}},{"$f":"MATCH($CL$3,Millwall!$AB$114:$AP$114,0)","v":{"$error":"#N/A"}},{"$f":"MATCH($CM$3,Millwall!$AB$114:$AP$114,0)","v":{"$error":"#N/A"}},{"$f":"MATCH($CN$3,Millwall!$AB$114:$AP$114,0)","v":{"$error":"#N/A"}},{"$f":"MATCH($CO$3,Millwall!$AB$114:$AP$114,0)","v":{"$error":"#N/A"}},{"$f":"MATCH($CP$3,Millwall!$AB$114:$AP$114,0)","v":{"$error":"#N/A"}},{"$f":"MATCH($CQ$3,Millwall!$AB$114:$AP$114,0)","v":{"$error":"#N/A"}},{"$f":"MATCH($CR$3,Millwall!$AB$114:$AP$114,0)","v":14},{"$f":"MATCH($CS$3,Millwall!$AB$114:$AP$114,0)","v":{"$error":"#N/A"}},{"$f":"MATCH($CT$3,Millwall!$AB$114:$AP$114,0)","v":{"$error":"#N/A"}},{"$f":"MATCH($CU$3,Millwall!$AB$114:$AP$114,0)","v":{"$error":"#N/A"}},{"$f":"MATCH($CV$3,Millwall!$AB$114:$AP$114,0)","v":{"$error":"#N/A"}},{"$f":"MATCH($CW$3,Millwall!$AB$114:$AP$114,0)","v":{"$error":"#N/A"}},{"$f":"MATCH($CX$3,Millwall!$AB$114:$AP$114,0)","v":{"$error":"#N/A"}},{"$f":"MATCH($CY$3,Millwall!$AB$114:$AP$114,0)","v":{"$error":"#N/A"}},{"$f":"MATCH($CZ$3,Millwall!$AB$114:$AP$114,0)","v":{"$error":"#N/A"}},{"$f":"MATCH($DA$3,Millwall!$AB$114:$AP$114,0)","v":{"$error":"#N/A"}},{"$f":"MATCH($DB$3,Millwall!$AB$114:$AP$114,0)","v":{"$error":"#N/A"}},{"$f":"MATCH($DC$3,Millwall!$AB$114:$AP$114,0)","v":{"$error":"#N/A"}},{"$f":"MATCH($DD$3,Millwall!$AB$114:$AP$114,0)","v":{"$error":"#N/A"}},{"$f":"MATCH($DE$3,Millwall!$AB$114:$AP$114,0)","v":{"$error":"#N/A"}},{"$f":"MATCH($DF$3,Millwall!$AB$114:$AP$114,0)","v":{"$error":"#N/A"}},{"$f":"MATCH($DG$3,Millwall!$AB$114:$AP$114,0)","v":{"$error":"#N/A"}},{"$f":"MATCH($DH$3,Millwall!$AB$114:$AP$114,0)","v":{"$error":"#N/A"}},{"$f":"MATCH($DI$3,Millwall!$AB$114:$AP$114,0)","v":{"$error":"#N/A"}},{"$f":"MATCH($DJ$3,Millwall!$AB$114:$AP$114,0)","v":{"$error":"#N/A"}},{"$f":"MATCH($DK$3,Millwall!$AB$114:$AP$114,0)","v":{"$error":"#N/A"}},{"$f":"MATCH($DL$3,Millwall!$AB$114:$AP$114,0)","v":8},{"$f":"MATCH($DM$3,Millwall!$AB$114:$AP$114,0)","v":{"$error":"#N/A"}},{"$f":"MATCH($DN$3,Millwall!$AB$114:$AP$114,0)","v":{"$error":"#N/A"}},{"$f":"MATCH($DO$3,Millwall!$AB$114:$AP$114,0)","v":{"$error":"#N/A"}}]
[null,null,0,41,null,{"$f":"Millwall!X115","v":"1993-04-10"},null,{"$f":"Millwall!Y115","v":"Tranmere"},{"$f":"Millwall!Z115","v":"(H)"},{"$f":"Millwall!AA115","v":"D 0-0"},{"$f":"MATCH($K$4,Millwall!$AB$115:$AP$115,0)","v":9},{"$f":"MATCH($L$4,Millwall!$AB$115:$AP$115,0)","v":{"$error":"#N/A"}},{"$f":"MATCH($M$4,Millwall!$AB$115:$AP$115,0)","v":11},{"$f":"MATCH($N$4,Millwall!$AB$115:$AP$115,0)","v":{"$error":"#N/A"}},{"$f":"MATCH($O$4,Millwall!$AB$115:$AP$115,0)","v":{"$error":"#N/A"}},{"$f":"MATCH($P$4,Millwall!$AB$115:$AP$115,0)","v":{"$error":"#N/A"}},{"$f":"MATCH($Q$4,Millwall!$AB$115:$AP$115,0)","v":2},{"$f":"MATCH($R$4,Millwall!$AB$115:$AP$115,0)","v":{"$error":"#N/A"}},{"$f":"MATCH($S$4,Millwall!$AB$115:$AP$115,0)","v":3},{"$f":"MATCH($T$4,Millwall!$AB$115:$AP$115,0)","v":{"$error":"#N/A"}},{"$f":"MATCH($U$4,Millwall!$AB$115:$AP$115,0)","v":{"$error":"#N/A"}},{"$f":"MATCH($V$4,Millwall!$AB$115:$AP$115,0)","v":8},{"$f":"MATCH($W$4,Millwall!$AB$115:$AP$115,0)","v":{"$error":"#N/A"}},{"$f":"MATCH($X$4,Millwall!$AB$115:$AP$115,0)","v":1},{"$f":"MATCH($Y$4,Millwall!$AB$115:$AP$115,0)","v":{"$error":"#N/A"}},{"$f":"MATCH($Z$4,Millwall!$AB$115:$AP$115,0)","v":12},{"$f":"MATCH($AA$4,Millwall!$AB$115:$AP$115,0)","v":6},{"$f":"MATCH($AB$4,Millwall!$AB$115:$AP$115,0)","v":{"$error":"#N/A"}},{"$f":"MATCH($AC$4,Millwall!$AB$115:$AP$115,0)","v":4},{"$f":"MATCH($AD$4,Millwall!$AB$115:$AP$115,0)","v":{"$error":"#N/A"}},{"$f":"MATCH($AE$4,Millwall!$AB$115:$AP$115,0)","v":5},{"$f":"MATCH($AF$4,Millwall!$AB$115:$AP$115,0)","v":{"$error":"#N/A"}},{"$f":"MATCH($AG$4,Millwall!$AB$115:$AP$115,0)","v":{"$error":"#N/A"}},{"$f":"MATCH($AH$4,Millwall!$AB$115:$AP$115,0)","v":10},{"$f":"MATCH($AI$4,Millwall!$AB$115:$AP$115,0)","v":7},{"$f":"MATCH($AJ$4,Millwall!$AB$115:$AP$115,0)","v":14},{"$f":"MATCH($AK$4,Millwall!$AB$115:$AP$115,0)","v":{"$error":"#N/A"}},{"$f":"MATCH($AL$4,Millwall!$AB$115:$AP$115,0)","v":{"$error":"#N/A"}},{"$f":"MATCH($AM$4,Millwall!$AB$115:$AP$115,0)","v":{"$error":"#N/A"}},{"$f":"MATCH($AN$4,Millwall!$AB$115:$AP$115,0)","v":{"$error":"#N/A"}},{"$f":"MATCH($AO$4,Millwall!$AB$115:$AP$115,0)","v":{"$error":"#N/A"}},{"$f":"MATCH($AP$4,Millwall!$AB$115:$AP$115,0)","v":{"$error":"#N/A"}},{"$f":"MATCH($AQ$4,Millwall!$AB$115:$AP$115,0)","v":{"$error":"#N/A"}},{"$f":"MATCH($AR$4,Millwall!$AE$115:$AP$115,0)","v":{"$error":"#N/A"}},null,null,null,null,null,{"$f":"MATCH(AX$3,Millwall!$AB115:$AP115,0)","v":{"$error":"#N/A"}},{"$f":"MATCH(AY$3,Millwall!$AB115:$AP115,0)","v":{"$error":"#N/A"}},{"$f":"MATCH(AZ$3,Millwall!$AB115:$AP115,0)","v":{"$error":"#N/A"}},{"$f":"MATCH(BA$3,Millwall!$AB115:$AP115,0)","v":{"$error":"#N/A"}},{"$f":"MATCH(BB$3,Millwall!$AB115:$AP115,0)","v":{"$error":"#N/A"}},{"$f":"MATCH(BC$3,Millwall!$AB115:$AP115,0)","v":{"$error":"#N/A"}},{"$f":"MATCH(BD$3,Millwall!$AB115:$AP115,0)","v":{"$error":"#N/A"}},{"$f":"MATCH(BE$3,Millwall!$AB115:$AP115,0)","v":{"$error":"#N/A"}},{"$f":"MATCH(BF$3,Millwall!$AB115:$AP115,0)","v":{"$error":"#N/A"}},{"$f":"MATCH(BG$3,Millwall!$AB115:$AP115,0)","v":{"$error":"#N/A"}},{"$f":"MATCH(BH$3,Millwall!$AB115:$AP115,0)","v":{"$error":"#N/A"}},{"$f":"MATCH(BI$3,Millwall!$AB115:$AP115,0)","v":8},{"$f":"MATCH(BJ$3,Millwall!$AB115:$AP115,0)","v":{"$error":"#N/A"}},{"$f":"MATCH(BK$3,Millwall!$AB115:$AP115,0)","v":{"$error":"#N/A"}},{"$f":"MATCH(BL$3,Millwall!$AB115:$AP115,0)","v":{"$error":"#N/A"}},{"$f":"MATCH(BM$3,Millwall!$AB115:$AP115,0)","v":12},{"$f":"MATCH(BN$3,Millwall!$AB115:$AP115,0)","v":{"$error":"#N/A"}},{"$f":"MATCH(BO$3,Millwall!$AB115:$AP115,0)","v":{"$error":"#N/A"}},{"$f":"MATCH(BP$3,Millwall!$AB115:$AP115,0)","v":{"$error":"#N/A"}},{"$f":"MATCH(BQ$3,Millwall!$AB115:$AP115,0)","v":{"$error":"#N/A"}},{"$f":"MATCH(BR$3,Millwall!$AB115:$AP115,0)","v":{"$error":"#N/A"}},{"$f":"MATCH(BS$3,Millwall!$AB115:$AP115,0)","v":{"$error":"#N/A"}},{"$f":"MATCH(BT$3,Millwall!$AB115:$AP115,0)","v":{"$error":"#N/A"}},{"$f":"MATCH(BU$3,Millwall!$AB115:$AP115,0)","v":{"$error":"#N/A"}},{"$f":"MATCH(BV$3,Millwall!$AB115:$AP115,0)","v":{"$error":"#N/A"}},{"$f":"MATCH(BW$3,Millwall!$AB115:$AP115,0)","v":{"$error":"#N/A"}},{"$f":"MATCH(BX$3,Millwall!$AB115:$AP115,0)","v":{"$error":"#N/A"}},{"$f":"MATCH(BY$3,Millwall!$AB115:$AP115,0)","v":{"$error":"#N/A"}},{"$f":"MATCH(BZ$3,Millwall!$AB115:$AP115,0)","v":{"$error":"#N/A"}},{"$f":"MATCH(CA$3,Millwall!$AB115:$AP115,0)","v":{"$error":"#N/A"}},{"$f":"MATCH(CB$3,Millwall!$AB115:$AP115,0)","v":{"$error":"#N/A"}},{"$f":"MATCH(CC$3,Millwall!$AB115:$AP115,0)","v":{"$error":"#N/A"}},{"$f":"MATCH(CD$3,Millwall!$AB115:$AP115,0)","v":{"$error":"#N/A"}},{"$f":"MATCH(CE$3,Millwall!$AB115:$AP115,0)","v":{"$error":"#N/A"}},null,null,{"$f":"MATCH($CH$3,Millwall!$AB$115:$AP$115,0)","v":{"$error":"#N/A"}},{"$f":"MATCH($CI$3,Millwall!$AB$115:$AP$115,0)","v":{"$error":"#N/A"}},{"$f":"MATCH($CJ$3,Millwall!$AB$115:$AP$115,0)","v":{"$error":"#N/A"}},{"$f":"MATCH($CK$3,Millwall!$AB$115:$AP$115,0)","v":{"$error":"#N/A"}},{"$f":"MATCH($CL$3,Millwall!$AB$115:$AP$115,0)","v":{"$error":"#N/A"}},{"$f":"MATCH($CM$3,Millwall!$AB$115:$AP$115,0)","v":{"$error":"#N/A"}},{"$f":"MATCH($CN$3,Millwall!$AB$115:$AP$115,0)","v":{"$error":"#N/A"}},{"$f":"MATCH($CO$3,Millwall!$AB$115:$AP$115,0)","v":{"$error":"#N/A"}},{"$f":"MATCH($CP$3,Millwall!$AB$115:$AP$115,0)","v":{"$error":"#N/A"}},{"$f":"MATCH($CQ$3,Millwall!$AB$115:$AP$115,0)","v":{"$error":"#N/A"}},{"$f":"MATCH($CR$3,Millwall!$AB$115:$AP$115,0)","v":{"$error":"#N/A"}},{"$f":"MATCH($CS$3,Millwall!$AB$115:$AP$115,0)","v":{"$error":"#N/A"}},{"$f":"MATCH($CT$3,Millwall!$AB$115:$AP$115,0)","v":{"$error":"#N/A"}},{"$f":"MATCH($CU$3,Millwall!$AB$115:$AP$115,0)","v":{"$error":"#N/A"}},{"$f":"MATCH($CV$3,Millwall!$AB$115:$AP$115,0)","v":{"$error":"#N/A"}},{"$f":"MATCH($CW$3,Millwall!$AB$115:$AP$115,0)","v":{"$error":"#N/A"}},{"$f":"MATCH($CX$3,Millwall!$AB$115:$AP$115,0)","v":{"$error":"#N/A"}},{"$f":"MATCH($CY$3,Millwall!$AB$115:$AP$115,0)","v":{"$error":"#N/A"}},{"$f":"MATCH($CZ$3,Millwall!$AB$115:$AP$115,0)","v":4},{"$f":"MATCH($DA$3,Millwall!$AB$115:$AP$115,0)","v":{"$error":"#N/A"}},{"$f":"MATCH($DB$3,Millwall!$AB$115:$AP$115,0)","v":{"$error":"#N/A"}},{"$f":"MATCH($DC$3,Millwall!$AB$115:$AP$115,0)","v":{"$error":"#N/A"}},{"$f":"MATCH($DD$3,Millwall!$AB$115:$AP$115,0)","v":{"$error":"#N/A"}},{"$f":"MATCH($DE$3,Millwall!$AB$115:$AP$115,0)","v":{"$error":"#N/A"}},{"$f":"MATCH($DF$3,Millwall!$AB$115:$AP$115,0)","v":{"$error":"#N/A"}},{"$f":"MATCH($DG$3,Millwall!$AB$115:$AP$115,0)","v":14},{"$f":"MATCH($DH$3,Millwall!$AB$115:$AP$115,0)","v":{"$error":"#N/A"}},{"$f":"MATCH($DI$3,Millwall!$AB$115:$AP$115,0)","v":{"$error":"#N/A"}},{"$f":"MATCH($DJ$3,Millwall!$AB$115:$AP$115,0)","v":{"$error":"#N/A"}},{"$f":"MATCH($DK$3,Millwall!$AB$115:$AP$115,0)","v":{"$error":"#N/A"}},{"$f":"MATCH($DL$3,Millwall!$AB$115:$AP$115,0)","v":{"$error":"#N/A"}},{"$f":"MATCH($DM$3,Millwall!$AB$115:$AP$115,0)","v":{"$error":"#N/A"}},{"$f":"MATCH($DN$3,Millwall!$AB$115:$AP$115,0)","v":{"$error":"#N/A"}},{"$f":"MATCH($DO$3,Millwall!$AB$115:$AP$115,0)","v":{"$error":"#N/A"}},null,null,null,null,null,null,null,null,null,-13]
[null,null,0,42,null,{"$f":"Millwall!X116","v":"1993-04-14"},null,{"$f":"Millwall!Y116","v":"Leicester"},{"$f":"Millwall!Z116","v":"(A)"},{"$f":"Millwall!AA116","v":"L 0-3"},{"$f":"MATCH($K$4,Millwall!$AB$116:$AP$116,0)","v":9},{"$f":"MATCH($L$4,Millwall!$AB$116:$AP$116,0)","v":{"$error":"#N/A"}},{"$f":"MATCH($M$4,Millwall!$AB$116:$AP$116,0)","v":11},{"$f":"MATCH($N$4,Millwall!$AB$116:$AP$116,0)","v":{"$error":"#N/A"}},{"$f":"MATCH($O$4,Millwall!$AB$116:$AP$116,0)","v":{"$error":"#N/A"}},{"$f":"MATCH($P$4,Millwall!$AB$116:$AP$116,0)","v":{"$error":"#N/A"}},{"$f":"MATCH($Q$4,Millwall!$AB$116:$AP$116,0)","v":2},{"$f":"MATCH($R$4,Millwall!$AB$116:$AP$116,0)","v":{"$error":"#N/A"}},{"$f":"MATCH($S$4,Millwall!$AB$116:$AP$116,0)","v":3},{"$f":"MATCH($T$4,Millwall!$AB$116:$AP$116,0)","v":{"$error":"#N/A"}},{"$f":"MATCH($U$4,Millwall!$AB$116:$AP$116,0)","v":{"$error":"#N/A"}},{"$f":"MATCH($V$4,Millwall!$AB$116:$AP$116,0)","v":8},{"$f":"MATCH($W$4,Millwall!$AB$116:$AP$116,0)","v":14},{"$f":"MATCH($X$4,Millwall!$AB$116:$AP$116,0)","v":1},{"$f":"MATCH($Y$4,Millwall!$AB$116:$AP$116,0)","v":{"$error":"#N/A"}},{"$f":"MATCH($Z$4,Millwall!$AB$116:$AP$116,0)","v":12},{"$f":"MATCH($AA$4,Millwall!$AB$116:$AP$116,0)","v":6},{"$f":"MATCH($AB$4,Millwall!$AB$116:$AP$116,0)","v":{"$error":"#N/A"}},{"$f":"MATCH($AC$4,Millwall!$AB$116:$AP$116,0)","v":{"$error":"#N/A"}},{"$f":"MATCH($AD$4,Millwall!$AB$116:$AP$116,0)","v":{"$error":"#N/A"}},{"$f":"MATCH($AE$4,Millwall!$AB$116:$AP$116,0)","v":5},{"$f":"MATCH($AF$4,Millwall!$AB$116:$AP$116,0)","v":{"$error":"#N/A"}},{"$f":"MATCH($AG$4,Millwall!$AB$116:$AP$116,0)","v":{"$error":"#N/A"}},{"$f":"MATCH($AH$4,Millwall!$AB$116:$AP$116,0)","v":10},{"$f":"MATCH($AI$4,Millwall!$AB$116:$AP$116,0)","v":7},{"$f":"MATCH($AJ$4,Millwall!$AB$116:$AP$116,0)","v":4},{"$f":"MATCH($AK$4,Millwall!$AB$116:$AP$116,0)","v":{"$error":"#N/A"}},{"$f":"MATCH($AL$4,Millwall!$AB$116:$AP$116,0)","v":{"$error":"#N/A"}},{"$f":"MATCH($AM$4,Millwall!$AB$116:$AP$116,0)","v":{"$error":"#N/A"}},{"$f":"MATCH($AN$4,Millwall!$AB$116:$AP$116,0)","v":{"$error":"#N/A"}},{"$f":"MATCH($AO$4,Millwall!$AB$116:$AP$116,0)","v":{"$error":"#N/A"}},{"$f":"MATCH($AP$4,Millwall!$AB$116:$AP$116,0)","v":{"$error":"#N/A"}},{"$f":"MATCH($AQ$4,Millwall!$AB$116:$AP$116,0)","v":{"$error":"#N/A"}},{"$f":"MATCH($AR$4,Millwall!$AE$116:$AP$116,0)","v":{"$error":"#N/A"}},null,null,null,null,null,{"$f":"MATCH(AX$3,Millwall!$AB116:$AP116,0)","v":{"$error":"#N/A"}},{"$f":"MATCH(AY$3,Millwall!$AB116:$AP116,0)","v":{"$error":"#N/A"}},{"$f":"MATCH(AZ$3,Millwall!$AB116:$AP116,0)","v":{"$error":"#N/A"}},{"$f":"MATCH(BA$3,Millwall!$AB116:$AP116,0)","v":{"$error":"#N/A"}},{"$f":"MATCH(BB$3,Millwall!$AB116:$AP116,0)","v":{"$error":"#N/A"}},{"$f":"MATCH(BC$3,Millwall!$AB116:$AP116,0)","v":{"$error":"#N/A"}},{"$f":"MATCH(BD$3,Millwall!$AB116:$AP116,0)","v":{"$error":"#N/A"}},{"$f":"MATCH(BE$3,Millwall!$AB116:$AP116,0)","v":{"$error":"#N/A"}},{"$f":"MATCH(BF$3,Millwall!$AB116:$AP116,0)","v":{"$error":"#N/A"}},{"$f":"MATCH(BG$3,Millwall!$AB116:$AP116,0)","v":{"$error":"#N/A"}},{"$f":"MATCH(BH$3,Millwall!$AB116:$AP116,0)","v":{"$error":"#N/A"}},{"$f":"MATCH(BI$3,Millwall!$AB116:$AP116,0)","v":{"$error":"#N/A"}},{"$f":"MATCH(BJ$3,Millwall!$AB116:$AP116,0)","v":{"$error":"#N/A"}},{"$f":"MATCH(BK$3,Millwall!$AB116:$AP116,0)","v":{"$error":"#N/A"}},{"$f":"MATCH(BL$3,Millwall!$AB116:$AP116,0)","v":{"$error":"#N/A"}},{"$f":"MATCH(BM$3,Millwall!$AB116:$AP116,0)","v":12},{"$f":"MATCH(BN$3,Millwall!$AB116:$AP116,0)","v":{"$error":"#N/A"}},{"$f":"MATCH(BO$3,Millwall!$AB116:$AP116,0)","v":{"$error":"#N/A"}},{"$f":"MATCH(BP$3,Millwall!$AB116:$AP116,0)","v":{"$error":"#N/A"}},{"$f":"MATCH(BQ$3,Millwall!$AB116:$AP116,0)","v":{"$error":"#N/A"}},{"$f":"MATCH(BR$3,Millwall!$AB116:$AP116,0)","v":5},{"$f":"MATCH(BS$3,Millwall!$AB116:$AP116,0)","v":{"$error":"#N/A"}},{"$f":"MATCH(BT$3,Millwall!$AB116:$AP116,0)","v":{"$error":"#N/A"}},{"$f":"MATCH(BU$3,Millwall!$AB116:$AP116,0)","v":{"$error":"#N/A"}},{"$f":"MATCH(BV$3,Millwall!$AB116:$AP116,0)","v":{"$error":"#N/A"}},{"$f":"MATCH(BW$3,Millwall!$AB116:$AP116,0)","v":{"$error":"#N/A"}},{"$f":"MATCH(BX$3,Millwall!$AB116:$AP116,0)","v":{"$error":"#N/A"}},{"$f":"MATCH(BY$3,Millwall!$AB116:$AP116,0)","v":{"$error":"#N/A"}},{"$f":"MATCH(BZ$3,Millwall!$AB116:$AP116,0)","v":{"$error":"#N/A"}},{"$f":"MATCH(CA$3,Millwall!$AB116:$AP116,0)","v":{"$error":"#N/A"}},{"$f":"MATCH(CB$3,Millwall!$AB116:$AP116,0)","v":{"$error":"#N/A"}},{"$f":"MATCH(CC$3,Millwall!$AB116:$AP116,0)","v":{"$error":"#N/A"}},{"$f":"MATCH(CD$3,Millwall!$AB116:$AP116,0)","v":{"$error":"#N/A"}},{"$f":"MATCH(CE$3,Millwall!$AB116:$AP116,0)","v":{"$error":"#N/A"}},null,null,{"$f":"MATCH($CH$3,Millwall!$AB$116:$AP$116,0)","v":{"$error":"#N/A"}},{"$f":"MATCH($CI$3,Millwall!$AB$116:$AP$116,0)","v":{"$error":"#N/A"}},{"$f":"MATCH($CJ$3,Millwall!$AB$116:$AP$116,0)","v":{"$error":"#N/A"}},{"$f":"MATCH($CK$3,Millwall!$AB$116:$AP$116,0)","v":{"$error":"#N/A"}},{"$f":"MATCH($CL$3,Millwall!$AB$116:$AP$116,0)","v":{"$error":"#N/A"}},{"$f":"MATCH($CM$3,Millwall!$AB$116:$AP$116,0)","v":{"$error":"#N/A"}},{"$f":"MATCH($CN$3,Millwall!$AB$116:$AP$116,0)","v":{"$error":"#N/A"}},{"$f":"MATCH($CO$3,Millwall!$AB$116:$AP$116,0)","v":{"$error":"#N/A"}},{"$f":"MATCH($CP$3,Millwall!$AB$116:$AP$116,0)","v":{"$error":"#N/A"}},{"$f":"MATCH($CQ$3,Millwall!$AB$116:$AP$116,0)","v":{"$error":"#N/A"}},{"$f":"MATCH($CR$3,Millwall!$AB$116:$AP$116,0)","v":{"$error":"#N/A"}},{"$f":"MATCH($CS$3,Millwall!$AB$116:$AP$116,0)","v":{"$error":"#N/A"}},{"$f":"MATCH($CT$3,Millwall!$AB$116:$AP$116,0)","v":14},{"$f":"MATCH($CU$3,Millwall!$AB$116:$AP$116,0)","v":{"$error":"#N/A"}},{"$f":"MATCH($CV$3,Millwall!$AB$116:$AP$116,0)","v":{"$error":"#N/A"}},{"$f":"MATCH($CW$3,Millwall!$AB$116:$AP$116,0)","v":{"$error":"#N/A"}},{"$f":"MATCH($CX$3,Millwall!$AB$116:$AP$116,0)","v":6},{"$f":"MATCH($CY$3,Millwall!$AB$116:$AP$116,0)","v":{"$error":"#N/A"}},{"$f":"MATCH($CZ$3,Millwall!$AB$116:$AP$116,0)","v":{"$error":"#N/A"}},{"$f":"MATCH($DA$3,Millwall!$AB$116:$AP$116,0)","v":{"$error":"#N/A"}},{"$f":"MATCH($DB$3,Millwall!$AB$116:$AP$116,0)","v":{"$error":"#N/A"}},{"$f":"MATCH($DC$3,Millwall!$AB$116:$AP$116,0)","v":{"$error":"#N/A"}},{"$f":"MATCH($DD$3,Millwall!$AB$116:$AP$116,0)","v":{"$error":"#N/A"}},{"$f":"MATCH($DE$3,Millwall!$AB$116:$AP$116,0)","v":{"$error":"#N/A"}},{"$f":"MATCH($DF$3,Millwall!$AB$116:$AP$116,0)","v":{"$error":"#N/A"}},{"$f":"MATCH($DG$3,Millwall!$AB$116:$AP$116,0)","v":{"$error":"#N/A"}},{"$f":"MATCH($DH$3,Millwall!$AB$116:$AP$116,0)","v":{"$error":"#N/A"}},{"$f":"MATCH($DI$3,Millwall!$AB$116:$AP$116,0)","v":{"$error":"#N/A"}},{"$f":"MATCH($DJ$3,Millwall!$AB$116:$AP$116,0)","v":{"$error":"#N/A"}},{"$f":"MATCH($DK$3,Millwall!$AB$116:$AP$116,0)","v":{"$error":"#N/A"}},{"$f":"MATCH($DL$3,Millwall!$AB$116:$AP$116,0)","v":{"$error":"#N/A"}},{"$f":"MATCH($DM$3,Millwall!$AB$116:$AP$116,0)","v":{"$error":"#N/A"}},{"$f":"MATCH($DN$3,Millwall!$AB$116:$AP$116,0)","v":{"$error":"#N/A"}},{"$f":"MATCH($DO$3,Millwall!$AB$116:$AP$116,0)","v":{"$error":"#N/A"}}]
[null,null,0,43,null,{"$f":"Millwall!X117","v":"1993-04-17"},null,{"$f":"Millwall!Y117","v":"Newcastle"},{"$f":"Millwall!Z117","v":"(H)"},{"$f":"Millwall!AA117","v":"L 1-2"},{"$f":"MATCH($K$4,Millwall!$AB$117:$AP$117,0)","v":9},{"$f":"MATCH($L$4,Millwall!$AB$117:$AP$117,0)","v":{"$error":"#N/A"}},{"$f":"MATCH($M$4,Millwall!$AB$117:$AP$117,0)","v":11},{"$f":"MATCH($N$4,Millwall!$AB$117:$AP$117,0)","v":{"$error":"#N/A"}},{"$f":"MATCH($O$4,Millwall!$AB$117:$AP$117,0)","v":{"$error":"#N/A"}},{"$f":"MATCH($P$4,Millwall!$AB$117:$AP$117,0)","v":5},{"$f":"MATCH($Q$4,Millwall!$AB$117:$AP$117,0)","v":2},{"$f":"MATCH($R$4,Millwall!$AB$117:$AP$117,0)","v":{"$error":"#N/A"}},{"$f":"MATCH($S$4,Millwall!$AB$117:$AP$117,0)","v":3},{"$f":"MATCH($T$4,Millwall!$AB$117:$AP$117,0)","v":12},{"$f":"MATCH($U$4,Millwall!$AB$117:$AP$117,0)","v":14},{"$f":"MATCH($V$4,Millwall!$AB$117:$AP$117,0)","v":10},{"$f":"MATCH($W$4,Millwall!$AB$117:$AP$117,0)","v":{"$error":"#N/A"}},{"$f":"MATCH($X$4,Millwall!$AB$117:$AP$117,0)","v":1},{"$f":"MATCH($Y$4,Millwall!$AB$117:$AP$117,0)","v":{"$error":"#N/A"}},{"$f":"MATCH($Z$4,Millwall!$AB$117:$AP$117,0)","v":{"$error":"#N/A"}},{"$f":"MATCH($AA$4,Millwall!$AB$117:$AP$117,0)","v":6},{"$f":"MATCH($AB$4,Millwall!$AB$117:$AP$117,0)","v":{"$error":"#N/A"}},{"$f":"MATCH($AC$4,Millwall!$AB$117:$AP$117,0)","v":{"$error":"#N/A"}},{"$f":"MATCH($AD$4,Millwall!$AB$117:$AP$117,0)","v":{"$error":"#N/A"}},{"$f":"MATCH($AE$4,Millwall!$AB$117:$AP$117,0)","v":{"$error":"#N/A"}},{"$f":"MATCH($AF$4,Millwall!$AB$117:$AP$117,0)","v":{"$error":"#N/A"}},{"$f":"MATCH($AG$4,Millwall!$AB$117:$AP$117,0)","v":{"$error":"#N/A"}},{"$f":"MATCH($AH$4,Millwall!$AB$117:$AP$117,0)","v":{"$error":"#N/A"}},{"$f":"MATCH($AI$4,Millwall!$AB$117:$AP$117,0)","v":7},{"$f":"MATCH($AJ$4,Millwall!$AB$117:$AP$117,0)","v":4},{"$f":"MATCH($AK$4,Millwall!$AB$117:$AP$117,0)","v":{"$error":"#N/A"}},{"$f":"MATCH($AL$4,Millwall!$AB$117:$AP$117,0)","v":{"$error":"#N/A"}},{"$f":"MATCH($AM$4,Millwall!$AB$117:$AP$117,0)","v":{"$error":"#N/A"}},{"$f":"MATCH($AN$4,Millwall!$AB$117:$AP$117,0)","v":{"$error":"#N/A"}},{"$f":"MATCH($AO$4,Millwall!$AB$117:$AP$117,0)","v":8},{"$f":"MATCH($AP$4,Millwall!$AB$117:$AP$117,0)","v":{"$error":"#N/A"}},{"$f":"MATCH($AQ$4,Millwall!$AB$117:$AP$117,0)","v":{"$error":"#N/A"}},{"$f":"MATCH($AR$4,Millwall!$AE$117:$AP$117,0)","v":{"$error":"#N/A"}},null,null,null,null,null,{"$f":"MATCH(AX$3,Millwall!$AB117:$AP117,0)","v":{"$error":"#N/A"}},{"$f":"MATCH(AY$3,Millwall!$AB117:$AP117,0)","v":{"$error":"#N/A"}},{"$f":"MATCH(AZ$3,Millwall!$AB117:$AP117,0)","v":{"$error":"#N/A"}},{"$f":"MATCH(BA$3,Millwall!$AB117:$AP117,0)","v":{"$error":"#N/A"}},{"$f":"MATCH(BB$3,Millwall!$AB117:$AP117,0)","v":{"$error":"#N/A"}},{"$f":"MATCH(BC$3,Millwall!$AB117:$AP117,0)","v":{"$error":"#N/A"}},{"$f":"MATCH(BD$3,Millwall!$AB117:$AP117,0)","v":{"$error":"#N/A"}},{"$f":"MATCH(BE$3,Millwall!$AB117:$AP117,0)","v":{"$error":"#N/A"}},{"$f":"MATCH(BF$3,Millwall!$AB117:$AP117,0)","v":{"$error":"#N/A"}},{"$f":"MATCH(BG$3,Millwall!$AB117:$AP117,0)","v":12},{"$f":"MATCH(BH$3,Millwall!$AB117:$AP117,0)","v":{"$error":"#N/A"}},{"$f":"MATCH(BI$3,Millwall!$AB117:$AP117,0)","v":10},{"$f":"MATCH(BJ$3,Millwall!$AB117:$AP117,0)","v":{"$error":"#N/A"}},{"$f":"MATCH(BK$3,Millwall!$AB117:$AP117,0)","v":{"$error":"#N/A"}},{"$f":"MATCH(BL$3,Millwall!$AB117:$AP117,0)","v":{"$error":"#N/A"}},{"$f":"MATCH(BM$3,Millwall!$AB117:$AP117,0)","v":{"$error":"#N/A"}},{"$f":"MATCH(BN$3,Millwall!$AB117:$AP117,0)","v":{"$error":"#N/A"}},{"$f":"MATCH(BO$3,Millwall!$AB117:$AP117,0)","v":{"$error":"#N/A"}},{"$f":"MATCH(BP$3,Millwall!$AB117:$AP117,0)","v":{"$error":"#N/A"}},{"$f":"MATCH(BQ$3,Millwall!$AB117:$AP117,0)","v":{"$error":"#N/A"}},{"$f":"MATCH(BR$3,Millwall!$AB117:$AP117,0)","v":{"$error":"#N/A"}},{"$f":"MATCH(BS$3,Millwall!$AB117:$AP117,0)","v":{"$error":"#N/A"}},{"$f":"MATCH(BT$3,Millwall!$AB117:$AP117,0)","v":{"$error":"#N/A"}},{"$f":"MATCH(BU$3,Millwall!$AB117:$AP117,0)","v":{"$error":"#N/A"}},{"$f":"MATCH(BV$3,Millwall!$AB117:$AP117,0)","v":{"$error":"#N/A"}},{"$f":"MATCH(BW$3,Millwall!$AB117:$AP117,0)","v":{"$error":"#N/A"}},{"$f":"MATCH(BX$3,Millwall!$AB117:$AP117,0)","v":{"$error":"#N/A"}},{"$f":"MATCH(BY$3,Millwall!$AB117:$AP117,0)","v":{"$error":"#N/A"}},{"$f":"MATCH(BZ$3,Millwall!$AB117:$AP117,0)","v":{"$error":"#N/A"}},{"$f":"MATCH(CA$3,Millwall!$AB117:$AP117,0)","v":{"$error":"#N/A"}},{"$f":"MATCH(CB$3,Millwall!$AB117:$AP117,0)","v":{"$error":"#N/A"}},{"$f":"MATCH(CC$3,Millwall!$AB117:$AP117,0)","v":{"$error":"#N/A"}},{"$f":"MATCH(CD$3,Millwall!$AB117:$AP117,0)","v":{"$error":"#N/A"}},{"$f":"MATCH(CE$3,Millwall!$AB117:$AP117,0)","v":{"$error":"#N/A"}},null,null,{"$f":"MATCH($CH$3,Millwall!$AB$117:$AP$117,0)","v":{"$error":"#N/A"}},{"$f":"MATCH($CI$3,Millwall!$AB$117:$AP$117,0)","v":{"$error":"#N/A"}},{"$f":"MATCH($CJ$3,Millwall!$AB$117:$AP$117,0)","v":{"$error":"#N/A"}},{"$f":"MATCH($CK$3,Millwall!$AB$117:$AP$117,0)","v":{"$error":"#N/A"}},{"$f":"MATCH($CL$3,Millwall!$AB$117:$AP$117,0)","v":{"$error":"#N/A"}},{"$f":"MATCH($CM$3,Millwall!$AB$117:$AP$117,0)","v":{"$error":"#N/A"}},{"$f":"MATCH($CN$3,Millwall!$AB$117:$AP$117,0)","v":{"$error":"#N/A"}},{"$f":"MATCH($CO$3,Millwall!$AB$117:$AP$117,0)","v":{"$error":"#N/A"}},{"$f":"MATCH($CP$3,Millwall!$AB$117:$AP$117,0)","v":{"$error":"#N/A"}},{"$f":"MATCH($CQ$3,Millwall!$AB$117:$AP$117,0)","v":{"$error":"#N/A"}},{"$f":"MATCH($CR$3,Millwall!$AB$117:$AP$117,0)","v":14},{"$f":"MATCH($CS$3,Millwall!$AB$117:$AP$117,0)","v":{"$error":"#N/A"}},{"$f":"MATCH($CT$3,Millwall!$AB$117:$AP$117,0)","v":{"$error":"#N/A"}},{"$f":"MATCH($CU$3,Millwall!$AB$117:$AP$117,0)","v":{"$error":"#N/A"}},{"$f":"MATCH($CV$3,Millwall!$AB$117:$AP$117,0)","v":{"$error":"#N/A"}},{"$f":"MATCH($CW$3,Millwall!$AB$117:$AP$117,0)","v":{"$error":"#N/A"}},{"$f":"MATCH($CX$3,Millwall!$AB$117:$AP$117,0)","v":{"$error":"#N/A"}},{"$f":"MATCH($CY$3,Millwall!$AB$117:$AP$117,0)","v":{"$error":"#N/A"}},{"$f":"MATCH($CZ$3,Millwall!$AB$117:$AP$117,0)","v":{"$error":"#N/A"}},{"$f":"MATCH($DA$3,Millwall!$AB$117:$AP$117,0)","v":{"$error":"#N/A"}},{"$f":"MATCH($DB$3,Millwall!$AB$117:$AP$117,0)","v":{"$error":"#N/A"}},{"$f":"MATCH($DC$3,Millwall!$AB$117:$AP$117,0)","v":{"$error":"#N/A"}},{"$f":"MATCH($DD$3,Millwall!$AB$117:$AP$117,0)","v":{"$error":"#N/A"}},{"$f":"MATCH($DE$3,Millwall!$AB$117:$AP$117,0)","v":{"$error":"#N/A"}},{"$f":"MATCH($DF$3,Millwall!$AB$117:$AP$117,0)","v":{"$error":"#N/A"}},{"$f":"MATCH($DG$3,Millwall!$AB$117:$AP$117,0)","v":{"$error":"#N/A"}},{"$f":"MATCH($DH$3,Millwall!$AB$117:$AP$117,0)","v":{"$error":"#N/A"}},{"$f":"MATCH($DI$3,Millwall!$AB$117:$AP$117,0)","v":{"$error":"#N/A"}},{"$f":"MATCH($DJ$3,Millwall!$AB$117:$AP$117,0)","v":{"$error":"#N/A"}},{"$f":"MATCH($DK$3,Millwall!$AB$117:$AP$117,0)","v":{"$error":"#N/A"}},{"$f":"MATCH($DL$3,Millwall!$AB$117:$AP$117,0)","v":8},{"$f":"MATCH($DM$3,Millwall!$AB$117:$AP$117,0)","v":{"$error":"#N/A"}},{"$f":"MATCH($DN$3,Millwall!$AB$117:$AP$117,0)","v":{"$error":"#N/A"}},{"$f":"MATCH($DO$3,Millwall!$AB$117:$AP$117,0)","v":{"$error":"#N/A"}}]
[null,null,0,44,null,{"$f":"Millwall!X118","v":"1993-04-24"},null,{"$f":"Millwall!Y118","v":"Charlton"},{"$f":"Millwall!Z118","v":"(H)"},{"$f":"Millwall!AA118","v":"W 1-0"},{"$f":"MATCH($K$4,Millwall!$AB$118:$AP$118,0)","v":9},{"$f":"MATCH($L$4,Millwall!$AB$118:$AP$118,0)","v":{"$error":"#N/A"}},{"$f":"MATCH($M$4,Millwall!$AB$118:$AP$118,0)","v":11},{"$f":"MATCH($N$4,Millwall!$AB$118:$AP$118,0)","v":{"$error":"#N/A"}},{"$f":"MATCH($O$4,Millwall!$AB$118:$AP$118,0)","v":{"$error":"#N/A"}},{"$f":"MATCH($P$4,Millwall!$AB$118:$AP$118,0)","v":5},{"$f":"MATCH($Q$4,Millwall!$AB$118:$AP$118,0)","v":2},{"$f":"MATCH($R$4,Millwall!$AB$118:$AP$118,0)","v":{"$error":"#N/A"}},{"$f":"MATCH($S$4,Millwall!$AB$118:$AP$118,0)","v":3},{"$f":"MATCH($T$4,Millwall!$AB$118:$AP$118,0)","v":{"$error":"#N/A"}},{"$f":"MATCH($U$4,Millwall!$AB$118:$AP$118,0)","v":{"$error":"#N/A"}},{"$f":"MATCH($V$4,Millwall!$AB$118:$AP$118,0)","v":10},{"$f":"MATCH($W$4,Millwall!$AB$118:$AP$118,0)","v":{"$error":"#N/A"}},{"$f":"MATCH($X$4,Millwall!$AB$118:$AP$118,0)","v":1},{"$f":"MATCH($Y$4,Millwall!$AB$118:$AP$118,0)","v":14},{"$f":"MATCH($Z$4,Millwall!$AB$118:$AP$118,0)","v":{"$error":"#N/A"}},{"$f":"MATCH($AA$4,Millwall!$AB$118:$AP$118,0)","v":6},{"$f":"MATCH($AB$4,Millwall!$AB$118:$AP$118,0)","v":{"$error":"#N/A"}},{"$f":"MATCH($AC$4,Millwall!$AB$118:$AP$118,0)","v":{"$error":"#N/A"}},{"$f":"MATCH($AD$4,Millwall!$AB$118:$AP$118,0)","v":{"$error":"#N/A"}},{"$f":"MATCH($AE$4,Millwall!$AB$118:$AP$118,0)","v":12},{"$f":"MATCH($AF$4,Millwall!$AB$118:$AP$118,0)","v":{"$error":"#N/A"}},{"$f":"MATCH($AG$4,Millwall!$AB$118:$AP$118,0)","v":{"$error":"#N/A"}},{"$f":"MATCH($AH$4,Millwall!$AB$118:$AP$118,0)","v":8},{"$f":"MATCH($AI$4,Millwall!$AB$118:$AP$118,0)","v":7},{"$f":"MATCH($AJ$4,Millwall!$AB$118:$AP$118,0)","v":4},{"$f":"MATCH($AK$4,Millwall!$AB$118:$AP$118,0)","v":{"$error":"#N/A"}},{"$f":"MATCH($AL$4,Millwall!$AB$118:$AP$118,0)","v":{"$error":"#N/A"}},{"$f":"MATCH($AM$4,Millwall!$AB$118:$AP$118,0)","v":{"$error":"#N/A"}},{"$f":"MATCH($AN$4,Millwall!$AB$118:$AP$118,0)","v":{"$error":"#N/A"}},{"$f":"MATCH($AO$4,Millwall!$AB$118:$AP$118,0)","v":{"$error":"#N/A"}},{"$f":"MATCH($AP$4,Millwall!$AB$118:$AP$118,0)","v":{"$error":"#N/A"}},{"$f":"MATCH($AQ$4,Millwall!$AB$118:$AP$118,0)","v":{"$error":"#N/A"}},{"$f":"MATCH($AR$4,Millwall!$AE$118:$AP$118,0)","v":{"$error":"#N/A"}},null,null,null,null,null,{"$f":"MATCH(AX$3,Millwall!$AB118:$AP118,0)","v":{"$error":"#N/A"}},{"$f":"MATCH(AY$3,Millwall!$AB118:$AP118,0)","v":{"$error":"#N/A"}},{"$f":"MATCH(AZ$3,Millwall!$AB118:$AP118,0)","v":{"$error":"#N/A"}},{"$f":"MATCH(BA$3,Millwall!$AB118:$AP118,0)","v":{"$error":"#N/A"}},{"$f":"MATCH(BB$3,Millwall!$AB118:$AP118,0)","v":{"$error":"#N/A"}},{"$f":"MATCH(BC$3,Millwall!$AB118:$AP118,0)","v":{"$error":"#N/A"}},{"$f":"MATCH(BD$3,Millwall!$AB118:$AP118,0)","v":{"$error":"#N/A"}},{"$f":"MATCH(BE$3,Millwall!$AB118:$AP118,0)","v":{"$error":"#N/A"}},{"$f":"MATCH(BF$3,Millwall!$AB118:$AP118,0)","v":{"$error":"#N/A"}},{"$f":"MATCH(BG$3,Millwall!$AB118:$AP118,0)","v":{"$error":"#N/A"}},{"$f":"MATCH(BH$3,Millwall!$AB118:$AP118,0)","v":{"$error":"#N/A"}},{"$f":"MATCH(BI$3,Millwall!$AB118:$AP118,0)","v":{"$error":"#N/A"}},{"$f":"MATCH(BJ$3,Millwall!$AB118:$AP118,0)","v":{"$error":"#N/A"}},{"$f":"MATCH(BK$3,Millwall!$AB118:$AP118,0)","v":{"$error":"#N/A"}},{"$f":"MATCH(BL$3,Millwall!$AB118:$AP118,0)","v":{"$error":"#N/A"}},{"$f":"MATCH(BM$3,Millwall!$AB118:$AP118,0)","v":{"$error":"#N/A"}},{"$f":"MATCH(BN$3,Millwall!$AB118:$AP118,0)","v":{"$error":"#N/A"}},{"$f":"MATCH(BO$3,Millwall!$AB118:$AP118,0)","v":{"$error":"#N/A"}},{"$f":"MATCH(BP$3,Millwall!$AB118:$AP118,0)","v":{"$error":"#N/A"}},{"$f":"MATCH(BQ$3,Millwall!$AB118:$AP118,0)","v":{"$error":"#N/A"}},{"$f":"MATCH(BR$3,Millwall!$AB118:$AP118,0)","v":{"$error":"#N/A"}},{"$f":"MATCH(BS$3,Millwall!$AB118:$AP118,0)","v":{"$error":"#N/A"}},{"$f":"MATCH(BT$3,Millwall!$AB118:$AP118,0)","v":{"$error":"#N/A"}},{"$f":"MATCH(BU$3,Millwall!$AB118:$AP118,0)","v":{"$error":"#N/A"}},{"$f":"MATCH(BV$3,Millwall!$AB118:$AP118,0)","v":{"$error":"#N/A"}},{"$f":"MATCH(BW$3,Millwall!$AB118:$AP118,0)","v":{"$error":"#N/A"}},{"$f":"MATCH(BX$3,Millwall!$AB118:$AP118,0)","v":{"$error":"#N/A"}},{"$f":"MATCH(BY$3,Millwall!$AB118:$AP118,0)","v":{"$error":"#N/A"}},{"$f":"MATCH(BZ$3,Millwall!$AB118:$AP118,0)","v":{"$error":"#N/A"}},{"$f":"MATCH(CA$3,Millwall!$AB118:$AP118,0)","v":{"$error":"#N/A"}},{"$f":"MATCH(CB$3,Millwall!$AB118:$AP118,0)","v":{"$error":"#N/A"}},{"$f":"MATCH(CC$3,Millwall!$AB118:$AP118,0)","v":{"$error":"#N/A"}},{"$f":"MATCH(CD$3,Millwall!$AB118:$AP118,0)","v":{"$error":"#N/A"}},{"$f":"MATCH(CE$3,Millwall!$AB118:$AP118,0)","v":{"$error":"#N/A"}},null,null,{"$f":"MATCH($CH$3,Millwall!$AB$118:$AP$118,0)","v":{"$error":"#N/A"}},{"$f":"MATCH($CI$3,Millwall!$AB$118:$AP$118,0)","v":{"$error":"#N/A"}},{"$f":"MATCH($CJ$3,Millwall!$AB$118:$AP$118,0)","v":{"$error":"#N/A"}},{"$f":"MATCH($CK$3,Millwall!$AB$118:$AP$118,0)","v":{"$error":"#N/A"}},{"$f":"MATCH($CL$3,Millwall!$AB$118:$AP$118,0)","v":{"$error":"#N/A"}},{"$f":"MATCH($CM$3,Millwall!$AB$118:$AP$118,0)","v":{"$error":"#N/A"}},{"$f":"MATCH($CN$3,Millwall!$AB$118:$AP$118,0)","v":{"$error":"#N/A"}},{"$f":"MATCH($CO$3,Millwall!$AB$118:$AP$118,0)","v":{"$error":"#N/A"}},{"$f":"MATCH($CP$3,Millwall!$AB$118:$AP$118,0)","v":{"$error":"#N/A"}},{"$f":"MATCH($CQ$3,Millwall!$AB$118:$AP$118,0)","v":{"$error":"#N/A"}},{"$f":"MATCH($CR$3,Millwall!$AB$118:$AP$118,0)","v":{"$error":"#N/A"}},{"$f":"MATCH($CS$3,Millwall!$AB$118:$AP$118,0)","v":{"$error":"#N/A"}},{"$f":"MATCH($CT$3,Millwall!$AB$118:$AP$118,0)","v":{"$error":"#N/A"}},{"$f":"MATCH($CU$3,Millwall!$AB$118:$AP$118,0)","v":{"$error":"#N/A"}},{"$f":"MATCH($CV$3,Millwall!$AB$118:$AP$118,0)","v":14},{"$f":"MATCH($CW$3,Millwall!$AB$118:$AP$118,0)","v":{"$error":"#N/A"}},{"$f":"MATCH($CX$3,Millwall!$AB$118:$AP$118,0)","v":{"$error":"#N/A"}},{"$f":"MATCH($CY$3,Millwall!$AB$118:$AP$118,0)","v":{"$error":"#N/A"}},{"$f":"MATCH($CZ$3,Millwall!$AB$118:$AP$118,0)","v":{"$error":"#N/A"}},{"$f":"MATCH($DA$3,Millwall!$AB$118:$AP$118,0)","v":{"$error":"#N/A"}},{"$f":"MATCH($DB$3,Millwall!$AB$118:$AP$118,0)","v":{"$error":"#N/A"}},{"$f":"MATCH($DC$3,Millwall!$AB$118:$AP$118,0)","v":{"$error":"#N/A"}},{"$f":"MATCH($DD$3,Millwall!$AB$118:$AP$118,0)","v":{"$error":"#N/A"}},{"$f":"MATCH($DE$3,Millwall!$AB$118:$AP$118,0)","v":8},{"$f":"MATCH($DF$3,Millwall!$AB$118:$AP$118,0)","v":{"$error":"#N/A"}},{"$f":"MATCH($DG$3,Millwall!$AB$118:$AP$118,0)","v":{"$error":"#N/A"}},{"$f":"MATCH($DH$3,Millwall!$AB$118:$AP$118,0)","v":{"$error":"#N/A"}},{"$f":"MATCH($DI$3,Millwall!$AB$118:$AP$118,0)","v":{"$error":"#N/A"}},{"$f":"MATCH($DJ$3,Millwall!$AB$118:$AP$118,0)","v":{"$error":"#N/A"}},{"$f":"MATCH($DK$3,Millwall!$AB$118:$AP$118,0)","v":{"$error":"#N/A"}},{"$f":"MATCH($DL$3,Millwall!$AB$118:$AP$118,0)","v":{"$error":"#N/A"}},{"$f":"MATCH($DM$3,Millwall!$AB$118:$AP$118,0)","v":{"$error":"#N/A"}},{"$f":"MATCH($DN$3,Millwall!$AB$118:$AP$118,0)","v":{"$error":"#N/A"}},{"$f":"MATCH($DO$3,Millwall!$AB$118:$AP$118,0)","v":{"$error":"#N/A"}}]
[null,null,0,45,null,{"$f":"Millwall!X119","v":"1993-05-01"},null,{"$f":"Millwall!Y119","v":"Wolves"},{"$f":"Millwall!Z119","v":"(A)"},{"$f":"Millwall!AA119","v":"L 1-3"},{"$f":"MATCH($K$4,Millwall!$AB$119:$AP$119,0)","v":9},{"$f":"MATCH($L$4,Millwall!$AB$119:$AP$119,0)","v":{"$error":"#N/A"}},{"$f":"MATCH($M$4,Millwall!$AB$119:$AP$119,0)","v":11},{"$f":"MATCH($N$4,Millwall!$AB$119:$AP$119,0)","v":{"$error":"#N/A"}},{"$f":"MATCH($O$4,Millwall!$AB$119:$AP$119,0)","v":{"$error":"#N/A"}},{"$f":"MATCH($P$4,Millwall!$AB$119:$AP$119,0)","v":5},{"$f":"MATCH($Q$4,Millwall!$AB$119:$AP$119,0)","v":2},{"$f":"MATCH($R$4,Millwall!$AB$119:$AP$119,0)","v":{"$error":"#N/A"}},{"$f":"MATCH($S$4,Millwall!$AB$119:$AP$119,0)","v":3},{"$f":"MATCH($T$4,Millwall!$AB$119:$AP$119,0)","v":12},{"$f":"MATCH($U$4,Millwall!$AB$119:$AP$119,0)","v":{"$error":"#N/A"}},{"$f":"MATCH($V$4,Millwall!$AB$119:$AP$119,0)","v":10},{"$f":"MATCH($W$4,Millwall!$AB$119:$AP$119,0)","v":{"$error":"#N/A"}},{"$f":"MATCH($X$4,Millwall!$AB$119:$AP$119,0)","v":1},{"$f":"MATCH($Y$4,Millwall!$AB$119:$AP$119,0)","v":{"$error":"#N/A"}},{"$f":"MATCH($Z$4,Millwall!$AB$119:$AP$119,0)","v":{"$error":"#N/A"}},{"$f":"MATCH($AA$4,Millwall!$AB$119:$AP$119,0)","v":6},{"$f":"MATCH($AB$4,Millwall!$AB$119:$AP$119,0)","v":{"$error":"#N/A"}},{"$f":"MATCH($AC$4,Millwall!$AB$119:$AP$119,0)","v":14},{"$f":"MATCH($AD$4,Millwall!$AB$119:$AP$119,0)","v":{"$error":"#N/A"}},{"$f":"MATCH($AE$4,Millwall!$AB$119:$AP$119,0)","v":{"$error":"#N/A"}},{"$f":"MATCH($AF$4,Millwall!$AB$119:$AP$119,0)","v":{"$error":"#N/A"}},{"$f":"MATCH($AG$4,Millwall!$AB$119:$AP$119,0)","v":{"$error":"#N/A"}},{"$f":"MATCH($AH$4,Millwall!$AB$119:$AP$119,0)","v":8},{"$f":"MATCH($AI$4,Millwall!$AB$119:$AP$119,0)","v":7},{"$f":"MATCH($AJ$4,Millwall!$AB$119:$AP$119,0)","v":4},{"$f":"MATCH($AK$4,Millwall!$AB$119:$AP$119,0)","v":{"$error":"#N/A"}},{"$f":"MATCH($AL$4,Millwall!$AB$119:$AP$119,0)","v":{"$error":"#N/A"}},{"$f":"MATCH($AM$4,Millwall!$AB$119:$AP$119,0)","v":{"$error":"#N/A"}},{"$f":"MATCH($AN$4,Millwall!$AB$119:$AP$119,0)","v":{"$error":"#N/A"}},{"$f":"MATCH($AO$4,Millwall!$AB$119:$AP$119,0)","v":{"$error":"#N/A"}},{"$f":"MATCH($AP$4,Millwall!$AB$119:$AP$119,0)","v":{"$error":"#N/A"}},{"$f":"MATCH($AQ$4,Millwall!$AB$119:$AP$119,0)","v":{"$error":"#N/A"}},{"$f":"MATCH($AR$4,Millwall!$AE$119:$AP$119,0)","v":{"$error":"#N/A"}},null,null,null,null,null,{"$f":"MATCH(AX$3,Millwall!$AB119:$AP119,0)","v":{"$error":"#N/A"}},{"$f":"MATCH(AY$3,Millwall!$AB119:$AP119,0)","v":{"$error":"#N/A"}},{"$f":"MATCH(AZ$3,Millwall!$AB119:$AP119,0)","v":{"$error":"#N/A"}},{"$f":"MATCH(BA$3,Millwall!$AB119:$AP119,0)","v":{"$error":"#N/A"}},{"$f":"MATCH(BB$3,Millwall!$AB119:$AP119,0)","v":{"$error":"#N/A"}},{"$f":"MATCH(BC$3,Millwall!$AB119:$AP119,0)","v":{"$error":"#N/A"}},{"$f":"MATCH(BD$3,Millwall!$AB119:$AP119,0)","v":2},{"$f":"MATCH(BE$3,Millwall!$AB119:$AP119,0)","v":{"$error":"#N/A"}},{"$f":"MATCH(BF$3,Millwall!$AB119:$AP119,0)","v":{"$error":"#N/A"}},{"$f":"MATCH(BG$3,Millwall!$AB119:$AP119,0)","v":12},{"$f":"MATCH(BH$3,Millwall!$AB119:$AP119,0)","v":{"$error":"#N/A"}},{"$f":"MATCH(BI$3,Millwall!$AB119:$AP119,0)","v":{"$error":"#N/A"}},{"$f":"MATCH(BJ$3,Millwall!$AB119:$AP119,0)","v":{"$error":"#N/A"}},{"$f":"MATCH(BK$3,Millwall!$AB119:$AP119,0)","v":{"$error":"#N/A"}},{"$f":"MATCH(BL$3,Millwall!$AB119:$AP119,0)","v":{"$error":"#N/A"}},{"$f":"MATCH(BM$3,Millwall!$AB119:$AP119,0)","v":{"$error":"#N/A"}},{"$f":"MATCH(BN$3,Millwall!$AB119:$AP119,0)","v":{"$error":"#N/A"}},{"$f":"MATCH(BO$3,Millwall!$AB119:$AP119,0)","v":{"$error":"#N/A"}},{"$f":"MATCH(BP$3,Millwall!$AB119:$AP119,0)","v":{"$error":"#N/A"}},{"$f":"MATCH(BQ$3,Millwall!$AB119:$AP119,0)","v":{"$error":"#N/A"}},{"$f":"MATCH(BR$3,Millwall!$AB119:$AP119,0)","v":{"$error":"#N/A"}},{"$f":"MATCH(BS$3,Millwall!$AB119:$AP119,0)","v":{"$error":"#N/A"}},{"$f":"MATCH(BT$3,Millwall!$AB119:$AP119,0)","v":{"$error":"#N/A"}},{"$f":"MATCH(BU$3,Millwall!$AB119:$AP119,0)","v":{"$error":"#N/A"}},{"$f":"MATCH(BV$3,Millwall!$AB119:$AP119,0)","v":{"$error":"#N/A"}},{"$f":"MATCH(BW$3,Millwall!$AB119:$AP119,0)","v":{"$error":"#N/A"}},{"$f":"MATCH(BX$3,Millwall!$AB119:$AP119,0)","v":{"$error":"#N/A"}},{"$f":"MATCH(BY$3,Millwall!$AB119:$AP119,0)","v":{"$error":"#N/A"}},{"$f":"MATCH(BZ$3,Millwall!$AB119:$AP119,0)","v":{"$error":"#N/A"}},{"$f":"MATCH(CA$3,Millwall!$AB119:$AP119,0)","v":{"$error":"#N/A"}},{"$f":"MATCH(CB$3,Millwall!$AB119:$AP119,0)","v":{"$error":"#N/A"}},{"$f":"MATCH(CC$3,Millwall!$AB119:$AP119,0)","v":{"$error":"#N/A"}},{"$f":"MATCH(CD$3,Millwall!$AB119:$AP119,0)","v":{"$error":"#N/A"}},{"$f":"MATCH(CE$3,Millwall!$AB119:$AP119,0)","v":{"$error":"#N/A"}},null,null,{"$f":"MATCH(CH3,Millwall!AB119:AP119,0)","v":{"$error":"#N/A"}},{"$f":"MATCH(CI3,Millwall!AB119:AP119,0)","v":{"$error":"#N/A"}},{"$f":"MATCH(CJ3,Millwall!AB119:AP119,0)","v":{"$error":"#N/A"}},{"$f":"MATCH(CK3,Millwall!AB119:AP119,0)","v":{"$error":"#N/A"}},{"$f":"MATCH(CL3,Millwall!AB119:AP119,0)","v":{"$error":"#N/A"}},{"$f":"MATCH(CM3,Millwall!AB119:AP119,0)","v":{"$error":"#N/A"}},{"$f":"MATCH(CN3,Millwall!AB119:AP119,0)","v":{"$error":"#N/A"}},{"$f":"MATCH(CO3,Millwall!AB119:AP119,0)","v":{"$error":"#N/A"}},{"$f":"MATCH(CP3,Millwall!AB119:AP119,0)","v":{"$error":"#N/A"}},{"$f":"MATCH(CQ3,Millwall!AB119:AP119,0)","v":{"$error":"#N/A"}},{"$f":"MATCH(CR3,Millwall!AB119:AP119,0)","v":{"$error":"#N/A"}},{"$f":"MATCH(CS3,Millwall!AB119:AP119,0)","v":{"$error":"#N/A"}},{"$f":"MATCH(CT3,Millwall!AB119:AP119,0)","v":{"$error":"#N/A"}},{"$f":"MATCH(CU3,Millwall!AB119:AP119,0)","v":{"$error":"#N/A"}},{"$f":"MATCH(CV3,Millwall!AB119:AP119,0)","v":{"$error":"#N/A"}},{"$f":"MATCH(CW3,Millwall!AB119:AP119,0)","v":{"$error":"#N/A"}},{"$f":"MATCH(CX3,Millwall!AB119:AP119,0)","v":{"$error":"#N/A"}},{"$f":"MATCH(CY3,Millwall!AB119:AP119,0)","v":{"$error":"#N/A"}},{"$f":"MATCH(CZ3,Millwall!AB119:AP119,0)","v":14},{"$f":"MATCH(DA3,Millwall!AB119:AP119,0)","v":{"$error":"#N/A"}},{"$f":"MATCH(DB3,Millwall!AB119:AP119,0)","v":{"$error":"#N/A"}},{"$f":"MATCH(DC3,Millwall!AB119:AP119,0)","v":{"$error":"#N/A"}},{"$f":"MATCH(DD3,Millwall!AB119:AP119,0)","v":{"$error":"#N/A"}},{"$f":"MATCH(DE3,Millwall!AB119:AP119,0)","v":{"$error":"#N/A"}},{"$f":"MATCH(DF3,Millwall!AB119:AP119,0)","v":7},{"$f":"MATCH(DG3,Millwall!AB119:AP119,0)","v":{"$error":"#N/A"}},{"$f":"MATCH(DH3,Millwall!AB119:AP119,0)","v":{"$error":"#N/A"}},{"$f":"MATCH(DI3,Millwall!AB119:AP119,0)","v":{"$error":"#N/A"}},{"$f":"MATCH(DJ3,Millwall!AB119:AP119,0)","v":{"$error":"#N/A"}},{"$f":"MATCH(DK3,Millwall!AB119:AP119,0)","v":{"$error":"#N/A"}},{"$f":"MATCH(DL3,Millwall!AB119:AP119,0)","v":{"$error":"#N/A"}},{"$f":"MATCH(DM3,Millwall!AB119:AP119,0)","v":{"$error":"#N/A"}},{"$f":"MATCH(DN3,Millwall!AB119:AP119,0)","v":{"$error":"#N/A"}},{"$f":"MATCH(DO3,Millwall!AB119:AP119,0)","v":{"$error":"#N/A"}}]
[null,null,0,46,null,{"$f":"Millwall!X120","v":"1993-05-08"},null,{"$f":"Millwall!Y120","v":"Bristol R"},{"$f":"Millwall!Z120","v":"(H)"},{"$f":"Millwall!AA120","v":"L 0-3"},{"$f":"MATCH($K$4,Millwall!$AB$120:$AP$120,0)","v":9},{"$f":"MATCH($L$4,Millwall!$AB$120:$AP$120,0)","v":{"$error":"#N/A"}},{"$f":"MATCH($M$4,Millwall!$AB$120:$AP$120,0)","v":11},{"$f":"MATCH($N$4,Millwall!$AB$120:$AP$120,0)","v":{"$error":"#N/A"}},{"$f":"MATCH($O$4,Millwall!$AB$120:$AP$120,0)","v":{"$error":"#N/A"}},{"$f":"MATCH($P$4,Millwall!$AB$120:$AP$120,0)","v":5},{"$f":"MATCH($Q$4,Millwall!$AB$120:$AP$120,0)","v":{"$error":"#N/A"}},{"$f":"MATCH($R$4,Millwall!$AB$120:$AP$120,0)","v":{"$error":"#N/A"}},{"$f":"MATCH($S$4,Millwall!$AB$120:$AP$120,0)","v":3},{"$f":"MATCH($T$4,Millwall!$AB$120:$AP$120,0)","v":14},{"$f":"MATCH($U$4,Millwall!$AB$120:$AP$120,0)","v":{"$error":"#N/A"}},{"$f":"MATCH($V$4,Millwall!$AB$120:$AP$120,0)","v":10},{"$f":"MATCH($W$4,Millwall!$AB$120:$AP$120,0)","v":{"$error":"#N/A"}},{"$f":"MATCH($X$4,Millwall!$AB$120:$AP$120,0)","v":1},{"$f":"MATCH($Y$4,Millwall!$AB$120:$AP$120,0)","v":{"$error":"#N/A"}},{"$f":"MATCH($Z$4,Millwall!$AB$120:$AP$120,0)","v":{"$error":"#N/A"}},{"$f":"MATCH($AA$4,Millwall!$AB$120:$AP$120,0)","v":6},{"$f":"MATCH($AB$4,Millwall!$AB$120:$AP$120,0)","v":2},{"$f":"MATCH($AC$4,Millwall!$AB$120:$AP$120,0)","v":{"$error":"#N/A"}},{"$f":"MATCH($AD$4,Millwall!$AB$120:$AP$120,0)","v":{"$error":"#N/A"}},{"$f":"MATCH($AE$4,Millwall!$AB$120:$AP$120,0)","v":{"$error":"#N/A"}},{"$f":"MATCH($AF$4,Millwall!$AB$120:$AP$120,0)","v":{"$error":"#N/A"}},{"$f":"MATCH($AG$4,Millwall!$AB$120:$AP$120,0)","v":{"$error":"#N/A"}},{"$f":"MATCH($AH$4,Millwall!$AB$120:$AP$120,0)","v":8},{"$f":"MATCH($AI$4,Millwall!$AB$120:$AP$120,0)","v":7},{"$f":"MATCH($AJ$4,Millwall!$AB$120:$AP$120,0)","v":4},{"$f":"MATCH($AK$4,Millwall!$AB$120:$AP$120,0)","v":{"$error":"#N/A"}},{"$f":"MATCH($AL$4,Millwall!$AB$120:$AP$120,0)","v":{"$error":"#N/A"}},{"$f":"MATCH($AM$4,Millwall!$AB$120:$AP$120,0)","v":{"$error":"#N/A"}},{"$f":"MATCH($AN$4,Millwall!$AB$120:$AP$120,0)","v":12},{"$f":"MATCH($AO$4,Millwall!$AB$120:$AP$120,0)","v":{"$error":"#N/A"}},{"$f":"MATCH($AP$4,Millwall!$AB$120:$AP$120,0)","v":{"$error":"#N/A"}},{"$f":"MATCH($AQ$4,Millwall!$AB$120:$AP$120,0)","v":{"$error":"#N/A"}},{"$f":"MATCH($AR$4,Millwall!$AE$120:$AP$120,0)","v":{"$error":"#N/A"}},null,null,null,null,null,{"$f":"MATCH(AX$3,Millwall!$AB120:$AP120,0)","v":{"$error":"#N/A"}},{"$f":"MATCH(AY$3,Millwall!$AB120:$AP120,0)","v":{"$error":"#N/A"}},{"$f":"MATCH(AZ$3,Millwall!$AB120:$AP120,0)","v":{"$error":"#N/A"}},{"$f":"MATCH(BA$3,Millwall!$AB120:$AP120,0)","v":{"$error":"#N/A"}},{"$f":"MATCH(BB$3,Millwall!$AB120:$AP120,0)","v":{"$error":"#N/A"}},{"$f":"MATCH(BC$3,Millwall!$AB120:$AP120,0)","v":{"$error":"#N/A"}},{"$f":"MATCH(BD$3,Millwall!$AB120:$AP120,0)","v":{"$error":"#N/A"}},{"$f":"MATCH(BE$3,Millwall!$AB120:$AP120,0)","v":{"$error":"#N/A"}},{"$f":"MATCH(BF$3,Millwall!$AB120:$AP120,0)","v":{"$error":"#N/A"}},{"$f":"MATCH(BG$3,Millwall!$AB120:$AP120,0)","v":{"$error":"#N/A"}},{"$f":"MATCH(BH$3,Millwall!$AB120:$AP120,0)","v":{"$error":"#N/A"}},{"$f":"MATCH(BI$3,Millwall!$AB120:$AP120,0)","v":{"$error":"#N/A"}},{"$f":"MATCH(BJ$3,Millwall!$AB120:$AP120,0)","v":{"$error":"#N/A"}},{"$f":"MATCH(BK$3,Millwall!$AB120:$AP120,0)","v":{"$error":"#N/A"}},{"$f":"MATCH(BL$3,Millwall!$AB120:$AP120,0)","v":{"$error":"#N/A"}},{"$f":"MATCH(BM$3,Millwall!$AB120:$AP120,0)","v":{"$error":"#N/A"}},{"$f":"MATCH(BN$3,Millwall!$AB120:$AP120,0)","v":{"$error":"#N/A"}},{"$f":"MATCH(BO$3,Millwall!$AB120:$AP120,0)","v":{"$error":"#N/A"}},{"$f":"MATCH(BP$3,Millwall!$AB120:$AP120,0)","v":{"$error":"#N/A"}},{"$f":"MATCH(BQ$3,Millwall!$AB120:$AP120,0)","v":{"$error":"#N/A"}},{"$f":"MATCH(BR$3,Millwall!$AB120:$AP120,0)","v":{"$error":"#N/A"}},{"$f":"MATCH(BS$3,Millwall!$AB120:$AP120,0)","v":{"$error":"#N/A"}},{"$f":"MATCH(BT$3,Millwall!$AB120:$AP120,0)","v":{"$error":"#N/A"}},{"$f":"MATCH(BU$3,Millwall!$AB120:$AP120,0)","v":8},{"$f":"MATCH(BV$3,Millwall!$AB120:$AP120,0)","v":{"$error":"#N/A"}},{"$f":"MATCH(BW$3,Millwall!$AB120:$AP120,0)","v":{"$error":"#N/A"}},{"$f":"MATCH(BX$3,Millwall!$AB120:$AP120,0)","v":{"$error":"#N/A"}},{"$f":"MATCH(BY$3,Millwall!$AB120:$AP120,0)","v":{"$error":"#N/A"}},{"$f":"MATCH(BZ$3,Millwall!$AB120:$AP120,0)","v":{"$error":"#N/A"}},{"$f":"MATCH(CA$3,Millwall!$AB120:$AP120,0)","v":12},{"$f":"MATCH(CB$3,Millwall!$AB120:$AP120,0)","v":{"$error":"#N/A"}},{"$f":"MATCH(CC$3,Millwall!$AB120:$AP120,0)","v":{"$error":"#N/A"}},{"$f":"MATCH(CD$3,Millwall!$AB120:$AP120,0)","v":{"$error":"#N/A"}},{"$f":"MATCH(CE$3,Millwall!$AB120:$AP120,0)","v":{"$error":"#N/A"}},null,null,{"$f":"MATCH(CH3,Millwall!AB120:AP120,0)","v":{"$error":"#N/A"}},{"$f":"MATCH(CI3,Millwall!AB120:AP120,0)","v":{"$error":"#N/A"}},{"$f":"MATCH(CJ3,Millwall!AB120:AP120,0)","v":{"$error":"#N/A"}},{"$f":"MATCH(CK3,Millwall!AB120:AP120,0)","v":{"$error":"#N/A"}},{"$f":"MATCH(CL3,Millwall!AB120:AP120,0)","v":{"$error":"#N/A"}},{"$f":"MATCH(CM3,Millwall!AB120:AP120,0)","v":{"$error":"#N/A"}},{"$f":"MATCH(CN3,Millwall!AB120:AP120,0)","v":{"$error":"#N/A"}},{"$f":"MATCH(CO3,Millwall!AB120:AP120,0)","v":{"$error":"#N/A"}},{"$f":"MATCH(CP3,Millwall!AB120:AP120,0)","v":{"$error":"#N/A"}},{"$f":"MATCH(CQ3,Millwall!AB120:AP120,0)","v":14},{"$f":"MATCH(CR3,Millwall!AB120:AP120,0)","v":{"$error":"#N/A"}},{"$f":"MATCH(CS3,Millwall!AB120:AP120,0)","v":{"$error":"#N/A"}},{"$f":"MATCH(CT3,Millwall!AB120:AP120,0)","v":{"$error":"#N/A"}},{"$f":"MATCH(CU3,Millwall!AB120:AP120,0)","v":{"$error":"#N/A"}},{"$f":"MATCH(CV3,Millwall!AB120:AP120,0)","v":{"$error":"#N/A"}},{"$f":"MATCH(CW3,Millwall!AB120:AP120,0)","v":{"$error":"#N/A"}},{"$f":"MATCH(CX3,Millwall!AB120:AP120,0)","v":{"$error":"#N/A"}},{"$f":"MATCH(CY3,Millwall!AB120:AP120,0)","v":2},{"$f":"MATCH(CZ3,Millwall!AB120:AP120,0)","v":{"$error":"#N/A"}},{"$f":"MATCH(DA3,Millwall!AB120:AP120,0)","v":{"$error":"#N/A"}},{"$f":"MATCH(DB3,Millwall!AB120:AP120,0)","v":{"$error":"#N/A"}},{"$f":"MATCH(DC3,Millwall!AB120:AP120,0)","v":{"$error":"#N/A"}},{"$f":"MATCH(DD3,Millwall!AB120:AP120,0)","v":{"$error":"#N/A"}},{"$f":"MATCH(DE3,Millwall!AB120:AP120,0)","v":{"$error":"#N/A"}},{"$f":"MATCH(DF3,Millwall!AB120:AP120,0)","v":{"$error":"#N/A"}},{"$f":"MATCH(DG3,Millwall!AB120:AP120,0)","v":{"$error":"#N/A"}},{"$f":"MATCH(DH3,Millwall!AB120:AP120,0)","v":{"$error":"#N/A"}},{"$f":"MATCH(DI3,Millwall!AB120:AP120,0)","v":{"$error":"#N/A"}},{"$f":"MATCH(DJ3,Millwall!AB120:AP120,0)","v":{"$error":"#N/A"}},{"$f":"MATCH(DK3,Millwall!AB120:AP120,0)","v":{"$error":"#N/A"}},{"$f":"MATCH(DL3,Millwall!AB120:AP120,0)","v":{"$error":"#N/A"}},{"$f":"MATCH(DM3,Millwall!AB120:AP120,0)","v":{"$error":"#N/A"}},{"$f":"MATCH(DN3,Millwall!AB120:AP120,0)","v":{"$error":"#N/A"}},{"$f":"MATCH(DO3,Millwall!AB120:AP120,0)","v":{"$error":"#N/A"}}]
[null,null,1,47,null,{"$f":"Millwall!X121","v":"00:00:00"},null,{"$f":"Millwall!Y121","v":"00:00:00"},{"$f":"Millwall!Z121","v":"00:00:00"},{"$f":"Millwall!AA121","v":0},{"$f":"MATCH($K$4,Millwall!$AB$121:$AP$121,0)","v":{"$error":"#N/A"}},{"$f":"MATCH($L$4,Millwall!$AB$121:$AP$121,0)","v":{"$error":"#N/A"}},{"$f":"MATCH($M$4,Millwall!$AB$121:$AP$121,0)","v":{"$error":"#N/A"}},{"$f":"MATCH($N$4,Millwall!$AB$121:$AP$121,0)","v":{"$error":"#N/A"}},{"$f":"MATCH($O$4,Millwall!$AB$121:$AP$121,0)","v":{"$error":"#N/A"}},{"$f":"MATCH($P$4,Millwall!$AB$121:$AP$121,0)","v":{"$error":"#N/A"}},{"$f":"MATCH($Q$4,Millwall!$AB$121:$AP$121,0)","v":{"$error":"#N/A"}},{"$f":"MATCH($R$4,Millwall!$AB$121:$AP$121,0)","v":{"$error":"#N/A"}},{"$f":"MATCH($S$4,Millwall!$AB$121:$AP$121,0)","v":{"$error":"#N/A"}},{"$f":"MATCH($T$4,Millwall!$AB$121:$AP$121,0)","v":{"$error":"#N/A"}},{"$f":"MATCH($U$4,Millwall!$AB$121:$AP$121,0)","v":{"$error":"#N/A"}},{"$f":"MATCH($V$4,Millwall!$AB$121:$AP$121,0)","v":{"$error":"#N/A"}},{"$f":"MATCH($W$4,Millwall!$AB$121:$AP$121,0)","v":{"$error":"#N/A"}},{"$f":"MATCH($X$4,Millwall!$AB$121:$AP$121,0)","v":{"$error":"#N/A"}},{"$f":"MATCH($Y$4,Millwall!$AB$121:$AP$121,0)","v":{"$error":"#N/A"}},{"$f":"MATCH($Z$4,Millwall!$AB$121:$AP$121,0)","v":{"$error":"#N/A"}},{"$f":"MATCH($AA$4,Millwall!$AB$121:$AP$121,0)","v":{"$error":"#N/A"}},{"$f":"MATCH($AB$4,Millwall!$AB$121:$AP$121,0)","v":{"$error":"#N/A"}},{"$f":"MATCH($AC$4,Millwall!$AB$121:$AP$121,0)","v":{"$error":"#N/A"}},{"$f":"MATCH($AD$4,Millwall!$AB$121:$AP$121,0)","v":{"$error":"#N/A"}},{"$f":"MATCH($AE$4,Millwall!$AB$121:$AP$121,0)","v":{"$error":"#N/A"}},{"$f":"MATCH($AF$4,Millwall!$AB$121:$AP$121,0)","v":{"$error":"#N/A"}},{"$f":"MATCH($AG$4,Millwall!$AB$121:$AP$121,0)","v":{"$error":"#N/A"}},{"$f":"MATCH($AH$4,Millwall!$AB$121:$AP$121,0)","v":{"$error":"#N/A"}},{"$f":"MATCH($AI$4,Millwall!$AB$121:$AP$121,0)","v":{"$error":"#N/A"}},{"$f":"MATCH($AJ$4,Millwall!$AB$121:$AP$121,0)","v":{"$error":"#N/A"}},{"$f":"MATCH($AK$4,Millwall!$AB$121:$AP$121,0)","v":{"$error":"#N/A"}},{"$f":"MATCH($AL$4,Millwall!$AB$121:$AP$121,0)","v":{"$error":"#N/A"}},{"$f":"MATCH($AM$4,Millwall!$AB$121:$AP$121,0)","v":{"$error":"#N/A"}},{"$f":"MATCH($AN$4,Millwall!$AB$121:$AP$121,0)","v":{"$error":"#N/A"}},{"$f":"MATCH($AO$4,Millwall!$AB$121:$AP$121,0)","v":{"$error":"#N/A"}},{"$f":"MATCH($AP$4,Millwall!$AB$121:$AP$121,0)","v":{"$error":"#N/A"}},{"$f":"MATCH($AQ$4,Millwall!$AB$121:$AP$121,0)","v":{"$error":"#N/A"}},{"$f":"MATCH($AR$4,Millwall!$AE$121:$AP$121,0)","v":{"$error":"#N/A"}},null,null,null,null,null,{"$f":"MATCH(AX$3,Millwall!$AB121:$AP121,0)","v":{"$error":"#N/A"}},{"$f":"MATCH(AY$3,Millwall!$AB121:$AP121,0)","v":{"$error":"#N/A"}},{"$f":"MATCH(AZ$3,Millwall!$AB121:$AP121,0)","v":{"$error":"#N/A"}},{"$f":"MATCH(BA$3,Millwall!$AB121:$AP121,0)","v":{"$error":"#N/A"}},{"$f":"MATCH(BB$3,Millwall!$AB121:$AP121,0)","v":{"$error":"#N/A"}},{"$f":"MATCH(BC$3,Millwall!$AB121:$AP121,0)","v":{"$error":"#N/A"}},{"$f":"MATCH(BD$3,Millwall!$AB121:$AP121,0)","v":{"$error":"#N/A"}},{"$f":"MATCH(BE$3,Millwall!$AB121:$AP121,0)","v":{"$error":"#N/A"}},{"$f":"MATCH(BF$3,Millwall!$AB121:$AP121,0)","v":{"$error":"#N/A"}},{"$f":"MATCH(BG$3,Millwall!$AB121:$AP121,0)","v":{"$error":"#N/A"}},{"$f":"MATCH(BH$3,Millwall!$AB121:$AP121,0)","v":{"$error":"#N/A"}},{"$f":"MATCH(BI$3,Millwall!$AB121:$AP121,0)","v":{"$error":"#N/A"}},{"$f":"MATCH(BJ$3,Millwall!$AB121:$AP121,0)","v":{"$error":"#N/A"}},{"$f":"MATCH(BK$3,Millwall!$AB121:$AP121,0)","v":{"$error":"#N/A"}},{"$f":"MATCH(BL$3,Millwall!$AB121:$AP121,0)","v":{"$error":"#N/A"}},{"$f":"MATCH(BM$3,Millwall!$AB121:$AP121,0)","v":{"$error":"#N/A"}},{"$f":"MATCH(BN$3,Millwall!$AB121:$AP121,0)","v":{"$error":"#N/A"}},{"$f":"MATCH(BO$3,Millwall!$AB121:$AP121,0)","v":{"$error":"#N/A"}},{"$f":"MATCH(BP$3,Millwall!$AB121:$AP121,0)","v":{"$error":"#N/A"}},{"$f":"MATCH(BQ$3,Millwall!$AB121:$AP121,0)","v":{"$error":"#N/A"}},{"$f":"MATCH(BR$3,Millwall!$AB121:$AP121,0)","v":{"$error":"#N/A"}},{"$f":"MATCH(BS$3,Millwall!$AB121:$AP121,0)","v":{"$error":"#N/A"}},{"$f":"MATCH(BT$3,Millwall!$AB121:$AP121,0)","v":{"$error":"#N/A"}},{"$f":"MATCH(BU$3,Millwall!$AB121:$AP121,0)","v":{"$error":"#N/A"}},{"$f":"MATCH(BV$3,Millwall!$AB121:$AP121,0)","v":{"$error":"#N/A"}},{"$f":"MATCH(BW$3,Millwall!$AB121:$AP121,0)","v":{"$error":"#N/A"}},{"$f":"MATCH(BX$3,Millwall!$AB121:$AP121,0)","v":{"$error":"#N/A"}},{"$f":"MATCH(BY$3,Millwall!$AB121:$AP121,0)","v":{"$error":"#N/A"}},{"$f":"MATCH(BZ$3,Millwall!$AB121:$AP121,0)","v":{"$error":"#N/A"}},{"$f":"MATCH(CA$3,Millwall!$AB121:$AP121,0)","v":{"$error":"#N/A"}},{"$f":"MATCH(CB$3,Millwall!$AB121:$AP121,0)","v":{"$error":"#N/A"}},{"$f":"MATCH(CC$3,Millwall!$AB121:$AP121,0)","v":{"$error":"#N/A"}},{"$f":"MATCH(CD$3,Millwall!$AB121:$AP121,0)","v":{"$error":"#N/A"}},{"$f":"MATCH(CE$3,Millwall!$AB121:$AP121,0)","v":{"$error":"#N/A"}},null,null,{"$f":"MATCH(CH3,Millwall!AC121:AP121,0)","v":{"$error":"#N/A"}},{"$f":"MATCH(CI3,Millwall!AC121:AP121,0)","v":{"$error":"#N/A"}},null,{"$f":"MATCH(CK3,Millwall!AC121:AP121,0)","v":{"$error":"#N/A"}},{"$f":"MATCH(CL3,Millwall!AC121:AP121,0)","v":{"$error":"#N/A"}},{"$f":"MATCH(CM3,Millwall!AC121:AP121,0)","v":{"$error":"#N/A"}},{"$f":"MATCH(CN3,Millwall!AC121:AP121,0)","v":{"$error":"#N/A"}},{"$f":"MATCH(CO3,Millwall!AC121:AP121,0)","v":{"$error":"#N/A"}},{"$f":"MATCH(CP3,Millwall!AC121:AP121,0)","v":{"$error":"#N/A"}},{"$f":"MATCH(CQ3,Millwall!AC121:AP121,0)","v":{"$error":"#N/A"}},{"$f":"MATCH(CR3,Millwall!AC121:AP121,0)","v":{"$error":"#N/A"}},{"$f":"MATCH(CS3,Millwall!AC121:AP121,0)","v":{"$error":"#N/A"}},{"$f":"MATCH(CT3,Millwall!AC121:AP121,0)","v":{"$error":"#N/A"}},{"$f":"MATCH(CU3,Millwall!AC121:AP121,0)","v":{"$error":"#N/A"}},{"$f":"MATCH(CV3,Millwall!AC121:AP121,0)","v":{"$error":"#N/A"}},{"$f":"MATCH(CW3,Millwall!AC121:AP121,0)","v":{"$error":"#N/A"}},{"$f":"MATCH(CX3,Millwall!AC121:AP121,0)","v":{"$error":"#N/A"}},{"$f":"MATCH(CY3,Millwall!AC121:AP121,0)","v":{"$error":"#N/A"}},{"$f":"MATCH(CZ3,Millwall!AC121:AP121,0)","v":{"$error":"#N/A"}},{"$f":"MATCH(DA3,Millwall!AC121:AP121,0)","v":{"$error":"#N/A"}},{"$f":"MATCH(DB3,Millwall!AC121:AP121,0)","v":{"$error":"#N/A"}},{"$f":"MATCH(DC3,Millwall!AC121:AP121,0)","v":{"$error":"#N/A"}},{"$f":"MATCH(DD3,Millwall!AC121:AP121,0)","v":{"$error":"#N/A"}},{"$f":"MATCH(DE3,Millwall!AC121:AP121,0)","v":{"$error":"#N/A"}},{"$f":"MATCH(DF3,Millwall!AC121:AP121,0)","v":{"$error":"#N/A"}},{"$f":"MATCH(DG3,Millwall!AC121:AP121,0)","v":{"$error":"#N/A"}},{"$f":"MATCH(DH3,Millwall!AC121:AP121,0)","v":{"$error":"#N/A"}},{"$f":"MATCH(DI3,Millwall!AC121:AP121,0)","v":{"$error":"#N/A"}},{"$f":"MATCH(DJ3,Millwall!AC121:AP121,0)","v":{"$error":"#N/A"}},{"$f":"MATCH(DK3,Millwall!AC121:AP121,0)","v":{"$error":"#N/A"}},{"$f":"MATCH(DL3,Millwall!AC121:AP121,0)","v":{"$error":"#N/A"}},{"$f":"MATCH(DM3,Millwall!AC121:AP121,0)","v":{"$error":"#N/A"}},{"$f":"MATCH(DN3,Millwall!AC121:AP121,0)","v":{"$error":"#N/A"}},{"$f":"MATCH(DO3,Millwall!AC121:AP121,0)","v":{"$error":"#N/A"}}]
[null,null,1,48,null,{"$f":"Millwall!X122","v":"00:00:00"},null,{"$f":"Millwall!Y122","v":"00:00:00"},{"$f":"Millwall!Z122","v":"00:00:00"},{"$f":"Millwall!AA122","v":0},{"$f":"MATCH($K$4,Millwall!$AB$122:$AP$122,0)","v":{"$error":"#N/A"}},{"$f":"MATCH($L$4,Millwall!$AB$122:$AP$122,0)","v":{"$error":"#N/A"}},{"$f":"MATCH($M$4,Millwall!$AB$122:$AP$122,0)","v":{"$error":"#N/A"}},{"$f":"MATCH($N$4,Millwall!$AB$122:$AP$122,0)","v":{"$error":"#N/A"}},{"$f":"MATCH($O$4,Millwall!$AB$122:$AP$122,0)","v":{"$error":"#N/A"}},{"$f":"MATCH($P$4,Millwall!$AB$122:$AP$122,0)","v":{"$error":"#N/A"}},{"$f":"MATCH($Q$4,Millwall!$AB$122:$AP$122,0)","v":{"$error":"#N/A"}},{"$f":"MATCH($R$4,Millwall!$AB$122:$AP$122,0)","v":{"$error":"#N/A"}},{"$f":"MATCH($S$4,Millwall!$AB$122:$AP$122,0)","v":{"$error":"#N/A"}},{"$f":"MATCH($T$4,Millwall!$AB$122:$AP$122,0)","v":{"$error":"#N/A"}},{"$f":"MATCH($U$4,Millwall!$AB$122:$AP$122,0)","v":{"$error":"#N/A"}},{"$f":"MATCH($V$4,Millwall!$AB$122:$AP$122,0)","v":{"$error":"#N/A"}},{"$f":"MATCH($W$4,Millwall!$AB$122:$AP$122,0)","v":{"$error":"#N/A"}},{"$f":"MATCH($X$4,Millwall!$AB$122:$AP$122,0)","v":{"$error":"#N/A"}},{"$f":"MATCH($Y$4,Millwall!$AB$122:$AP$122,0)","v":{"$error":"#N/A"}},{"$f":"MATCH($Z$4,Millwall!$AB$122:$AP$122,0)","v":{"$error":"#N/A"}},{"$f":"MATCH($AA$4,Millwall!$AB$122:$AP$122,0)","v":{"$error":"#N/A"}},{"$f":"MATCH($AB$4,Millwall!$AB$122:$AP$122,0)","v":{"$error":"#N/A"}},{"$f":"MATCH($AC$4,Millwall!$AB$122:$AP$122,0)","v":{"$error":"#N/A"}},{"$f":"MATCH($AD$4,Millwall!$AB$122:$AP$122,0)","v":{"$error":"#N/A"}},{"$f":"MATCH($AE$4,Millwall!$AB$122:$AP$122,0)","v":{"$error":"#N/A"}},{"$f":"MATCH($AF$4,Millwall!$AB$122:$AP$122,0)","v":{"$error":"#N/A"}},{"$f":"MATCH($AG$4,Millwall!$AB$122:$AP$122,0)","v":{"$error":"#N/A"}},{"$f":"MATCH($AH$4,Millwall!$AB$122:$AP$122,0)","v":{"$error":"#N/A"}},{"$f":"MATCH($AI$4,Millwall!$AB$122:$AP$122,0)","v":{"$error":"#N/A"}},{"$f":"MATCH($AJ$4,Millwall!$AB$122:$AP$122,0)","v":{"$error":"#N/A"}},{"$f":"MATCH($AK$4,Millwall!$AB$122:$AP$122,0)","v":{"$error":"#N/A"}},{"$f":"MATCH($AL$4,Millwall!$AB$122:$AP$122,0)","v":{"$error":"#N/A"}},{"$f":"MATCH($AM$4,Millwall!$AB$122:$AP$122,0)","v":{"$error":"#N/A"}},{"$f":"MATCH($AN$4,Millwall!$AB$122:$AP$122,0)","v":{"$error":"#N/A"}},{"$f":"MATCH($AO$4,Millwall!$AB$122:$AP$122,0)","v":{"$error":"#N/A"}},{"$f":"MATCH($AP$4,Millwall!$AB$122:$AP$122,0)","v":{"$error":"#N/A"}},{"$f":"MATCH($AQ$4,Millwall!$AB$122:$AP$122,0)","v":{"$error":"#N/A"}},{"$f":"MATCH($AR$4,Millwall!$AE$122:$AP$122,0)","v":{"$error":"#N/A"}},null,null,null,null,null,{"$f":"MATCH(AX$3,Millwall!$AB122:$AP122,0)","v":{"$error":"#N/A"}},{"$f":"MATCH(AY$3,Millwall!$AB122:$AP122,0)","v":{"$error":"#N/A"}},{"$f":"MATCH(AZ$3,Millwall!$AB122:$AP122,0)","v":{"$error":"#N/A"}},{"$f":"MATCH(BA$3,Millwall!$AB122:$AP122,0)","v":{"$error":"#N/A"}},{"$f":"MATCH(BB$3,Millwall!$AB122:$AP122,0)","v":{"$error":"#N/A"}},{"$f":"MATCH(BC$3,Millwall!$AB122:$AP122,0)","v":{"$error":"#N/A"}},{"$f":"MATCH(BD$3,Millwall!$AB122:$AP122,0)","v":{"$error":"#N/A"}},{"$f":"MATCH(BE$3,Millwall!$AB122:$AP122,0)","v":{"$error":"#N/A"}},{"$f":"MATCH(BF$3,Millwall!$AB122:$AP122,0)","v":{"$error":"#N/A"}},{"$f":"MATCH(BG$3,Millwall!$AB122:$AP122,0)","v":{"$error":"#N/A"}},{"$f":"MATCH(BH$3,Millwall!$AB122:$AP122,0)","v":{"$error":"#N/A"}},{"$f":"MATCH(BI$3,Millwall!$AB122:$AP122,0)","v":{"$error":"#N/A"}},{"$f":"MATCH(BJ$3,Millwall!$AB122:$AP122,0)","v":{"$error":"#N/A"}},{"$f":"MATCH(BK$3,Millwall!$AB122:$AP122,0)","v":{"$error":"#N/A"}},{"$f":"MATCH(BL$3,Millwall!$AB122:$AP122,0)","v":{"$error":"#N/A"}},{"$f":"MATCH(BM$3,Millwall!$AB122:$AP122,0)","v":{"$error":"#N/A"}},{"$f":"MATCH(BN$3,Millwall!$AB122:$AP122,0)","v":{"$error":"#N/A"}},{"$f":"MATCH(BO$3,Millwall!$AB122:$AP122,0)","v":{"$error":"#N/A"}},{"$f":"MATCH(BP$3,Millwall!$AB122:$AP122,0)","v":{"$error":"#N/A"}},{"$f":"MATCH(BQ$3,Millwall!$AB122:$AP122,0)","v":{"$error":"#N/A"}},{"$f":"MATCH(BR$3,Millwall!$AB122:$AP122,0)","v":{"$error":"#N/A"}},{"$f":"MATCH(BS$3,Millwall!$AB122:$AP122,0)","v":{"$error":"#N/A"}},{"$f":"MATCH(BT$3,Millwall!$AB122:$AP122,0)","v":{"$error":"#N/A"}},{"$f":"MATCH(BU$3,Millwall!$AB122:$AP122,0)","v":{"$error":"#N/A"}},{"$f":"MATCH(BV$3,Millwall!$AB122:$AP122,0)","v":{"$error":"#N/A"}},{"$f":"MATCH(BW$3,Millwall!$AB122:$AP122,0)","v":{"$error":"#N/A"}},{"$f":"MATCH(BX$3,Millwall!$AB122:$AP122,0)","v":{"$error":"#N/A"}},{"$f":"MATCH(BY$3,Millwall!$AB122:$AP122,0)","v":{"$error":"#N/A"}},{"$f":"MATCH(BZ$3,Millwall!$AB122:$AP122,0)","v":{"$error":"#N/A"}},{"$f":"MATCH(CA$3,Millwall!$AB122:$AP122,0)","v":{"$error":"#N/A"}},{"$f":"MATCH(CB$3,Millwall!$AB122:$AP122,0)","v":{"$error":"#N/A"}},{"$f":"MATCH(CC$3,Millwall!$AB122:$AP122,0)","v":{"$error":"#N/A"}},{"$f":"MATCH(CD$3,Millwall!$AB122:$AP122,0)","v":{"$error":"#N/A"}},{"$f":"MATCH(CE$3,Millwall!$AB122:$AP122,0)","v":{"$error":"#N/A"}},null,null,{"$f":"MATCH(CH3,Millwall!AC122:AP122,0)","v":{"$error":"#N/A"}},{"$f":"MATCH(CI3,Millwall!AC122:AP122,0)","v":{"$error":"#N/A"}},{"$f":"MATCH(CJ3,Millwall!AC122:AP122,0)","v":{"$error":"#N/A"}},{"$f":"MATCH(CK3,Millwall!AC122:AP122,0)","v":{"$error":"#N/A"}},{"$f":"MATCH(CL3,Millwall!AC122:AP122,0)","v":{"$error":"#N/A"}},{"$f":"MATCH(CM3,Millwall!AC122:AP122,0)","v":{"$error":"#N/A"}},{"$f":"MATCH(CN3,Millwall!AC122:AP122,0)","v":{"$error":"#N/A"}},{"$f":"MATCH(CO3,Millwall!AC122:AP122,0)","v":{"$error":"#N/A"}},{"$f":"MATCH(CP3,Millwall!AC122:AP122,0)","v":{"$error":"#N/A"}},{"$f":"MATCH(CQ3,Millwall!AC122:AP122,0)","v":{"$error":"#N/A"}},{"$f":"MATCH(CR3,Millwall!AC122:AP122,0)","v":{"$error":"#N/A"}},{"$f":"MATCH(CS3,Millwall!AC122:AP122,0)","v":{"$error":"#N/A"}},{"$f":"MATCH(CT3,Millwall!AC122:AP122,0)","v":{"$error":"#N/A"}},{"$f":"MATCH(CU3,Millwall!AC122:AP122,0)","v":{"$error":"#N/A"}},{"$f":"MATCH(CV3,Millwall!AC122:AP122,0)","v":{"$error":"#N/A"}},{"$f":"MATCH(CW3,Millwall!AC122:AP122,0)","v":{"$error":"#N/A"}},{"$f":"MATCH(CX3,Millwall!AC122:AP122,0)","v":{"$error":"#N/A"}},{"$f":"MATCH(CY3,Millwall!AC122:AP122,0)","v":{"$error":"#N/A"}},{"$f":"MATCH(CZ3,Millwall!AC122:AP122,0)","v":{"$error":"#N/A"}},{"$f":"MATCH(DA3,Millwall!AC122:AP122,0)","v":{"$error":"#N/A"}},{"$f":"MATCH(DB3,Millwall!AC122:AP122,0)","v":{"$error":"#N/A"}},{"$f":"MATCH(DC3,Millwall!AC122:AP122,0)","v":{"$error":"#N/A"}},{"$f":"MATCH(DD3,Millwall!AC122:AP122,0)","v":{"$error":"#N/A"}},{"$f":"MATCH(DE3,Millwall!AC122:AP122,0)","v":{"$error":"#N/A"}},{"$f":"MATCH(DF3,Millwall!AC122:AP122,0)","v":{"$error":"#N/A"}},{"$f":"MATCH(DG3,Millwall!AC122:AP122,0)","v":{"$error":"#N/A"}},{"$f":"MATCH(DH3,Millwall!AC122:AP122,0)","v":{"$error":"#N/A"}},{"$f":"MATCH(DI3,Millwall!AC122:AP122,0)","v":{"$error":"#N/A"}},{"$f":"MATCH(DJ3,Millwall!AC122:AP122,0)","v":{"$error":"#N/A"}},{"$f":"MATCH(DK3,Millwall!AC122:AP122,0)","v":{"$error":"#N/A"}},{"$f":"MATCH(DL3,Millwall!AC122:AP122,0)","v":{"$error":"#N/A"}},{"$f":"MATCH(DM3,Millwall!AC122:AP122,0)","v":{"$error":"#N/A"}},{"$f":"MATCH(DN3,Millwall!AC122:AP122,0)","v":{"$error":"#N/A"}},{"$f":"MATCH(DO3,Millwall!AC122:AP122,0)","v":{"$error":"#N/A"}}]
[null,null,1,49,null,{"$f":"Millwall!X123","v":"00:00:00"},null,{"$f":"Millwall!Y123","v":"00:00:00"},{"$f":"Millwall!Z123","v":"00:00:00"},{"$f":"Millwall!AA123","v":0},{"$f":"MATCH($K$4,Millwall!$AB$123:$AP$123,0)","v":{"$error":"#N/A"}},{"$f":"MATCH($L$4,Millwall!$AB$123:$AP$123,0)","v":{"$error":"#N/A"}},{"$f":"MATCH($M$4,Millwall!$AB$123:$AP$123,0)","v":{"$error":"#N/A"}},{"$f":"MATCH($N$4,Millwall!$AB$123:$AP$123,0)","v":{"$error":"#N/A"}},{"$f":"MATCH($O$4,Millwall!$AB$123:$AP$123,0)","v":{"$error":"#N/A"}},{"$f":"MATCH($P$4,Millwall!$AB$123:$AP$123,0)","v":{"$error":"#N/A"}},{"$f":"MATCH($Q$4,Millwall!$AB$123:$AP$123,0)","v":{"$error":"#N/A"}},{"$f":"MATCH($R$4,Millwall!$AB$123:$AP$123,0)","v":{"$error":"#N/A"}},{"$f":"MATCH($S$4,Millwall!$AB$123:$AP$123,0)","v":{"$error":"#N/A"}},{"$f":"MATCH($T$4,Millwall!$AB$123:$AP$123,0)","v":{"$error":"#N/A"}},{"$f":"MATCH($U$4,Millwall!$AB$123:$AP$123,0)","v":{"$error":"#N/A"}},{"$f":"MATCH($V$4,Millwall!$AB$123:$AP$123,0)","v":{"$error":"#N/A"}},{"$f":"MATCH($W$4,Millwall!$AB$123:$AP$123,0)","v":{"$error":"#N/A"}},{"$f":"MATCH($X$4,Millwall!$AB$123:$AP$123,0)","v":{"$error":"#N/A"}},{"$f":"MATCH($Y$4,Millwall!$AB$123:$AP$123,0)","v":{"$error":"#N/A"}},{"$f":"MATCH($Z$4,Millwall!$AB$123:$AP$123,0)","v":{"$error":"#N/A"}},{"$f":"MATCH($AA$4,Millwall!$AB$123:$AP$123,0)","v":{"$error":"#N/A"}},{"$f":"MATCH($AB$4,Millwall!$AB$123:$AP$123,0)","v":{"$error":"#N/A"}},{"$f":"MATCH($AC$4,Millwall!$AB$123:$AP$123,0)","v":{"$error":"#N/A"}},{"$f":"MATCH($AD$4,Millwall!$AB$123:$AP$123,0)","v":{"$error":"#N/A"}},{"$f":"MATCH($AE$4,Millwall!$AB$123:$AP$123,0)","v":{"$error":"#N/A"}},{"$f":"MATCH($AF$4,Millwall!$AB$123:$AP$123,0)","v":{"$error":"#N/A"}},{"$f":"MATCH($AG$4,Millwall!$AB$123:$AP$123,0)","v":{"$error":"#N/A"}},{"$f":"MATCH($AH$4,Millwall!$AB$123:$AP$123,0)","v":{"$error":"#N/A"}},{"$f":"MATCH($AI$4,Millwall!$AB$123:$AP$123,0)","v":{"$error":"#N/A"}},{"$f":"MATCH($AJ$4,Millwall!$AB$123:$AP$123,0)","v":{"$error":"#N/A"}},{"$f":"MATCH($AK$4,Millwall!$AB$123:$AP$123,0)","v":{"$error":"#N/A"}},{"$f":"MATCH($AL$4,Millwall!$AB$123:$AP$123,0)","v":{"$error":"#N/A"}},{"$f":"MATCH($AM$4,Millwall!$AB$123:$AP$123,0)","v":{"$error":"#N/A"}},{"$f":"MATCH($AN$4,Millwall!$AB$123:$AP$123,0)","v":{"$error":"#N/A"}},{"$f":"MATCH($AO$4,Millwall!$AB$123:$AP$123,0)","v":{"$error":"#N/A"}},{"$f":"MATCH($AP$4,Millwall!$AB$123:$AP$123,0)","v":{"$error":"#N/A"}},{"$f":"MATCH($AQ$4,Millwall!$AB$123:$AP$123,0)","v":{"$error":"#N/A"}},{"$f":"MATCH($AR$4,Millwall!$AE$123:$AP$123,0)","v":{"$error":"#N/A"}},null,null,null,null,null,{"$f":"MATCH(AX$3,Millwall!$AB123:$AP123,0)","v":{"$error":"#N/A"}},{"$f":"MATCH(AY$3,Millwall!$AB123:$AP123,0)","v":{"$error":"#N/A"}},{"$f":"MATCH(AZ$3,Millwall!$AB123:$AP123,0)","v":{"$error":"#N/A"}},{"$f":"MATCH(BA$3,Millwall!$AB123:$AP123,0)","v":{"$error":"#N/A"}},{"$f":"MATCH(BB$3,Millwall!$AB123:$AP123,0)","v":{"$error":"#N/A"}},{"$f":"MATCH(BC$3,Millwall!$AB123:$AP123,0)","v":{"$error":"#N/A"}},{"$f":"MATCH(BD$3,Millwall!$AB123:$AP123,0)","v":{"$error":"#N/A"}},{"$f":"MATCH(BE$3,Millwall!$AB123:$AP123,0)","v":{"$error":"#N/A"}},{"$f":"MATCH(BF$3,Millwall!$AB123:$AP123,0)","v":{"$error":"#N/A"}},{"$f":"MATCH(BG$3,Millwall!$AB123:$AP123,0)","v":{"$error":"#N/A"}},{"$f":"MATCH(BH$3,Millwall!$AB123:$AP123,0)","v":{"$error":"#N/A"}},{"$f":"MATCH(BI$3,Millwall!$AB123:$AP123,0)","v":{"$error":"#N/A"}},{"$f":"MATCH(BJ$3,Millwall!$AB123:$AP123,0)","v":{"$error":"#N/A"}},{"$f":"MATCH(BK$3,Millwall!$AB123:$AP123,0)","v":{"$error":"#N/A"}},{"$f":"MATCH(BL$3,Millwall!$AB123:$AP123,0)","v":{"$error":"#N/A"}},{"$f":"MATCH(BM$3,Millwall!$AB123:$AP123,0)","v":{"$error":"#N/A"}},{"$f":"MATCH(BN$3,Millwall!$AB123:$AP123,0)","v":{"$error":"#N/A"}},{"$f":"MATCH(BO$3,Millwall!$AB123:$AP123,0)","v":{"$error":"#N/A"}},{"$f":"MATCH(BP$3,Millwall!$AB123:$AP123,0)","v":{"$error":"#N/A"}},{"$f":"MATCH(BQ$3,Millwall!$AB123:$AP123,0)","v":{"$error":"#N/A"}},{"$f":"MATCH(BR$3,Millwall!$AB123:$AP123,0)","v":{"$error":"#N/A"}},{"$f":"MATCH(BS$3,Millwall!$AB123:$AP123,0)","v":{"$error":"#N/A"}},{"$f":"MATCH(BT$3,Millwall!$AB123:$AP123,0)","v":{"$error":"#N/A"}},{"$f":"MATCH(BU$3,Millwall!$AB123:$AP123,0)","v":{"$error":"#N/A"}},{"$f":"MATCH(BV$3,Millwall!$AB123:$AP123,0)","v":{"$error":"#N/A"}},{"$f":"MATCH(BW$3,Millwall!$AB123:$AP123,0)","v":{"$error":"#N/A"}},{"$f":"MATCH(BX$3,Millwall!$AB123:$AP123,0)","v":{"$error":"#N/A"}},{"$f":"MATCH(BY$3,Millwall!$AB123:$AP123,0)","v":{"$error":"#N/A"}},{"$f":"MATCH(BZ$3,Millwall!$AB123:$AP123,0)","v":{"$error":"#N/A"}},{"$f":"MATCH(CA$3,Millwall!$AB123:$AP123,0)","v":{"$error":"#N/A"}},{"$f":"MATCH(CB$3,Millwall!$AB123:$AP123,0)","v":{"$error":"#N/A"}},{"$f":"MATCH(CC$3,Millwall!$AB123:$AP123,0)","v":{"$error":"#N/A"}},{"$f":"MATCH(CD$3,Millwall!$AB123:$AP123,0)","v":{"$error":"#N/A"}},{"$f":"MATCH(CE$3,Millwall!$AB123:$AP123,0)","v":{"$error":"#N/A"}},null,null,{"$f":"MATCH(CH3,Millwall!AC123:AP123,0)","v":{"$error":"#N/A"}},{"$f":"MATCH(CI3,Millwall!AC123:AP123,0)","v":{"$error":"#N/A"}},{"$f":"MATCH(CJ3,Millwall!AC123:AP123,0)","v":{"$error":"#N/A"}},{"$f":"MATCH(CK3,Millwall!AC123:AP123,0)","v":{"$error":"#N/A"}},{"$f":"MATCH(CL3,Millwall!AC123:AP123,0)","v":{"$error":"#N/A"}},{"$f":"MATCH(CM3,Millwall!AC123:AP123,0)","v":{"$error":"#N/A"}},{"$f":"MATCH(CN3,Millwall!AC123:AP123,0)","v":{"$error":"#N/A"}},{"$f":"MATCH(CO3,Millwall!AC123:AP123,0)","v":{"$error":"#N/A"}},{"$f":"MATCH(CP3,Millwall!AC123:AP123,0)","v":{"$error":"#N/A"}},{"$f":"MATCH(CQ3,Millwall!AC123:AP123,0)","v":{"$error":"#N/A"}},{"$f":"MATCH(CR3,Millwall!AC123:AP123,0)","v":{"$error":"#N/A"}},{"$f":"MATCH(CS3,Millwall!AC123:AP123,0)","v":{"$error":"#N/A"}},{"$f":"MATCH(CT3,Millwall!AC123:AP123,0)","v":{"$error":"#N/A"}},{"$f":"MATCH(CU3,Millwall!AC123:AP123,0)","v":{"$error":"#N/A"}},{"$f":"MATCH(CV3,Millwall!AC123:AP123,0)","v":{"$error":"#N/A"}},{"$f":"MATCH(CW3,Millwall!AC123:AP123,0)","v":{"$error":"#N/A"}},{"$f":"MATCH(CX3,Millwall!AC123:AP123,0)","v":{"$error":"#N/A"}},{"$f":"MATCH(CY3,Millwall!AC123:AP123,0)","v":{"$error":"#N/A"}},{"$f":"MATCH(CZ3,Millwall!AC123:AP123,0)","v":{"$error":"#N/A"}},{"$f":"MATCH(DA3,Millwall!AC123:AP123,0)","v":{"$error":"#N/A"}},{"$f":"MATCH(DB3,Millwall!AC123:AP123,0)","v":{"$error":"#N/A"}},{"$f":"MATCH(DC3,Millwall!AC123:AP123,0)","v":{"$error":"#N/A"}},{"$f":"MATCH(DD3,Millwall!AC123:AP123,0)","v":{"$error":"#N/A"}},{"$f":"MATCH(DE3,Millwall!AC123:AP123,0)","v":{"$error":"#N/A"}},{"$f":"MATCH(DF3,Millwall!AC123:AP123,0)","v":{"$error":"#N/A"}},{"$f":"MATCH(DG3,Millwall!AC123:AP123,0)","v":{"$error":"#N/A"}},{"$f":"MATCH(DH3,Millwall!AC123:AP123,0)","v":{"$error":"#N/A"}},{"$f":"MATCH(DI3,Millwall!AC123:AP123,0)","v":{"$error":"#N/A"}},{"$f":"MATCH(DJ3,Millwall!AC123:AP123,0)","v":{"$error":"#N/A"}},{"$f":"MATCH(DK3,Millwall!AC123:AP123,0)","v":{"$error":"#N/A"}},{"$f":"MATCH(DL3,Millwall!AC123:AP123,0)","v":{"$error":"#N/A"}},{"$f":"MATCH(DM3,Millwall!AC123:AP123,0)","v":{"$error":"#N/A"}},{"$f":"MATCH(DN3,Millwall!AC123:AP123,0)","v":{"$error":"#N/A"}},{"$f":"MATCH(DO3,Millwall!AC123:AP123,0)","v":{"$error":"#N/A"}}]
[]
[null,null,null,null,null,null,null,null,null,"Total League Apperances",{"$f":"COUNT($K$5:$K$53)-$K$56-$K$57","v":30},{"$f":"COUNT($L$5:$L$53)-$L$56-$L$57","v":3},{"$f":"COUNT($M$5:$M$53)-$M$56-$M$57","v":46},{"$f":"COUNT($N$5:$N$53)-$N$56-$N$57","v":20},{"$f":"COUNT($O$5:$O$53)-$O$56-$O$57","v":11},{"$f":"COUNT($P$5:$P$53)-$P$56-$P$57","v":41},{"$f":"COUNT($Q$5:$Q$53)-$Q$56-$Q$57","v":37},{"$f":"COUNT($R$5:$R$53)-$R$56-$R$57","v":1},{"$f":"COUNT($S$5:$S$53)-$S$56-$S$57","v":46},{"$f":"COUNT($T$5:$T$53)-$T$56-$T$57","v":4},{"$f":"COUNT($U$5:$U$53)-$U$56-$U$57","v":0},{"$f":"COUNT($V$5:$V$53)-$V$56-$V$57","v":29},{"$f":"COUNT($W$5:$W$53)-$W$56-$W$57","v":3},{"$f":"COUNT($X$5:$X$53)-$X$56-$X$57","v":45},{"$f":"COUNT($Y$5:$Y$53)-$Y$56-$Y$57","v":0},{"$f":"COUNT($Z$5:$Z$53)-$Z$56-$Z$57","v":1},{"$f":"COUNT($AA$5:$AA$53)-$AA$56-$AA$57","v":9},{"$f":"COUNT($AB$5:$AB$53)-$AB$56-$AB$57","v":1},{"$f":"COUNT($AC$5:$AC$53)-$AC$56-$AC$57","v":34},{"$f":"COUNT($AD$5:$AD$53)-$AD$56-$AD$57","v":0},{"$f":"COUNT($AE$5:$AE$53)-$AE$56-$AE$57","v":6},{"$f":"COUNT($AF$5:$AF$53)-$AF$56-$AF$57","v":6},{"$f":"COUNT($AG$5:$AG$53)-$AG$56-$AG$57","v":4},{"$f":"COUNT($AH$5:$AH$53)-$AH$56-$AH$57","v":31},{"$f":"COUNT($AI$5:$AI$53)-$AI$56-$AI$57","v":23},{"$f":"COUNT($AJ$5:$AJ$53)-$AJ$56-$AJ$57","v":41},{"$f":"COUNT($AK$5:$AK$53)-$AK$56-$AK$57","v":0},{"$f":"COUNT($AL$5:$AL$53)-$AL$56-$AL$57","v":0},{"$f":"COUNT($AM$5:$AM$53)-$AM$56-$AM$57","v":31},{"$f":"COUNT($AN$5:$AN$53)-$AN$56-$AN$57","v":0},{"$f":"COUNT($AO$5:$AO$53)-$AO$56-$AO$57","v":3},{"$f":"COUNT($AP$5:$AP$53)-$AP$56-$AP$57","v":0},{"$f":"COUNT($AQ$5:$AQ$53)-$AQ$56-$AQ$57","v":0},{"$f":"COUNT($AR$5:$AR$53)-$AR$56-$AR$57","v":0},null,{"$f":"46*11","v":506}]
[null,null,null,null,null,null,null,null,null,"Total League Substitute Appearences ",{"$f":"$AX$56+$CH$56","v":11},{"$f":"$AY$56+$CI$56","v":0},{"$f":"$AZ$56+$CJ$56","v":0},{"$f":"$BA$56+$CK$56","v":2},{"$f":"$BB$56+$CL$56","v":2},{"$f":"$BC$56+$CM$56","v":0},{"$f":"$BD$56+$CN$56","v":0},{"$f":"$BE$56+$CO$56","v":0},{"$f":"$BF$56+$CP$56","v":0},{"$f":"$BG$56+$CQ$56","v":14},{"$f":"$BH$56+$CR$56","v":3},{"$f":"$BI$56+$CS$56","v":6},{"$f":"$BJ$56+$CT$56","v":8},{"$f":"$BK$56+$CU$56","v":0},{"$f":"$BL$56+$CV$56","v":1},{"$f":"$BM$56+$CW$56","v":5},{"$f":"$BN$56+$CX$56","v":0},{"$f":"$BO$56+$CY$56","v":0},{"$f":"$BP$56+$CZ$56","v":1},{"$f":"$BQ$56+$DA$56","v":0},{"$f":"$BR$56+$DB$56","v":1},{"$f":"$BS$56+$DC$56","v":1},{"$f":"$BT$56+$DD$56","v":2},{"$f":"$BU$56+$DE$56","v":6},{"$f":"$BV$56+$DF$56","v":7},{"$f":"$BW$56+$DG$56","v":4},{"$f":"$BX$56+$DH$56","v":0},{"$f":"$BY$56+$DI$56","v":5},{"$f":"$BZ$56+$DJ$56","v":0},{"$f":"$CA$56+$DK$56","v":1},{"$f":"$CB$56+$DL$56","v":0},{"$f":"$CC$56+$DM$56","v":0},{"$f":"$CD$56+$DN$56","v":0},{"$f":"$CE$56+$DO$56","v":0},null,{"$f":"46*2","v":92},null,null,null,{"$f":"COUNTIF(AX5:AX53,12)","v":11},0,0,1,1,0,0,0,0,10,0,3,0,0,0,5,0,0,0,0,0,1,0,6,0,0,0,3,0,1,0,0,0,0,null,null,{"$f":"COUNTIF(CH5:CH53,14)","v":0},0,0,1,1,0,0,0,0,4,3,3,8,0,1,0,0,0,1,0,1,0,2,0,7,4,0,2,0,0,0,0,0,0]
[null,null,null,null,null,null,null,null,null,"Non Playing Substitute",{"$f":"COUNTIF($K$5:$K$52,\">=12\")-$K$56","v":1},{"$f":"COUNTIF($L$5:$L$52,\">=12\")-$L$56","v":0},{"$f":"COUNTIF($M$5:$M$52,\">=12\")-$M$56","v":0},{"$f":"COUNTIF($N$5:$N$52,\">=12\")-$N$56","v":0},{"$f":"COUNTIF($O$5:$O$52,\">=12\")-$O$56","v":0},{"$f":"COUNTIF($P$5:$P$52,\">=12\")-$P$56","v":0},{"$f":"COUNTIF($Q$5:$Q$52,\">=12\")-$Q$56","v":0},{"$f":"COUNTIF($R$5:$R$52,\">=12\")-$R$56","v":0},{"$f":"COUNTIF($S$5:$S$52,\">=12\")-$S$56","v":0},{"$f":"COUNTIF($T$5:$T$52,\">=12\")-$T$56","v":0},{"$f":"COUNTIF($U$5:$U$52,\">=12\")-$U$56","v":0},{"$f":"COUNTIF($V$5:$V$52,\">=12\")-$V$56","v":1},{"$f":"COUNTIF($W$5:$W$52,\">=12\")-$W$56","v":4},{"$f":"COUNTIF($X$5:$X$52,\">=12\")-$X$56","v":0},{"$f":"COUNTIF($Y$5:$Y$52,\">=12\")-$Y$56","v":0},{"$f":"COUNTIF($Z$5:$Z$52,\">=12\")-$Z$56","v":0},{"$f":"COUNTIF($AA$5:$AA$52,\">=12\")-$AA$56","v":0},{"$f":"COUNTIF($AB$5:$AB$52,\">=12\")-$AB$56","v":0},{"$f":"COUNTIF($AC$5:$AC$52,\">=12\")-$AC$56","v":0},{"$f":"COUNTIF($AD$5:$AD$52,\">=12\")-$AD$56","v":0},{"$f":"COUNTIF($AE$5:$AE$52,\">=12\")-$AE$56","v":2},{"$f":"COUNTIF($AF$5:$AF$52,\">=12\")-$AF$56","v":1},{"$f":"COUNTIF($AG$5:$AG$52,\">=12\")-$AG$56","v":1},{"$f":"COUNTIF($AH$5:$AH$52,\">=12\")-$AH$56","v":0},{"$f":"COUNTIF($AI$5:$AI$52,\">=12\")-$AI$56","v":2},{"$f":"COUNTIF($AJ$5:$AJ$50,\">=12\")-$AJ$56","v":0},{"$f":"COUNTIF($AK$5:$AK$50,\">=12\")-$AK$56","v":0},{"$f":"COUNTIF($AL$5:$AL$50,\">=12\")-$AL$56","v":0},{"$f":"COUNTIF($AM$5:$AM$50,\">=12\")-$AM$56","v":0},{"$f":"COUNTIF($AN$5:$AN$50,\">=12\")-$AN$56","v":0},{"$f":"COUNTIF($AO$5:$AO$50,\">=12\")-$AO$56","v":0},{"$f":"COUNTIF($AP$5:$AP$50,\">=12\")-$AP$56","v":0},{"$f":"COUNTIF($AQ$5:$AQ$50,\">=12\")-$AQ$56","v":0},{"$f":"COUNTIF($AR$5:$AR$50,\">=12\")-$AR$56","v":0},null,null,null,null,null,{"$f":"CH56","v":0},{"$f":"CI56","v":0},0,1,1,0,0,0,0,4,3,3,8,0,1,0,0,0,1,0,1,0,2,0,7,4,0,2,0,0,0,0,0,0]
[null,null,null,null,null,null,null,null,null,"Goals",{"$f":"Millwall!$BY$8","v":10},{"$f":"Millwall!$BY$9","v":1},{"$f":"Millwall!$BY$10","v":8},{"$f":"Millwall!$BY$11","v":0},{"$f":"Millwall!$BY$12","v":1},{"$f":"Millwall!$BY$13","v":4},{"$f":"Millwall!$BY$14","v":0},{"$f":"Millwall!$BY$15","v":0},{"$f":"Millwall!$BY$16","v":0},{"$f":"Millwall!$BY$17","v":1},{"$f":"Millwall!$BY$18","v":0},{"$f":"Millwall!$BY$19","v":12},{"$f":"Millwall!$BY$20","v":0},{"$f":"Millwall!$BY$21","v":0},{"$f":"Millwall!$BY$22","v":0},{"$f":"Millwall!$BY$23","v":1},{"$f":"Millwall!$BY$24","v":0},{"$f":"Millwall!$BY$25","v":0},{"$f":"Millwall!$BY$26","v":1},{"$f":"Millwall!$BY$27","v":0},{"$f":"Millwall!$BY$28","v":1},{"$f":"Millwall!$BY$29","v":2},{"$f":"Millwall!$BY$30","v":0},{"$f":"Millwall!$BY$31","v":15},{"$f":"Millwall!$BY$32","v":6},{"$f":"Millwall!$BY$33","v":0},{"$f":"Millwall!$BY$34","v":0},{"$f":"Millwall!$BY$35","v":0},{"$f":"Millwall!$BY$36","v":2},{"$f":"Millwall!$BY$37","v":0},{"$f":"Millwall!$BY$38","v":0},{"$f":"Millwall!#REF!","v":{"$error":"#REF!"}},{"$f":"Millwall!$BY$45","v":0},{"$f":"Millwall!$BY$46","v":0},null,null,null,null,{"$f":"320+798","v":1118},{"$f":"SUM(AX56:AX57)","v":11},{"$f":"SUM(AY56:AY57)","v":0},0,2,2,0,0,0,0,14,3,6,8,0,1,5,0,0,1,0,1,1,2,6,7,4,0,5,0,1,0,0,0,0]
[null,null,0]
[null,null,null,null,null,null,null,"FA Cup"]
[null,null,{"$f":"IF(J61=0,1,0)","v":0},3,null,{"$f":"Millwall!X126","v":"1993-01-13"},null,{"$f":"Millwall!Y126","v":"Southend"},{"$f":"Millwall!Z126","v":"(A)"},{"$f":"Millwall!AA126","v":"L 0-1"},{"$f":"MATCH(K$4,Millwall!$AB126:$AP126,0)","v":12},{"$f":"MATCH(L$4,Millwall!$AB126:$AP126,0)","v":{"$error":"#N/A"}},{"$f":"MATCH(M$4,Millwall!$AB126:$AP126,0)","v":11},{"$f":"MATCH(N$4,Millwall!$AB126:$AP126,0)","v":9},{"$f":"MATCH(O$4,Millwall!$AB126:$AP126,0)","v":{"$error":"#N/A"}},{"$f":"MATCH(P$4,Millwall!$AB126:$AP126,0)","v":5},{"$f":"MATCH(Q$4,Millwall!$AB126:$AP126,0)","v":{"$error":"#N/A"}},{"$f":"MATCH(R$4,Millwall!$AB126:$AP126,0)","v":{"$error":"#N/A"}},{"$f":"MATCH(S$4,Millwall!$AB126:$AP126,0)","v":3},{"$f":"MATCH(T$4,Millwall!$AB126:$AP126,0)","v":{"$error":"#N/A"}},{"$f":"MATCH(U$4,Millwall!$AB126:$AP126,0)","v":{"$error":"#N/A"}},{"$f":"MATCH(V$4,Millwall!$AB126:$AP126,0)","v":10},{"$f":"MATCH(W$4,Millwall!$AB126:$AP126,0)","v":14},{"$f":"MATCH(X$4,Millwall!$AB126:$AP126,0)","v":1},{"$f":"MATCH(Y$4,Millwall!$AB126:$AP126,0)","v":{"$error":"#N/A"}},{"$f":"MATCH(Z$4,Millwall!$AB126:$AP126,0)","v":{"$error":"#N/A"}},{"$f":"MATCH(AA$4,Millwall!$AB126:$AP126,0)","v":{"$error":"#N/A"}},{"$f":"MATCH(AB$4,Millwall!$AB126:$AP126,0)","v":{"$error":"#N/A"}},{"$f":"MATCH(AC$4,Millwall!$AB126:$AP126,0)","v":4},{"$f":"MATCH(AD$4,Millwall!$AB126:$AP126,0)","v":{"$error":"#N/A"}},{"$f":"MATCH(AE$4,Millwall!$AB126:$AP126,0)","v":{"$error":"#N/A"}},{"$f":"MATCH(AF$4,Millwall!$AB126:$AP126,0)","v":{"$error":"#N/A"}},{"$f":"MATCH(AG$4,Millwall!$AB126:$AP126,0)","v":{"$error":"#N/A"}},{"$f":"MATCH(AH$4,Millwall!$AB126:$AP126,0)","v":8},{"$f":"MATCH(AI$4,Millwall!$AB126:$AP126,0)","v":2},{"$f":"MATCH(AJ$4,Millwall!$AB126:$AP126,0)","v":7},{"$f":"MATCH(AK$4,Millwall!$AB126:$AP126,0)","v":{"$error":"#N/A"}},{"$f":"MATCH(AL$4,Millwall!$AB126:$AP126,0)","v":{"$error":"#N/A"}},{"$f":"MATCH(AM$4,Millwall!$AB126:$AP126,0)","v":6},{"$f":"MATCH(AN$4,Millwall!$AB126:$AP126,0)","v":{"$error":"#N/A"}},{"$f":"MATCH(AO$4,Millwall!$AB126:$AP126,0)","v":{"$error":"#N/A"}},{"$f":"MATCH(AP$4,Millwall!$AB126:$AP126,0)","v":{"$error":"#N/A"}},{"$f":"MATCH(AQ$4,Millwall!$AB126:$AP126,0)","v":{"$error":"#N/A"}},{"$f":"MATCH(AR$4,Millwall!$AB126:$AP126,0)","v":{"$error":"#N/A"}},null,null,null,null,null,{"$f":"MATCH(AX$3,Millwall!$AB126:$AP126,0)","v":12},{"$f":"MATCH(AY$3,Millwall!$AB126:$AP126,0)","v":{"$error":"#N/A"}},{"$f":"MATCH(AZ$3,Millwall!$AB126:$AP126,0)","v":{"$error":"#N/A"}},{"$f":"MATCH(BA$3,Millwall!$AB126:$AP126,0)","v":{"$error":"#N/A"}},{"$f":"MATCH(BB$3,Millwall!$AB126:$AP126,0)","v":{"$error":"#N/A"}},{"$f":"MATCH(BC$3,Millwall!$AB126:$AP126,0)","v":{"$error":"#N/A"}},{"$f":"MATCH(BD$3,Millwall!$AB126:$AP126,0)","v":{"$error":"#N/A"}},{"$f":"MATCH(BE$3,Millwall!$AB126:$AP126,0)","v":{"$error":"#N/A"}},{"$f":"MATCH(BF$3,Millwall!$AB126:$AP126,0)","v":{"$error":"#N/A"}},{"$f":"MATCH(BG$3,Millwall!$AB126:$AP126,0)","v":{"$error":"#N/A"}},{"$f":"MATCH(BH$3,Millwall!$AB126:$AP126,0)","v":{"$error":"#N/A"}},{"$f":"MATCH(BI$3,Millwall!$AB126:$AP126,0)","v":10},{"$f":"MATCH(BJ$3,Millwall!$AB126:$AP126,0)","v":{"$error":"#N/A"}},{"$f":"MATCH(BK$3,Millwall!$AB126:$AP126,0)","v":{"$error":"#N/A"}},{"$f":"MATCH(BL$3,Millwall!$AB126:$AP126,0)","v":{"$error":"#N/A"}},{"$f":"MATCH(BM$3,Millwall!$AB126:$AP126,0)","v":{"$error":"#N/A"}},{"$f":"MATCH(BN$3,Millwall!$AB126:$AP126,0)","v":{"$error":"#N/A"}},{"$f":"MATCH(BO$3,Millwall!$AB126:$AP126,0)","v":{"$error":"#N/A"}},{"$f":"MATCH(BP$3,Millwall!$AB126:$AP126,0)","v":{"$error":"#N/A"}},{"$f":"MATCH(BQ$3,Millwall!$AB126:$AP126,0)","v":{"$error":"#N/A"}},{"$f":"MATCH(BR$3,Millwall!$AB126:$AP126,0)","v":{"$error":"#N/A"}},{"$f":"MATCH(BS$3,Millwall!$AB126:$AP126,0)","v":{"$error":"#N/A"}},{"$f":"MATCH(BT$3,Millwall!$AB126:$AP126,0)","v":{"$error":"#N/A"}},{"$f":"MATCH(BU$3,Millwall!$AB126:$AP126,0)","v":{"$error":"#N/A"}},{"$f":"MATCH(BV$3,Millwall!$AB126:$AP126,0)","v":{"$error":"#N/A"}},{"$f":"MATCH(BW$3,Millwall!$AB126:$AP126,0)","v":{"$error":"#N/A"}},{"$f":"MATCH(BX$3,Millwall!$AB126:$AP126,0)","v":{"$error":"#N/A"}},{"$f":"MATCH(BY$3,Millwall!$AB126:$AP126,0)","v":{"$error":"#N/A"}},{"$f":"MATCH(BZ$3,Millwall!$AB126:$AP126,0)","v":{"$error":"#N/A"}},{"$f":"MATCH(CA$3,Millwall!$AB126:$AP126,0)","v":{"$error":"#N/A"}},{"$f":"MATCH(CB$3,Millwall!$AB126:$AP126,0)","v":{"$error":"#N/A"}},{"$f":"MATCH(CC$3,Millwall!$AB126:$AP126,0)","v":{"$error":"#N/A"}},{"$f":"MATCH(CD$3,Millwall!$AB126:$AP126,0)","v":{"$error":"#N/A"}},{"$f":"MATCH(CE$3,Millwall!$AB126:$AP126,0)","v":{"$error":"#N/A"}},null,null,{"$f":"MATCH(CH$3,Millwall!$AB126:$AP126,0)","v":{"$error":"#N/A"}},{"$f":"MATCH(CI$3,Millwall!$AB126:$AP126,0)","v":{"$error":"#N/A"}},{"$f":"MATCH(CJ$3,Millwall!$AB126:$AP126,0)","v":{"$error":"#N/A"}},{"$f":"MATCH(CK$3,Millwall!$AB126:$AP126,0)","v":9},{"$f":"MATCH(CL$3,Millwall!$AB126:$AP126,0)","v":{"$error":"#N/A"}},{"$f":"MATCH(CM$3,Millwall!$AB126:$AP126,0)","v":{"$error":"#N/A"}},{"$f":"MATCH(CN$3,Millwall!$AB126:$AP126,0)","v":{"$error":"#N/A"}},{"$f":"MATCH(CO$3,Millwall!$AB126:$AP126,0)","v":{"$error":"#N/A"}},{"$f":"MATCH(CP$3,Millwall!$AB126:$AP126,0)","v":{"$error":"#N/A"}},{"$f":"MATCH(CQ$3,Millwall!$AB126:$AP126,0)","v":{"$error":"#N/A"}},{"$f":"MATCH(CR$3,Millwall!$AB126:$AP126,0)","v":{"$error":"#N/A"}},{"$f":"MATCH(CS$3,Millwall!$AB126:$AP126,0)","v":{"$error":"#N/A"}},{"$f":"MATCH(CT$3,Millwall!$AB126:$AP126,0)","v":14},{"$f":"MATCH(CU$3,Millwall!$AB126:$AP126,0)","v":{"$error":"#N/A"}},{"$f":"MATCH(CV$3,Millwall!$AB126:$AP126,0)","v":{"$error":"#N/A"}},{"$f":"MATCH(CW$3,Millwall!$AB126:$AP126,0)","v":{"$error":"#N/A"}},{"$f":"MATCH(CX$3,Millwall!$AB126:$AP126,0)","v":{"$error":"#N/A"}},{"$f":"MATCH(CY$3,Millwall!$AB126:$AP126,0)","v":{"$error":"#N/A"}},{"$f":"MATCH(CZ$3,Millwall!$AB126:$AP126,0)","v":{"$error":"#N/A"}},{"$f":"MATCH(DA$3,Millwall!$AB126:$AP126,0)","v":{"$error":"#N/A"}},{"$f":"MATCH(DB$3,Millwall!$AB126:$AP126,0)","v":{"$error":"#N/A"}},{"$f":"MATCH(DC$3,Millwall!$AB126:$AP126,0)","v":{"$error":"#N/A"}},{"$f":"MATCH(DD$3,Millwall!$AB126:$AP126,0)","v":{"$error":"#N/A"}},{"$f":"MATCH(DE$3,Millwall!$AB126:$AP126,0)","v":{"$error":"#N/A"}},{"$f":"MATCH(DF$3,Millwall!$AB126:$AP126,0)","v":{"$error":"#N/A"}},{"$f":"MATCH(DG$3,Millwall!$AB126:$AP126,0)","v":{"$error":"#N/A"}},{"$f":"MATCH(DH$3,Millwall!$AB126:$AP126,0)","v":{"$error":"#N/A"}},{"$f":"MATCH(DI$3,Millwall!$AB126:$AP126,0)","v":{"$error":"#N/A"}},{"$f":"MATCH(DJ$3,Millwall!$AB126:$AP126,0)","v":{"$error":"#N/A"}},{"$f":"MATCH(DK$3,Millwall!$AB126:$AP126,0)","v":{"$error":"#N/A"}},{"$f":"MATCH(DL$3,Millwall!$AB126:$AP126,0)","v":{"$error":"#N/A"}},{"$f":"MATCH(DM$3,Millwall!$AB126:$AP126,0)","v":{"$error":"#N/A"}},{"$f":"MATCH(DN$3,Millwall!$AB126:$AP126,0)","v":{"$error":"#N/A"}},{"$f":"MATCH(DO$3,Millwall!$AB126:$AP126,0)","v":{"$error":"#N/A"}}]
[null,null,1,4,null,{"$f":"Millwall!X127","v":"00:00:00"},null,{"$f":"Millwall!Y127","v":"00:00:00"},{"$f":"Millwall!Z127","v":"00:00:00"},{"$f":"Millwall!AA127","v":0},{"$f":"MATCH(K$4,Millwall!$AB127:$AP127,0)","v":{"$error":"#N/A"}},{"$f":"MATCH(L$4,Millwall!$AB127:$AP127,0)","v":{"$error":"#N/A"}},{"$f":"MATCH(M$4,Millwall!$AB127:$AP127,0)","v":{"$error":"#N/A"}},{"$f":"MATCH(N$4,Millwall!$AB127:$AP127,0)","v":{"$error":"#N/A"}},{"$f":"MATCH(O$4,Millwall!$AB127:$AP127,0)","v":{"$error":"#N/A"}},{"$f":"MATCH(P$4,Millwall!$AB127:$AP127,0)","v":{"$error":"#N/A"}},{"$f":"MATCH(Q$4,Millwall!$AB127:$AP127,0)","v":{"$error":"#N/A"}},{"$f":"MATCH(R$4,Millwall!$AB127:$AP127,0)","v":{"$error":"#N/A"}},{"$f":"MATCH(S$4,Millwall!$AB127:$AP127,0)","v":{"$error":"#N/A"}},{"$f":"MATCH(T$4,Millwall!$AB127:$AP127,0)","v":{"$error":"#N/A"}},{"$f":"MATCH(U$4,Millwall!$AB127:$AP127,0)","v":{"$error":"#N/A"}},{"$f":"MATCH(V$4,Millwall!$AB127:$AP127,0)","v":{"$error":"#N/A"}},{"$f":"MATCH(W$4,Millwall!$AB127:$AP127,0)","v":{"$error":"#N/A"}},{"$f":"MATCH(X$4,Millwall!$AB127:$AP127,0)","v":{"$error":"#N/A"}},{"$f":"MATCH(Y$4,Millwall!$AB127:$AP127,0)","v":{"$error":"#N/A"}},{"$f":"MATCH(Z$4,Millwall!$AB127:$AP127,0)","v":{"$error":"#N/A"}},{"$f":"MATCH(AA$4,Millwall!$AB127:$AP127,0)","v":{"$error":"#N/A"}},{"$f":"MATCH(AB$4,Millwall!$AB127:$AP127,0)","v":{"$error":"#N/A"}},{"$f":"MATCH(AC$4,Millwall!$AB127:$AP127,0)","v":{"$error":"#N/A"}},{"$f":"MATCH(AD$4,Millwall!$AB127:$AP127,0)","v":{"$error":"#N/A"}},{"$f":"MATCH(AE$4,Millwall!$AB127:$AP127,0)","v":{"$error":"#N/A"}},{"$f":"MATCH(AF$4,Millwall!$AB127:$AP127,0)","v":{"$error":"#N/A"}},{"$f":"MATCH(AG$4,Millwall!$AB127:$AP127,0)","v":{"$error":"#N/A"}},{"$f":"MATCH(AH$4,Millwall!$AB127:$AP127,0)","v":{"$error":"#N/A"}},{"$f":"MATCH(AI$4,Millwall!$AB127:$AP127,0)","v":{"$error":"#N/A"}},{"$f":"MATCH(AJ$4,Millwall!$AB127:$AP127,0)","v":{"$error":"#N/A"}},{"$f":"MATCH(AK$4,Millwall!$AB127:$AP127,0)","v":{"$error":"#N/A"}},{"$f":"MATCH(AL$4,Millwall!$AB127:$AP127,0)","v":{"$error":"#N/A"}},{"$f":"MATCH(AM$4,Millwall!$AB127:$AP127,0)","v":{"$error":"#N/A"}},{"$f":"MATCH(AN$4,Millwall!$AB127:$AP127,0)","v":{"$error":"#N/A"}},{"$f":"MATCH(AO$4,Millwall!$AB127:$AP127,0)","v":{"$error":"#N/A"}},{"$f":"MATCH(AP$4,Millwall!$AB127:$AP127,0)","v":{"$error":"#N/A"}},{"$f":"MATCH(AQ$4,Millwall!$AB127:$AP127,0)","v":{"$error":"#N/A"}},{"$f":"MATCH(AR$4,Millwall!$AB127:$AP127,0)","v":{"$error":"#N/A"}},null,null,null,null,null,{"$f":"MATCH(AX$3,Millwall!$AB127:$AP127,0)","v":{"$error":"#N/A"}},{"$f":"MATCH(AY$3,Millwall!$AB127:$AP127,0)","v":{"$error":"#N/A"}},{"$f":"MATCH(AZ$3,Millwall!$AB127:$AP127,0)","v":{"$error":"#N/A"}},{"$f":"MATCH(BA$3,Millwall!$AB127:$AP127,0)","v":{"$error":"#N/A"}},{"$f":"MATCH(BB$3,Millwall!$AB127:$AP127,0)","v":{"$error":"#N/A"}},{"$f":"MATCH(BC$3,Millwall!$AB127:$AP127,0)","v":{"$error":"#N/A"}},{"$f":"MATCH(BD$3,Millwall!$AB127:$AP127,0)","v":{"$error":"#N/A"}},{"$f":"MATCH(BE$3,Millwall!$AB127:$AP127,0)","v":{"$error":"#N/A"}},{"$f":"MATCH(BF$3,Millwall!$AB127:$AP127,0)","v":{"$error":"#N/A"}},{"$f":"MATCH(BG$3,Millwall!$AB127:$AP127,0)","v":{"$error":"#N/A"}},{"$f":"MATCH(BH$3,Millwall!$AB127:$AP127,0)","v":{"$error":"#N/A"}},{"$f":"MATCH(BI$3,Millwall!$AB127:$AP127,0)","v":{"$error":"#N/A"}},{"$f":"MATCH(BJ$3,Millwall!$AB127:$AP127,0)","v":{"$error":"#N/A"}},{"$f":"MATCH(BK$3,Millwall!$AB127:$AP127,0)","v":{"$error":"#N/A"}},{"$f":"MATCH(BL$3,Millwall!$AB127:$AP127,0)","v":{"$error":"#N/A"}},{"$f":"MATCH(BM$3,Millwall!$AB127:$AP127,0)","v":{"$error":"#N/A"}},{"$f":"MATCH(BN$3,Millwall!$AB127:$AP127,0)","v":{"$error":"#N/A"}},{"$f":"MATCH(BO$3,Millwall!$AB127:$AP127,0)","v":{"$error":"#N/A"}},{"$f":"MATCH(BP$3,Millwall!$AB127:$AP127,0)","v":{"$error":"#N/A"}},{"$f":"MATCH(BQ$3,Millwall!$AB127:$AP127,0)","v":{"$error":"#N/A"}},{"$f":"MATCH(BR$3,Millwall!$AB127:$AP127,0)","v":{"$error":"#N/A"}},{"$f":"MATCH(BS$3,Millwall!$AB127:$AP127,0)","v":{"$error":"#N/A"}},{"$f":"MATCH(BT$3,Millwall!$AB127:$AP127,0)","v":{"$error":"#N/A"}},{"$f":"MATCH(BU$3,Millwall!$AB127:$AP127,0)","v":{"$error":"#N/A"}},{"$f":"MATCH(BV$3,Millwall!$AB127:$AP127,0)","v":{"$error":"#N/A"}},{"$f":"MATCH(BW$3,Millwall!$AB127:$AP127,0)","v":{"$error":"#N/A"}},{"$f":"MATCH(BX$3,Millwall!$AB127:$AP127,0)","v":{"$error":"#N/A"}},{"$f":"MATCH(BY$3,Millwall!$AB127:$AP127,0)","v":{"$error":"#N/A"}},{"$f":"MATCH(BZ$3,Millwall!$AB127:$AP127,0)","v":{"$error":"#N/A"}},{"$f":"MATCH(CA$3,Millwall!$AB127:$AP127,0)","v":{"$error":"#N/A"}},{"$f":"MATCH(CB$3,Millwall!$AB127:$AP127,0)","v":{"$error":"#N/A"}},{"$f":"MATCH(CC$3,Millwall!$AB127:$AP127,0)","v":{"$error":"#N/A"}},{"$f":"MATCH(CD$3,Millwall!$AB127:$AP127,0)","v":{"$error":"#N/A"}},{"$f":"MATCH(CE$3,Millwall!$AB127:$AP127,0)","v":{"$error":"#N/A"}},null,null,{"$f":"MATCH(CH$3,Millwall!$AB127:$AP127,0)","v":{"$error":"#N/A"}},{"$f":"MATCH(CI$3,Millwall!$AB127:$AP127,0)","v":{"$error":"#N/A"}},{"$f":"MATCH(CJ$3,Millwall!$AB127:$AP127,0)","v":{"$error":"#N/A"}},{"$f":"MATCH(CK$3,Millwall!$AB127:$AP127,0)","v":{"$error":"#N/A"}},{"$f":"MATCH(CL$3,Millwall!$AB127:$AP127,0)","v":{"$error":"#N/A"}},{"$f":"MATCH(CM$3,Millwall!$AB127:$AP127,0)","v":{"$error":"#N/A"}},{"$f":"MATCH(CN$3,Millwall!$AB127:$AP127,0)","v":{"$error":"#N/A"}},{"$f":"MATCH(CO$3,Millwall!$AB127:$AP127,0)","v":{"$error":"#N/A"}},{"$f":"MATCH(CP$3,Millwall!$AB127:$AP127,0)","v":{"$error":"#N/A"}},{"$f":"MATCH(CQ$3,Millwall!$AB127:$AP127,0)","v":{"$error":"#N/A"}},{"$f":"MATCH(CR$3,Millwall!$AB127:$AP127,0)","v":{"$error":"#N/A"}},{"$f":"MATCH(CS$3,Millwall!$AB127:$AP127,0)","v":{"$error":"#N/A"}},{"$f":"MATCH(CT$3,Millwall!$AB127:$AP127,0)","v":{"$error":"#N/A"}},{"$f":"MATCH(CU$3,Millwall!$AB127:$AP127,0)","v":{"$error":"#N/A"}},{"$f":"MATCH(CV$3,Millwall!$AB127:$AP127,0)","v":{"$error":"#N/A"}},{"$f":"MATCH(CW$3,Millwall!$AB127:$AP127,0)","v":{"$error":"#N/A"}},{"$f":"MATCH(CX$3,Millwall!$AB127:$AP127,0)","v":{"$error":"#N/A"}},{"$f":"MATCH(CY$3,Millwall!$AB127:$AP127,0)","v":{"$error":"#N/A"}},{"$f":"MATCH(CZ$3,Millwall!$AB127:$AP127,0)","v":{"$error":"#N/A"}},{"$f":"MATCH(DA$3,Millwall!$AB127:$AP127,0)","v":{"$error":"#N/A"}},{"$f":"MATCH(DB$3,Millwall!$AB127:$AP127,0)","v":{"$error":"#N/A"}},{"$f":"MATCH(DC$3,Millwall!$AB127:$AP127,0)","v":{"$error":"#N/A"}},{"$f":"MATCH(DD$3,Millwall!$AB127:$AP127,0)","v":{"$error":"#N/A"}},{"$f":"MATCH(DE$3,Millwall!$AB127:$AP127,0)","v":{"$error":"#N/A"}},{"$f":"MATCH(DF$3,Millwall!$AB127:$AP127,0)","v":{"$error":"#N/A"}},{"$f":"MATCH(DG$3,Millwall!$AB127:$AP127,0)","v":{"$error":"#N/A"}},{"$f":"MATCH(DH$3,Millwall!$AB127:$AP127,0)","v":{"$error":"#N/A"}},{"$f":"MATCH(DI$3,Millwall!$AB127:$AP127,0)","v":{"$error":"#N/A"}},{"$f":"MATCH(DJ$3,Millwall!$AB127:$AP127,0)","v":{"$error":"#N/A"}},{"$f":"MATCH(DK$3,Millwall!$AB127:$AP127,0)","v":{"$error":"#N/A"}},{"$f":"MATCH(DL$3,Millwall!$AB127:$AP127,0)","v":{"$error":"#N/A"}},{"$f":"MATCH(DM$3,Millwall!$AB127:$AP127,0)","v":{"$error":"#N/A"}},{"$f":"MATCH(DN$3,Millwall!$AB127:$AP127,0)","v":{"$error":"#N/A"}},{"$f":"MATCH(DO$3,Millwall!$AB127:$AP127,0)","v":{"$error":"#N/A"}}]
[null,null,1,null,null,{"$f":"Millwall!X128","v":"00:00:00"},null,{"$f":"Millwall!Y128","v":"00:00:00"},{"$f":"Millwall!Z128","v":"00:00:00"},{"$f":"Millwall!AA128","v":0},{"$f":"MATCH(K$4,Millwall!$AB128:$AP128,0)","v":{"$error":"#N/A"}},{"$f":"MATCH(L$4,Millwall!$AB128:$AP128,0)","v":{"$error":"#N/A"}},{"$f":"MATCH(M$4,Millwall!$AB128:$AP128,0)","v":{"$error":"#N/A"}},{"$f":"MATCH(N$4,Millwall!$AB128:$AP128,0)","v":{"$error":"#N/A"}},{"$f":"MATCH(O$4,Millwall!$AB128:$AP128,0)","v":{"$error":"#N/A"}},{"$f":"MATCH(P$4,Millwall!$AB128:$AP128,0)","v":{"$error":"#N/A"}},{"$f":"MATCH(Q$4,Millwall!$AB128:$AP128,0)","v":{"$error":"#N/A"}},{"$f":"MATCH(R$4,Millwall!$AB128:$AP128,0)","v":{"$error":"#N/A"}},{"$f":"MATCH(S$4,Millwall!$AB128:$AP128,0)","v":{"$error":"#N/A"}},{"$f":"MATCH(T$4,Millwall!$AB128:$AP128,0)","v":{"$error":"#N/A"}},{"$f":"MATCH(U$4,Millwall!$AB128:$AP128,0)","v":{"$error":"#N/A"}},{"$f":"MATCH(V$4,Millwall!$AB128:$AP128,0)","v":{"$error":"#N/A"}},{"$f":"MATCH(W$4,Millwall!$AB128:$AP128,0)","v":{"$error":"#N/A"}},{"$f":"MATCH(X$4,Millwall!$AB128:$AP128,0)","v":{"$error":"#N/A"}},{"$f":"MATCH(Y$4,Millwall!$AB128:$AP128,0)","v":{"$error":"#N/A"}},{"$f":"MATCH(Z$4,Millwall!$AB128:$AP128,0)","v":{"$error":"#N/A"}},{"$f":"MATCH(AA$4,Millwall!$AB128:$AP128,0)","v":{"$error":"#N/A"}},{"$f":"MATCH(AB$4,Millwall!$AB128:$AP128,0)","v":{"$error":"#N/A"}},{"$f":"MATCH(AC$4,Millwall!$AB128:$AP128,0)","v":{"$error":"#N/A"}},{"$f":"MATCH(AD$4,Millwall!$AB128:$AP128,0)","v":{"$error":"#N/A"}},{"$f":"MATCH(AE$4,Millwall!$AB128:$AP128,0)","v":{"$error":"#N/A"}},{"$f":"MATCH(AF$4,Millwall!$AB128:$AP128,0)","v":{"$error":"#N/A"}},{"$f":"MATCH(AG$4,Millwall!$AB128:$AP128,0)","v":{"$error":"#N/A"}},{"$f":"MATCH(AH$4,Millwall!$AB128:$AP128,0)","v":{"$error":"#N/A"}},{"$f":"MATCH(AI$4,Millwall!$AB128:$AP128,0)","v":{"$error":"#N/A"}},{"$f":"MATCH(AJ$4,Millwall!$AB128:$AP128,0)","v":{"$error":"#N/A"}},{"$f":"MATCH(AK$4,Millwall!$AB128:$AP128,0)","v":{"$error":"#N/A"}},{"$f":"MATCH(AL$4,Millwall!$AB128:$AP128,0)","v":{"$error":"#N/A"}},{"$f":"MATCH(AM$4,Millwall!$AB128:$AP128,0)","v":{"$error":"#N/A"}},{"$f":"MATCH(AN$4,Millwall!$AB128:$AP128,0)","v":{"$error":"#N/A"}},{"$f":"MATCH(AO$4,Millwall!$AB128:$AP128,0)","v":{"$error":"#N/A"}},{"$f":"MATCH(AP$4,Millwall!$AB128:$AP128,0)","v":{"$error":"#N/A"}},{"$f":"MATCH(AQ$4,Millwall!$AB128:$AP128,0)","v":{"$error":"#N/A"}},{"$f":"MATCH(AR$4,Millwall!$AB128:$AP128,0)","v":{"$error":"#N/A"}},null,null,null,null,null,{"$f":"MATCH(AX$3,Millwall!$AB128:$AP128,0)","v":{"$error":"#N/A"}},{"$f":"MATCH(AY$3,Millwall!$AB128:$AP128,0)","v":{"$error":"#N/A"}},{"$f":"MATCH(AZ$3,Millwall!$AB128:$AP128,0)","v":{"$error":"#N/A"}},{"$f":"MATCH(BA$3,Millwall!$AB128:$AP128,0)","v":{"$error":"#N/A"}},{"$f":"MATCH(BB$3,Millwall!$AB128:$AP128,0)","v":{"$error":"#N/A"}},{"$f":"MATCH(BC$3,Millwall!$AB128:$AP128,0)","v":{"$error":"#N/A"}},{"$f":"MATCH(BD$3,Millwall!$AB128:$AP128,0)","v":{"$error":"#N/A"}},{"$f":"MATCH(BE$3,Millwall!$AB128:$AP128,0)","v":{"$error":"#N/A"}},{"$f":"MATCH(BF$3,Millwall!$AB128:$AP128,0)","v":{"$error":"#N/A"}},{"$f":"MATCH(BG$3,Millwall!$AB128:$AP128,0)","v":{"$error":"#N/A"}},{"$f":"MATCH(BH$3,Millwall!$AB128:$AP128,0)","v":{"$error":"#N/A"}},{"$f":"MATCH(BI$3,Millwall!$AB128:$AP128,0)","v":{"$error":"#N/A"}},{"$f":"MATCH(BJ$3,Millwall!$AB128:$AP128,0)","v":{"$error":"#N/A"}},{"$f":"MATCH(BK$3,Millwall!$AB128:$AP128,0)","v":{"$error":"#N/A"}},{"$f":"MATCH(BL$3,Millwall!$AB128:$AP128,0)","v":{"$error":"#N/A"}},{"$f":"MATCH(BM$3,Millwall!$AB128:$AP128,0)","v":{"$error":"#N/A"}},{"$f":"MATCH(BN$3,Millwall!$AB128:$AP128,0)","v":{"$error":"#N/A"}},{"$f":"MATCH(BO$3,Millwall!$AB128:$AP128,0)","v":{"$error":"#N/A"}},{"$f":"MATCH(BP$3,Millwall!$AB128:$AP128,0)","v":{"$error":"#N/A"}},{"$f":"MATCH(BQ$3,Millwall!$AB128:$AP128,0)","v":{"$error":"#N/A"}},{"$f":"MATCH(BR$3,Millwall!$AB128:$AP128,0)","v":{"$error":"#N/A"}},{"$f":"MATCH(BS$3,Millwall!$AB128:$AP128,0)","v":{"$error":"#N/A"}},{"$f":"MATCH(BT$3,Millwall!$AB128:$AP128,0)","v":{"$error":"#N/A"}},{"$f":"MATCH(BU$3,Millwall!$AB128:$AP128,0)","v":{"$error":"#N/A"}},{"$f":"MATCH(BV$3,Millwall!$AB128:$AP128,0)","v":{"$error":"#N/A"}},{"$f":"MATCH(BW$3,Millwall!$AB128:$AP128,0)","v":{"$error":"#N/A"}},{"$f":"MATCH(BX$3,Millwall!$AB128:$AP128,0)","v":{"$error":"#N/A"}},{"$f":"MATCH(BY$3,Millwall!$AB128:$AP128,0)","v":{"$error":"#N/A"}},{"$f":"MATCH(BZ$3,Millwall!$AB128:$AP128,0)","v":{"$error":"#N/A"}},{"$f":"MATCH(CA$3,Millwall!$AB128:$AP128,0)","v":{"$error":"#N/A"}},{"$f":"MATCH(CB$3,Millwall!$AB128:$AP128,0)","v":{"$error":"#N/A"}},{"$f":"MATCH(CC$3,Millwall!$AB128:$AP128,0)","v":{"$error":"#N/A"}},{"$f":"MATCH(CD$3,Millwall!$AB128:$AP128,0)","v":{"$error":"#N/A"}},{"$f":"MATCH(CE$3,Millwall!$AB128:$AP128,0)","v":{"$error":"#N/A"}},null,null,{"$f":"MATCH(CH$3,Millwall!$AB128:$AP128,0)","v":{"$error":"#N/A"}},{"$f":"MATCH(CI$3,Millwall!$AB128:$AP128,0)","v":{"$error":"#N/A"}},{"$f":"MATCH(CJ$3,Millwall!$AB128:$AP128,0)","v":{"$error":"#N/A"}},{"$f":"MATCH(CK$3,Millwall!$AB128:$AP128,0)","v":{"$error":"#N/A"}},{"$f":"MATCH(CL$3,Millwall!$AB128:$AP128,0)","v":{"$error":"#N/A"}},{"$f":"MATCH(CM$3,Millwall!$AB128:$AP128,0)","v":{"$error":"#N/A"}},{"$f":"MATCH(CN$3,Millwall!$AB128:$AP128,0)","v":{"$error":"#N/A"}},{"$f":"MATCH(CO$3,Millwall!$AB128:$AP128,0)","v":{"$error":"#N/A"}},{"$f":"MATCH(CP$3,Millwall!$AB128:$AP128,0)","v":{"$error":"#N/A"}},{"$f":"MATCH(CQ$3,Millwall!$AB128:$AP128,0)","v":{"$error":"#N/A"}},{"$f":"MATCH(CR$3,Millwall!$AB128:$AP128,0)","v":{"$error":"#N/A"}},{"$f":"MATCH(CS$3,Millwall!$AB128:$AP128,0)","v":{"$error":"#N/A"}},{"$f":"MATCH(CT$3,Millwall!$AB128:$AP128,0)","v":{"$error":"#N/A"}},{"$f":"MATCH(CU$3,Millwall!$AB128:$AP128,0)","v":{"$error":"#N/A"}},{"$f":"MATCH(CV$3,Millwall!$AB128:$AP128,0)","v":{"$error":"#N/A"}},{"$f":"MATCH(CW$3,Millwall!$AB128:$AP128,0)","v":{"$error":"#N/A"}},{"$f":"MATCH(CX$3,Millwall!$AB128:$AP128,0)","v":{"$error":"#N/A"}},{"$f":"MATCH(CY$3,Millwall!$AB128:$AP128,0)","v":{"$error":"#N/A"}},{"$f":"MATCH(CZ$3,Millwall!$AB128:$AP128,0)","v":{"$error":"#N/A"}},{"$f":"MATCH(DA$3,Millwall!$AB128:$AP128,0)","v":{"$error":"#N/A"}},{"$f":"MATCH(DB$3,Millwall!$AB128:$AP128,0)","v":{"$error":"#N/A"}},{"$f":"MATCH(DC$3,Millwall!$AB128:$AP128,0)","v":{"$error":"#N/A"}},{"$f":"MATCH(DD$3,Millwall!$AB128:$AP128,0)","v":{"$error":"#N/A"}},{"$f":"MATCH(DE$3,Millwall!$AB128:$AP128,0)","v":{"$error":"#N/A"}},{"$f":"MATCH(DF$3,Millwall!$AB128:$AP128,0)","v":{"$error":"#N/A"}},{"$f":"MATCH(DG$3,Millwall!$AB128:$AP128,0)","v":{"$error":"#N/A"}},{"$f":"MATCH(DH$3,Millwall!$AB128:$AP128,0)","v":{"$error":"#N/A"}},{"$f":"MATCH(DI$3,Millwall!$AB128:$AP128,0)","v":{"$error":"#N/A"}},{"$f":"MATCH(DJ$3,Millwall!$AB128:$AP128,0)","v":{"$error":"#N/A"}},{"$f":"MATCH(DK$3,Millwall!$AB128:$AP128,0)","v":{"$error":"#N/A"}},{"$f":"MATCH(DL$3,Millwall!$AB128:$AP128,0)","v":{"$error":"#N/A"}},{"$f":"MATCH(DM$3,Millwall!$AB128:$AP128,0)","v":{"$error":"#N/A"}},{"$f":"MATCH(DN$3,Millwall!$AB128:$AP128,0)","v":{"$error":"#N/A"}},{"$f":"MATCH(DO$3,Millwall!$AB128:$AP128,0)","v":{"$error":"#N/A"}}]
[null,null,1,null,null,{"$f":"Millwall!X129","v":"00:00:00"},null,{"$f":"Millwall!Y129","v":"00:00:00"},{"$f":"Millwall!Z129","v":"00:00:00"},{"$f":"Millwall!AA129","v":0},{"$f":"MATCH(K$4,Millwall!$AB129:$AP129,0)","v":{"$error":"#N/A"}},{"$f":"MATCH(L$4,Millwall!$AB129:$AP129,0)","v":{"$error":"#N/A"}},{"$f":"MATCH(M$4,Millwall!$AB129:$AP129,0)","v":{"$error":"#N/A"}},{"$f":"MATCH(N$4,Millwall!$AB129:$AP129,0)","v":{"$error":"#N/A"}},{"$f":"MATCH(O$4,Millwall!$AB129:$AP129,0)","v":{"$error":"#N/A"}},{"$f":"MATCH(P$4,Millwall!$AB129:$AP129,0)","v":{"$error":"#N/A"}},{"$f":"MATCH(Q$4,Millwall!$AB129:$AP129,0)","v":{"$error":"#N/A"}},{"$f":"MATCH(R$4,Millwall!$AB129:$AP129,0)","v":{"$error":"#N/A"}},{"$f":"MATCH(S$4,Millwall!$AB129:$AP129,0)","v":{"$error":"#N/A"}},{"$f":"MATCH(T$4,Millwall!$AB129:$AP129,0)","v":{"$error":"#N/A"}},{"$f":"MATCH(U$4,Millwall!$AB129:$AP129,0)","v":{"$error":"#N/A"}},{"$f":"MATCH(V$4,Millwall!$AB129:$AP129,0)","v":{"$error":"#N/A"}},{"$f":"MATCH(W$4,Millwall!$AB129:$AP129,0)","v":{"$error":"#N/A"}},{"$f":"MATCH(X$4,Millwall!$AB129:$AP129,0)","v":{"$error":"#N/A"}},{"$f":"MATCH(Y$4,Millwall!$AB129:$AP129,0)","v":{"$error":"#N/A"}},{"$f":"MATCH(Z$4,Millwall!$AB129:$AP129,0)","v":{"$error":"#N/A"}},{"$f":"MATCH(AA$4,Millwall!$AB129:$AP129,0)","v":{"$error":"#N/A"}},{"$f":"MATCH(AB$4,Millwall!$AB129:$AP129,0)","v":{"$error":"#N/A"}},{"$f":"MATCH(AC$4,Millwall!$AB129:$AP129,0)","v":{"$error":"#N/A"}},{"$f":"MATCH(AD$4,Millwall!$AB129:$AP129,0)","v":{"$error":"#N/A"}},{"$f":"MATCH(AE$4,Millwall!$AB129:$AP129,0)","v":{"$error":"#N/A"}},{"$f":"MATCH(AF$4,Millwall!$AB129:$AP129,0)","v":{"$error":"#N/A"}},{"$f":"MATCH(AG$4,Millwall!$AB129:$AP129,0)","v":{"$error":"#N/A"}},{"$f":"MATCH(AH$4,Millwall!$AB129:$AP129,0)","v":{"$error":"#N/A"}},{"$f":"MATCH(AI$4,Millwall!$AB129:$AP129,0)","v":{"$error":"#N/A"}},{"$f":"MATCH(AJ$4,Millwall!$AB129:$AP129,0)","v":{"$error":"#N/A"}},{"$f":"MATCH(AK$4,Millwall!$AB129:$AP129,0)","v":{"$error":"#N/A"}},{"$f":"MATCH(AL$4,Millwall!$AB129:$AP129,0)","v":{"$error":"#N/A"}},{"$f":"MATCH(AM$4,Millwall!$AB129:$AP129,0)","v":{"$error":"#N/A"}},{"$f":"MATCH(AN$4,Millwall!$AB129:$AP129,0)","v":{"$error":"#N/A"}},{"$f":"MATCH(AO$4,Millwall!$AB129:$AP129,0)","v":{"$error":"#N/A"}},{"$f":"MATCH(AP$4,Millwall!$AB129:$AP129,0)","v":{"$error":"#N/A"}},{"$f":"MATCH(AQ$4,Millwall!$AB129:$AP129,0)","v":{"$error":"#N/A"}},{"$f":"MATCH(AR$4,Millwall!$AB129:$AP129,0)","v":{"$error":"#N/A"}},null,null,null,null,null,{"$f":"MATCH(AX$3,Millwall!$AB129:$AP129,0)","v":{"$error":"#N/A"}},{"$f":"MATCH(AY$3,Millwall!$AB129:$AP129,0)","v":{"$error":"#N/A"}},{"$f":"MATCH(AZ$3,Millwall!$AB129:$AP129,0)","v":{"$error":"#N/A"}},{"$f":"MATCH(BA$3,Millwall!$AB129:$AP129,0)","v":{"$error":"#N/A"}},{"$f":"MATCH(BB$3,Millwall!$AB129:$AP129,0)","v":{"$error":"#N/A"}},{"$f":"MATCH(BC$3,Millwall!$AB129:$AP129,0)","v":{"$error":"#N/A"}},{"$f":"MATCH(BD$3,Millwall!$AB129:$AP129,0)","v":{"$error":"#N/A"}},{"$f":"MATCH(BE$3,Millwall!$AB129:$AP129,0)","v":{"$error":"#N/A"}},{"$f":"MATCH(BF$3,Millwall!$AB129:$AP129,0)","v":{"$error":"#N/A"}},{"$f":"MATCH(BG$3,Millwall!$AB129:$AP129,0)","v":{"$error":"#N/A"}},{"$f":"MATCH(BH$3,Millwall!$AB129:$AP129,0)","v":{"$error":"#N/A"}},{"$f":"MATCH(BI$3,Millwall!$AB129:$AP129,0)","v":{"$error":"#N/A"}},{"$f":"MATCH(BJ$3,Millwall!$AB129:$AP129,0)","v":{"$error":"#N/A"}},{"$f":"MATCH(BK$3,Millwall!$AB129:$AP129,0)","v":{"$error":"#N/A"}},{"$f":"MATCH(BL$3,Millwall!$AB129:$AP129,0)","v":{"$error":"#N/A"}},{"$f":"MATCH(BM$3,Millwall!$AB129:$AP129,0)","v":{"$error":"#N/A"}},{"$f":"MATCH(BN$3,Millwall!$AB129:$AP129,0)","v":{"$error":"#N/A"}},{"$f":"MATCH(BO$3,Millwall!$AB129:$AP129,0)","v":{"$error":"#N/A"}},{"$f":"MATCH(BP$3,Millwall!$AB129:$AP129,0)","v":{"$error":"#N/A"}},{"$f":"MATCH(BQ$3,Millwall!$AB129:$AP129,0)","v":{"$error":"#N/A"}},{"$f":"MATCH(BR$3,Millwall!$AB129:$AP129,0)","v":{"$error":"#N/A"}},{"$f":"MATCH(BS$3,Millwall!$AB129:$AP129,0)","v":{"$error":"#N/A"}},{"$f":"MATCH(BT$3,Millwall!$AB129:$AP129,0)","v":{"$error":"#N/A"}},{"$f":"MATCH(BU$3,Millwall!$AB129:$AP129,0)","v":{"$error":"#N/A"}},{"$f":"MATCH(BV$3,Millwall!$AB129:$AP129,0)","v":{"$error":"#N/A"}},{"$f":"MATCH(BW$3,Millwall!$AB129:$AP129,0)","v":{"$error":"#N/A"}},{"$f":"MATCH(BX$3,Millwall!$AB129:$AP129,0)","v":{"$error":"#N/A"}},{"$f":"MATCH(BY$3,Millwall!$AB129:$AP129,0)","v":{"$error":"#N/A"}},{"$f":"MATCH(BZ$3,Millwall!$AB129:$AP129,0)","v":{"$error":"#N/A"}},{"$f":"MATCH(CA$3,Millwall!$AB129:$AP129,0)","v":{"$error":"#N/A"}},{"$f":"MATCH(CB$3,Millwall!$AB129:$AP129,0)","v":{"$error":"#N/A"}},{"$f":"MATCH(CC$3,Millwall!$AB129:$AP129,0)","v":{"$error":"#N/A"}},{"$f":"MATCH(CD$3,Millwall!$AB129:$AP129,0)","v":{"$error":"#N/A"}},{"$f":"MATCH(CE$3,Millwall!$AB129:$AP129,0)","v":{"$error":"#N/A"}},null,null,{"$f":"MATCH(CH$3,Millwall!$AB129:$AP129,0)","v":{"$error":"#N/A"}},{"$f":"MATCH(CI$3,Millwall!$AB129:$AP129,0)","v":{"$error":"#N/A"}},{"$f":"MATCH(CJ$3,Millwall!$AB129:$AP129,0)","v":{"$error":"#N/A"}},{"$f":"MATCH(CK$3,Millwall!$AB129:$AP129,0)","v":{"$error":"#N/A"}},{"$f":"MATCH(CL$3,Millwall!$AB129:$AP129,0)","v":{"$error":"#N/A"}},{"$f":"MATCH(CM$3,Millwall!$AB129:$AP129,0)","v":{"$error":"#N/A"}},{"$f":"MATCH(CN$3,Millwall!$AB129:$AP129,0)","v":{"$error":"#N/A"}},{"$f":"MATCH(CO$3,Millwall!$AB129:$AP129,0)","v":{"$error":"#N/A"}},{"$f":"MATCH(CP$3,Millwall!$AB129:$AP129,0)","v":{"$error":"#N/A"}},{"$f":"MATCH(CQ$3,Millwall!$AB129:$AP129,0)","v":{"$error":"#N/A"}},{"$f":"MATCH(CR$3,Millwall!$AB129:$AP129,0)","v":{"$error":"#N/A"}},{"$f":"MATCH(CS$3,Millwall!$AB129:$AP129,0)","v":{"$error":"#N/A"}},{"$f":"MATCH(CT$3,Millwall!$AB129:$AP129,0)","v":{"$error":"#N/A"}},{"$f":"MATCH(CU$3,Millwall!$AB129:$AP129,0)","v":{"$error":"#N/A"}},{"$f":"MATCH(CV$3,Millwall!$AB129:$AP129,0)","v":{"$error":"#N/A"}},{"$f":"MATCH(CW$3,Millwall!$AB129:$AP129,0)","v":{"$error":"#N/A"}},{"$f":"MATCH(CX$3,Millwall!$AB129:$AP129,0)","v":{"$error":"#N/A"}},{"$f":"MATCH(CY$3,Millwall!$AB129:$AP129,0)","v":{"$error":"#N/A"}},{"$f":"MATCH(CZ$3,Millwall!$AB129:$AP129,0)","v":{"$error":"#N/A"}},{"$f":"MATCH(DA$3,Millwall!$AB129:$AP129,0)","v":{"$error":"#N/A"}},{"$f":"MATCH(DB$3,Millwall!$AB129:$AP129,0)","v":{"$error":"#N/A"}},{"$f":"MATCH(DC$3,Millwall!$AB129:$AP129,0)","v":{"$error":"#N/A"}},{"$f":"MATCH(DD$3,Millwall!$AB129:$AP129,0)","v":{"$error":"#N/A"}},{"$f":"MATCH(DE$3,Millwall!$AB129:$AP129,0)","v":{"$error":"#N/A"}},{"$f":"MATCH(DF$3,Millwall!$AB129:$AP129,0)","v":{"$error":"#N/A"}},{"$f":"MATCH(DG$3,Millwall!$AB129:$AP129,0)","v":{"$error":"#N/A"}},{"$f":"MATCH(DH$3,Millwall!$AB129:$AP129,0)","v":{"$error":"#N/A"}},{"$f":"MATCH(DI$3,Millwall!$AB129:$AP129,0)","v":{"$error":"#N/A"}},{"$f":"MATCH(DJ$3,Millwall!$AB129:$AP129,0)","v":{"$error":"#N/A"}},{"$f":"MATCH(DK$3,Millwall!$AB129:$AP129,0)","v":{"$error":"#N/A"}},{"$f":"MATCH(DL$3,Millwall!$AB129:$AP129,0)","v":{"$error":"#N/A"}},{"$f":"MATCH(DM$3,Millwall!$AB129:$AP129,0)","v":{"$error":"#N/A"}},{"$f":"MATCH(DN$3,Millwall!$AB129:$AP129,0)","v":{"$error":"#N/A"}},{"$f":"MATCH(DO$3,Millwall!$AB129:$AP129,0)","v":{"$error":"#N/A"}}]
[null,null,1,null,null,{"$f":"Millwall!X130","v":"00:00:00"},null,{"$f":"Millwall!Y130","v":"00:00:00"},{"$f":"Millwall!Z130","v":"00:00:00"},{"$f":"Millwall!AA130","v":0},{"$f":"MATCH(K$4,Millwall!$AB130:$AP130,0)","v":{"$error":"#N/A"}},{"$f":"MATCH(L$4,Millwall!$AB130:$AP130,0)","v":{"$error":"#N/A"}},{"$f":"MATCH(M$4,Millwall!$AB130:$AP130,0)","v":{"$error":"#N/A"}},{"$f":"MATCH(N$4,Millwall!$AB130:$AP130,0)","v":{"$error":"#N/A"}},{"$f":"MATCH(O$4,Millwall!$AB130:$AP130,0)","v":{"$error":"#N/A"}},{"$f":"MATCH(P$4,Millwall!$AB130:$AP130,0)","v":{"$error":"#N/A"}},{"$f":"MATCH(Q$4,Millwall!$AB130:$AP130,0)","v":{"$error":"#N/A"}},{"$f":"MATCH(R$4,Millwall!$AB130:$AP130,0)","v":{"$error":"#N/A"}},{"$f":"MATCH(S$4,Millwall!$AB130:$AP130,0)","v":{"$error":"#N/A"}},{"$f":"MATCH(T$4,Millwall!$AB130:$AP130,0)","v":{"$error":"#N/A"}},{"$f":"MATCH(U$4,Millwall!$AB130:$AP130,0)","v":{"$error":"#N/A"}},{"$f":"MATCH(V$4,Millwall!$AB130:$AP130,0)","v":{"$error":"#N/A"}},{"$f":"MATCH(W$4,Millwall!$AB130:$AP130,0)","v":{"$error":"#N/A"}},{"$f":"MATCH(X$4,Millwall!$AB130:$AP130,0)","v":{"$error":"#N/A"}},{"$f":"MATCH(Y$4,Millwall!$AB130:$AP130,0)","v":{"$error":"#N/A"}},{"$f":"MATCH(Z$4,Millwall!$AB130:$AP130,0)","v":{"$error":"#N/A"}},{"$f":"MATCH(AA$4,Millwall!$AB130:$AP130,0)","v":{"$error":"#N/A"}},{"$f":"MATCH(AB$4,Millwall!$AB130:$AP130,0)","v":{"$error":"#N/A"}},{"$f":"MATCH(AC$4,Millwall!$AB130:$AP130,0)","v":{"$error":"#N/A"}},{"$f":"MATCH(AD$4,Millwall!$AB130:$AP130,0)","v":{"$error":"#N/A"}},{"$f":"MATCH(AE$4,Millwall!$AB130:$AP130,0)","v":{"$error":"#N/A"}},{"$f":"MATCH(AF$4,Millwall!$AB130:$AP130,0)","v":{"$error":"#N/A"}},{"$f":"MATCH(AG$4,Millwall!$AB130:$AP130,0)","v":{"$error":"#N/A"}},{"$f":"MATCH(AH$4,Millwall!$AB130:$AP130,0)","v":{"$error":"#N/A"}},{"$f":"MATCH(AI$4,Millwall!$AB130:$AP130,0)","v":{"$error":"#N/A"}},{"$f":"MATCH(AJ$4,Millwall!$AB130:$AP130,0)","v":{"$error":"#N/A"}},{"$f":"MATCH(AK$4,Millwall!$AB130:$AP130,0)","v":{"$error":"#N/A"}},{"$f":"MATCH(AL$4,Millwall!$AB130:$AP130,0)","v":{"$error":"#N/A"}},{"$f":"MATCH(AM$4,Millwall!$AB130:$AP130,0)","v":{"$error":"#N/A"}},{"$f":"MATCH(AN$4,Millwall!$AB130:$AP130,0)","v":{"$error":"#N/A"}},{"$f":"MATCH(AO$4,Millwall!$AB130:$AP130,0)","v":{"$error":"#N/A"}},{"$f":"MATCH(AP$4,Millwall!$AB130:$AP130,0)","v":{"$error":"#N/A"}},{"$f":"MATCH(AQ$4,Millwall!$AB130:$AP130,0)","v":{"$error":"#N/A"}},{"$f":"MATCH(AR$4,Millwall!$AB130:$AP130,0)","v":{"$error":"#N/A"}},null,null,null,null,null,{"$f":"MATCH(AX$3,Millwall!$AB130:$AP130,0)","v":{"$error":"#N/A"}},{"$f":"MATCH(AY$3,Millwall!$AB130:$AP130,0)","v":{"$error":"#N/A"}},{"$f":"MATCH(AZ$3,Millwall!$AB130:$AP130,0)","v":{"$error":"#N/A"}},{"$f":"MATCH(BA$3,Millwall!$AB130:$AP130,0)","v":{"$error":"#N/A"}},{"$f":"MATCH(BB$3,Millwall!$AB130:$AP130,0)","v":{"$error":"#N/A"}},{"$f":"MATCH(BC$3,Millwall!$AB130:$AP130,0)","v":{"$error":"#N/A"}},{"$f":"MATCH(BD$3,Millwall!$AB130:$AP130,0)","v":{"$error":"#N/A"}},{"$f":"MATCH(BE$3,Millwall!$AB130:$AP130,0)","v":{"$error":"#N/A"}},{"$f":"MATCH(BF$3,Millwall!$AB130:$AP130,0)","v":{"$error":"#N/A"}},{"$f":"MATCH(BG$3,Millwall!$AB130:$AP130,0)","v":{"$error":"#N/A"}},{"$f":"MATCH(BH$3,Millwall!$AB130:$AP130,0)","v":{"$error":"#N/A"}},{"$f":"MATCH(BI$3,Millwall!$AB130:$AP130,0)","v":{"$error":"#N/A"}},{"$f":"MATCH(BJ$3,Millwall!$AB130:$AP130,0)","v":{"$error":"#N/A"}},{"$f":"MATCH(BK$3,Millwall!$AB130:$AP130,0)","v":{"$error":"#N/A"}},{"$f":"MATCH(BL$3,Millwall!$AB130:$AP130,0)","v":{"$error":"#N/A"}},{"$f":"MATCH(BM$3,Millwall!$AB130:$AP130,0)","v":{"$error":"#N/A"}},{"$f":"MATCH(BN$3,Millwall!$AB130:$AP130,0)","v":{"$error":"#N/A"}},{"$f":"MATCH(BO$3,Millwall!$AB130:$AP130,0)","v":{"$error":"#N/A"}},{"$f":"MATCH(BP$3,Millwall!$AB130:$AP130,0)","v":{"$error":"#N/A"}},{"$f":"MATCH(BQ$3,Millwall!$AB130:$AP130,0)","v":{"$error":"#N/A"}},{"$f":"MATCH(BR$3,Millwall!$AB130:$AP130,0)","v":{"$error":"#N/A"}},{"$f":"MATCH(BS$3,Millwall!$AB130:$AP130,0)","v":{"$error":"#N/A"}},{"$f":"MATCH(BT$3,Millwall!$AB130:$AP130,0)","v":{"$error":"#N/A"}},{"$f":"MATCH(BU$3,Millwall!$AB130:$AP130,0)","v":{"$error":"#N/A"}},{"$f":"MATCH(BV$3,Millwall!$AB130:$AP130,0)","v":{"$error":"#N/A"}},{"$f":"MATCH(BW$3,Millwall!$AB130:$AP130,0)","v":{"$error":"#N/A"}},{"$f":"MATCH(BX$3,Millwall!$AB130:$AP130,0)","v":{"$error":"#N/A"}},{"$f":"MATCH(BY$3,Millwall!$AB130:$AP130,0)","v":{"$error":"#N/A"}},{"$f":"MATCH(BZ$3,Millwall!$AB130:$AP130,0)","v":{"$error":"#N/A"}},{"$f":"MATCH(CA$3,Millwall!$AB130:$AP130,0)","v":{"$error":"#N/A"}},{"$f":"MATCH(CB$3,Millwall!$AB130:$AP130,0)","v":{"$error":"#N/A"}},{"$f":"MATCH(CC$3,Millwall!$AB130:$AP130,0)","v":{"$error":"#N/A"}},{"$f":"MATCH(CD$3,Millwall!$AB130:$AP130,0)","v":{"$error":"#N/A"}},{"$f":"MATCH(CE$3,Millwall!$AB130:$AP130,0)","v":{"$error":"#N/A"}},null,null,{"$f":"MATCH(CH$3,Millwall!$AB130:$AP130,0)","v":{"$error":"#N/A"}},{"$f":"MATCH(CI$3,Millwall!$AB130:$AP130,0)","v":{"$error":"#N/A"}},{"$f":"MATCH(CJ$3,Millwall!$AB130:$AP130,0)","v":{"$error":"#N/A"}},{"$f":"MATCH(CK$3,Millwall!$AB130:$AP130,0)","v":{"$error":"#N/A"}},{"$f":"MATCH(CL$3,Millwall!$AB130:$AP130,0)","v":{"$error":"#N/A"}},{"$f":"MATCH(CM$3,Millwall!$AB130:$AP130,0)","v":{"$error":"#N/A"}},{"$f":"MATCH(CN$3,Millwall!$AB130:$AP130,0)","v":{"$error":"#N/A"}},{"$f":"MATCH(CO$3,Millwall!$AB130:$AP130,0)","v":{"$error":"#N/A"}},{"$f":"MATCH(CP$3,Millwall!$AB130:$AP130,0)","v":{"$error":"#N/A"}},{"$f":"MATCH(CQ$3,Millwall!$AB130:$AP130,0)","v":{"$error":"#N/A"}},{"$f":"MATCH(CR$3,Millwall!$AB130:$AP130,0)","v":{"$error":"#N/A"}},{"$f":"MATCH(CS$3,Millwall!$AB130:$AP130,0)","v":{"$error":"#N/A"}},{"$f":"MATCH(CT$3,Millwall!$AB130:$AP130,0)","v":{"$error":"#N/A"}},{"$f":"MATCH(CU$3,Millwall!$AB130:$AP130,0)","v":{"$error":"#N/A"}},{"$f":"MATCH(CV$3,Millwall!$AB130:$AP130,0)","v":{"$error":"#N/A"}},{"$f":"MATCH(CW$3,Millwall!$AB130:$AP130,0)","v":{"$error":"#N/A"}},{"$f":"MATCH(CX$3,Millwall!$AB130:$AP130,0)","v":{"$error":"#N/A"}},{"$f":"MATCH(CY$3,Millwall!$AB130:$AP130,0)","v":{"$error":"#N/A"}},{"$f":"MATCH(CZ$3,Millwall!$AB130:$AP130,0)","v":{"$error":"#N/A"}},{"$f":"MATCH(DA$3,Millwall!$AB130:$AP130,0)","v":{"$error":"#N/A"}},{"$f":"MATCH(DB$3,Millwall!$AB130:$AP130,0)","v":{"$error":"#N/A"}},{"$f":"MATCH(DC$3,Millwall!$AB130:$AP130,0)","v":{"$error":"#N/A"}},{"$f":"MATCH(DD$3,Millwall!$AB130:$AP130,0)","v":{"$error":"#N/A"}},{"$f":"MATCH(DE$3,Millwall!$AB130:$AP130,0)","v":{"$error":"#N/A"}},{"$f":"MATCH(DF$3,Millwall!$AB130:$AP130,0)","v":{"$error":"#N/A"}},{"$f":"MATCH(DG$3,Millwall!$AB130:$AP130,0)","v":{"$error":"#N/A"}},{"$f":"MATCH(DH$3,Millwall!$AB130:$AP130,0)","v":{"$error":"#N/A"}},{"$f":"MATCH(DI$3,Millwall!$AB130:$AP130,0)","v":{"$error":"#N/A"}},{"$f":"MATCH(DJ$3,Millwall!$AB130:$AP130,0)","v":{"$error":"#N/A"}},{"$f":"MATCH(DK$3,Millwall!$AB130:$AP130,0)","v":{"$error":"#N/A"}},{"$f":"MATCH(DL$3,Millwall!$AB130:$AP130,0)","v":{"$error":"#N/A"}},{"$f":"MATCH(DM$3,Millwall!$AB130:$AP130,0)","v":{"$error":"#N/A"}},{"$f":"MATCH(DN$3,Millwall!$AB130:$AP130,0)","v":{"$error":"#N/A"}},{"$f":"MATCH(DO$3,Millwall!$AB130:$AP130,0)","v":{"$error":"#N/A"}}]
[null,null,1,null,null,{"$f":"Millwall!X131","v":"00:00:00"},null,{"$f":"Millwall!Y131","v":"00:00:00"},{"$f":"Millwall!Z131","v":"00:00:00"},{"$f":"Millwall!AA131","v":0},{"$f":"MATCH(K$4,Millwall!$AB131:$AP131,0)","v":{"$error":"#N/A"}},{"$f":"MATCH(L$4,Millwall!$AB131:$AP131,0)","v":{"$error":"#N/A"}},{"$f":"MATCH(M$4,Millwall!$AB131:$AP131,0)","v":{"$error":"#N/A"}},{"$f":"MATCH(N$4,Millwall!$AB131:$AP131,0)","v":{"$error":"#N/A"}},{"$f":"MATCH(O$4,Millwall!$AB131:$AP131,0)","v":{"$error":"#N/A"}},{"$f":"MATCH(P$4,Millwall!$AB131:$AP131,0)","v":{"$error":"#N/A"}},{"$f":"MATCH(Q$4,Millwall!$AB131:$AP131,0)","v":{"$error":"#N/A"}},{"$f":"MATCH(R$4,Millwall!$AB131:$AP131,0)","v":{"$error":"#N/A"}},{"$f":"MATCH(S$4,Millwall!$AB131:$AP131,0)","v":{"$error":"#N/A"}},{"$f":"MATCH(T$4,Millwall!$AB131:$AP131,0)","v":{"$error":"#N/A"}},{"$f":"MATCH(U$4,Millwall!$AB131:$AP131,0)","v":{"$error":"#N/A"}},{"$f":"MATCH(V$4,Millwall!$AB131:$AP131,0)","v":{"$error":"#N/A"}},{"$f":"MATCH(W$4,Millwall!$AB131:$AP131,0)","v":{"$error":"#N/A"}},{"$f":"MATCH(X$4,Millwall!$AB131:$AP131,0)","v":{"$error":"#N/A"}},{"$f":"MATCH(Y$4,Millwall!$AB131:$AP131,0)","v":{"$error":"#N/A"}},{"$f":"MATCH(Z$4,Millwall!$AB131:$AP131,0)","v":{"$error":"#N/A"}},{"$f":"MATCH(AA$4,Millwall!$AB131:$AP131,0)","v":{"$error":"#N/A"}},{"$f":"MATCH(AB$4,Millwall!$AB131:$AP131,0)","v":{"$error":"#N/A"}},{"$f":"MATCH(AC$4,Millwall!$AB131:$AP131,0)","v":{"$error":"#N/A"}},{"$f":"MATCH(AD$4,Millwall!$AB131:$AP131,0)","v":{"$error":"#N/A"}},{"$f":"MATCH(AE$4,Millwall!$AB131:$AP131,0)","v":{"$error":"#N/A"}},{"$f":"MATCH(AF$4,Millwall!$AB131:$AP131,0)","v":{"$error":"#N/A"}},{"$f":"MATCH(AG$4,Millwall!$AB131:$AP131,0)","v":{"$error":"#N/A"}},{"$f":"MATCH(AH$4,Millwall!$AB131:$AP131,0)","v":{"$error":"#N/A"}},{"$f":"MATCH(AI$4,Millwall!$AB131:$AP131,0)","v":{"$error":"#N/A"}},{"$f":"MATCH(AJ$4,Millwall!$AB131:$AP131,0)","v":{"$error":"#N/A"}},{"$f":"MATCH(AK$4,Millwall!$AB131:$AP131,0)","v":{"$error":"#N/A"}},{"$f":"MATCH(AL$4,Millwall!$AB131:$AP131,0)","v":{"$error":"#N/A"}},{"$f":"MATCH(AM$4,Millwall!$AB131:$AP131,0)","v":{"$error":"#N/A"}},{"$f":"MATCH(AN$4,Millwall!$AB131:$AP131,0)","v":{"$error":"#N/A"}},{"$f":"MATCH(AO$4,Millwall!$AB131:$AP131,0)","v":{"$error":"#N/A"}},{"$f":"MATCH(AP$4,Millwall!$AB131:$AP131,0)","v":{"$error":"#N/A"}},{"$f":"MATCH(AQ$4,Millwall!$AB131:$AP131,0)","v":{"$error":"#N/A"}},{"$f":"MATCH(AR$4,Millwall!$AB131:$AP131,0)","v":{"$error":"#N/A"}},null,null,null,null,null,{"$f":"MATCH(AX$3,Millwall!$AB131:$AP131,0)","v":{"$error":"#N/A"}},{"$f":"MATCH(AY$3,Millwall!$AB131:$AP131,0)","v":{"$error":"#N/A"}},{"$f":"MATCH(AZ$3,Millwall!$AB131:$AP131,0)","v":{"$error":"#N/A"}},{"$f":"MATCH(BA$3,Millwall!$AB131:$AP131,0)","v":{"$error":"#N/A"}},{"$f":"MATCH(BB$3,Millwall!$AB131:$AP131,0)","v":{"$error":"#N/A"}},{"$f":"MATCH(BC$3,Millwall!$AB131:$AP131,0)","v":{"$error":"#N/A"}},{"$f":"MATCH(BD$3,Millwall!$AB131:$AP131,0)","v":{"$error":"#N/A"}},{"$f":"MATCH(BE$3,Millwall!$AB131:$AP131,0)","v":{"$error":"#N/A"}},{"$f":"MATCH(BF$3,Millwall!$AB131:$AP131,0)","v":{"$error":"#N/A"}},{"$f":"MATCH(BG$3,Millwall!$AB131:$AP131,0)","v":{"$error":"#N/A"}},{"$f":"MATCH(BH$3,Millwall!$AB131:$AP131,0)","v":{"$error":"#N/A"}},{"$f":"MATCH(BI$3,Millwall!$AB131:$AP131,0)","v":{"$error":"#N/A"}},{"$f":"MATCH(BJ$3,Millwall!$AB131:$AP131,0)","v":{"$error":"#N/A"}},{"$f":"MATCH(BK$3,Millwall!$AB131:$AP131,0)","v":{"$error":"#N/A"}},{"$f":"MATCH(BL$3,Millwall!$AB131:$AP131,0)","v":{"$error":"#N/A"}},{"$f":"MATCH(BM$3,Millwall!$AB131:$AP131,0)","v":{"$error":"#N/A"}},{"$f":"MATCH(BN$3,Millwall!$AB131:$AP131,0)","v":{"$error":"#N/A"}},{"$f":"MATCH(BO$3,Millwall!$AB131:$AP131,0)","v":{"$error":"#N/A"}},{"$f":"MATCH(BP$3,Millwall!$AB131:$AP131,0)","v":{"$error":"#N/A"}},{"$f":"MATCH(BQ$3,Millwall!$AB131:$AP131,0)","v":{"$error":"#N/A"}},{"$f":"MATCH(BR$3,Millwall!$AB131:$AP131,0)","v":{"$error":"#N/A"}},{"$f":"MATCH(BS$3,Millwall!$AB131:$AP131,0)","v":{"$error":"#N/A"}},{"$f":"MATCH(BT$3,Millwall!$AB131:$AP131,0)","v":{"$error":"#N/A"}},{"$f":"MATCH(BU$3,Millwall!$AB131:$AP131,0)","v":{"$error":"#N/A"}},{"$f":"MATCH(BV$3,Millwall!$AB131:$AP131,0)","v":{"$error":"#N/A"}},{"$f":"MATCH(BW$3,Millwall!$AB131:$AP131,0)","v":{"$error":"#N/A"}},{"$f":"MATCH(BX$3,Millwall!$AB131:$AP131,0)","v":{"$error":"#N/A"}},{"$f":"MATCH(BY$3,Millwall!$AB131:$AP131,0)","v":{"$error":"#N/A"}},{"$f":"MATCH(BZ$3,Millwall!$AB131:$AP131,0)","v":{"$error":"#N/A"}},{"$f":"MATCH(CA$3,Millwall!$AB131:$AP131,0)","v":{"$error":"#N/A"}},{"$f":"MATCH(CB$3,Millwall!$AB131:$AP131,0)","v":{"$error":"#N/A"}},{"$f":"MATCH(CC$3,Millwall!$AB131:$AP131,0)","v":{"$error":"#N/A"}},{"$f":"MATCH(CD$3,Millwall!$AB131:$AP131,0)","v":{"$error":"#N/A"}},{"$f":"MATCH(CE$3,Millwall!$AB131:$AP131,0)","v":{"$error":"#N/A"}},null,null,{"$f":"MATCH(CH$3,Millwall!$AB131:$AP131,0)","v":{"$error":"#N/A"}},{"$f":"MATCH(CI$3,Millwall!$AB131:$AP131,0)","v":{"$error":"#N/A"}},{"$f":"MATCH(CJ$3,Millwall!$AB131:$AP131,0)","v":{"$error":"#N/A"}},{"$f":"MATCH(CK$3,Millwall!$AB131:$AP131,0)","v":{"$error":"#N/A"}},{"$f":"MATCH(CL$3,Millwall!$AB131:$AP131,0)","v":{"$error":"#N/A"}},{"$f":"MATCH(CM$3,Millwall!$AB131:$AP131,0)","v":{"$error":"#N/A"}},{"$f":"MATCH(CN$3,Millwall!$AB131:$AP131,0)","v":{"$error":"#N/A"}},{"$f":"MATCH(CO$3,Millwall!$AB131:$AP131,0)","v":{"$error":"#N/A"}},{"$f":"MATCH(CP$3,Millwall!$AB131:$AP131,0)","v":{"$error":"#N/A"}},{"$f":"MATCH(CQ$3,Millwall!$AB131:$AP131,0)","v":{"$error":"#N/A"}},{"$f":"MATCH(CR$3,Millwall!$AB131:$AP131,0)","v":{"$error":"#N/A"}},{"$f":"MATCH(CS$3,Millwall!$AB131:$AP131,0)","v":{"$error":"#N/A"}},{"$f":"MATCH(CT$3,Millwall!$AB131:$AP131,0)","v":{"$error":"#N/A"}},{"$f":"MATCH(CU$3,Millwall!$AB131:$AP131,0)","v":{"$error":"#N/A"}},{"$f":"MATCH(CV$3,Millwall!$AB131:$AP131,0)","v":{"$error":"#N/A"}},{"$f":"MATCH(CW$3,Millwall!$AB131:$AP131,0)","v":{"$error":"#N/A"}},{"$f":"MATCH(CX$3,Millwall!$AB131:$AP131,0)","v":{"$error":"#N/A"}},{"$f":"MATCH(CY$3,Millwall!$AB131:$AP131,0)","v":{"$error":"#N/A"}},{"$f":"MATCH(CZ$3,Millwall!$AB131:$AP131,0)","v":{"$error":"#N/A"}},{"$f":"MATCH(DA$3,Millwall!$AB131:$AP131,0)","v":{"$error":"#N/A"}},{"$f":"MATCH(DB$3,Millwall!$AB131:$AP131,0)","v":{"$error":"#N/A"}},{"$f":"MATCH(DC$3,Millwall!$AB131:$AP131,0)","v":{"$error":"#N/A"}},{"$f":"MATCH(DD$3,Millwall!$AB131:$AP131,0)","v":{"$error":"#N/A"}},{"$f":"MATCH(DE$3,Millwall!$AB131:$AP131,0)","v":{"$error":"#N/A"}},{"$f":"MATCH(DF$3,Millwall!$AB131:$AP131,0)","v":{"$error":"#N/A"}},{"$f":"MATCH(DG$3,Millwall!$AB131:$AP131,0)","v":{"$error":"#N/A"}},{"$f":"MATCH(DH$3,Millwall!$AB131:$AP131,0)","v":{"$error":"#N/A"}},{"$f":"MATCH(DI$3,Millwall!$AB131:$AP131,0)","v":{"$error":"#N/A"}},{"$f":"MATCH(DJ$3,Millwall!$AB131:$AP131,0)","v":{"$error":"#N/A"}},{"$f":"MATCH(DK$3,Millwall!$AB131:$AP131,0)","v":{"$error":"#N/A"}},{"$f":"MATCH(DL$3,Millwall!$AB131:$AP131,0)","v":{"$error":"#N/A"}},{"$f":"MATCH(DM$3,Millwall!$AB131:$AP131,0)","v":{"$error":"#N/A"}},{"$f":"MATCH(DN$3,Millwall!$AB131:$AP131,0)","v":{"$error":"#N/A"}},{"$f":"MATCH(DO$3,Millwall!$AB131:$AP131,0)","v":{"$error":"#N/A"}}]
[null,null,1,null,null,{"$f":"Millwall!X132","v":"00:00:00"},null,{"$f":"Millwall!Y132","v":"00:00:00"},{"$f":"Millwall!Z132","v":"00:00:00"},{"$f":"Millwall!AA132","v":0},{"$f":"MATCH(K$4,Millwall!$AB132:$AP132,0)","v":{"$error":"#N/A"}},{"$f":"MATCH(L$4,Millwall!$AB132:$AP132,0)","v":{"$error":"#N/A"}},{"$f":"MATCH(M$4,Millwall!$AB132:$AP132,0)","v":{"$error":"#N/A"}},{"$f":"MATCH(N$4,Millwall!$AB132:$AP132,0)","v":{"$error":"#N/A"}},{"$f":"MATCH(O$4,Millwall!$AB132:$AP132,0)","v":{"$error":"#N/A"}},{"$f":"MATCH(P$4,Millwall!$AB132:$AP132,0)","v":{"$error":"#N/A"}},{"$f":"MATCH(Q$4,Millwall!$AB132:$AP132,0)","v":{"$error":"#N/A"}},{"$f":"MATCH(R$4,Millwall!$AB132:$AP132,0)","v":{"$error":"#N/A"}},{"$f":"MATCH(S$4,Millwall!$AB132:$AP132,0)","v":{"$error":"#N/A"}},{"$f":"MATCH(T$4,Millwall!$AB132:$AP132,0)","v":{"$error":"#N/A"}},{"$f":"MATCH(U$4,Millwall!$AB132:$AP132,0)","v":{"$error":"#N/A"}},{"$f":"MATCH(V$4,Millwall!$AB132:$AP132,0)","v":{"$error":"#N/A"}},{"$f":"MATCH(W$4,Millwall!$AB132:$AP132,0)","v":{"$error":"#N/A"}},{"$f":"MATCH(X$4,Millwall!$AB132:$AP132,0)","v":{"$error":"#N/A"}},{"$f":"MATCH(Y$4,Millwall!$AB132:$AP132,0)","v":{"$error":"#N/A"}},{"$f":"MATCH(Z$4,Millwall!$AB132:$AP132,0)","v":{"$error":"#N/A"}},{"$f":"MATCH(AA$4,Millwall!$AB132:$AP132,0)","v":{"$error":"#N/A"}},{"$f":"MATCH(AB$4,Millwall!$AB132:$AP132,0)","v":{"$error":"#N/A"}},{"$f":"MATCH(AC$4,Millwall!$AB132:$AP132,0)","v":{"$error":"#N/A"}},{"$f":"MATCH(AD$4,Millwall!$AB132:$AP132,0)","v":{"$error":"#N/A"}},{"$f":"MATCH(AE$4,Millwall!$AB132:$AP132,0)","v":{"$error":"#N/A"}},{"$f":"MATCH(AF$4,Millwall!$AB132:$AP132,0)","v":{"$error":"#N/A"}},{"$f":"MATCH(AG$4,Millwall!$AB132:$AP132,0)","v":{"$error":"#N/A"}},{"$f":"MATCH(AH$4,Millwall!$AB132:$AP132,0)","v":{"$error":"#N/A"}},{"$f":"MATCH(AI$4,Millwall!$AB132:$AP132,0)","v":{"$error":"#N/A"}},{"$f":"MATCH(AJ$4,Millwall!$AB132:$AP132,0)","v":{"$error":"#N/A"}},{"$f":"MATCH(AK$4,Millwall!$AB132:$AP132,0)","v":{"$error":"#N/A"}},{"$f":"MATCH(AL$4,Millwall!$AB132:$AP132,0)","v":{"$error":"#N/A"}},{"$f":"MATCH(AM$4,Millwall!$AB132:$AP132,0)","v":{"$error":"#N/A"}},{"$f":"MATCH(AN$4,Millwall!$AB132:$AP132,0)","v":{"$error":"#N/A"}},{"$f":"MATCH(AO$4,Millwall!$AB132:$AP132,0)","v":{"$error":"#N/A"}},{"$f":"MATCH(AP$4,Millwall!$AB132:$AP132,0)","v":{"$error":"#N/A"}},{"$f":"MATCH(AQ$4,Millwall!$AB132:$AP132,0)","v":{"$error":"#N/A"}},{"$f":"MATCH(AR$4,Millwall!$AB132:$AP132,0)","v":{"$error":"#N/A"}},null,null,null,null,null,{"$f":"MATCH(AX$3,Millwall!$AB132:$AP132,0)","v":{"$error":"#N/A"}},{"$f":"MATCH(AY$3,Millwall!$AB132:$AP132,0)","v":{"$error":"#N/A"}},{"$f":"MATCH(AZ$3,Millwall!$AB132:$AP132,0)","v":{"$error":"#N/A"}},{"$f":"MATCH(BA$3,Millwall!$AB132:$AP132,0)","v":{"$error":"#N/A"}},{"$f":"MATCH(BB$3,Millwall!$AB132:$AP132,0)","v":{"$error":"#N/A"}},{"$f":"MATCH(BC$3,Millwall!$AB132:$AP132,0)","v":{"$error":"#N/A"}},{"$f":"MATCH(BD$3,Millwall!$AB132:$AP132,0)","v":{"$error":"#N/A"}},{"$f":"MATCH(BE$3,Millwall!$AB132:$AP132,0)","v":{"$error":"#N/A"}},{"$f":"MATCH(BF$3,Millwall!$AB132:$AP132,0)","v":{"$error":"#N/A"}},{"$f":"MATCH(BG$3,Millwall!$AB132:$AP132,0)","v":{"$error":"#N/A"}},{"$f":"MATCH(BH$3,Millwall!$AB132:$AP132,0)","v":{"$error":"#N/A"}},{"$f":"MATCH(BI$3,Millwall!$AB132:$AP132,0)","v":{"$error":"#N/A"}},{"$f":"MATCH(BJ$3,Millwall!$AB132:$AP132,0)","v":{"$error":"#N/A"}},{"$f":"MATCH(BK$3,Millwall!$AB132:$AP132,0)","v":{"$error":"#N/A"}},{"$f":"MATCH(BL$3,Millwall!$AB132:$AP132,0)","v":{"$error":"#N/A"}},{"$f":"MATCH(BM$3,Millwall!$AB132:$AP132,0)","v":{"$error":"#N/A"}},{"$f":"MATCH(BN$3,Millwall!$AB132:$AP132,0)","v":{"$error":"#N/A"}},{"$f":"MATCH(BO$3,Millwall!$AB132:$AP132,0)","v":{"$error":"#N/A"}},{"$f":"MATCH(BP$3,Millwall!$AB132:$AP132,0)","v":{"$error":"#N/A"}},{"$f":"MATCH(BQ$3,Millwall!$AB132:$AP132,0)","v":{"$error":"#N/A"}},{"$f":"MATCH(BR$3,Millwall!$AB132:$AP132,0)","v":{"$error":"#N/A"}},{"$f":"MATCH(BS$3,Millwall!$AB132:$AP132,0)","v":{"$error":"#N/A"}},{"$f":"MATCH(BT$3,Millwall!$AB132:$AP132,0)","v":{"$error":"#N/A"}},{"$f":"MATCH(BU$3,Millwall!$AB132:$AP132,0)","v":{"$error":"#N/A"}},{"$f":"MATCH(BV$3,Millwall!$AB132:$AP132,0)","v":{"$error":"#N/A"}},{"$f":"MATCH(BW$3,Millwall!$AB132:$AP132,0)","v":{"$error":"#N/A"}},{"$f":"MATCH(BX$3,Millwall!$AB132:$AP132,0)","v":{"$error":"#N/A"}},{"$f":"MATCH(BY$3,Millwall!$AB132:$AP132,0)","v":{"$error":"#N/A"}},{"$f":"MATCH(BZ$3,Millwall!$AB132:$AP132,0)","v":{"$error":"#N/A"}},{"$f":"MATCH(CA$3,Millwall!$AB132:$AP132,0)","v":{"$error":"#N/A"}},{"$f":"MATCH(CB$3,Millwall!$AB132:$AP132,0)","v":{"$error":"#N/A"}},{"$f":"MATCH(CC$3,Millwall!$AB132:$AP132,0)","v":{"$error":"#N/A"}},{"$f":"MATCH(CD$3,Millwall!$AB132:$AP132,0)","v":{"$error":"#N/A"}},{"$f":"MATCH(CE$3,Millwall!$AB132:$AP132,0)","v":{"$error":"#N/A"}},null,null,{"$f":"MATCH(CH$3,Millwall!$AB132:$AP132,0)","v":{"$error":"#N/A"}},{"$f":"MATCH(CI$3,Millwall!$AB132:$AP132,0)","v":{"$error":"#N/A"}},{"$f":"MATCH(CJ$3,Millwall!$AB132:$AP132,0)","v":{"$error":"#N/A"}},{"$f":"MATCH(CK$3,Millwall!$AB132:$AP132,0)","v":{"$error":"#N/A"}},{"$f":"MATCH(CL$3,Millwall!$AB132:$AP132,0)","v":{"$error":"#N/A"}},{"$f":"MATCH(CM$3,Millwall!$AB132:$AP132,0)","v":{"$error":"#N/A"}},{"$f":"MATCH(CN$3,Millwall!$AB132:$AP132,0)","v":{"$error":"#N/A"}},{"$f":"MATCH(CO$3,Millwall!$AB132:$AP132,0)","v":{"$error":"#N/A"}},{"$f":"MATCH(CP$3,Millwall!$AB132:$AP132,0)","v":{"$error":"#N/A"}},{"$f":"MATCH(CQ$3,Millwall!$AB132:$AP132,0)","v":{"$error":"#N/A"}},{"$f":"MATCH(CR$3,Millwall!$AB132:$AP132,0)","v":{"$error":"#N/A"}},{"$f":"MATCH(CS$3,Millwall!$AB132:$AP132,0)","v":{"$error":"#N/A"}},{"$f":"MATCH(CT$3,Millwall!$AB132:$AP132,0)","v":{"$error":"#N/A"}},{"$f":"MATCH(CU$3,Millwall!$AB132:$AP132,0)","v":{"$error":"#N/A"}},{"$f":"MATCH(CV$3,Millwall!$AB132:$AP132,0)","v":{"$error":"#N/A"}},{"$f":"MATCH(CW$3,Millwall!$AB132:$AP132,0)","v":{"$error":"#N/A"}},{"$f":"MATCH(CX$3,Millwall!$AB132:$AP132,0)","v":{"$error":"#N/A"}},{"$f":"MATCH(CY$3,Millwall!$AB132:$AP132,0)","v":{"$error":"#N/A"}},{"$f":"MATCH(CZ$3,Millwall!$AB132:$AP132,0)","v":{"$error":"#N/A"}},{"$f":"MATCH(DA$3,Millwall!$AB132:$AP132,0)","v":{"$error":"#N/A"}},{"$f":"MATCH(DB$3,Millwall!$AB132:$AP132,0)","v":{"$error":"#N/A"}},{"$f":"MATCH(DC$3,Millwall!$AB132:$AP132,0)","v":{"$error":"#N/A"}},{"$f":"MATCH(DD$3,Millwall!$AB132:$AP132,0)","v":{"$error":"#N/A"}},{"$f":"MATCH(DE$3,Millwall!$AB132:$AP132,0)","v":{"$error":"#N/A"}},{"$f":"MATCH(DF$3,Millwall!$AB132:$AP132,0)","v":{"$error":"#N/A"}},{"$f":"MATCH(DG$3,Millwall!$AB132:$AP132,0)","v":{"$error":"#N/A"}},{"$f":"MATCH(DH$3,Millwall!$AB132:$AP132,0)","v":{"$error":"#N/A"}},{"$f":"MATCH(DI$3,Millwall!$AB132:$AP132,0)","v":{"$error":"#N/A"}},{"$f":"MATCH(DJ$3,Millwall!$AB132:$AP132,0)","v":{"$error":"#N/A"}},{"$f":"MATCH(DK$3,Millwall!$AB132:$AP132,0)","v":{"$error":"#N/A"}},{"$f":"MATCH(DL$3,Millwall!$AB132:$AP132,0)","v":{"$error":"#N/A"}},{"$f":"MATCH(DM$3,Millwall!$AB132:$AP132,0)","v":{"$error":"#N/A"}},{"$f":"MATCH(DN$3,Millwall!$AB132:$AP132,0)","v":{"$error":"#N/A"}},{"$f":"MATCH(DO$3,Millwall!$AB132:$AP132,0)","v":{"$error":"#N/A"}}]
[]
[null,null,null,null,null,null,null,null,null,"Total FA Cup Apperances",{"$f":"COUNT($K$61:$K$67)-$K$70-$K$71","v":0},{"$f":"COUNT($L$61:$L$67)-$L$70-$L$71","v":0},{"$f":"COUNT($M$61:$M$67)-$M$70-$M$71","v":1},{"$f":"COUNT($N$61:$N$67)-$N$70-$N$71","v":1},{"$f":"COUNT($O$61:$O$67)-$O$70-$O$71","v":0},{"$f":"COUNT($P$61:$P$67)-$P$70-$P$71","v":1},{"$f":"COUNT($Q$61:$Q$67)-$Q$70-$Q$71","v":0},{"$f":"COUNT($R$61:$R$67)-$R$70-$R$71","v":0},{"$f":"COUNT($S$61:$S$67)-$S$70-$S$71","v":1},{"$f":"COUNT($T$61:$T$67)-$T$70-$T$71","v":0},{"$f":"COUNT($U$61:$U$67)-$U$70-$U$71","v":0},{"$f":"COUNT($V$61:$V$67)-$V$70-$V$71","v":1},{"$f":"COUNT($W$61:$W$67)-$W$70-$W$71","v":0},{"$f":"COUNT($X$61:$X$67)-$X$70-$X$71","v":1},{"$f":"COUNT($Y$61:$Y$67)-$Y$70-$Y$71","v":0},{"$f":"COUNT($Z$61:$Z$67)-$Z$70-$Z$71","v":0},{"$f":"COUNT($AA$61:$AA$67)-$AA$70-$AA$71","v":0},{"$f":"COUNT($AB$61:$AB$67)-$AB$70-$AB$71","v":0},{"$f":"COUNT($AC$61:$AC$67)-$AC$70-$AC$71","v":1},{"$f":"COUNT($AD$61:$AD$67)-$AD$70-$AD$71","v":0},{"$f":"COUNT($AE$61:$AE$67)-$AE$70-$AE$71","v":0},{"$f":"COUNT($AF$61:$AF$67)-$AF$70-$AF$71","v":0},{"$f":"COUNT($AG$61:$AG$67)-$AG$70-$AG$71","v":0},{"$f":"COUNT($AH$61:$AH$67)-$AH$70-$AH$71","v":1},{"$f":"COUNT($AI$61:$AI$67)-$AI$70-$AI$71","v":1},{"$f":"COUNT($AJ$61:$AJ$67)-$AJ$70-$AJ$71","v":1},{"$f":"COUNT($AK$61:$AK$67)-$AK$70-$AK$71","v":0},{"$f":"COUNT($AL$61:$AL$67)-$AL$70-$AL$71","v":0},{"$f":"COUNT($AM$61:$AM$67)-$AM$70-$AM$71","v":1},{"$f":"COUNT($AN$61:$AN$67)-$AN$70-$AN$71","v":0},{"$f":"COUNT($AO$61:$AO$67)-$AO$70-$AO$71","v":0},{"$f":"COUNT($AP$61:$AP$67)-$AP$70-$AP$71","v":0},{"$f":"COUNT($AQ$61:$AQ$67)-$AQ$70-$AQ$71","v":0},{"$f":"COUNT($AR$61:$AR$67)-$AR$70-$AR$71","v":0}]
[null,null,null,null,null,null,null,null,null,"Total FA Cup Substitute Appearences ",{"$f":"$AX$70+$CH$70","v":1},{"$f":"$AY$70+$CI$70","v":0},{"$f":"$AZ$70+$CJ$70","v":0},{"$f":"$BA$70+$CK$70","v":0},{"$f":"$BB$70+$CL$70","v":0},{"$f":"$BC$70+$CM$70","v":0},{"$f":"$BD$70+$CN$70","v":0},{"$f":"$BE$70+$CO$70","v":0},{"$f":"$BF$70+$CP$70","v":0},{"$f":"$BG$70+$CQ$70","v":0},{"$f":"$BH$70+$CR$70","v":0},{"$f":"$BI$70+$CS$70","v":0},{"$f":"$BJ$70+$CT$70","v":1},{"$f":"$BK$70+$CU$70","v":0},{"$f":"$BL$70+$CV$70","v":0},{"$f":"$BM$70+$CW$70","v":0},{"$f":"$BN$70+$CX$70","v":0},{"$f":"$BO$70+$CY$70","v":0},{"$f":"$BP$70+$CZ$70","v":0},{"$f":"$BQ$70+$DA$70","v":0},{"$f":"$BR$70+$DB$70","v":0},{"$f":"$BS$70+$DC$70","v":0},{"$f":"$BT$70+$DD$70","v":0},{"$f":"$BU$70+$DE$70","v":0},{"$f":"$BV$70+$DF$70","v":0},{"$f":"$BW$70+$DG$70","v":0},{"$f":"$BX$70+$DH$70","v":0},{"$f":"$BY$70+$DI$70","v":0},{"$f":"$BZ$70+$DJ$70","v":0},{"$f":"$CA$70+$DK$70","v":0},{"$f":"$CB$70+$DL$70","v":0},{"$f":"$CC$70+$DM$70","v":0},{"$f":"$CD$70+$DN$70","v":0},{"$f":"$CE$70","v":0},null,null,null,null,null,{"$f":"COUNTIF(AX61:AX67,12)","v":1},{"$f":"COUNTIF(AY61:AY67,12)","v":0},0,0,0,0,0,0,0,0,0,0,0,0,0,0,0,0,0,0,0,0,0,0,0,0,0,0,0,0,0,0,0,0,null,null,{"$f":"COUNTIF(CH61:CH69,14)","v":0},{"$f":"COUNTIF(CI61:CI69,14)","v":0},0,0,0,0,0,0,0,0,0,0,1,0,0,0,0,0,0,0,0,0,0,0,0,0,0,0,0,0,0,0,0,0]
[null,null,null,null,null,null,null,null,null,"Non Playing Substitute",{"$f":"COUNTIF($K$61:$K$67,\">=12\")-$K$70","v":0},{"$f":"COUNTIF($L$61:$L$67,\">=12\")-$L$70","v":0},{"$f":"COUNTIF($M$61:$M$67,\">=12\")-$M$70","v":0},{"$f":"COUNTIF($N$61:$N$67,\">=12\")-$N$70","v":0},{"$f":"COUNTIF($O$61:$O$67,\">=12\")-$O$70","v":0},{"$f":"COUNTIF($P$61:$P$67,\">=12\")-$P$70","v":0},{"$f":"COUNTIF($Q$61:$Q$67,\">=12\")-$Q$70","v":0},{"$f":"COUNTIF($R$61:$R$67,\">=12\")-$R$70","v":0},{"$f":"COUNTIF($S$61:$S$67,\">=12\")-$S$70","v":0},{"$f":"COUNTIF($T$61:$T$67,\">=12\")-$T$70","v":0},{"$f":"COUNTIF($U$61:$U$67,\">=12\")-$U$70","v":0},{"$f":"COUNTIF($V$61:$V$67,\">=12\")-$V$70","v":0},{"$f":"COUNTIF($W$61:$W$67,\">=12\")-$W$70","v":0},{"$f":"COUNTIF($X$61:$X$67,\">=12\")-$X$70","v":0},{"$f":"COUNTIF($Y$61:$Y$67,\">=12\")-$Y$70","v":0},{"$f":"COUNTIF($Z$61:$Z$67,\">=12\")-$Z$70","v":0},{"$f":"COUNTIF($AA$61:$AA$67,\">=12\")-$AA$70","v":0},{"$f":"COUNTIF($AB$61:$AB$67,\">=12\")-$AB$70","v":0},{"$f":"COUNTIF($AC$61:$AC$67,\">=12\")-$AC$70","v":0},{"$f":"COUNTIF($AD$61:$AD$67,\">=12\")-$AD$70","v":0},{"$f":"COUNTIF($AE$61:$AE$67,\">=12\")-$AE$70","v":0},{"$f":"COUNTIF($AF$61:$AF$67,\">=12\")-$AF$70","v":0},{"$f":"COUNTIF($AG$61:$AG$67,\">=12\")-$AG$70","v":0},{"$f":"COUNTIF($AH$61:$AH$67,\">=12\")-$AH$70","v":0},{"$f":"COUNTIF($AI$61:$AI$67,\">=12\")-$AI$70","v":0},{"$f":"COUNTIF($AJ$61:$AJ$67,\">=12\")-$AJ$70","v":0},{"$f":"COUNTIF($AK$61:$AK$67,\">=12\")-$AK$70","v":0},{"$f":"COUNTIF($AL$61:$AL$67,\">=12\")-$AL$70","v":0},{"$f":"COUNTIF($AM$61:$AM$67,\">=12\")-$AM$70","v":0},{"$f":"COUNTIF($AN$61:$AN$67,\">=12\")-$AN$70","v":0},{"$f":"COUNTIF($AO$61:$AO$67,\">=12\")-$AO$70","v":0},{"$f":"COUNTIF($AP$61:$AP$67,\">=12\")-$AP$70","v":0},{"$f":"COUNTIF($AQ$61:$AQ$67,\">=12\")-$AQ$70","v":0},{"$f":"COUNTIF($AR$61:$AR$67,\">=12\")-$AR$70","v":0},null,null,{"$f":"798+346","v":1144}]
[null,null,null,null,null,null,null,null,null,"Goals",{"$f":"Millwall!$CD$8","v":0},{"$f":"Millwall!$CD$9","v":0},{"$f":"Millwall!$CD$10","v":0},{"$f":"Millwall!$CD$11","v":0},{"$f":"Millwall!$CD$12","v":0},{"$f":"Millwall!$CD$13","v":0},{"$f":"Millwall!$CD$14","v":0},{"$f":"Millwall!$CD$15","v":0},{"$f":"Millwall!$CD$16","v":0},{"$f":"Millwall!$CD$17","v":0},{"$f":"Millwall!$CD$18","v":0},{"$f":"Millwall!$CD$19","v":0},{"$f":"Millwall!$CD$20","v":0},{"$f":"Millwall!$CD$21","v":0},{"$f":"Millwall!$CD$22","v":0},{"$f":"Millwall!$CD$23","v":0},{"$f":"Millwall!$CD$24","v":0},{"$f":"Millwall!$CD$25","v":0},{"$f":"Millwall!$CD$26","v":0},{"$f":"Millwall!$CD$27","v":0},{"$f":"Millwall!$CD$28","v":0},{"$f":"Millwall!$CD$29","v":0},{"$f":"Millwall!$CD$30","v":0},{"$f":"Millwall!$CD$31","v":0},{"$f":"Millwall!$CD$32","v":0},{"$f":"Millwall!$CD$33","v":0},{"$f":"Millwall!$CD$34","v":0},{"$f":"Millwall!$CD$35","v":0},{"$f":"Millwall!$CD$36","v":0},{"$f":"Millwall!$CD$37","v":0},{"$f":"Millwall!$CD$38","v":0},{"$f":"Millwall!#REF!","v":{"$error":"#REF!"}},{"$f":"Millwall!$CD$45","v":0},{"$f":"Millwall!$CD$46","v":0}]
[null,null,1]
[null,null,null,null,null,null,null,"League Cup"]
[null,null,{"$f":"IF(J75=0,1,0)","v":0},1,null,{"$f":"Millwall!X136","v":"1992-08-18"},null,{"$f":"Millwall!Y136","v":"Leyton Orient"},{"$f":"Millwall!Z136","v":"(A)"},{"$f":"Millwall!AA136","v":"D 2-2"},{"$f":"MATCH(K$4,Millwall!$AB136:$AP136,0)","v":9},{"$f":"MATCH(L$4,Millwall!$AB136:$AP136,0)","v":10},{"$f":"MATCH(M$4,Millwall!$AB136:$AP136,0)","v":11},{"$f":"MATCH(N$4,Millwall!$AB136:$AP136,0)","v":{"$error":"#N/A"}},{"$f":"MATCH(O$4,Millwall!$AB136:$AP136,0)","v":{"$error":"#N/A"}},{"$f":"MATCH(P$4,Millwall!$AB136:$AP136,0)","v":5},{"$f":"MATCH(Q$4,Millwall!$AB136:$AP136,0)","v":2},{"$f":"MATCH(R$4,Millwall!$AB136:$AP136,0)","v":1},{"$f":"MATCH(S$4,Millwall!$AB136:$AP136,0)","v":3},{"$f":"MATCH(T$4,Millwall!$AB136:$AP136,0)","v":{"$error":"#N/A"}},{"$f":"MATCH(U$4,Millwall!$AB136:$AP136,0)","v":{"$error":"#N/A"}},{"$f":"MATCH(V$4,Millwall!$AB136:$AP136,0)","v":{"$error":"#N/A"}},{"$f":"MATCH(W$4,Millwall!$AB136:$AP136,0)","v":{"$error":"#N/A"}},{"$f":"MATCH(X$4,Millwall!$AB136:$AP136,0)","v":{"$error":"#N/A"}},{"$f":"MATCH(Y$4,Millwall!$AB136:$AP136,0)","v":{"$error":"#N/A"}},{"$f":"MATCH(Z$4,Millwall!$AB136:$AP136,0)","v":{"$error":"#N/A"}},{"$f":"MATCH(AA$4,Millwall!$AB136:$AP136,0)","v":{"$error":"#N/A"}},{"$f":"MATCH(AB$4,Millwall!$AB136:$AP136,0)","v":{"$error":"#N/A"}},{"$f":"MATCH(AC$4,Millwall!$AB136:$AP136,0)","v":4},{"$f":"MATCH(AD$4,Millwall!$AB136:$AP136,0)","v":{"$error":"#N/A"}},{"$f":"MATCH(AE$4,Millwall!$AB136:$AP136,0)","v":{"$error":"#N/A"}},{"$f":"MATCH(AF$4,Millwall!$AB136:$AP136,0)","v":8},{"$f":"MATCH(AG$4,Millwall!$AB136:$AP136,0)","v":{"$error":"#N/A"}},{"$f":"MATCH(AH$4,Millwall!$AB136:$AP136,0)","v":{"$error":"#N/A"}},{"$f":"MATCH(AI$4,Millwall!$AB136:$AP136,0)","v":14},{"$f":"MATCH(AJ$4,Millwall!$AB136:$AP136,0)","v":7},{"$f":"MATCH(AK$4,Millwall!$AB136:$AP136,0)","v":{"$error":"#N/A"}},{"$f":"MATCH(AL$4,Millwall!$AB136:$AP136,0)","v":12},{"$f":"MATCH(AM$4,Millwall!$AB136:$AP136,0)","v":6},{"$f":"MATCH(AN$4,Millwall!$AB136:$AP136,0)","v":{"$error":"#N/A"}},{"$f":"MATCH(AO$4,Millwall!$AB136:$AP136,0)","v":{"$error":"#N/A"}},{"$f":"MATCH(AP$4,Millwall!$AB136:$AP136,0)","v":{"$error":"#N/A"}},{"$f":"MATCH(AQ$4,Millwall!$AB136:$AP136,0)","v":{"$error":"#N/A"}},{"$f":"MATCH(AR$4,Millwall!$AB136:$AP136,0)","v":{"$error":"#N/A"}},null,null,null,null,null,{"$f":"MATCH(AX$3,Millwall!$AB136:$AP136,0)","v":{"$error":"#N/A"}},{"$f":"MATCH(AY$3,Millwall!$AB136:$AP136,0)","v":{"$error":"#N/A"}},{"$f":"MATCH(AZ$3,Millwall!$AB136:$AP136,0)","v":{"$error":"#N/A"}},{"$f":"MATCH(BA$3,Millwall!$AB136:$AP136,0)","v":{"$error":"#N/A"}},{"$f":"MATCH(BB$3,Millwall!$AB136:$AP136,0)","v":{"$error":"#N/A"}},{"$f":"MATCH(BC$3,Millwall!$AB136:$AP136,0)","v":{"$error":"#N/A"}},{"$f":"MATCH(BD$3,Millwall!$AB136:$AP136,0)","v":{"$error":"#N/A"}},{"$f":"MATCH(BE$3,Millwall!$AB136:$AP136,0)","v":{"$error":"#N/A"}},{"$f":"MATCH(BF$3,Millwall!$AB136:$AP136,0)","v":{"$error":"#N/A"}},{"$f":"MATCH(BG$3,Millwall!$AB136:$AP136,0)","v":{"$error":"#N/A"}},{"$f":"MATCH(BH$3,Millwall!$AB136:$AP136,0)","v":{"$error":"#N/A"}},{"$f":"MATCH(BI$3,Millwall!$AB136:$AP136,0)","v":{"$error":"#N/A"}},{"$f":"MATCH(BJ$3,Millwall!$AB136:$AP136,0)","v":{"$error":"#N/A"}},{"$f":"MATCH(BK$3,Millwall!$AB136:$AP136,0)","v":{"$error":"#N/A"}},{"$f":"MATCH(BL$3,Millwall!$AB136:$AP136,0)","v":{"$error":"#N/A"}},{"$f":"MATCH(BM$3,Millwall!$AB136:$AP136,0)","v":{"$error":"#N/A"}},{"$f":"MATCH(BN$3,Millwall!$AB136:$AP136,0)","v":{"$error":"#N/A"}},{"$f":"MATCH(BO$3,Millwall!$AB136:$AP136,0)","v":{"$error":"#N/A"}},{"$f":"MATCH(BP$3,Millwall!$AB136:$AP136,0)","v":{"$error":"#N/A"}},{"$f":"MATCH(BQ$3,Millwall!$AB136:$AP136,0)","v":{"$error":"#N/A"}},{"$f":"MATCH(BR$3,Millwall!$AB136:$AP136,0)","v":{"$error":"#N/A"}},{"$f":"MATCH(BS$3,Millwall!$AB136:$AP136,0)","v":{"$error":"#N/A"}},{"$f":"MATCH(BT$3,Millwall!$AB136:$AP136,0)","v":{"$error":"#N/A"}},{"$f":"MATCH(BU$3,Millwall!$AB136:$AP136,0)","v":{"$error":"#N/A"}},{"$f":"MATCH(BV$3,Millwall!$AB136:$AP136,0)","v":{"$error":"#N/A"}},{"$f":"MATCH(BW$3,Millwall!$AB136:$AP136,0)","v":{"$error":"#N/A"}},{"$f":"MATCH(BX$3,Millwall!$AB136:$AP136,0)","v":{"$error":"#N/A"}},{"$f":"MATCH(BY$3,Millwall!$AB136:$AP136,0)","v":{"$error":"#N/A"}},{"$f":"MATCH(BZ$3,Millwall!$AB136:$AP136,0)","v":{"$error":"#N/A"}},{"$f":"MATCH(CA$3,Millwall!$AB136:$AP136,0)","v":{"$error":"#N/A"}},{"$f":"MATCH(CB$3,Millwall!$AB136:$AP136,0)","v":{"$error":"#N/A"}},{"$f":"MATCH(CC$3,Millwall!$AB136:$AP136,0)","v":{"$error":"#N/A"}},{"$f":"MATCH(CD$3,Millwall!$AB136:$AP136,0)","v":{"$error":"#N/A"}},{"$f":"MATCH(CE$3,Millwall!$AB136:$AP136,0)","v":{"$error":"#N/A"}},null,null,{"$f":"MATCH(CH$3,Millwall!$AB136:$AP136,0)","v":{"$error":"#N/A"}},{"$f":"MATCH(CI$3,Millwall!$AB136:$AP136,0)","v":{"$error":"#N/A"}},{"$f":"MATCH(CJ$3,Millwall!$AB136:$AP136,0)","v":{"$error":"#N/A"}},{"$f":"MATCH(CK$3,Millwall!$AB136:$AP136,0)","v":{"$error":"#N/A"}},{"$f":"MATCH(CL$3,Millwall!$AB136:$AP136,0)","v":{"$error":"#N/A"}},{"$f":"MATCH(CM$3,Millwall!$AB136:$AP136,0)","v":{"$error":"#N/A"}},{"$f":"MATCH(CN$3,Millwall!$AB136:$AP136,0)","v":{"$error":"#N/A"}},{"$f":"MATCH(CO$3,Millwall!$AB136:$AP136,0)","v":{"$error":"#N/A"}},{"$f":"MATCH(CP$3,Millwall!$AB136:$AP136,0)","v":{"$error":"#N/A"}},{"$f":"MATCH(CQ$3,Millwall!$AB136:$AP136,0)","v":{"$error":"#N/A"}},{"$f":"MATCH(CR$3,Millwall!$AB136:$AP136,0)","v":{"$error":"#N/A"}},{"$f":"MATCH(CS$3,Millwall!$AB136:$AP136,0)","v":{"$error":"#N/A"}},{"$f":"MATCH(CT$3,Millwall!$AB136:$AP136,0)","v":{"$error":"#N/A"}},{"$f":"MATCH(CU$3,Millwall!$AB136:$AP136,0)","v":{"$error":"#N/A"}},{"$f":"MATCH(CV$3,Millwall!$AB136:$AP136,0)","v":{"$error":"#N/A"}},{"$f":"MATCH(CW$3,Millwall!$AB136:$AP136,0)","v":{"$error":"#N/A"}},{"$f":"MATCH(CX$3,Millwall!$AB136:$AP136,0)","v":{"$error":"#N/A"}},{"$f":"MATCH(CY$3,Millwall!$AB136:$AP136,0)","v":{"$error":"#N/A"}},{"$f":"MATCH(CZ$3,Millwall!$AB136:$AP136,0)","v":{"$error":"#N/A"}},{"$f":"MATCH(DA$3,Millwall!$AB136:$AP136,0)","v":{"$error":"#N/A"}},{"$f":"MATCH(DB$3,Millwall!$AB136:$AP136,0)","v":{"$error":"#N/A"}},{"$f":"MATCH(DC$3,Millwall!$AB136:$AP136,0)","v":{"$error":"#N/A"}},{"$f":"MATCH(DD$3,Millwall!$AB136:$AP136,0)","v":{"$error":"#N/A"}},{"$f":"MATCH(DE$3,Millwall!$AB136:$AP136,0)","v":{"$error":"#N/A"}},{"$f":"MATCH(DF$3,Millwall!$AB136:$AP136,0)","v":{"$error":"#N/A"}},{"$f":"MATCH(DG$3,Millwall!$AB136:$AP136,0)","v":{"$error":"#N/A"}},{"$f":"MATCH(DH$3,Millwall!$AB136:$AP136,0)","v":{"$error":"#N/A"}},{"$f":"MATCH(DI$3,Millwall!$AB136:$AP136,0)","v":{"$error":"#N/A"}},{"$f":"MATCH(DJ$3,Millwall!$AB136:$AP136,0)","v":{"$error":"#N/A"}},{"$f":"MATCH(DK$3,Millwall!$AB136:$AP136,0)","v":{"$error":"#N/A"}},{"$f":"MATCH(DL$3,Millwall!$AB136:$AP136,0)","v":{"$error":"#N/A"}},{"$f":"MATCH(DM$3,Millwall!$AB136:$AP136,0)","v":{"$error":"#N/A"}},{"$f":"MATCH(DN$3,Millwall!$AB136:$AP136,0)","v":{"$error":"#N/A"}},{"$f":"MATCH(DO$3,Millwall!$AB136:$AP136,0)","v":{"$error":"#N/A"}}]
[null,null,{"$f":"IF(J76=0,1,0)","v":0},1,null,{"$f":"Millwall!X137","v":"1992-08-26"},null,{"$f":"Millwall!Y137","v":"Leyton Orient"},{"$f":"Millwall!Z137","v":"(H)"},{"$f":"Millwall!AA137","v":"W 3-0"},{"$f":"MATCH(K$4,Millwall!$AB137:$AP137,0)","v":9},{"$f":"MATCH(L$4,Millwall!$AB137:$AP137,0)","v":10},{"$f":"MATCH(M$4,Millwall!$AB137:$AP137,0)","v":11},{"$f":"MATCH(N$4,Millwall!$AB137:$AP137,0)","v":{"$error":"#N/A"}},{"$f":"MATCH(O$4,Millwall!$AB137:$AP137,0)","v":{"$error":"#N/A"}},{"$f":"MATCH(P$4,Millwall!$AB137:$AP137,0)","v":5},{"$f":"MATCH(Q$4,Millwall!$AB137:$AP137,0)","v":2},{"$f":"MATCH(R$4,Millwall!$AB137:$AP137,0)","v":{"$error":"#N/A"}},{"$f":"MATCH(S$4,Millwall!$AB137:$AP137,0)","v":3},{"$f":"MATCH(T$4,Millwall!$AB137:$AP137,0)","v":{"$error":"#N/A"}},{"$f":"MATCH(U$4,Millwall!$AB137:$AP137,0)","v":{"$error":"#N/A"}},{"$f":"MATCH(V$4,Millwall!$AB137:$AP137,0)","v":12},{"$f":"MATCH(W$4,Millwall!$AB137:$AP137,0)","v":14},{"$f":"MATCH(X$4,Millwall!$AB137:$AP137,0)","v":1},{"$f":"MATCH(Y$4,Millwall!$AB137:$AP137,0)","v":{"$error":"#N/A"}},{"$f":"MATCH(Z$4,Millwall!$AB137:$AP137,0)","v":{"$error":"#N/A"}},{"$f":"MATCH(AA$4,Millwall!$AB137:$AP137,0)","v":{"$error":"#N/A"}},{"$f":"MATCH(AB$4,Millwall!$AB137:$AP137,0)","v":{"$error":"#N/A"}},{"$f":"MATCH(AC$4,Millwall!$AB137:$AP137,0)","v":{"$error":"#N/A"}},{"$f":"MATCH(AD$4,Millwall!$AB137:$AP137,0)","v":{"$error":"#N/A"}},{"$f":"MATCH(AE$4,Millwall!$AB137:$AP137,0)","v":{"$error":"#N/A"}},{"$f":"MATCH(AF$4,Millwall!$AB137:$AP137,0)","v":8},{"$f":"MATCH(AG$4,Millwall!$AB137:$AP137,0)","v":{"$error":"#N/A"}},{"$f":"MATCH(AH$4,Millwall!$AB137:$AP137,0)","v":{"$error":"#N/A"}},{"$f":"MATCH(AI$4,Millwall!$AB137:$AP137,0)","v":4},{"$f":"MATCH(AJ$4,Millwall!$AB137:$AP137,0)","v":7},{"$f":"MATCH(AK$4,Millwall!$AB137:$AP137,0)","v":{"$error":"#N/A"}},{"$f":"MATCH(AL$4,Millwall!$AB137:$AP137,0)","v":{"$error":"#N/A"}},{"$f":"MATCH(AM$4,Millwall!$AB137:$AP137,0)","v":6},{"$f":"MATCH(AN$4,Millwall!$AB137:$AP137,0)","v":{"$error":"#N/A"}},{"$f":"MATCH(AO$4,Millwall!$AB137:$AP137,0)","v":{"$error":"#N/A"}},{"$f":"MATCH(AP$4,Millwall!$AB137:$AP137,0)","v":{"$error":"#N/A"}},{"$f":"MATCH(AQ$4,Millwall!$AB137:$AP137,0)","v":{"$error":"#N/A"}},{"$f":"MATCH(AR$4,Millwall!$AB137:$AP137,0)","v":{"$error":"#N/A"}},null,null,null,null,null,{"$f":"MATCH(AX$3,Millwall!$AB137:$AP137,0)","v":{"$error":"#N/A"}},{"$f":"MATCH(AY$3,Millwall!$AB137:$AP137,0)","v":{"$error":"#N/A"}},{"$f":"MATCH(AZ$3,Millwall!$AB137:$AP137,0)","v":{"$error":"#N/A"}},{"$f":"MATCH(BA$3,Millwall!$AB137:$AP137,0)","v":{"$error":"#N/A"}},{"$f":"MATCH(BB$3,Millwall!$AB137:$AP137,0)","v":{"$error":"#N/A"}},{"$f":"MATCH(BC$3,Millwall!$AB137:$AP137,0)","v":{"$error":"#N/A"}},{"$f":"MATCH(BD$3,Millwall!$AB137:$AP137,0)","v":{"$error":"#N/A"}},{"$f":"MATCH(BE$3,Millwall!$AB137:$AP137,0)","v":{"$error":"#N/A"}},{"$f":"MATCH(BF$3,Millwall!$AB137:$AP137,0)","v":{"$error":"#N/A"}},{"$f":"MATCH(BG$3,Millwall!$AB137:$AP137,0)","v":{"$error":"#N/A"}},{"$f":"MATCH(BH$3,Millwall!$AB137:$AP137,0)","v":{"$error":"#N/A"}},{"$f":"MATCH(BI$3,Millwall!$AB137:$AP137,0)","v":12},{"$f":"MATCH(BJ$3,Millwall!$AB137:$AP137,0)","v":{"$error":"#N/A"}},{"$f":"MATCH(BK$3,Millwall!$AB137:$AP137,0)","v":{"$error":"#N/A"}},{"$f":"MATCH(BL$3,Millwall!$AB137:$AP137,0)","v":{"$error":"#N/A"}},{"$f":"MATCH(BM$3,Millwall!$AB137:$AP137,0)","v":{"$error":"#N/A"}},{"$f":"MATCH(BN$3,Millwall!$AB137:$AP137,0)","v":{"$error":"#N/A"}},{"$f":"MATCH(BO$3,Millwall!$AB137:$AP137,0)","v":{"$error":"#N/A"}},{"$f":"MATCH(BP$3,Millwall!$AB137:$AP137,0)","v":{"$error":"#N/A"}},{"$f":"MATCH(BQ$3,Millwall!$AB137:$AP137,0)","v":{"$error":"#N/A"}},{"$f":"MATCH(BR$3,Millwall!$AB137:$AP137,0)","v":{"$error":"#N/A"}},{"$f":"MATCH(BS$3,Millwall!$AB137:$AP137,0)","v":8},{"$f":"MATCH(BT$3,Millwall!$AB137:$AP137,0)","v":{"$error":"#N/A"}},{"$f":"MATCH(BU$3,Millwall!$AB137:$AP137,0)","v":{"$error":"#N/A"}},{"$f":"MATCH(BV$3,Millwall!$AB137:$AP137,0)","v":{"$error":"#N/A"}},{"$f":"MATCH(BW$3,Millwall!$AB137:$AP137,0)","v":{"$error":"#N/A"}},{"$f":"MATCH(BX$3,Millwall!$AB137:$AP137,0)","v":{"$error":"#N/A"}},{"$f":"MATCH(BY$3,Millwall!$AB137:$AP137,0)","v":{"$error":"#N/A"}},{"$f":"MATCH(BZ$3,Millwall!$AB137:$AP137,0)","v":{"$error":"#N/A"}},{"$f":"MATCH(CA$3,Millwall!$AB137:$AP137,0)","v":{"$error":"#N/A"}},{"$f":"MATCH(CB$3,Millwall!$AB137:$AP137,0)","v":{"$error":"#N/A"}},{"$f":"MATCH(CC$3,Millwall!$AB137:$AP137,0)","v":{"$error":"#N/A"}},{"$f":"MATCH(CD$3,Millwall!$AB137:$AP137,0)","v":{"$error":"#N/A"}},{"$f":"MATCH(CE$3,Millwall!$AB137:$AP137,0)","v":{"$error":"#N/A"}},null,null,{"$f":"MATCH(CH$3,Millwall!$AB137:$AP137,0)","v":{"$error":"#N/A"}},{"$f":"MATCH(CI$3,Millwall!$AB137:$AP137,0)","v":{"$error":"#N/A"}},{"$f":"MATCH(CJ$3,Millwall!$AB137:$AP137,0)","v":11},{"$f":"MATCH(CK$3,Millwall!$AB137:$AP137,0)","v":{"$error":"#N/A"}},{"$f":"MATCH(CL$3,Millwall!$AB137:$AP137,0)","v":{"$error":"#N/A"}},{"$f":"MATCH(CM$3,Millwall!$AB137:$AP137,0)","v":{"$error":"#N/A"}},{"$f":"MATCH(CN$3,Millwall!$AB137:$AP137,0)","v":{"$error":"#N/A"}},{"$f":"MATCH(CO$3,Millwall!$AB137:$AP137,0)","v":{"$error":"#N/A"}},{"$f":"MATCH(CP$3,Millwall!$AB137:$AP137,0)","v":{"$error":"#N/A"}},{"$f":"MATCH(CQ$3,Millwall!$AB137:$AP137,0)","v":{"$error":"#N/A"}},{"$f":"MATCH(CR$3,Millwall!$AB137:$AP137,0)","v":{"$error":"#N/A"}},{"$f":"MATCH(CS$3,Millwall!$AB137:$AP137,0)","v":{"$error":"#N/A"}},{"$f":"MATCH(CT$3,Millwall!$AB137:$AP137,0)","v":14},{"$f":"MATCH(CU$3,Millwall!$AB137:$AP137,0)","v":{"$error":"#N/A"}},{"$f":"MATCH(CV$3,Millwall!$AB137:$AP137,0)","v":{"$error":"#N/A"}},{"$f":"MATCH(CW$3,Millwall!$AB137:$AP137,0)","v":{"$error":"#N/A"}},{"$f":"MATCH(CX$3,Millwall!$AB137:$AP137,0)","v":{"$error":"#N/A"}},{"$f":"MATCH(CY$3,Millwall!$AB137:$AP137,0)","v":{"$error":"#N/A"}},{"$f":"MATCH(CZ$3,Millwall!$AB137:$AP137,0)","v":{"$error":"#N/A"}},{"$f":"MATCH(DA$3,Millwall!$AB137:$AP137,0)","v":{"$error":"#N/A"}},{"$f":"MATCH(DB$3,Millwall!$AB137:$AP137,0)","v":{"$error":"#N/A"}},{"$f":"MATCH(DC$3,Millwall!$AB137:$AP137,0)","v":{"$error":"#N/A"}},{"$f":"MATCH(DD$3,Millwall!$AB137:$AP137,0)","v":{"$error":"#N/A"}},{"$f":"MATCH(DE$3,Millwall!$AB137:$AP137,0)","v":{"$error":"#N/A"}},{"$f":"MATCH(DF$3,Millwall!$AB137:$AP137,0)","v":{"$error":"#N/A"}},{"$f":"MATCH(DG$3,Millwall!$AB137:$AP137,0)","v":{"$error":"#N/A"}},{"$f":"MATCH(DH$3,Millwall!$AB137:$AP137,0)","v":{"$error":"#N/A"}},{"$f":"MATCH(DI$3,Millwall!$AB137:$AP137,0)","v":{"$error":"#N/A"}},{"$f":"MATCH(DJ$3,Millwall!$AB137:$AP137,0)","v":{"$error":"#N/A"}},{"$f":"MATCH(DK$3,Millwall!$AB137:$AP137,0)","v":{"$error":"#N/A"}},{"$f":"MATCH(DL$3,Millwall!$AB137:$AP137,0)","v":{"$error":"#N/A"}},{"$f":"MATCH(DM$3,Millwall!$AB137:$AP137,0)","v":{"$error":"#N/A"}},{"$f":"MATCH(DN$3,Millwall!$AB137:$AP137,0)","v":{"$error":"#N/A"}},{"$f":"MATCH(DO$3,Millwall!$AB137:$AP137,0)","v":{"$error":"#N/A"}}]
[null,null,0,2,null,{"$f":"Millwall!X138","v":"1992-09-22"},null,{"$f":"Millwall!Y138","v":"Arsenal"},{"$f":"Millwall!Z138","v":"(A)"},{"$f":"Millwall!AA138","v":"D 1-1"},{"$f":"MATCH(K$4,Millwall!$AB138:$AP138,0)","v":9},{"$f":"MATCH(L$4,Millwall!$AB138:$AP138,0)","v":{"$error":"#N/A"}},{"$f":"MATCH(M$4,Millwall!$AB138:$AP138,0)","v":11},{"$f":"MATCH(N$4,Millwall!$AB138:$AP138,0)","v":{"$error":"#N/A"}},{"$f":"MATCH(O$4,Millwall!$AB138:$AP138,0)","v":{"$error":"#N/A"}},{"$f":"MATCH(P$4,Millwall!$AB138:$AP138,0)","v":5},{"$f":"MATCH(Q$4,Millwall!$AB138:$AP138,0)","v":2},{"$f":"MATCH(R$4,Millwall!$AB138:$AP138,0)","v":{"$error":"#N/A"}},{"$f":"MATCH(S$4,Millwall!$AB138:$AP138,0)","v":3},{"$f":"MATCH(T$4,Millwall!$AB138:$AP138,0)","v":8},{"$f":"MATCH(U$4,Millwall!$AB138:$AP138,0)","v":{"$error":"#N/A"}},{"$f":"MATCH(V$4,Millwall!$AB138:$AP138,0)","v":10},{"$f":"MATCH(W$4,Millwall!$AB138:$AP138,0)","v":14},{"$f":"MATCH(X$4,Millwall!$AB138:$AP138,0)","v":1},{"$f":"MATCH(Y$4,Millwall!$AB138:$AP138,0)","v":{"$error":"#N/A"}},{"$f":"MATCH(Z$4,Millwall!$AB138:$AP138,0)","v":{"$error":"#N/A"}},{"$f":"MATCH(AA$4,Millwall!$AB138:$AP138,0)","v":{"$error":"#N/A"}},{"$f":"MATCH(AB$4,Millwall!$AB138:$AP138,0)","v":{"$error":"#N/A"}},{"$f":"MATCH(AC$4,Millwall!$AB138:$AP138,0)","v":4},{"$f":"MATCH(AD$4,Millwall!$AB138:$AP138,0)","v":{"$error":"#N/A"}},{"$f":"MATCH(AE$4,Millwall!$AB138:$AP138,0)","v":{"$error":"#N/A"}},{"$f":"MATCH(AF$4,Millwall!$AB138:$AP138,0)","v":12},{"$f":"MATCH(AG$4,Millwall!$AB138:$AP138,0)","v":{"$error":"#N/A"}},{"$f":"MATCH(AH$4,Millwall!$AB138:$AP138,0)","v":{"$error":"#N/A"}},{"$f":"MATCH(AI$4,Millwall!$AB138:$AP138,0)","v":{"$error":"#N/A"}},{"$f":"MATCH(AJ$4,Millwall!$AB138:$AP138,0)","v":7},{"$f":"MATCH(AK$4,Millwall!$AB138:$AP138,0)","v":{"$error":"#N/A"}},{"$f":"MATCH(AL$4,Millwall!$AB138:$AP138,0)","v":{"$error":"#N/A"}},{"$f":"MATCH(AM$4,Millwall!$AB138:$AP138,0)","v":6},{"$f":"MATCH(AN$4,Millwall!$AB138:$AP138,0)","v":{"$error":"#N/A"}},{"$f":"MATCH(AO$4,Millwall!$AB138:$AP138,0)","v":{"$error":"#N/A"}},{"$f":"MATCH(AP$4,Millwall!$AB138:$AP138,0)","v":{"$error":"#N/A"}},{"$f":"MATCH(AQ$4,Millwall!$AB138:$AP138,0)","v":{"$error":"#N/A"}},{"$f":"MATCH(AR$4,Millwall!$AB138:$AP138,0)","v":{"$error":"#N/A"}},null,null,null,null,null,{"$f":"MATCH(AX$3,Millwall!$AB138:$AP138,0)","v":{"$error":"#N/A"}},{"$f":"MATCH(AY$3,Millwall!$AB138:$AP138,0)","v":{"$error":"#N/A"}},{"$f":"MATCH(AZ$3,Millwall!$AB138:$AP138,0)","v":{"$error":"#N/A"}},{"$f":"MATCH(BA$3,Millwall!$AB138:$AP138,0)","v":{"$error":"#N/A"}},{"$f":"MATCH(BB$3,Millwall!$AB138:$AP138,0)","v":{"$error":"#N/A"}},{"$f":"MATCH(BC$3,Millwall!$AB138:$AP138,0)","v":{"$error":"#N/A"}},{"$f":"MATCH(BD$3,Millwall!$AB138:$AP138,0)","v":{"$error":"#N/A"}},{"$f":"MATCH(BE$3,Millwall!$AB138:$AP138,0)","v":{"$error":"#N/A"}},{"$f":"MATCH(BF$3,Millwall!$AB138:$AP138,0)","v":{"$error":"#N/A"}},{"$f":"MATCH(BG$3,Millwall!$AB138:$AP138,0)","v":8},{"$f":"MATCH(BH$3,Millwall!$AB138:$AP138,0)","v":{"$error":"#N/A"}},{"$f":"MATCH(BI$3,Millwall!$AB138:$AP138,0)","v":{"$error":"#N/A"}},{"$f":"MATCH(BJ$3,Millwall!$AB138:$AP138,0)","v":{"$error":"#N/A"}},{"$f":"MATCH(BK$3,Millwall!$AB138:$AP138,0)","v":{"$error":"#N/A"}},{"$f":"MATCH(BL$3,Millwall!$AB138:$AP138,0)","v":{"$error":"#N/A"}},{"$f":"MATCH(BM$3,Millwall!$AB138:$AP138,0)","v":{"$error":"#N/A"}},{"$f":"MATCH(BN$3,Millwall!$AB138:$AP138,0)","v":{"$error":"#N/A"}},{"$f":"MATCH(BO$3,Millwall!$AB138:$AP138,0)","v":{"$error":"#N/A"}},{"$f":"MATCH(BP$3,Millwall!$AB138:$AP138,0)","v":{"$error":"#N/A"}},{"$f":"MATCH(BQ$3,Millwall!$AB138:$AP138,0)","v":{"$error":"#N/A"}},{"$f":"MATCH(BR$3,Millwall!$AB138:$AP138,0)","v":{"$error":"#N/A"}},{"$f":"MATCH(BS$3,Millwall!$AB138:$AP138,0)","v":12},{"$f":"MATCH(BT$3,Millwall!$AB138:$AP138,0)","v":{"$error":"#N/A"}},{"$f":"MATCH(BU$3,Millwall!$AB138:$AP138,0)","v":{"$error":"#N/A"}},{"$f":"MATCH(BV$3,Millwall!$AB138:$AP138,0)","v":{"$error":"#N/A"}},{"$f":"MATCH(BW$3,Millwall!$AB138:$AP138,0)","v":{"$error":"#N/A"}},{"$f":"MATCH(BX$3,Millwall!$AB138:$AP138,0)","v":{"$error":"#N/A"}},{"$f":"MATCH(BY$3,Millwall!$AB138:$AP138,0)","v":{"$error":"#N/A"}},{"$f":"MATCH(BZ$3,Millwall!$AB138:$AP138,0)","v":{"$error":"#N/A"}},{"$f":"MATCH(CA$3,Millwall!$AB138:$AP138,0)","v":{"$error":"#N/A"}},{"$f":"MATCH(CB$3,Millwall!$AB138:$AP138,0)","v":{"$error":"#N/A"}},{"$f":"MATCH(CC$3,Millwall!$AB138:$AP138,0)","v":{"$error":"#N/A"}},{"$f":"MATCH(CD$3,Millwall!$AB138:$AP138,0)","v":{"$error":"#N/A"}},{"$f":"MATCH(CE$3,Millwall!$AB138:$AP138,0)","v":{"$error":"#N/A"}},null,null,{"$f":"MATCH(CH$3,Millwall!$AB138:$AP138,0)","v":{"$error":"#N/A"}},{"$f":"MATCH(CI$3,Millwall!$AB138:$AP138,0)","v":{"$error":"#N/A"}},{"$f":"MATCH(CJ$3,Millwall!$AB138:$AP138,0)","v":{"$error":"#N/A"}},{"$f":"MATCH(CK$3,Millwall!$AB138:$AP138,0)","v":{"$error":"#N/A"}},{"$f":"MATCH(CL$3,Millwall!$AB138:$AP138,0)","v":{"$error":"#N/A"}},{"$f":"MATCH(CM$3,Millwall!$AB138:$AP138,0)","v":{"$error":"#N/A"}},{"$f":"MATCH(CN$3,Millwall!$AB138:$AP138,0)","v":{"$error":"#N/A"}},{"$f":"MATCH(CO$3,Millwall!$AB138:$AP138,0)","v":{"$error":"#N/A"}},{"$f":"MATCH(CP$3,Millwall!$AB138:$AP138,0)","v":{"$error":"#N/A"}},{"$f":"MATCH(CQ$3,Millwall!$AB138:$AP138,0)","v":{"$error":"#N/A"}},{"$f":"MATCH(CR$3,Millwall!$AB138:$AP138,0)","v":{"$error":"#N/A"}},{"$f":"MATCH(CS$3,Millwall!$AB138:$AP138,0)","v":{"$error":"#N/A"}},{"$f":"MATCH(CT$3,Millwall!$AB138:$AP138,0)","v":{"$error":"#N/A"}},{"$f":"MATCH(CU$3,Millwall!$AB138:$AP138,0)","v":{"$error":"#N/A"}},{"$f":"MATCH(CV$3,Millwall!$AB138:$AP138,0)","v":{"$error":"#N/A"}},{"$f":"MATCH(CW$3,Millwall!$AB138:$AP138,0)","v":{"$error":"#N/A"}},{"$f":"MATCH(CX$3,Millwall!$AB138:$AP138,0)","v":{"$error":"#N/A"}},{"$f":"MATCH(CY$3,Millwall!$AB138:$AP138,0)","v":{"$error":"#N/A"}},{"$f":"MATCH(CZ$3,Millwall!$AB138:$AP138,0)","v":{"$error":"#N/A"}},{"$f":"MATCH(DA$3,Millwall!$AB138:$AP138,0)","v":{"$error":"#N/A"}},{"$f":"MATCH(DB$3,Millwall!$AB138:$AP138,0)","v":{"$error":"#N/A"}},{"$f":"MATCH(DC$3,Millwall!$AB138:$AP138,0)","v":{"$error":"#N/A"}},{"$f":"MATCH(DD$3,Millwall!$AB138:$AP138,0)","v":{"$error":"#N/A"}},{"$f":"MATCH(DE$3,Millwall!$AB138:$AP138,0)","v":{"$error":"#N/A"}},{"$f":"MATCH(DF$3,Millwall!$AB138:$AP138,0)","v":{"$error":"#N/A"}},{"$f":"MATCH(DG$3,Millwall!$AB138:$AP138,0)","v":{"$error":"#N/A"}},{"$f":"MATCH(DH$3,Millwall!$AB138:$AP138,0)","v":{"$error":"#N/A"}},{"$f":"MATCH(DI$3,Millwall!$AB138:$AP138,0)","v":{"$error":"#N/A"}},{"$f":"MATCH(DJ$3,Millwall!$AB138:$AP138,0)","v":{"$error":"#N/A"}},{"$f":"MATCH(DK$3,Millwall!$AB138:$AP138,0)","v":{"$error":"#N/A"}},{"$f":"MATCH(DL$3,Millwall!$AB138:$AP138,0)","v":{"$error":"#N/A"}},{"$f":"MATCH(DM$3,Millwall!$AB138:$AP138,0)","v":{"$error":"#N/A"}},{"$f":"MATCH(DN$3,Millwall!$AB138:$AP138,0)","v":{"$error":"#N/A"}},{"$f":"MATCH(DO$3,Millwall!$AB138:$AP138,0)","v":{"$error":"#N/A"}}]
[null,null,0,2,null,{"$f":"Millwall!X139","v":"1992-10-07"},null,{"$f":"Millwall!Y139","v":"Arsenal"},{"$f":"Millwall!Z139","v":"(H)"},{"$f":"Millwall!AA139","v":"D 1-1"},{"$f":"MATCH(K$4,Millwall!$AB139:$AP139,0)","v":9},{"$f":"MATCH(L$4,Millwall!$AB139:$AP139,0)","v":{"$error":"#N/A"}},{"$f":"MATCH(M$4,Millwall!$AB139:$AP139,0)","v":11},{"$f":"MATCH(N$4,Millwall!$AB139:$AP139,0)","v":{"$error":"#N/A"}},{"$f":"MATCH(O$4,Millwall!$AB139:$AP139,0)","v":{"$error":"#N/A"}},{"$f":"MATCH(P$4,Millwall!$AB139:$AP139,0)","v":5},{"$f":"MATCH(Q$4,Millwall!$AB139:$AP139,0)","v":2},{"$f":"MATCH(R$4,Millwall!$AB139:$AP139,0)","v":{"$error":"#N/A"}},{"$f":"MATCH(S$4,Millwall!$AB139:$AP139,0)","v":3},{"$f":"MATCH(T$4,Millwall!$AB139:$AP139,0)","v":8},{"$f":"MATCH(U$4,Millwall!$AB139:$AP139,0)","v":{"$error":"#N/A"}},{"$f":"MATCH(V$4,Millwall!$AB139:$AP139,0)","v":10},{"$f":"MATCH(W$4,Millwall!$AB139:$AP139,0)","v":{"$error":"#N/A"}},{"$f":"MATCH(X$4,Millwall!$AB139:$AP139,0)","v":1},{"$f":"MATCH(Y$4,Millwall!$AB139:$AP139,0)","v":{"$error":"#N/A"}},{"$f":"MATCH(Z$4,Millwall!$AB139:$AP139,0)","v":{"$error":"#N/A"}},{"$f":"MATCH(AA$4,Millwall!$AB139:$AP139,0)","v":{"$error":"#N/A"}},{"$f":"MATCH(AB$4,Millwall!$AB139:$AP139,0)","v":{"$error":"#N/A"}},{"$f":"MATCH(AC$4,Millwall!$AB139:$AP139,0)","v":4},{"$f":"MATCH(AD$4,Millwall!$AB139:$AP139,0)","v":{"$error":"#N/A"}},{"$f":"MATCH(AE$4,Millwall!$AB139:$AP139,0)","v":{"$error":"#N/A"}},{"$f":"MATCH(AF$4,Millwall!$AB139:$AP139,0)","v":{"$error":"#N/A"}},{"$f":"MATCH(AG$4,Millwall!$AB139:$AP139,0)","v":{"$error":"#N/A"}},{"$f":"MATCH(AH$4,Millwall!$AB139:$AP139,0)","v":12},{"$f":"MATCH(AI$4,Millwall!$AB139:$AP139,0)","v":14},{"$f":"MATCH(AJ$4,Millwall!$AB139:$AP139,0)","v":7},{"$f":"MATCH(AK$4,Millwall!$AB139:$AP139,0)","v":{"$error":"#N/A"}},{"$f":"MATCH(AL$4,Millwall!$AB139:$AP139,0)","v":{"$error":"#N/A"}},{"$f":"MATCH(AM$4,Millwall!$AB139:$AP139,0)","v":6},{"$f":"MATCH(AN$4,Millwall!$AB139:$AP139,0)","v":{"$error":"#N/A"}},{"$f":"MATCH(AO$4,Millwall!$AB139:$AP139,0)","v":{"$error":"#N/A"}},{"$f":"MATCH(AP$4,Millwall!$AB139:$AP139,0)","v":{"$error":"#N/A"}},{"$f":"MATCH(AQ$4,Millwall!$AB139:$AP139,0)","v":{"$error":"#N/A"}},{"$f":"MATCH(AR$4,Millwall!$AB139:$AP139,0)","v":{"$error":"#N/A"}},null,null,null,null,null,{"$f":"MATCH(AX$3,Millwall!$AB139:$AP139,0)","v":{"$error":"#N/A"}},{"$f":"MATCH(AY$3,Millwall!$AB139:$AP139,0)","v":{"$error":"#N/A"}},{"$f":"MATCH(AZ$3,Millwall!$AB139:$AP139,0)","v":{"$error":"#N/A"}},{"$f":"MATCH(BA$3,Millwall!$AB139:$AP139,0)","v":{"$error":"#N/A"}},{"$f":"MATCH(BB$3,Millwall!$AB139:$AP139,0)","v":{"$error":"#N/A"}},{"$f":"MATCH(BC$3,Millwall!$AB139:$AP139,0)","v":{"$error":"#N/A"}},{"$f":"MATCH(BD$3,Millwall!$AB139:$AP139,0)","v":{"$error":"#N/A"}},{"$f":"MATCH(BE$3,Millwall!$AB139:$AP139,0)","v":{"$error":"#N/A"}},{"$f":"MATCH(BF$3,Millwall!$AB139:$AP139,0)","v":{"$error":"#N/A"}},{"$f":"MATCH(BG$3,Millwall!$AB139:$AP139,0)","v":8},{"$f":"MATCH(BH$3,Millwall!$AB139:$AP139,0)","v":{"$error":"#N/A"}},{"$f":"MATCH(BI$3,Millwall!$AB139:$AP139,0)","v":{"$error":"#N/A"}},{"$f":"MATCH(BJ$3,Millwall!$AB139:$AP139,0)","v":{"$error":"#N/A"}},{"$f":"MATCH(BK$3,Millwall!$AB139:$AP139,0)","v":{"$error":"#N/A"}},{"$f":"MATCH(BL$3,Millwall!$AB139:$AP139,0)","v":{"$error":"#N/A"}},{"$f":"MATCH(BM$3,Millwall!$AB139:$AP139,0)","v":{"$error":"#N/A"}},{"$f":"MATCH(BN$3,Millwall!$AB139:$AP139,0)","v":{"$error":"#N/A"}},{"$f":"MATCH(BO$3,Millwall!$AB139:$AP139,0)","v":{"$error":"#N/A"}},{"$f":"MATCH(BP$3,Millwall!$AB139:$AP139,0)","v":{"$error":"#N/A"}},{"$f":"MATCH(BQ$3,Millwall!$AB139:$AP139,0)","v":{"$error":"#N/A"}},{"$f":"MATCH(BR$3,Millwall!$AB139:$AP139,0)","v":{"$error":"#N/A"}},{"$f":"MATCH(BS$3,Millwall!$AB139:$AP139,0)","v":{"$error":"#N/A"}},{"$f":"MATCH(BT$3,Millwall!$AB139:$AP139,0)","v":{"$error":"#N/A"}},{"$f":"MATCH(BU$3,Millwall!$AB139:$AP139,0)","v":12},{"$f":"MATCH(BV$3,Millwall!$AB139:$AP139,0)","v":{"$error":"#N/A"}},{"$f":"MATCH(BW$3,Millwall!$AB139:$AP139,0)","v":{"$error":"#N/A"}},{"$f":"MATCH(BX$3,Millwall!$AB139:$AP139,0)","v":{"$error":"#N/A"}},{"$f":"MATCH(BY$3,Millwall!$AB139:$AP139,0)","v":{"$error":"#N/A"}},{"$f":"MATCH(BZ$3,Millwall!$AB139:$AP139,0)","v":{"$error":"#N/A"}},{"$f":"MATCH(CA$3,Millwall!$AB139:$AP139,0)","v":{"$error":"#N/A"}},{"$f":"MATCH(CB$3,Millwall!$AB139:$AP139,0)","v":{"$error":"#N/A"}},{"$f":"MATCH(CC$3,Millwall!$AB139:$AP139,0)","v":{"$error":"#N/A"}},{"$f":"MATCH(CD$3,Millwall!$AB139:$AP139,0)","v":{"$error":"#N/A"}},{"$f":"MATCH(CE$3,Millwall!$AB139:$AP139,0)","v":{"$error":"#N/A"}},null,null,{"$f":"MATCH(CH$3,Millwall!$AB139:$AP139,0)","v":{"$error":"#N/A"}},{"$f":"MATCH(CI$3,Millwall!$AB139:$AP139,0)","v":{"$error":"#N/A"}},{"$f":"MATCH(CJ$3,Millwall!$AB139:$AP139,0)","v":{"$error":"#N/A"}},{"$f":"MATCH(CK$3,Millwall!$AB139:$AP139,0)","v":{"$error":"#N/A"}},{"$f":"MATCH(CL$3,Millwall!$AB139:$AP139,0)","v":{"$error":"#N/A"}},{"$f":"MATCH(CM$3,Millwall!$AB139:$AP139,0)","v":{"$error":"#N/A"}},{"$f":"MATCH(CN$3,Millwall!$AB139:$AP139,0)","v":{"$error":"#N/A"}},{"$f":"MATCH(CO$3,Millwall!$AB139:$AP139,0)","v":{"$error":"#N/A"}},{"$f":"MATCH(CP$3,Millwall!$AB139:$AP139,0)","v":{"$error":"#N/A"}},{"$f":"MATCH(CQ$3,Millwall!$AB139:$AP139,0)","v":{"$error":"#N/A"}},{"$f":"MATCH(CR$3,Millwall!$AB139:$AP139,0)","v":{"$error":"#N/A"}},{"$f":"MATCH(CS$3,Millwall!$AB139:$AP139,0)","v":{"$error":"#N/A"}},{"$f":"MATCH(CT$3,Millwall!$AB139:$AP139,0)","v":{"$error":"#N/A"}},{"$f":"MATCH(CU$3,Millwall!$AB139:$AP139,0)","v":{"$error":"#N/A"}},{"$f":"MATCH(CV$3,Millwall!$AB139:$AP139,0)","v":{"$error":"#N/A"}},{"$f":"MATCH(CW$3,Millwall!$AB139:$AP139,0)","v":{"$error":"#N/A"}},{"$f":"MATCH(CX$3,Millwall!$AB139:$AP139,0)","v":{"$error":"#N/A"}},{"$f":"MATCH(CY$3,Millwall!$AB139:$AP139,0)","v":{"$error":"#N/A"}},{"$f":"MATCH(CZ$3,Millwall!$AB139:$AP139,0)","v":4},{"$f":"MATCH(DA$3,Millwall!$AB139:$AP139,0)","v":{"$error":"#N/A"}},{"$f":"MATCH(DB$3,Millwall!$AB139:$AP139,0)","v":{"$error":"#N/A"}},{"$f":"MATCH(DC$3,Millwall!$AB139:$AP139,0)","v":{"$error":"#N/A"}},{"$f":"MATCH(DD$3,Millwall!$AB139:$AP139,0)","v":{"$error":"#N/A"}},{"$f":"MATCH(DE$3,Millwall!$AB139:$AP139,0)","v":{"$error":"#N/A"}},{"$f":"MATCH(DF$3,Millwall!$AB139:$AP139,0)","v":14},{"$f":"MATCH(DG$3,Millwall!$AB139:$AP139,0)","v":{"$error":"#N/A"}},{"$f":"MATCH(DH$3,Millwall!$AB139:$AP139,0)","v":{"$error":"#N/A"}},{"$f":"MATCH(DI$3,Millwall!$AB139:$AP139,0)","v":{"$error":"#N/A"}},{"$f":"MATCH(DJ$3,Millwall!$AB139:$AP139,0)","v":{"$error":"#N/A"}},{"$f":"MATCH(DK$3,Millwall!$AB139:$AP139,0)","v":{"$error":"#N/A"}},{"$f":"MATCH(DL$3,Millwall!$AB139:$AP139,0)","v":{"$error":"#N/A"}},{"$f":"MATCH(DM$3,Millwall!$AB139:$AP139,0)","v":{"$error":"#N/A"}},{"$f":"MATCH(DN$3,Millwall!$AB139:$AP139,0)","v":{"$error":"#N/A"}},{"$f":"MATCH(DO$3,Millwall!$AB139:$AP139,0)","v":{"$error":"#N/A"}}]
[null,null,1,null,null,{"$f":"Millwall!X140","v":"00:00:00"},null,{"$f":"Millwall!Y140","v":"00:00:00"},{"$f":"Millwall!Z140","v":"00:00:00"},{"$f":"Millwall!AA140","v":0},{"$f":"MATCH(K$4,Millwall!$AB140:$AP140,0)","v":{"$error":"#N/A"}},{"$f":"MATCH(L$4,Millwall!$AB140:$AP140,0)","v":{"$error":"#N/A"}},{"$f":"MATCH(M$4,Millwall!$AB140:$AP140,0)","v":{"$error":"#N/A"}},{"$f":"MATCH(N$4,Millwall!$AB140:$AP140,0)","v":{"$error":"#N/A"}},{"$f":"MATCH(O$4,Millwall!$AB140:$AP140,0)","v":{"$error":"#N/A"}},{"$f":"MATCH(P$4,Millwall!$AB140:$AP140,0)","v":{"$error":"#N/A"}},{"$f":"MATCH(Q$4,Millwall!$AB140:$AP140,0)","v":{"$error":"#N/A"}},{"$f":"MATCH(R$4,Millwall!$AB140:$AP140,0)","v":{"$error":"#N/A"}},{"$f":"MATCH(S$4,Millwall!$AB140:$AP140,0)","v":{"$error":"#N/A"}},{"$f":"MATCH(T$4,Millwall!$AB140:$AP140,0)","v":{"$error":"#N/A"}},{"$f":"MATCH(U$4,Millwall!$AB140:$AP140,0)","v":{"$error":"#N/A"}},{"$f":"MATCH(V$4,Millwall!$AB140:$AP140,0)","v":{"$error":"#N/A"}},{"$f":"MATCH(W$4,Millwall!$AB140:$AP140,0)","v":{"$error":"#N/A"}},{"$f":"MATCH(X$4,Millwall!$AB140:$AP140,0)","v":{"$error":"#N/A"}},{"$f":"MATCH(Y$4,Millwall!$AB140:$AP140,0)","v":{"$error":"#N/A"}},{"$f":"MATCH(Z$4,Millwall!$AB140:$AP140,0)","v":{"$error":"#N/A"}},{"$f":"MATCH(AA$4,Millwall!$AB140:$AP140,0)","v":{"$error":"#N/A"}},{"$f":"MATCH(AB$4,Millwall!$AB140:$AP140,0)","v":{"$error":"#N/A"}},{"$f":"MATCH(AC$4,Millwall!$AB140:$AP140,0)","v":{"$error":"#N/A"}},{"$f":"MATCH(AD$4,Millwall!$AB140:$AP140,0)","v":{"$error":"#N/A"}},{"$f":"MATCH(AE$4,Millwall!$AB140:$AP140,0)","v":{"$error":"#N/A"}},{"$f":"MATCH(AF$4,Millwall!$AB140:$AP140,0)","v":{"$error":"#N/A"}},{"$f":"MATCH(AG$4,Millwall!$AB140:$AP140,0)","v":{"$error":"#N/A"}},{"$f":"MATCH(AH$4,Millwall!$AB140:$AP140,0)","v":{"$error":"#N/A"}},{"$f":"MATCH(AI$4,Millwall!$AB140:$AP140,0)","v":{"$error":"#N/A"}},{"$f":"MATCH(AJ$4,Millwall!$AB140:$AP140,0)","v":{"$error":"#N/A"}},{"$f":"MATCH(AK$4,Millwall!$AB140:$AP140,0)","v":{"$error":"#N/A"}},{"$f":"MATCH(AL$4,Millwall!$AB140:$AP140,0)","v":{"$error":"#N/A"}},{"$f":"MATCH(AM$4,Millwall!$AB140:$AP140,0)","v":{"$error":"#N/A"}},{"$f":"MATCH(AN$4,Millwall!$AB140:$AP140,0)","v":{"$error":"#N/A"}},{"$f":"MATCH(AO$4,Millwall!$AB140:$AP140,0)","v":{"$error":"#N/A"}},{"$f":"MATCH(AP$4,Millwall!$AB140:$AP140,0)","v":{"$error":"#N/A"}},{"$f":"MATCH(AQ$4,Millwall!$AB140:$AP140,0)","v":{"$error":"#N/A"}},{"$f":"MATCH(AR$4,Millwall!$AB140:$AP140,0)","v":{"$error":"#N/A"}},null,null,null,null,null,{"$f":"MATCH(AX$3,Millwall!$AB140:$AP140,0)","v":{"$error":"#N/A"}},{"$f":"MATCH(AY$3,Millwall!$AB140:$AP140,0)","v":{"$error":"#N/A"}},{"$f":"MATCH(AZ$3,Millwall!$AB140:$AP140,0)","v":{"$error":"#N/A"}},{"$f":"MATCH(BA$3,Millwall!$AB140:$AP140,0)","v":{"$error":"#N/A"}},{"$f":"MATCH(BB$3,Millwall!$AB140:$AP140,0)","v":{"$error":"#N/A"}},{"$f":"MATCH(BC$3,Millwall!$AB140:$AP140,0)","v":{"$error":"#N/A"}},{"$f":"MATCH(BD$3,Millwall!$AB140:$AP140,0)","v":{"$error":"#N/A"}},{"$f":"MATCH(BE$3,Millwall!$AB140:$AP140,0)","v":{"$error":"#N/A"}},{"$f":"MATCH(BF$3,Millwall!$AB140:$AP140,0)","v":{"$error":"#N/A"}},{"$f":"MATCH(BG$3,Millwall!$AB140:$AP140,0)","v":{"$error":"#N/A"}},{"$f":"MATCH(BH$3,Millwall!$AB140:$AP140,0)","v":{"$error":"#N/A"}},{"$f":"MATCH(BI$3,Millwall!$AB140:$AP140,0)","v":{"$error":"#N/A"}},{"$f":"MATCH(BJ$3,Millwall!$AB140:$AP140,0)","v":{"$error":"#N/A"}},{"$f":"MATCH(BK$3,Millwall!$AB140:$AP140,0)","v":{"$error":"#N/A"}},{"$f":"MATCH(BL$3,Millwall!$AB140:$AP140,0)","v":{"$error":"#N/A"}},{"$f":"MATCH(BM$3,Millwall!$AB140:$AP140,0)","v":{"$error":"#N/A"}},{"$f":"MATCH(BN$3,Millwall!$AB140:$AP140,0)","v":{"$error":"#N/A"}},{"$f":"MATCH(BO$3,Millwall!$AB140:$AP140,0)","v":{"$error":"#N/A"}},{"$f":"MATCH(BP$3,Millwall!$AB140:$AP140,0)","v":{"$error":"#N/A"}},{"$f":"MATCH(BQ$3,Millwall!$AB140:$AP140,0)","v":{"$error":"#N/A"}},{"$f":"MATCH(BR$3,Millwall!$AB140:$AP140,0)","v":{"$error":"#N/A"}},{"$f":"MATCH(BS$3,Millwall!$AB140:$AP140,0)","v":{"$error":"#N/A"}},{"$f":"MATCH(BT$3,Millwall!$AB140:$AP140,0)","v":{"$error":"#N/A"}},{"$f":"MATCH(BU$3,Millwall!$AB140:$AP140,0)","v":{"$error":"#N/A"}},{"$f":"MATCH(BV$3,Millwall!$AB140:$AP140,0)","v":{"$error":"#N/A"}},{"$f":"MATCH(BW$3,Millwall!$AB140:$AP140,0)","v":{"$error":"#N/A"}},{"$f":"MATCH(BX$3,Millwall!$AB140:$AP140,0)","v":{"$error":"#N/A"}},{"$f":"MATCH(BY$3,Millwall!$AB140:$AP140,0)","v":{"$error":"#N/A"}},{"$f":"MATCH(BZ$3,Millwall!$AB140:$AP140,0)","v":{"$error":"#N/A"}},{"$f":"MATCH(CA$3,Millwall!$AB140:$AP140,0)","v":{"$error":"#N/A"}},{"$f":"MATCH(CB$3,Millwall!$AB140:$AP140,0)","v":{"$error":"#N/A"}},{"$f":"MATCH(CC$3,Millwall!$AB140:$AP140,0)","v":{"$error":"#N/A"}},{"$f":"MATCH(CD$3,Millwall!$AB140:$AP140,0)","v":{"$error":"#N/A"}},{"$f":"MATCH(CE$3,Millwall!$AB140:$AP140,0)","v":{"$error":"#N/A"}},null,null,{"$f":"MATCH(CH$3,Millwall!$AB140:$AP140,0)","v":{"$error":"#N/A"}},{"$f":"MATCH(CI$3,Millwall!$AB140:$AP140,0)","v":{"$error":"#N/A"}},{"$f":"MATCH(CJ$3,Millwall!$AB140:$AP140,0)","v":{"$error":"#N/A"}},{"$f":"MATCH(CK$3,Millwall!$AB140:$AP140,0)","v":{"$error":"#N/A"}},{"$f":"MATCH(CL$3,Millwall!$AB140:$AP140,0)","v":{"$error":"#N/A"}},{"$f":"MATCH(CM$3,Millwall!$AB140:$AP140,0)","v":{"$error":"#N/A"}},{"$f":"MATCH(CN$3,Millwall!$AB140:$AP140,0)","v":{"$error":"#N/A"}},{"$f":"MATCH(CO$3,Millwall!$AB140:$AP140,0)","v":{"$error":"#N/A"}},{"$f":"MATCH(CP$3,Millwall!$AB140:$AP140,0)","v":{"$error":"#N/A"}},{"$f":"MATCH(CQ$3,Millwall!$AB140:$AP140,0)","v":{"$error":"#N/A"}},{"$f":"MATCH(CR$3,Millwall!$AB140:$AP140,0)","v":{"$error":"#N/A"}},{"$f":"MATCH(CS$3,Millwall!$AB140:$AP140,0)","v":{"$error":"#N/A"}},{"$f":"MATCH(CT$3,Millwall!$AB140:$AP140,0)","v":{"$error":"#N/A"}},{"$f":"MATCH(CU$3,Millwall!$AB140:$AP140,0)","v":{"$error":"#N/A"}},{"$f":"MATCH(CV$3,Millwall!$AB140:$AP140,0)","v":{"$error":"#N/A"}},{"$f":"MATCH(CW$3,Millwall!$AB140:$AP140,0)","v":{"$error":"#N/A"}},{"$f":"MATCH(CX$3,Millwall!$AB140:$AP140,0)","v":{"$error":"#N/A"}},{"$f":"MATCH(CY$3,Millwall!$AB140:$AP140,0)","v":{"$error":"#N/A"}},{"$f":"MATCH(CZ$3,Millwall!$AB140:$AP140,0)","v":{"$error":"#N/A"}},{"$f":"MATCH(DA$3,Millwall!$AB140:$AP140,0)","v":{"$error":"#N/A"}},{"$f":"MATCH(DB$3,Millwall!$AB140:$AP140,0)","v":{"$error":"#N/A"}},{"$f":"MATCH(DC$3,Millwall!$AB140:$AP140,0)","v":{"$error":"#N/A"}},{"$f":"MATCH(DD$3,Millwall!$AB140:$AP140,0)","v":{"$error":"#N/A"}},{"$f":"MATCH(DE$3,Millwall!$AB140:$AP140,0)","v":{"$error":"#N/A"}},{"$f":"MATCH(DF$3,Millwall!$AB140:$AP140,0)","v":{"$error":"#N/A"}},{"$f":"MATCH(DG$3,Millwall!$AB140:$AP140,0)","v":{"$error":"#N/A"}},{"$f":"MATCH(DH$3,Millwall!$AB140:$AP140,0)","v":{"$error":"#N/A"}},{"$f":"MATCH(DI$3,Millwall!$AB140:$AP140,0)","v":{"$error":"#N/A"}},{"$f":"MATCH(DJ$3,Millwall!$AB140:$AP140,0)","v":{"$error":"#N/A"}},{"$f":"MATCH(DK$3,Millwall!$AB140:$AP140,0)","v":{"$error":"#N/A"}},{"$f":"MATCH(DL$3,Millwall!$AB140:$AP140,0)","v":{"$error":"#N/A"}},{"$f":"MATCH(DM$3,Millwall!$AB140:$AP140,0)","v":{"$error":"#N/A"}},{"$f":"MATCH(DN$3,Millwall!$AB140:$AP140,0)","v":{"$error":"#N/A"}},{"$f":"MATCH(DO$3,Millwall!$AB140:$AP140,0)","v":{"$error":"#N/A"}}]
[null,null,1,null,null,{"$f":"Millwall!X141","v":"00:00:00"},null,{"$f":"Millwall!Y141","v":"00:00:00"},{"$f":"Millwall!Z141","v":"00:00:00"},{"$f":"Millwall!AA141","v":0},{"$f":"MATCH(K$4,Millwall!$AB141:$AP141,0)","v":{"$error":"#N/A"}},{"$f":"MATCH(L$4,Millwall!$AB141:$AP141,0)","v":{"$error":"#N/A"}},{"$f":"MATCH(M$4,Millwall!$AB141:$AP141,0)","v":{"$error":"#N/A"}},{"$f":"MATCH(N$4,Millwall!$AB141:$AP141,0)","v":{"$error":"#N/A"}},{"$f":"MATCH(O$4,Millwall!$AB141:$AP141,0)","v":{"$error":"#N/A"}},{"$f":"MATCH(P$4,Millwall!$AB141:$AP141,0)","v":{"$error":"#N/A"}},{"$f":"MATCH(Q$4,Millwall!$AB141:$AP141,0)","v":{"$error":"#N/A"}},{"$f":"MATCH(R$4,Millwall!$AB141:$AP141,0)","v":{"$error":"#N/A"}},{"$f":"MATCH(S$4,Millwall!$AB141:$AP141,0)","v":{"$error":"#N/A"}},{"$f":"MATCH(T$4,Millwall!$AB141:$AP141,0)","v":{"$error":"#N/A"}},{"$f":"MATCH(U$4,Millwall!$AB141:$AP141,0)","v":{"$error":"#N/A"}},{"$f":"MATCH(V$4,Millwall!$AB141:$AP141,0)","v":{"$error":"#N/A"}},{"$f":"MATCH(W$4,Millwall!$AB141:$AP141,0)","v":{"$error":"#N/A"}},{"$f":"MATCH(X$4,Millwall!$AB141:$AP141,0)","v":{"$error":"#N/A"}},{"$f":"MATCH(Y$4,Millwall!$AB141:$AP141,0)","v":{"$error":"#N/A"}},{"$f":"MATCH(Z$4,Millwall!$AB141:$AP141,0)","v":{"$error":"#N/A"}},{"$f":"MATCH(AA$4,Millwall!$AB141:$AP141,0)","v":{"$error":"#N/A"}},{"$f":"MATCH(AB$4,Millwall!$AB141:$AP141,0)","v":{"$error":"#N/A"}},{"$f":"MATCH(AC$4,Millwall!$AB141:$AP141,0)","v":{"$error":"#N/A"}},{"$f":"MATCH(AD$4,Millwall!$AB141:$AP141,0)","v":{"$error":"#N/A"}},{"$f":"MATCH(AE$4,Millwall!$AB141:$AP141,0)","v":{"$error":"#N/A"}},{"$f":"MATCH(AF$4,Millwall!$AB141:$AP141,0)","v":{"$error":"#N/A"}},{"$f":"MATCH(AG$4,Millwall!$AB141:$AP141,0)","v":{"$error":"#N/A"}},{"$f":"MATCH(AH$4,Millwall!$AB141:$AP141,0)","v":{"$error":"#N/A"}},{"$f":"MATCH(AI$4,Millwall!$AB141:$AP141,0)","v":{"$error":"#N/A"}},{"$f":"MATCH(AJ$4,Millwall!$AB141:$AP141,0)","v":{"$error":"#N/A"}},{"$f":"MATCH(AK$4,Millwall!$AB141:$AP141,0)","v":{"$error":"#N/A"}},{"$f":"MATCH(AL$4,Millwall!$AB141:$AP141,0)","v":{"$error":"#N/A"}},{"$f":"MATCH(AM$4,Millwall!$AB141:$AP141,0)","v":{"$error":"#N/A"}},{"$f":"MATCH(AN$4,Millwall!$AB141:$AP141,0)","v":{"$error":"#N/A"}},{"$f":"MATCH(AO$4,Millwall!$AB141:$AP141,0)","v":{"$error":"#N/A"}},{"$f":"MATCH(AP$4,Millwall!$AB141:$AP141,0)","v":{"$error":"#N/A"}},{"$f":"MATCH(AQ$4,Millwall!$AB141:$AP141,0)","v":{"$error":"#N/A"}},{"$f":"MATCH(AR$4,Millwall!$AB141:$AP141,0)","v":{"$error":"#N/A"}},null,null,null,null,null,{"$f":"MATCH(AX$3,Millwall!$AB141:$AP141,0)","v":{"$error":"#N/A"}},{"$f":"MATCH(AY$3,Millwall!$AB141:$AP141,0)","v":{"$error":"#N/A"}},{"$f":"MATCH(AZ$3,Millwall!$AB141:$AP141,0)","v":{"$error":"#N/A"}},{"$f":"MATCH(BA$3,Millwall!$AB141:$AP141,0)","v":{"$error":"#N/A"}},{"$f":"MATCH(BB$3,Millwall!$AB141:$AP141,0)","v":{"$error":"#N/A"}},{"$f":"MATCH(BC$3,Millwall!$AB141:$AP141,0)","v":{"$error":"#N/A"}},{"$f":"MATCH(BD$3,Millwall!$AB141:$AP141,0)","v":{"$error":"#N/A"}},{"$f":"MATCH(BE$3,Millwall!$AB141:$AP141,0)","v":{"$error":"#N/A"}},{"$f":"MATCH(BF$3,Millwall!$AB141:$AP141,0)","v":{"$error":"#N/A"}},{"$f":"MATCH(BG$3,Millwall!$AB141:$AP141,0)","v":{"$error":"#N/A"}},{"$f":"MATCH(BH$3,Millwall!$AB141:$AP141,0)","v":{"$error":"#N/A"}},{"$f":"MATCH(BI$3,Millwall!$AB141:$AP141,0)","v":{"$error":"#N/A"}},{"$f":"MATCH(BJ$3,Millwall!$AB141:$AP141,0)","v":{"$error":"#N/A"}},{"$f":"MATCH(BK$3,Millwall!$AB141:$AP141,0)","v":{"$error":"#N/A"}},{"$f":"MATCH(BL$3,Millwall!$AB141:$AP141,0)","v":{"$error":"#N/A"}},{"$f":"MATCH(BM$3,Millwall!$AB141:$AP141,0)","v":{"$error":"#N/A"}},{"$f":"MATCH(BN$3,Millwall!$AB141:$AP141,0)","v":{"$error":"#N/A"}},{"$f":"MATCH(BO$3,Millwall!$AB141:$AP141,0)","v":{"$error":"#N/A"}},{"$f":"MATCH(BP$3,Millwall!$AB141:$AP141,0)","v":{"$error":"#N/A"}},{"$f":"MATCH(BQ$3,Millwall!$AB141:$AP141,0)","v":{"$error":"#N/A"}},{"$f":"MATCH(BR$3,Millwall!$AB141:$AP141,0)","v":{"$error":"#N/A"}},{"$f":"MATCH(BS$3,Millwall!$AB141:$AP141,0)","v":{"$error":"#N/A"}},{"$f":"MATCH(BT$3,Millwall!$AB141:$AP141,0)","v":{"$error":"#N/A"}},{"$f":"MATCH(BU$3,Millwall!$AB141:$AP141,0)","v":{"$error":"#N/A"}},{"$f":"MATCH(BV$3,Millwall!$AB141:$AP141,0)","v":{"$error":"#N/A"}},{"$f":"MATCH(BW$3,Millwall!$AB141:$AP141,0)","v":{"$error":"#N/A"}},{"$f":"MATCH(BX$3,Millwall!$AB141:$AP141,0)","v":{"$error":"#N/A"}},{"$f":"MATCH(BY$3,Millwall!$AB141:$AP141,0)","v":{"$error":"#N/A"}},{"$f":"MATCH(BZ$3,Millwall!$AB141:$AP141,0)","v":{"$error":"#N/A"}},{"$f":"MATCH(CA$3,Millwall!$AB141:$AP141,0)","v":{"$error":"#N/A"}},{"$f":"MATCH(CB$3,Millwall!$AB141:$AP141,0)","v":{"$error":"#N/A"}},{"$f":"MATCH(CC$3,Millwall!$AB141:$AP141,0)","v":{"$error":"#N/A"}},{"$f":"MATCH(CD$3,Millwall!$AB141:$AP141,0)","v":{"$error":"#N/A"}},{"$f":"MATCH(CE$3,Millwall!$AB141:$AP141,0)","v":{"$error":"#N/A"}},null,null,{"$f":"MATCH(CH$3,Millwall!$AB141:$AP141,0)","v":{"$error":"#N/A"}},{"$f":"MATCH(CI$3,Millwall!$AB141:$AP141,0)","v":{"$error":"#N/A"}},{"$f":"MATCH(CJ$3,Millwall!$AB141:$AP141,0)","v":{"$error":"#N/A"}},{"$f":"MATCH(CK$3,Millwall!$AB141:$AP141,0)","v":{"$error":"#N/A"}},{"$f":"MATCH(CL$3,Millwall!$AB141:$AP141,0)","v":{"$error":"#N/A"}},{"$f":"MATCH(CM$3,Millwall!$AB141:$AP141,0)","v":{"$error":"#N/A"}},{"$f":"MATCH(CN$3,Millwall!$AB141:$AP141,0)","v":{"$error":"#N/A"}},{"$f":"MATCH(CO$3,Millwall!$AB141:$AP141,0)","v":{"$error":"#N/A"}},{"$f":"MATCH(CP$3,Millwall!$AB141:$AP141,0)","v":{"$error":"#N/A"}},{"$f":"MATCH(CQ$3,Millwall!$AB141:$AP141,0)","v":{"$error":"#N/A"}},{"$f":"MATCH(CR$3,Millwall!$AB141:$AP141,0)","v":{"$error":"#N/A"}},{"$f":"MATCH(CS$3,Millwall!$AB141:$AP141,0)","v":{"$error":"#N/A"}},{"$f":"MATCH(CT$3,Millwall!$AB141:$AP141,0)","v":{"$error":"#N/A"}},{"$f":"MATCH(CU$3,Millwall!$AB141:$AP141,0)","v":{"$error":"#N/A"}},{"$f":"MATCH(CV$3,Millwall!$AB141:$AP141,0)","v":{"$error":"#N/A"}},{"$f":"MATCH(CW$3,Millwall!$AB141:$AP141,0)","v":{"$error":"#N/A"}},{"$f":"MATCH(CX$3,Millwall!$AB141:$AP141,0)","v":{"$error":"#N/A"}},{"$f":"MATCH(CY$3,Millwall!$AB141:$AP141,0)","v":{"$error":"#N/A"}},{"$f":"MATCH(CZ$3,Millwall!$AB141:$AP141,0)","v":{"$error":"#N/A"}},{"$f":"MATCH(DA$3,Millwall!$AB141:$AP141,0)","v":{"$error":"#N/A"}},{"$f":"MATCH(DB$3,Millwall!$AB141:$AP141,0)","v":{"$error":"#N/A"}},{"$f":"MATCH(DC$3,Millwall!$AB141:$AP141,0)","v":{"$error":"#N/A"}},{"$f":"MATCH(DD$3,Millwall!$AB141:$AP141,0)","v":{"$error":"#N/A"}},{"$f":"MATCH(DE$3,Millwall!$AB141:$AP141,0)","v":{"$error":"#N/A"}},{"$f":"MATCH(DF$3,Millwall!$AB141:$AP141,0)","v":{"$error":"#N/A"}},{"$f":"MATCH(DG$3,Millwall!$AB141:$AP141,0)","v":{"$error":"#N/A"}},{"$f":"MATCH(DH$3,Millwall!$AB141:$AP141,0)","v":{"$error":"#N/A"}},{"$f":"MATCH(DI$3,Millwall!$AB141:$AP141,0)","v":{"$error":"#N/A"}},{"$f":"MATCH(DJ$3,Millwall!$AB141:$AP141,0)","v":{"$error":"#N/A"}},{"$f":"MATCH(DK$3,Millwall!$AB141:$AP141,0)","v":{"$error":"#N/A"}},{"$f":"MATCH(DL$3,Millwall!$AB141:$AP141,0)","v":{"$error":"#N/A"}},{"$f":"MATCH(DM$3,Millwall!$AB141:$AP141,0)","v":{"$error":"#N/A"}},{"$f":"MATCH(DN$3,Millwall!$AB141:$AP141,0)","v":{"$error":"#N/A"}},{"$f":"MATCH(DO$3,Millwall!$AB141:$AP141,0)","v":{"$error":"#N/A"}}]
[null,null,1,null,null,{"$f":"Millwall!X142","v":"00:00:00"},null,{"$f":"Millwall!Y142","v":"00:00:00"},{"$f":"Millwall!Z142","v":"00:00:00"},{"$f":"Millwall!AA142","v":0},{"$f":"MATCH(K$4,Millwall!$AB142:$AP142,0)","v":{"$error":"#N/A"}},{"$f":"MATCH(L$4,Millwall!$AB142:$AP142,0)","v":{"$error":"#N/A"}},{"$f":"MATCH(M$4,Millwall!$AB142:$AP142,0)","v":{"$error":"#N/A"}},{"$f":"MATCH(N$4,Millwall!$AB142:$AP142,0)","v":{"$error":"#N/A"}},{"$f":"MATCH(O$4,Millwall!$AB142:$AP142,0)","v":{"$error":"#N/A"}},{"$f":"MATCH(P$4,Millwall!$AB142:$AP142,0)","v":{"$error":"#N/A"}},{"$f":"MATCH(Q$4,Millwall!$AB142:$AP142,0)","v":{"$error":"#N/A"}},{"$f":"MATCH(R$4,Millwall!$AB142:$AP142,0)","v":{"$error":"#N/A"}},{"$f":"MATCH(S$4,Millwall!$AB142:$AP142,0)","v":{"$error":"#N/A"}},{"$f":"MATCH(T$4,Millwall!$AB142:$AP142,0)","v":{"$error":"#N/A"}},{"$f":"MATCH(U$4,Millwall!$AB142:$AP142,0)","v":{"$error":"#N/A"}},{"$f":"MATCH(V$4,Millwall!$AB142:$AP142,0)","v":{"$error":"#N/A"}},{"$f":"MATCH(W$4,Millwall!$AB142:$AP142,0)","v":{"$error":"#N/A"}},{"$f":"MATCH(X$4,Millwall!$AB142:$AP142,0)","v":{"$error":"#N/A"}},{"$f":"MATCH(Y$4,Millwall!$AB142:$AP142,0)","v":{"$error":"#N/A"}},{"$f":"MATCH(Z$4,Millwall!$AB142:$AP142,0)","v":{"$error":"#N/A"}},{"$f":"MATCH(AA$4,Millwall!$AB142:$AP142,0)","v":{"$error":"#N/A"}},{"$f":"MATCH(AB$4,Millwall!$AB142:$AP142,0)","v":{"$error":"#N/A"}},{"$f":"MATCH(AC$4,Millwall!$AB142:$AP142,0)","v":{"$error":"#N/A"}},{"$f":"MATCH(AD$4,Millwall!$AB142:$AP142,0)","v":{"$error":"#N/A"}},{"$f":"MATCH(AE$4,Millwall!$AB142:$AP142,0)","v":{"$error":"#N/A"}},{"$f":"MATCH(AF$4,Millwall!$AB142:$AP142,0)","v":{"$error":"#N/A"}},{"$f":"MATCH(AG$4,Millwall!$AB142:$AP142,0)","v":{"$error":"#N/A"}},{"$f":"MATCH(AH$4,Millwall!$AB142:$AP142,0)","v":{"$error":"#N/A"}},{"$f":"MATCH(AI$4,Millwall!$AB142:$AP142,0)","v":{"$error":"#N/A"}},{"$f":"MATCH(AJ$4,Millwall!$AB142:$AP142,0)","v":{"$error":"#N/A"}},{"$f":"MATCH(AK$4,Millwall!$AB142:$AP142,0)","v":{"$error":"#N/A"}},{"$f":"MATCH(AL$4,Millwall!$AB142:$AP142,0)","v":{"$error":"#N/A"}},{"$f":"MATCH(AM$4,Millwall!$AB142:$AP142,0)","v":{"$error":"#N/A"}},{"$f":"MATCH(AN$4,Millwall!$AB142:$AP142,0)","v":{"$error":"#N/A"}},{"$f":"MATCH(AO$4,Millwall!$AB142:$AP142,0)","v":{"$error":"#N/A"}},{"$f":"MATCH(AP$4,Millwall!$AB142:$AP142,0)","v":{"$error":"#N/A"}},{"$f":"MATCH(AQ$4,Millwall!$AB142:$AP142,0)","v":{"$error":"#N/A"}},{"$f":"MATCH(AR$4,Millwall!$AB142:$AP142,0)","v":{"$error":"#N/A"}},null,null,null,null,null,{"$f":"MATCH(AX$3,Millwall!$AB142:$AP142,0)","v":{"$error":"#N/A"}},{"$f":"MATCH(AY$3,Millwall!$AB142:$AP142,0)","v":{"$error":"#N/A"}},{"$f":"MATCH(AZ$3,Millwall!$AB142:$AP142,0)","v":{"$error":"#N/A"}},{"$f":"MATCH(BA$3,Millwall!$AB142:$AP142,0)","v":{"$error":"#N/A"}},{"$f":"MATCH(BB$3,Millwall!$AB142:$AP142,0)","v":{"$error":"#N/A"}},{"$f":"MATCH(BC$3,Millwall!$AB142:$AP142,0)","v":{"$error":"#N/A"}},{"$f":"MATCH(BD$3,Millwall!$AB142:$AP142,0)","v":{"$error":"#N/A"}},{"$f":"MATCH(BE$3,Millwall!$AB142:$AP142,0)","v":{"$error":"#N/A"}},{"$f":"MATCH(BF$3,Millwall!$AB142:$AP142,0)","v":{"$error":"#N/A"}},{"$f":"MATCH(BG$3,Millwall!$AB142:$AP142,0)","v":{"$error":"#N/A"}},{"$f":"MATCH(BH$3,Millwall!$AB142:$AP142,0)","v":{"$error":"#N/A"}},{"$f":"MATCH(BI$3,Millwall!$AB142:$AP142,0)","v":{"$error":"#N/A"}},{"$f":"MATCH(BJ$3,Millwall!$AB142:$AP142,0)","v":{"$error":"#N/A"}},{"$f":"MATCH(BK$3,Millwall!$AB142:$AP142,0)","v":{"$error":"#N/A"}},{"$f":"MATCH(BL$3,Millwall!$AB142:$AP142,0)","v":{"$error":"#N/A"}},{"$f":"MATCH(BM$3,Millwall!$AB142:$AP142,0)","v":{"$error":"#N/A"}},{"$f":"MATCH(BN$3,Millwall!$AB142:$AP142,0)","v":{"$error":"#N/A"}},{"$f":"MATCH(BO$3,Millwall!$AB142:$AP142,0)","v":{"$error":"#N/A"}},{"$f":"MATCH(BP$3,Millwall!$AB142:$AP142,0)","v":{"$error":"#N/A"}},{"$f":"MATCH(BQ$3,Millwall!$AB142:$AP142,0)","v":{"$error":"#N/A"}},{"$f":"MATCH(BR$3,Millwall!$AB142:$AP142,0)","v":{"$error":"#N/A"}},{"$f":"MATCH(BS$3,Millwall!$AB142:$AP142,0)","v":{"$error":"#N/A"}},{"$f":"MATCH(BT$3,Millwall!$AB142:$AP142,0)","v":{"$error":"#N/A"}},{"$f":"MATCH(BU$3,Millwall!$AB142:$AP142,0)","v":{"$error":"#N/A"}},{"$f":"MATCH(BV$3,Millwall!$AB142:$AP142,0)","v":{"$error":"#N/A"}},{"$f":"MATCH(BW$3,Millwall!$AB142:$AP142,0)","v":{"$error":"#N/A"}},{"$f":"MATCH(BX$3,Millwall!$AB142:$AP142,0)","v":{"$error":"#N/A"}},{"$f":"MATCH(BY$3,Millwall!$AB142:$AP142,0)","v":{"$error":"#N/A"}},{"$f":"MATCH(BZ$3,Millwall!$AB142:$AP142,0)","v":{"$error":"#N/A"}},{"$f":"MATCH(CA$3,Millwall!$AB142:$AP142,0)","v":{"$error":"#N/A"}},{"$f":"MATCH(CB$3,Millwall!$AB142:$AP142,0)","v":{"$error":"#N/A"}},{"$f":"MATCH(CC$3,Millwall!$AB142:$AP142,0)","v":{"$error":"#N/A"}},{"$f":"MATCH(CD$3,Millwall!$AB142:$AP142,0)","v":{"$error":"#N/A"}},{"$f":"MATCH(CE$3,Millwall!$AB142:$AP142,0)","v":{"$error":"#N/A"}},null,null,{"$f":"MATCH(CH$3,Millwall!$AB142:$AP142,0)","v":{"$error":"#N/A"}},{"$f":"MATCH(CI$3,Millwall!$AB142:$AP142,0)","v":{"$error":"#N/A"}},{"$f":"MATCH(CJ$3,Millwall!$AB142:$AP142,0)","v":{"$error":"#N/A"}},{"$f":"MATCH(CK$3,Millwall!$AB142:$AP142,0)","v":{"$error":"#N/A"}},{"$f":"MATCH(CL$3,Millwall!$AB142:$AP142,0)","v":{"$error":"#N/A"}},{"$f":"MATCH(CM$3,Millwall!$AB142:$AP142,0)","v":{"$error":"#N/A"}},{"$f":"MATCH(CN$3,Millwall!$AB142:$AP142,0)","v":{"$error":"#N/A"}},{"$f":"MATCH(CO$3,Millwall!$AB142:$AP142,0)","v":{"$error":"#N/A"}},{"$f":"MATCH(CP$3,Millwall!$AB142:$AP142,0)","v":{"$error":"#N/A"}},{"$f":"MATCH(CQ$3,Millwall!$AB142:$AP142,0)","v":{"$error":"#N/A"}},{"$f":"MATCH(CR$3,Millwall!$AB142:$AP142,0)","v":{"$error":"#N/A"}},{"$f":"MATCH(CS$3,Millwall!$AB142:$AP142,0)","v":{"$error":"#N/A"}},{"$f":"MATCH(CT$3,Millwall!$AB142:$AP142,0)","v":{"$error":"#N/A"}},{"$f":"MATCH(CU$3,Millwall!$AB142:$AP142,0)","v":{"$error":"#N/A"}},{"$f":"MATCH(CV$3,Millwall!$AB142:$AP142,0)","v":{"$error":"#N/A"}},{"$f":"MATCH(CW$3,Millwall!$AB142:$AP142,0)","v":{"$error":"#N/A"}},{"$f":"MATCH(CX$3,Millwall!$AB142:$AP142,0)","v":{"$error":"#N/A"}},{"$f":"MATCH(CY$3,Millwall!$AB142:$AP142,0)","v":{"$error":"#N/A"}},{"$f":"MATCH(CZ$3,Millwall!$AB142:$AP142,0)","v":{"$error":"#N/A"}},{"$f":"MATCH(DA$3,Millwall!$AB142:$AP142,0)","v":{"$error":"#N/A"}},{"$f":"MATCH(DB$3,Millwall!$AB142:$AP142,0)","v":{"$error":"#N/A"}},{"$f":"MATCH(DC$3,Millwall!$AB142:$AP142,0)","v":{"$error":"#N/A"}},{"$f":"MATCH(DD$3,Millwall!$AB142:$AP142,0)","v":{"$error":"#N/A"}},{"$f":"MATCH(DE$3,Millwall!$AB142:$AP142,0)","v":{"$error":"#N/A"}},{"$f":"MATCH(DF$3,Millwall!$AB142:$AP142,0)","v":{"$error":"#N/A"}},{"$f":"MATCH(DG$3,Millwall!$AB142:$AP142,0)","v":{"$error":"#N/A"}},{"$f":"MATCH(DH$3,Millwall!$AB142:$AP142,0)","v":{"$error":"#N/A"}},{"$f":"MATCH(DI$3,Millwall!$AB142:$AP142,0)","v":{"$error":"#N/A"}},{"$f":"MATCH(DJ$3,Millwall!$AB142:$AP142,0)","v":{"$error":"#N/A"}},{"$f":"MATCH(DK$3,Millwall!$AB142:$AP142,0)","v":{"$error":"#N/A"}},{"$f":"MATCH(DL$3,Millwall!$AB142:$AP142,0)","v":{"$error":"#N/A"}},{"$f":"MATCH(DM$3,Millwall!$AB142:$AP142,0)","v":{"$error":"#N/A"}},{"$f":"MATCH(DN$3,Millwall!$AB142:$AP142,0)","v":{"$error":"#N/A"}},{"$f":"MATCH(DO$3,Millwall!$AB142:$AP142,0)","v":{"$error":"#N/A"}}]
[null,null,1,null,null,{"$f":"Millwall!X143","v":"00:00:00"},null,{"$f":"Millwall!Y143","v":"00:00:00"},{"$f":"Millwall!Z143","v":"00:00:00"},{"$f":"Millwall!AA143","v":0},{"$f":"MATCH(K$4,Millwall!$AB143:$AP143,0)","v":{"$error":"#N/A"}},{"$f":"MATCH(L$4,Millwall!$AB143:$AP143,0)","v":{"$error":"#N/A"}},{"$f":"MATCH(M$4,Millwall!$AB143:$AP143,0)","v":{"$error":"#N/A"}},{"$f":"MATCH(N$4,Millwall!$AB143:$AP143,0)","v":{"$error":"#N/A"}},{"$f":"MATCH(O$4,Millwall!$AB143:$AP143,0)","v":{"$error":"#N/A"}},{"$f":"MATCH(P$4,Millwall!$AB143:$AP143,0)","v":{"$error":"#N/A"}},{"$f":"MATCH(Q$4,Millwall!$AB143:$AP143,0)","v":{"$error":"#N/A"}},{"$f":"MATCH(R$4,Millwall!$AB143:$AP143,0)","v":{"$error":"#N/A"}},{"$f":"MATCH(S$4,Millwall!$AB143:$AP143,0)","v":{"$error":"#N/A"}},{"$f":"MATCH(T$4,Millwall!$AB143:$AP143,0)","v":{"$error":"#N/A"}},{"$f":"MATCH(U$4,Millwall!$AB143:$AP143,0)","v":{"$error":"#N/A"}},{"$f":"MATCH(V$4,Millwall!$AB143:$AP143,0)","v":{"$error":"#N/A"}},{"$f":"MATCH(W$4,Millwall!$AB143:$AP143,0)","v":{"$error":"#N/A"}},{"$f":"MATCH(X$4,Millwall!$AB143:$AP143,0)","v":{"$error":"#N/A"}},{"$f":"MATCH(Y$4,Millwall!$AB143:$AP143,0)","v":{"$error":"#N/A"}},{"$f":"MATCH(Z$4,Millwall!$AB143:$AP143,0)","v":{"$error":"#N/A"}},{"$f":"MATCH(AA$4,Millwall!$AB143:$AP143,0)","v":{"$error":"#N/A"}},{"$f":"MATCH(AB$4,Millwall!$AB143:$AP143,0)","v":{"$error":"#N/A"}},{"$f":"MATCH(AC$4,Millwall!$AB143:$AP143,0)","v":{"$error":"#N/A"}},{"$f":"MATCH(AD$4,Millwall!$AB143:$AP143,0)","v":{"$error":"#N/A"}},{"$f":"MATCH(AE$4,Millwall!$AB143:$AP143,0)","v":{"$error":"#N/A"}},{"$f":"MATCH(AF$4,Millwall!$AB143:$AP143,0)","v":{"$error":"#N/A"}},{"$f":"MATCH(AG$4,Millwall!$AB143:$AP143,0)","v":{"$error":"#N/A"}},{"$f":"MATCH(AH$4,Millwall!$AB143:$AP143,0)","v":{"$error":"#N/A"}},{"$f":"MATCH(AI$4,Millwall!$AB143:$AP143,0)","v":{"$error":"#N/A"}},{"$f":"MATCH(AJ$4,Millwall!$AB143:$AP143,0)","v":{"$error":"#N/A"}},{"$f":"MATCH(AK$4,Millwall!$AB143:$AP143,0)","v":{"$error":"#N/A"}},{"$f":"MATCH(AL$4,Millwall!$AB143:$AP143,0)","v":{"$error":"#N/A"}},{"$f":"MATCH(AM$4,Millwall!$AB143:$AP143,0)","v":{"$error":"#N/A"}},{"$f":"MATCH(AN$4,Millwall!$AB143:$AP143,0)","v":{"$error":"#N/A"}},{"$f":"MATCH(AO$4,Millwall!$AB143:$AP143,0)","v":{"$error":"#N/A"}},{"$f":"MATCH(AP$4,Millwall!$AB143:$AP143,0)","v":{"$error":"#N/A"}},{"$f":"MATCH(AQ$4,Millwall!$AB143:$AP143,0)","v":{"$error":"#N/A"}},{"$f":"MATCH(AR$4,Millwall!$AB143:$AP143,0)","v":{"$error":"#N/A"}},null,null,null,null,null,{"$f":"MATCH(AX$3,Millwall!$AB143:$AP143,0)","v":{"$error":"#N/A"}},{"$f":"MATCH(AY$3,Millwall!$AB143:$AP143,0)","v":{"$error":"#N/A"}},{"$f":"MATCH(AZ$3,Millwall!$AB143:$AP143,0)","v":{"$error":"#N/A"}},{"$f":"MATCH(BA$3,Millwall!$AB143:$AP143,0)","v":{"$error":"#N/A"}},{"$f":"MATCH(BB$3,Millwall!$AB143:$AP143,0)","v":{"$error":"#N/A"}},{"$f":"MATCH(BC$3,Millwall!$AB143:$AP143,0)","v":{"$error":"#N/A"}},{"$f":"MATCH(BD$3,Millwall!$AB143:$AP143,0)","v":{"$error":"#N/A"}},{"$f":"MATCH(BE$3,Millwall!$AB143:$AP143,0)","v":{"$error":"#N/A"}},{"$f":"MATCH(BF$3,Millwall!$AB143:$AP143,0)","v":{"$error":"#N/A"}},{"$f":"MATCH(BG$3,Millwall!$AB143:$AP143,0)","v":{"$error":"#N/A"}},{"$f":"MATCH(BH$3,Millwall!$AB143:$AP143,0)","v":{"$error":"#N/A"}},{"$f":"MATCH(BI$3,Millwall!$AB143:$AP143,0)","v":{"$error":"#N/A"}},{"$f":"MATCH(BJ$3,Millwall!$AB143:$AP143,0)","v":{"$error":"#N/A"}},{"$f":"MATCH(BK$3,Millwall!$AB143:$AP143,0)","v":{"$error":"#N/A"}},{"$f":"MATCH(BL$3,Millwall!$AB143:$AP143,0)","v":{"$error":"#N/A"}},{"$f":"MATCH(BM$3,Millwall!$AB143:$AP143,0)","v":{"$error":"#N/A"}},{"$f":"MATCH(BN$3,Millwall!$AB143:$AP143,0)","v":{"$error":"#N/A"}},{"$f":"MATCH(BO$3,Millwall!$AB143:$AP143,0)","v":{"$error":"#N/A"}},{"$f":"MATCH(BP$3,Millwall!$AB143:$AP143,0)","v":{"$error":"#N/A"}},{"$f":"MATCH(BQ$3,Millwall!$AB143:$AP143,0)","v":{"$error":"#N/A"}},{"$f":"MATCH(BR$3,Millwall!$AB143:$AP143,0)","v":{"$error":"#N/A"}},{"$f":"MATCH(BS$3,Millwall!$AB143:$AP143,0)","v":{"$error":"#N/A"}},{"$f":"MATCH(BT$3,Millwall!$AB143:$AP143,0)","v":{"$error":"#N/A"}},{"$f":"MATCH(BU$3,Millwall!$AB143:$AP143,0)","v":{"$error":"#N/A"}},{"$f":"MATCH(BV$3,Millwall!$AB143:$AP143,0)","v":{"$error":"#N/A"}},{"$f":"MATCH(BW$3,Millwall!$AB143:$AP143,0)","v":{"$error":"#N/A"}},{"$f":"MATCH(BX$3,Millwall!$AB143:$AP143,0)","v":{"$error":"#N/A"}},{"$f":"MATCH(BY$3,Millwall!$AB143:$AP143,0)","v":{"$error":"#N/A"}},{"$f":"MATCH(BZ$3,Millwall!$AB143:$AP143,0)","v":{"$error":"#N/A"}},{"$f":"MATCH(CA$3,Millwall!$AB143:$AP143,0)","v":{"$error":"#N/A"}},{"$f":"MATCH(CB$3,Millwall!$AB143:$AP143,0)","v":{"$error":"#N/A"}},{"$f":"MATCH(CC$3,Millwall!$AB143:$AP143,0)","v":{"$error":"#N/A"}},{"$f":"MATCH(CD$3,Millwall!$AB143:$AP143,0)","v":{"$error":"#N/A"}},{"$f":"MATCH(CE$3,Millwall!$AB143:$AP143,0)","v":{"$error":"#N/A"}},null,null,{"$f":"MATCH(CH$3,Millwall!$AB143:$AP143,0)","v":{"$error":"#N/A"}},{"$f":"MATCH(CI$3,Millwall!$AB143:$AP143,0)","v":{"$error":"#N/A"}},{"$f":"MATCH(CJ$3,Millwall!$AB143:$AP143,0)","v":{"$error":"#N/A"}},{"$f":"MATCH(CK$3,Millwall!$AB143:$AP143,0)","v":{"$error":"#N/A"}},{"$f":"MATCH(CL$3,Millwall!$AB143:$AP143,0)","v":{"$error":"#N/A"}},{"$f":"MATCH(CM$3,Millwall!$AB143:$AP143,0)","v":{"$error":"#N/A"}},{"$f":"MATCH(CN$3,Millwall!$AB143:$AP143,0)","v":{"$error":"#N/A"}},{"$f":"MATCH(CO$3,Millwall!$AB143:$AP143,0)","v":{"$error":"#N/A"}},{"$f":"MATCH(CP$3,Millwall!$AB143:$AP143,0)","v":{"$error":"#N/A"}},{"$f":"MATCH(CQ$3,Millwall!$AB143:$AP143,0)","v":{"$error":"#N/A"}},{"$f":"MATCH(CR$3,Millwall!$AB143:$AP143,0)","v":{"$error":"#N/A"}},{"$f":"MATCH(CS$3,Millwall!$AB143:$AP143,0)","v":{"$error":"#N/A"}},{"$f":"MATCH(CT$3,Millwall!$AB143:$AP143,0)","v":{"$error":"#N/A"}},{"$f":"MATCH(CU$3,Millwall!$AB143:$AP143,0)","v":{"$error":"#N/A"}},{"$f":"MATCH(CV$3,Millwall!$AB143:$AP143,0)","v":{"$error":"#N/A"}},{"$f":"MATCH(CW$3,Millwall!$AB143:$AP143,0)","v":{"$error":"#N/A"}},{"$f":"MATCH(CX$3,Millwall!$AB143:$AP143,0)","v":{"$error":"#N/A"}},{"$f":"MATCH(CY$3,Millwall!$AB143:$AP143,0)","v":{"$error":"#N/A"}},{"$f":"MATCH(CZ$3,Millwall!$AB143:$AP143,0)","v":{"$error":"#N/A"}},{"$f":"MATCH(DA$3,Millwall!$AB143:$AP143,0)","v":{"$error":"#N/A"}},{"$f":"MATCH(DB$3,Millwall!$AB143:$AP143,0)","v":{"$error":"#N/A"}},{"$f":"MATCH(DC$3,Millwall!$AB143:$AP143,0)","v":{"$error":"#N/A"}},{"$f":"MATCH(DD$3,Millwall!$AB143:$AP143,0)","v":{"$error":"#N/A"}},{"$f":"MATCH(DE$3,Millwall!$AB143:$AP143,0)","v":{"$error":"#N/A"}},{"$f":"MATCH(DF$3,Millwall!$AB143:$AP143,0)","v":{"$error":"#N/A"}},{"$f":"MATCH(DG$3,Millwall!$AB143:$AP143,0)","v":{"$error":"#N/A"}},{"$f":"MATCH(DH$3,Millwall!$AB143:$AP143,0)","v":{"$error":"#N/A"}},{"$f":"MATCH(DI$3,Millwall!$AB143:$AP143,0)","v":{"$error":"#N/A"}},{"$f":"MATCH(DJ$3,Millwall!$AB143:$AP143,0)","v":{"$error":"#N/A"}},{"$f":"MATCH(DK$3,Millwall!$AB143:$AP143,0)","v":{"$error":"#N/A"}},{"$f":"MATCH(DL$3,Millwall!$AB143:$AP143,0)","v":{"$error":"#N/A"}},{"$f":"MATCH(DM$3,Millwall!$AB143:$AP143,0)","v":{"$error":"#N/A"}},{"$f":"MATCH(DN$3,Millwall!$AB143:$AP143,0)","v":{"$error":"#N/A"}},{"$f":"MATCH(DO$3,Millwall!$AB143:$AP143,0)","v":{"$error":"#N/A"}}]
[null,null,1,null,null,{"$f":"Millwall!X144","v":"00:00:00"},null,{"$f":"Millwall!Y144","v":"00:00:00"},{"$f":"Millwall!Z144","v":"00:00:00"},{"$f":"Millwall!AA144","v":0},{"$f":"MATCH(K$4,Millwall!$AB144:$AP144,0)","v":{"$error":"#N/A"}},{"$f":"MATCH(L$4,Millwall!$AB144:$AP144,0)","v":{"$error":"#N/A"}},{"$f":"MATCH(M$4,Millwall!$AB144:$AP144,0)","v":{"$error":"#N/A"}},{"$f":"MATCH(N$4,Millwall!$AB144:$AP144,0)","v":{"$error":"#N/A"}},{"$f":"MATCH(O$4,Millwall!$AB144:$AP144,0)","v":{"$error":"#N/A"}},{"$f":"MATCH(P$4,Millwall!$AB144:$AP144,0)","v":{"$error":"#N/A"}},{"$f":"MATCH(Q$4,Millwall!$AB144:$AP144,0)","v":{"$error":"#N/A"}},{"$f":"MATCH(R$4,Millwall!$AB144:$AP144,0)","v":{"$error":"#N/A"}},{"$f":"MATCH(S$4,Millwall!$AB144:$AP144,0)","v":{"$error":"#N/A"}},{"$f":"MATCH(T$4,Millwall!$AB144:$AP144,0)","v":{"$error":"#N/A"}},{"$f":"MATCH(U$4,Millwall!$AB144:$AP144,0)","v":{"$error":"#N/A"}},{"$f":"MATCH(V$4,Millwall!$AB144:$AP144,0)","v":{"$error":"#N/A"}},{"$f":"MATCH(W$4,Millwall!$AB144:$AP144,0)","v":{"$error":"#N/A"}},{"$f":"MATCH(X$4,Millwall!$AB144:$AP144,0)","v":{"$error":"#N/A"}},{"$f":"MATCH(Y$4,Millwall!$AB144:$AP144,0)","v":{"$error":"#N/A"}},{"$f":"MATCH(Z$4,Millwall!$AB144:$AP144,0)","v":{"$error":"#N/A"}},{"$f":"MATCH(AA$4,Millwall!$AB144:$AP144,0)","v":{"$error":"#N/A"}},{"$f":"MATCH(AB$4,Millwall!$AB144:$AP144,0)","v":{"$error":"#N/A"}},{"$f":"MATCH(AC$4,Millwall!$AB144:$AP144,0)","v":{"$error":"#N/A"}},{"$f":"MATCH(AD$4,Millwall!$AB144:$AP144,0)","v":{"$error":"#N/A"}},{"$f":"MATCH(AE$4,Millwall!$AB144:$AP144,0)","v":{"$error":"#N/A"}},{"$f":"MATCH(AF$4,Millwall!$AB144:$AP144,0)","v":{"$error":"#N/A"}},{"$f":"MATCH(AG$4,Millwall!$AB144:$AP144,0)","v":{"$error":"#N/A"}},{"$f":"MATCH(AH$4,Millwall!$AB144:$AP144,0)","v":{"$error":"#N/A"}},{"$f":"MATCH(AI$4,Millwall!$AB144:$AP144,0)","v":{"$error":"#N/A"}},{"$f":"MATCH(AJ$4,Millwall!$AB144:$AP144,0)","v":{"$error":"#N/A"}},{"$f":"MATCH(AK$4,Millwall!$AB144:$AP144,0)","v":{"$error":"#N/A"}},{"$f":"MATCH(AL$4,Millwall!$AB144:$AP144,0)","v":{"$error":"#N/A"}},{"$f":"MATCH(AM$4,Millwall!$AB144:$AP144,0)","v":{"$error":"#N/A"}},{"$f":"MATCH(AN$4,Millwall!$AB144:$AP144,0)","v":{"$error":"#N/A"}},{"$f":"MATCH(AO$4,Millwall!$AB144:$AP144,0)","v":{"$error":"#N/A"}},{"$f":"MATCH(AP$4,Millwall!$AB144:$AP144,0)","v":{"$error":"#N/A"}},{"$f":"MATCH(AQ$4,Millwall!$AB144:$AP144,0)","v":{"$error":"#N/A"}},{"$f":"MATCH(AR$4,Millwall!$AB144:$AP144,0)","v":{"$error":"#N/A"}},null,null,null,null,null,{"$f":"MATCH(AX$3,Millwall!$AB144:$AP144,0)","v":{"$error":"#N/A"}},{"$f":"MATCH(AY$3,Millwall!$AB144:$AP144,0)","v":{"$error":"#N/A"}},{"$f":"MATCH(AZ$3,Millwall!$AB144:$AP144,0)","v":{"$error":"#N/A"}},{"$f":"MATCH(BA$3,Millwall!$AB144:$AP144,0)","v":{"$error":"#N/A"}},{"$f":"MATCH(BB$3,Millwall!$AB144:$AP144,0)","v":{"$error":"#N/A"}},{"$f":"MATCH(BC$3,Millwall!$AB144:$AP144,0)","v":{"$error":"#N/A"}},{"$f":"MATCH(BD$3,Millwall!$AB144:$AP144,0)","v":{"$error":"#N/A"}},{"$f":"MATCH(BE$3,Millwall!$AB144:$AP144,0)","v":{"$error":"#N/A"}},{"$f":"MATCH(BF$3,Millwall!$AB144:$AP144,0)","v":{"$error":"#N/A"}},{"$f":"MATCH(BG$3,Millwall!$AB144:$AP144,0)","v":{"$error":"#N/A"}},{"$f":"MATCH(BH$3,Millwall!$AB144:$AP144,0)","v":{"$error":"#N/A"}},{"$f":"MATCH(BI$3,Millwall!$AB144:$AP144,0)","v":{"$error":"#N/A"}},{"$f":"MATCH(BJ$3,Millwall!$AB144:$AP144,0)","v":{"$error":"#N/A"}},{"$f":"MATCH(BK$3,Millwall!$AB144:$AP144,0)","v":{"$error":"#N/A"}},{"$f":"MATCH(BL$3,Millwall!$AB144:$AP144,0)","v":{"$error":"#N/A"}},{"$f":"MATCH(BM$3,Millwall!$AB144:$AP144,0)","v":{"$error":"#N/A"}},{"$f":"MATCH(BN$3,Millwall!$AB144:$AP144,0)","v":{"$error":"#N/A"}},{"$f":"MATCH(BO$3,Millwall!$AB144:$AP144,0)","v":{"$error":"#N/A"}},{"$f":"MATCH(BP$3,Millwall!$AB144:$AP144,0)","v":{"$error":"#N/A"}},{"$f":"MATCH(BQ$3,Millwall!$AB144:$AP144,0)","v":{"$error":"#N/A"}},{"$f":"MATCH(BR$3,Millwall!$AB144:$AP144,0)","v":{"$error":"#N/A"}},{"$f":"MATCH(BS$3,Millwall!$AB144:$AP144,0)","v":{"$error":"#N/A"}},{"$f":"MATCH(BT$3,Millwall!$AB144:$AP144,0)","v":{"$error":"#N/A"}},{"$f":"MATCH(BU$3,Millwall!$AB144:$AP144,0)","v":{"$error":"#N/A"}},{"$f":"MATCH(BV$3,Millwall!$AB144:$AP144,0)","v":{"$error":"#N/A"}},{"$f":"MATCH(BW$3,Millwall!$AB144:$AP144,0)","v":{"$error":"#N/A"}},{"$f":"MATCH(BX$3,Millwall!$AB144:$AP144,0)","v":{"$error":"#N/A"}},{"$f":"MATCH(BY$3,Millwall!$AB144:$AP144,0)","v":{"$error":"#N/A"}},{"$f":"MATCH(BZ$3,Millwall!$AB144:$AP144,0)","v":{"$error":"#N/A"}},{"$f":"MATCH(CA$3,Millwall!$AB144:$AP144,0)","v":{"$error":"#N/A"}},{"$f":"MATCH(CB$3,Millwall!$AB144:$AP144,0)","v":{"$error":"#N/A"}},{"$f":"MATCH(CC$3,Millwall!$AB144:$AP144,0)","v":{"$error":"#N/A"}},{"$f":"MATCH(CD$3,Millwall!$AB144:$AP144,0)","v":{"$error":"#N/A"}},{"$f":"MATCH(CE$3,Millwall!$AB144:$AP144,0)","v":{"$error":"#N/A"}},null,null,{"$f":"MATCH(CH$3,Millwall!$AB144:$AP144,0)","v":{"$error":"#N/A"}},{"$f":"MATCH(CI$3,Millwall!$AB144:$AP144,0)","v":{"$error":"#N/A"}},{"$f":"MATCH(CJ$3,Millwall!$AB144:$AP144,0)","v":{"$error":"#N/A"}},{"$f":"MATCH(CK$3,Millwall!$AB144:$AP144,0)","v":{"$error":"#N/A"}},{"$f":"MATCH(CL$3,Millwall!$AB144:$AP144,0)","v":{"$error":"#N/A"}},{"$f":"MATCH(CM$3,Millwall!$AB144:$AP144,0)","v":{"$error":"#N/A"}},{"$f":"MATCH(CN$3,Millwall!$AB144:$AP144,0)","v":{"$error":"#N/A"}},{"$f":"MATCH(CO$3,Millwall!$AB144:$AP144,0)","v":{"$error":"#N/A"}},{"$f":"MATCH(CP$3,Millwall!$AB144:$AP144,0)","v":{"$error":"#N/A"}},{"$f":"MATCH(CQ$3,Millwall!$AB144:$AP144,0)","v":{"$error":"#N/A"}},{"$f":"MATCH(CR$3,Millwall!$AB144:$AP144,0)","v":{"$error":"#N/A"}},{"$f":"MATCH(CS$3,Millwall!$AB144:$AP144,0)","v":{"$error":"#N/A"}},{"$f":"MATCH(CT$3,Millwall!$AB144:$AP144,0)","v":{"$error":"#N/A"}},{"$f":"MATCH(CU$3,Millwall!$AB144:$AP144,0)","v":{"$error":"#N/A"}},{"$f":"MATCH(CV$3,Millwall!$AB144:$AP144,0)","v":{"$error":"#N/A"}},{"$f":"MATCH(CW$3,Millwall!$AB144:$AP144,0)","v":{"$error":"#N/A"}},{"$f":"MATCH(CX$3,Millwall!$AB144:$AP144,0)","v":{"$error":"#N/A"}},{"$f":"MATCH(CY$3,Millwall!$AB144:$AP144,0)","v":{"$error":"#N/A"}},{"$f":"MATCH(CZ$3,Millwall!$AB144:$AP144,0)","v":{"$error":"#N/A"}},{"$f":"MATCH(DA$3,Millwall!$AB144:$AP144,0)","v":{"$error":"#N/A"}},{"$f":"MATCH(DB$3,Millwall!$AB144:$AP144,0)","v":{"$error":"#N/A"}},{"$f":"MATCH(DC$3,Millwall!$AB144:$AP144,0)","v":{"$error":"#N/A"}},{"$f":"MATCH(DD$3,Millwall!$AB144:$AP144,0)","v":{"$error":"#N/A"}},{"$f":"MATCH(DE$3,Millwall!$AB144:$AP144,0)","v":{"$error":"#N/A"}},{"$f":"MATCH(DF$3,Millwall!$AB144:$AP144,0)","v":{"$error":"#N/A"}},{"$f":"MATCH(DG$3,Millwall!$AB144:$AP144,0)","v":{"$error":"#N/A"}},{"$f":"MATCH(DH$3,Millwall!$AB144:$AP144,0)","v":{"$error":"#N/A"}},{"$f":"MATCH(DI$3,Millwall!$AB144:$AP144,0)","v":{"$error":"#N/A"}},{"$f":"MATCH(DJ$3,Millwall!$AB144:$AP144,0)","v":{"$error":"#N/A"}},{"$f":"MATCH(DK$3,Millwall!$AB144:$AP144,0)","v":{"$error":"#N/A"}},{"$f":"MATCH(DL$3,Millwall!$AB144:$AP144,0)","v":{"$error":"#N/A"}},{"$f":"MATCH(DM$3,Millwall!$AB144:$AP144,0)","v":{"$error":"#N/A"}},{"$f":"MATCH(DN$3,Millwall!$AB144:$AP144,0)","v":{"$error":"#N/A"}},{"$f":"MATCH(DO$3,Millwall!$AB144:$AP144,0)","v":{"$error":"#N/A"}}]
[]
[null,null,null,null,null,null,null,null,null,"Total League Cup Apperances",{"$f":"COUNT($K$75:$K$83)-$K$87-$K$86","v":4},{"$f":"COUNT($L$75:$L$83)-$L$87-$L$86","v":2},{"$f":"COUNT($M$75:$M$83)-$M$87-$M$86","v":4},{"$f":"COUNT($N$75:$N$83)-$N$87-$N$86","v":0},{"$f":"COUNT($O$75:$O$83)-$O$87-$O$86","v":0},{"$f":"COUNT($P$75:$P$83)-$P$87-$P$86","v":4},{"$f":"COUNT($Q$75:$Q$83)-$Q$87-$Q$86","v":4},{"$f":"COUNT($R$75:$R$83)-$R$87-$R$86","v":1},{"$f":"COUNT($S$75:$S$83)-$S$87-$S$86","v":4},{"$f":"COUNT($T$75:$T$83)-$T$87-$T$86","v":2},{"$f":"COUNT($U$75:$U$83)-$U$87-$U$86","v":0},{"$f":"COUNT($V$75:$V$83)-$V$87-$V$86","v":2},{"$f":"COUNT($W$75:$W$83)-$W$87-$W$86","v":0},{"$f":"COUNT($X$75:$X$83)-$X$87-$X$86","v":3},{"$f":"COUNT($Y$75:$Y$83)-$Y$87-$Y$86","v":0},{"$f":"COUNT($Z$75:$Z$83)-$Z$87-$Z$86","v":0},{"$f":"COUNT($AA$75:$AA$83)-$AA$86-$AA$87","v":0},{"$f":"COUNT($AB$75:$AB$83)-$AB$87-$AB$86","v":0},{"$f":"COUNT($AC$75:$AC$83)-$AC$87-$AC$86","v":3},{"$f":"COUNT($AD$75:$AD$83)-$AD$87-$AD$86","v":0},{"$f":"COUNT($AE$75:$AE$83)-$AE$87-$AE$86","v":0},{"$f":"COUNT($AF$75:$AF$83)-$AF$87-$AF$86","v":2},{"$f":"COUNT($AG$75:$AG$83)-$AG$87-$AG$86","v":0},{"$f":"COUNT($AH$75:$AH$83)-$AH$87-$AH$86","v":0},{"$f":"COUNT($AI$75:$AI$83)-$AI$87-$AI$86","v":1},{"$f":"COUNT($AJ$75:$AJ$83)-$AJ$87-$AJ$86","v":4},{"$f":"COUNT($AK$75:$AK$83)-$AK$87-$AK$86","v":0},{"$f":"COUNT($AL$75:$AL$83)-$AL$87-$AL$86","v":0},{"$f":"COUNT($AM$75:$AM$83)-$AM$87-$AM$86","v":4},{"$f":"COUNT($AN$75:$AN$83)-$AN$87-$AN$86","v":0},{"$f":"COUNT($AO$75:$AO$83)-$AO$87-$AO$86","v":0},{"$f":"COUNT($AP$75:$AP$83)-$AP$87-$AP$86","v":0},{"$f":"COUNT($AQ$75:$AQ$83)-$AQ$87-$AQ$86","v":0},{"$f":"COUNT($AR$75:$AR$83)-$AR$87-$AR$86","v":0}]
[null,null,null,null,null,null,null,null,null,"Total League Cup Substitute Appearences ",{"$f":"$AX$86+$CH$86","v":0},{"$f":"$AY$86+$CI$86","v":0},{"$f":"$AZ$86+$CJ$86","v":0},{"$f":"$BA$86+$CK$86","v":0},{"$f":"$BB$86+$CL$86","v":0},{"$f":"$BC$86+$CM$86","v":0},{"$f":"$BD$86+$CN$86","v":0},{"$f":"$BE$86+$CO$86","v":0},{"$f":"$BF$86+$CP$86","v":0},{"$f":"$BG$86+$CQ$86","v":0},{"$f":"$BH$86+$CR$86","v":0},{"$f":"$BI$86+$CS$86","v":1},{"$f":"$BJ$86+$CT$86","v":1},{"$f":"$BK$86+$CU$86","v":0},{"$f":"$BL$86+$CV$86","v":0},{"$f":"$BM$86+$CW$86","v":0},{"$f":"$BN$86+$CX$86","v":0},{"$f":"$BO$86+$CY$86","v":0},{"$f":"$BP$86+$CZ$86","v":0},{"$f":"$BQ$86+$DA$86","v":0},{"$f":"$BR$86+$DB$86","v":0},{"$f":"$BS$86+$DC$86","v":1},{"$f":"$BT$86+$DD$86","v":0},{"$f":"$BU$86+$DE$86","v":1},{"$f":"$BV$86+$DF$86","v":1},{"$f":"$BW$86+$DG$86","v":0},{"$f":"$BX$86+$DH$86","v":0},{"$f":"$BY$86+$DI$86","v":0},{"$f":"$BZ$86+$DJ$86","v":0},{"$f":"$CA$86+$DK$86","v":0},{"$f":"$CB$86+$DL$86","v":0},{"$f":"$CC$86+$DM$86","v":0},{"$f":"$CD$86+$DN$86","v":0},{"$f":"$CE$86+$DO$86","v":0},null,null,null,null,null,{"$f":"COUNTIF(AX75:AX83,12)","v":0},{"$f":"COUNTIF(AY75:AY83,12)","v":0},0,0,0,0,0,0,0,0,0,1,0,0,0,0,0,0,0,0,0,1,0,1,0,0,0,0,0,0,0,0,0,0,null,null,{"$f":"COUNTIF(CH75:CH83,14)","v":0},{"$f":"COUNTIF(CI75:CI83,14)","v":0},0,0,0,0,0,0,0,0,0,0,1,0,0,0,0,0,0,0,0,0,0,0,1,0,0,0,0,0,0,0,0,0]
[null,null,null,null,null,null,null,null,null,"Non Playing Substitute",{"$f":"COUNTIF($K$75:$K$83,\">=12\")-$K$86","v":0},{"$f":"COUNTIF($L$75:$L$83,\">=12\")-$L$86","v":0},{"$f":"COUNTIF($M$75:$M$83,\">=12\")-$M$86","v":0},{"$f":"COUNTIF($N$75:$N$83,\">=12\")-$N$86","v":0},{"$f":"COUNTIF($O$75:$O$83,\">=12\")-$O$86","v":0},{"$f":"COUNTIF($P$75:$P$83,\">=12\")-$P$86","v":0},{"$f":"COUNTIF($Q$75:$Q$83,\">=12\")-$Q$86","v":0},{"$f":"COUNTIF($R$75:$R$83,\">=12\")-$R$86","v":0},{"$f":"COUNTIF($S$75:$S$83,\">=12\")-$S$86","v":0},{"$f":"COUNTIF($T$75:$T$83,\">=12\")-$T$86","v":0},{"$f":"COUNTIF($U$75:$U$83,\">=12\")-$U$86","v":0},{"$f":"COUNTIF($V$75:$V$83,\">=12\")-$V$86","v":0},{"$f":"COUNTIF($W$75:$W$83,\">=12\")-$W$86","v":1},{"$f":"COUNTIF($X$75:$X$83,\">=12\")-$X$86","v":0},{"$f":"COUNTIF($Y$75:$Y$83,\">=12\")-$Y$86","v":0},{"$f":"COUNTIF($Z$75:$Z$83,\">=12\")-$Z$86","v":0},{"$f":"COUNTIF($AA$75:$AA$83,\">=12\")-$AA$86","v":0},{"$f":"COUNTIF($AB$75:$AB$83,\">=12\")-$AB$86","v":0},{"$f":"COUNTIF($AC$75:$AC$83,\">=12\")-$AC$86","v":0},{"$f":"COUNTIF($AD$75:$AD$83,\">=12\")-$AD$86","v":0},{"$f":"COUNTIF($AE$75:$AE$83,\">=12\")-$AE$86","v":0},{"$f":"COUNTIF($AF$75:$AF$83,\">=12\")-$AF$86","v":0},{"$f":"COUNTIF($AG$75:$AG$83,\">=12\")-$AG$86","v":0},{"$f":"COUNTIF($AH$75:$AH$83,\">=12\")-$AH$86","v":0},{"$f":"COUNTIF($AI$75:$AI$83,\">=12\")-$AI$86","v":1},{"$f":"COUNTIF($AJ$75:$AJ$83,\">=12\")-$AJ$86","v":0},{"$f":"COUNTIF($AK$75:$AK$83,\">=12\")-$AK$86","v":0},{"$f":"COUNTIF($AL$75:$AL$83,\">=12\")-$AL$86","v":1},{"$f":"COUNTIF($AM$75:$AM$83,\">=12\")-$AM$86","v":0},{"$f":"COUNTIF($AN$75:$AN$83,\">=12\")-$AN$86","v":0},{"$f":"COUNTIF($AO$75:$AO$83,\">=12\")-$AO$86","v":0},{"$f":"COUNTIF($AP$75:$AP$83,\">=12\")-$AP$86","v":0},{"$f":"COUNTIF($AQ$75:$AQ$83,\">=12\")-$AQ$86","v":0},{"$f":"COUNTIF($AR$75:$AR$83,\">=12\")-$AR$86","v":0}]
[null,null,null,null,null,null,null,null,null,"Goals",{"$f":"Millwall!$CI$8","v":2},{"$f":"Millwall!$CI$9","v":1},{"$f":"Millwall!$CI$10","v":0},{"$f":"Millwall!$CI$11","v":0},{"$f":"Millwall!$CI$12","v":0},{"$f":"Millwall!$CI$13","v":0},{"$f":"Millwall!$CI$14","v":0},{"$f":"Millwall!$CI$15","v":0},{"$f":"Millwall!$CI$16","v":0},{"$f":"Millwall!$CI$17","v":0},{"$f":"Millwall!$CI$18","v":0},{"$f":"Millwall!$CI$19","v":0},{"$f":"Millwall!$CI$20","v":0},{"$f":"Millwall!$CI$21","v":0},{"$f":"Millwall!$CI$22","v":0},{"$f":"Millwall!$CI$23","v":0},{"$f":"Millwall!$CI$24","v":0},{"$f":"Millwall!$CI$25","v":0},{"$f":"Millwall!$CI$26","v":0},{"$f":"Millwall!$CI$27","v":0},{"$f":"Millwall!$CI$28","v":0},{"$f":"Millwall!$CI$29","v":0},{"$f":"Millwall!$CI$30","v":0},{"$f":"Millwall!$CI$31","v":0},{"$f":"Millwall!$CI$32","v":0},{"$f":"Millwall!$CI$33","v":2},{"$f":"Millwall!$CI$34","v":0},{"$f":"Millwall!$CI$35","v":0},{"$f":"Millwall!$CI$36","v":1},{"$f":"Millwall!$CI$37","v":0},{"$f":"Millwall!$CI$38","v":0},{"$f":"Millwall!#REF!","v":{"$error":"#REF!"}},{"$f":"Millwall!$CI$45","v":0},{"$f":"Millwall!$CI$46","v":0}]
[]
[null,null,null,null,null,null,null,"Anglo Italian Cup"]
[null,null,{"$f":"IF(J91=0,1,0)","v":0},"Grp",null,{"$f":"Millwall!X146","v":"1992-09-02"},null,{"$f":"Millwall!Y146","v":"Charlton"},{"$f":"Millwall!Z146","v":"(H)"},{"$f":"Millwall!AA146","v":"L 1-2"},{"$f":"MATCH(K$4,Millwall!$AB146:$AP146,0)","v":{"$error":"#N/A"}},{"$f":"MATCH(L$4,Millwall!$AB146:$AP146,0)","v":{"$error":"#N/A"}},{"$f":"MATCH(M$4,Millwall!$AB146:$AP146,0)","v":14},{"$f":"MATCH(N$4,Millwall!$AB146:$AP146,0)","v":10},{"$f":"MATCH(O$4,Millwall!$AB146:$AP146,0)","v":{"$error":"#N/A"}},{"$f":"MATCH(P$4,Millwall!$AB146:$AP146,0)","v":5},{"$f":"MATCH(Q$4,Millwall!$AB146:$AP146,0)","v":2},{"$f":"MATCH(R$4,Millwall!$AB146:$AP146,0)","v":{"$error":"#N/A"}},{"$f":"MATCH(S$4,Millwall!$AB146:$AP146,0)","v":{"$error":"#N/A"}},{"$f":"MATCH(T$4,Millwall!$AB146:$AP146,0)","v":12},{"$f":"MATCH(U$4,Millwall!$AB146:$AP146,0)","v":{"$error":"#N/A"}},{"$f":"MATCH(V$4,Millwall!$AB146:$AP146,0)","v":9},{"$f":"MATCH(W$4,Millwall!$AB146:$AP146,0)","v":3},{"$f":"MATCH(X$4,Millwall!$AB146:$AP146,0)","v":1},{"$f":"MATCH(Y$4,Millwall!$AB146:$AP146,0)","v":{"$error":"#N/A"}},{"$f":"MATCH(Z$4,Millwall!$AB146:$AP146,0)","v":{"$error":"#N/A"}},{"$f":"MATCH(AA$4,Millwall!$AB146:$AP146,0)","v":{"$error":"#N/A"}},{"$f":"MATCH(AB$4,Millwall!$AB146:$AP146,0)","v":{"$error":"#N/A"}},{"$f":"MATCH(AC$4,Millwall!$AB146:$AP146,0)","v":{"$error":"#N/A"}},{"$f":"MATCH(AD$4,Millwall!$AB146:$AP146,0)","v":{"$error":"#N/A"}},{"$f":"MATCH(AE$4,Millwall!$AB146:$AP146,0)","v":{"$error":"#N/A"}},{"$f":"MATCH(AF$4,Millwall!$AB146:$AP146,0)","v":8},{"$f":"MATCH(AG$4,Millwall!$AB146:$AP146,0)","v":6},{"$f":"MATCH(AH$4,Millwall!$AB146:$AP146,0)","v":{"$error":"#N/A"}},{"$f":"MATCH(AI$4,Millwall!$AB146:$AP146,0)","v":4},{"$f":"MATCH(AJ$4,Millwall!$AB146:$AP146,0)","v":7},{"$f":"MATCH(AK$4,Millwall!$AB146:$AP146,0)","v":{"$error":"#N/A"}},{"$f":"MATCH(AL$4,Millwall!$AB146:$AP146,0)","v":11},{"$f":"MATCH(AM$4,Millwall!$AB146:$AP146,0)","v":{"$error":"#N/A"}},{"$f":"MATCH(AN$4,Millwall!$AB146:$AP146,0)","v":{"$error":"#N/A"}},{"$f":"MATCH(AO$4,Millwall!$AB146:$AP146,0)","v":{"$error":"#N/A"}},{"$f":"MATCH(AP$4,Millwall!$AB146:$AP146,0)","v":{"$error":"#N/A"}},{"$f":"MATCH(AQ$4,Millwall!$AB146:$AP146,0)","v":{"$error":"#N/A"}},{"$f":"MATCH(AR$4,Millwall!$AB146:$AP146,0)","v":{"$error":"#N/A"}},null,null,null,null,null,{"$f":"MATCH(AX$3,Millwall!$AB146:$AP146,0)","v":{"$error":"#N/A"}},{"$f":"MATCH(AY$3,Millwall!$AB146:$AP146,0)","v":{"$error":"#N/A"}},{"$f":"MATCH(AZ$3,Millwall!$AB146:$AP146,0)","v":{"$error":"#N/A"}},{"$f":"MATCH(BA$3,Millwall!$AB146:$AP146,0)","v":{"$error":"#N/A"}},{"$f":"MATCH(BB$3,Millwall!$AB146:$AP146,0)","v":{"$error":"#N/A"}},{"$f":"MATCH(BC$3,Millwall!$AB146:$AP146,0)","v":{"$error":"#N/A"}},{"$f":"MATCH(BD$3,Millwall!$AB146:$AP146,0)","v":{"$error":"#N/A"}},{"$f":"MATCH(BE$3,Millwall!$AB146:$AP146,0)","v":{"$error":"#N/A"}},{"$f":"MATCH(BF$3,Millwall!$AB146:$AP146,0)","v":{"$error":"#N/A"}},{"$f":"MATCH(BG$3,Millwall!$AB146:$AP146,0)","v":12},{"$f":"MATCH(BH$3,Millwall!$AB146:$AP146,0)","v":{"$error":"#N/A"}},{"$f":"MATCH(BI$3,Millwall!$AB146:$AP146,0)","v":{"$error":"#N/A"}},{"$f":"MATCH(BJ$3,Millwall!$AB146:$AP146,0)","v":{"$error":"#N/A"}},{"$f":"MATCH(BK$3,Millwall!$AB146:$AP146,0)","v":{"$error":"#N/A"}},{"$f":"MATCH(BL$3,Millwall!$AB146:$AP146,0)","v":{"$error":"#N/A"}},{"$f":"MATCH(BM$3,Millwall!$AB146:$AP146,0)","v":{"$error":"#N/A"}},{"$f":"MATCH(BN$3,Millwall!$AB146:$AP146,0)","v":{"$error":"#N/A"}},{"$f":"MATCH(BO$3,Millwall!$AB146:$AP146,0)","v":{"$error":"#N/A"}},{"$f":"MATCH(BP$3,Millwall!$AB146:$AP146,0)","v":{"$error":"#N/A"}},{"$f":"MATCH(BQ$3,Millwall!$AB146:$AP146,0)","v":{"$error":"#N/A"}},{"$f":"MATCH(BR$3,Millwall!$AB146:$AP146,0)","v":{"$error":"#N/A"}},{"$f":"MATCH(BS$3,Millwall!$AB146:$AP146,0)","v":{"$error":"#N/A"}},{"$f":"MATCH(BT$3,Millwall!$AB146:$AP146,0)","v":{"$error":"#N/A"}},{"$f":"MATCH(BU$3,Millwall!$AB146:$AP146,0)","v":{"$error":"#N/A"}},{"$f":"MATCH(BV$3,Millwall!$AB146:$AP146,0)","v":4},{"$f":"MATCH(BW$3,Millwall!$AB146:$AP146,0)","v":{"$error":"#N/A"}},{"$f":"MATCH(BX$3,Millwall!$AB146:$AP146,0)","v":{"$error":"#N/A"}},{"$f":"MATCH(BY$3,Millwall!$AB146:$AP146,0)","v":{"$error":"#N/A"}},{"$f":"MATCH(BZ$3,Millwall!$AB146:$AP146,0)","v":{"$error":"#N/A"}},{"$f":"MATCH(CA$3,Millwall!$AB146:$AP146,0)","v":{"$error":"#N/A"}},{"$f":"MATCH(CB$3,Millwall!$AB146:$AP146,0)","v":{"$error":"#N/A"}},{"$f":"MATCH(CC$3,Millwall!$AB146:$AP146,0)","v":{"$error":"#N/A"}},{"$f":"MATCH(CD$3,Millwall!$AB146:$AP146,0)","v":{"$error":"#N/A"}},{"$f":"MATCH(CE$3,Millwall!$AB146:$AP146,0)","v":{"$error":"#N/A"}},null,null,{"$f":"MATCH($CH$3,Millwall!$AB$146:$AP$146,0)","v":{"$error":"#N/A"}},{"$f":"MATCH($CI$3,Millwall!$AB$146:$AP$146,0)","v":{"$error":"#N/A"}},{"$f":"MATCH($CJ$3,Millwall!$AB$146:$AP$146,0)","v":{"$error":"#N/A"}},{"$f":"MATCH($CK$3,Millwall!$AB$146:$AP$146,0)","v":{"$error":"#N/A"}},{"$f":"MATCH($CL$3,Millwall!$AB$146:$AP$146,0)","v":{"$error":"#N/A"}},{"$f":"MATCH($CM$3,Millwall!$AB$146:$AP$146,0)","v":{"$error":"#N/A"}},{"$f":"MATCH($CN$3,Millwall!$AB$146:$AP$146,0)","v":{"$error":"#N/A"}},{"$f":"MATCH($CO$3,Millwall!$AB$146:$AP$146,0)","v":{"$error":"#N/A"}},{"$f":"MATCH($CP$3,Millwall!$AB$146:$AP$146,0)","v":{"$error":"#N/A"}},{"$f":"MATCH($CQ$3,Millwall!$AB$146:$AP$146,0)","v":{"$error":"#N/A"}},{"$f":"MATCH($CR$3,Millwall!$AB$146:$AP$146,0)","v":{"$error":"#N/A"}},{"$f":"MATCH($CS$3,Millwall!$AB$146:$AP$146,0)","v":{"$error":"#N/A"}},{"$f":"MATCH($CT$3,Millwall!$AB$146:$AP$146,0)","v":{"$error":"#N/A"}},{"$f":"MATCH($CU$3,Millwall!$AB$146:$AP$146,0)","v":{"$error":"#N/A"}},{"$f":"MATCH($CV$3,Millwall!$AB$146:$AP$146,0)","v":{"$error":"#N/A"}},{"$f":"MATCH($CW$3,Millwall!$AB$146:$AP$146,0)","v":{"$error":"#N/A"}},{"$f":"MATCH($CX$3,Millwall!$AB$146:$AP$146,0)","v":{"$error":"#N/A"}},{"$f":"MATCH($CY$3,Millwall!$AB$146:$AP$146,0)","v":{"$error":"#N/A"}},{"$f":"MATCH($CZ$3,Millwall!$AB$146:$AP$146,0)","v":{"$error":"#N/A"}},{"$f":"MATCH($DA$3,Millwall!$AB$146:$AP$146,0)","v":{"$error":"#N/A"}},{"$f":"MATCH($DB$3,Millwall!$AB$146:$AP$146,0)","v":{"$error":"#N/A"}},{"$f":"MATCH($DC$3,Millwall!$AB$146:$AP$146,0)","v":{"$error":"#N/A"}},{"$f":"MATCH($DD$3,Millwall!$AB$146:$AP$146,0)","v":{"$error":"#N/A"}},{"$f":"MATCH($DE$3,Millwall!$AB$146:$AP$146,0)","v":{"$error":"#N/A"}},{"$f":"MATCH($DF$3,Millwall!$AB$146:$AP$146,0)","v":{"$error":"#N/A"}},{"$f":"MATCH($DG$3,Millwall!$AB$146:$AP$146,0)","v":{"$error":"#N/A"}},{"$f":"MATCH($DH$3,Millwall!$AB$146:$AP$146,0)","v":{"$error":"#N/A"}},{"$f":"MATCH($DI$3,Millwall!$AB$146:$AP$146,0)","v":{"$error":"#N/A"}},{"$f":"MATCH($DJ$3,Millwall!$AB$146:$AP$146,0)","v":{"$error":"#N/A"}},{"$f":"MATCH($DK$3,Millwall!$AB$146:$AP$146,0)","v":{"$error":"#N/A"}},{"$f":"MATCH($DL$3,Millwall!$AB$146:$AP$146,0)","v":{"$error":"#N/A"}},{"$f":"MATCH($DM$3,Millwall!$AB$146:$AP$146,0)","v":{"$error":"#N/A"}},{"$f":"MATCH($DN$3,Millwall!$AB$146:$AP$146,0)","v":{"$error":"#N/A"}},{"$f":"MATCH($DO$3,Millwall!$AB$146:$AP$146,0)","v":{"$error":"#N/A"}}]
[null,null,{"$f":"IF(J92=0,1,0)","v":0},"Grp",null,{"$f":"Millwall!X147","v":"1992-09-29"},null,{"$f":"Millwall!Y147","v":"Portsmouth"},{"$f":"Millwall!Z147","v":"(A)"},{"$f":"Millwall!AA147","v":"D 1-1"},{"$f":"MATCH(K$4,Millwall!$AB147:$AP147,0)","v":{"$error":"#N/A"}},{"$f":"MATCH(L$4,Millwall!$AB147:$AP147,0)","v":{"$error":"#N/A"}},{"$f":"MATCH(M$4,Millwall!$AB147:$AP147,0)","v":{"$error":"#N/A"}},{"$f":"MATCH(N$4,Millwall!$AB147:$AP147,0)","v":9},{"$f":"MATCH(O$4,Millwall!$AB147:$AP147,0)","v":{"$error":"#N/A"}},{"$f":"MATCH(P$4,Millwall!$AB147:$AP147,0)","v":{"$error":"#N/A"}},{"$f":"MATCH(Q$4,Millwall!$AB147:$AP147,0)","v":2},{"$f":"MATCH(R$4,Millwall!$AB147:$AP147,0)","v":1},{"$f":"MATCH(S$4,Millwall!$AB147:$AP147,0)","v":3},{"$f":"MATCH(T$4,Millwall!$AB147:$AP147,0)","v":{"$error":"#N/A"}},{"$f":"MATCH(U$4,Millwall!$AB147:$AP147,0)","v":{"$error":"#N/A"}},{"$f":"MATCH(V$4,Millwall!$AB147:$AP147,0)","v":12},{"$f":"MATCH(W$4,Millwall!$AB147:$AP147,0)","v":4},{"$f":"MATCH(X$4,Millwall!$AB147:$AP147,0)","v":{"$error":"#N/A"}},{"$f":"MATCH(Y$4,Millwall!$AB147:$AP147,0)","v":{"$error":"#N/A"}},{"$f":"MATCH(Z$4,Millwall!$AB147:$AP147,0)","v":{"$error":"#N/A"}},{"$f":"MATCH(AA$4,Millwall!$AB147:$AP147,0)","v":{"$error":"#N/A"}},{"$f":"MATCH(AB$4,Millwall!$AB147:$AP147,0)","v":14},{"$f":"MATCH(AC$4,Millwall!$AB147:$AP147,0)","v":{"$error":"#N/A"}},{"$f":"MATCH(AD$4,Millwall!$AB147:$AP147,0)","v":5},{"$f":"MATCH(AE$4,Millwall!$AB147:$AP147,0)","v":{"$error":"#N/A"}},{"$f":"MATCH(AF$4,Millwall!$AB147:$AP147,0)","v":{"$error":"#N/A"}},{"$f":"MATCH(AG$4,Millwall!$AB147:$AP147,0)","v":{"$error":"#N/A"}},{"$f":"MATCH(AH$4,Millwall!$AB147:$AP147,0)","v":10},{"$f":"MATCH(AI$4,Millwall!$AB147:$AP147,0)","v":8},{"$f":"MATCH(AJ$4,Millwall!$AB147:$AP147,0)","v":6},{"$f":"MATCH(AK$4,Millwall!$AB147:$AP147,0)","v":11},{"$f":"MATCH(AL$4,Millwall!$AB147:$AP147,0)","v":7},{"$f":"MATCH(AM$4,Millwall!$AB147:$AP147,0)","v":{"$error":"#N/A"}},{"$f":"MATCH(AN$4,Millwall!$AB147:$AP147,0)","v":{"$error":"#N/A"}},{"$f":"MATCH(AO$4,Millwall!$AB147:$AP147,0)","v":{"$error":"#N/A"}},{"$f":"MATCH(AP$4,Millwall!$AB147:$AP147,0)","v":{"$error":"#N/A"}},{"$f":"MATCH(AQ$4,Millwall!$AB147:$AP147,0)","v":{"$error":"#N/A"}},{"$f":"MATCH(AR$4,Millwall!$AB147:$AP147,0)","v":{"$error":"#N/A"}},null,null,null,null,null,{"$f":"MATCH(AX$3,Millwall!$AB147:$AP147,0)","v":{"$error":"#N/A"}},{"$f":"MATCH(AY$3,Millwall!$AB147:$AP147,0)","v":{"$error":"#N/A"}},{"$f":"MATCH(AZ$3,Millwall!$AB147:$AP147,0)","v":{"$error":"#N/A"}},{"$f":"MATCH(BA$3,Millwall!$AB147:$AP147,0)","v":{"$error":"#N/A"}},{"$f":"MATCH(BB$3,Millwall!$AB147:$AP147,0)","v":{"$error":"#N/A"}},{"$f":"MATCH(BC$3,Millwall!$AB147:$AP147,0)","v":{"$error":"#N/A"}},{"$f":"MATCH(BD$3,Millwall!$AB147:$AP147,0)","v":{"$error":"#N/A"}},{"$f":"MATCH(BE$3,Millwall!$AB147:$AP147,0)","v":{"$error":"#N/A"}},{"$f":"MATCH(BF$3,Millwall!$AB147:$AP147,0)","v":{"$error":"#N/A"}},{"$f":"MATCH(BG$3,Millwall!$AB147:$AP147,0)","v":{"$error":"#N/A"}},{"$f":"MATCH(BH$3,Millwall!$AB147:$AP147,0)","v":{"$error":"#N/A"}},{"$f":"MATCH(BI$3,Millwall!$AB147:$AP147,0)","v":{"$error":"#N/A"}},{"$f":"MATCH(BJ$3,Millwall!$AB147:$AP147,0)","v":{"$error":"#N/A"}},{"$f":"MATCH(BK$3,Millwall!$AB147:$AP147,0)","v":{"$error":"#N/A"}},{"$f":"MATCH(BL$3,Millwall!$AB147:$AP147,0)","v":{"$error":"#N/A"}},{"$f":"MATCH(BM$3,Millwall!$AB147:$AP147,0)","v":{"$error":"#N/A"}},{"$f":"MATCH(BN$3,Millwall!$AB147:$AP147,0)","v":{"$error":"#N/A"}},{"$f":"MATCH(BO$3,Millwall!$AB147:$AP147,0)","v":{"$error":"#N/A"}},{"$f":"MATCH(BP$3,Millwall!$AB147:$AP147,0)","v":{"$error":"#N/A"}},{"$f":"MATCH(BQ$3,Millwall!$AB147:$AP147,0)","v":{"$error":"#N/A"}},{"$f":"MATCH(BR$3,Millwall!$AB147:$AP147,0)","v":{"$error":"#N/A"}},{"$f":"MATCH(BS$3,Millwall!$AB147:$AP147,0)","v":{"$error":"#N/A"}},{"$f":"MATCH(BT$3,Millwall!$AB147:$AP147,0)","v":{"$error":"#N/A"}},{"$f":"MATCH(BU$3,Millwall!$AB147:$AP147,0)","v":{"$error":"#N/A"}},{"$f":"MATCH(BV$3,Millwall!$AB147:$AP147,0)","v":{"$error":"#N/A"}},{"$f":"MATCH(BW$3,Millwall!$AB147:$AP147,0)","v":{"$error":"#N/A"}},{"$f":"MATCH(BX$3,Millwall!$AB147:$AP147,0)","v":{"$error":"#N/A"}},{"$f":"MATCH(BY$3,Millwall!$AB147:$AP147,0)","v":{"$error":"#N/A"}},{"$f":"MATCH(BZ$3,Millwall!$AB147:$AP147,0)","v":{"$error":"#N/A"}},{"$f":"MATCH(CA$3,Millwall!$AB147:$AP147,0)","v":{"$error":"#N/A"}},{"$f":"MATCH(CB$3,Millwall!$AB147:$AP147,0)","v":{"$error":"#N/A"}},{"$f":"MATCH(CC$3,Millwall!$AB147:$AP147,0)","v":{"$error":"#N/A"}},{"$f":"MATCH(CD$3,Millwall!$AB147:$AP147,0)","v":{"$error":"#N/A"}},{"$f":"MATCH(CE$3,Millwall!$AB147:$AP147,0)","v":{"$error":"#N/A"}},null,null,{"$f":"MATCH($CH$3,Millwall!$AB$147:$AP$147,0)","v":{"$error":"#N/A"}},{"$f":"MATCH($CI$3,Millwall!$AB$147:$AP$147,0)","v":{"$error":"#N/A"}},{"$f":"MATCH($CJ$3,Millwall!$AB$147:$AP$147,0)","v":{"$error":"#N/A"}},{"$f":"MATCH($CK$3,Millwall!$AB$147:$AP$147,0)","v":{"$error":"#N/A"}},{"$f":"MATCH($CL$3,Millwall!$AB$147:$AP$147,0)","v":{"$error":"#N/A"}},{"$f":"MATCH($CM$3,Millwall!$AB$147:$AP$147,0)","v":{"$error":"#N/A"}},{"$f":"MATCH($CN$3,Millwall!$AB$147:$AP$147,0)","v":{"$error":"#N/A"}},{"$f":"MATCH($CO$3,Millwall!$AB$147:$AP$147,0)","v":{"$error":"#N/A"}},{"$f":"MATCH($CP$3,Millwall!$AB$147:$AP$147,0)","v":3},{"$f":"MATCH($CQ$3,Millwall!$AB$147:$AP$147,0)","v":{"$error":"#N/A"}},{"$f":"MATCH($CR$3,Millwall!$AB$147:$AP$147,0)","v":{"$error":"#N/A"}},{"$f":"MATCH($CS$3,Millwall!$AB$147:$AP$147,0)","v":{"$error":"#N/A"}},{"$f":"MATCH($CT$3,Millwall!$AB$147:$AP$147,0)","v":{"$error":"#N/A"}},{"$f":"MATCH($CU$3,Millwall!$AB$147:$AP$147,0)","v":{"$error":"#N/A"}},{"$f":"MATCH($CV$3,Millwall!$AB$147:$AP$147,0)","v":{"$error":"#N/A"}},{"$f":"MATCH($CW$3,Millwall!$AB$147:$AP$147,0)","v":{"$error":"#N/A"}},{"$f":"MATCH($CX$3,Millwall!$AB$147:$AP$147,0)","v":{"$error":"#N/A"}},{"$f":"MATCH($CY$3,Millwall!$AB$147:$AP$147,0)","v":14},{"$f":"MATCH($CZ$3,Millwall!$AB$147:$AP$147,0)","v":{"$error":"#N/A"}},{"$f":"MATCH($DA$3,Millwall!$AB$147:$AP$147,0)","v":{"$error":"#N/A"}},{"$f":"MATCH($DB$3,Millwall!$AB$147:$AP$147,0)","v":{"$error":"#N/A"}},{"$f":"MATCH($DC$3,Millwall!$AB$147:$AP$147,0)","v":{"$error":"#N/A"}},{"$f":"MATCH($DD$3,Millwall!$AB$147:$AP$147,0)","v":{"$error":"#N/A"}},{"$f":"MATCH($DE$3,Millwall!$AB$147:$AP$147,0)","v":{"$error":"#N/A"}},{"$f":"MATCH($DF$3,Millwall!$AB$147:$AP$147,0)","v":{"$error":"#N/A"}},{"$f":"MATCH($DG$3,Millwall!$AB$147:$AP$147,0)","v":{"$error":"#N/A"}},{"$f":"MATCH($DH$3,Millwall!$AB$147:$AP$147,0)","v":{"$error":"#N/A"}},{"$f":"MATCH($DI$3,Millwall!$AB$147:$AP$147,0)","v":{"$error":"#N/A"}},{"$f":"MATCH($DJ$3,Millwall!$AB$147:$AP$147,0)","v":{"$error":"#N/A"}},{"$f":"MATCH($DK$3,Millwall!$AB$147:$AP$147,0)","v":{"$error":"#N/A"}},{"$f":"MATCH($DL$3,Millwall!$AB$147:$AP$147,0)","v":{"$error":"#N/A"}},{"$f":"MATCH($DM$3,Millwall!$AB$147:$AP$147,0)","v":{"$error":"#N/A"}},{"$f":"MATCH($DN$3,Millwall!$AB$147:$AP$147,0)","v":{"$error":"#N/A"}},{"$f":"MATCH($DO$3,Millwall!$AB$147:$AP$147,0)","v":{"$error":"#N/A"}}]
[null,null,1,null,null,{"$f":"Millwall!X148","v":"00:00:00"},null,{"$f":"Millwall!Y148","v":"00:00:00"},{"$f":"Millwall!Z148","v":"00:00:00"},{"$f":"Millwall!AA148","v":0},{"$f":"MATCH(K$4,Millwall!$AB148:$AP148,0)","v":{"$error":"#N/A"}},{"$f":"MATCH(L$4,Millwall!$AB148:$AP148,0)","v":{"$error":"#N/A"}},{"$f":"MATCH(M$4,Millwall!$AB148:$AP148,0)","v":{"$error":"#N/A"}},{"$f":"MATCH(N$4,Millwall!$AB148:$AP148,0)","v":{"$error":"#N/A"}},{"$f":"MATCH(O$4,Millwall!$AB148:$AP148,0)","v":{"$error":"#N/A"}},{"$f":"MATCH(P$4,Millwall!$AB148:$AP148,0)","v":{"$error":"#N/A"}},{"$f":"MATCH(Q$4,Millwall!$AB148:$AP148,0)","v":{"$error":"#N/A"}},{"$f":"MATCH(R$4,Millwall!$AB148:$AP148,0)","v":{"$error":"#N/A"}},{"$f":"MATCH(S$4,Millwall!$AB148:$AP148,0)","v":{"$error":"#N/A"}},{"$f":"MATCH(T$4,Millwall!$AB148:$AP148,0)","v":{"$error":"#N/A"}},{"$f":"MATCH(U$4,Millwall!$AB148:$AP148,0)","v":{"$error":"#N/A"}},{"$f":"MATCH(V$4,Millwall!$AB148:$AP148,0)","v":{"$error":"#N/A"}},{"$f":"MATCH(W$4,Millwall!$AB148:$AP148,0)","v":{"$error":"#N/A"}},{"$f":"MATCH(X$4,Millwall!$AB148:$AP148,0)","v":{"$error":"#N/A"}},{"$f":"MATCH(Y$4,Millwall!$AB148:$AP148,0)","v":{"$error":"#N/A"}},{"$f":"MATCH(Z$4,Millwall!$AB148:$AP148,0)","v":{"$error":"#N/A"}},{"$f":"MATCH(AA$4,Millwall!$AB148:$AP148,0)","v":{"$error":"#N/A"}},{"$f":"MATCH(AB$4,Millwall!$AB148:$AP148,0)","v":{"$error":"#N/A"}},{"$f":"MATCH(AC$4,Millwall!$AB148:$AP148,0)","v":{"$error":"#N/A"}},{"$f":"MATCH(AD$4,Millwall!$AB148:$AP148,0)","v":{"$error":"#N/A"}},{"$f":"MATCH(AE$4,Millwall!$AB148:$AP148,0)","v":{"$error":"#N/A"}},{"$f":"MATCH(AF$4,Millwall!$AB148:$AP148,0)","v":{"$error":"#N/A"}},{"$f":"MATCH(AG$4,Millwall!$AB148:$AP148,0)","v":{"$error":"#N/A"}},{"$f":"MATCH(AH$4,Millwall!$AB148:$AP148,0)","v":{"$error":"#N/A"}},{"$f":"MATCH(AI$4,Millwall!$AB148:$AP148,0)","v":{"$error":"#N/A"}},{"$f":"MATCH(AJ$4,Millwall!$AB148:$AP148,0)","v":{"$error":"#N/A"}},{"$f":"MATCH(AK$4,Millwall!$AB148:$AP148,0)","v":{"$error":"#N/A"}},{"$f":"MATCH(AL$4,Millwall!$AB148:$AP148,0)","v":{"$error":"#N/A"}},{"$f":"MATCH(AM$4,Millwall!$AB148:$AP148,0)","v":{"$error":"#N/A"}},{"$f":"MATCH(AN$4,Millwall!$AB148:$AP148,0)","v":{"$error":"#N/A"}},{"$f":"MATCH(AO$4,Millwall!$AB148:$AP148,0)","v":{"$error":"#N/A"}},{"$f":"MATCH(AP$4,Millwall!$AB148:$AP148,0)","v":{"$error":"#N/A"}},{"$f":"MATCH(AQ$4,Millwall!$AB148:$AP148,0)","v":{"$error":"#N/A"}},{"$f":"MATCH(AR$4,Millwall!$AB148:$AP148,0)","v":{"$error":"#N/A"}},null,null,null,null,null,{"$f":"MATCH(AX$3,Millwall!$AB148:$AP148,0)","v":{"$error":"#N/A"}},{"$f":"MATCH(AY$3,Millwall!$AB148:$AP148,0)","v":{"$error":"#N/A"}},{"$f":"MATCH(AZ$3,Millwall!$AB148:$AP148,0)","v":{"$error":"#N/A"}},{"$f":"MATCH(BA$3,Millwall!$AB148:$AP148,0)","v":{"$error":"#N/A"}},{"$f":"MATCH(BB$3,Millwall!$AB148:$AP148,0)","v":{"$error":"#N/A"}},{"$f":"MATCH(BC$3,Millwall!$AB148:$AP148,0)","v":{"$error":"#N/A"}},{"$f":"MATCH(BD$3,Millwall!$AB148:$AP148,0)","v":{"$error":"#N/A"}},{"$f":"MATCH(BE$3,Millwall!$AB148:$AP148,0)","v":{"$error":"#N/A"}},{"$f":"MATCH(BF$3,Millwall!$AB148:$AP148,0)","v":{"$error":"#N/A"}},{"$f":"MATCH(BG$3,Millwall!$AB148:$AP148,0)","v":{"$error":"#N/A"}},{"$f":"MATCH(BH$3,Millwall!$AB148:$AP148,0)","v":{"$error":"#N/A"}},{"$f":"MATCH(BI$3,Millwall!$AB148:$AP148,0)","v":{"$error":"#N/A"}},{"$f":"MATCH(BJ$3,Millwall!$AB148:$AP148,0)","v":{"$error":"#N/A"}},{"$f":"MATCH(BK$3,Millwall!$AB148:$AP148,0)","v":{"$error":"#N/A"}},{"$f":"MATCH(BL$3,Millwall!$AB148:$AP148,0)","v":{"$error":"#N/A"}},{"$f":"MATCH(BM$3,Millwall!$AB148:$AP148,0)","v":{"$error":"#N/A"}},{"$f":"MATCH(BN$3,Millwall!$AB148:$AP148,0)","v":{"$error":"#N/A"}},{"$f":"MATCH(BO$3,Millwall!$AB148:$AP148,0)","v":{"$error":"#N/A"}},{"$f":"MATCH(BP$3,Millwall!$AB148:$AP148,0)","v":{"$error":"#N/A"}},{"$f":"MATCH(BQ$3,Millwall!$AB148:$AP148,0)","v":{"$error":"#N/A"}},{"$f":"MATCH(BR$3,Millwall!$AB148:$AP148,0)","v":{"$error":"#N/A"}},{"$f":"MATCH(BS$3,Millwall!$AB148:$AP148,0)","v":{"$error":"#N/A"}},{"$f":"MATCH(BT$3,Millwall!$AB148:$AP148,0)","v":{"$error":"#N/A"}},{"$f":"MATCH(BU$3,Millwall!$AB148:$AP148,0)","v":{"$error":"#N/A"}},{"$f":"MATCH(BV$3,Millwall!$AB148:$AP148,0)","v":{"$error":"#N/A"}},{"$f":"MATCH(BW$3,Millwall!$AB148:$AP148,0)","v":{"$error":"#N/A"}},{"$f":"MATCH(BX$3,Millwall!$AB148:$AP148,0)","v":{"$error":"#N/A"}},{"$f":"MATCH(BY$3,Millwall!$AB148:$AP148,0)","v":{"$error":"#N/A"}},{"$f":"MATCH(BZ$3,Millwall!$AB148:$AP148,0)","v":{"$error":"#N/A"}},{"$f":"MATCH(CA$3,Millwall!$AB148:$AP148,0)","v":{"$error":"#N/A"}},{"$f":"MATCH(CB$3,Millwall!$AB148:$AP148,0)","v":{"$error":"#N/A"}},{"$f":"MATCH(CC$3,Millwall!$AB148:$AP148,0)","v":{"$error":"#N/A"}},{"$f":"MATCH(CD$3,Millwall!$AB148:$AP148,0)","v":{"$error":"#N/A"}},{"$f":"MATCH(CE$3,Millwall!$AB148:$AP148,0)","v":{"$error":"#N/A"}},null,null,{"$f":"MATCH($CH$3,Millwall!$AB$148:$AP$148,0)","v":{"$error":"#N/A"}},{"$f":"MATCH($CI$3,Millwall!$AB$148:$AP$148,0)","v":{"$error":"#N/A"}},{"$f":"MATCH($CJ$3,Millwall!$AB$148:$AP$148,0)","v":{"$error":"#N/A"}},{"$f":"MATCH($CK$3,Millwall!$AB$148:$AP$148,0)","v":{"$error":"#N/A"}},{"$f":"MATCH($CL$3,Millwall!$AB$148:$AP$148,0)","v":{"$error":"#N/A"}},{"$f":"MATCH($CM$3,Millwall!$AB$148:$AP$148,0)","v":{"$error":"#N/A"}},{"$f":"MATCH($CN$3,Millwall!$AB$148:$AP$148,0)","v":{"$error":"#N/A"}},{"$f":"MATCH($CO$3,Millwall!$AB$148:$AP$148,0)","v":{"$error":"#N/A"}},{"$f":"MATCH($CP$3,Millwall!$AB$148:$AP$148,0)","v":{"$error":"#N/A"}},{"$f":"MATCH($CQ$3,Millwall!$AB$148:$AP$148,0)","v":{"$error":"#N/A"}},{"$f":"MATCH($CR$3,Millwall!$AB$148:$AP$148,0)","v":{"$error":"#N/A"}},{"$f":"MATCH($CS$3,Millwall!$AB$148:$AP$148,0)","v":{"$error":"#N/A"}},{"$f":"MATCH($CT$3,Millwall!$AB$148:$AP$148,0)","v":{"$error":"#N/A"}},{"$f":"MATCH($CU$3,Millwall!$AB$148:$AP$148,0)","v":{"$error":"#N/A"}},{"$f":"MATCH($CV$3,Millwall!$AB$148:$AP$148,0)","v":{"$error":"#N/A"}},{"$f":"MATCH($CW$3,Millwall!$AB$148:$AP$148,0)","v":{"$error":"#N/A"}},{"$f":"MATCH($CX$3,Millwall!$AB$148:$AP$148,0)","v":{"$error":"#N/A"}},{"$f":"MATCH($CY$3,Millwall!$AB$148:$AP$148,0)","v":{"$error":"#N/A"}},{"$f":"MATCH($CZ$3,Millwall!$AB$148:$AP$148,0)","v":{"$error":"#N/A"}},{"$f":"MATCH($DA$3,Millwall!$AB$148:$AP$148,0)","v":{"$error":"#N/A"}},{"$f":"MATCH($DB$3,Millwall!$AB$148:$AP$148,0)","v":{"$error":"#N/A"}},{"$f":"MATCH($DC$3,Millwall!$AB$148:$AP$148,0)","v":{"$error":"#N/A"}},{"$f":"MATCH($DD$3,Millwall!$AB$148:$AP$148,0)","v":{"$error":"#N/A"}},{"$f":"MATCH($DE$3,Millwall!$AB$148:$AP$148,0)","v":{"$error":"#N/A"}},{"$f":"MATCH($DF$3,Millwall!$AB$148:$AP$148,0)","v":{"$error":"#N/A"}},{"$f":"MATCH($DG$3,Millwall!$AB$148:$AP$148,0)","v":{"$error":"#N/A"}},{"$f":"MATCH($DH$3,Millwall!$AB$148:$AP$148,0)","v":{"$error":"#N/A"}},{"$f":"MATCH($DI$3,Millwall!$AB$148:$AP$148,0)","v":{"$error":"#N/A"}},{"$f":"MATCH($DJ$3,Millwall!$AB$148:$AP$148,0)","v":{"$error":"#N/A"}},{"$f":"MATCH($DK$3,Millwall!$AB$148:$AP$148,0)","v":{"$error":"#N/A"}},{"$f":"MATCH($DL$3,Millwall!$AB$148:$AP$148,0)","v":{"$error":"#N/A"}},{"$f":"MATCH($DM$3,Millwall!$AB$148:$AP$148,0)","v":{"$error":"#N/A"}},{"$f":"MATCH($DN$3,Millwall!$AB$148:$AP$148,0)","v":{"$error":"#N/A"}},{"$f":"MATCH($DO$3,Millwall!$AB$148:$AP$148,0)","v":{"$error":"#N/A"}}]
[null,null,1,null,null,{"$f":"Millwall!X149","v":"00:00:00"},null,{"$f":"Millwall!Y149","v":"00:00:00"},{"$f":"Millwall!Z149","v":"00:00:00"},{"$f":"Millwall!AA149","v":0},{"$f":"MATCH(K$4,Millwall!$AB149:$AP149,0)","v":{"$error":"#N/A"}},{"$f":"MATCH(L$4,Millwall!$AB149:$AP149,0)","v":{"$error":"#N/A"}},{"$f":"MATCH(M$4,Millwall!$AB149:$AP149,0)","v":{"$error":"#N/A"}},{"$f":"MATCH(N$4,Millwall!$AB149:$AP149,0)","v":{"$error":"#N/A"}},{"$f":"MATCH(O$4,Millwall!$AB149:$AP149,0)","v":{"$error":"#N/A"}},{"$f":"MATCH(P$4,Millwall!$AB149:$AP149,0)","v":{"$error":"#N/A"}},{"$f":"MATCH(Q$4,Millwall!$AB149:$AP149,0)","v":{"$error":"#N/A"}},{"$f":"MATCH(R$4,Millwall!$AB149:$AP149,0)","v":{"$error":"#N/A"}},{"$f":"MATCH(S$4,Millwall!$AB149:$AP149,0)","v":{"$error":"#N/A"}},{"$f":"MATCH(T$4,Millwall!$AB149:$AP149,0)","v":{"$error":"#N/A"}},{"$f":"MATCH(U$4,Millwall!$AB149:$AP149,0)","v":{"$error":"#N/A"}},{"$f":"MATCH(V$4,Millwall!$AB149:$AP149,0)","v":{"$error":"#N/A"}},{"$f":"MATCH(W$4,Millwall!$AB149:$AP149,0)","v":{"$error":"#N/A"}},{"$f":"MATCH(X$4,Millwall!$AB149:$AP149,0)","v":{"$error":"#N/A"}},{"$f":"MATCH(Y$4,Millwall!$AB149:$AP149,0)","v":{"$error":"#N/A"}},{"$f":"MATCH(Z$4,Millwall!$AB149:$AP149,0)","v":{"$error":"#N/A"}},{"$f":"MATCH(AA$4,Millwall!$AB149:$AP149,0)","v":{"$error":"#N/A"}},{"$f":"MATCH(AB$4,Millwall!$AB149:$AP149,0)","v":{"$error":"#N/A"}},{"$f":"MATCH(AC$4,Millwall!$AB149:$AP149,0)","v":{"$error":"#N/A"}},{"$f":"MATCH(AD$4,Millwall!$AB149:$AP149,0)","v":{"$error":"#N/A"}},{"$f":"MATCH(AE$4,Millwall!$AB149:$AP149,0)","v":{"$error":"#N/A"}},{"$f":"MATCH(AF$4,Millwall!$AB149:$AP149,0)","v":{"$error":"#N/A"}},{"$f":"MATCH(AG$4,Millwall!$AB149:$AP149,0)","v":{"$error":"#N/A"}},{"$f":"MATCH(AH$4,Millwall!$AB149:$AP149,0)","v":{"$error":"#N/A"}},{"$f":"MATCH(AI$4,Millwall!$AB149:$AP149,0)","v":{"$error":"#N/A"}},{"$f":"MATCH(AJ$4,Millwall!$AB149:$AP149,0)","v":{"$error":"#N/A"}},{"$f":"MATCH(AK$4,Millwall!$AB149:$AP149,0)","v":{"$error":"#N/A"}},{"$f":"MATCH(AL$4,Millwall!$AB149:$AP149,0)","v":{"$error":"#N/A"}},{"$f":"MATCH(AM$4,Millwall!$AB149:$AP149,0)","v":{"$error":"#N/A"}},{"$f":"MATCH(AN$4,Millwall!$AB149:$AP149,0)","v":{"$error":"#N/A"}},{"$f":"MATCH(AO$4,Millwall!$AB149:$AP149,0)","v":{"$error":"#N/A"}},{"$f":"MATCH(AP$4,Millwall!$AB149:$AP149,0)","v":{"$error":"#N/A"}},{"$f":"MATCH(AQ$4,Millwall!$AB149:$AP149,0)","v":{"$error":"#N/A"}},{"$f":"MATCH(AR$4,Millwall!$AB149:$AP149,0)","v":{"$error":"#N/A"}},null,null,null,null,null,{"$f":"MATCH(AX$3,Millwall!$AB149:$AP149,0)","v":{"$error":"#N/A"}},{"$f":"MATCH(AY$3,Millwall!$AB149:$AP149,0)","v":{"$error":"#N/A"}},{"$f":"MATCH(AZ$3,Millwall!$AB149:$AP149,0)","v":{"$error":"#N/A"}},{"$f":"MATCH(BA$3,Millwall!$AB149:$AP149,0)","v":{"$error":"#N/A"}},{"$f":"MATCH(BB$3,Millwall!$AB149:$AP149,0)","v":{"$error":"#N/A"}},{"$f":"MATCH(BC$3,Millwall!$AB149:$AP149,0)","v":{"$error":"#N/A"}},{"$f":"MATCH(BD$3,Millwall!$AB149:$AP149,0)","v":{"$error":"#N/A"}},{"$f":"MATCH(BE$3,Millwall!$AB149:$AP149,0)","v":{"$error":"#N/A"}},{"$f":"MATCH(BF$3,Millwall!$AB149:$AP149,0)","v":{"$error":"#N/A"}},{"$f":"MATCH(BG$3,Millwall!$AB149:$AP149,0)","v":{"$error":"#N/A"}},{"$f":"MATCH(BH$3,Millwall!$AB149:$AP149,0)","v":{"$error":"#N/A"}},{"$f":"MATCH(BI$3,Millwall!$AB149:$AP149,0)","v":{"$error":"#N/A"}},{"$f":"MATCH(BJ$3,Millwall!$AB149:$AP149,0)","v":{"$error":"#N/A"}},{"$f":"MATCH(BK$3,Millwall!$AB149:$AP149,0)","v":{"$error":"#N/A"}},{"$f":"MATCH(BL$3,Millwall!$AB149:$AP149,0)","v":{"$error":"#N/A"}},{"$f":"MATCH(BM$3,Millwall!$AB149:$AP149,0)","v":{"$error":"#N/A"}},{"$f":"MATCH(BN$3,Millwall!$AB149:$AP149,0)","v":{"$error":"#N/A"}},{"$f":"MATCH(BO$3,Millwall!$AB149:$AP149,0)","v":{"$error":"#N/A"}},{"$f":"MATCH(BP$3,Millwall!$AB149:$AP149,0)","v":{"$error":"#N/A"}},{"$f":"MATCH(BQ$3,Millwall!$AB149:$AP149,0)","v":{"$error":"#N/A"}},{"$f":"MATCH(BR$3,Millwall!$AB149:$AP149,0)","v":{"$error":"#N/A"}},{"$f":"MATCH(BS$3,Millwall!$AB149:$AP149,0)","v":{"$error":"#N/A"}},{"$f":"MATCH(BT$3,Millwall!$AB149:$AP149,0)","v":{"$error":"#N/A"}},{"$f":"MATCH(BU$3,Millwall!$AB149:$AP149,0)","v":{"$error":"#N/A"}},{"$f":"MATCH(BV$3,Millwall!$AB149:$AP149,0)","v":{"$error":"#N/A"}},{"$f":"MATCH(BW$3,Millwall!$AB149:$AP149,0)","v":{"$error":"#N/A"}},{"$f":"MATCH(BX$3,Millwall!$AB149:$AP149,0)","v":{"$error":"#N/A"}},{"$f":"MATCH(BY$3,Millwall!$AB149:$AP149,0)","v":{"$error":"#N/A"}},{"$f":"MATCH(BZ$3,Millwall!$AB149:$AP149,0)","v":{"$error":"#N/A"}},{"$f":"MATCH(CA$3,Millwall!$AB149:$AP149,0)","v":{"$error":"#N/A"}},{"$f":"MATCH(CB$3,Millwall!$AB149:$AP149,0)","v":{"$error":"#N/A"}},{"$f":"MATCH(CC$3,Millwall!$AB149:$AP149,0)","v":{"$error":"#N/A"}},{"$f":"MATCH(CD$3,Millwall!$AB149:$AP149,0)","v":{"$error":"#N/A"}},{"$f":"MATCH(CE$3,Millwall!$AB149:$AP149,0)","v":{"$error":"#N/A"}},null,null,{"$f":"MATCH($CH$3,Millwall!$AB$149:$AP$149,0)","v":{"$error":"#N/A"}},{"$f":"MATCH($CI$3,Millwall!$AB$149:$AP$149,0)","v":{"$error":"#N/A"}},{"$f":"MATCH($CJ$3,Millwall!$AB$149:$AP$149,0)","v":{"$error":"#N/A"}},{"$f":"MATCH($CK$3,Millwall!$AB$149:$AP$149,0)","v":{"$error":"#N/A"}},{"$f":"MATCH($CL$3,Millwall!$AB$149:$AP$149,0)","v":{"$error":"#N/A"}},{"$f":"MATCH($CM$3,Millwall!$AB$149:$AP$149,0)","v":{"$error":"#N/A"}},{"$f":"MATCH($CN$3,Millwall!$AB$149:$AP$149,0)","v":{"$error":"#N/A"}},{"$f":"MATCH($CO$3,Millwall!$AB$149:$AP$149,0)","v":{"$error":"#N/A"}},{"$f":"MATCH($CP$3,Millwall!$AB$149:$AP$149,0)","v":{"$error":"#N/A"}},{"$f":"MATCH($CQ$3,Millwall!$AB$149:$AP$149,0)","v":{"$error":"#N/A"}},{"$f":"MATCH($CR$3,Millwall!$AB$149:$AP$149,0)","v":{"$error":"#N/A"}},{"$f":"MATCH($CS$3,Millwall!$AB$149:$AP$149,0)","v":{"$error":"#N/A"}},{"$f":"MATCH($CT$3,Millwall!$AB$149:$AP$149,0)","v":{"$error":"#N/A"}},{"$f":"MATCH($CU$3,Millwall!$AB$149:$AP$149,0)","v":{"$error":"#N/A"}},{"$f":"MATCH($CV$3,Millwall!$AB$149:$AP$149,0)","v":{"$error":"#N/A"}},{"$f":"MATCH($CW$3,Millwall!$AB$149:$AP$149,0)","v":{"$error":"#N/A"}},{"$f":"MATCH($CX$3,Millwall!$AB$149:$AP$149,0)","v":{"$error":"#N/A"}},{"$f":"MATCH($CY$3,Millwall!$AB$149:$AP$149,0)","v":{"$error":"#N/A"}},{"$f":"MATCH($CZ$3,Millwall!$AB$149:$AP$149,0)","v":{"$error":"#N/A"}},{"$f":"MATCH($DA$3,Millwall!$AB$149:$AP$149,0)","v":{"$error":"#N/A"}},{"$f":"MATCH($DB$3,Millwall!$AB$149:$AP$149,0)","v":{"$error":"#N/A"}},{"$f":"MATCH($DC$3,Millwall!$AB$149:$AP$149,0)","v":{"$error":"#N/A"}},{"$f":"MATCH($DD$3,Millwall!$AB$149:$AP$149,0)","v":{"$error":"#N/A"}},{"$f":"MATCH($DE$3,Millwall!$AB$149:$AP$149,0)","v":{"$error":"#N/A"}},{"$f":"MATCH($DF$3,Millwall!$AB$149:$AP$149,0)","v":{"$error":"#N/A"}},{"$f":"MATCH($DG$3,Millwall!$AB$149:$AP$149,0)","v":{"$error":"#N/A"}},{"$f":"MATCH($DH$3,Millwall!$AB$149:$AP$149,0)","v":{"$error":"#N/A"}},{"$f":"MATCH($DI$3,Millwall!$AB$149:$AP$149,0)","v":{"$error":"#N/A"}},{"$f":"MATCH($DJ$3,Millwall!$AB$149:$AP$149,0)","v":{"$error":"#N/A"}},{"$f":"MATCH($DK$3,Millwall!$AB$149:$AP$149,0)","v":{"$error":"#N/A"}},{"$f":"MATCH($DL$3,Millwall!$AB$149:$AP$149,0)","v":{"$error":"#N/A"}},{"$f":"MATCH($DM$3,Millwall!$AB$149:$AP$149,0)","v":{"$error":"#N/A"}},{"$f":"MATCH($DN$3,Millwall!$AB$149:$AP$149,0)","v":{"$error":"#N/A"}},{"$f":"MATCH($DO$3,Millwall!$AB$149:$AP$149,0)","v":{"$error":"#N/A"}}]
[null,null,1,null,null,{"$f":"Millwall!X150","v":"00:00:00"},null,{"$f":"Millwall!Y150","v":"00:00:00"},{"$f":"Millwall!Z150","v":"00:00:00"},{"$f":"Millwall!AA150","v":"00:00:00"},{"$f":"MATCH(K$4,Millwall!$AB150:$AP150,0)","v":{"$error":"#N/A"}},{"$f":"MATCH(L$4,Millwall!$AB150:$AP150,0)","v":{"$error":"#N/A"}},{"$f":"MATCH(M$4,Millwall!$AB150:$AP150,0)","v":{"$error":"#N/A"}},{"$f":"MATCH(N$4,Millwall!$AB150:$AP150,0)","v":{"$error":"#N/A"}},{"$f":"MATCH(O$4,Millwall!$AB150:$AP150,0)","v":{"$error":"#N/A"}},{"$f":"MATCH(P$4,Millwall!$AB150:$AP150,0)","v":{"$error":"#N/A"}},{"$f":"MATCH(Q$4,Millwall!$AB150:$AP150,0)","v":{"$error":"#N/A"}},{"$f":"MATCH(R$4,Millwall!$AB150:$AP150,0)","v":{"$error":"#N/A"}},{"$f":"MATCH(S$4,Millwall!$AB150:$AP150,0)","v":{"$error":"#N/A"}},{"$f":"MATCH(T$4,Millwall!$AB150:$AP150,0)","v":{"$error":"#N/A"}},{"$f":"MATCH(U$4,Millwall!$AB150:$AP150,0)","v":{"$error":"#N/A"}},{"$f":"MATCH(V$4,Millwall!$AB150:$AP150,0)","v":{"$error":"#N/A"}},{"$f":"MATCH(W$4,Millwall!$AB150:$AP150,0)","v":{"$error":"#N/A"}},{"$f":"MATCH(X$4,Millwall!$AB150:$AP150,0)","v":{"$error":"#N/A"}},{"$f":"MATCH(Y$4,Millwall!$AB150:$AP150,0)","v":{"$error":"#N/A"}},{"$f":"MATCH(Z$4,Millwall!$AB150:$AP150,0)","v":{"$error":"#N/A"}},{"$f":"MATCH(AA$4,Millwall!$AB150:$AP150,0)","v":{"$error":"#N/A"}},{"$f":"MATCH(AB$4,Millwall!$AB150:$AP150,0)","v":{"$error":"#N/A"}},{"$f":"MATCH(AC$4,Millwall!$AB150:$AP150,0)","v":{"$error":"#N/A"}},{"$f":"MATCH(AD$4,Millwall!$AB150:$AP150,0)","v":{"$error":"#N/A"}},{"$f":"MATCH(AE$4,Millwall!$AB150:$AP150,0)","v":{"$error":"#N/A"}},{"$f":"MATCH(AF$4,Millwall!$AB150:$AP150,0)","v":{"$error":"#N/A"}},{"$f":"MATCH(AG$4,Millwall!$AB150:$AP150,0)","v":{"$error":"#N/A"}},{"$f":"MATCH(AH$4,Millwall!$AB150:$AP150,0)","v":{"$error":"#N/A"}},{"$f":"MATCH(AI$4,Millwall!$AB150:$AP150,0)","v":{"$error":"#N/A"}},{"$f":"MATCH(AJ$4,Millwall!$AB150:$AP150,0)","v":{"$error":"#N/A"}},{"$f":"MATCH(AK$4,Millwall!$AB150:$AP150,0)","v":{"$error":"#N/A"}},{"$f":"MATCH(AL$4,Millwall!$AB150:$AP150,0)","v":{"$error":"#N/A"}},{"$f":"MATCH(AM$4,Millwall!$AB150:$AP150,0)","v":{"$error":"#N/A"}},{"$f":"MATCH(AN$4,Millwall!$AB150:$AP150,0)","v":{"$error":"#N/A"}},{"$f":"MATCH(AO$4,Millwall!$AB150:$AP150,0)","v":{"$error":"#N/A"}},{"$f":"MATCH(AP$4,Millwall!$AB150:$AP150,0)","v":{"$error":"#N/A"}},{"$f":"MATCH(AQ$4,Millwall!$AB150:$AP150,0)","v":{"$error":"#N/A"}},{"$f":"MATCH(AR$4,Millwall!$AB150:$AP150,0)","v":{"$error":"#N/A"}},null,null,null,null,null,{"$f":"MATCH(AX$3,Millwall!$AB150:$AP150,0)","v":{"$error":"#N/A"}},{"$f":"MATCH(AY$3,Millwall!$AB150:$AP150,0)","v":{"$error":"#N/A"}},{"$f":"MATCH(AZ$3,Millwall!$AB150:$AP150,0)","v":{"$error":"#N/A"}},{"$f":"MATCH(BA$3,Millwall!$AB150:$AP150,0)","v":{"$error":"#N/A"}},{"$f":"MATCH(BB$3,Millwall!$AB150:$AP150,0)","v":{"$error":"#N/A"}},{"$f":"MATCH(BC$3,Millwall!$AB150:$AP150,0)","v":{"$error":"#N/A"}},{"$f":"MATCH(BD$3,Millwall!$AB150:$AP150,0)","v":{"$error":"#N/A"}},{"$f":"MATCH(BE$3,Millwall!$AB150:$AP150,0)","v":{"$error":"#N/A"}},{"$f":"MATCH(BF$3,Millwall!$AB150:$AP150,0)","v":{"$error":"#N/A"}},{"$f":"MATCH(BG$3,Millwall!$AB150:$AP150,0)","v":{"$error":"#N/A"}},{"$f":"MATCH(BH$3,Millwall!$AB150:$AP150,0)","v":{"$error":"#N/A"}},{"$f":"MATCH(BI$3,Millwall!$AB150:$AP150,0)","v":{"$error":"#N/A"}},{"$f":"MATCH(BJ$3,Millwall!$AB150:$AP150,0)","v":{"$error":"#N/A"}},{"$f":"MATCH(BK$3,Millwall!$AB150:$AP150,0)","v":{"$error":"#N/A"}},{"$f":"MATCH(BL$3,Millwall!$AB150:$AP150,0)","v":{"$error":"#N/A"}},{"$f":"MATCH(BM$3,Millwall!$AB150:$AP150,0)","v":{"$error":"#N/A"}},{"$f":"MATCH(BN$3,Millwall!$AB150:$AP150,0)","v":{"$error":"#N/A"}},{"$f":"MATCH(BO$3,Millwall!$AB150:$AP150,0)","v":{"$error":"#N/A"}},{"$f":"MATCH(BP$3,Millwall!$AB150:$AP150,0)","v":{"$error":"#N/A"}},{"$f":"MATCH(BQ$3,Millwall!$AB150:$AP150,0)","v":{"$error":"#N/A"}},{"$f":"MATCH(BR$3,Millwall!$AB150:$AP150,0)","v":{"$error":"#N/A"}},{"$f":"MATCH(BS$3,Millwall!$AB150:$AP150,0)","v":{"$error":"#N/A"}},{"$f":"MATCH(BT$3,Millwall!$AB150:$AP150,0)","v":{"$error":"#N/A"}},{"$f":"MATCH(BU$3,Millwall!$AB150:$AP150,0)","v":{"$error":"#N/A"}},{"$f":"MATCH(BV$3,Millwall!$AB150:$AP150,0)","v":{"$error":"#N/A"}},{"$f":"MATCH(BW$3,Millwall!$AB150:$AP150,0)","v":{"$error":"#N/A"}},{"$f":"MATCH(BX$3,Millwall!$AB150:$AP150,0)","v":{"$error":"#N/A"}},{"$f":"MATCH(BY$3,Millwall!$AB150:$AP150,0)","v":{"$error":"#N/A"}},{"$f":"MATCH(BZ$3,Millwall!$AB150:$AP150,0)","v":{"$error":"#N/A"}},{"$f":"MATCH(CA$3,Millwall!$AB150:$AP150,0)","v":{"$error":"#N/A"}},{"$f":"MATCH(CB$3,Millwall!$AB150:$AP150,0)","v":{"$error":"#N/A"}},{"$f":"MATCH(CC$3,Millwall!$AB150:$AP150,0)","v":{"$error":"#N/A"}},{"$f":"MATCH(CD$3,Millwall!$AB150:$AP150,0)","v":{"$error":"#N/A"}},{"$f":"MATCH(CE$3,Millwall!$AB150:$AP150,0)","v":{"$error":"#N/A"}},null,null,{"$f":"MATCH($CH$3,Millwall!$AB$150:$AP$150,0)","v":{"$error":"#N/A"}},{"$f":"MATCH($CI$3,Millwall!$AB$150:$AP$150,0)","v":{"$error":"#N/A"}},{"$f":"MATCH($CJ$3,Millwall!$AB$150:$AP$150,0)","v":{"$error":"#N/A"}},{"$f":"MATCH($CK$3,Millwall!$AB$150:$AP$150,0)","v":{"$error":"#N/A"}},{"$f":"MATCH($CL$3,Millwall!$AB$150:$AP$150,0)","v":{"$error":"#N/A"}},{"$f":"MATCH($CM$3,Millwall!$AB$150:$AP$150,0)","v":{"$error":"#N/A"}},{"$f":"MATCH($CN$3,Millwall!$AB$150:$AP$150,0)","v":{"$error":"#N/A"}},{"$f":"MATCH($CO$3,Millwall!$AB$150:$AP$150,0)","v":{"$error":"#N/A"}},{"$f":"MATCH($CP$3,Millwall!$AB$150:$AP$150,0)","v":{"$error":"#N/A"}},{"$f":"MATCH($CQ$3,Millwall!$AB$150:$AP$150,0)","v":{"$error":"#N/A"}},{"$f":"MATCH($CR$3,Millwall!$AB$150:$AP$150,0)","v":{"$error":"#N/A"}},{"$f":"MATCH($CS$3,Millwall!$AB$150:$AP$150,0)","v":{"$error":"#N/A"}},{"$f":"MATCH($CT$3,Millwall!$AB$150:$AP$150,0)","v":{"$error":"#N/A"}},{"$f":"MATCH($CU$3,Millwall!$AB$150:$AP$150,0)","v":{"$error":"#N/A"}},{"$f":"MATCH($CV$3,Millwall!$AB$150:$AP$150,0)","v":{"$error":"#N/A"}},{"$f":"MATCH($CW$3,Millwall!$AB$150:$AP$150,0)","v":{"$error":"#N/A"}},{"$f":"MATCH($CX$3,Millwall!$AB$150:$AP$150,0)","v":{"$error":"#N/A"}},{"$f":"MATCH($CY$3,Millwall!$AB$150:$AP$150,0)","v":{"$error":"#N/A"}},{"$f":"MATCH($CZ$3,Millwall!$AB$150:$AP$150,0)","v":{"$error":"#N/A"}},{"$f":"MATCH($DA$3,Millwall!$AB$150:$AP$150,0)","v":{"$error":"#N/A"}},{"$f":"MATCH($DB$3,Millwall!$AB$150:$AP$150,0)","v":{"$error":"#N/A"}},{"$f":"MATCH($DC$3,Millwall!$AB$150:$AP$150,0)","v":{"$error":"#N/A"}},{"$f":"MATCH($DD$3,Millwall!$AB$150:$AP$150,0)","v":{"$error":"#N/A"}},{"$f":"MATCH($DE$3,Millwall!$AB$150:$AP$150,0)","v":{"$error":"#N/A"}},{"$f":"MATCH($DF$3,Millwall!$AB$150:$AP$150,0)","v":{"$error":"#N/A"}},{"$f":"MATCH($DG$3,Millwall!$AB$150:$AP$150,0)","v":{"$error":"#N/A"}},{"$f":"MATCH($DH$3,Millwall!$AB$150:$AP$150,0)","v":{"$error":"#N/A"}},{"$f":"MATCH($DI$3,Millwall!$AB$150:$AP$150,0)","v":{"$error":"#N/A"}},{"$f":"MATCH($DJ$3,Millwall!$AB$150:$AP$150,0)","v":{"$error":"#N/A"}},{"$f":"MATCH($DK$3,Millwall!$AB$150:$AP$150,0)","v":{"$error":"#N/A"}},{"$f":"MATCH($DL$3,Millwall!$AB$150:$AP$150,0)","v":{"$error":"#N/A"}},{"$f":"MATCH($DM$3,Millwall!$AB$150:$AP$150,0)","v":{"$error":"#N/A"}},{"$f":"MATCH($DN$3,Millwall!$AB$150:$AP$150,0)","v":{"$error":"#N/A"}},{"$f":"MATCH($DO$3,Millwall!$AB$150:$AP$150,0)","v":{"$error":"#N/A"}}]
[null,null,1,null,null,{"$f":"Millwall!X151","v":"00:00:00"},null,{"$f":"Millwall!Y151","v":"00:00:00"},{"$f":"Millwall!Z151","v":"00:00:00"},{"$f":"Millwall!AA151","v":0},{"$f":"MATCH(K$4,Millwall!$AB151:$AP151,0)","v":{"$error":"#N/A"}},{"$f":"MATCH(L$4,Millwall!$AB151:$AP151,0)","v":{"$error":"#N/A"}},{"$f":"MATCH(M$4,Millwall!$AB151:$AP151,0)","v":{"$error":"#N/A"}},{"$f":"MATCH(N$4,Millwall!$AB151:$AP151,0)","v":{"$error":"#N/A"}},{"$f":"MATCH(O$4,Millwall!$AB151:$AP151,0)","v":{"$error":"#N/A"}},{"$f":"MATCH(P$4,Millwall!$AB151:$AP151,0)","v":{"$error":"#N/A"}},{"$f":"MATCH(Q$4,Millwall!$AB151:$AP151,0)","v":{"$error":"#N/A"}},{"$f":"MATCH(R$4,Millwall!$AB151:$AP151,0)","v":{"$error":"#N/A"}},{"$f":"MATCH(S$4,Millwall!$AB151:$AP151,0)","v":{"$error":"#N/A"}},{"$f":"MATCH(T$4,Millwall!$AB151:$AP151,0)","v":{"$error":"#N/A"}},{"$f":"MATCH(U$4,Millwall!$AB151:$AP151,0)","v":{"$error":"#N/A"}},{"$f":"MATCH(V$4,Millwall!$AB151:$AP151,0)","v":{"$error":"#N/A"}},{"$f":"MATCH(W$4,Millwall!$AB151:$AP151,0)","v":{"$error":"#N/A"}},{"$f":"MATCH(X$4,Millwall!$AB151:$AP151,0)","v":{"$error":"#N/A"}},{"$f":"MATCH(Y$4,Millwall!$AB151:$AP151,0)","v":{"$error":"#N/A"}},{"$f":"MATCH(Z$4,Millwall!$AB151:$AP151,0)","v":{"$error":"#N/A"}},{"$f":"MATCH(AA$4,Millwall!$AB151:$AP151,0)","v":{"$error":"#N/A"}},{"$f":"MATCH(AB$4,Millwall!$AB151:$AP151,0)","v":{"$error":"#N/A"}},{"$f":"MATCH(AC$4,Millwall!$AB151:$AP151,0)","v":{"$error":"#N/A"}},{"$f":"MATCH(AD$4,Millwall!$AB151:$AP151,0)","v":{"$error":"#N/A"}},{"$f":"MATCH(AE$4,Millwall!$AB151:$AP151,0)","v":{"$error":"#N/A"}},{"$f":"MATCH(AF$4,Millwall!$AB151:$AP151,0)","v":{"$error":"#N/A"}},{"$f":"MATCH(AG$4,Millwall!$AB151:$AP151,0)","v":{"$error":"#N/A"}},{"$f":"MATCH(AH$4,Millwall!$AB151:$AP151,0)","v":{"$error":"#N/A"}},{"$f":"MATCH(AI$4,Millwall!$AB151:$AP151,0)","v":{"$error":"#N/A"}},{"$f":"MATCH(AJ$4,Millwall!$AB151:$AP151,0)","v":{"$error":"#N/A"}},{"$f":"MATCH(AK$4,Millwall!$AB151:$AP151,0)","v":{"$error":"#N/A"}},{"$f":"MATCH(AL$4,Millwall!$AB151:$AP151,0)","v":{"$error":"#N/A"}},{"$f":"MATCH(AM$4,Millwall!$AB151:$AP151,0)","v":{"$error":"#N/A"}},{"$f":"MATCH(AN$4,Millwall!$AB151:$AP151,0)","v":{"$error":"#N/A"}},{"$f":"MATCH(AO$4,Millwall!$AB151:$AP151,0)","v":{"$error":"#N/A"}},{"$f":"MATCH(AP$4,Millwall!$AB151:$AP151,0)","v":{"$error":"#N/A"}},{"$f":"MATCH(AQ$4,Millwall!$AB151:$AP151,0)","v":{"$error":"#N/A"}},{"$f":"MATCH(AR$4,Millwall!$AB151:$AP151,0)","v":{"$error":"#N/A"}},null,null,null,null,null,{"$f":"MATCH(AX$3,Millwall!$AB151:$AP151,0)","v":{"$error":"#N/A"}},{"$f":"MATCH(AY$3,Millwall!$AB151:$AP151,0)","v":{"$error":"#N/A"}},{"$f":"MATCH(AZ$3,Millwall!$AB151:$AP151,0)","v":{"$error":"#N/A"}},{"$f":"MATCH(BA$3,Millwall!$AB151:$AP151,0)","v":{"$error":"#N/A"}},{"$f":"MATCH(BB$3,Millwall!$AB151:$AP151,0)","v":{"$error":"#N/A"}},{"$f":"MATCH(BC$3,Millwall!$AB151:$AP151,0)","v":{"$error":"#N/A"}},{"$f":"MATCH(BD$3,Millwall!$AB151:$AP151,0)","v":{"$error":"#N/A"}},{"$f":"MATCH(BE$3,Millwall!$AB151:$AP151,0)","v":{"$error":"#N/A"}},{"$f":"MATCH(BF$3,Millwall!$AB151:$AP151,0)","v":{"$error":"#N/A"}},{"$f":"MATCH(BG$3,Millwall!$AB151:$AP151,0)","v":{"$error":"#N/A"}},{"$f":"MATCH(BH$3,Millwall!$AB151:$AP151,0)","v":{"$error":"#N/A"}},{"$f":"MATCH(BI$3,Millwall!$AB151:$AP151,0)","v":{"$error":"#N/A"}},{"$f":"MATCH(BJ$3,Millwall!$AB151:$AP151,0)","v":{"$error":"#N/A"}},{"$f":"MATCH(BK$3,Millwall!$AB151:$AP151,0)","v":{"$error":"#N/A"}},{"$f":"MATCH(BL$3,Millwall!$AB151:$AP151,0)","v":{"$error":"#N/A"}},{"$f":"MATCH(BM$3,Millwall!$AB151:$AP151,0)","v":{"$error":"#N/A"}},{"$f":"MATCH(BN$3,Millwall!$AB151:$AP151,0)","v":{"$error":"#N/A"}},{"$f":"MATCH(BO$3,Millwall!$AB151:$AP151,0)","v":{"$error":"#N/A"}},{"$f":"MATCH(BP$3,Millwall!$AB151:$AP151,0)","v":{"$error":"#N/A"}},{"$f":"MATCH(BQ$3,Millwall!$AB151:$AP151,0)","v":{"$error":"#N/A"}},{"$f":"MATCH(BR$3,Millwall!$AB151:$AP151,0)","v":{"$error":"#N/A"}},{"$f":"MATCH(BS$3,Millwall!$AB151:$AP151,0)","v":{"$error":"#N/A"}},{"$f":"MATCH(BT$3,Millwall!$AB151:$AP151,0)","v":{"$error":"#N/A"}},{"$f":"MATCH(BU$3,Millwall!$AB151:$AP151,0)","v":{"$error":"#N/A"}},{"$f":"MATCH(BV$3,Millwall!$AB151:$AP151,0)","v":{"$error":"#N/A"}},{"$f":"MATCH(BW$3,Millwall!$AB151:$AP151,0)","v":{"$error":"#N/A"}},{"$f":"MATCH(BX$3,Millwall!$AB151:$AP151,0)","v":{"$error":"#N/A"}},{"$f":"MATCH(BY$3,Millwall!$AB151:$AP151,0)","v":{"$error":"#N/A"}},{"$f":"MATCH(BZ$3,Millwall!$AB151:$AP151,0)","v":{"$error":"#N/A"}},{"$f":"MATCH(CA$3,Millwall!$AB151:$AP151,0)","v":{"$error":"#N/A"}},{"$f":"MATCH(CB$3,Millwall!$AB151:$AP151,0)","v":{"$error":"#N/A"}},{"$f":"MATCH(CC$3,Millwall!$AB151:$AP151,0)","v":{"$error":"#N/A"}},{"$f":"MATCH(CD$3,Millwall!$AB151:$AP151,0)","v":{"$error":"#N/A"}},{"$f":"MATCH(CE$3,Millwall!$AB151:$AP151,0)","v":{"$error":"#N/A"}},null,null,{"$f":"MATCH($CH$3,Millwall!$AB$151:$AP$151,0)","v":{"$error":"#N/A"}},{"$f":"MATCH($CI$3,Millwall!$AB$151:$AP$151,0)","v":{"$error":"#N/A"}},{"$f":"MATCH($CJ$3,Millwall!$AB$151:$AP$151,0)","v":{"$error":"#N/A"}},{"$f":"MATCH($CK$3,Millwall!$AB$151:$AP$151,0)","v":{"$error":"#N/A"}},{"$f":"MATCH($CL$3,Millwall!$AB$151:$AP$151,0)","v":{"$error":"#N/A"}},{"$f":"MATCH($CM$3,Millwall!$AB$151:$AP$151,0)","v":{"$error":"#N/A"}},{"$f":"MATCH($CN$3,Millwall!$AB$151:$AP$151,0)","v":{"$error":"#N/A"}},{"$f":"MATCH($CO$3,Millwall!$AB$151:$AP$151,0)","v":{"$error":"#N/A"}},{"$f":"MATCH($CP$3,Millwall!$AB$151:$AP$151,0)","v":{"$error":"#N/A"}},{"$f":"MATCH($CQ$3,Millwall!$AB$151:$AP$151,0)","v":{"$error":"#N/A"}},{"$f":"MATCH($CR$3,Millwall!$AB$151:$AP$151,0)","v":{"$error":"#N/A"}},{"$f":"MATCH($CS$3,Millwall!$AB$151:$AP$151,0)","v":{"$error":"#N/A"}},{"$f":"MATCH($CT$3,Millwall!$AB$151:$AP$151,0)","v":{"$error":"#N/A"}},{"$f":"MATCH($CU$3,Millwall!$AB$151:$AP$151,0)","v":{"$error":"#N/A"}},{"$f":"MATCH($CV$3,Millwall!$AB$151:$AP$151,0)","v":{"$error":"#N/A"}},{"$f":"MATCH($CW$3,Millwall!$AB$151:$AP$151,0)","v":{"$error":"#N/A"}},{"$f":"MATCH($CX$3,Millwall!$AB$151:$AP$151,0)","v":{"$error":"#N/A"}},{"$f":"MATCH($CY$3,Millwall!$AB$151:$AP$151,0)","v":{"$error":"#N/A"}},{"$f":"MATCH($CZ$3,Millwall!$AB$151:$AP$151,0)","v":{"$error":"#N/A"}},{"$f":"MATCH($DA$3,Millwall!$AB$151:$AP$151,0)","v":{"$error":"#N/A"}},{"$f":"MATCH($DB$3,Millwall!$AB$151:$AP$151,0)","v":{"$error":"#N/A"}},{"$f":"MATCH($DC$3,Millwall!$AB$151:$AP$151,0)","v":{"$error":"#N/A"}},{"$f":"MATCH($DD$3,Millwall!$AB$151:$AP$151,0)","v":{"$error":"#N/A"}},{"$f":"MATCH($DE$3,Millwall!$AB$151:$AP$151,0)","v":{"$error":"#N/A"}},{"$f":"MATCH($DF$3,Millwall!$AB$151:$AP$151,0)","v":{"$error":"#N/A"}},{"$f":"MATCH($DG$3,Millwall!$AB$151:$AP$151,0)","v":{"$error":"#N/A"}},{"$f":"MATCH($DH$3,Millwall!$AB$151:$AP$151,0)","v":{"$error":"#N/A"}},{"$f":"MATCH($DI$3,Millwall!$AB$151:$AP$151,0)","v":{"$error":"#N/A"}},{"$f":"MATCH($DJ$3,Millwall!$AB$151:$AP$151,0)","v":{"$error":"#N/A"}},{"$f":"MATCH($DK$3,Millwall!$AB$151:$AP$151,0)","v":{"$error":"#N/A"}},{"$f":"MATCH($DL$3,Millwall!$AB$151:$AP$151,0)","v":{"$error":"#N/A"}},{"$f":"MATCH($DM$3,Millwall!$AB$151:$AP$151,0)","v":{"$error":"#N/A"}},{"$f":"MATCH($DN$3,Millwall!$AB$151:$AP$151,0)","v":{"$error":"#N/A"}},{"$f":"MATCH($DO$3,Millwall!$AB$151:$AP$151,0)","v":{"$error":"#N/A"}}]
[null,null,1,null,null,{"$f":"Millwall!X152","v":"00:00:00"},null,{"$f":"Millwall!Y152","v":"00:00:00"},{"$f":"Millwall!Z152","v":"00:00:00"},{"$f":"Millwall!AA152","v":0},{"$f":"MATCH(K$4,Millwall!$AB152:$AP152,0)","v":{"$error":"#N/A"}},{"$f":"MATCH(L$4,Millwall!$AB152:$AP152,0)","v":{"$error":"#N/A"}},{"$f":"MATCH(M$4,Millwall!$AB152:$AP152,0)","v":{"$error":"#N/A"}},{"$f":"MATCH(N$4,Millwall!$AB152:$AP152,0)","v":{"$error":"#N/A"}},{"$f":"MATCH(O$4,Millwall!$AB152:$AP152,0)","v":{"$error":"#N/A"}},{"$f":"MATCH(P$4,Millwall!$AB152:$AP152,0)","v":{"$error":"#N/A"}},{"$f":"MATCH(Q$4,Millwall!$AB152:$AP152,0)","v":{"$error":"#N/A"}},{"$f":"MATCH(R$4,Millwall!$AB152:$AP152,0)","v":{"$error":"#N/A"}},{"$f":"MATCH(S$4,Millwall!$AB152:$AP152,0)","v":{"$error":"#N/A"}},{"$f":"MATCH(T$4,Millwall!$AB152:$AP152,0)","v":{"$error":"#N/A"}},{"$f":"MATCH(U$4,Millwall!$AB152:$AP152,0)","v":{"$error":"#N/A"}},{"$f":"MATCH(V$4,Millwall!$AB152:$AP152,0)","v":{"$error":"#N/A"}},{"$f":"MATCH(W$4,Millwall!$AB152:$AP152,0)","v":{"$error":"#N/A"}},{"$f":"MATCH(X$4,Millwall!$AB152:$AP152,0)","v":{"$error":"#N/A"}},{"$f":"MATCH(Y$4,Millwall!$AB152:$AP152,0)","v":{"$error":"#N/A"}},{"$f":"MATCH(Z$4,Millwall!$AB152:$AP152,0)","v":{"$error":"#N/A"}},{"$f":"MATCH(AA$4,Millwall!$AB152:$AP152,0)","v":{"$error":"#N/A"}},{"$f":"MATCH(AB$4,Millwall!$AB152:$AP152,0)","v":{"$error":"#N/A"}},{"$f":"MATCH(AC$4,Millwall!$AB152:$AP152,0)","v":{"$error":"#N/A"}},{"$f":"MATCH(AD$4,Millwall!$AB152:$AP152,0)","v":{"$error":"#N/A"}},{"$f":"MATCH(AE$4,Millwall!$AB152:$AP152,0)","v":{"$error":"#N/A"}},{"$f":"MATCH(AF$4,Millwall!$AB152:$AP152,0)","v":{"$error":"#N/A"}},{"$f":"MATCH(AG$4,Millwall!$AB152:$AP152,0)","v":{"$error":"#N/A"}},{"$f":"MATCH(AH$4,Millwall!$AB152:$AP152,0)","v":{"$error":"#N/A"}},{"$f":"MATCH(AI$4,Millwall!$AB152:$AP152,0)","v":{"$error":"#N/A"}},{"$f":"MATCH(AJ$4,Millwall!$AB152:$AP152,0)","v":{"$error":"#N/A"}},{"$f":"MATCH(AK$4,Millwall!$AB152:$AP152,0)","v":{"$error":"#N/A"}},{"$f":"MATCH(AL$4,Millwall!$AB152:$AP152,0)","v":{"$error":"#N/A"}},{"$f":"MATCH(AM$4,Millwall!$AB152:$AP152,0)","v":{"$error":"#N/A"}},{"$f":"MATCH(AN$4,Millwall!$AB152:$AP152,0)","v":{"$error":"#N/A"}},{"$f":"MATCH(AO$4,Millwall!$AB152:$AP152,0)","v":{"$error":"#N/A"}},{"$f":"MATCH(AP$4,Millwall!$AB152:$AP152,0)","v":{"$error":"#N/A"}},{"$f":"MATCH(AQ$4,Millwall!$AB152:$AP152,0)","v":{"$error":"#N/A"}},{"$f":"MATCH(AR$4,Millwall!$AB152:$AP152,0)","v":{"$error":"#N/A"}},null,null,null,null,null,{"$f":"MATCH(AX$3,Millwall!$AB152:$AP152,0)","v":{"$error":"#N/A"}},{"$f":"MATCH(AY$3,Millwall!$AB152:$AP152,0)","v":{"$error":"#N/A"}},{"$f":"MATCH(AZ$3,Millwall!$AB152:$AP152,0)","v":{"$error":"#N/A"}},{"$f":"MATCH(BA$3,Millwall!$AB152:$AP152,0)","v":{"$error":"#N/A"}},{"$f":"MATCH(BB$3,Millwall!$AB152:$AP152,0)","v":{"$error":"#N/A"}},{"$f":"MATCH(BC$3,Millwall!$AB152:$AP152,0)","v":{"$error":"#N/A"}},{"$f":"MATCH(BD$3,Millwall!$AB152:$AP152,0)","v":{"$error":"#N/A"}},{"$f":"MATCH(BE$3,Millwall!$AB152:$AP152,0)","v":{"$error":"#N/A"}},{"$f":"MATCH(BF$3,Millwall!$AB152:$AP152,0)","v":{"$error":"#N/A"}},{"$f":"MATCH(BG$3,Millwall!$AB152:$AP152,0)","v":{"$error":"#N/A"}},{"$f":"MATCH(BH$3,Millwall!$AB152:$AP152,0)","v":{"$error":"#N/A"}},{"$f":"MATCH(BI$3,Millwall!$AB152:$AP152,0)","v":{"$error":"#N/A"}},{"$f":"MATCH(BJ$3,Millwall!$AB152:$AP152,0)","v":{"$error":"#N/A"}},{"$f":"MATCH(BK$3,Millwall!$AB152:$AP152,0)","v":{"$error":"#N/A"}},{"$f":"MATCH(BL$3,Millwall!$AB152:$AP152,0)","v":{"$error":"#N/A"}},{"$f":"MATCH(BM$3,Millwall!$AB152:$AP152,0)","v":{"$error":"#N/A"}},{"$f":"MATCH(BN$3,Millwall!$AB152:$AP152,0)","v":{"$error":"#N/A"}},{"$f":"MATCH(BO$3,Millwall!$AB152:$AP152,0)","v":{"$error":"#N/A"}},{"$f":"MATCH(BP$3,Millwall!$AB152:$AP152,0)","v":{"$error":"#N/A"}},{"$f":"MATCH(BQ$3,Millwall!$AB152:$AP152,0)","v":{"$error":"#N/A"}},{"$f":"MATCH(BR$3,Millwall!$AB152:$AP152,0)","v":{"$error":"#N/A"}},{"$f":"MATCH(BS$3,Millwall!$AB152:$AP152,0)","v":{"$error":"#N/A"}},{"$f":"MATCH(BT$3,Millwall!$AB152:$AP152,0)","v":{"$error":"#N/A"}},{"$f":"MATCH(BU$3,Millwall!$AB152:$AP152,0)","v":{"$error":"#N/A"}},{"$f":"MATCH(BV$3,Millwall!$AB152:$AP152,0)","v":{"$error":"#N/A"}},{"$f":"MATCH(BW$3,Millwall!$AB152:$AP152,0)","v":{"$error":"#N/A"}},{"$f":"MATCH(BX$3,Millwall!$AB152:$AP152,0)","v":{"$error":"#N/A"}},{"$f":"MATCH(BY$3,Millwall!$AB152:$AP152,0)","v":{"$error":"#N/A"}},{"$f":"MATCH(BZ$3,Millwall!$AB152:$AP152,0)","v":{"$error":"#N/A"}},{"$f":"MATCH(CA$3,Millwall!$AB152:$AP152,0)","v":{"$error":"#N/A"}},{"$f":"MATCH(CB$3,Millwall!$AB152:$AP152,0)","v":{"$error":"#N/A"}},{"$f":"MATCH(CC$3,Millwall!$AB152:$AP152,0)","v":{"$error":"#N/A"}},{"$f":"MATCH(CD$3,Millwall!$AB152:$AP152,0)","v":{"$error":"#N/A"}},{"$f":"MATCH(CE$3,Millwall!$AB152:$AP152,0)","v":{"$error":"#N/A"}},null,null,{"$f":"MATCH($CH$3,Millwall!$AB$152:$AP$152,0)","v":{"$error":"#N/A"}},{"$f":"MATCH($CI$3,Millwall!$AB$152:$AP$152,0)","v":{"$error":"#N/A"}},{"$f":"MATCH($CJ$3,Millwall!$AB$152:$AP$152,0)","v":{"$error":"#N/A"}},{"$f":"MATCH($CK$3,Millwall!$AB$152:$AP$152,0)","v":{"$error":"#N/A"}},{"$f":"MATCH($CL$3,Millwall!$AB$152:$AP$152,0)","v":{"$error":"#N/A"}},{"$f":"MATCH($CM$3,Millwall!$AB$152:$AP$152,0)","v":{"$error":"#N/A"}},{"$f":"MATCH($CN$3,Millwall!$AB$152:$AP$152,0)","v":{"$error":"#N/A"}},{"$f":"MATCH($CO$3,Millwall!$AB$152:$AP$152,0)","v":{"$error":"#N/A"}},{"$f":"MATCH($CP$3,Millwall!$AB$152:$AP$152,0)","v":{"$error":"#N/A"}},{"$f":"MATCH($CQ$3,Millwall!$AB$152:$AP$152,0)","v":{"$error":"#N/A"}},{"$f":"MATCH($CR$3,Millwall!$AB$152:$AP$152,0)","v":{"$error":"#N/A"}},{"$f":"MATCH($CS$3,Millwall!$AB$152:$AP$152,0)","v":{"$error":"#N/A"}},{"$f":"MATCH($CT$3,Millwall!$AB$152:$AP$152,0)","v":{"$error":"#N/A"}},{"$f":"MATCH($CU$3,Millwall!$AB$152:$AP$152,0)","v":{"$error":"#N/A"}},{"$f":"MATCH($CV$3,Millwall!$AB$152:$AP$152,0)","v":{"$error":"#N/A"}},{"$f":"MATCH($CW$3,Millwall!$AB$152:$AP$152,0)","v":{"$error":"#N/A"}},{"$f":"MATCH($CX$3,Millwall!$AB$152:$AP$152,0)","v":{"$error":"#N/A"}},{"$f":"MATCH($CY$3,Millwall!$AB$152:$AP$152,0)","v":{"$error":"#N/A"}},{"$f":"MATCH($CZ$3,Millwall!$AB$152:$AP$152,0)","v":{"$error":"#N/A"}},{"$f":"MATCH($DA$3,Millwall!$AB$152:$AP$152,0)","v":{"$error":"#N/A"}},{"$f":"MATCH($DB$3,Millwall!$AB$152:$AP$152,0)","v":{"$error":"#N/A"}},{"$f":"MATCH($DC$3,Millwall!$AB$152:$AP$152,0)","v":{"$error":"#N/A"}},{"$f":"MATCH($DD$3,Millwall!$AB$152:$AP$152,0)","v":{"$error":"#N/A"}},{"$f":"MATCH($DE$3,Millwall!$AB$152:$AP$152,0)","v":{"$error":"#N/A"}},{"$f":"MATCH($DF$3,Millwall!$AB$152:$AP$152,0)","v":{"$error":"#N/A"}},{"$f":"MATCH($DG$3,Millwall!$AB$152:$AP$152,0)","v":{"$error":"#N/A"}},{"$f":"MATCH($DH$3,Millwall!$AB$152:$AP$152,0)","v":{"$error":"#N/A"}},{"$f":"MATCH($DI$3,Millwall!$AB$152:$AP$152,0)","v":{"$error":"#N/A"}},{"$f":"MATCH($DJ$3,Millwall!$AB$152:$AP$152,0)","v":{"$error":"#N/A"}},{"$f":"MATCH($DK$3,Millwall!$AB$152:$AP$152,0)","v":{"$error":"#N/A"}},{"$f":"MATCH($DL$3,Millwall!$AB$152:$AP$152,0)","v":{"$error":"#N/A"}},{"$f":"MATCH($DM$3,Millwall!$AB$152:$AP$152,0)","v":{"$error":"#N/A"}},{"$f":"MATCH($DN$3,Millwall!$AB$152:$AP$152,0)","v":{"$error":"#N/A"}},{"$f":"MATCH($DO$3,Millwall!$AB$152:$AP$152,0)","v":{"$error":"#N/A"}}]
[null,null,1,null,null,{"$f":"Millwall!X153","v":"00:00:00"},null,{"$f":"Millwall!Y153","v":"00:00:00"},{"$f":"Millwall!Z153","v":"00:00:00"},{"$f":"Millwall!AA153","v":0},{"$f":"MATCH(K$4,Millwall!$AB153:$AP153,0)","v":{"$error":"#N/A"}},{"$f":"MATCH(L$4,Millwall!$AB153:$AP153,0)","v":{"$error":"#N/A"}},{"$f":"MATCH(M$4,Millwall!$AB153:$AP153,0)","v":{"$error":"#N/A"}},{"$f":"MATCH(N$4,Millwall!$AB153:$AP153,0)","v":{"$error":"#N/A"}},{"$f":"MATCH(O$4,Millwall!$AB153:$AP153,0)","v":{"$error":"#N/A"}},{"$f":"MATCH(P$4,Millwall!$AB153:$AP153,0)","v":{"$error":"#N/A"}},{"$f":"MATCH(Q$4,Millwall!$AB153:$AP153,0)","v":{"$error":"#N/A"}},{"$f":"MATCH(R$4,Millwall!$AB153:$AP153,0)","v":{"$error":"#N/A"}},{"$f":"MATCH(S$4,Millwall!$AB153:$AP153,0)","v":{"$error":"#N/A"}},{"$f":"MATCH(T$4,Millwall!$AB153:$AP153,0)","v":{"$error":"#N/A"}},{"$f":"MATCH(U$4,Millwall!$AB153:$AP153,0)","v":{"$error":"#N/A"}},{"$f":"MATCH(V$4,Millwall!$AB153:$AP153,0)","v":{"$error":"#N/A"}},{"$f":"MATCH(W$4,Millwall!$AB153:$AP153,0)","v":{"$error":"#N/A"}},{"$f":"MATCH(X$4,Millwall!$AB153:$AP153,0)","v":{"$error":"#N/A"}},{"$f":"MATCH(Y$4,Millwall!$AB153:$AP153,0)","v":{"$error":"#N/A"}},{"$f":"MATCH(Z$4,Millwall!$AB153:$AP153,0)","v":{"$error":"#N/A"}},{"$f":"MATCH(AA$4,Millwall!$AB153:$AP153,0)","v":{"$error":"#N/A"}},{"$f":"MATCH(AB$4,Millwall!$AB153:$AP153,0)","v":{"$error":"#N/A"}},{"$f":"MATCH(AC$4,Millwall!$AB153:$AP153,0)","v":{"$error":"#N/A"}},{"$f":"MATCH(AD$4,Millwall!$AB153:$AP153,0)","v":{"$error":"#N/A"}},{"$f":"MATCH(AE$4,Millwall!$AB153:$AP153,0)","v":{"$error":"#N/A"}},{"$f":"MATCH(AF$4,Millwall!$AB153:$AP153,0)","v":{"$error":"#N/A"}},{"$f":"MATCH(AG$4,Millwall!$AB153:$AP153,0)","v":{"$error":"#N/A"}},{"$f":"MATCH(AH$4,Millwall!$AB153:$AP153,0)","v":{"$error":"#N/A"}},{"$f":"MATCH(AI$4,Millwall!$AB153:$AP153,0)","v":{"$error":"#N/A"}},{"$f":"MATCH(AJ$4,Millwall!$AB153:$AP153,0)","v":{"$error":"#N/A"}},{"$f":"MATCH(AK$4,Millwall!$AB153:$AP153,0)","v":{"$error":"#N/A"}},{"$f":"MATCH(AL$4,Millwall!$AB153:$AP153,0)","v":{"$error":"#N/A"}},{"$f":"MATCH(AM$4,Millwall!$AB153:$AP153,0)","v":{"$error":"#N/A"}},{"$f":"MATCH(AN$4,Millwall!$AB153:$AP153,0)","v":{"$error":"#N/A"}},{"$f":"MATCH(AO$4,Millwall!$AB153:$AP153,0)","v":{"$error":"#N/A"}},{"$f":"MATCH(AP$4,Millwall!$AB153:$AP153,0)","v":{"$error":"#N/A"}},{"$f":"MATCH(AQ$4,Millwall!$AB153:$AP153,0)","v":{"$error":"#N/A"}},{"$f":"MATCH(AR$4,Millwall!$AB153:$AP153,0)","v":{"$error":"#N/A"}},null,null,null,null,null,{"$f":"MATCH(AX$3,Millwall!$AB153:$AP153,0)","v":{"$error":"#N/A"}},{"$f":"MATCH(AY$3,Millwall!$AB153:$AP153,0)","v":{"$error":"#N/A"}},{"$f":"MATCH(AZ$3,Millwall!$AB153:$AP153,0)","v":{"$error":"#N/A"}},{"$f":"MATCH(BA$3,Millwall!$AB153:$AP153,0)","v":{"$error":"#N/A"}},{"$f":"MATCH(BB$3,Millwall!$AB153:$AP153,0)","v":{"$error":"#N/A"}},{"$f":"MATCH(BC$3,Millwall!$AB153:$AP153,0)","v":{"$error":"#N/A"}},{"$f":"MATCH(BD$3,Millwall!$AB153:$AP153,0)","v":{"$error":"#N/A"}},{"$f":"MATCH(BE$3,Millwall!$AB153:$AP153,0)","v":{"$error":"#N/A"}},{"$f":"MATCH(BF$3,Millwall!$AB153:$AP153,0)","v":{"$error":"#N/A"}},{"$f":"MATCH(BG$3,Millwall!$AB153:$AP153,0)","v":{"$error":"#N/A"}},{"$f":"MATCH(BH$3,Millwall!$AB153:$AP153,0)","v":{"$error":"#N/A"}},{"$f":"MATCH(BI$3,Millwall!$AB153:$AP153,0)","v":{"$error":"#N/A"}},{"$f":"MATCH(BJ$3,Millwall!$AB153:$AP153,0)","v":{"$error":"#N/A"}},{"$f":"MATCH(BK$3,Millwall!$AB153:$AP153,0)","v":{"$error":"#N/A"}},{"$f":"MATCH(BL$3,Millwall!$AB153:$AP153,0)","v":{"$error":"#N/A"}},{"$f":"MATCH(BM$3,Millwall!$AB153:$AP153,0)","v":{"$error":"#N/A"}},{"$f":"MATCH(BN$3,Millwall!$AB153:$AP153,0)","v":{"$error":"#N/A"}},{"$f":"MATCH(BO$3,Millwall!$AB153:$AP153,0)","v":{"$error":"#N/A"}},{"$f":"MATCH(BP$3,Millwall!$AB153:$AP153,0)","v":{"$error":"#N/A"}},{"$f":"MATCH(BQ$3,Millwall!$AB153:$AP153,0)","v":{"$error":"#N/A"}},{"$f":"MATCH(BR$3,Millwall!$AB153:$AP153,0)","v":{"$error":"#N/A"}},{"$f":"MATCH(BS$3,Millwall!$AB153:$AP153,0)","v":{"$error":"#N/A"}},{"$f":"MATCH(BT$3,Millwall!$AB153:$AP153,0)","v":{"$error":"#N/A"}},{"$f":"MATCH(BU$3,Millwall!$AB153:$AP153,0)","v":{"$error":"#N/A"}},{"$f":"MATCH(BV$3,Millwall!$AB153:$AP153,0)","v":{"$error":"#N/A"}},{"$f":"MATCH(BW$3,Millwall!$AB153:$AP153,0)","v":{"$error":"#N/A"}},{"$f":"MATCH(BX$3,Millwall!$AB153:$AP153,0)","v":{"$error":"#N/A"}},{"$f":"MATCH(BY$3,Millwall!$AB153:$AP153,0)","v":{"$error":"#N/A"}},{"$f":"MATCH(BZ$3,Millwall!$AB153:$AP153,0)","v":{"$error":"#N/A"}},{"$f":"MATCH(CA$3,Millwall!$AB153:$AP153,0)","v":{"$error":"#N/A"}},{"$f":"MATCH(CB$3,Millwall!$AB153:$AP153,0)","v":{"$error":"#N/A"}},{"$f":"MATCH(CC$3,Millwall!$AB153:$AP153,0)","v":{"$error":"#N/A"}},{"$f":"MATCH(CD$3,Millwall!$AB153:$AP153,0)","v":{"$error":"#N/A"}},{"$f":"MATCH(CE$3,Millwall!$AB153:$AP153,0)","v":{"$error":"#N/A"}},null,null,{"$f":"MATCH($CH$3,Millwall!$AB$153:$AP$153,0)","v":{"$error":"#N/A"}},{"$f":"MATCH($CI$3,Millwall!$AB$153:$AP$153,0)","v":{"$error":"#N/A"}},{"$f":"MATCH($CJ$3,Millwall!$AB$153:$AP$153,0)","v":{"$error":"#N/A"}},{"$f":"MATCH($CK$3,Millwall!$AB$153:$AP$153,0)","v":{"$error":"#N/A"}},{"$f":"MATCH($CL$3,Millwall!$AB$153:$AP$153,0)","v":{"$error":"#N/A"}},{"$f":"MATCH($CM$3,Millwall!$AB$153:$AP$153,0)","v":{"$error":"#N/A"}},{"$f":"MATCH($CN$3,Millwall!$AB$153:$AP$153,0)","v":{"$error":"#N/A"}},{"$f":"MATCH($CO$3,Millwall!$AB$153:$AP$153,0)","v":{"$error":"#N/A"}},{"$f":"MATCH($CP$3,Millwall!$AB$153:$AP$153,0)","v":{"$error":"#N/A"}},{"$f":"MATCH($CQ$3,Millwall!$AB$153:$AP$153,0)","v":{"$error":"#N/A"}},{"$f":"MATCH($CR$3,Millwall!$AB$153:$AP$153,0)","v":{"$error":"#N/A"}},{"$f":"MATCH($CS$3,Millwall!$AB$153:$AP$153,0)","v":{"$error":"#N/A"}},{"$f":"MATCH($CT$3,Millwall!$AB$153:$AP$153,0)","v":{"$error":"#N/A"}},{"$f":"MATCH($CU$3,Millwall!$AB$153:$AP$153,0)","v":{"$error":"#N/A"}},{"$f":"MATCH($CV$3,Millwall!$AB$153:$AP$153,0)","v":{"$error":"#N/A"}},{"$f":"MATCH($CW$3,Millwall!$AB$153:$AP$153,0)","v":{"$error":"#N/A"}},{"$f":"MATCH($CX$3,Millwall!$AB$153:$AP$153,0)","v":{"$error":"#N/A"}},{"$f":"MATCH($CY$3,Millwall!$AB$153:$AP$153,0)","v":{"$error":"#N/A"}},{"$f":"MATCH($CZ$3,Millwall!$AB$153:$AP$153,0)","v":{"$error":"#N/A"}},{"$f":"MATCH($DA$3,Millwall!$AB$153:$AP$153,0)","v":{"$error":"#N/A"}},{"$f":"MATCH($DB$3,Millwall!$AB$153:$AP$153,0)","v":{"$error":"#N/A"}},{"$f":"MATCH($DC$3,Millwall!$AB$153:$AP$153,0)","v":{"$error":"#N/A"}},{"$f":"MATCH($DD$3,Millwall!$AB$153:$AP$153,0)","v":{"$error":"#N/A"}},{"$f":"MATCH($DE$3,Millwall!$AB$153:$AP$153,0)","v":{"$error":"#N/A"}},{"$f":"MATCH($DF$3,Millwall!$AB$153:$AP$153,0)","v":{"$error":"#N/A"}},{"$f":"MATCH($DG$3,Millwall!$AB$153:$AP$153,0)","v":{"$error":"#N/A"}},{"$f":"MATCH($DH$3,Millwall!$AB$153:$AP$153,0)","v":{"$error":"#N/A"}},{"$f":"MATCH($DI$3,Millwall!$AB$153:$AP$153,0)","v":{"$error":"#N/A"}},{"$f":"MATCH($DJ$3,Millwall!$AB$153:$AP$153,0)","v":{"$error":"#N/A"}},{"$f":"MATCH($DK$3,Millwall!$AB$153:$AP$153,0)","v":{"$error":"#N/A"}},{"$f":"MATCH($DL$3,Millwall!$AB$153:$AP$153,0)","v":{"$error":"#N/A"}},{"$f":"MATCH($DM$3,Millwall!$AB$153:$AP$153,0)","v":{"$error":"#N/A"}},{"$f":"MATCH($DN$3,Millwall!$AB$153:$AP$153,0)","v":{"$error":"#N/A"}},{"$f":"MATCH($DO$3,Millwall!$AB$153:$AP$153,0)","v":{"$error":"#N/A"}}]
[null,null,1,null,null,{"$f":"Millwall!X154","v":"00:00:00"},null,{"$f":"Millwall!Y154","v":"00:00:00"},{"$f":"Millwall!Z154","v":"00:00:00"},{"$f":"Millwall!AA154","v":0},{"$f":"MATCH(K$4,Millwall!$AB154:$AP154,0)","v":{"$error":"#N/A"}},{"$f":"MATCH(L$4,Millwall!$AB154:$AP154,0)","v":{"$error":"#N/A"}},{"$f":"MATCH(M$4,Millwall!$AB154:$AP154,0)","v":{"$error":"#N/A"}},{"$f":"MATCH(N$4,Millwall!$AB154:$AP154,0)","v":{"$error":"#N/A"}},{"$f":"MATCH(O$4,Millwall!$AB154:$AP154,0)","v":{"$error":"#N/A"}},{"$f":"MATCH(P$4,Millwall!$AB154:$AP154,0)","v":{"$error":"#N/A"}},{"$f":"MATCH(Q$4,Millwall!$AB154:$AP154,0)","v":{"$error":"#N/A"}},{"$f":"MATCH(R$4,Millwall!$AB154:$AP154,0)","v":{"$error":"#N/A"}},{"$f":"MATCH(S$4,Millwall!$AB154:$AP154,0)","v":{"$error":"#N/A"}},{"$f":"MATCH(T$4,Millwall!$AB154:$AP154,0)","v":{"$error":"#N/A"}},{"$f":"MATCH(U$4,Millwall!$AB154:$AP154,0)","v":{"$error":"#N/A"}},{"$f":"MATCH(V$4,Millwall!$AB154:$AP154,0)","v":{"$error":"#N/A"}},{"$f":"MATCH(W$4,Millwall!$AB154:$AP154,0)","v":{"$error":"#N/A"}},{"$f":"MATCH(X$4,Millwall!$AB154:$AP154,0)","v":{"$error":"#N/A"}},{"$f":"MATCH(Y$4,Millwall!$AB154:$AP154,0)","v":{"$error":"#N/A"}},{"$f":"MATCH(Z$4,Millwall!$AB154:$AP154,0)","v":{"$error":"#N/A"}},{"$f":"MATCH(AA$4,Millwall!$AB154:$AP154,0)","v":{"$error":"#N/A"}},{"$f":"MATCH(AB$4,Millwall!$AB154:$AP154,0)","v":{"$error":"#N/A"}},{"$f":"MATCH(AC$4,Millwall!$AB154:$AP154,0)","v":{"$error":"#N/A"}},{"$f":"MATCH(AD$4,Millwall!$AB154:$AP154,0)","v":{"$error":"#N/A"}},{"$f":"MATCH(AE$4,Millwall!$AB154:$AP154,0)","v":{"$error":"#N/A"}},{"$f":"MATCH(AF$4,Millwall!$AB154:$AP154,0)","v":{"$error":"#N/A"}},{"$f":"MATCH(AG$4,Millwall!$AB154:$AP154,0)","v":{"$error":"#N/A"}},{"$f":"MATCH(AH$4,Millwall!$AB154:$AP154,0)","v":{"$error":"#N/A"}},{"$f":"MATCH(AI$4,Millwall!$AB154:$AP154,0)","v":{"$error":"#N/A"}},{"$f":"MATCH(AJ$4,Millwall!$AB154:$AP154,0)","v":{"$error":"#N/A"}},{"$f":"MATCH(AK$4,Millwall!$AB154:$AP154,0)","v":{"$error":"#N/A"}},{"$f":"MATCH(AL$4,Millwall!$AB154:$AP154,0)","v":{"$error":"#N/A"}},{"$f":"MATCH(AM$4,Millwall!$AB154:$AP154,0)","v":{"$error":"#N/A"}},{"$f":"MATCH(AN$4,Millwall!$AB154:$AP154,0)","v":{"$error":"#N/A"}},{"$f":"MATCH(AO$4,Millwall!$AB154:$AP154,0)","v":{"$error":"#N/A"}},{"$f":"MATCH(AP$4,Millwall!$AB154:$AP154,0)","v":{"$error":"#N/A"}},{"$f":"MATCH(AQ$4,Millwall!$AB154:$AP154,0)","v":{"$error":"#N/A"}},{"$f":"MATCH(AR$4,Millwall!$AB154:$AP154,0)","v":{"$error":"#N/A"}},null,null,null,null,null,{"$f":"MATCH(AX$3,Millwall!$AB154:$AP154,0)","v":{"$error":"#N/A"}},{"$f":"MATCH(AY$3,Millwall!$AB154:$AP154,0)","v":{"$error":"#N/A"}},{"$f":"MATCH(AZ$3,Millwall!$AB154:$AP154,0)","v":{"$error":"#N/A"}},{"$f":"MATCH(BA$3,Millwall!$AB154:$AP154,0)","v":{"$error":"#N/A"}},{"$f":"MATCH(BB$3,Millwall!$AB154:$AP154,0)","v":{"$error":"#N/A"}},{"$f":"MATCH(BC$3,Millwall!$AB154:$AP154,0)","v":{"$error":"#N/A"}},{"$f":"MATCH(BD$3,Millwall!$AB154:$AP154,0)","v":{"$error":"#N/A"}},{"$f":"MATCH(BE$3,Millwall!$AB154:$AP154,0)","v":{"$error":"#N/A"}},{"$f":"MATCH(BF$3,Millwall!$AB154:$AP154,0)","v":{"$error":"#N/A"}},{"$f":"MATCH(BG$3,Millwall!$AB154:$AP154,0)","v":{"$error":"#N/A"}},{"$f":"MATCH(BH$3,Millwall!$AB154:$AP154,0)","v":{"$error":"#N/A"}},{"$f":"MATCH(BI$3,Millwall!$AB154:$AP154,0)","v":{"$error":"#N/A"}},{"$f":"MATCH(BJ$3,Millwall!$AB154:$AP154,0)","v":{"$error":"#N/A"}},{"$f":"MATCH(BK$3,Millwall!$AB154:$AP154,0)","v":{"$error":"#N/A"}},{"$f":"MATCH(BL$3,Millwall!$AB154:$AP154,0)","v":{"$error":"#N/A"}},{"$f":"MATCH(BM$3,Millwall!$AB154:$AP154,0)","v":{"$error":"#N/A"}},{"$f":"MATCH(BN$3,Millwall!$AB154:$AP154,0)","v":{"$error":"#N/A"}},{"$f":"MATCH(BO$3,Millwall!$AB154:$AP154,0)","v":{"$error":"#N/A"}},{"$f":"MATCH(BP$3,Millwall!$AB154:$AP154,0)","v":{"$error":"#N/A"}},{"$f":"MATCH(BQ$3,Millwall!$AB154:$AP154,0)","v":{"$error":"#N/A"}},{"$f":"MATCH(BR$3,Millwall!$AB154:$AP154,0)","v":{"$error":"#N/A"}},{"$f":"MATCH(BS$3,Millwall!$AB154:$AP154,0)","v":{"$error":"#N/A"}},{"$f":"MATCH(BT$3,Millwall!$AB154:$AP154,0)","v":{"$error":"#N/A"}},{"$f":"MATCH(BU$3,Millwall!$AB154:$AP154,0)","v":{"$error":"#N/A"}},{"$f":"MATCH(BV$3,Millwall!$AB154:$AP154,0)","v":{"$error":"#N/A"}},{"$f":"MATCH(BW$3,Millwall!$AB154:$AP154,0)","v":{"$error":"#N/A"}},{"$f":"MATCH(BX$3,Millwall!$AB154:$AP154,0)","v":{"$error":"#N/A"}},{"$f":"MATCH(BY$3,Millwall!$AB154:$AP154,0)","v":{"$error":"#N/A"}},{"$f":"MATCH(BZ$3,Millwall!$AB154:$AP154,0)","v":{"$error":"#N/A"}},{"$f":"MATCH(CA$3,Millwall!$AB154:$AP154,0)","v":{"$error":"#N/A"}},{"$f":"MATCH(CB$3,Millwall!$AB154:$AP154,0)","v":{"$error":"#N/A"}},{"$f":"MATCH(CC$3,Millwall!$AB154:$AP154,0)","v":{"$error":"#N/A"}},{"$f":"MATCH(CD$3,Millwall!$AB154:$AP154,0)","v":{"$error":"#N/A"}},{"$f":"MATCH(CE$3,Millwall!$AB154:$AP154,0)","v":{"$error":"#N/A"}},null,null,{"$f":"MATCH($CH$3,Millwall!$AB$154:$AP$154,0)","v":{"$error":"#N/A"}},{"$f":"MATCH($CI$3,Millwall!$AB$154:$AP$154,0)","v":{"$error":"#N/A"}},{"$f":"MATCH($CJ$3,Millwall!$AB$154:$AP$154,0)","v":{"$error":"#N/A"}},{"$f":"MATCH($CK$3,Millwall!$AB$154:$AP$154,0)","v":{"$error":"#N/A"}},{"$f":"MATCH($CL$3,Millwall!$AB$154:$AP$154,0)","v":{"$error":"#N/A"}},{"$f":"MATCH($CM$3,Millwall!$AB$154:$AP$154,0)","v":{"$error":"#N/A"}},{"$f":"MATCH($CN$3,Millwall!$AB$154:$AP$154,0)","v":{"$error":"#N/A"}},{"$f":"MATCH($CO$3,Millwall!$AB$154:$AP$154,0)","v":{"$error":"#N/A"}},{"$f":"MATCH($CP$3,Millwall!$AB$154:$AP$154,0)","v":{"$error":"#N/A"}},{"$f":"MATCH($CQ$3,Millwall!$AB$154:$AP$154,0)","v":{"$error":"#N/A"}},{"$f":"MATCH($CR$3,Millwall!$AB$154:$AP$154,0)","v":{"$error":"#N/A"}},{"$f":"MATCH($CS$3,Millwall!$AB$154:$AP$154,0)","v":{"$error":"#N/A"}},{"$f":"MATCH($CT$3,Millwall!$AB$154:$AP$154,0)","v":{"$error":"#N/A"}},{"$f":"MATCH($CU$3,Millwall!$AB$154:$AP$154,0)","v":{"$error":"#N/A"}},{"$f":"MATCH($CV$3,Millwall!$AB$154:$AP$154,0)","v":{"$error":"#N/A"}},{"$f":"MATCH($CW$3,Millwall!$AB$154:$AP$154,0)","v":{"$error":"#N/A"}},{"$f":"MATCH($CX$3,Millwall!$AB$154:$AP$154,0)","v":{"$error":"#N/A"}},{"$f":"MATCH($CY$3,Millwall!$AB$154:$AP$154,0)","v":{"$error":"#N/A"}},{"$f":"MATCH($CZ$3,Millwall!$AB$154:$AP$154,0)","v":{"$error":"#N/A"}},{"$f":"MATCH($DA$3,Millwall!$AB$154:$AP$154,0)","v":{"$error":"#N/A"}},{"$f":"MATCH($DB$3,Millwall!$AB$154:$AP$154,0)","v":{"$error":"#N/A"}},{"$f":"MATCH($DC$3,Millwall!$AB$154:$AP$154,0)","v":{"$error":"#N/A"}},{"$f":"MATCH($DD$3,Millwall!$AB$154:$AP$154,0)","v":{"$error":"#N/A"}},{"$f":"MATCH($DE$3,Millwall!$AB$154:$AP$154,0)","v":{"$error":"#N/A"}},{"$f":"MATCH($DF$3,Millwall!$AB$154:$AP$154,0)","v":{"$error":"#N/A"}},{"$f":"MATCH($DG$3,Millwall!$AB$154:$AP$154,0)","v":{"$error":"#N/A"}},{"$f":"MATCH($DH$3,Millwall!$AB$154:$AP$154,0)","v":{"$error":"#N/A"}},{"$f":"MATCH($DI$3,Millwall!$AB$154:$AP$154,0)","v":{"$error":"#N/A"}},{"$f":"MATCH($DJ$3,Millwall!$AB$154:$AP$154,0)","v":{"$error":"#N/A"}},{"$f":"MATCH($DK$3,Millwall!$AB$154:$AP$154,0)","v":{"$error":"#N/A"}},{"$f":"MATCH($DL$3,Millwall!$AB$154:$AP$154,0)","v":{"$error":"#N/A"}},{"$f":"MATCH($DM$3,Millwall!$AB$154:$AP$154,0)","v":{"$error":"#N/A"}},{"$f":"MATCH($DN$3,Millwall!$AB$154:$AP$154,0)","v":{"$error":"#N/A"}},{"$f":"MATCH($DO$3,Millwall!$AB$154:$AP$154,0)","v":{"$error":"#N/A"}}]
[]
[null,null,null,null,null,null,null,null,null,"Total Anglo Italian Cup Apperances",{"$f":"COUNT($K$91:$K$99)-$K$102-$K$103","v":0},{"$f":"COUNT($L$91:$L$99)-$L$102-$L$103","v":0},{"$f":"COUNT($M$91:$M$99)-$M$102-$M$103","v":0},{"$f":"COUNT($N$91:$N$99)-$N$102-$N$103","v":2},{"$f":"COUNT($O$91:$O$99)-$O$102-$O$103","v":0},{"$f":"COUNT($P$91:$P$99)-$P$102-$P$103","v":1},{"$f":"COUNT($Q$91:$Q$99)-$Q$102-$Q$103","v":2},{"$f":"COUNT($R$91:$R$99)-$R$102-$R$103","v":1},{"$f":"COUNT($S$91:$S$99)-$S$102-$S$103","v":1},{"$f":"COUNT($T$91:$T$99)-$T$102-$T$103","v":0},{"$f":"COUNT($U$91:$U$99)-$U$102-$U$103","v":0},{"$f":"COUNT($V$91:$V$99)-$V$102-$V$103","v":1},{"$f":"COUNT($W$91:$W$99)-$W$102-$W$103","v":2},{"$f":"COUNT($X$91:$X$99)-$X$102-$X$103","v":1},{"$f":"COUNT($Y$91:$Y$99)-$Y$102-$Y$103","v":0},{"$f":"COUNT($Z$91:$Z$99)-$Z$102-$Z$103","v":0},{"$f":"COUNT($AA$91:$AA$99)-$AA$102-$AA$103","v":0},{"$f":"COUNT($AB$91:$AB$99)-$AB$102-$AB$103","v":0},{"$f":"COUNT($AC$91:$AC$99)-$AC$102-$AC$103","v":0},{"$f":"COUNT($AD$91:$AD$99)-$AD$102-$AD$103","v":1},{"$f":"COUNT($AE$91:$AE$99)-$AE$102-$AE$103","v":0},{"$f":"COUNT($AF$91:$AF$99)-$AF$102-$AF$103","v":1},{"$f":"COUNT($AG$91:$AG$99)-$AG$102-$AG$103","v":1},{"$f":"COUNT($AH$91:$AH$99)-$AH$102-$AH$103","v":1},{"$f":"COUNT($AI$91:$AI$99)-$AI$102-$AI$103","v":2},{"$f":"COUNT($AJ$91:$AJ$99)-$AJ$102-$AJ$103","v":2},{"$f":"COUNT($AK$91:$AK$99)-$AK$102-$AK$103","v":1},{"$f":"COUNT($AL$91:$AL$99)-$AL$102-$AL$103","v":2},{"$f":"COUNT($AM$91:$AM$99)-$AM$102-$AM$103","v":0},{"$f":"COUNT($AN$91:$AN$99)-$AN$102-$AN$103","v":0},{"$f":"COUNT($AO$91:$AO$99)-$AO$102-$AO$103","v":0},{"$f":"COUNT($AP$91:$AP$99)-$AP$102-$AP$103","v":0},{"$f":"COUNT($AQ$91:$AQ$99)-$AQ$102-$AQ$103","v":0},{"$f":"COUNT($AR$91:$AR$99)-$AR$102-$AR$103","v":0}]
[null,null,null,null,null,null,null,null,null,"Total Anglo Italian Cup Sub Appearences ",{"$f":"$AX$102+$CH$102","v":0},{"$f":"$AY$102+$CI$102","v":0},{"$f":"$AZ$102+$CJ$102","v":0},{"$f":"$BA$102+$CK$102","v":0},{"$f":"$BB$102+$CL$102","v":0},{"$f":"$BC$102+$CM$102","v":0},{"$f":"$BD$102+$CN$102","v":0},{"$f":"$BE$102+$CO$102","v":0},{"$f":"$BF$102+$CP$102","v":0},{"$f":"$BG$102+$CQ$102","v":1},{"$f":"$BH$102+$CR$102","v":0},{"$f":"$BI$102+$CS$102","v":0},{"$f":"$BJ$102+$CT$102","v":0},{"$f":"$BK$102+$CU$102","v":0},{"$f":"$BL$102+$CV$102","v":0},{"$f":"$BM$102+$CW$102","v":0},{"$f":"$BN$102+$CX$102","v":0},{"$f":"$BO$102+$CY$102","v":1},{"$f":"$BP$102+$CZ$102","v":0},{"$f":"$BQ$102+$DA$102","v":0},{"$f":"$BR$102+$DB$102","v":0},{"$f":"$BS$102+$DC$102","v":0},{"$f":"$BT$102+$DD$102","v":0},{"$f":"$BU$102+$DE$102","v":0},{"$f":"$BV$102+$DF$102","v":0},{"$f":"$BW$102+$DG$102","v":0},{"$f":"$BX$102+$DH$102","v":0},{"$f":"$BY$102+$DI$102","v":0},{"$f":"$BZ$102+$DJ$102","v":0},{"$f":"$CA$102+$DK$102","v":0},{"$f":"$CB$102+$DL$102","v":0},{"$f":"$CC$102+$DM$102","v":0},{"$f":"$CD$102+$DN$102","v":0},{"$f":"$CE$102+$DO$102","v":0},null,null,null,null,null,{"$f":"COUNTIF(AX91:AX99,12)","v":0},{"$f":"COUNTIF(AY91:AY99,12)","v":0},0,0,0,0,0,0,0,1,0,0,0,0,0,0,0,0,0,0,0,0,0,0,0,0,0,0,0,0,0,0,0,0,null,null,{"$f":"COUNTIF(CH91:CH99,14)","v":0},{"$f":"COUNTIF(CI91:CI99,14)","v":0},0,0,0,0,0,0,0,0,0,0,0,0,0,0,0,1,0,0,0,0,0,0,0,0,0,0,0,0,0,0,0,0]
[null,null,null,null,null,null,null,null,null,"Non Playing Substitute",{"$f":"COUNTIF($K$91:$K$99,\">=12\")-$K$102","v":0},{"$f":"COUNTIF($L$91:$L$99,\">=12\")-$L$102","v":0},{"$f":"COUNTIF($M$91:$M$99,\">=12\")-$M$102","v":1},{"$f":"COUNTIF($N$91:$N$99,\">=12\")-$N$102","v":0},{"$f":"COUNTIF($O$91:$O$99,\">=12\")-$O$102","v":0},{"$f":"COUNTIF($P$91:$P$99,\">=12\")-$P$102","v":0},{"$f":"COUNTIF($Q$91:$Q$99,\">=12\")-$Q$102","v":0},{"$f":"COUNTIF($R$91:$R$99,\">=12\")-$R$102","v":0},{"$f":"COUNTIF($S$91:$S$99,\">=12\")-$S$102","v":0},{"$f":"COUNTIF($T$91:$T$99,\">=12\")-$T$102","v":0},{"$f":"COUNTIF($U$91:$U$99,\">=12\")-$U$102","v":0},{"$f":"COUNTIF($V$91:$V$99,\">=12\")-$V$102","v":1},{"$f":"COUNTIF($W$91:$W$99,\">=12\")-$W$102","v":0},{"$f":"COUNTIF($X$91:$X$99,\">=12\")-$X$102","v":0},{"$f":"COUNTIF($Y$91:$Y$99,\">=12\")-$Y$102","v":0},{"$f":"COUNTIF($Z$91:$Z$99,\">=12\")-$Z$102","v":0},{"$f":"COUNTIF($AA$91:$AA$99,\">=12\")-$AA$102","v":0},{"$f":"COUNTIF($AB$91:$AB$99,\">=12\")-$AB$102","v":0},{"$f":"COUNTIF($AC$91:$AC$99,\">=12\")-$AC$102","v":0},{"$f":"COUNTIF($AD$91:$AD$99,\">=12\")-$AD$102","v":0},{"$f":"COUNTIF($AE$91:$AE$99,\">=12\")-$AE$102","v":0},{"$f":"COUNTIF($AF$91:$AF$99,\">=12\")-$AF$102","v":0},{"$f":"COUNTIF($AG$91:$AG$99,\">=12\")-$AG$102","v":0},{"$f":"COUNTIF($AH$91:$AH$99,\">=12\")-$AH$102","v":0},{"$f":"COUNTIF($AI$91:$AI$99,\">=12\")-$AI$102","v":0},{"$f":"COUNTIF($AJ$91:$AJ$99,\">=12\")-$AJ$102","v":0},{"$f":"COUNTIF($AK$91:$AK$99,\">=12\")-$AK$102","v":0},{"$f":"COUNTIF($AL$91:$AL$99,\">=12\")-$AL$102","v":0},{"$f":"COUNTIF($AM$91:$AM$99,\">=12\")-$AM$102","v":0},{"$f":"COUNTIF($AN$91:$AN$99,\">=12\")-$AN$102","v":0},{"$f":"COUNTIF($AO$91:$AO$99,\">=12\")-$AO$102","v":0},{"$f":"COUNTIF($AP$91:$AP$99,\">=12\")-$AP$102","v":0},{"$f":"COUNTIF($AQ$91:$AQ$99,\">=12\")-$AQ$102","v":0},{"$f":"COUNTIF($AR$91:$AR$99,\">=12\")-$AR$102","v":0}]
[null,null,null,null,null,null,null,null,null,"Goals",{"$f":"Millwall!$CN$8","v":0},{"$f":"Millwall!$CN$9","v":0},{"$f":"Millwall!$CN$10","v":0},{"$f":"Millwall!$CN$11","v":0},{"$f":"Millwall!$CN$12","v":0},{"$f":"Millwall!$CN$13","v":0},{"$f":"Millwall!$CN$14","v":1},{"$f":"Millwall!$CN$15","v":0},{"$f":"Millwall!$CN$16","v":0},{"$f":"Millwall!$CN$17","v":0},{"$f":"Millwall!$CN$18","v":0},{"$f":"Millwall!$CN$19","v":0},{"$f":"Millwall!$CN$20","v":0},{"$f":"Millwall!$CN$21","v":0},{"$f":"Millwall!$CN$22","v":0},{"$f":"Millwall!$CN$23","v":0},{"$f":"Millwall!$CN$24","v":0},{"$f":"Millwall!$CN$25","v":0},{"$f":"Millwall!$CN$26","v":0},{"$f":"Millwall!$CN$27","v":0},{"$f":"Millwall!$CN$28","v":0},{"$f":"Millwall!$CN$29","v":0},{"$f":"Millwall!$CN$30","v":0},{"$f":"Millwall!$CN$31","v":0},{"$f":"Millwall!$CN$32","v":1},{"$f":"Millwall!$CN$33","v":0},{"$f":"Millwall!$CN$34","v":0},{"$f":"Millwall!$CN$35","v":0},{"$f":"Millwall!$CN$36","v":0},{"$f":"Millwall!$CN$37","v":0},{"$f":"Millwall!$CN$38","v":0},{"$f":"Millwall!#REF!","v":{"$error":"#REF!"}},{"$f":"Millwall!$CN$45","v":0},{"$f":"Millwall!$CN$46","v":0}]
[null,null,1]
[null,null,1]
[null,null,1]
[]
[]
[null,null,null,null,null,null,null,"Checks",null,null,null,null,null,null,null,null,null,null,1]
[]
["Manual Input",null,null,null,null,null,null,"Opponents","Venue/Result",null,{"$f":"K3","v":"Allen"},"Armstrong","Barber","Bogie","Byrne","Cooper","Cunningham","Davidson","Dawes","Dolby","Gaynor","Goodman","Holsgrove","Keller","Kennedy","Kerr","Maguire","Manning","May","M McCarthy","T McCarthy","McGinlay","McLeary","Moralee","Rae","Roberts","Sion","Stephenson","Stevens","Verveer","Wallace",0,0,0]
[null,null,{"$f":"IF(J113=0,1,0)","v":0},1,null,{"$f":"F5","v":"1992-08-15"},null,{"$f":"H5","v":"Watford"},"(A)","L 1-3",9,10,11,null,null,5,2,1,3,null,null,null,null,null,null,null,null,null,4,null,null,8,null,null,14,7,null,12,6]
[null,null,0,2,null,"1992-08-22",null,"Oxford","(H)","W 3-1",9,10,11,null,null,5,2,null,3,null,null,12,null,1,null,null,null,null,4,null,null,8,null,null,14,7,null,null,6]
[null,null,0,3,null,"1992-08-29",null,"Barnsley","(A)","D 0-0",null,10,11,null,null,5,2,null,3,null,null,9,null,1,null,null,null,null,null,null,null,8,14,null,4,7,null,12,6]
[null,null,0,4,null,"1992-09-05",null,"Swindon","(H)","W 2-1",null,null,11,4,null,5,2,null,3,14,null,9,10,1,null,null,null,null,null,null,null,8,null,null,null,7,null,12,6]
[null,null,0,5,null,"1992-09-12",null,"Birmingham","(H)","D 0-0",9,null,11,null,null,5,2,null,3,12,null,10,14,1,null,null,null,null,4,null,null,8,null,null,null,7,null,null,6]
[null,null,0,6,null,"1992-09-15",null,"Peterborough","(A)","D 0-0",9,null,11,null,null,5,2,null,3,12,null,10,14,1,null,null,null,null,4,null,null,8,null,null,null,7,null,null,6]
[null,null,0,7,null,"1992-09-19",null,"Notts Co","(H)","W 6-0",9,null,11,null,null,5,2,null,3,8,null,10,14,1,null,null,null,null,4,null,null,12,null,null,null,7,null,null,6]
[null,null,0,8,null,"1992-09-26",null,"Brentford","(A)","D 1-1",9,null,11,null,null,5,2,null,3,8,null,10,14,1,null,null,null,null,4,null,null,12,null,null,null,7,null,null,6]
[null,null,0,9,null,"1992-10-03",null,"Sunderland","(A)","L 0-2",9,null,11,null,null,5,2,null,3,8,null,10,14,1,null,null,null,null,4,null,null,null,null,12,null,7,null,null,6]
[null,null,0,10,null,"1992-10-10",null,"Cambridge","(H)","D 2-2",9,null,11,null,null,5,2,null,3,8,null,10,null,1,null,null,null,null,4,null,null,null,null,12,14,7,null,null,6]
[null,null,0,11,null,"1992-10-18",null,"Charlton","(A)","W 2-0",9,null,11,null,null,5,2,null,3,12,null,10,14,1,null,null,null,null,4,null,null,null,null,8,6,7]
[null,null,0,12,null,"1992-10-25",null,"Wolves","(H)","W 2-0",9,null,11,null,null,5,2,null,3,12,null,10,14,1,null,null,null,null,4,null,null,null,null,8,6,7]
[null,null,0,13,null,"1992-10-31",null,"Bristol R","(A)","L 0-1",9,null,11,null,14,5,2,null,3,12,null,10,null,1,null,null,null,null,4,null,null,null,null,8,6,7]
[null,null,0,14,null,"1992-11-04",null,"Bristol C","(H)","W 4-1",9,null,11,null,10,5,2,null,3,12,null,14,null,1,null,null,null,null,4,null,null,null,null,8,6,7]
[null,null,0,15,null,"1992-11-07",null,"Derby","(A)","W 2-1",9,null,11,null,10,5,2,null,3,12,null,14,null,1,null,null,null,null,4,null,null,null,null,8,6,7]
[null,null,0,16,null,"1992-11-15",null,"West Ham","(H)","W 2-1",9,null,11,null,10,5,2,null,3,12,null,14,null,1,null,null,null,null,4,null,null,null,null,8,7,null,null,null,6]
[null,null,0,17,null,"1992-11-21",null,{"$f":"H21","v":"Luton"},"(A)","D 1-1",9,null,11,null,10,5,2,null,3,null,null,12,null,1,null,null,null,null,4,null,null,null,null,8,7,14,null,null,6]
[null,null,0,18,null,"1992-11-28",null,"Portsmouth","(A)","L 0-1",9,null,11,null,10,5,2,null,3,null,null,12,null,1,null,null,null,null,4,null,null,null,null,8,7,14,null,null,6]
[null,null,0,19,null,"1992-12-05",null,"Southend","(H)","D 1-1",9,null,11,null,10,5,2,null,3,null,null,12,null,1,null,null,null,null,4,null,null,null,null,8,14,7,null,null,6]
[null,null,0,20,null,"1992-12-12",null,"Grimsby","(H)","W 2-1",12,null,11,9,10,5,2,null,3,14,null,null,null,1,null,null,null,null,4,null,null,null,null,8,null,7,null,null,6]
[null,null,0,21,null,"1992-12-20",null,"Newcastle","(A)","D 1-1",12,null,11,9,null,5,2,null,3,null,null,10,null,1,null,null,null,null,4,null,null,null,null,8,14,7,null,null,6]
[null,null,0,22,null,"1992-12-26",null,"Tranmere","(A)","D 1-1",12,null,11,9,null,5,2,null,3,null,null,10,null,1,null,null,null,null,4,null,null,null,null,8,14,7,null,null,6]
[null,null,0,23,null,"1992-12-28",null,"Leicester","(H)","W 2-0",12,null,11,9,null,5,2,null,3,null,null,10,null,1,null,null,null,null,4,null,null,null,null,8,14,7,null,null,6]
[null,null,0,24,null,"1993-01-09",null,"Notts Co","(A)","W 2-1",12,null,11,9,null,5,2,null,3,null,null,10,null,1,null,null,null,null,4,null,null,null,null,8,14,7,null,null,6]
[null,null,0,25,null,"1993-01-17",null,"Brentford","(H)","W 6-1",12,null,11,9,null,5,null,null,3,null,null,10,14,1,null,null,null,null,4,null,null,null,null,8,2,7,null,null,6]
[null,null,0,26,null,"1993-01-27",null,"Peterborough","(H)","W 4-0",12,null,11,9,null,null,null,null,3,null,null,10,14,1,null,null,null,null,4,null,5,null,6,8,2,7]
[null,null,0,27,null,"1993-01-30",null,"Oxford","(A)","L 0-3",12,null,11,9,null,null,null,null,3,null,null,10,14,1,null,null,null,null,4,null,5,null,6,8,2,7]
[null,null,0,28,null,"1993-02-06",null,"Watford","(H)","W 5-2",12,null,11,9,null,5,null,null,3,null,null,10,14,1,null,null,null,null,4,null,null,null,null,8,2,7,null,null,6]
[null,null,0,29,null,"1993-02-09",null,"Birmingham","(A)","D 0-0",12,null,11,9,null,5,null,null,3,null,null,10,null,1,null,null,null,null,4,null,null,null,14,8,2,7,null,null,6]
[null,null,0,30,null,"1993-02-13",null,"Swindon","(A)","L 0-3",12,null,11,9,null,5,null,null,3,null,null,10,2,1,null,null,null,null,4,null,null,null,14,8,null,7,null,null,6]
[null,null,0,31,null,"1993-02-20",null,"Barnsley","(H)","L 0-4",12,null,11,9,null,5,null,null,3,null,null,10,null,1,null,null,null,null,4,null,null,null,2,8,null,7,null,14,6]
[null,null,0,32,null,"1993-02-27",null,"Cambridge","(A)","D 1-1",8,null,11,9,10,5,2,null,3,null,null,null,null,1,null,null,null,null,4,null,null,null,null,12,null,7,null,14,6]
[null,null,0,33,null,"1993-03-06",null,{"$f":"H37","v":"Sunderland"},"(H)","D 0-0",8,null,11,9,10,5,2,null,3,null,null,null,null,1,null,null,null,null,4,null,null,null,null,12,14,7,null,null,6]
[null,null,0,34,null,"1993-03-09",null,"Bristol C","(A)","W 1-0",8,null,11,9,10,5,2,null,3,14,null,null,null,1,null,null,null,null,null,null,null,null,null,12,4,7,null,null,6]
[null,null,0,35,null,"1993-03-13",null,"Derby","(H)","W 1-0",8,null,11,9,10,5,2,null,3,null,null,null,null,1,null,null,null,null,4,null,null,null,null,12,7,14,null,null,6]
[null,null,0,36,null,"1993-03-21",null,"Southend","(A)","D 3-3",null,null,11,8,12,5,2,null,3,null,null,9,4,1,null,null,null,null,null,null,14,null,null,10,null,7,null,null,6]
[null,null,0,37,null,"1993-03-24",null,"Luton","(H)","W 1-0",9,null,11,8,null,5,2,null,3,null,null,null,null,1,null,12,null,null,null,null,14,null,null,10,7,4,null,null,6]
[null,null,0,38,null,"1993-03-28",null,"West Ham","(A)","D 2-2",9,null,11,8,null,5,2,null,3,null,14,null,null,1,null,12,7,null,null,null,null,null,null,10,null,4,null,null,6]
[null,null,0,39,null,"1993-04-03",null,"Portsmouth","(H)","D 1-1",9,null,11,14,null,5,2,null,3,null,null,null,null,1,null,12,7,null,null,null,6,null,null,10,null,4,null,null,null,null,8]
[null,null,0,40,null,"1993-04-06",null,"Grimsby","(A)","L 0-1",null,null,11,12,null,null,null,null,3,null,14,null,null,1,null,9,7,null,2,null,6,null,5,10,null,4,null,null,null,null,8]
[null,null,0,41,null,"1993-04-10",null,"Tranmere","(H)","D 0-0",9,null,11,null,null,null,2,null,3,null,null,8,null,1,null,12,6,null,4,null,5,null,null,10,7,14]
[null,null,0,42,null,"1993-04-14",null,"Leicester","(A)","L 0-3",9,null,11,null,null,null,2,null,3,null,null,8,14,1,null,12,6,null,null,null,5,null,null,10,7,4]
[null,null,0,43,null,"1993-04-17",null,"Newcastle","(H)","L 1-2",9,null,11,null,null,5,2,null,3,12,14,10,null,1,null,null,6,null,null,null,null,null,null,null,7,4,null,null,null,null,8]
[null,null,0,44,null,"1993-04-24",null,"Charlton","(H)","W 1-0",9,null,11,null,null,5,2,null,3,null,null,10,null,1,14,null,6,null,null,null,12,null,null,8,7,4]
[null,null,{"$f":"IF(J157=0,1,0)","v":0},45,null,"1993-05-01",null,"Wolves","(A)","L 1-3",9,null,11,null,null,5,2,null,3,12,null,10,null,1,null,null,6,null,14,null,null,null,null,8,7,4]
[null,null,{"$f":"IF(J158=0,1,0)","v":0},46,null,"1993-05-08",null,"Bristol R","(H)","L 0-3",9,null,11,null,null,5,null,null,3,14,null,10,null,1,null,null,6,2,null,null,null,null,null,8,7,4,null,null,null,12]
[null,null,{"$f":"IF(J159=0,1,0)","v":1},47,null,"00:00:00",null,"00:00:00","00:00:00",0]
[null,null,1,48,null,"00:00:00",null,"00:00:00","00:00:00",0]
[null,null,1,49,null,"00:00:00",null,{"$f":"H53","v":"00:00:00"},"00:00:00",0]
[]
[null,null,null,null,null,null,null,null,null,"Total League Apperances",{"$f":"COUNT($K$113:$K$158)-$K$164-$K$165","v":30},{"$f":"COUNT($L$113:$L$158)-$L$164-$L$165","v":3},{"$f":"COUNT($M$113:$M$158)-$M$164-$M$165","v":46},{"$f":"COUNT($N$113:$N$158)-$N$164-$N$165","v":20},{"$f":"COUNT($O$113:$O$158)-$O$164-$O$165","v":11},{"$f":"COUNT($P$113:$P$158)-$P$164-$P$165","v":41},{"$f":"COUNT($Q$113:$Q$158)-$Q$164-$Q$165","v":37},{"$f":"COUNT($R$113:$R$158)-$R$164-$R$165","v":1},{"$f":"COUNT($S$113:$S$158)-$S$164-$S$165","v":46},{"$f":"COUNT($T$113:$T$158)-$T$164-$T$165","v":4},{"$f":"COUNT($U$113:$U$158)-$U$164-$U$165","v":0},{"$f":"COUNT($V$113:$V$158)-$V$164-$V$165","v":29},{"$f":"COUNT($W$113:$W$158)-$W$164-$W$165","v":3},{"$f":"COUNT($X$113:$X$158)-$X$164-$X$165","v":45},{"$f":"COUNT($Y$113:$Y$158)-$Y$164-$Y$165","v":0},{"$f":"COUNT($Z$113:$Z$158)-$Z$164-$Z$165","v":1},{"$f":"COUNT($AA$113:$AA$158)-$AA$164-$AA$165","v":9},{"$f":"COUNT($AB$113:$AB$158)-$AB$164-$AB$165","v":1},{"$f":"COUNT($AC$113:$AC$158)-$AC$164-$AC$165","v":34},{"$f":"COUNT($AD$113:$AD$158)-$AD$164-$AD$165","v":0},{"$f":"COUNT($AE$113:$AE$158)-$AE$164-$AE$165","v":6},{"$f":"COUNT($AF$113:$AF$158)-$AF$164-$AF$165","v":6},{"$f":"COUNT($AG$113:$AG$158)-$AG$164-$AG$165","v":4},{"$f":"COUNT($AH$113:$AH$158)-$AH$164-$AH$165","v":31},{"$f":"COUNT($AI$113:$AI$158)-$AI$164-AI165","v":23},{"$f":"COUNT($AJ$113:$AJ$158)-$AJ$164-AJ165","v":41},{"$f":"COUNT($AK$113:$AK$158)-$AK$164","v":0},{"$f":"COUNT($AL$113:$AL$158)-$AL$164","v":0},{"$f":"COUNT($AM$113:$AM$158)-$AM$164","v":31},{"$f":"COUNT($AN$113:$AN$158)-$AN$164","v":0},{"$f":"COUNT($AO$113:$AO$158)-$AO$164","v":3},{"$f":"COUNT($AP$113:$AP$158)-$AP$164","v":0},{"$f":"COUNT($AQ$113:$AQ$158)-$AQ$164","v":0},{"$f":"COUNT($AR$113:$AR$158)-$AR$164","v":0}]
[null,null,null,null,null,null,null,null,null,"Total League Substitute Appearences ",{"$f":"$AX$56+$CH$56","v":11},{"$f":"$AY$56+$CI$56","v":0},{"$f":"$AZ$56+$CJ$56","v":0},{"$f":"$BA$56+$CK$56","v":2},{"$f":"$BB$56+$CL$56","v":2},{"$f":"$BC$56+$CM$56","v":0},{"$f":"$BD$56+$CN$56","v":0},{"$f":"$BE$56+$CO$56","v":0},{"$f":"$BF$56+$CP$56","v":0},{"$f":"$BG$56+$CQ$56","v":14},{"$f":"$BH$56+$CR$56","v":3},{"$f":"$BI$56+$CS$56","v":6},{"$f":"$BJ$56+$CT$56","v":8},{"$f":"$BK$56+$CU$56","v":0},{"$f":"$BL$56+$CV$56","v":1},{"$f":"$BM$56+$CW$56","v":5},{"$f":"$BN$56+$CX$56","v":0},{"$f":"$BO$56+$CY$56","v":0},{"$f":"$BP$56+$CZ$56","v":1},{"$f":"$BQ$56+$DA$56","v":0},{"$f":"$BR$56+$DB$56","v":1},{"$f":"$BS$56+$DC$56","v":1},{"$f":"$BT$56+$DD$56","v":2},{"$f":"$BU$56+$DE$56","v":6},{"$f":"$BV$56+$DF$56","v":7},{"$f":"$BW$56+$DG$56","v":4},{"$f":"$BX$56+$DH$56","v":0},{"$f":"$BY$56+$DI$56","v":5},{"$f":"$BZ$56+$DJ$56","v":0},{"$f":"$CA$56+$DK$56","v":1},{"$f":"$CB$56+$DL$56","v":0},{"$f":"$CC$56+$DM$56","v":0},{"$f":"$CD$56+$DN$56","v":0},{"$f":"$CE$56+$DO$56","v":0}]
[null,null,null,null,null,null,null,null,null,"Non Playing Substitute",{"$f":"COUNTIF($K$113:$K$158,\">=12\")-$K$164","v":1},{"$f":"COUNTIF($L$113:$L$158,\">=12\")-$L$164","v":0},{"$f":"COUNTIF($M$113:$M$158,\">=12\")-$M$164","v":0},{"$f":"COUNTIF($N$113:$N$158,\">=12\")-$N$164","v":0},{"$f":"COUNTIF($O$113:$O$158,\">=12\")-$O$164","v":0},{"$f":"COUNTIF($P$113:$P$158,\">=12\")-$P$164","v":0},{"$f":"COUNTIF($Q$113:$Q$158,\">=12\")-$Q$164","v":0},{"$f":"COUNTIF($R$113:$R$158,\">=12\")-$R$164","v":0},{"$f":"COUNTIF($S$113:$S$158,\">=12\")-$S$164","v":0},{"$f":"COUNTIF($T$113:$T$158,\">=12\")-$T$164","v":0},{"$f":"COUNTIF($U$113:$U$158,\">=12\")-$U$164","v":0},{"$f":"COUNTIF($V$113:$V$158,\">=12\")-$V$164","v":1},{"$f":"COUNTIF($W$113:$W$158,\">=12\")-$W$164","v":4},{"$f":"COUNTIF($X$113:$X$158,\">=12\")-$X$164","v":0},{"$f":"COUNTIF($Y$113:$Y$158,\">=12\")-$Y$164","v":0},{"$f":"COUNTIF($Z$113:$Z$158,\">=12\")-$Z$164","v":0},{"$f":"COUNTIF($AA$113:$AA$158,\">=12\")-$AA$164","v":0},{"$f":"COUNTIF($AB$113:$AB$158,\">=12\")-$AB$164","v":0},{"$f":"COUNTIF($AC$113:$AC$158,\">=12\")-$AC$164","v":0},{"$f":"COUNTIF($AD$113:$AD$158,\">=12\")-$AD$164","v":0},{"$f":"COUNTIF($AE$113:$AE$158,\">=12\")-$AE$164","v":2},{"$f":"COUNTIF($AF$113:$AF$158,\">=12\")-$AF$164","v":1},{"$f":"COUNTIF($AG$113:$AG$158,\">=12\")-$AG$164","v":1},{"$f":"COUNTIF($AH$113:$AH$158,\">=12\")-$AH$164","v":0},{"$f":"COUNTIF($AI$113:$AI$158,\">=12\")-$AI$164","v":2},{"$f":"COUNTIF($AJ$113:$AJ$158,\">=12\")-$AJ$164","v":0},{"$f":"COUNTIF($AK$113:$AK$158,\">=12\")-$AK$164","v":0},{"$f":"COUNTIF($AL$113:$AL$158,\">=12\")-$AL$164","v":0},{"$f":"COUNTIF($AM$113:$AM$158,\">=12\")-$AM$164","v":0},{"$f":"COUNTIF($AN$113:$AN$158,\">=12\")-$AN$164","v":0},{"$f":"COUNTIF($AO$113:$AO$158,\">=12\")-$AO$164","v":0},{"$f":"COUNTIF($AP$113:$AP$158,\">=12\")-$AP$164","v":0},{"$f":"COUNTIF($AQ$113:$AQ$158,\">=12\")-$AQ$164","v":0},{"$f":"COUNTIF($AR$113:$AR$158,\">=12\")-$AR$164","v":0}]
[null,null,null,null,null,null,null,null,null,"Goals",10,1,8,0,1,4,0,0,0,1,0,12,0,0,0,1,0,0,1,0,1,2,0,15,6,0,0,0,2,0,0,0,0,0]
[]
[null,null,0,null,null,null,null,"FA Cup"]
[null,null,{"$f":"IF(J169=0,1,0)","v":0},{"$f":"D61","v":3},null,{"$f":"F61","v":"1993-01-13"},null,{"$f":"H61","v":"Southend"},"(A)","L 0-1",12,null,11,9,null,5,null,null,3,null,null,10,14,1,null,null,null,null,4,null,null,null,null,8,2,7,null,null,6]
[null,null,1,{"$f":"D62","v":4},null,"00:00:00",null,"00:00:00","00:00:00",0]
[null,null,1,0,null,"00:00:00",null,"00:00:00","00:00:00",0]
[null,null,1,0,null,"00:00:00",null,"00:00:00","00:00:00",0]
[null,null,1,0,null,"00:00:00",null,"00:00:00","00:00:00",0]
[null,null,1,0,null,"00:00:00",null,"00:00:00","00:00:00",0]
[null,null,1,0,null,"00:00:00",null,"00:00:00","00:00:00",0]
[null,null,null,null,null,null,null,"FA Cup"]
[null,null,null,null,null,null,null,null,null,"Total FA Cup Apperances",{"$f":"COUNT($K$169:$K$175)-$K$178-$K$179","v":0},{"$f":"COUNT($L$169:$L$175)-$L$178-$L$179","v":0},{"$f":"COUNT($M$169:$M$175)-$M$178-$M$179","v":1},{"$f":"COUNT($N$169:$N$175)-$N$178-$N$179","v":1},{"$f":"COUNT($O$169:$O$175)-$O$178-$O$179","v":0},{"$f":"COUNT($P$169:$P$175)-$P$178-$P$179","v":1},{"$f":"COUNT($Q$169:$Q$175)-$Q$178-$Q$179","v":0},{"$f":"COUNT($R$169:$R$175)-$R$178-$R$179","v":0},{"$f":"COUNT($S$169:$S$175)-$S$178-$S$179","v":1},{"$f":"COUNT($T$169:$T$175)-$T$178-$T$179","v":0},{"$f":"COUNT($U$169:$U$175)-$U$178-$U$179","v":0},{"$f":"COUNT($V$169:$V$175)-$V$178-$V$179","v":1},{"$f":"COUNT($W$169:$W$175)-$W$178-$W$179","v":0},{"$f":"COUNT($X$169:$X$175)-$X$178-$X$179","v":1},{"$f":"COUNT($Y$169:$Y$175)-$Y$178-$Y$179","v":0},{"$f":"COUNT($Z$169:$Z$175)-$Z$178-$Z$179","v":0},{"$f":"COUNT($AA$169:$AA$175)-$AA$178-$AA$179","v":0},{"$f":"COUNT($AB$169:$AB$175)-$AB$178-$AB$179","v":0},{"$f":"COUNT($AC$169:$AC$175)-$AC$178-$AC$179","v":1},{"$f":"COUNT($AD$169:$AD$175)-$AD$178-$AD$179","v":0},{"$f":"COUNT($AE$169:$AE$175)-$AE$178-$AE$179","v":0},{"$f":"COUNT($AF$169:$AF$175)-$AF$178-$AF$179","v":0},{"$f":"COUNT($AG$169:$AG$175)-$AG$178-$AG$179","v":0},{"$f":"COUNT($AH$169:$AH$175)-$AH$178-$AH$179","v":1},{"$f":"COUNT($AI$169:$AI$175)-$AI$178-$AI$179","v":1},{"$f":"COUNT($AJ$169:$AJ$175)-$AJ$178-$AJ$179","v":1},{"$f":"COUNT($AK$169:$AK$175)-$AK$178-$AK$179","v":0},{"$f":"COUNT($AL$169:$AL$175)-$AL$178-$AL$179","v":0},{"$f":"COUNT($AM$169:$AM$175)-$AM$178-$AM$179","v":1},{"$f":"COUNT($AN$169:$AN$175)-$AN$178-$AN$179","v":0},{"$f":"COUNT($AO$169:$AO$175)-$AO$178-$AO$179","v":0},{"$f":"COUNT($AP$169:$AP$175)-$AP$178-$AP$179","v":0},{"$f":"COUNT($AQ$169:$AQ$175)-$AQ$178-$AQ$179","v":0},{"$f":"COUNT($AR$169:$AR$175)-$AR$178-$AR$179","v":0}]
[null,null,null,null,null,null,null,null,null,"Total FA Cup Substitute Appearences ",{"$f":"$AX$70+$CH$70","v":1},{"$f":"$AY$70+$CI$70","v":0},{"$f":"$AZ$70+$CJ$70","v":0},{"$f":"$BA$70+$CK$70","v":0},{"$f":"$BB$70+$CL$70","v":0},{"$f":"$BC$70+$CM$70","v":0},{"$f":"$BD$70+$CN$70","v":0},{"$f":"$BE$70+$CO$70","v":0},{"$f":"$BF$70+$CP$70","v":0},{"$f":"$BG$70+$CQ$70","v":0},{"$f":"$BH$70+$CR$70","v":0},{"$f":"$BI$70+$CS$70","v":0},{"$f":"$BJ$70+$CT$70","v":1},{"$f":"$BK$70+$CU$70","v":0},{"$f":"$BL$70+$CV$70","v":0},{"$f":"$BM$70+$CW$70","v":0},{"$f":"$BN$70+$CX$70","v":0},{"$f":"$BO$70+$CY$70","v":0},{"$f":"$BP$70+$CZ$70","v":0},{"$f":"$BQ$70+$DA$70","v":0},{"$f":"$BR$70+$DB$70","v":0},{"$f":"$BS$70+$DC$70","v":0},{"$f":"$BT$70+$DD$70","v":0},{"$f":"$BU$70+$DE$70","v":0},{"$f":"$BV$70+$DF$70","v":0},{"$f":"$BW$70+$DG$70","v":0},{"$f":"$BX$70+$DH$70","v":0},{"$f":"$BY$70+$DI$70","v":0},{"$f":"$BZ$70+$DJ$70","v":0},{"$f":"$CA$70+$DK$70","v":0},{"$f":"$CB$70+$DL$70","v":0},{"$f":"$CC$70+$DM$70","v":0},{"$f":"$CD$70+$DN$70","v":0},{"$f":"$CE$70+$DO$70","v":0}]
[null,null,null,null,null,null,null,null,null,"Non Playing Substitute",{"$f":"COUNTIF($K$169:$K$175,\">=12\")-$K$178","v":0},{"$f":"COUNTIF($L$169:$L$175,\">=12\")-$L$178","v":0},{"$f":"COUNTIF($M$169:$M$175,\">=12\")-$M$178","v":0},{"$f":"COUNTIF($N$169:$N$175,\">=12\")-$N$178","v":0},{"$f":"COUNTIF($O$169:$O$175,\">=12\")-$O$178","v":0},{"$f":"COUNTIF($P$169:$P$175,\">=12\")-$P$178","v":0},{"$f":"COUNTIF($Q$169:$Q$175,\">=12\")-$Q$178","v":0},{"$f":"COUNTIF($R$169:$R$175,\">=12\")-$R$178","v":0},{"$f":"COUNTIF($S$169:$S$175,\">=12\")-$S$178","v":0},{"$f":"COUNTIF($T$169:$T$175,\">=12\")-$T$178","v":0},{"$f":"COUNTIF($U$169:$U$175,\">=12\")-$U$178","v":0},{"$f":"COUNTIF($V$169:$V$175,\">=12\")-$V$178","v":0},{"$f":"COUNTIF($W$169:$W$175,\">=12\")-$W$178","v":0},{"$f":"COUNTIF($X$169:$X$175,\">=12\")-$X$178","v":0},{"$f":"COUNTIF($Y$169:$Y$175,\">=12\")-$Y$178","v":0},{"$f":"COUNTIF($Z$169:$Z$175,\">=12\")-$Z$178","v":0},{"$f":"COUNTIF($AA$169:$AA$175,\">=12\")-$AA$178","v":0},{"$f":"COUNTIF($AB$169:$AB$175,\">=12\")-$AB$178","v":0},{"$f":"COUNTIF($AC$169:$AC$175,\">=12\")-$AC$178","v":0},{"$f":"COUNTIF($AD$169:$AD$175,\">=12\")-$AD$178","v":0},{"$f":"COUNTIF($AE$169:$AE$175,\">=12\")-$AE$178","v":0},{"$f":"COUNTIF($AF$169:$AF$175,\">=12\")-$AF$178","v":0},{"$f":"COUNTIF($AG$169:$AG$175,\">=12\")-$AG$178","v":0},{"$f":"COUNTIF($AH$169:$AH$175,\">=12\")-$AH$178","v":0},{"$f":"COUNTIF($AI$169:$AI$175,\">=12\")-$AI$178","v":0},{"$f":"COUNTIF($AJ$169:$AJ$175,\">=12\")-$AJ$178","v":0},{"$f":"COUNTIF($AK$169:$AK$175,\">=12\")-$AK$178","v":0},{"$f":"COUNTIF($AL$169:$AL$175,\">=12\")-$AL$178","v":0},{"$f":"COUNTIF($AM$169:$AM$175,\">=12\")-$AM$178","v":0},{"$f":"COUNTIF($AN$169:$AN$175,\">=12\")-$AN$178","v":0},{"$f":"COUNTIF($AO$169:$AO$175,\">=12\")-$AO$178","v":0},{"$f":"COUNTIF($AP$169:$AP$175,\">=12\")-$AP$178","v":0},{"$f":"COUNTIF($AQ$169:$AQ$175,\">=12\")-$AQ$178","v":0},{"$f":"COUNTIF($AR$169:$AR$175,\">=12\")-$AR$178","v":0}]
[null,null,null,null,null,null,null,null,null,"Goals",0,0,0,0,0,0,0,0,0,0,0,0,0,0,0,0,0,0,0,0,0,0,0,0,0,0,0,0,0,0,0,0,0,0]
[]
[null,null,null,null,null,null,null,"League Cup"]
[null,null,{"$f":"IF(J183=0,1,0)","v":0},{"$f":"D75","v":1},null,{"$f":"F75","v":"1992-08-18"},null,{"$f":"H75","v":"Leyton Orient"},"(A)","D 2-2",9,10,11,null,null,5,2,1,3,null,null,null,null,null,null,null,null,null,4,null,null,8,null,null,14,7,null,12,6]
[null,null,0,{"$f":"D76","v":1},null,"1992-08-26",null,"Leyton Orient","(H)","W 3-0",9,10,11,null,null,5,2,null,3,null,null,12,14,1,null,null,null,null,null,null,null,8,null,null,4,7,null,null,6]
[null,null,0,2,null,"1992-09-22",null,"Arsenal","(A)","D 1-1",9,null,11,null,null,5,2,null,3,8,null,10,14,1,null,null,null,null,4,null,null,12,null,null,null,7,null,null,6]
[null,null,0,2,null,"1992-10-07",null,"Arsenal","(H)","D 1-1",9,null,11,null,null,5,2,null,3,8,null,10,null,1,null,null,null,null,4,null,null,null,null,12,14,7,null,null,6]
[null,null,1,0,null,"00:00:00",null,"00:00:00","00:00:00",0]
[null,null,1,0,null,"00:00:00",null,"00:00:00","00:00:00",0]
[null,null,1,0,null,"00:00:00",null,"00:00:00","00:00:00",0]
[null,null,1,0,null,"00:00:00",null,"00:00:00","00:00:00",0]
[null,null,1,0,null,"00:00:00",null,"00:00:00","00:00:00",0]
[]
[null,null,null,null,null,null,null,null,null,"Total League Cup Apperances",{"$f":"COUNT($K$183:$K$191)-$K$195-$K$194","v":4},{"$f":"COUNT($L$183:$L$191)-$L$195-$L$194","v":2},{"$f":"COUNT($M$183:$M$191)-$M$195-$M$194","v":4},{"$f":"COUNT($N$183:$N$191)-$N$195-$N$194","v":0},{"$f":"COUNT($O$183:$O$191)-$O$195-$O$194","v":0},{"$f":"COUNT($P$183:$P$191)-$P$195-$P$194","v":4},{"$f":"COUNT($Q$183:$Q$191)-$Q$195-$Q$194","v":4},{"$f":"COUNT($R$183:$R$191)-$R$195-$R$194","v":1},{"$f":"COUNT($S$183:$S$191)-$S$195-$S$194","v":4},{"$f":"COUNT($T$183:$T$191)-$T$195-$T$194","v":2},{"$f":"COUNT($U$183:$U$191)-$U$195-$U$194","v":0},{"$f":"COUNT($V$183:$V$191)-$V$195-$V$194","v":2},{"$f":"COUNT($W$183:$W$191)-$W$195-$W$194","v":0},{"$f":"COUNT($X$183:$X$191)-$X$195-$X$194","v":3},{"$f":"COUNT($Y$183:$Y$191)-$Y$195-$Y$194","v":0},{"$f":"COUNT($Z$183:$Z$191)-$Z$195-$Z$194","v":0},{"$f":"COUNT($AA$183:$AA$191)-$AA$195-$AA$194","v":0},{"$f":"COUNT($AB$183:$AB$191)-$AB$195-$AB$194","v":0},{"$f":"COUNT($AC$183:$AC$191)-$AC$195-$AC$194","v":3},{"$f":"COUNT($AD$183:$AD$191)-$AD$195-$AD$194","v":0},{"$f":"COUNT($AE$183:$AE$191)-$AE$195-$AE$194","v":0},{"$f":"COUNT($AF$183:$AF$191)-$AF$195-$AF$194","v":2},{"$f":"COUNT($AG$183:$AG$191)-$AG$195-$AG$194","v":0},{"$f":"COUNT($AH$183:$AH$191)-$AH$195-$AH$194","v":0},{"$f":"COUNT($AI$183:$AI$191)-$AI$195-$AI$194","v":1},{"$f":"COUNT($AJ$183:$AJ$191)-$AJ$195-$AJ$194","v":4},{"$f":"COUNT($AK$183:$AK$191)-$AK$195-$AK$194","v":0},{"$f":"COUNT($AL$183:$AL$191)-$AL$195-$AL$194","v":0},{"$f":"COUNT($AM$183:$AM$191)-$AM$195-$AM$194","v":4},{"$f":"COUNT($AN$183:$AN$191)-$AN$195-$AN$194","v":0},{"$f":"COUNT($AO$183:$AO$191)-$AO$195-$AO$194","v":0},{"$f":"COUNT($AP$183:$AP$191)-$AP$195-$AP$194","v":0},{"$f":"COUNT($AQ$183:$AQ$191)-$AQ$195-$AQ$194","v":0},{"$f":"COUNT($AR$183:$AR$191)-$AR$195-$AR$194","v":0}]
[null,null,null,null,null,null,null,null,null,"Total League Cup Substitute Appearences ",{"$f":"$AX$86+$CH$86","v":0},{"$f":"$AY$86+$CI$86","v":0},{"$f":"$AZ$86+$CJ$86","v":0},{"$f":"$BA$86+$CK$86","v":0},{"$f":"$BB$86+$CL$86","v":0},{"$f":"$BC$86+$CM$86","v":0},{"$f":"$BD$86+$CN$86","v":0},{"$f":"$BE$86+$CO$86","v":0},{"$f":"$BF$86+$CP$86","v":0},{"$f":"$BG$86+$CQ$86","v":0},{"$f":"$BH$86+$CR$86","v":0},{"$f":"$BI$86+$CS$86","v":1},{"$f":"$BJ$86+$CT$86","v":1},{"$f":"$BK$86+$CU$86","v":0},{"$f":"$BL$86+$CV$86","v":0},{"$f":"$BM$86+$CW$86","v":0},{"$f":"$BN$86+$CX$86","v":0},{"$f":"$BO$86+$CY$86","v":0},{"$f":"$BP$86+$CZ$86","v":0},{"$f":"$BQ$86+$DA$86","v":0},{"$f":"$BR$86+$DB$86","v":0},{"$f":"$BS$86+$DC$86","v":1},{"$f":"$BT$86+$DD$86","v":0},{"$f":"$BU$86+$DE$86","v":1},{"$f":"$BV$86+$DF$86","v":1},{"$f":"$BW$86+$DG$86","v":0},{"$f":"$BX$86+$DH$86","v":0},{"$f":"$BY$86+$DI$86","v":0},{"$f":"$BZ$86+$DJ$86","v":0},{"$f":"$CA$86+$DK$86","v":0},{"$f":"$CB$86+$DL$86","v":0},{"$f":"$CC$86+$DM$86","v":0},{"$f":"$CD$86+$DN$86","v":0},{"$f":"$CE$86+$DO$86","v":0}]
[null,null,null,null,null,null,null,null,null,"Non Playing Substitute",{"$f":"COUNTIF($K$183:$K$191,\">=12\")-$K$194","v":0},{"$f":"COUNTIF($L$183:$L$191,\">=12\")-$L$194","v":0},{"$f":"COUNTIF($M$183:$M$191,\">=12\")-$M$194","v":0},{"$f":"COUNTIF($N$183:$N$191,\">=12\")-$N$194","v":0},{"$f":"COUNTIF($O$183:$O$191,\">=12\")-$O$194","v":0},{"$f":"COUNTIF($P$183:$P$191,\">=12\")-$P$194","v":0},{"$f":"COUNTIF($Q$183:$Q$191,\">=12\")-$Q$194","v":0},{"$f":"COUNTIF($R$183:$R$191,\">=12\")-$R$194","v":0},{"$f":"COUNTIF($S$183:$S$191,\">=12\")-$S$194","v":0},{"$f":"COUNTIF($T$183:$T$191,\">=12\")-$T$194","v":0},{"$f":"COUNTIF($U$183:$U$191,\">=12\")-$U$194","v":0},{"$f":"COUNTIF($V$183:$V$191,\">=12\")-$V$194","v":0},{"$f":"COUNTIF($W$183:$W$191,\">=12\")-$W$194","v":1},{"$f":"COUNTIF($X$183:$X$191,\">=12\")-$X$194","v":0},{"$f":"COUNTIF($Y$183:$Y$191,\">=12\")-$Y$194","v":0},{"$f":"COUNTIF($Z$183:$Z$191,\">=12\")-$Z$194","v":0},{"$f":"COUNTIF($AA$183:$AA$191,\">=12\")-$AA$194","v":0},{"$f":"COUNTIF($AB$183:$AB$191,\">=12\")-$AB$194","v":0},{"$f":"COUNTIF($AC$183:$AC$191,\">=12\")-$AC$194","v":0},{"$f":"COUNTIF($AD$183:$AD$191,\">=12\")-$AD$194","v":0},{"$f":"COUNTIF($AE$183:$AE$191,\">=12\")-$AE$194","v":0},{"$f":"COUNTIF($AF$183:$AF$191,\">=12\")-$AF$194","v":0},{"$f":"COUNTIF($AG$183:$AG$191,\">=12\")-$AG$194","v":0},{"$f":"COUNTIF($AH$183:$AH$191,\">=12\")-$AH$194","v":0},{"$f":"COUNTIF($AI$183:$AI$191,\">=12\")-$AI$194","v":1},{"$f":"COUNTIF($AJ$183:$AJ$191,\">=12\")-$AJ$194","v":0},{"$f":"COUNTIF($AK$183:$AK$191,\">=12\")-$AK$194","v":0},{"$f":"COUNTIF($AL$183:$AL$191,\">=12\")-$AL$194","v":1},{"$f":"COUNTIF($AM$183:$AM$191,\">=12\")-$AM$194","v":0},{"$f":"COUNTIF($AN$183:$AN$191,\">=12\")-$AN$194","v":0},{"$f":"COUNTIF($AO$183:$AO$191,\">=12\")-$AO$194","v":0},{"$f":"COUNTIF($AP$183:$AP$191,\">=12\")-$AP$194","v":0},{"$f":"COUNTIF($AQ$183:$AQ$191,\">=12\")-$AQ$194","v":0},{"$f":"COUNTIF($AR$183:$AR$191,\">=12\")-$AR$194","v":0}]
[null,null,null,null,null,null,null,null,null,"Goals",2,1,0,0,0,0,0,0,0,0,0,0,0,0,0,0,0,0,0,0,0,0,0,0,0,2,0,0,1,0,0,0,0,0]
[null,null,1]
[null,null,null,null,null,null,null,"Anglo Italian Cup"]
[null,null,{"$f":"IF(J199=0,1,0)","v":0},{"$f":"D91","v":"Grp"},null,{"$f":"F91","v":"1992-09-02"},null,{"$f":"H91","v":"Charlton"},"(H)","L 1-2",null,null,14,10,null,5,2,null,null,12,null,9,3,1,null,null,null,null,null,null,null,8,6,null,4,7,null,11]
[null,null,{"$f":"IF(J200=0,1,0)","v":0},{"$f":"D92","v":"Grp"},null,"1992-09-29",null,"Portsmouth","(A)","D 1-1",null,null,null,9,null,null,2,1,3,null,null,12,4,null,null,null,null,14,null,5,null,null,null,10,8,6,11,7]
[null,null,1,0,null,"00:00:00",null,"00:00:00","00:00:00",0]
[null,null,1,0,null,"00:00:00",null,"00:00:00","00:00:00",0]
[null,null,1,0,null,"00:00:00",null,"00:00:00","00:00:00",0]
[null,null,1,0,null,"00:00:00",null,"00:00:00","00:00:00",0]
[null,null,1,0,null,"00:00:00",null,"00:00:00","00:00:00",0]
[null,null,1,0,null,"00:00:00",null,"00:00:00","00:00:00",0]
[null,null,1,0,null,"00:00:00",null,"00:00:00","00:00:00",0]
[]
[null,null,null,null,null,null,null,null,null,"Total Anglo Italian Cup Apperances",{"$f":"COUNT($K$199:$K$207)-$K$210-$K$211","v":0},{"$f":"COUNT($L$199:$L$207)-$L$210-$L$211","v":0},{"$f":"COUNT($M$199:$M$207)-$M$210-$M$211","v":0},{"$f":"COUNT($N$199:$N$207)-$N$210-$N$211","v":2},{"$f":"COUNT($O$199:$O$207)-$O$210-$O$211","v":0},{"$f":"COUNT($P$199:$P$207)-$P$210-$P$211","v":1},{"$f":"COUNT($Q$199:$Q$207)-$Q$210-$Q$211","v":2},{"$f":"COUNT($R$199:$R$207)-$R$210-$R$211","v":1},{"$f":"COUNT($S$199:$S$207)-$S$210-$S$211","v":1},{"$f":"COUNT($T$199:$T$207)-$T$210-$T$211","v":0},{"$f":"COUNT($U$199:$U$207)-$U$210-$U$211","v":0},{"$f":"COUNT($V$199:$V$207)-$V$210-$V$211","v":1},{"$f":"COUNT($W$199:$W$207)-$W$210-$W$211","v":2},{"$f":"COUNT($X$199:$X$207)-$X$210-$X$211","v":1},{"$f":"COUNT($Y$199:$Y$207)-$Y$210-$Y$211","v":0},{"$f":"COUNT($Z$199:$Z$207)-$Z$210-$Z$211","v":0},{"$f":"COUNT($AA$199:$AA$207)-$AA$210-$AA$211","v":0},{"$f":"COUNT($AB$199:$AB$207)-$AB$210-$AB$211","v":0},{"$f":"COUNT($AC$199:$AC$207)-$AC$210-$AC$211","v":0},{"$f":"COUNT($AD$199:$AD$207)-$AD$210-$AD$211","v":1},{"$f":"COUNT($AE$199:$AE$207)-$AE$210-$AE$211","v":0},{"$f":"COUNT($AF$199:$AF$207)-$AF$210-$AF$211","v":1},{"$f":"COUNT($AG$199:$AG$207)-$AG$210-$AG$211","v":1},{"$f":"COUNT($AH$199:$AH$207)-$AH$210-$AH$211","v":1},{"$f":"COUNT($AI$199:$AI$207)-$AI$210-$AI$211","v":2},{"$f":"COUNT($AJ$199:$AJ$207)-$AJ$210-$AJ$211","v":2},{"$f":"COUNT($AK$199:$AK$207)-$AK$210-$AK$211","v":1},{"$f":"COUNT($AL$199:$AL$207)-$AL$210-$AL$211","v":2},{"$f":"COUNT($AM$199:$AM$207)-$AM$210-$AM$211","v":0},{"$f":"COUNT($AN$199:$AN$207)-$AN$210-$AN$211","v":0},{"$f":"COUNT($AO$199:$AO$207)-$AO$210-$AO$211","v":0},{"$f":"COUNT($AP$199:$AP$207)-$AP$210-$AP$211","v":0},{"$f":"COUNT($AQ$199:$AQ$207)-$AQ$210-$AQ$211","v":0},{"$f":"COUNT($AR$199:$AR$207)-$AR$210-$AR$211","v":0}]
[null,null,null,null,null,null,null,null,null,"Total Anglo Italian Cup Sub Appearences ",{"$f":"$AX$102+$CH$102","v":0},{"$f":"$AY$102+$CI$102","v":0},{"$f":"$AZ$102+$CJ$102","v":0},{"$f":"$BA$102+$CK$102","v":0},{"$f":"$BB$102+$CL$102","v":0},{"$f":"$BC$102+$CM$102","v":0},{"$f":"$BD$102+$CN$102","v":0},{"$f":"$BE$102+$CO$102","v":0},{"$f":"$BF$102+$CP$102","v":0},{"$f":"$BG$102+$CQ$102","v":1},{"$f":"$BH$102+$CR$102","v":0},{"$f":"$BI$102+$CS$102","v":0},{"$f":"$BJ$102+$CT$102","v":0},{"$f":"$BK$102+$CU$102","v":0},{"$f":"$BL$102+$CV$102","v":0},{"$f":"$BM$102+$CW$102","v":0},{"$f":"$BN$102+$CX$102","v":0},{"$f":"$BO$102+$CY$102","v":1},{"$f":"$BP$102+$CZ$102","v":0},{"$f":"$BQ$102+$DA$102","v":0},{"$f":"$BR$102+$DB$102","v":0},{"$f":"$BS$102+$DC$102","v":0},{"$f":"$BT$102+$DD$102","v":0},{"$f":"$BU$102+$DE$102","v":0},{"$f":"$BV$102+$DF$102","v":0},{"$f":"$BW$102+$DG$102","v":0},{"$f":"$BX$102+$DH$102","v":0},{"$f":"$BY$102+$DI$102","v":0},{"$f":"$BZ$102+$DJ$102","v":0},{"$f":"$CA$102+$DK$102","v":0},{"$f":"$CB$102+$DL$102","v":0},{"$f":"$CC$102+$DM$102","v":0},{"$f":"$CD$102+$DN$102","v":0},{"$f":"$CE$210+$DO$210","v":0}]
[null,null,null,null,null,null,null,null,null,"Non Playing Substitute",{"$f":"COUNTIF($K$199:$K$207,\">=12\")-$K$210","v":0},{"$f":"COUNTIF($L$199:$L$207,\">=12\")-$L$210","v":0},{"$f":"COUNTIF($M$199:$M$207,\">=12\")-$M$210","v":1},{"$f":"COUNTIF($N$199:$N$207,\">=12\")-$N$210","v":0},{"$f":"COUNTIF($O$199:$O$207,\">=12\")-$O$210","v":0},{"$f":"COUNTIF($P$199:$P$207,\">=12\")-$P$210","v":0},{"$f":"COUNTIF($Q$199:$Q$207,\">=12\")-$Q$210","v":0},{"$f":"COUNTIF($R$199:$R$207,\">=12\")-$R$210","v":0},{"$f":"COUNTIF($S$199:$S$207,\">=12\")-$S$210","v":0},{"$f":"COUNTIF($T$199:$T$207,\">=12\")-$T$210","v":0},{"$f":"COUNTIF($U$199:$U$207,\">=12\")-$U$210","v":0},{"$f":"COUNTIF($V$199:$V$207,\">=12\")-$V$210","v":1},{"$f":"COUNTIF($W$199:$W$207,\">=12\")-$W$210","v":0},{"$f":"COUNTIF($X$199:$X$207,\">=12\")-$X$210","v":0},{"$f":"COUNTIF($Y$199:$Y$207,\">=12\")-$Y$210","v":0},{"$f":"COUNTIF($Z$199:$Z$207,\">=12\")-$Z$210","v":0},{"$f":"COUNTIF($AA$199:$AA$207,\">=12\")-$AA$210","v":0},{"$f":"COUNTIF($AB$199:$AB$207,\">=12\")-$AB$210","v":0},{"$f":"COUNTIF($AC$199:$AC$207,\">=12\")-$AC$210","v":0},{"$f":"COUNTIF($AD$199:$AD$207,\">=12\")-$AD$210","v":0},{"$f":"COUNTIF($AE$199:$AE$207,\">=12\")-$AE$210","v":0},{"$f":"COUNTIF($AF$199:$AF$207,\">=12\")-$AF$210","v":0},{"$f":"COUNTIF($AG$199:$AG$207,\">=12\")-$AG$210","v":0},{"$f":"COUNTIF($AH$199:$AH$207,\">=12\")-$AH$210","v":0},{"$f":"COUNTIF($AI$199:$AI$207,\">=12\")-$AI$210","v":0},{"$f":"COUNTIF($AJ$199:$AJ$207,\">=12\")-$AJ$210","v":0},{"$f":"COUNTIF($AK$199:$AK$207,\">=12\")-$AK$210","v":0},{"$f":"COUNTIF($AL$199:$AL$207,\">=12\")-$AL$210","v":0},{"$f":"COUNTIF($AM$199:$AM$207,\">=12\")-$AM$210","v":0},{"$f":"COUNTIF($AN$199:$AN$207,\">=12\")-$AN$210","v":0},{"$f":"COUNTIF($AO$199:$AO$207,\">=12\")-$AO$210","v":0},{"$f":"COUNTIF($AP$199:$AP$207,\">=12\")-$AP$210","v":0},{"$f":"COUNTIF($AQ$199:$AQ$207,\">=12\")-$AQ$210","v":0},{"$f":"COUNTIF($AR$199:$AR$207,\">=12\")-$AR$210","v":0}]
[null,null,null,null,null,null,null,null,null,"Goals",0,0,0,0,0,0,1,0,0,0,0,0,0,0,0,0,0,0,0,0,0,0,0,0,1,0,0,0,0,0,0,0,0,0]
[null,null,1]
[null,null,1]
[]
[]
[]
[]
["Manual Input",null,null,null,null,null,null,"Opponents","Venue/Result",null,{"$f":"K3","v":"Allen"},{"$f":"L3","v":"Armstrong"},{"$f":"M3","v":"Barber"},"Bogie","Byrne","Cooper","Cunningham","Davidson","Dawes","Dolby","Gaynor","Goodman","Holsgrove","Keller","Kennedy","Kerr","Maguire","Manning","May","M McCarthy","T McCarthy","McGinlay","McLeary","Moralee","Rae","Roberts","Sion","Stephenson","Stevens","Verveer","Wallace",0,0,0]
[null,null,{"$f":"IF(J220=0,1,0)","v":0},1,null,{"$f":"F5","v":"1992-08-15"},null,{"$f":"H5","v":"Watford"},"(A)","L 1-3",9,10,11,null,null,5,2,1,3,null,null,null,null,null,null,null,null,null,4,null,null,8,null,null,14,7,null,12,6]
[null,null,0,2,null,"1992-08-22",null,"Oxford","(H)","W 3-1",9,10,11,null,null,5,2,null,3,null,null,12,null,1,null,null,null,null,4,null,null,8,null,null,14,7,null,null,6]
[null,null,0,3,null,"1992-08-29",null,"Barnsley","(A)","D 0-0",null,10,11,null,null,5,2,null,3,null,null,9,null,1,null,null,null,null,null,null,null,8,14,null,4,7,null,12,6]
[null,null,0,4,null,"1992-09-05",null,"Swindon","(H)","W 2-1",null,null,11,4,null,5,2,null,3,14,null,9,10,1,null,null,null,null,null,null,null,8,null,null,null,7,null,12,6]
[null,null,0,5,null,"1992-09-12",null,"Birmingham","(H)","D 0-0",9,null,11,null,null,5,2,null,3,12,null,10,14,1,null,null,null,null,4,null,null,8,null,null,null,7,null,null,6]
[null,null,0,6,null,"1992-09-15",null,"Peterborough","(A)","D 0-0",9,null,11,null,null,5,2,null,3,12,null,10,14,1,null,null,null,null,4,null,null,8,null,null,null,7,null,null,6]
[null,null,0,7,null,"1992-09-19",null,"Notts Co","(H)","W 6-0",9,null,11,null,null,5,2,null,3,8,null,10,14,1,null,null,null,null,4,null,null,12,null,null,null,7,null,null,6]
[null,null,0,8,null,"1992-09-26",null,"Brentford","(A)","D 1-1",9,null,11,null,null,5,2,null,3,8,null,10,14,1,null,null,null,null,4,null,null,12,null,null,null,7,null,null,6]
[null,null,0,9,null,"1992-10-03",null,"Sunderland","(A)","L 0-2",9,null,11,null,null,5,2,null,3,8,null,10,14,1,null,null,null,null,4,null,null,null,null,12,null,7,null,null,6]
[null,null,0,10,null,"1992-10-10",null,"Cambridge","(H)","D 2-2",9,null,11,null,null,5,2,null,3,8,null,10,null,1,null,null,null,null,4,null,null,null,null,12,14,7,null,null,6]
[null,null,0,11,null,"1992-10-18",null,"Charlton","(A)","W 2-0",9,null,11,null,null,5,2,null,3,12,null,10,14,1,null,null,null,null,4,null,null,null,null,8,6,7]
[null,null,0,12,null,"1992-10-25",null,"Wolves","(H)","W 2-0",9,null,11,null,null,5,2,null,3,12,null,10,14,1,null,null,null,null,4,null,null,null,null,8,6,7]
[null,null,0,13,null,"1992-10-31",null,"Bristol R","(A)","L 0-1",9,null,11,null,14,5,2,null,3,12,null,10,null,1,null,null,null,null,4,null,null,null,null,8,6,7]
[null,null,0,14,null,"1992-11-04",null,"Bristol C","(H)","W 4-1",9,null,11,null,10,5,2,null,3,12,null,14,null,1,null,null,null,null,4,null,null,null,null,8,6,7]
[null,null,0,15,null,"1992-11-07",null,"Derby","(A)","W 2-1",9,null,11,null,10,5,2,null,3,12,null,14,null,1,null,null,null,null,4,null,null,null,null,8,6,7]
[null,null,0,16,null,"1992-11-15",null,"West Ham","(H)","W 2-1",9,null,11,null,10,5,2,null,3,12,null,14,null,1,null,null,null,null,4,null,null,null,null,8,7,null,null,null,6]
[null,null,0,17,null,"1992-11-21",null,{"$f":"H21","v":"Luton"},"(A)","D 1-1",9,null,11,null,10,5,2,null,3,null,null,12,null,1,null,null,null,null,4,null,null,null,null,8,7,14,null,null,6]
[null,null,0,18,null,"1992-11-28",null,"Portsmouth","(A)","L 0-1",9,null,11,null,10,5,2,null,3,null,null,12,null,1,null,null,null,null,4,null,null,null,null,8,7,14,null,null,6]
[null,null,0,19,null,"1992-12-05",null,"Southend","(H)","D 1-1",9,null,11,null,10,5,2,null,3,null,null,12,null,1,null,null,null,null,4,null,null,null,null,8,14,7,null,null,6]
[null,null,0,20,null,"1992-12-12",null,"Grimsby","(H)","W 2-1",12,null,11,9,10,5,2,null,3,14,null,null,null,1,null,null,null,null,4,null,null,null,null,8,null,7,null,null,6]
[null,null,0,21,null,"1992-12-20",null,"Newcastle","(A)","D 1-1",12,null,11,9,null,5,2,null,3,null,null,10,null,1,null,null,null,null,4,null,null,null,null,8,14,7,null,null,6]
[null,null,0,22,null,"1992-12-26",null,"Tranmere","(A)","D 1-1",12,null,11,9,null,5,2,null,3,null,null,10,null,1,null,null,null,null,4,null,null,null,null,8,14,7,null,null,6]
[null,null,0,23,null,"1992-12-28",null,"Leicester","(H)","W 2-0",12,null,11,9,null,5,2,null,3,null,null,10,null,1,null,null,null,null,4,null,null,null,null,8,14,7,null,null,6]
[null,null,0,24,null,"1993-01-09",null,"Notts Co","(A)","W 2-1",12,null,11,9,null,5,2,null,3,null,null,10,null,1,null,null,null,null,4,null,null,null,null,8,14,7,null,null,6]
[null,null,0,25,null,"1993-01-17",null,"Brentford","(H)","W 6-1",12,null,11,9,null,5,null,null,3,null,null,10,14,1,null,null,null,null,4,null,null,null,null,8,2,7,null,null,6]
[null,null,0,26,null,"1993-01-27",null,"Peterborough","(H)","W 4-0",12,null,11,9,null,null,null,null,3,null,null,10,14,1,null,null,null,null,4,null,5,null,6,8,2,7]
[null,null,0,27,null,"1993-01-30",null,"Oxford","(A)","L 0-3",12,null,11,9,null,null,null,null,3,null,null,10,14,1,null,null,null,null,4,null,5,null,6,8,2,7]
[null,null,0,28,null,"1993-02-06",null,"Watford","(H)","W 5-2",12,null,11,9,null,5,null,null,3,null,null,10,14,1,null,null,null,null,4,null,null,null,null,8,2,7,null,null,6]
[null,null,0,29,null,"1993-02-09",null,"Birmingham","(A)","D 0-0",12,null,11,9,null,5,null,null,3,null,null,10,null,1,null,null,null,null,4,null,null,null,14,8,2,7,null,null,6]
[null,null,0,30,null,"1993-02-13",null,"Swindon","(A)","L 0-3",12,null,11,9,null,5,null,null,3,null,null,10,2,1,null,null,null,null,4,null,null,null,14,8,null,7,null,null,6]
[null,null,0,31,null,"1993-02-20",null,"Barnsley","(H)","L 0-4",12,null,11,9,null,5,null,null,3,null,null,10,null,1,null,null,null,null,4,null,null,null,2,8,null,7,null,14,6]
[null,null,0,32,null,"1993-02-27",null,"Cambridge","(A)","D 1-1",8,null,11,9,10,5,2,null,3,null,null,null,null,1,null,null,null,null,4,null,null,null,null,12,null,7,null,14,6]
[null,null,0,33,null,"1993-03-06",null,{"$f":"H37","v":"Sunderland"},"(H)","D 0-0",8,null,11,9,10,5,2,null,3,null,null,null,null,1,null,null,null,null,4,null,null,null,null,12,14,7,null,null,6]
[null,null,0,34,null,"1993-03-09",null,"Bristol C","(A)","W 1-0",8,null,11,9,10,5,2,null,3,14,null,null,null,1,null,null,null,null,null,null,null,null,null,12,4,7,null,null,6]
[null,null,0,35,null,"1993-03-13",null,"Derby","(H)","W 1-0",8,null,11,9,10,5,2,null,3,null,null,null,null,1,null,null,null,null,4,null,null,null,null,12,7,14,null,null,6]
[null,null,0,36,null,"1993-03-21",null,"Southend","(A)","D 3-3",null,null,11,8,12,5,2,null,3,null,null,9,4,1,null,null,null,null,null,null,14,null,null,10,null,7,null,null,6]
[null,null,0,37,null,"1993-03-24",null,"Luton","(H)","W 1-0",9,null,11,8,null,5,2,null,3,null,null,null,null,1,null,12,null,null,null,null,14,null,null,10,7,4,null,null,6]
[null,null,0,38,null,"1993-03-28",null,"West Ham","(A)","D 2-2",9,null,11,8,null,5,2,null,3,null,14,null,null,1,null,12,7,null,null,null,null,null,null,10,null,4,null,null,6]
[null,null,0,39,null,"1993-04-03",null,"Portsmouth","(H)","D 1-1",9,null,11,14,null,5,2,null,3,null,null,null,null,1,null,12,7,null,null,null,6,null,null,10,null,4,null,null,null,null,8]
[null,null,0,40,null,"1993-04-06",null,"Grimsby","(A)","L 0-1",null,null,11,12,null,null,null,null,3,null,14,null,null,1,null,9,7,null,2,null,6,null,5,10,null,4,null,null,null,null,8]
[null,null,0,41,null,"1993-04-10",null,"Tranmere","(H)","D 0-0",9,null,11,null,null,null,2,null,3,null,null,8,null,1,null,12,6,null,4,null,5,null,null,10,7,14]
[null,null,0,42,null,"1993-04-14",null,"Leicester","(A)","L 0-3",9,null,11,null,null,null,2,null,3,null,null,8,14,1,null,12,6,null,null,null,5,null,null,10,7,4]
[null,null,0,43,null,"1993-04-17",null,"Newcastle","(H)","L 1-2",9,null,11,null,null,5,2,null,3,12,14,10,null,1,null,null,6,null,null,null,null,null,null,null,7,4,null,null,null,null,8]
[null,null,0,44,null,"1993-04-24",null,"Charlton","(H)","W 1-0",9,null,11,null,null,5,2,null,3,null,null,10,null,1,14,null,6,null,null,null,12,null,null,8,7,4]
[null,null,{"$f":"IF(J264=0,1,0)","v":0},45,null,"1993-05-01",null,"Wolves","(A)","L 1-3",9,null,11,null,null,5,2,null,3,12,null,10,null,1,null,null,6,null,14,null,null,null,null,8,7,4]
[null,null,{"$f":"IF(J265=0,1,0)","v":0},46,null,"1993-05-08",null,"Bristol R","(H)","L 0-3",9,null,11,null,null,5,null,null,3,14,null,10,null,1,null,null,6,2,null,null,null,null,null,8,7,4,null,null,null,12]
[null,null,{"$f":"IF(J266=0,1,0)","v":1},47,null,"00:00:00",null,"00:00:00","00:00:00",0]
[null,null,1,48,null,"00:00:00",null,"00:00:00","00:00:00",0]
[null,null,1,49,null,"00:00:00",null,{"$f":"H53","v":"00:00:00"},"00:00:00",0]
[]
[null,null,null,null,null,null,null,null,null,"Total League Apperances",{"$f":"COUNT($K$220:$K$265)-$K$271-$K$272","v":30},{"$f":"COUNT($L$220:$L$265)-$L$271-$L$272","v":3},{"$f":"COUNT($M$220:$M$265)-$M$271-$M$272","v":46},{"$f":"COUNT($N$220:$N$265)-$N$271-$N$272","v":20},{"$f":"COUNT($O$220:$O$265)-$O$271-$O$272","v":11},{"$f":"COUNT($P$220:$P$265)-$P$271-$P$272","v":41},{"$f":"COUNT($Q$220:$Q$265)-$Q$271-$Q$272","v":37},{"$f":"COUNT($R$220:$R$265)-$R$271-$R$272","v":1},{"$f":"COUNT($S$220:$S$265)-$S$271-$S$272","v":46},{"$f":"COUNT($T$220:$T$265)-$T$271-$T$272","v":4},{"$f":"COUNT($U$220:$U$265)-$U$271-$U$272","v":0},{"$f":"COUNT($V$220:$V$265)-$V$271-$V$272","v":29},{"$f":"COUNT($W$220:$W$265)-$W$271-$W$272","v":3},{"$f":"COUNT($X$220:$X$265)-$X$271-$X$272","v":45},{"$f":"COUNT($Y$220:$Y$265)-$Y$271-$Y$272","v":0},{"$f":"COUNT($Z$220:$Z$265)-$Z$271-$Z$272","v":1},{"$f":"COUNT($AA$220:$AA$265)-$AA$271-$AA$272","v":9},{"$f":"COUNT($AB$220:$AB$265)-$AB$271-$AB$272","v":1},{"$f":"COUNT($AC$220:$AC$265)-$AC$271-$AC$272","v":34},{"$f":"COUNT($AD$220:$AD$265)-$AD$271-$AD$272","v":0},{"$f":"COUNT($AE$220:$AE$265)-$AE$271-$AE$272","v":6},{"$f":"COUNT($AF$220:$AF$265)-$AF$271-$AF$272","v":6},{"$f":"COUNT($AG$220:$AG$265)-$AG$271-$AG$272","v":4},{"$f":"COUNT($AH$220:$AH$265)-$AH$271-$AH$272","v":31},{"$f":"COUNT($AI$220:$AI$265)-$AI$271-AI272","v":23},{"$f":"COUNT($AJ$220:$AJ$265)-$AJ$271-AJ272","v":41},{"$f":"COUNT($AK$220:$AK$265)-$AK$271","v":0},{"$f":"COUNT($AL$220:$AL$265)-$AL$271","v":0},{"$f":"COUNT($AM$220:$AM$265)-$AM$271","v":31},{"$f":"COUNT($AN$220:$AN$265)-$AN$271","v":0},{"$f":"COUNT($AO$220:$AO$265)-$AO$271","v":3},{"$f":"COUNT($AP$220:$AP$265)-$AP$271","v":0},{"$f":"COUNT($AQ$220:$AQ$265)-$AQ$271","v":0},{"$f":"COUNT($AR$220:$AR$265)-$AR$271","v":0}]
[null,null,null,null,null,null,null,null,null,"Total League Substitute Appearences ",{"$f":"$AX$56+$CH$56","v":11},{"$f":"$AY$56+$CI$56","v":0},{"$f":"$AZ$56+$CJ$56","v":0},{"$f":"$BA$56+$CK$56","v":2},{"$f":"$BB$56+$CL$56","v":2},{"$f":"$BC$56+$CM$56","v":0},{"$f":"$BD$56+$CN$56","v":0},{"$f":"$BE$56+$CO$56","v":0},{"$f":"$BF$56+$CP$56","v":0},{"$f":"$BG$56+$CQ$56","v":14},{"$f":"$BH$56+$CR$56","v":3},{"$f":"$BI$56+$CS$56","v":6},{"$f":"$BJ$56+$CT$56","v":8},{"$f":"$BK$56+$CU$56","v":0},{"$f":"$BL$56+$CV$56","v":1},{"$f":"$BM$56+$CW$56","v":5},{"$f":"$BN$56+$CX$56","v":0},{"$f":"$BO$56+$CY$56","v":0},{"$f":"$BP$56+$CZ$56","v":1},{"$f":"$BQ$56+$DA$56","v":0},{"$f":"$BR$56+$DB$56","v":1},{"$f":"$BS$56+$DC$56","v":1},{"$f":"$BT$56+$DD$56","v":2},{"$f":"$BU$56+$DE$56","v":6},{"$f":"$BV$56+$DF$56","v":7},{"$f":"$BW$56+$DG$56","v":4},{"$f":"$BX$56+$DH$56","v":0},{"$f":"$BY$56+$DI$56","v":5},{"$f":"$BZ$56+$DJ$56","v":0},{"$f":"$CA$56+$DK$56","v":1},{"$f":"$CB$56+$DL$56","v":0},{"$f":"$CC$56+$DM$56","v":0},{"$f":"$CD$56+$DN$56","v":0},{"$f":"$CE$56+$DO$56","v":0}]
[null,null,null,null,null,null,null,null,null,"Non Playing Substitute",{"$f":"COUNTIF($K$220:$K$265,\">=12\")-$K$271","v":1},{"$f":"COUNTIF($L$220:$L$265,\">=12\")-$L$271","v":0},{"$f":"COUNTIF($M$220:$M$265,\">=12\")-$M$271","v":0},{"$f":"COUNTIF($N$220:$N$265,\">=12\")-$N$271","v":0},{"$f":"COUNTIF($O$220:$O$265,\">=12\")-$O$271","v":0},{"$f":"COUNTIF($P$220:$P$265,\">=12\")-$P$271","v":0},{"$f":"COUNTIF($Q$220:$Q$265,\">=12\")-$Q$271","v":0},{"$f":"COUNTIF($R$220:$R$265,\">=12\")-$R$271","v":0},{"$f":"COUNTIF($S$220:$S$265,\">=12\")-$S$271","v":0},{"$f":"COUNTIF($T$220:$T$265,\">=12\")-$T$271","v":0},{"$f":"COUNTIF($U$220:$U$265,\">=12\")-$U$271","v":0},{"$f":"COUNTIF($V$220:$V$265,\">=12\")-$V$271","v":1},{"$f":"COUNTIF($W$220:$W$265,\">=12\")-$W$271","v":4},{"$f":"COUNTIF($X$220:$X$265,\">=12\")-$X$271","v":0},{"$f":"COUNTIF($Y$220:$Y$265,\">=12\")-$Y$271","v":0},{"$f":"COUNTIF($Z$220:$Z$265,\">=12\")-$Z$271","v":0},{"$f":"COUNTIF($AA$220:$AA$265,\">=12\")-$AA$271","v":0},{"$f":"COUNTIF($AB$220:$AB$265,\">=12\")-$AB$271","v":0},{"$f":"COUNTIF($AC$220:$AC$265,\">=12\")-$AC$271","v":0},{"$f":"COUNTIF($AD$220:$AD$265,\">=12\")-$AD$271","v":0},{"$f":"COUNTIF($AE$220:$AE$265,\">=12\")-$AE$271","v":2},{"$f":"COUNTIF($AF$220:$AF$265,\">=12\")-$AF$271","v":1},{"$f":"COUNTIF($AG$220:$AG$265,\">=12\")-$AG$271","v":1},{"$f":"COUNTIF($AH$220:$AH$265,\">=12\")-$AH$271","v":0},{"$f":"COUNTIF($AI$220:$AI$265,\">=12\")-$AI$271","v":2},{"$f":"COUNTIF($AJ$220:$AJ$265,\">=12\")-$AJ$271","v":0},{"$f":"COUNTIF($AK$220:$AK$265,\">=12\")-$AK$271","v":0},{"$f":"COUNTIF($AL$220:$AL$265,\">=12\")-$AL$271","v":0},{"$f":"COUNTIF($AM$220:$AM$265,\">=12\")-$AM$271","v":0},{"$f":"COUNTIF($AN$220:$AN$265,\">=12\")-$AN$271","v":0},{"$f":"COUNTIF($AO$220:$AO$265,\">=12\")-$AO$271","v":0},{"$f":"COUNTIF($AP$220:$AP$265,\">=12\")-$AP$271","v":0},{"$f":"COUNTIF($AQ$220:$AQ$265,\">=12\")-$AQ$271","v":0},{"$f":"COUNTIF($AR$220:$AR$265,\">=12\")-$AR$271","v":0}]
[null,null,null,null,null,null,null,null,null,"Goals",10,1,8,0,1,4,0,0,0,1,0,12,0,0,0,1,0,0,1,0,1,2,0,15,6,0,0,0,2,0,0,0,0,0]
[]
[null,null,null,null,null,null,null,"FA Cup"]
[null,null,{"$f":"IF(J276=0,1,0)","v":0},{"$f":"D61","v":3},null,{"$f":"F61","v":"1993-01-13"},null,{"$f":"H61","v":"Southend"},"(A)","L 0-1",12,null,11,9,null,5,null,null,3,null,null,10,14,1,null,null,null,null,4,null,null,null,null,8,2,7,null,null,6]
[null,null,1,{"$f":"D62","v":4},null,"00:00:00",null,"00:00:00","00:00:00",0]
[null,null,1,0,null,"00:00:00",null,"00:00:00","00:00:00",0]
[null,null,1,0,null,"00:00:00",null,"00:00:00","00:00:00",0]
[null,null,1,0,null,"00:00:00",null,"00:00:00","00:00:00",0]
[null,null,1,0,null,"00:00:00",null,"00:00:00","00:00:00",0]
[null,null,1,0,null,"00:00:00",null,"00:00:00","00:00:00",0]
[]
[null,null,null,null,null,null,null,null,null,"Total FA Cup Apperances",{"$f":"COUNT($K$276:$K$282)-$K$285-$K$286","v":0},{"$f":"COUNT($L$276:$L$282)-$L$285-$L$286","v":0},{"$f":"COUNT($M$276:$M$282)-$M$285-$M$286","v":1},{"$f":"COUNT($N$276:$N$282)-$N$285-$N$286","v":1},{"$f":"COUNT($O$276:$O$282)-$O$285-$O$286","v":0},{"$f":"COUNT($P$276:$P$282)-$P$285-$P$286","v":1},{"$f":"COUNT($Q$276:$Q$282)-$Q$285-$Q$286","v":0},{"$f":"COUNT($R$276:$R$282)-$R$285-$R$286","v":0},{"$f":"COUNT($S$276:$S$282)-$S$285-$S$286","v":1},{"$f":"COUNT($T$276:$T$282)-$T$285-$T$286","v":0},{"$f":"COUNT($U$276:$U$282)-$U$285-$U$286","v":0},{"$f":"COUNT($V$276:$V$282)-$V$285-$V$286","v":1},{"$f":"COUNT($W$276:$W$282)-$W$285-$W$286","v":0},{"$f":"COUNT($X$276:$X$282)-$X$285-$X$286","v":1},{"$f":"COUNT($Y$276:$Y$282)-$Y$285-$Y$286","v":0},{"$f":"COUNT($Z$276:$Z$282)-$Z$285-$Z$286","v":0},{"$f":"COUNT($AA$276:$AA$282)-$AA$285-$AA$286","v":0},{"$f":"COUNT($AB$276:$AB$282)-$AB$285-$AB$286","v":0},{"$f":"COUNT($AC$276:$AC$282)-$AC$285-$AC$286","v":1},{"$f":"COUNT($AD$276:$AD$282)-$AD$285-$AD$286","v":0},{"$f":"COUNT($AE$276:$AE$282)-$AE$285-$AE$286","v":0},{"$f":"COUNT($AF$276:$AF$282)-$AF$285-$AF$286","v":0},{"$f":"COUNT($AG$276:$AG$282)-$AG$285-$AG$286","v":0},{"$f":"COUNT($AH$276:$AH$282)-$AH$285-$AH$286","v":1},{"$f":"COUNT($AI$276:$AI$282)-$AI$285-$AI$286","v":1},{"$f":"COUNT($AJ$276:$AJ$282)-$AJ$285-$AJ$286","v":1},{"$f":"COUNT($AK$276:$AK$282)-$AK$285-$AK$286","v":0},{"$f":"COUNT($AL$276:$AL$282)-$AL$285-$AL$286","v":0},{"$f":"COUNT($AM$276:$AM$282)-$AM$285-$AM$286","v":1},{"$f":"COUNT($AN$276:$AN$282)-$AN$285-$AN$286","v":0},{"$f":"COUNT($AO$276:$AO$282)-$AO$285-$AO$286","v":0},{"$f":"COUNT($AP$276:$AP$282)-$AP$285-$AP$286","v":0},{"$f":"COUNT($AQ$276:$AQ$282)-$AQ$285-$AQ$286","v":0},{"$f":"COUNT($AR$276:$AR$282)-$AR$285-$AR$286","v":0}]
[null,null,null,null,null,null,null,null,null,"Total FA Cup Substitute Appearences ",{"$f":"$AX$70+$CH$70","v":1},{"$f":"$AY$70+$CI$70","v":0},{"$f":"$AZ$70+$CJ$70","v":0},{"$f":"$BA$70+$CK$70","v":0},{"$f":"$BB$70+$CL$70","v":0},{"$f":"$BC$70+$CM$70","v":0},{"$f":"$BD$70+$CN$70","v":0},{"$f":"$BE$70+$CO$70","v":0},{"$f":"$BF$70+$CP$70","v":0},{"$f":"$BG$70+$CQ$70","v":0},{"$f":"$BH$70+$CR$70","v":0},{"$f":"$BI$70+$CS$70","v":0},{"$f":"$BJ$70+$CT$70","v":1},{"$f":"$BK$70+$CU$70","v":0},{"$f":"$BL$70+$CV$70","v":0},{"$f":"$BM$70+$CW$70","v":0},{"$f":"$BN$70+$CX$70","v":0},{"$f":"$BO$70+$CY$70","v":0},{"$f":"$BP$70+$CZ$70","v":0},{"$f":"$BQ$70+$DA$70","v":0},{"$f":"$BR$70+$DB$70","v":0},{"$f":"$BS$70+$DC$70","v":0},{"$f":"$BT$70+$DD$70","v":0},{"$f":"$BU$70+$DE$70","v":0},{"$f":"$BV$70+$DF$70","v":0},{"$f":"$BW$70+$DG$70","v":0},{"$f":"$BX$70+$DH$70","v":0},{"$f":"$BY$70+$DI$70","v":0},{"$f":"$BZ$70+$DJ$70","v":0},{"$f":"$CA$70+$DK$70","v":0},{"$f":"$CB$70+$DL$70","v":0},{"$f":"$CC$70+$DM$70","v":0},{"$f":"$CD$70+$DN$70","v":0},{"$f":"$CE$70+$DO$70","v":0}]
[null,null,null,null,null,null,null,null,null,"Non Playing Substitute",{"$f":"COUNTIF($K$276:$K$282,\">=12\")-$K$285","v":0},{"$f":"COUNTIF($L$276:$L$282,\">=12\")-$L$285","v":0},{"$f":"COUNTIF($M$276:$M$282,\">=12\")-$M$285","v":0},{"$f":"COUNTIF($N$276:$N$282,\">=12\")-$N$285","v":0},{"$f":"COUNTIF($O$276:$O$282,\">=12\")-$O$285","v":0},{"$f":"COUNTIF($P$276:$P$282,\">=12\")-$P$285","v":0},{"$f":"COUNTIF($Q$276:$Q$282,\">=12\")-$Q$285","v":0},{"$f":"COUNTIF($R$276:$R$282,\">=12\")-$R$285","v":0},{"$f":"COUNTIF($S$276:$S$282,\">=12\")-$S$285","v":0},{"$f":"COUNTIF($T$276:$T$282,\">=12\")-$T$285","v":0},{"$f":"COUNTIF($U$276:$U$282,\">=12\")-$U$285","v":0},{"$f":"COUNTIF($V$276:$V$282,\">=12\")-$V$285","v":0},{"$f":"COUNTIF($W$276:$W$282,\">=12\")-$W$285","v":0},{"$f":"COUNTIF($X$276:$X$282,\">=12\")-$X$285","v":0},{"$f":"COUNTIF($Y$276:$Y$282,\">=12\")-$Y$285","v":0},{"$f":"COUNTIF($Z$276:$Z$282,\">=12\")-$Z$285","v":0},{"$f":"COUNTIF($AA$276:$AA$282,\">=12\")-$AA$285","v":0},{"$f":"COUNTIF($AB$276:$AB$282,\">=12\")-$AB$285","v":0},{"$f":"COUNTIF($AC$276:$AC$282,\">=12\")-$AC$285","v":0},{"$f":"COUNTIF($AD$276:$AD$282,\">=12\")-$AD$285","v":0},{"$f":"COUNTIF($AE$276:$AE$282,\">=12\")-$AE$285","v":0},{"$f":"COUNTIF($AF$276:$AF$282,\">=12\")-$AF$285","v":0},{"$f":"COUNTIF($AG$276:$AG$282,\">=12\")-$AG$285","v":0},{"$f":"COUNTIF($AH$276:$AH$282,\">=12\")-$AH$285","v":0},{"$f":"COUNTIF($AI$276:$AI$282,\">=12\")-$AI$285","v":0},{"$f":"COUNTIF($AJ$276:$AJ$282,\">=12\")-$AJ$285","v":0},{"$f":"COUNTIF($AK$276:$AK$282,\">=12\")-$AK$285","v":0},{"$f":"COUNTIF($AL$276:$AL$282,\">=12\")-$AL$285","v":0},{"$f":"COUNTIF($AM$276:$AM$282,\">=12\")-$AM$285","v":0},{"$f":"COUNTIF($AN$276:$AN$282,\">=12\")-$AN$285","v":0},{"$f":"COUNTIF($AO$276:$AO$282,\">=12\")-$AO$285","v":0},{"$f":"COUNTIF($AP$276:$AP$282,\">=12\")-$AP$285","v":0},{"$f":"COUNTIF($AQ$276:$AQ$282,\">=12\")-$AQ$285","v":0},{"$f":"COUNTIF($AR$276:$AR$282,\">=12\")-$AR$285","v":0}]
[null,null,null,null,null,null,null,null,null,"Goals",0,0,0,0,0,0,0,0,0,0,0,0,0,0,0,0,0,0,0,0,0,0,0,0,0,0,0,0,0,0,0,0,0,0]
[]
[null,null,null,null,null,null,null,"League Cup"]
[null,null,{"$f":"IF(J290=0,1,0)","v":0},{"$f":"D75","v":1},null,{"$f":"F75","v":"1992-08-18"},null,{"$f":"H75","v":"Leyton Orient"},{"$f":"I75","v":"(A)"},{"$f":"J75","v":"D 2-2"},9,10,11,null,null,5,2,1,3,null,null,null,null,null,null,null,null,null,4,null,null,8,null,null,14,7,null,12,6]
[null,null,0,{"$f":"D76","v":1},null,{"$f":"F76","v":"1992-08-26"},null,{"$f":"H76","v":"Leyton Orient"},"(H)","W 3-0",9,10,11,null,null,5,2,null,3,null,null,12,14,1,null,null,null,null,null,null,null,8,null,null,4,7,null,null,6]
[null,null,0,2,null,"1992-09-22",null,"Arsenal","(A)","D 1-1",9,null,11,null,null,5,2,null,3,8,null,10,14,1,null,null,null,null,4,null,null,12,null,null,null,7,null,null,6]
[null,null,0,2,null,"1992-10-07",null,"Arsenal","(H)","D 1-1",9,null,11,null,null,5,2,null,3,8,null,10,null,1,null,null,null,null,4,null,null,null,null,12,14,7,null,null,6]
[null,null,1,0,null,"00:00:00",null,"00:00:00","00:00:00",0]
[null,null,1,0,null,"00:00:00",null,"00:00:00","00:00:00",0]
[null,null,1,0,null,"00:00:00",null,"00:00:00","00:00:00",0]
[null,null,1,0,null,"00:00:00",null,"00:00:00","00:00:00",0]
[null,null,1,0,null,"00:00:00",null,"00:00:00","00:00:00",0]
[]
[null,null,null,null,null,null,null,null,null,"Total League Cup Apperances",{"$f":"COUNT($K$290:$K$298)-$K$302-$K$301","v":4},{"$f":"COUNT($L$290:$L$298)-$L$302-$L$301","v":2},{"$f":"COUNT($M$290:$M$298)-$M$302-$M$301","v":4},{"$f":"COUNT($N$290:$N$298)-$N$302-$N$301","v":0},{"$f":"COUNT($O$290:$O$298)-$O$302-$O$301","v":0},{"$f":"COUNT($P$290:$P$298)-$P$302-$P$301","v":4},{"$f":"COUNT($Q$290:$Q$298)-$Q$302-$Q$301","v":4},{"$f":"COUNT($R$290:$R$298)-$R$302-$R$301","v":1},{"$f":"COUNT($S$290:$S$298)-$S$302-$S$301","v":4},{"$f":"COUNT($T$290:$T$298)-$T$302-$T$301","v":2},{"$f":"COUNT($U$290:$U$298)-$U$302-$U$301","v":0},{"$f":"COUNT($V$290:$V$298)-$V$302-$V$301","v":2},{"$f":"COUNT($W$290:$W$298)-$W$302-$W$301","v":0},{"$f":"COUNT($X$290:$X$298)-$X$302-$X$301","v":3},{"$f":"COUNT($Y$290:$Y$298)-$Y$302-$Y$301","v":0},{"$f":"COUNT($Z$290:$Z$298)-$Z$302-$Z$301","v":0},{"$f":"COUNT($AA$290:$AA$298)-$AA$302-$AA$301","v":0},{"$f":"COUNT($AB$290:$AB$298)-$AB$302-$AB$301","v":0},{"$f":"COUNT($AC$290:$AC$298)-$AC$302-$AC$301","v":3},{"$f":"COUNT($AD$290:$AD$298)-$AD$302-$AD$301","v":0},{"$f":"COUNT($AE$290:$AE$298)-$AE$302-$AE$301","v":0},{"$f":"COUNT($AF$290:$AF$298)-$AF$302-$AF$301","v":2},{"$f":"COUNT($AG$290:$AG$298)-$AG$302-$AG$301","v":0},{"$f":"COUNT($AH$290:$AH$298)-$AH$302-$AH$301","v":0},{"$f":"COUNT($AI$290:$AI$298)-$AI$302-$AI$301","v":1},{"$f":"COUNT($AJ$290:$AJ$298)-$AJ$302-$AJ$301","v":4},{"$f":"COUNT($AK$290:$AK$298)-$AK$302-$AK$301","v":0},{"$f":"COUNT($AL$290:$AL$298)-$AL$302-$AL$301","v":0},{"$f":"COUNT($AM$290:$AM$298)-$AM$302-$AM$301","v":4},{"$f":"COUNT($AN$290:$AN$298)-$AN$302-$AN$301","v":0},{"$f":"COUNT($AO$290:$AO$298)-$AO$302-$AO$301","v":0},{"$f":"COUNT($AP$290:$AP$298)-$AP$302-$AP$301","v":0},{"$f":"COUNT($AQ$290:$AQ$298)-$AQ$302-$AQ$301","v":0},{"$f":"COUNT($AR$290:$AR$298)-$AR$302-$AR$301","v":0}]
[null,null,null,null,null,null,null,null,null,"Total League Cup Substitute Appearences ",{"$f":"$AX$86+$CH$86","v":0},{"$f":"$AY$86+$CI$86","v":0},{"$f":"$AZ$86+$CJ$86","v":0},{"$f":"$BA$86+$CK$86","v":0},{"$f":"$BB$86+$CL$86","v":0},{"$f":"$BC$86+$CM$86","v":0},{"$f":"$BD$86+$CN$86","v":0},{"$f":"$BE$86+$CO$86","v":0},{"$f":"$BF$86+$CP$86","v":0},{"$f":"$BG$86+$CQ$86","v":0},{"$f":"$BH$86+$CR$86","v":0},{"$f":"$BI$86+$CS$86","v":1},{"$f":"$BJ$86+$CT$86","v":1},{"$f":"$BK$86+$CU$86","v":0},{"$f":"$BL$86+$CV$86","v":0},{"$f":"$BM$86+$CW$86","v":0},{"$f":"$BN$86+$CX$86","v":0},{"$f":"$BO$86+$CY$86","v":0},{"$f":"$BP$86+$CZ$86","v":0},{"$f":"$BQ$86+$DA$86","v":0},{"$f":"$BR$86+$DB$86","v":0},{"$f":"$BS$86+$DC$86","v":1},{"$f":"$BT$86+$DD$86","v":0},{"$f":"$BU$86+$DE$86","v":1},{"$f":"$BV$86+$DF$86","v":1},{"$f":"$BW$86+$DG$86","v":0},{"$f":"$BX$86+$DH$86","v":0},{"$f":"$BY$86+$DI$86","v":0},{"$f":"$BZ$86+$DJ$86","v":0},{"$f":"$CA$86+$DK$86","v":0},{"$f":"$CB$86+$DL$86","v":0},{"$f":"$CC$86+$DM$86","v":0},{"$f":"$CD$86+$DN$86","v":0},{"$f":"$CE$86+$DO$86","v":0}]
[null,null,null,null,null,null,null,null,null,"Non Playing Substitute",{"$f":"COUNTIF($K$290:$K$298,\">=12\")-$K$301","v":0},{"$f":"COUNTIF($L$290:$L$298,\">=12\")-$L$301","v":0},{"$f":"COUNTIF($M$290:$M$298,\">=12\")-$M$301","v":0},{"$f":"COUNTIF($N$290:$N$298,\">=12\")-$N$301","v":0},{"$f":"COUNTIF($O$290:$O$298,\">=12\")-$O$301","v":0},{"$f":"COUNTIF($P$290:$P$298,\">=12\")-$P$301","v":0},{"$f":"COUNTIF($Q$290:$Q$298,\">=12\")-$Q$301","v":0},{"$f":"COUNTIF($R$290:$R$298,\">=12\")-$R$301","v":0},{"$f":"COUNTIF($S$290:$S$298,\">=12\")-$S$301","v":0},{"$f":"COUNTIF($T$290:$T$298,\">=12\")-$T$301","v":0},{"$f":"COUNTIF($U$290:$U$298,\">=12\")-$U$301","v":0},{"$f":"COUNTIF($V$290:$V$298,\">=12\")-$V$301","v":0},{"$f":"COUNTIF($W$290:$W$298,\">=12\")-$W$301","v":1},{"$f":"COUNTIF($X$290:$X$298,\">=12\")-$X$301","v":0},{"$f":"COUNTIF($Y$290:$Y$298,\">=12\")-$Y$301","v":0},{"$f":"COUNTIF($Z$290:$Z$298,\">=12\")-$Z$301","v":0},{"$f":"COUNTIF($AA$290:$AA$298,\">=12\")-$AA$301","v":0},{"$f":"COUNTIF($AB$290:$AB$298,\">=12\")-$AB$301","v":0},{"$f":"COUNTIF($AC$290:$AC$298,\">=12\")-$AC$301","v":0},{"$f":"COUNTIF($AD$290:$AD$298,\">=12\")-$AD$301","v":0},{"$f":"COUNTIF($AE$290:$AE$298,\">=12\")-$AE$301","v":0},{"$f":"COUNTIF($AF$290:$AF$298,\">=12\")-$AF$301","v":0},{"$f":"COUNTIF($AG$290:$AG$298,\">=12\")-$AG$301","v":0},{"$f":"COUNTIF($AH$290:$AH$298,\">=12\")-$AH$301","v":0},{"$f":"COUNTIF($AI$290:$AI$298,\">=12\")-$AI$301","v":1},{"$f":"COUNTIF($AJ$290:$AJ$298,\">=12\")-$AJ$301","v":0},{"$f":"COUNTIF($AK$290:$AK$298,\">=12\")-$AK$301","v":0},{"$f":"COUNTIF($AL$290:$AL$298,\">=12\")-$AL$301","v":1},{"$f":"COUNTIF($AM$290:$AM$298,\">=12\")-$AM$301","v":0},{"$f":"COUNTIF($AN$290:$AN$298,\">=12\")-$AN$301","v":0},{"$f":"COUNTIF($AO$290:$AO$298,\">=12\")-$AO$301","v":0},{"$f":"COUNTIF($AP$290:$AP$298,\">=12\")-$AP$301","v":0},{"$f":"COUNTIF($AQ$290:$AQ$298,\">=12\")-$AQ$301","v":0},{"$f":"COUNTIF($AR$290:$AR$298,\">=12\")-$AR$301","v":0}]
[null,null,null,null,null,null,null,null,null,"Goals",2,1,0,0,0,0,0,0,0,0,0,0,0,0,0,0,0,0,0,0,0,0,0,0,0,2,0,0,1,0,0,0,0,0]
[null,null,1]
[null,null,null,null,null,null,null,"Anglo Italian Cup"]
[null,null,{"$f":"IF(J306=0,1,0)","v":0},{"$f":"D91","v":"Grp"},null,{"$f":"F91","v":"1992-09-02"},null,{"$f":"H91","v":"Charlton"},"(H)","L 1-2",null,null,14,10,null,5,2,null,null,12,null,9,3,1,null,null,null,null,null,null,null,8,6,null,4,7,null,11]
[null,null,{"$f":"IF(J307=0,1,0)","v":0},"Grp",null,"1992-09-29",null,"Portsmouth","(A)","D 1-1",null,null,null,9,null,null,2,1,3,null,null,12,4,null,null,null,null,14,null,5,null,null,null,10,8,6,11,7]
[null,null,1,0,null,"00:00:00",null,"00:00:00","00:00:00",0]
[null,null,1,0,null,"00:00:00",null,"00:00:00","00:00:00",0]
[null,null,1,0,null,"00:00:00",null,"00:00:00","00:00:00",0]
[null,null,1,0,null,"00:00:00",null,"00:00:00","00:00:00",0]
[null,null,1,0,null,"00:00:00",null,"00:00:00","00:00:00",0]
[null,null,1,0,null,"00:00:00",null,"00:00:00","00:00:00",0]
[null,null,1,0,null,"00:00:00",null,"00:00:00","00:00:00",0]
[]
[null,null,null,null,null,null,null,null,null,"Total Anglo Italian Cup Apperances",{"$f":"COUNT($K$306:$K$314)-$K$317-$K$318","v":0},{"$f":"COUNT($L$306:$L$314)-$L$317-$L$318","v":0},{"$f":"COUNT($M$306:$M$314)-$M$317-$M$318","v":0},{"$f":"COUNT($N$306:$N$314)-$N$317-$N$318","v":2},{"$f":"COUNT($O$306:$O$314)-$O$317-$O$318","v":0},{"$f":"COUNT($P$306:$P$314)-$P$317-$P$318","v":1},{"$f":"COUNT($Q$306:$Q$314)-$Q$317-$Q$318","v":2},{"$f":"COUNT($R$306:$R$314)-$R$317-$R$318","v":1},{"$f":"COUNT($S$306:$S$314)-$S$317-$S$318","v":1},{"$f":"COUNT($T$306:$T$314)-$T$317-$T$318","v":0},{"$f":"COUNT($U$306:$U$314)-$U$317-$U$318","v":0},{"$f":"COUNT($V$306:$V$314)-$V$317-$V$318","v":1},{"$f":"COUNT($W$306:$W$314)-$W$317-$W$318","v":2},{"$f":"COUNT($X$306:$X$314)-$X$317-$X$318","v":1},{"$f":"COUNT($Y$306:$Y$314)-$Y$317-$Y$318","v":0},{"$f":"COUNT($Z$306:$Z$314)-$Z$317-$Z$318","v":0},{"$f":"COUNT($AA$306:$AA$314)-$AA$317-$AA$318","v":0},{"$f":"COUNT($AB$306:$AB$314)-$AB$317-$AB$318","v":0},{"$f":"COUNT($AC$306:$AC$314)-$AC$317-$AC$318","v":0},{"$f":"COUNT($AD$306:$AD$314)-$AD$317-$AD$318","v":1},{"$f":"COUNT($AE$306:$AE$314)-$AE$317-$AE$318","v":0},{"$f":"COUNT($AF$306:$AF$314)-$AF$317-$AF$318","v":1},{"$f":"COUNT($AG$306:$AG$314)-$AG$317-$AG$318","v":1},{"$f":"COUNT($AH$306:$AH$314)-$AH$317-$AH$318","v":1},{"$f":"COUNT($AI$306:$AI$314)-$AI$317-$AI$318","v":2},{"$f":"COUNT($AJ$306:$AJ$314)-$AJ$317-$AJ$318","v":2},{"$f":"COUNT($AK$306:$AK$314)-$AK$317-$AK$318","v":1},{"$f":"COUNT($AL$306:$AL$314)-$AL$317-$AL$318","v":2},{"$f":"COUNT($AM$306:$AM$314)-$AM$317-$AM$318","v":0},{"$f":"COUNT($AN$306:$AN$314)-$AN$317-$AN$318","v":0},{"$f":"COUNT($AO$306:$AO$314)-$AO$317-$AO$318","v":0},{"$f":"COUNT($AP$306:$AP$314)-$AP$317-$AP$318","v":0},{"$f":"COUNT($AQ$306:$AQ$314)-$AQ$317-$AQ$318","v":0},{"$f":"COUNT($AR$306:$AR$314)-$AR$317-$AR$318","v":0}]
[null,null,null,null,null,null,null,null,null,"Total Anglo Italian Cup Sub Appearences ",{"$f":"$AX$102+$CH$102","v":0},{"$f":"$AY$102+$CI$102","v":0},{"$f":"$AZ$102+$CJ$102","v":0},{"$f":"$BA$102+$CK$102","v":0},{"$f":"$BB$102+$CL$102","v":0},{"$f":"$BC$102+$CM$102","v":0},{"$f":"$BD$102+$CN$102","v":0},{"$f":"$BE$102+$CO$102","v":0},{"$f":"$BF$102+$CP$102","v":0},{"$f":"$BG$102+$CQ$102","v":1},{"$f":"$BH$102+$CR$102","v":0},{"$f":"$BI$102+$CS$102","v":0},{"$f":"$BJ$102+$CT$102","v":0},{"$f":"$BK$102+$CU$102","v":0},{"$f":"$BL$102+$CV$102","v":0},{"$f":"$BM$102+$CW$102","v":0},{"$f":"$BN$102+$CX$102","v":0},{"$f":"$BO$102+$CY$102","v":1},{"$f":"$BP$102+$CZ$102","v":0},{"$f":"$BQ$102+$DA$102","v":0},{"$f":"$BR$102+$DB$102","v":0},{"$f":"$BS$102+$DC$102","v":0},{"$f":"$BT$102+$DD$102","v":0},{"$f":"$BU$102+$DE$102","v":0},{"$f":"$BV$102+$DF$102","v":0},{"$f":"$BW$102+$DG$102","v":0},{"$f":"$BX$102+$DH$102","v":0},{"$f":"$BY$102+$DI$102","v":0},{"$f":"$BZ$102+$DJ$102","v":0},{"$f":"$CA$102+$DK$102","v":0},{"$f":"$CB$102+$DL$102","v":0},{"$f":"$CC$102+$DM$102","v":0},{"$f":"$CD$102+$DN$102","v":0},{"$f":"$CE$317+$DO$317","v":0}]
[null,null,null,null,null,null,null,null,null,"Non Playing Substitute",{"$f":"COUNTIF($K$306:$K$314,\">=12\")-$K$317","v":0},{"$f":"COUNTIF($L$306:$L$314,\">=12\")-$L$317","v":0},{"$f":"COUNTIF($M$306:$M$314,\">=12\")-$M$317","v":1},{"$f":"COUNTIF($N$306:$N$314,\">=12\")-$N$317","v":0},{"$f":"COUNTIF($O$306:$O$314,\">=12\")-$O$317","v":0},{"$f":"COUNTIF($P$306:$P$314,\">=12\")-$P$317","v":0},{"$f":"COUNTIF($Q$306:$Q$314,\">=12\")-$Q$317","v":0},{"$f":"COUNTIF($R$306:$R$314,\">=12\")-$R$317","v":0},{"$f":"COUNTIF($S$306:$S$314,\">=12\")-$S$317","v":0},{"$f":"COUNTIF($T$306:$T$314,\">=12\")-$T$317","v":0},{"$f":"COUNTIF($U$306:$U$314,\">=12\")-$U$317","v":0},{"$f":"COUNTIF($V$306:$V$314,\">=12\")-$V$317","v":1},{"$f":"COUNTIF($W$306:$W$314,\">=12\")-$W$317","v":0},{"$f":"COUNTIF($X$306:$X$314,\">=12\")-$X$317","v":0},{"$f":"COUNTIF($Y$306:$Y$314,\">=12\")-$Y$317","v":0},{"$f":"COUNTIF($Z$306:$Z$314,\">=12\")-$Z$317","v":0},{"$f":"COUNTIF($AA$306:$AA$314,\">=12\")-$AA$317","v":0},{"$f":"COUNTIF($AB$306:$AB$314,\">=12\")-$AB$317","v":0},{"$f":"COUNTIF($AC$306:$AC$314,\">=12\")-$AC$317","v":0},{"$f":"COUNTIF($AD$306:$AD$314,\">=12\")-$AD$317","v":0},{"$f":"COUNTIF($AE$306:$AE$314,\">=12\")-$AE$317","v":0},{"$f":"COUNTIF($AF$306:$AF$314,\">=12\")-$AF$317","v":0},{"$f":"COUNTIF($AG$306:$AG$314,\">=12\")-$AG$317","v":0},{"$f":"COUNTIF($AH$306:$AH$314,\">=12\")-$AH$317","v":0},{"$f":"COUNTIF($AI$306:$AI$314,\">=12\")-$AI$317","v":0},{"$f":"COUNTIF($AJ$306:$AJ$314,\">=12\")-$AJ$317","v":0},{"$f":"COUNTIF($AK$306:$AK$314,\">=12\")-$AK$317","v":0},{"$f":"COUNTIF($AL$306:$AL$314,\">=12\")-$AL$317","v":0},{"$f":"COUNTIF($AM$306:$AM$314,\">=12\")-$AM$317","v":0},{"$f":"COUNTIF($AN$306:$AN$314,\">=12\")-$AN$317","v":0},{"$f":"COUNTIF($AO$306:$AO$314,\">=12\")-$AO$317","v":0},{"$f":"COUNTIF($AP$306:$AP$314,\">=12\")-$AP$317","v":0},{"$f":"COUNTIF($AQ$306:$AQ$314,\">=12\")-$AQ$317","v":0},{"$f":"COUNTIF($AR$306:$AR$314,\">=12\")-$AR$317","v":0}]
[null,null,null,null,null,null,null,null,null,"Goals",0,0,0,0,0,0,1,0,0,0,0,0,0,0,0,0,0,0,0,0,0,0,0,0,1,0,0,0,0,0,0,0,0,0]
[null,null,1]
[]
[]
[]
[]
["Manual Input",null,null,null,null,null,null,"Opponents","Venue/Result",null,{"$f":"K3","v":"Allen"},{"$f":"L3","v":"Armstrong"},"Barber","Bogie","Byrne","Cooper","Cunningham","Davidson","Dawes","Dolby","Gaynor","Goodman","Holsgrove","Keller","Kennedy","Kerr","Maguire","Manning","May","M McCarthy","T McCarthy","McGinlay","McLeary","Moralee","Rae","Roberts","Sion","Stephenson","Stevens","Verveer","Wallace",0,0,0,null,null,null,null,"Not Checked Yet"]
[null,null,{"$f":"IF(J326=0,1,0)","v":0},1,null,{"$f":"F5","v":"1992-08-15"},null,{"$f":"H5","v":"Watford"},{"$f":"I5","v":"(A)"},{"$f":"J5","v":"L 1-3"},9,10,11,null,null,5,2,1,3,null,null,null,null,null,null,null,null,null,4,null,null,8,null,null,14,7,null,12,6]
[null,null,0,2,null,{"$f":"F6","v":"1992-08-22"},null,{"$f":"H6","v":"Oxford"},"(H)","W 3-1",9,10,11,null,null,5,2,null,3,null,null,12,null,1,null,null,null,null,4,null,null,8,null,null,14,7,null,null,6]
[null,null,0,3,null,"1992-08-29",null,"Barnsley","(A)","D 0-0",null,10,11,null,null,5,2,null,3,null,null,9,null,1,null,null,null,null,null,null,null,8,14,null,4,7,null,12,6]
[null,null,0,4,null,"1992-09-05",null,"Swindon","(H)","W 2-1",null,null,11,4,null,5,2,null,3,14,null,9,10,1,null,null,null,null,null,null,null,8,null,null,null,7,null,12,6]
[null,null,0,5,null,"1992-09-12",null,"Birmingham","(H)","D 0-0",9,null,11,null,null,5,2,null,3,12,null,10,14,1,null,null,null,null,4,null,null,8,null,null,null,7,null,null,6]
[null,null,0,6,null,"1992-09-15",null,"Peterborough","(A)","D 0-0",9,null,11,null,null,5,2,null,3,12,null,10,14,1,null,null,null,null,4,null,null,8,null,null,null,7,null,null,6]
[null,null,0,7,null,"1992-09-19",null,"Notts Co","(H)","W 6-0",9,null,11,null,null,5,2,null,3,8,null,10,14,1,null,null,null,null,4,null,null,12,null,null,null,7,null,null,6]
[null,null,0,8,null,"1992-09-26",null,"Brentford","(A)","D 1-1",9,null,11,null,null,5,2,null,3,8,null,10,14,1,null,null,null,null,4,null,null,12,null,null,null,7,null,null,6]
[null,null,0,9,null,"1992-10-03",null,"Sunderland","(A)","L 0-2",9,null,11,null,null,5,2,null,3,8,null,10,14,1,null,null,null,null,4,null,null,null,null,12,null,7,null,null,6]
[null,null,0,10,null,"1992-10-10",null,"Cambridge","(H)","D 2-2",9,null,11,null,null,5,2,null,3,8,null,10,null,1,null,null,null,null,4,null,null,null,null,12,14,7,null,null,6]
[null,null,0,11,null,"1992-10-18",null,"Charlton","(A)","W 2-0",9,null,11,null,null,5,2,null,3,12,null,10,14,1,null,null,null,null,4,null,null,null,null,8,6,7]
[null,null,0,12,null,"1992-10-25",null,"Wolves","(H)","W 2-0",9,null,11,null,null,5,2,null,3,12,null,10,14,1,null,null,null,null,4,null,null,null,null,8,6,7]
[null,null,0,13,null,"1992-10-31",null,"Bristol R","(A)","L 0-1",9,null,11,null,14,5,2,null,3,12,null,10,null,1,null,null,null,null,4,null,null,null,null,8,6,7]
[null,null,0,14,null,"1992-11-04",null,"Bristol C","(H)","W 4-1",9,null,11,null,10,5,2,null,3,12,null,14,null,1,null,null,null,null,4,null,null,null,null,8,6,7]
[null,null,0,15,null,"1992-11-07",null,"Derby","(A)","W 2-1",9,null,11,null,10,5,2,null,3,12,null,14,null,1,null,null,null,null,4,null,null,null,null,8,6,7]
[null,null,0,16,null,"1992-11-15",null,"West Ham","(H)","W 2-1",9,null,11,null,10,5,2,null,3,12,null,14,null,1,null,null,null,null,4,null,null,null,null,8,7,null,null,null,6]
[null,null,0,17,null,"1992-11-21",null,"Luton","(A)","D 1-1",9,null,11,null,10,5,2,null,3,null,null,12,null,1,null,null,null,null,4,null,null,null,null,8,7,14,null,null,6]
[null,null,0,18,null,"1992-11-28",null,{"$f":"H22","v":"Portsmouth"},"(A)","L 0-1",9,null,11,null,10,5,2,null,3,null,null,12,null,1,null,null,null,null,4,null,null,null,null,8,7,14,null,null,6]
[null,null,0,19,null,"1992-12-05",null,"Southend","(H)","D 1-1",9,null,11,null,10,5,2,null,3,null,null,12,null,1,null,null,null,null,4,null,null,null,null,8,14,7,null,null,6]
[null,null,0,20,null,"1992-12-12",null,"Grimsby","(H)","W 2-1",12,null,11,9,10,5,2,null,3,14,null,null,null,1,null,null,null,null,4,null,null,null,null,8,null,7,null,null,6]
[null,null,0,21,null,"1992-12-20",null,"Newcastle","(A)","D 1-1",12,null,11,9,null,5,2,null,3,null,null,10,null,1,null,null,null,null,4,null,null,null,null,8,14,7,null,null,6]
[null,null,0,22,null,"1992-12-26",null,"Tranmere","(A)","D 1-1",12,null,11,9,null,5,2,null,3,null,null,10,null,1,null,null,null,null,4,null,null,null,null,8,14,7,null,null,6]
[null,null,0,23,null,"1992-12-28",null,"Leicester","(H)","W 2-0",12,null,11,9,null,5,2,null,3,null,null,10,null,1,null,null,null,null,4,null,null,null,null,8,14,7,null,null,6]
[null,null,0,24,null,"1993-01-09",null,"Notts Co","(A)","W 2-1",12,null,11,9,null,5,2,null,3,null,null,10,null,1,null,null,null,null,4,null,null,null,null,8,14,7,null,null,6]
[null,null,0,25,null,"1993-01-17",null,"Brentford","(H)","W 6-1",12,null,11,9,null,5,null,null,3,null,null,10,14,1,null,null,null,null,4,null,null,null,null,8,2,7,null,null,6]
[null,null,0,26,null,"1993-01-27",null,"Peterborough","(H)","W 4-0",12,null,11,9,null,null,null,null,3,null,null,10,14,1,null,null,null,null,4,null,5,null,6,8,2,7]
[null,null,0,27,null,"1993-01-30",null,"Oxford","(A)","L 0-3",12,null,11,9,null,null,null,null,3,null,null,10,14,1,null,null,null,null,4,null,5,null,6,8,2,7]
[null,null,0,28,null,"1993-02-06",null,"Watford","(H)","W 5-2",12,null,11,9,null,5,null,null,3,null,null,10,14,1,null,null,null,null,4,null,null,null,null,8,2,7,null,null,6]
[null,null,0,29,null,"1993-02-09",null,"Birmingham","(A)","D 0-0",12,null,11,9,null,5,null,null,3,null,null,10,null,1,null,null,null,null,4,null,null,null,14,8,2,7,null,null,6]
[null,null,0,30,null,"1993-02-13",null,"Swindon","(A)","L 0-3",12,null,11,9,null,5,null,null,3,null,null,10,2,1,null,null,null,null,4,null,null,null,14,8,null,7,null,null,6]
[null,null,0,31,null,"1993-02-20",null,"Barnsley","(H)","L 0-4",12,null,11,9,null,5,null,null,3,null,null,10,null,1,null,null,null,null,4,null,null,null,2,8,null,7,null,14,6]
[null,null,0,32,null,"1993-02-27",null,"Cambridge","(A)","D 1-1",8,null,11,9,10,5,2,null,3,null,null,null,null,1,null,null,null,null,4,null,null,null,null,12,null,7,null,14,6]
[null,null,0,33,null,"1993-03-06",null,"Sunderland","(H)","D 0-0",8,null,11,9,10,5,2,null,3,null,null,null,null,1,null,null,null,null,4,null,null,null,null,12,14,7,null,null,6]
[null,null,0,34,null,"1993-03-09",null,{"$f":"H38","v":"Bristol C"},"(A)","W 1-0",8,null,11,9,10,5,2,null,3,14,null,null,null,1,null,null,null,null,4,null,null,null,null,12,null,7,null,null,6]
[null,null,0,35,null,"1993-03-13",null,"Derby","(H)","W 1-0",8,null,11,9,10,5,2,null,3,null,null,null,null,1,null,null,null,null,4,null,null,null,null,12,7,14,null,null,6]
[null,null,0,36,null,"1993-03-21",null,"Southend","(A)","D 3-3",null,null,11,8,12,5,2,null,3,null,null,9,4,1,null,null,null,null,null,null,14,null,null,10,null,7,null,null,6]
[null,null,0,37,null,"1993-03-24",null,"Luton","(H)","W 1-0",9,null,11,8,null,5,2,null,3,null,null,null,null,1,null,12,null,null,null,null,14,null,null,10,7,4,null,null,6]
[null,null,0,38,null,"1993-03-28",null,"West Ham","(A)","D 2-2",9,null,11,8,null,5,2,null,3,null,14,null,null,1,null,12,7,null,null,null,null,null,null,10,null,4,null,null,6]
[null,null,0,39,null,"1993-04-03",null,"Portsmouth","(H)","D 1-1",9,null,11,14,null,5,2,null,3,null,null,null,null,1,null,12,7,null,null,null,6,null,null,10,null,4,null,null,null,null,8]
[null,null,0,40,null,"1993-04-06",null,"Grimsby","(A)","L 0-1",9,null,11,12,null,5,null,null,3,null,14,null,null,1,null,null,7,null,2,null,6,null,null,10,null,4,null,null,null,null,8]
[null,null,0,41,null,"1993-04-10",null,"Tranmere","(H)","D 0-0",9,null,11,null,null,null,2,null,3,null,null,8,null,1,null,12,6,null,4,null,5,null,null,10,7,14]
[null,null,0,42,null,"1993-04-14",null,"Leicester","(A)","L 0-3",9,null,11,null,null,null,2,null,3,null,null,8,14,1,null,12,6,null,null,null,5,null,null,10,7,4]
[null,null,0,43,null,"1993-04-17",null,"Newcastle","(H)","L 1-2",9,null,11,null,null,5,2,null,3,12,14,10,null,1,null,null,6,null,null,null,null,null,null,null,7,4,null,null,null,null,8]
[null,null,0,44,null,"1993-04-24",null,"Charlton","(H)","W 1-0",9,null,11,null,null,5,2,null,3,null,null,10,null,1,14,null,6,null,null,null,12,null,null,8,7,4]
[null,null,{"$f":"IF(J370=0,1,0)","v":0},45,null,"1993-05-01",null,"Wolves","(A)","L 1-3",9,null,11,null,null,5,2,null,3,12,null,10,null,1,null,null,6,null,14,null,null,null,null,8,7,4]
[null,null,0,46,null,"1993-05-08",null,"Bristol R","(H)","L 0-3",9,null,11,null,null,5,null,null,3,14,null,10,null,1,null,null,6,2,null,null,null,null,null,8,7,4,null,null,null,12]
[null,null,1,47,null,"00:00:00",null,"00:00:00","00:00:00",0]
[null,null,1,48,null,"00:00:00",null,"00:00:00","00:00:00",0]
[null,null,1,49,null,"00:00:00",null,"00:00:00","00:00:00",0]
[]
[null,null,null,null,null,null,null,null,null,"Total League Apperances",{"$f":"COUNT($K$326:$K$371)-$K$377-$K$378","v":31},{"$f":"COUNT($L$326:$L$371)-$L$377-$L$378","v":3},{"$f":"COUNT($M$326:$M$371)-$M$377-$M$378","v":46},{"$f":"COUNT($N$326:$N$371)-$N$377-$N$378","v":20},{"$f":"COUNT($O$326:$O$371)-$O$377-$O$378","v":11},{"$f":"COUNT($P$326:$P$371)-$P$377-$P$378","v":42},{"$f":"COUNT($Q$326:$Q$371)-$Q$377-$Q$378","v":37},{"$f":"COUNT($R$326:$R$371)-$R$377-$R$378","v":1},{"$f":"COUNT($S$326:$S$371)-$S$377-$S$378","v":46},{"$f":"COUNT($T$326:$T$371)-$T$377-$T$378","v":4},{"$f":"COUNT($U$326:$U$371)-$U$377-$U$378","v":0},{"$f":"COUNT($V$326:$V$371)-$V$377-$V$378","v":29},{"$f":"COUNT($W$326:$W$371)-$W$377-$W$378","v":3},{"$f":"COUNT($X$326:$X$371)-$X$377-$X$378","v":45},{"$f":"COUNT($Y$326:$Y$371)-$Y$377-$Y$378","v":0},{"$f":"COUNT($Z$326:$Z$371)-$Z$377-$Z$378","v":0},{"$f":"COUNT($AA$326:$AA$371)-$AA$377-$AA$378","v":9},{"$f":"COUNT($AB$326:$AB$371)-$AB$377-$AB$378","v":1},{"$f":"COUNT($AC$326:$AC$371)-$AC$377-$AC$378","v":35},{"$f":"COUNT($AD$326:$AD$371)-$AD$377-$AD$378","v":0},{"$f":"COUNT($AE$326:$AE$371)-$AE$377-$AE$378","v":6},{"$f":"COUNT($AF$326:$AF$371)-$AF$377-$AF$378","v":6},{"$f":"COUNT($AG$326:$AG$371)-$AG$377-$AG$378","v":3},{"$f":"COUNT($AH$326:$AH$371)-$AH$377-$AH$378","v":31},{"$f":"COUNT($AI$326:$AI$371)-$AI$377-AI378","v":22},{"$f":"COUNT($AJ$326:$AJ$371)-$AJ$377-AJ378","v":41},{"$f":"COUNT($AK$326:$AK$371)-$AK$377","v":0},{"$f":"COUNT($AL$326:$AL$371)-$AL$377","v":0},{"$f":"COUNT($AM$326:$AM$371)-$AM$377","v":31},{"$f":"COUNT($AN$326:$AN$371)-$AN$377","v":0},{"$f":"COUNT($AO$326:$AO$371)-$AO$377","v":3},{"$f":"COUNT($AP$326:$AP$371)-$AP$377","v":0},{"$f":"COUNT($AQ$326:$AQ$371)-$AQ$377","v":0},{"$f":"COUNT($AR$326:$AR$371)-$AR$377","v":0}]
[null,null,null,null,null,null,null,null,null,"Total League Substitute Appearences ",{"$f":"$AX$56+$CH$56","v":11},{"$f":"$AY$56+$CI$56","v":0},{"$f":"$AZ$56+$CJ$56","v":0},{"$f":"$BA$56+$CK$56","v":2},{"$f":"$BB$56+$CL$56","v":2},{"$f":"$BC$56+$CM$56","v":0},{"$f":"$BD$56+$CN$56","v":0},{"$f":"$BE$56+$CO$56","v":0},{"$f":"$BF$56+$CP$56","v":0},{"$f":"$BG$56+$CQ$56","v":14},{"$f":"$BH$56+$CR$56","v":3},{"$f":"$BI$56+$CS$56","v":6},{"$f":"$BJ$56+$CT$56","v":8},{"$f":"$BK$56+$CU$56","v":0},{"$f":"$BL$56+$CV$56","v":1},{"$f":"$BM$56+$CW$56","v":5},{"$f":"$BN$56+$CX$56","v":0},{"$f":"$BO$56+$CY$56","v":0},{"$f":"$BP$56+$CZ$56","v":1},{"$f":"$BQ$56+$DA$56","v":0},{"$f":"$BR$56+$DB$56","v":1},{"$f":"$BS$56+$DC$56","v":1},{"$f":"$BT$56+$DD$56","v":2},{"$f":"$BU$56+$DE$56","v":6},{"$f":"$BV$56+$DF$56","v":7},{"$f":"$BW$56+$DG$56","v":4},{"$f":"$BX$56+$DH$56","v":0},{"$f":"$BY$56+$DI$56","v":5},{"$f":"$BZ$56+$DJ$56","v":0},{"$f":"$CA$56+$DK$56","v":1},{"$f":"$CB$56+$DL$56","v":0},{"$f":"$CC$56+$DM$56","v":0},{"$f":"$CD$56+$DN$56","v":0},{"$f":"$CE$56+$DO$56","v":0}]
[null,null,null,null,null,null,null,null,null,"Non Playing Substitute",{"$f":"COUNTIF($K$326:$K$371,\">=12\")-$K$377","v":1},{"$f":"COUNTIF($L$326:$L$371,\">=12\")-$L$377","v":0},{"$f":"COUNTIF($M$326:$M$371,\">=12\")-$M$377","v":0},{"$f":"COUNTIF($N$326:$N$371,\">=12\")-$N$377","v":0},{"$f":"COUNTIF($O$326:$O$371,\">=12\")-$O$377","v":0},{"$f":"COUNTIF($P$326:$P$371,\">=12\")-$P$377","v":0},{"$f":"COUNTIF($Q$326:$Q$371,\">=12\")-$Q$377","v":0},{"$f":"COUNTIF($R$326:$R$371,\">=12\")-$R$377","v":0},{"$f":"COUNTIF($S$326:$S$371,\">=12\")-$S$377","v":0},{"$f":"COUNTIF($T$326:$T$371,\">=12\")-$T$377","v":0},{"$f":"COUNTIF($U$326:$U$371,\">=12\")-$U$377","v":0},{"$f":"COUNTIF($V$326:$V$371,\">=12\")-$V$377","v":1},{"$f":"COUNTIF($W$326:$W$371,\">=12\")-$W$377","v":4},{"$f":"COUNTIF($X$326:$X$371,\">=12\")-$X$377","v":0},{"$f":"COUNTIF($Y$326:$Y$371,\">=12\")-$Y$377","v":0},{"$f":"COUNTIF($Z$326:$Z$371,\">=12\")-$Z$377","v":0},{"$f":"COUNTIF($AA$326:$AA$371,\">=12\")-$AA$377","v":0},{"$f":"COUNTIF($AB$326:$AB$371,\">=12\")-$AB$377","v":0},{"$f":"COUNTIF($AC$326:$AC$371,\">=12\")-$AC$377","v":0},{"$f":"COUNTIF($AD$326:$AD$371,\">=12\")-$AD$377","v":0},{"$f":"COUNTIF($AE$326:$AE$371,\">=12\")-$AE$377","v":2},{"$f":"COUNTIF($AF$326:$AF$371,\">=12\")-$AF$377","v":1},{"$f":"COUNTIF($AG$326:$AG$371,\">=12\")-$AG$377","v":1},{"$f":"COUNTIF($AH$326:$AH$371,\">=12\")-$AH$377","v":0},{"$f":"COUNTIF($AI$326:$AI$371,\">=12\")-$AI$377","v":2},{"$f":"COUNTIF($AJ$326:$AJ$371,\">=12\")-$AJ$377","v":0},{"$f":"COUNTIF($AK$326:$AK$371,\">=12\")-$AK$377","v":0},{"$f":"COUNTIF($AL$326:$AL$371,\">=12\")-$AL$377","v":0},{"$f":"COUNTIF($AM$326:$AM$371,\">=12\")-$AM$377","v":0},{"$f":"COUNTIF($AN$326:$AN$371,\">=12\")-$AN$377","v":0},{"$f":"COUNTIF($AO$326:$AO$371,\">=12\")-$AO$377","v":0},{"$f":"COUNTIF($AP$326:$AP$371,\">=12\")-$AP$377","v":0},{"$f":"COUNTIF($AQ$326:$AQ$371,\">=12\")-$AQ$377","v":0},{"$f":"COUNTIF($AR$326:$AR$371,\">=12\")-$AR$377","v":0}]
[null,null,null,null,null,null,null,null,null,"Goals",10,1,8,0,1,4,0,0,0,1,0,12,0,0,0,1,0,0,1,0,1,2,0,15,6,0,0,0,2,0,0,0,0,0]
[]
[null,null,null,null,null,null,null,"FA Cup"]
[null,null,{"$f":"IF(J382=0,1,0)","v":0},{"$f":"D61","v":3},null,{"$f":"F61","v":"1993-01-13"},null,{"$f":"H61","v":"Southend"},{"$f":"I61","v":"(A)"},{"$f":"J61","v":"L 0-1"},12,null,11,9,null,5,null,null,3,null,null,10,14,1,null,null,null,null,4,null,null,null,null,8,2,7,null,null,6]
[null,null,1,{"$f":"D62","v":4},null,{"$f":"F62","v":"00:00:00"},null,{"$f":"H62","v":"00:00:00"},"00:00:00",0]
[null,null,1,0,null,"00:00:00",null,"00:00:00","00:00:00",0]
[null,null,1,0,null,"00:00:00",null,"00:00:00","00:00:00",0]
[null,null,1,0,null,"00:00:00",null,"00:00:00","00:00:00",0]
[null,null,1,0,null,"00:00:00",null,"00:00:00","00:00:00",0]
[null,null,1,0,null,"00:00:00",null,"00:00:00","00:00:00",0]
[]
[null,null,null,null,null,null,null,null,null,"Total FA Cup Apperances",{"$f":"COUNT($K$382:$K$388)-$K$391-$K$392","v":0},{"$f":"COUNT($L$382:$L$388)-$L$391-$L$392","v":0},{"$f":"COUNT($M$382:$M$388)-$M$391-$M$392","v":1},{"$f":"COUNT($N$382:$N$388)-$N$391-$N$392","v":1},{"$f":"COUNT($O$382:$O$388)-$O$391-$O$392","v":0},{"$f":"COUNT($P$382:$P$388)-$P$391-$P$392","v":1},{"$f":"COUNT($Q$382:$Q$388)-$Q$391-$Q$392","v":0},{"$f":"COUNT($R$382:$R$388)-$R$391-$R$392","v":0},{"$f":"COUNT($S$382:$S$388)-$S$391-$S$392","v":1},{"$f":"COUNT($T$382:$T$388)-$T$391-$T$392","v":0},{"$f":"COUNT($U$382:$U$388)-$U$391-$U$392","v":0},{"$f":"COUNT($V$382:$V$388)-$V$391-$V$392","v":1},{"$f":"COUNT($W$382:$W$388)-$W$391-$W$392","v":0},{"$f":"COUNT($X$382:$X$388)-$X$391-$X$392","v":1},{"$f":"COUNT($Y$382:$Y$388)-$Y$391-$Y$392","v":0},{"$f":"COUNT($Z$382:$Z$388)-$Z$391-$Z$392","v":0},{"$f":"COUNT($AA$382:$AA$388)-$AA$391-$AA$392","v":0},{"$f":"COUNT($AB$382:$AB$388)-$AB$391-$AB$392","v":0},{"$f":"COUNT($AC$382:$AC$388)-$AC$391-$AC$392","v":1},{"$f":"COUNT($AD$382:$AD$388)-$AD$391-$AD$392","v":0},{"$f":"COUNT($AE$382:$AE$388)-$AE$391-$AE$392","v":0},{"$f":"COUNT($AF$382:$AF$388)-$AF$391-$AF$392","v":0},{"$f":"COUNT($AG$382:$AG$388)-$AG$391-$AG$392","v":0},{"$f":"COUNT($AH$382:$AH$388)-$AH$391-$AH$392","v":1},{"$f":"COUNT($AI$382:$AI$388)-$AI$391-$AI$392","v":1},{"$f":"COUNT($AJ$382:$AJ$388)-$AJ$391-$AJ$392","v":1},{"$f":"COUNT($AK$382:$AK$388)-$AK$391-$AK$392","v":0},{"$f":"COUNT($AL$382:$AL$388)-$AL$391-$AL$392","v":0},{"$f":"COUNT($AM$382:$AM$388)-$AM$391-$AM$392","v":1},{"$f":"COUNT($AN$382:$AN$388)-$AN$391-$AN$392","v":0},{"$f":"COUNT($AO$382:$AO$388)-$AO$391-$AO$392","v":0},{"$f":"COUNT($AP$382:$AP$388)-$AP$391-$AP$392","v":0},{"$f":"COUNT($AQ$382:$AQ$388)-$AQ$391-$AQ$392","v":0},{"$f":"COUNT($AR$382:$AR$388)-$AR$391-$AR$392","v":0}]
[null,null,null,null,null,null,null,null,null,"Total FA Cup Substitute Appearences ",{"$f":"$AX$70+$CH$70","v":1},{"$f":"$AY$70+$CI$70","v":0},{"$f":"$AZ$70+$CJ$70","v":0},{"$f":"$BA$70+$CK$70","v":0},{"$f":"$BB$70+$CL$70","v":0},{"$f":"$BC$70+$CM$70","v":0},{"$f":"$BD$70+$CN$70","v":0},{"$f":"$BE$70+$CO$70","v":0},{"$f":"$BF$70+$CP$70","v":0},{"$f":"$BG$70+$CQ$70","v":0},{"$f":"$BH$70+$CR$70","v":0},{"$f":"$BI$70+$CS$70","v":0},{"$f":"$BJ$70+$CT$70","v":1},{"$f":"$BK$70+$CU$70","v":0},{"$f":"$BL$70+$CV$70","v":0},{"$f":"$BM$70+$CW$70","v":0},{"$f":"$BN$70+$CX$70","v":0},{"$f":"$BO$70+$CY$70","v":0},{"$f":"$BP$70+$CZ$70","v":0},{"$f":"$BQ$70+$DA$70","v":0},{"$f":"$BR$70+$DB$70","v":0},{"$f":"$BS$70+$DC$70","v":0},{"$f":"$BT$70+$DD$70","v":0},{"$f":"$BU$70+$DE$70","v":0},{"$f":"$BV$70+$DF$70","v":0},{"$f":"$BW$70+$DG$70","v":0},{"$f":"$BX$70+$DH$70","v":0},{"$f":"$BY$70+$DI$70","v":0},{"$f":"$BZ$70+$DJ$70","v":0},{"$f":"$CA$70+$DK$70","v":0},{"$f":"$CB$70+$DL$70","v":0},{"$f":"$CC$70+$DM$70","v":0},{"$f":"$CD$70+$DN$70","v":0},{"$f":"$CE$70+$DO$70","v":0}]
[null,null,null,null,null,null,null,null,null,"Non Playing Substitute",{"$f":"COUNTIF($K$382:$K$388,\">=12\")-$K$391","v":0},{"$f":"COUNTIF($L$382:$L$388,\">=12\")-$L$391","v":0},{"$f":"COUNTIF($M$382:$M$388,\">=12\")-$M$391","v":0},{"$f":"COUNTIF($N$382:$N$388,\">=12\")-$N$391","v":0},{"$f":"COUNTIF($O$382:$O$388,\">=12\")-$O$391","v":0},{"$f":"COUNTIF($P$382:$P$388,\">=12\")-$P$391","v":0},{"$f":"COUNTIF($Q$382:$Q$388,\">=12\")-$Q$391","v":0},{"$f":"COUNTIF($R$382:$R$388,\">=12\")-$R$391","v":0},{"$f":"COUNTIF($S$382:$S$388,\">=12\")-$S$391","v":0},{"$f":"COUNTIF($T$382:$T$388,\">=12\")-$T$391","v":0},{"$f":"COUNTIF($U$382:$U$388,\">=12\")-$U$391","v":0},{"$f":"COUNTIF($V$382:$V$388,\">=12\")-$V$391","v":0},{"$f":"COUNTIF($W$382:$W$388,\">=12\")-$W$391","v":0},{"$f":"COUNTIF($X$382:$X$388,\">=12\")-$X$391","v":0},{"$f":"COUNTIF($Y$382:$Y$388,\">=12\")-$Y$391","v":0},{"$f":"COUNTIF($Z$382:$Z$388,\">=12\")-$Z$391","v":0},{"$f":"COUNTIF($AA$382:$AA$388,\">=12\")-$AA$391","v":0},{"$f":"COUNTIF($AB$382:$AB$388,\">=12\")-$AB$391","v":0},{"$f":"COUNTIF($AC$382:$AC$388,\">=12\")-$AC$391","v":0},{"$f":"COUNTIF($AD$382:$AD$388,\">=12\")-$AD$391","v":0},{"$f":"COUNTIF($AE$382:$AE$388,\">=12\")-$AE$391","v":0},{"$f":"COUNTIF($AF$382:$AF$388,\">=12\")-$AF$391","v":0},{"$f":"COUNTIF($AG$382:$AG$388,\">=12\")-$AG$391","v":0},{"$f":"COUNTIF($AH$382:$AH$388,\">=12\")-$AH$391","v":0},{"$f":"COUNTIF($AI$382:$AI$388,\">=12\")-$AI$391","v":0},{"$f":"COUNTIF($AJ$382:$AJ$388,\">=12\")-$AJ$391","v":0},{"$f":"COUNTIF($AK$382:$AK$388,\">=12\")-$AK$391","v":0},{"$f":"COUNTIF($AL$382:$AL$388,\">=12\")-$AL$391","v":0},{"$f":"COUNTIF($AM$382:$AM$388,\">=12\")-$AM$391","v":0},{"$f":"COUNTIF($AN$382:$AN$388,\">=12\")-$AN$391","v":0},{"$f":"COUNTIF($AO$382:$AO$388,\">=12\")-$AO$391","v":0},{"$f":"COUNTIF($AP$382:$AP$388,\">=12\")-$AP$391","v":0},{"$f":"COUNTIF($AQ$382:$AQ$388,\">=12\")-$AQ$391","v":0},{"$f":"COUNTIF($AR$382:$AR$388,\">=12\")-$AR$391","v":0}]
[null,null,null,null,null,null,null,null,null,"Goals",0,0,0,0,0,0,0,0,0,0,0,0,0,0,0,0,0,0,0,0,0,0,0,0,0,0,0,0,0,0,0,0,0,0]
[]
[null,null,null,null,null,null,null,"League Cup"]
[null,null,{"$f":"IF(J396=0,1,0)","v":0},{"$f":"D75","v":1},null,{"$f":"F75","v":"1992-08-18"},null,{"$f":"H75","v":"Leyton Orient"},{"$f":"I75","v":"(A)"},{"$f":"J75","v":"D 2-2"},9,10,11,null,null,5,2,1,3,null,null,null,null,null,null,null,null,null,4,null,null,8,null,null,14,7,null,12,6]
[null,null,0,{"$f":"D76","v":1},null,{"$f":"F76","v":"1992-08-26"},null,{"$f":"H76","v":"Leyton Orient"},"(H)","W 3-0",9,10,11,null,null,5,2,null,3,null,null,12,14,1,null,null,null,null,null,null,null,8,null,null,4,7,null,null,6]
[null,null,0,2,null,"1992-09-22",null,"Arsenal","(A)","D 1-1",9,null,11,null,null,5,2,null,3,8,null,10,14,1,null,null,null,null,4,null,null,12,null,null,null,7,null,null,6]
[null,null,0,2,null,"1992-10-07",null,"Arsenal","(H)","D 1-1",9,null,11,null,null,5,2,null,3,8,null,10,null,1,null,null,null,null,4,null,null,null,null,12,14,7,null,null,6]
[null,null,1,0,null,"00:00:00",null,"00:00:00","00:00:00",0]
[null,null,1,0,null,"00:00:00",null,"00:00:00","00:00:00",0]
[null,null,1,0,null,"00:00:00",null,"00:00:00","00:00:00",0]
[null,null,1,0,null,"00:00:00",null,"00:00:00","00:00:00",0]
[null,null,1,0,null,"00:00:00",null,"00:00:00","00:00:00",0]
[]
[null,null,null,null,null,null,null,null,null,"Total League Cup Apperances",{"$f":"COUNT($K$396:$K$404)-$K$408-$K$407","v":4},{"$f":"COUNT($L$396:$L$404)-$L$408-$L$407","v":2},{"$f":"COUNT($M$396:$M$404)-$M$408-$M$407","v":4},{"$f":"COUNT($N$396:$N$404)-$N$408-$N$407","v":0},{"$f":"COUNT($O$396:$O$404)-$O$408-$O$407","v":0},{"$f":"COUNT($P$396:$P$404)-$P$408-$P$407","v":4},{"$f":"COUNT($Q$396:$Q$404)-$Q$408-$Q$407","v":4},{"$f":"COUNT($R$396:$R$404)-$R$408-$R$407","v":1},{"$f":"COUNT($S$396:$S$404)-$S$408-$S$407","v":4},{"$f":"COUNT($T$396:$T$404)-$T$408-$T$407","v":2},{"$f":"COUNT($U$396:$U$404)-$U$408-$U$407","v":0},{"$f":"COUNT($V$396:$V$404)-$V$408-$V$407","v":2},{"$f":"COUNT($W$396:$W$404)-$W$408-$W$407","v":0},{"$f":"COUNT($X$396:$X$404)-$X$408-$X$407","v":3},{"$f":"COUNT($Y$396:$Y$404)-$Y$408-$Y$407","v":0},{"$f":"COUNT($Z$396:$Z$404)-$Z$408-$Z$407","v":0},{"$f":"COUNT($AA$396:$AA$404)-$AA$408-$AA$407","v":0},{"$f":"COUNT($AB$396:$AB$404)-$AB$408-$AB$407","v":0},{"$f":"COUNT($AC$396:$AC$404)-$AC$408-$AC$407","v":3},{"$f":"COUNT($AD$396:$AD$404)-$AD$408-$AD$407","v":0},{"$f":"COUNT($AE$396:$AE$404)-$AE$408-$AE$407","v":0},{"$f":"COUNT($AF$396:$AF$404)-$AF$408-$AF$407","v":2},{"$f":"COUNT($AG$396:$AG$404)-$AG$408-$AG$407","v":0},{"$f":"COUNT($AH$396:$AH$404)-$AH$408-$AH$407","v":0},{"$f":"COUNT($AI$396:$AI$404)-$AI$408-$AI$407","v":1},{"$f":"COUNT($AJ$396:$AJ$404)-$AJ$408-$AJ$407","v":4},{"$f":"COUNT($AK$396:$AK$404)-$AK$408-$AK$407","v":0},{"$f":"COUNT($AL$396:$AL$404)-$AL$408-$AL$407","v":0},{"$f":"COUNT($AM$396:$AM$404)-$AM$408-$AM$407","v":4},{"$f":"COUNT($AN$396:$AN$404)-$AN$408-$AN$407","v":0},{"$f":"COUNT($AO$396:$AO$404)-$AO$408-$AO$407","v":0},{"$f":"COUNT($AP$396:$AP$404)-$AP$408-$AP$407","v":0},{"$f":"COUNT($AQ$396:$AQ$404)-$AQ$408-$AQ$407","v":0},{"$f":"COUNT($AR$396:$AR$404)-$AR$408-$AR$407","v":0}]
[null,null,null,null,null,null,null,null,null,"Total League Cup Substitute Appearences ",{"$f":"$AX$86+$CH$86","v":0},{"$f":"$AY$86+$CI$86","v":0},{"$f":"$AZ$86+$CJ$86","v":0},{"$f":"$BA$86+$CK$86","v":0},{"$f":"$BB$86+$CL$86","v":0},{"$f":"$BC$86+$CM$86","v":0},{"$f":"$BD$86+$CN$86","v":0},{"$f":"$BE$86+$CO$86","v":0},{"$f":"$BF$86+$CP$86","v":0},{"$f":"$BG$86+$CQ$86","v":0},{"$f":"$BH$86+$CR$86","v":0},{"$f":"$BI$86+$CS$86","v":1},{"$f":"$BJ$86+$CT$86","v":1},{"$f":"$BK$86+$CU$86","v":0},{"$f":"$BL$86+$CV$86","v":0},{"$f":"$BM$86+$CW$86","v":0},{"$f":"$BN$86+$CX$86","v":0},{"$f":"$BO$86+$CY$86","v":0},{"$f":"$BP$86+$CZ$86","v":0},{"$f":"$BQ$86+$DA$86","v":0},{"$f":"$BR$86+$DB$86","v":0},{"$f":"$BS$86+$DC$86","v":1},{"$f":"$BT$86+$DD$86","v":0},{"$f":"$BU$86+$DE$86","v":1},{"$f":"$BV$86+$DF$86","v":1},{"$f":"$BW$86+$DG$86","v":0},{"$f":"$BX$86+$DH$86","v":0},{"$f":"$BY$86+$DI$86","v":0},{"$f":"$BZ$86+$DJ$86","v":0},{"$f":"$CA$86+$DK$86","v":0},{"$f":"$CB$86+$DL$86","v":0},{"$f":"$CC$86+$DM$86","v":0},{"$f":"$CD$86+$DN$86","v":0},{"$f":"$CE$86+$DO$86","v":0}]
[null,null,null,null,null,null,null,null,null,"Non Playing Substitute",{"$f":"COUNTIF($K$396:$K$404,\">=12\")-$K$407","v":0},{"$f":"COUNTIF($L$396:$L$404,\">=12\")-$L$407","v":0},{"$f":"COUNTIF($M$396:$M$404,\">=12\")-$M$407","v":0},{"$f":"COUNTIF($N$396:$N$404,\">=12\")-$N$407","v":0},{"$f":"COUNTIF($O$396:$O$404,\">=12\")-$O$407","v":0},{"$f":"COUNTIF($P$396:$P$404,\">=12\")-$P$407","v":0},{"$f":"COUNTIF($Q$396:$Q$404,\">=12\")-$Q$407","v":0},{"$f":"COUNTIF($R$396:$R$404,\">=12\")-$R$407","v":0},{"$f":"COUNTIF($S$396:$S$404,\">=12\")-$S$407","v":0},{"$f":"COUNTIF($T$396:$T$404,\">=12\")-$T$407","v":0},{"$f":"COUNTIF($U$396:$U$404,\">=12\")-$U$407","v":0},{"$f":"COUNTIF($V$396:$V$404,\">=12\")-$V$407","v":0},{"$f":"COUNTIF($W$396:$W$404,\">=12\")-$W$407","v":1},{"$f":"COUNTIF($X$396:$X$404,\">=12\")-$X$407","v":0},{"$f":"COUNTIF($Y$396:$Y$404,\">=12\")-$Y$407","v":0},{"$f":"COUNTIF($Z$396:$Z$404,\">=12\")-$Z$407","v":0},{"$f":"COUNTIF($AA$396:$AA$404,\">=12\")-$AA$407","v":0},{"$f":"COUNTIF($AB$396:$AB$404,\">=12\")-$AB$407","v":0},{"$f":"COUNTIF($AC$396:$AC$404,\">=12\")-$AC$407","v":0},{"$f":"COUNTIF($AD$396:$AD$404,\">=12\")-$AD$407","v":0},{"$f":"COUNTIF($AE$396:$AE$404,\">=12\")-$AE$407","v":0},{"$f":"COUNTIF($AF$396:$AF$404,\">=12\")-$AF$407","v":0},{"$f":"COUNTIF($AG$396:$AG$404,\">=12\")-$AG$407","v":0},{"$f":"COUNTIF($AH$396:$AH$404,\">=12\")-$AH$407","v":0},{"$f":"COUNTIF($AI$396:$AI$404,\">=12\")-$AI$407","v":1},{"$f":"COUNTIF($AJ$396:$AJ$404,\">=12\")-$AJ$407","v":0},{"$f":"COUNTIF($AK$396:$AK$404,\">=12\")-$AK$407","v":0},{"$f":"COUNTIF($AL$396:$AL$404,\">=12\")-$AL$407","v":1},{"$f":"COUNTIF($AM$396:$AM$404,\">=12\")-$AM$407","v":0},{"$f":"COUNTIF($AN$396:$AN$404,\">=12\")-$AN$407","v":0},{"$f":"COUNTIF($AO$396:$AO$404,\">=12\")-$AO$407","v":0},{"$f":"COUNTIF($AP$396:$AP$404,\">=12\")-$AP$407","v":0},{"$f":"COUNTIF($AQ$396:$AQ$404,\">=12\")-$AQ$407","v":0},{"$f":"COUNTIF($AR$396:$AR$404,\">=12\")-$AR$407","v":0}]
[null,null,null,null,null,null,null,null,null,"Goals",2,1,0,0,0,0,0,0,0,0,0,0,0,0,0,0,0,0,0,0,0,0,0,0,0,2,0,0,1,0,0,0,0,0]
[null,null,1]
[null,null,null,null,null,null,null,"Anglo Italian Cup"]
[null,null,{"$f":"IF(J412=0,1,0)","v":0},{"$f":"D91","v":"Grp"},null,{"$f":"F91","v":"1992-09-02"},null,{"$f":"H91","v":"Charlton"},"(H)","L 1-2",{"$error":"#N/A"},{"$error":"#N/A"},14,10,{"$error":"#N/A"},5,2,{"$error":"#N/A"},{"$error":"#N/A"},12,{"$error":"#N/A"},9,3,1,{"$error":"#N/A"},{"$error":"#N/A"},{"$error":"#N/A"},{"$error":"#N/A"},{"$error":"#N/A"},{"$error":"#N/A"},{"$error":"#N/A"},8,6,{"$error":"#N/A"},4,7,{"$error":"#N/A"},11,{"$error":"#N/A"},{"$error":"#N/A"},{"$error":"#N/A"},{"$error":"#N/A"},{"$error":"#N/A"},{"$error":"#N/A"}]
[null,null,{"$f":"IF(J413=0,1,0)","v":0},"Grp",null,"1992-09-29",null,"Portsmouth","(A)","D 1-1",{"$error":"#N/A"},{"$error":"#N/A"},{"$error":"#N/A"},9,{"$error":"#N/A"},{"$error":"#N/A"},2,1,3,{"$error":"#N/A"},{"$error":"#N/A"},12,4,{"$error":"#N/A"},{"$error":"#N/A"},{"$error":"#N/A"},{"$error":"#N/A"},14,{"$error":"#N/A"},5,{"$error":"#N/A"},{"$error":"#N/A"},{"$error":"#N/A"},10,8,6,11,7,{"$error":"#N/A"},{"$error":"#N/A"},{"$error":"#N/A"},{"$error":"#N/A"},{"$error":"#N/A"},{"$error":"#N/A"}]
[null,null,1,0,null,"00:00:00",null,"00:00:00","00:00:00",0,{"$error":"#N/A"},{"$error":"#N/A"},{"$error":"#N/A"},{"$error":"#N/A"},{"$error":"#N/A"},{"$error":"#N/A"},{"$error":"#N/A"},{"$error":"#N/A"},{"$error":"#N/A"},{"$error":"#N/A"},{"$error":"#N/A"},{"$error":"#N/A"},{"$error":"#N/A"},{"$error":"#N/A"},{"$error":"#N/A"},{"$error":"#N/A"},{"$error":"#N/A"},{"$error":"#N/A"},{"$error":"#N/A"},{"$error":"#N/A"},{"$error":"#N/A"},{"$error":"#N/A"},{"$error":"#N/A"},{"$error":"#N/A"},{"$error":"#N/A"},{"$error":"#N/A"},{"$error":"#N/A"},{"$error":"#N/A"},{"$error":"#N/A"},{"$error":"#N/A"},{"$error":"#N/A"},{"$error":"#N/A"},{"$error":"#N/A"},{"$error":"#N/A"}]
[null,null,1,0,null,"00:00:00",null,"00:00:00","00:00:00",0,{"$error":"#N/A"},{"$error":"#N/A"},{"$error":"#N/A"},{"$error":"#N/A"},{"$error":"#N/A"},{"$error":"#N/A"},{"$error":"#N/A"},{"$error":"#N/A"},{"$error":"#N/A"},{"$error":"#N/A"},{"$error":"#N/A"},{"$error":"#N/A"},{"$error":"#N/A"},{"$error":"#N/A"},{"$error":"#N/A"},{"$error":"#N/A"},{"$error":"#N/A"},{"$error":"#N/A"},{"$error":"#N/A"},{"$error":"#N/A"},{"$error":"#N/A"},{"$error":"#N/A"},{"$error":"#N/A"},{"$error":"#N/A"},{"$error":"#N/A"},{"$error":"#N/A"},{"$error":"#N/A"},{"$error":"#N/A"},{"$error":"#N/A"},{"$error":"#N/A"},{"$error":"#N/A"},{"$error":"#N/A"},{"$error":"#N/A"},{"$error":"#N/A"}]
[null,null,1,0,null,"00:00:00",null,"00:00:00","00:00:00",0,{"$error":"#N/A"},{"$error":"#N/A"},{"$error":"#N/A"},{"$error":"#N/A"},{"$error":"#N/A"},{"$error":"#N/A"},{"$error":"#N/A"},{"$error":"#N/A"},{"$error":"#N/A"},{"$error":"#N/A"},{"$error":"#N/A"},{"$error":"#N/A"},{"$error":"#N/A"},{"$error":"#N/A"},{"$error":"#N/A"},{"$error":"#N/A"},{"$error":"#N/A"},{"$error":"#N/A"},{"$error":"#N/A"},{"$error":"#N/A"},{"$error":"#N/A"},{"$error":"#N/A"},{"$error":"#N/A"},{"$error":"#N/A"},{"$error":"#N/A"},{"$error":"#N/A"},{"$error":"#N/A"},{"$error":"#N/A"},{"$error":"#N/A"},{"$error":"#N/A"},{"$error":"#N/A"},{"$error":"#N/A"},{"$error":"#N/A"},{"$error":"#N/A"}]
[null,null,1,0,null,"00:00:00",null,"00:00:00","00:00:00",0,{"$error":"#N/A"},{"$error":"#N/A"},{"$error":"#N/A"},{"$error":"#N/A"},{"$error":"#N/A"},{"$error":"#N/A"},{"$error":"#N/A"},{"$error":"#N/A"},{"$error":"#N/A"},{"$error":"#N/A"},{"$error":"#N/A"},{"$error":"#N/A"},{"$error":"#N/A"},{"$error":"#N/A"},{"$error":"#N/A"},{"$error":"#N/A"},{"$error":"#N/A"},{"$error":"#N/A"},{"$error":"#N/A"},{"$error":"#N/A"},{"$error":"#N/A"},{"$error":"#N/A"},{"$error":"#N/A"},{"$error":"#N/A"},{"$error":"#N/A"},{"$error":"#N/A"},{"$error":"#N/A"},{"$error":"#N/A"},{"$error":"#N/A"},{"$error":"#N/A"},{"$error":"#N/A"},{"$error":"#N/A"},{"$error":"#N/A"},{"$error":"#N/A"}]
[null,null,1,0,null,"00:00:00",null,"00:00:00","00:00:00",0,{"$error":"#N/A"},{"$error":"#N/A"},{"$error":"#N/A"},{"$error":"#N/A"},{"$error":"#N/A"},{"$error":"#N/A"},{"$error":"#N/A"},{"$error":"#N/A"},{"$error":"#N/A"},{"$error":"#N/A"},{"$error":"#N/A"},{"$error":"#N/A"},{"$error":"#N/A"},{"$error":"#N/A"},{"$error":"#N/A"},{"$error":"#N/A"},{"$error":"#N/A"},{"$error":"#N/A"},{"$error":"#N/A"},{"$error":"#N/A"},{"$error":"#N/A"},{"$error":"#N/A"},{"$error":"#N/A"},{"$error":"#N/A"},{"$error":"#N/A"},{"$error":"#N/A"},{"$error":"#N/A"},{"$error":"#N/A"},{"$error":"#N/A"},{"$error":"#N/A"},{"$error":"#N/A"},{"$error":"#N/A"},{"$error":"#N/A"},{"$error":"#N/A"}]
[null,null,1,0,null,"00:00:00",null,"00:00:00","00:00:00",0,{"$error":"#N/A"},{"$error":"#N/A"},{"$error":"#N/A"},{"$error":"#N/A"},{"$error":"#N/A"},{"$error":"#N/A"},{"$error":"#N/A"},{"$error":"#N/A"},{"$error":"#N/A"},{"$error":"#N/A"},{"$error":"#N/A"},{"$error":"#N/A"},{"$error":"#N/A"},{"$error":"#N/A"},{"$error":"#N/A"},{"$error":"#N/A"},{"$error":"#N/A"},{"$error":"#N/A"},{"$error":"#N/A"},{"$error":"#N/A"},{"$error":"#N/A"},{"$error":"#N/A"},{"$error":"#N/A"},{"$error":"#N/A"},{"$error":"#N/A"},{"$error":"#N/A"},{"$error":"#N/A"},{"$error":"#N/A"},{"$error":"#N/A"},{"$error":"#N/A"},{"$error":"#N/A"},{"$error":"#N/A"},{"$error":"#N/A"},{"$error":"#N/A"}]
[null,null,1,0,null,"00:00:00",null,"00:00:00","00:00:00",0,{"$error":"#N/A"},{"$error":"#N/A"},{"$error":"#N/A"},{"$error":"#N/A"},{"$error":"#N/A"},{"$error":"#N/A"},{"$error":"#N/A"},{"$error":"#N/A"},{"$error":"#N/A"},{"$error":"#N/A"},{"$error":"#N/A"},{"$error":"#N/A"},{"$error":"#N/A"},{"$error":"#N/A"},{"$error":"#N/A"},{"$error":"#N/A"},{"$error":"#N/A"},{"$error":"#N/A"},{"$error":"#N/A"},{"$error":"#N/A"},{"$error":"#N/A"},{"$error":"#N/A"},{"$error":"#N/A"},{"$error":"#N/A"},{"$error":"#N/A"},{"$error":"#N/A"},{"$error":"#N/A"},{"$error":"#N/A"},{"$error":"#N/A"},{"$error":"#N/A"},{"$error":"#N/A"},{"$error":"#N/A"},{"$error":"#N/A"},{"$error":"#N/A"}]
[]
[null,null,null,null,null,null,null,null,null,"Total Anglo Italian Cup Apperances",{"$f":"COUNT($K$412:$K$420)-$K$423-$K$424","v":0},{"$f":"COUNT($L$412:$L$420)-$L$423-$L$424","v":0},{"$f":"COUNT($M$412:$M$420)-$M$423-$M$424","v":0},{"$f":"COUNT($N$412:$N$420)-$N$423-$N$424","v":2},{"$f":"COUNT($O$412:$O$420)-$O$423-$O$424","v":0},{"$f":"COUNT($P$412:$P$420)-$P$423-$P$424","v":1},{"$f":"COUNT($Q$412:$Q$420)-$Q$423-$Q$424","v":2},{"$f":"COUNT($R$412:$R$420)-$R$423-$R$424","v":1},{"$f":"COUNT($S$412:$S$420)-$S$423-$S$424","v":1},{"$f":"COUNT($T$412:$T$420)-$T$423-$T$424","v":0},{"$f":"COUNT($U$412:$U$420)-$U$423-$U$424","v":0},{"$f":"COUNT($V$412:$V$420)-$V$423-$V$424","v":1},{"$f":"COUNT($W$412:$W$420)-$W$423-$W$424","v":2},{"$f":"COUNT($X$412:$X$420)-$X$423-$X$424","v":1},{"$f":"COUNT($Y$412:$Y$420)-$Y$423-$Y$424","v":0},{"$f":"COUNT($Z$412:$Z$420)-$Z$423-$Z$424","v":0},{"$f":"COUNT($AA$412:$AA$420)-$AA$423-$AA$424","v":0},{"$f":"COUNT($AB$412:$AB$420)-$AB$423-$AB$424","v":0},{"$f":"COUNT($AC$412:$AC$420)-$AC$423-$AC$424","v":0},{"$f":"COUNT($AD$412:$AD$420)-$AD$423-$AD$424","v":1},{"$f":"COUNT($AE$412:$AE$420)-$AE$423-$AE$424","v":0},{"$f":"COUNT($AF$412:$AF$420)-$AF$423-$AF$424","v":1},{"$f":"COUNT($AG$412:$AG$420)-$AG$423-$AG$424","v":1},{"$f":"COUNT($AH$412:$AH$420)-$AH$423-$AH$424","v":1},{"$f":"COUNT($AI$412:$AI$420)-$AI$423-$AI$424","v":2},{"$f":"COUNT($AJ$412:$AJ$420)-$AJ$423-$AJ$424","v":2},{"$f":"COUNT($AK$412:$AK$420)-$AK$423-$AK$424","v":1},{"$f":"COUNT($AL$412:$AL$420)-$AL$423-$AL$424","v":2},{"$f":"COUNT($AM$412:$AM$420)-$AM$423-$AM$424","v":0},{"$f":"COUNT($AN$412:$AN$420)-$AN$423-$AN$424","v":0},{"$f":"COUNT($AO$412:$AO$420)-$AO$423-$AO$424","v":0},{"$f":"COUNT($AP$412:$AP$420)-$AP$423-$AP$424","v":0},{"$f":"COUNT($AQ$412:$AQ$420)-$AQ$423-$AQ$424","v":0},{"$f":"COUNT($AR$412:$AR$420)-$AR$423-$AR$424","v":0}]
[null,null,null,null,null,null,null,null,null,"Total Anglo Italian Cup Sub Appearences ",{"$f":"$AX$102+$CH$102","v":0},{"$f":"$AY$102+$CI$102","v":0},{"$f":"$AZ$102+$CJ$102","v":0},{"$f":"$BA$102+$CK$102","v":0},{"$f":"$BB$102+$CL$102","v":0},{"$f":"$BC$102+$CM$102","v":0},{"$f":"$BD$102+$CN$102","v":0},{"$f":"$BE$102+$CO$102","v":0},{"$f":"$BF$102+$CP$102","v":0},{"$f":"$BG$102+$CQ$102","v":1},{"$f":"$BH$102+$CR$102","v":0},{"$f":"$BI$102+$CS$102","v":0},{"$f":"$BJ$102+$CT$102","v":0},{"$f":"$BK$102+$CU$102","v":0},{"$f":"$BL$102+$CV$102","v":0},{"$f":"$BM$102+$CW$102","v":0},{"$f":"$BN$102+$CX$102","v":0},{"$f":"$BO$102+$CY$102","v":1},{"$f":"$BP$102+$CZ$102","v":0},{"$f":"$BQ$102+$DA$102","v":0},{"$f":"$BR$102+$DB$102","v":0},{"$f":"$BS$102+$DC$102","v":0},{"$f":"$BT$102+$DD$102","v":0},{"$f":"$BU$102+$DE$102","v":0},{"$f":"$BV$102+$DF$102","v":0},{"$f":"$BW$102+$DG$102","v":0},{"$f":"$BX$102+$DH$102","v":0},{"$f":"$BY$102+$DI$102","v":0},{"$f":"$BZ$102+$DJ$102","v":0},{"$f":"$CA$102+$DK$102","v":0},{"$f":"$CB$102+$DL$102","v":0},{"$f":"$CC$102+$DM$102","v":0},{"$f":"$CD$102+$DN$102","v":0},{"$f":"$CE$423+$DO$423","v":0}]
[null,null,null,null,null,null,null,null,null,"Non Playing Substitute",{"$f":"COUNTIF($K$412:$K$420,\">=12\")-$K$423","v":0},{"$f":"COUNTIF($L$412:$L$420,\">=12\")-$L$423","v":0},{"$f":"COUNTIF($M$412:$M$420,\">=12\")-$M$423","v":1},{"$f":"COUNTIF($N$412:$N$420,\">=12\")-$N$423","v":0},{"$f":"COUNTIF($O$412:$O$420,\">=12\")-$O$423","v":0},{"$f":"COUNTIF($P$412:$P$420,\">=12\")-$P$423","v":0},{"$f":"COUNTIF($Q$412:$Q$420,\">=12\")-$Q$423","v":0},{"$f":"COUNTIF($R$412:$R$420,\">=12\")-$R$423","v":0},{"$f":"COUNTIF($S$412:$S$420,\">=12\")-$S$423","v":0},{"$f":"COUNTIF($T$412:$T$420,\">=12\")-$T$423","v":0},{"$f":"COUNTIF($U$412:$U$420,\">=12\")-$U$423","v":0},{"$f":"COUNTIF($V$412:$V$420,\">=12\")-$V$423","v":1},{"$f":"COUNTIF($W$412:$W$420,\">=12\")-$W$423","v":0},{"$f":"COUNTIF($X$412:$X$420,\">=12\")-$X$423","v":0},{"$f":"COUNTIF($Y$412:$Y$420,\">=12\")-$Y$423","v":0},{"$f":"COUNTIF($Z$412:$Z$420,\">=12\")-$Z$423","v":0},{"$f":"COUNTIF($AA$412:$AA$420,\">=12\")-$AA$423","v":0},{"$f":"COUNTIF($AB$412:$AB$420,\">=12\")-$AB$423","v":0},{"$f":"COUNTIF($AC$412:$AC$420,\">=12\")-$AC$423","v":0},{"$f":"COUNTIF($AD$412:$AD$420,\">=12\")-$AD$423","v":0},{"$f":"COUNTIF($AE$412:$AE$420,\">=12\")-$AE$423","v":0},{"$f":"COUNTIF($AF$412:$AF$420,\">=12\")-$AF$423","v":0},{"$f":"COUNTIF($AG$412:$AG$420,\">=12\")-$AG$423","v":0},{"$f":"COUNTIF($AH$412:$AH$420,\">=12\")-$AH$423","v":0},{"$f":"COUNTIF($AI$412:$AI$420,\">=12\")-$AI$423","v":0},{"$f":"COUNTIF($AJ$412:$AJ$420,\">=12\")-$AJ$423","v":0},{"$f":"COUNTIF($AK$412:$AK$420,\">=12\")-$AK$423","v":0},{"$f":"COUNTIF($AL$412:$AL$420,\">=12\")-$AL$423","v":0},{"$f":"COUNTIF($AM$412:$AM$420,\">=12\")-$AM$423","v":0},{"$f":"COUNTIF($AN$412:$AN$420,\">=12\")-$AN$423","v":0},{"$f":"COUNTIF($AO$412:$AO$420,\">=12\")-$AO$423","v":0},{"$f":"COUNTIF($AP$412:$AP$420,\">=12\")-$AP$423","v":0},{"$f":"COUNTIF($AQ$412:$AQ$420,\">=12\")-$AQ$423","v":0},{"$f":"COUNTIF($AR$412:$AR$420,\">=12\")-$AR$423","v":0}]
[null,null,null,null,null,null,null,null,null,"Goals",0,0,0,0,0,0,1,0,0,0,0,0,0,0,0,0,0,0,0,0,0,0,0,0,1,0,0,0,0,0,0,0,0,0]

{"sheet":"Sheet1","index":2,"n_rows":152,"n_cols":57,"rows_kept":152,"cut":false,"hidden":false,"merged":[[95,1,97,1],[95,50,97,50],[100,1,102,1],[100,50,102,50],[105,1,106,1],[105,50,106,50],[80,1,82,1],[80,50,82,50],[85,1,87,1],[85,50,87,50],[90,1,92,1],[90,50,92,50],[65,1,67,1],[65,50,67,50],[70,1,72,1],[70,50,72,50],[75,1,77,1],[75,50,77,50],[50,1,52,1],[50,50,52,50],[55,1,57,1],[55,50,57,50],[60,1,62,1],[60,50,62,50],[35,1,37,1],[35,50,37,50],[40,1,42,1],[40,50,42,50],[45,1,47,1],[45,50,47,50],[20,1,22,1],[20,50,22,50],[25,1,27,1],[25,50,27,50],[30,1,32,1],[30,50,32,50],[5,1,7,1],[5,50,7,50],[11,1,12,1],[11,50,12,50],[15,1,17,1],[15,50,17,50]]}
[null,null,null,null,null,null,null,null,null,null,null,null,null,null,null,null,null,null,null,null,null,null,null,null,null,null,null,null,null,null,null,null,null,null,null,null,null,null,null,null,null,null,null,null,null,null,null,null,null,null,null,null,null,null,null,"Done","Next"]
[null,null,null,null,null,null,null,null,null,null,null,null,null,null,null,null,null,null,null,null,null,null,null,null,null,null,null,null,null,null,null,null,null,null,null,null,null,null,null,null,null,null,null,null,null,null,null,null,null,null,null,null,null,null,null,4,49]
[null,null,null,null,null,null,null,null,null,null,null,null,null,null,null,null,null,null,null,null,null,null,null,null,null,null,null,null,null,null,null,null,null,null,null,null,null,null,null,null,null,null,null,null,null,null,null,null,null,null,null,null,null,null,null,{"$f":"AW119+3","v":3},{"$f":"BD3+1-1","v":3}]
[]
[]
[null,100,null,null,null,null,null,null,null,null,null,null,null,null,null,null,null,null,null,null,null,null,null,null,null,null,null,null,null,null,null,null,null,null,null,null,null,null,null,null,null,null,null,null,null,null,null,null,null,null,100]
[]
[]
[]
[]
[]
[null,95,null,null,null,null,null,null,null,null,null,null,null,null,null,null,null,null,null,null,null,null,null,null,null,null,null,null,null,null,null,null,null,null,null,null,null,null,null,null,null,null,null,null,null,null,null,null,null,null,95]
[]
[]
[]
[null,90,null,null,null,null,null,null,null,null,null,null,null,null,null,null,null,null,null,null,null,null,null,null,null,null,null,null,null,null,null,null,null,null,null,null,null,null,null,null,null,null,null,null,null,null,null,null,null,null,90]
[]
[]
[]
[]
[null,85,null,null,null,null,null,null,null,null,null,null,null,null,null,null,null,null,null,null,null,null,null,null,null,null,null,null,null,null,null,null,null,null,null,null,null,null,null,null,null,null,null,null,null,null,null,null,null,null,85]
[]
[]
[]
[]
[null,80,null,null,null,null,null,null,null,null,null,null,null,null,null,null,null,null,null,null,null,null,null,null,null,null,null,null,null,null,null,null,null,null,null,null,null,null,null,null,null,null,null,null,null,null,null,null,null,null,80]
[]
[]
[]
[]
[null,75,null,null,null,null,null,null,null,null,null,null,null,null,null,null,null,null,null,null,null,null,null,null,null,null,null,null,null,null,null,null,null,null,null,null,null,null,null,null,null,null,null,null,null,null,null,null,null,null,75]
[]
[]
[]
[]
[null,70,null,null,null,null,null,null,null,null,null,null,null,null,null,null,null,null,null,null,null,null,null,null,null,null,null,null,null,null,null,null,null,null,null,null,null,null,null,null,null,null,null,null,null,null,null,null,null,null,70]
[]
[]
[]
[]
[null,65,null,null,null,null,null,null,null,null,null,null,null,null,null,null,null,null,null,null,null,null,null,null,null,null,null,null,null,null,null,null,null,null,null,null,null,null,null,null,null,null,null,null,null,null,null,null,null,null,65]
[]
[]
[]
[]
[null,60,null,null,null,null,null,null,null,null,null,null,null,null,null,null,null,null,null,null,null,null,null,null,null,null,null,null,null,null,null,null,null,null,null,null,null,null,null,null,null,null,null,null,null,null,null,null,null,null,60]
[]
[]
[]
[]
[null,55,null,null,null,null,null,null,null,null,null,null,null,null,null,null,null,null,null,null,null,null,null,null,null,null,null,null,null,null,null,null,null,null,null,null,null,null,null,null,null,null,null,null,null,null,null,null,null,null,55]
[]
[]
[]
[]
[null,50,null,null,null,null,null,null,null,null,null,null,null,null,null,null,null,null,null,null,null,null,null,null,null,null,null,null,null,null,null,null,null,null,null,null,null,null,null,null,null,null,null,null,null,null,null,null,null,null,50]
[]
[]
[]
[]
[null,45,null,null,null,null,null,null,null,null,null,null,null,null,null,null,null,null,null,null,null,null,null,null,null,null,null,null,null,null,null,null,null,null,null,null,null,null,null,null,null,null,null,null,null,null,null,null,null,null,45]
[]
[]
[]
[]
[null,40,null,null,null,null,null,null,null,null,null,null,null,null,null,null,null,null,null,null,null,null,null,null,null,null,null,null,null,null,null,null,null,null,null,null,null,null,null,null,null,null,null,null,null,null,null,null,null,null,40]
[]
[]
[]
[]
[null,35,null,null,null,null,null,null,null,null,null,null,null,null,null,null,null,null,null,null,null,null,null,null,null,null,null,null,null,null,null,null,null,null,null,null,null,null,null,null,null,null,null,null,null,null,null,null,null,null,35]
[]
[]
[]
[]
[null,30,null,null,null,null,null,null,null,null,null,null,null,null,null,null,null,null,null,null,null,null,null,null,null,null,null,null,null,null,null,null,null,null,null,null,null,null,null,null,null,null,null,null,null,null,null,null,null,null,30]
[]
[]
[]
[]
[null,25,null,null,null,null,null,null,null,null,null,null,null,null,null,null,null,null,null,null,null,null,null,null,null,null,null,null,null,null,null,null,null,null,null,null,null,null,null,null,null,null,null,null,null,null,null,null,null,null,25]
[]
[]
[]
[]
[null,20,null,null,null,null,null,null,null,null,null,null,null,null,null,null,null,null,null,null,null,null,null,null,null,null,null,null,null,null,null,null,null,null,null,null,null,null,null,null,null,null,null,null,null,null,null,null,null,null,20]
[]
[]
[]
[]
[null,15,null,null,null,null,null,null,null,null,null,null,null,null,null,null,null,null,null,null,null,null,null,null,null,null,null,null,null,null,null,null,null,null,null,null,null,null,null,null,null,null,null,null,null,null,null,null,null,null,15]
[]
[]
[]
[]
[null,10,null,null,null,null,null,null,null,null,null,null,null,null,null,null,null,null,null,null,null,null,null,null,null,null,null,null,null,null,null,null,null,null,null,null,null,null,null,null,null,null,null,null,null,null,null,null,null,null,10]
[]
[]
[]
[]
[null,5,null,null,null,null,null,null,null,null,null,null,null,null,null,null,null,null,null,null,null,null,null,null,null,null,null,null,null,null,null,null,null,null,null,null,null,null,null,null,null,null,null,null,null,null,null,null,null,null,5]
[]
[]
[]
[]
[null,0,null,null,null,null,null,null,null,null,null,null,null,null,null,null,null,null,null,null,null,null,null,null,null,null,null,null,null,null,null,null,null,null,null,null,null,null,null,null,null,null,null,null,null,null,null,null,null,null,0]
[]
[]
[null,null,null,"Watford (A) L 1-3","Oxford (H) W 3-1","Barnsley (A) D 0-0","Swindon (H) W 2-1","Birmingham (H) D 0-0","Peterborough (A) D 0-0","Notts Co (H) W 6-0","Brentford (A) D 1-1","Sunderland (A) L 0-2","Cambridge (H) D 2-2","Charlton (A) W 2-0","Wolves (H) W 2-0","Bristol R (A) L 0-1","Bristol C (H) W 4-1","Derby (A) W 2-1","West Ham (H) W 2-1","Luton (A) D 1-1","Portsmouth (A) L 0-1","Southend (H) D 1-1","Grimsby (H) W 2-1","Newcastle (A) D 1-1","Tranmere (A) D 1-1","Leicester (H) W 2-0","Notts Co (A) W 2-1","Brentford (H) W 6-1","Peterborough (H) W 4-0","Oxford (A) L 0-3","Watford (H) W 5-2","Birmingham (A) D 0-0","Swindon (A) L 0-3","Barnsley (H) L 0-4","Cambridge (A) D 1-1","Sunderland (H) D 0-0","Bristol C (A) W 1-0","Derby (H) W 1-0","Southend (A) D 3-3","Luton (H) W 1-0","West Ham (A) D 2-2","Portsmouth (H) D 1-1","Grimsby (A) L 0-1","Tranmere (H) D 0-0","Leicester (A) L 0-3","Newcastle (H) L 1-2","Charlton (H) W 1-0","Wolves (A) L 1-3","Bristol R (H) L 0-3"]
[]
[]
[]
[]
[]
[]
[]
[]
[null,null,null,4,5,6,7,8,9,10,11,12,13,14,15,16,17,18,19,20,21,22,23,24,25,26,27,28,29,30,31,32,33,34,35,36,37,38,39,40,41,42,43,44,45,46,47,48,49]
[]
[null,"Top Y",null,{"$f":"Sheet2!$I$6","v":3},{"$f":"Sheet2!$I$7","v":9},{"$f":"Sheet2!$I$8","v":13},{"$f":"Sheet2!$I$9","v":16},{"$f":"Sheet2!$I$10","v":18},{"$f":"Sheet2!$I$11","v":18},{"$f":"Sheet2!$I$12","v":21},{"$f":"Sheet2!$I$13","v":24},{"$f":"Sheet2!$I$14","v":24},{"$f":"Sheet2!$I$15","v":30},{"$f":"Sheet2!$I$16","v":33},{"$f":"Sheet2!$I$17","v":33},{"$f":"Sheet2!$I$18","v":33},{"$f":"Sheet2!$I$19","v":36},{"$f":"Sheet2!$I$20","v":36},{"$f":"Sheet2!$I$21","v":40},{"$f":"Sheet2!$I$22","v":43},{"$f":"Sheet2!$I$23","v":46},{"$f":"Sheet2!$I$24","v":49},{"$f":"Sheet2!$I$25","v":49},{"$f":"Sheet2!$I$26","v":50},{"$f":"Sheet2!$I$27","v":53},{"$f":"Sheet2!$I$28","v":53},{"$f":"Sheet2!$I$29","v":56},{"$f":"Sheet2!$I$30","v":59},{"$f":"Sheet2!$I$31","v":61},{"$f":"Sheet2!$I$32","v":61},{"$f":"Sheet2!$I$33","v":62},{"$f":"Sheet2!$I$34","v":62},{"$f":"Sheet2!$I$35","v":62},{"$f":"Sheet2!$I$36","v":62},{"$f":"Sheet2!$I$37","v":64},{"$f":"Sheet2!$I$38","v":70},{"$f":"Sheet2!$I$39","v":70},{"$f":"Sheet2!$I$40","v":71},{"$f":"Sheet2!$I$41","v":74},{"$f":"Sheet2!$I$42","v":74},{"$f":"Sheet2!$I$43","v":75},{"$f":"Sheet2!$I$44","v":78},{"$f":"Sheet2!$I$45","v":78},{"$f":"Sheet2!$I$46","v":81},{"$f":"Sheet2!$I$47","v":81},{"$f":"Sheet2!$I$48","v":84},{"$f":"Sheet2!$I$49","v":85},{"$f":"Sheet2!$I$50","v":87},{"$f":"Sheet2!$I$51","v":93}]
[]
[null,"3rd a",null,{"$f":"Sheet2!$K$6","v":3},{"$f":"Sheet2!$K$7","v":7},{"$f":"Sheet2!$K$8","v":10},{"$f":"Sheet2!$K$9","v":14},{"$f":"Sheet2!$K$10","v":14},{"$f":"Sheet2!$K$11","v":15},{"$f":"Sheet2!$K$12","v":16},{"$f":"Sheet2!$K$13","v":16},{"$f":"Sheet2!$K$14","v":19},{"$f":"Sheet2!$K$15","v":21},{"$f":"Sheet2!$K$16","v":22},{"$f":"Sheet2!$K$17","v":23},{"$f":"Sheet2!$K$18","v":24},{"$f":"Sheet2!$K$19","v":26},{"$f":"Sheet2!$K$20","v":27},{"$f":"Sheet2!$K$21","v":31},{"$f":"Sheet2!$K$22","v":31},{"$f":"Sheet2!$K$23","v":33},{"$f":"Sheet2!$K$24","v":33},{"$f":"Sheet2!$K$25","v":36},{"$f":"Sheet2!$K$26","v":37},{"$f":"Sheet2!$K$27","v":38},{"$f":"Sheet2!$K$28","v":39},{"$f":"Sheet2!$K$29","v":42},{"$f":"Sheet2!$K$30","v":45},{"$f":"Sheet2!$K$31","v":48},{"$f":"Sheet2!$K$32","v":48},{"$f":"Sheet2!$K$33","v":51},{"$f":"Sheet2!$K$34","v":52},{"$f":"Sheet2!$K$35","v":52},{"$f":"Sheet2!$K$36","v":52},{"$f":"Sheet2!$K$37","v":53},{"$f":"Sheet2!$K$38","v":56},{"$f":"Sheet2!$K$39","v":57},{"$f":"Sheet2!$K$40","v":60},{"$f":"Sheet2!$K$41","v":63},{"$f":"Sheet2!$K$42","v":66},{"$f":"Sheet2!$K$43","v":69},{"$f":"Sheet2!$K$44","v":70},{"$f":"Sheet2!$K$45","v":73},{"$f":"Sheet2!$K$46","v":73},{"$f":"Sheet2!$K$47","v":76},{"$f":"Sheet2!$K$48","v":79},{"$f":"Sheet2!$K$49","v":82},{"$f":"Sheet2!$K$50","v":82},{"$f":"Sheet2!$K$51","v":88}]
[]
[null,"7th b",null,{"$f":"Sheet2!$M$6","v":3},{"$f":"Sheet2!$M$7","v":4},{"$f":"Sheet2!$M$8","v":6},{"$f":"Sheet2!$M$9","v":7},{"$f":"Sheet2!$M$10","v":9},{"$f":"Sheet2!$M$11","v":11},{"$f":"Sheet2!$M$12","v":12},{"$f":"Sheet2!$M$13","v":13},{"$f":"Sheet2!$M$14","v":16},{"$f":"Sheet2!$M$15","v":17},{"$f":"Sheet2!$M$16","v":21},{"$f":"Sheet2!$M$17","v":21},{"$f":"Sheet2!$M$18","v":22},{"$f":"Sheet2!$M$19","v":23},{"$f":"Sheet2!$M$20","v":25},{"$f":"Sheet2!$M$21","v":26},{"$f":"Sheet2!$M$22","v":28},{"$f":"Sheet2!$M$23","v":29},{"$f":"Sheet2!$M$24","v":31},{"$f":"Sheet2!$M$25","v":31},{"$f":"Sheet2!$M$26","v":33},{"$f":"Sheet2!$M$27","v":33},{"$f":"Sheet2!$M$28","v":34},{"$f":"Sheet2!$M$29","v":36},{"$f":"Sheet2!$M$30","v":38},{"$f":"Sheet2!$M$31","v":40},{"$f":"Sheet2!$M$32","v":41},{"$f":"Sheet2!$M$33","v":43},{"$f":"Sheet2!$M$34","v":43},{"$f":"Sheet2!$M$35","v":43},{"$f":"Sheet2!$M$36","v":44},{"$f":"Sheet2!$M$37","v":48},{"$f":"Sheet2!$M$38","v":49},{"$f":"Sheet2!$M$39","v":49},{"$f":"Sheet2!$M$40","v":54},{"$f":"Sheet2!$M$41","v":55},{"$f":"Sheet2!$M$42","v":55},{"$f":"Sheet2!$M$43","v":58},{"$f":"Sheet2!$M$44","v":61},{"$f":"Sheet2!$M$45","v":64},{"$f":"Sheet2!$M$46","v":65},{"$f":"Sheet2!$M$47","v":67},{"$f":"Sheet2!$M$48","v":67},{"$f":"Sheet2!$M$49","v":70},{"$f":"Sheet2!$M$50","v":70},{"$f":"Sheet2!$M$51","v":70}]
[]
[null,"21st c",null,{"$f":"Sheet2!$O$6","v":0},{"$f":"Sheet2!$O$7","v":0},{"$f":"Sheet2!$O$8","v":1},{"$f":"Sheet2!$O$9","v":3},{"$f":"Sheet2!$O$10","v":4},{"$f":"Sheet2!$O$11","v":5},{"$f":"Sheet2!$O$12","v":6},{"$f":"Sheet2!$O$13","v":7},{"$f":"Sheet2!$O$14","v":8},{"$f":"Sheet2!$O$15","v":9},{"$f":"Sheet2!$O$16","v":9},{"$f":"Sheet2!$O$17","v":10},{"$f":"Sheet2!$O$18","v":12},{"$f":"Sheet2!$O$19","v":14},{"$f":"Sheet2!$O$20","v":14},{"$f":"Sheet2!$O$21","v":15},{"$f":"Sheet2!$O$22","v":15},{"$f":"Sheet2!$O$23","v":15},{"$f":"Sheet2!$O$24","v":16},{"$f":"Sheet2!$O$25","v":19},{"$f":"Sheet2!$O$26","v":20},{"$f":"Sheet2!$O$27","v":20},{"$f":"Sheet2!$O$28","v":21},{"$f":"Sheet2!$O$29","v":21},{"$f":"Sheet2!$O$30","v":23},{"$f":"Sheet2!$O$31","v":25},{"$f":"Sheet2!$O$32","v":26},{"$f":"Sheet2!$O$33","v":27},{"$f":"Sheet2!$O$34","v":28},{"$f":"Sheet2!$O$35","v":28},{"$f":"Sheet2!$O$36","v":29},{"$f":"Sheet2!$O$37","v":32},{"$f":"Sheet2!$O$38","v":33},{"$f":"Sheet2!$O$39","v":33},{"$f":"Sheet2!$O$40","v":36},{"$f":"Sheet2!$O$41","v":38},{"$f":"Sheet2!$O$42","v":40},{"$f":"Sheet2!$O$43","v":41},{"$f":"Sheet2!$O$44","v":42},{"$f":"Sheet2!$O$45","v":43},{"$f":"Sheet2!$O$46","v":45},{"$f":"Sheet2!$O$47","v":46},{"$f":"Sheet2!$O$48","v":46},{"$f":"Sheet2!$O$49","v":47},{"$f":"Sheet2!$O$50","v":49},{"$f":"Sheet2!$O$51","v":50}]
[]
[null,"24th d",null,{"$f":"Sheet2!$Q$6","v":0},{"$f":"Sheet2!$Q$7","v":0},{"$f":"Sheet2!$Q$8","v":0},{"$f":"Sheet2!$Q$9","v":1},{"$f":"Sheet2!$Q$10","v":2},{"$f":"Sheet2!$Q$11","v":2},{"$f":"Sheet2!$Q$12","v":2},{"$f":"Sheet2!$Q$13","v":5},{"$f":"Sheet2!$Q$14","v":5},{"$f":"Sheet2!$Q$15","v":6},{"$f":"Sheet2!$Q$16","v":6},{"$f":"Sheet2!$Q$17","v":6},{"$f":"Sheet2!$Q$18","v":9},{"$f":"Sheet2!$Q$19","v":9},{"$f":"Sheet2!$Q$20","v":9},{"$f":"Sheet2!$Q$21","v":9},{"$f":"Sheet2!$Q$22","v":10},{"$f":"Sheet2!$Q$23","v":13},{"$f":"Sheet2!$Q$24","v":15},{"$f":"Sheet2!$Q$25","v":15},{"$f":"Sheet2!$Q$26","v":18},{"$f":"Sheet2!$Q$27","v":18},{"$f":"Sheet2!$Q$28","v":20},{"$f":"Sheet2!$Q$29","v":20},{"$f":"Sheet2!$Q$30","v":21},{"$f":"Sheet2!$Q$31","v":23},{"$f":"Sheet2!$Q$32","v":24},{"$f":"Sheet2!$Q$33","v":26},{"$f":"Sheet2!$Q$34","v":26},{"$f":"Sheet2!$Q$35","v":26},{"$f":"Sheet2!$Q$36","v":27},{"$f":"Sheet2!$Q$37","v":29},{"$f":"Sheet2!$Q$38","v":30},{"$f":"Sheet2!$Q$39","v":30},{"$f":"Sheet2!$Q$40","v":31},{"$f":"Sheet2!$Q$41","v":32},{"$f":"Sheet2!$Q$42","v":35},{"$f":"Sheet2!$Q$43","v":35},{"$f":"Sheet2!$Q$44","v":36},{"$f":"Sheet2!$Q$45","v":36},{"$f":"Sheet2!$Q$46","v":36},{"$f":"Sheet2!$Q$47","v":36},{"$f":"Sheet2!$Q$48","v":37},{"$f":"Sheet2!$Q$49","v":37},{"$f":"Sheet2!$Q$50","v":38},{"$f":"Sheet2!$Q$51","v":41}]
[]
[null,"Millwall",null,{"$f":"Sheet2!$G$6","v":0},{"$f":"Sheet2!$G$7","v":3},{"$f":"Sheet2!$G$8","v":4},{"$f":"Sheet2!$G$9","v":7},{"$f":"Sheet2!$G$10","v":8},{"$f":"Sheet2!$G$11","v":9},{"$f":"Sheet2!$G$12","v":12},{"$f":"Sheet2!$G$13","v":13},{"$f":"Sheet2!$G$14","v":13},{"$f":"Sheet2!$G$15","v":14},{"$f":"Sheet2!$G$16","v":17},{"$f":"Sheet2!$G$17","v":20},{"$f":"Sheet2!$G$18","v":20},{"$f":"Sheet2!$G$19","v":23},{"$f":"Sheet2!$G$20","v":26},{"$f":"Sheet2!$G$21","v":29},{"$f":"Sheet2!$G$22","v":30},{"$f":"Sheet2!$G$23","v":30},{"$f":"Sheet2!$G$24","v":31},{"$f":"Sheet2!$G$25","v":34},{"$f":"Sheet2!$G$26","v":35},{"$f":"Sheet2!$G$27","v":36},{"$f":"Sheet2!$G$28","v":39},{"$f":"Sheet2!$G$29","v":42},{"$f":"Sheet2!$G$30","v":45},{"$f":"Sheet2!$G$31","v":48},{"$f":"Sheet2!$G$32","v":48},{"$f":"Sheet2!$G$33","v":51},{"$f":"Sheet2!$G$34","v":52},{"$f":"Sheet2!$G$35","v":52},{"$f":"Sheet2!$G$36","v":52},{"$f":"Sheet2!$G$37","v":53},{"$f":"Sheet2!$G$38","v":54},{"$f":"Sheet2!$G$39","v":57},{"$f":"Sheet2!$G$40","v":60},{"$f":"Sheet2!$G$41","v":61},{"$f":"Sheet2!$G$42","v":64},{"$f":"Sheet2!$G$43","v":65},{"$f":"Sheet2!$G$44","v":66},{"$f":"Sheet2!$G$45","v":66},{"$f":"Sheet2!$G$46","v":67},{"$f":"Sheet2!$G$47","v":67},{"$f":"Sheet2!$G$48","v":67},{"$f":"Sheet2!$G$49","v":70},{"$f":"Sheet2!$G$50","v":70},{"$f":"Sheet2!$G$51","v":70}]
[]
[]
[]
[]
[]
[]
[]
[]
[]
[]
[]
[]
[]
[]
[null,"2nd f",null,{"$f":"(Sheet2!$T$6)","v":3},{"$f":"(Sheet2!$T$7)","v":7},{"$f":"(Sheet2!$T$8)","v":10},{"$f":"(Sheet2!$T$9)","v":15},{"$f":"(Sheet2!$T$10)","v":17},{"$f":"(Sheet2!$T$11)","v":17},{"$f":"(Sheet2!$T$12)","v":18},{"$f":"(Sheet2!$T$13)","v":21},{"$f":"(Sheet2!$T$14)","v":22},{"$f":"(Sheet2!$T$15)","v":22},{"$f":"(Sheet2!$T$16)","v":23},{"$f":"(Sheet2!$T$17)","v":24},{"$f":"(Sheet2!$T$18)","v":27},{"$f":"(Sheet2!$T$19)","v":27},{"$f":"(Sheet2!$T$20)","v":28},{"$f":"(Sheet2!$T$21)","v":31},{"$f":"(Sheet2!$T$22)","v":32},{"$f":"(Sheet2!$T$23)","v":34},{"$f":"(Sheet2!$T$24)","v":37},{"$f":"(Sheet2!$T$25)","v":37},{"$f":"(Sheet2!$T$26)","v":40},{"$f":"(Sheet2!$T$27)","v":41},{"$f":"(Sheet2!$T$28)","v":41},{"$f":"(Sheet2!$T$29)","v":42},{"$f":"(Sheet2!$T$30)","v":45},{"$f":"(Sheet2!$T$31)","v":48},{"$f":"(Sheet2!$T$32)","v":51},{"$f":"(Sheet2!$T$33)","v":52},{"$f":"(Sheet2!$T$34)","v":55},{"$f":"(Sheet2!$T$35)","v":58},{"$f":"(Sheet2!$T$36)","v":58},{"$f":"(Sheet2!$T$37)","v":60},{"$f":"(Sheet2!$T$38)","v":63},{"$f":"(Sheet2!$T$39)","v":66},{"$f":"(Sheet2!$T$40)","v":66},{"$f":"(Sheet2!$T$41)","v":69},{"$f":"(Sheet2!$T$42)","v":69},{"$f":"(Sheet2!$T$43)","v":70},{"$f":"(Sheet2!$T$44)","v":73},{"$f":"(Sheet2!$T$45)","v":73},{"$f":"(Sheet2!$T$46)","v":76},{"$f":"(Sheet2!$T$47)","v":79},{"$f":"(Sheet2!$T$48)","v":82},{"$f":"(Sheet2!$T$49)","v":84},{"$f":"(Sheet2!$T$50)","v":85},{"$f":"(Sheet2!$T$51)","v":88}]
[]
[null,"6th g",null,{"$f":"(Sheet2!$V$6)","v":3},{"$f":"(Sheet2!$V$7)","v":6},{"$f":"(Sheet2!$V$8)","v":7},{"$f":"(Sheet2!$V$9)","v":10},{"$f":"(Sheet2!$V$10)","v":10},{"$f":"(Sheet2!$V$11)","v":11},{"$f":"(Sheet2!$V$12)","v":12},{"$f":"(Sheet2!$V$13)","v":13},{"$f":"(Sheet2!$V$14)","v":18},{"$f":"(Sheet2!$V$15)","v":18},{"$f":"(Sheet2!$V$16)","v":21},{"$f":"(Sheet2!$V$17)","v":21},{"$f":"(Sheet2!$V$18)","v":22},{"$f":"(Sheet2!$V$19)","v":24},{"$f":"(Sheet2!$V$20)","v":26},{"$f":"(Sheet2!$V$21)","v":27},{"$f":"(Sheet2!$V$22)","v":28},{"$f":"(Sheet2!$V$23)","v":30},{"$f":"(Sheet2!$V$24)","v":31},{"$f":"(Sheet2!$V$25)","v":33},{"$f":"(Sheet2!$V$26)","v":33},{"$f":"(Sheet2!$V$27)","v":34},{"$f":"(Sheet2!$V$28)","v":35},{"$f":"(Sheet2!$V$29)","v":38},{"$f":"(Sheet2!$V$30)","v":40},{"$f":"(Sheet2!$V$31)","v":42},{"$f":"(Sheet2!$V$32)","v":42},{"$f":"(Sheet2!$V$33)","v":44},{"$f":"(Sheet2!$V$34)","v":44},{"$f":"(Sheet2!$V$35)","v":47},{"$f":"(Sheet2!$V$36)","v":47},{"$f":"(Sheet2!$V$37)","v":48},{"$f":"(Sheet2!$V$38)","v":51},{"$f":"(Sheet2!$V$39)","v":54},{"$f":"(Sheet2!$V$40)","v":55},{"$f":"(Sheet2!$V$41)","v":58},{"$f":"(Sheet2!$V$42)","v":61},{"$f":"(Sheet2!$V$43)","v":64},{"$f":"(Sheet2!$V$44)","v":65},{"$f":"(Sheet2!$V$45)","v":65},{"$f":"(Sheet2!$V$46)","v":67},{"$f":"(Sheet2!$V$47)","v":68},{"$f":"(Sheet2!$V$48)","v":71},{"$f":"(Sheet2!$V$49)","v":72},{"$f":"(Sheet2!$V$50)","v":75},{"$f":"(Sheet2!$V$51)","v":76}]
[]
[null,"22nd h",null,{"$f":"(Sheet2!$X$6)","v":0},{"$f":"(Sheet2!$X$7)","v":0},{"$f":"(Sheet2!$X$8)","v":1},{"$f":"(Sheet2!$X$9)","v":3},{"$f":"(Sheet2!$X$10)","v":4},{"$f":"(Sheet2!$X$11)","v":4},{"$f":"(Sheet2!$X$12)","v":5},{"$f":"(Sheet2!$X$13)","v":6},{"$f":"(Sheet2!$X$14)","v":7},{"$f":"(Sheet2!$X$15)","v":8},{"$f":"(Sheet2!$X$16)","v":9},{"$f":"(Sheet2!$X$17)","v":10},{"$f":"(Sheet2!$X$18)","v":11},{"$f":"(Sheet2!$X$19)","v":12},{"$f":"(Sheet2!$X$20)","v":12},{"$f":"(Sheet2!$X$21)","v":12},{"$f":"(Sheet2!$X$22)","v":14},{"$f":"(Sheet2!$X$23)","v":14},{"$f":"(Sheet2!$X$24)","v":16},{"$f":"(Sheet2!$X$25)","v":18},{"$f":"(Sheet2!$X$26)","v":19},{"$f":"(Sheet2!$X$27)","v":19},{"$f":"(Sheet2!$X$28)","v":20},{"$f":"(Sheet2!$X$29)","v":21},{"$f":"(Sheet2!$X$30)","v":22},{"$f":"(Sheet2!$X$31)","v":25},{"$f":"(Sheet2!$X$32)","v":26},{"$f":"(Sheet2!$X$33)","v":27},{"$f":"(Sheet2!$X$34)","v":28},{"$f":"(Sheet2!$X$35)","v":28},{"$f":"(Sheet2!$X$36)","v":29},{"$f":"(Sheet2!$X$37)","v":31},{"$f":"(Sheet2!$X$38)","v":32},{"$f":"(Sheet2!$X$39)","v":32},{"$f":"(Sheet2!$X$40)","v":35},{"$f":"(Sheet2!$X$41)","v":37},{"$f":"(Sheet2!$X$42)","v":39},{"$f":"(Sheet2!$X$43)","v":40},{"$f":"(Sheet2!$X$44)","v":40},{"$f":"(Sheet2!$X$45)","v":43},{"$f":"(Sheet2!$X$46)","v":43},{"$f":"(Sheet2!$X$47)","v":46},{"$f":"(Sheet2!$X$48)","v":46},{"$f":"(Sheet2!$X$49)","v":46},{"$f":"(Sheet2!$X$50)","v":49},{"$f":"(Sheet2!$X$51)","v":49}]
[]
[]
[null,null,null,{"$f":"D126-D149","v":0},{"$f":"E126-E149","v":0},0,0,0,1,1,1,1,1,0,0,1,2,2,3,1,1,0,1,1,1,1,0,1,0,0,0,0,0,0,1,1,1,1,1,1,1,2]

{"sheet":"Sheet2","index":3,"n_rows":51,"n_cols":26,"rows_kept":51,"cut":false,"hidden":false,"merged":[]}
[null,null,"Millwall 1992/93 results and fixtures ",null,null,null,{"$f":"[3]Summary!$AP$66","v":70},{"$f":"[3]Summary!$Q$22","v":7},{"$f":"[3]Summary!$AP$10","v":96},1,{"$f":"[3]Summary!$AP$12","v":88},3,{"$f":"[3]Summary!$AP$16","v":70},7,{"$f":"[3]Summary!$AP$30","v":50},21,{"$f":"[3]Summary!$AP$33","v":41},24,{"$f":"[3]Summary!$T$5","v":115},{"$f":"[3]Summary!$AP$11","v":88},2,{"$f":"[3]Summary!$AP$15","v":76},6,{"$f":"[3]Summary!$AP$31","v":49},22,{"$f":"[3]Summary!$U$7","v":"Bristol R (H) L 0-3"}]
[]
[]
[null,null,null,null,null,null,"x"]
[null,"Game","Competition",null,"Pts","Pos","Millwall","Pos","top","Pos","3rd","Pos","7th","Pos","21st","Pos","Bottom","Pos","Day","2nd","Pos","6th ","Pos","22nd","Pos","Vesus"]
[null,1,"Division One","Watford (A) L 1-3",null,null,0,16,3,1,3,3,3,7,0,21,0,24,1,3,2,3,6,0,22,"Watford (A) L 1-3"]
[null,2,"Division One","Oxford (H) W 3-1",null,null,3,12,9,1,7,3,4,7,0,21,0,24,5,7,2,6,6,0,22,"Oxford (H) W 3-1"]
[null,3,"Division One","Barnsley (A) D 0-0",null,null,4,12,13,1,10,3,6,7,1,21,0,24,9,10,2,7,6,1,22,"Barnsley (A) D 0-0"]
[null,4,"Division One","Swindon (H) W 2-1",null,null,7,10,16,1,14,3,7,7,3,21,1,24,14,15,2,10,6,3,22,"Swindon (H) W 2-1"]
[null,5,"Division One","Birmingham (H) D 0-0",null,null,8,10,18,1,14,3,9,7,4,21,2,24,16,17,2,10,6,4,22,"Birmingham (H) D 0-0"]
[null,6,"Division One","Peterborough (A) D 0-0",null,null,9,8,18,1,15,3,11,7,5,21,2,24,18,17,2,11,6,4,22,"Peterborough (A) D 0-0"]
[null,7,"Division One","Notts Co (H) W 6-0",null,null,12,5,21,1,16,3,12,7,6,21,2,24,20,18,2,12,6,5,22,"Notts Co (H) W 6-0"]
[null,8,"Division One","Brentford (A) D 1-1",null,null,13,6,24,1,16,3,13,7,7,21,5,24,22,21,2,13,6,6,22,"Brentford (A) D 1-1"]
[null,9,"Division One","Sunderland (A) L 0-2",null,null,13,9,24,1,19,3,16,7,8,21,5,24,25,22,2,18,6,7,22,"Sunderland (A) D 1-1"]
[null,10,"Division One","Cambridge (H) D 2-2",null,null,14,11,30,1,21,3,17,7,9,21,6,24,27,22,2,18,6,8,22,"Cambridge (H) D 2-2"]
[null,11,"Division One","Charlton (A) W 2-0",null,null,17,8,33,1,22,3,21,7,9,21,6,24,30,23,2,21,6,9,22,"Charlton (A) W 2-0"]
[null,12,"Division One","Wolves (H) W 2-0",null,null,20,8,33,1,23,3,21,7,10,21,6,24,32,24,2,21,6,10,22,"Wolves (H) W 2-0"]
[null,13,"Division One","Bristol R (A) L 0-1",null,null,20,8,33,1,24,3,22,7,12,21,9,24,34,27,2,22,6,11,22,"Bristol R (A) L 0-1"]
[null,14,"Division One","Bristol C (H) W 4-1",null,null,23,7,36,1,26,3,23,7,14,21,9,24,37,27,2,24,6,12,22,"Bristol C (H) W 4-1"]
[null,15,"Division One","Derby (A) W 2-1",null,null,26,5,36,1,27,3,25,7,14,21,9,24,38,28,2,26,6,12,22,"Derby (A) W 2-1"]
[null,16,"Division One","West Ham (H) W 2-1",null,null,29,4,40,1,31,3,26,7,15,21,9,24,41,31,2,27,6,12,22,"West Ham (H) W 2-1"]
[null,17,"Division One","Luton (A) D 1-1",null,null,30,5,43,1,31,3,28,7,15,21,10,24,42,32,2,28,6,14,22,"Luton (A) D 1-1"]
[null,18,"Division One","Portsmouth (A) L 0-1",null,null,30,6,46,1,33,3,29,7,15,21,13,24,44,34,2,30,6,14,22,"Portsmouth (A) L 0-1"]
[null,19,"Division One","Southend (H) D 1-1",null,null,31,6,49,1,33,3,31,7,16,21,15,24,47,37,2,31,6,16,22,"Southend (H) D 1-1"]
[null,20,"Division One","Grimsby (H) W 2-1",null,null,34,4,49,1,36,3,31,7,19,21,15,24,49,37,2,33,6,18,22,"Grimsby (H) W 2-1"]
[null,21,"Division One","Newcastle (A) D 1-1",null,null,35,4,50,1,37,3,33,7,20,21,18,24,53,40,2,33,6,19,22,"Newcastle (A) D 1-1"]
[null,22,"Division One","Tranmere (A) D 1-1",null,null,36,4,53,1,38,3,33,7,20,21,18,24,54,41,2,34,6,19,22,"Tranmere (A) D 1-1"]
[null,23,"Division One","Leicester (H) W 2-0",null,null,39,4,53,1,39,3,34,7,21,21,20,24,55,41,2,35,6,20,22,"Leicester (H) W 2-0"]
[null,24,"Division One","Notts Co (A) W 2-1",null,null,42,3,56,1,42,3,36,7,21,21,20,24,56,42,2,38,6,21,22,"Notts Co (A) W 2-1"]
[null,25,"Division One","Brentford (H) W 6-1",null,null,45,4,59,1,45,3,38,7,23,21,21,24,61,45,2,40,6,22,22,"Brentford (H) W 6-1"]
[null,26,"Division One","Peterborough (H) W 4-0",null,null,48,3,61,1,48,3,40,7,25,21,23,24,66,48,2,42,6,25,22,"Peterborough (H) W 4-0"]
[null,27,"Division One","Oxford (A) L 0-3",null,null,48,3,61,1,48,3,41,7,26,21,24,24,67,51,2,42,6,26,22,"Oxford (A) L 0-3"]
[null,28,"Division One","Watford (H) W 5-2",null,null,51,3,62,1,51,3,43,7,27,21,26,24,69,52,2,44,6,27,22,"Watford (H) W 5-2"]
[null,29,"Division One","Birmingham (A) D 0-0",null,null,52,3,62,1,52,3,43,7,28,21,26,24,70,55,2,44,6,28,22,"Birmingham (A) D 0-0"]
[null,30,"Division One","Swindon (A) L 0-3",null,null,52,3,62,1,52,3,43,7,28,21,26,24,72,58,2,47,6,28,22,"Swindon (A) L 0-3"]
[null,31,"Division One","Barnsley (H) L 0-4",null,null,52,3,62,1,52,3,44,7,29,21,27,24,74,58,2,47,6,29,22,"Barnsley (H) L 0-4"]
[null,32,"Division One","Cambridge (A) D 1-1",null,null,53,3,64,1,53,3,48,7,32,21,29,24,78,60,2,48,6,31,22,"Cambridge (A) D 1-1"]
[null,33,"Division One","Sunderland (H) D 0-0",null,null,54,5,70,1,56,3,49,7,33,21,30,24,81,63,2,51,6,32,22,"Sunderland (H) D 0-0"]
[null,34,"Division One","Bristol C (A) W 1-0",null,null,57,4,70,1,57,3,49,7,33,21,30,24,82,66,2,54,6,32,22,"Bristol C (A) W 1-0"]
[null,35,"Division One","Derby (H) W 1-0",null,null,60,5,71,1,60,3,54,7,36,21,31,24,84,66,2,55,6,35,22,"Derby (H) W 1-0"]
[null,36,"Division One","Southend (A) D 3-3",null,null,61,5,74,1,63,3,55,7,38,21,32,24,88,69,2,58,6,37,22,"Southend (A) D 3-3"]
[null,37,"Division One","Luton (H) W 1-0",null,null,64,5,74,1,66,3,55,7,40,21,35,24,90,69,2,61,6,39,22,"Luton (H) W 1-0"]
[null,38,"Division One","West Ham (A) D 2-2",null,null,65,5,75,1,69,3,58,7,41,21,35,24,93,70,2,64,6,40,22,"West Ham (A) D 2-2"]
[null,39,"Division One","Portsmouth (H) D 1-1",null,null,66,5,78,1,70,3,61,7,42,21,36,24,95,73,2,65,6,40,22,"Portsmouth (H) D 1-1"]
[null,40,"Division One","Grimsby (A) L 0-1",null,null,66,5,78,1,73,3,64,7,43,21,36,24,96,73,2,65,6,43,22,"Grimsby (A) L 0-1"]
[null,41,"Division One","Tranmere (H) D 0-0",null,null,67,6,81,1,73,3,65,7,45,21,36,24,98,76,2,67,6,43,22,"Tranmere (H) D 0-0"]
[null,42,"Division One","Leicester (A) L 0-3",null,null,67,7,81,1,76,3,67,7,46,21,36,24,102,79,2,68,6,46,22,"Leicester (A) L 0-3"]
[null,43,"Division One","Newcastle (H) L 1-2",null,null,67,7,84,1,79,3,67,7,46,21,37,24,103,82,2,71,6,46,22,"Newcastle (H) L 1-2"]
[null,44,"Division One","Charlton (H) W 1-0",null,null,70,7,85,1,82,3,70,7,47,21,37,24,106,84,2,72,6,46,22,"Charlton (H) W 1-0"]
[null,45,"Division One","Wolves (A) L 1-3",null,null,70,7,87,1,82,3,70,7,49,21,38,24,108,85,2,75,6,49,22,"Wolves (A) L 1-3"]
[null,46,"Division One","Bristol R (H) L 0-3",null,null,70,7,93,1,88,3,70,7,50,21,41,24,113,88,2,76,6,49,22,"Bristol R (H) L 0-3"]

{"sheet":"Sheet3","index":4,"n_rows":121,"n_cols":57,"rows_kept":121,"cut":false,"hidden":false,"merged":[[5,1,8,1],[5,49,7,51],[9,50,10,50],[11,1,12,1],[13,50,15,50],[15,1,17,1],[17,50,19,50],[20,1,22,1],[21,50,23,50],[25,1,27,1],[25,50,27,50],[29,50,31,50],[30,1,32,1],[60,1,62,1],[61,50,63,50],[33,50,35,50],[35,1,37,1],[37,50,39,50],[40,1,42,1],[41,50,43,50],[45,1,47,1],[45,50,47,50],[49,50,51,50],[50,1,52,1],[53,50,55,50],[55,1,57,1],[57,50,59,50],[65,1,67,1],[65,50,67,50],[69,50,71,50],[70,1,72,1],[73,50,75,50],[75,1,77,1],[77,50,79,50],[105,1,106,1],[80,1,82,1],[81,50,83,50],[85,1,87,1],[85,50,87,50],[89,50,91,50],[90,1,92,1],[93,50,95,50],[95,1,97,1],[97,50,99,50],[100,1,102,1],[101,50,103,50]]}
[]
[null,null,null,null,null,null,null,null,null,null,null,null,null,null,null,null,null,null,null,null,null,null,null,null,null,null,null,null,null,null,null,null,null,null,null,null,null,null,null,null,null,null,null,null,null,null,null,null,null,null,null,null,null,null,null,4,{"$f":"COUNT(D115:AW115)+3","v":49}]
[]
[]
[null,null,"Points"]
[null,100,null,null,null,null,null,null,null,null,null,null,null,null,null,null,null,null,null,null,null,null,null,null,null,null,null,null,null,null,null,null,null,null,null,null,null,null,null,null,null,null,null,null,null,null,null,null,null,"Position"]
[]
[]
[]
[null,null,null,null,null,null,null,null,null,null,null,null,null,null,null,null,null,null,null,null,null,null,null,null,null,null,null,null,null,null,null,null,null,null,null,null,null,null,null,null,null,null,null,null,null,null,null,null,null,null,1]
[]
[null,95]
[]
[null,null,null,null,null,null,null,null,null,null,null,null,null,null,null,null,null,null,null,null,null,null,null,null,null,null,null,null,null,null,null,null,null,null,null,null,null,null,null,null,null,null,null,null,null,null,null,null,null,null,2]
[]
[null,90]
[]
[null,null,null,null,null,null,null,null,null,null,null,null,null,null,null,null,null,null,null,null,null,null,null,null,null,null,null,null,null,null,null,null,null,null,null,null,null,null,null,null,null,null,null,null,null,null,null,null,null,null,3]
[]
[]
[null,85]
[null,null,null,null,null,null,null,null,null,null,null,null,null,null,null,null,null,null,null,null,null,null,null,null,null,null,null,null,null,null,null,null,null,null,null,null,null,null,null,null,null,null,null,null,null,null,null,null,null,null,4]
[]
[]
[]
[null,80,null,null,null,null,null,null,null,null,null,null,null,null,null,null,null,null,null,null,null,null,null,null,null,null,null,null,null,null,null,null,null,null,null,null,null,null,null,null,null,null,null,null,null,null,null,null,null,null,5]
[]
[]
[]
[null,null,null,null,null,null,null,null,null,null,null,null,null,null,null,null,null,null,null,null,null,null,null,null,null,null,null,null,null,null,null,null,null,null,null,null,null,null,null,null,null,null,null,null,null,null,null,null,null,null,6]
[null,75]
[]
[]
[null,null,null,null,null,null,null,null,null,null,null,null,null,null,null,null,null,null,null,null,null,null,null,null,null,null,null,null,null,null,null,null,null,null,null,null,null,null,null,null,null,null,null,null,null,null,null,null,null,null,7]
[]
[null,70]
[]
[null,null,null,null,null,null,null,null,null,null,null,null,null,null,null,null,null,null,null,null,null,null,null,null,null,null,null,null,null,null,null,null,null,null,null,null,null,null,null,null,null,null,null,null,null,null,null,null,null,null,8]
[]
[]
[null,65]
[null,null,null,null,null,null,null,null,null,null,null,null,null,null,null,null,null,null,null,null,null,null,null,null,null,null,null,null,null,null,null,null,null,null,null,null,null,null,null,null,null,null,null,null,null,null,null,null,null,null,9]
[]
[]
[]
[null,60,null,null,null,null,null,null,null,null,null,null,null,null,null,null,null,null,null,null,null,null,null,null,null,null,null,null,null,null,null,null,null,null,null,null,null,null,null,null,null,null,null,null,null,null,null,null,null,null,10]
[]
[]
[]
[null,null,null,null,null,null,null,null,null,null,null,null,null,null,null,null,null,null,null,null,null,null,null,null,null,null,null,null,null,null,null,null,null,null,null,null,null,null,null,null,null,null,null,null,null,null,null,null,null,null,11]
[null,55]
[]
[]
[null,null,null,null,null,null,null,null,null,null,null,null,null,null,null,null,null,null,null,null,null,null,null,null,null,null,null,null,null,null,null,null,null,null,null,null,null,null,null,null,null,null,null,null,null,null,null,null,null,null,12]
[]
[null,50]
[]
[null,null,null,null,null,null,null,null,null,null,null,null,null,null,null,null,null,null,null,null,null,null,null,null,null,null,null,null,null,null,null,null,null,null,null,null,null,null,null,null,null,null,null,null,null,null,null,null,null,null,13]
[]
[]
[null,45]
[null,null,null,null,null,null,null,null,null,null,null,null,null,null,null,null,null,null,null,null,null,null,null,null,null,null,null,null,null,null,null,null,null,null,null,null,null,null,null,null,null,null,null,null,null,null,null,null,null,null,14]
[]
[]
[]
[null,40,null,null,null,null,null,null,null,null,null,null,null,null,null,null,null,null,null,null,null,null,null,null,null,null,null,null,null,null,null,null,null,null,null,null,null,null,null,null,null,null,null,null,null,null,null,null,null,null,15]
[]
[]
[]
[null,null,null,null,null,null,null,null,null,null,null,null,null,null,null,null,null,null,null,null,null,null,null,null,null,null,null,null,null,null,null,null,null,null,null,null,null,null,null,null,null,null,null,null,null,null,null,null,null,null,16]
[null,35]
[]
[]
[null,null,null,null,null,null,null,null,null,null,null,null,null,null,null,null,null,null,null,null,null,null,null,null,null,null,null,null,null,null,null,null,null,null,null,null,null,null,null,null,null,null,null,null,null,null,null,null,null,null,17]
[]
[null,30]
[]
[null,null,null,null,null,null,null,null,null,null,null,null,null,null,null,null,null,null,null,null,null,null,null,null,null,null,null,null,null,null,null,null,null,null,null,null,null,null,null,null,null,null,null,null,null,null,null,null,null,null,18]
[]
[]
[null,25]
[null,null,null,null,null,null,null,null,null,null,null,null,null,null,null,null,null,null,null,null,null,null,null,null,null,null,null,null,null,null,null,null,null,null,null,null,null,null,null,null,null,null,null,null,null,null,null,null,null,null,19]
[]
[]
[]
[null,20,null,null,null,null,null,null,null,null,null,null,null,null,null,null,null,null,null,null,null,null,null,null,null,null,null,null,null,null,null,null,null,null,null,null,null,null,null,null,null,null,null,null,null,null,null,null,null,null,20]
[]
[]
[]
[null,null,null,null,null,null,null,null,null,null,null,null,null,null,null,null,null,null,null,null,null,null,null,null,null,null,null,null,null,null,null,null,null,null,null,null,null,null,null,null,null,null,null,null,null,null,null,null,null,null,21]
[null,15]
[]
[]
[null,null,null,null,null,null,null,null,null,null,null,null,null,null,null,null,null,null,null,null,null,null,null,null,null,null,null,null,null,null,null,null,null,null,null,null,null,null,null,null,null,null,null,null,null,null,null,null,null,null,22]
[]
[null,10]
[]
[null,null,null,null,null,null,null,null,null,null,null,null,null,null,null,null,null,null,null,null,null,null,null,null,null,null,null,null,null,null,null,null,null,null,null,null,null,null,null,null,null,null,null,null,null,null,null,null,null,null,23]
[]
[]
[null,5]
[null,null,null,null,null,null,null,null,null,null,null,null,null,null,null,null,null,null,null,null,null,null,null,null,null,null,null,null,null,null,null,null,null,null,null,null,null,null,null,null,null,null,null,null,null,null,null,null,null,null,24]
[]
[]
[]
[null,0]
[]
[]
[null,null,null,{"$f":"#REF!","v":{"$error":"#REF!"}},{"$f":"#REF!","v":{"$error":"#REF!"}},{"$f":"#REF!","v":{"$error":"#REF!"}},{"$f":"#REF!","v":{"$error":"#REF!"}},{"$f":"#REF!","v":{"$error":"#REF!"}},{"$f":"#REF!","v":{"$error":"#REF!"}},{"$f":"#REF!","v":{"$error":"#REF!"}},{"$f":"#REF!","v":{"$error":"#REF!"}},{"$f":"#REF!","v":{"$error":"#REF!"}},{"$f":"#REF!","v":{"$error":"#REF!"}},{"$f":"#REF!","v":{"$error":"#REF!"}},{"$f":"#REF!","v":{"$error":"#REF!"}},{"$f":"#REF!","v":{"$error":"#REF!"}},{"$f":"#REF!","v":{"$error":"#REF!"}},{"$f":"#REF!","v":{"$error":"#REF!"}},{"$f":"#REF!","v":{"$error":"#REF!"}},{"$f":"#REF!","v":{"$error":"#REF!"}},{"$f":"#REF!","v":{"$error":"#REF!"}},{"$f":"#REF!","v":{"$error":"#REF!"}},{"$f":"#REF!","v":{"$error":"#REF!"}},{"$f":"#REF!","v":{"$error":"#REF!"}},{"$f":"#REF!","v":{"$error":"#REF!"}},{"$f":"#REF!","v":{"$error":"#REF!"}},{"$f":"#REF!","v":{"$error":"#REF!"}},{"$f":"#REF!","v":{"$error":"#REF!"}},{"$f":"#REF!","v":{"$error":"#REF!"}},{"$f":"#REF!","v":{"$error":"#REF!"}},{"$f":"#REF!","v":{"$error":"#REF!"}},{"$f":"#REF!","v":{"$error":"#REF!"}},{"$f":"#REF!","v":{"$error":"#REF!"}},{"$f":"#REF!","v":{"$error":"#REF!"}},{"$f":"#REF!","v":{"$error":"#REF!"}},{"$f":"#REF!","v":{"$error":"#REF!"}},{"$f":"#REF!","v":{"$error":"#REF!"}},{"$f":"#REF!","v":{"$error":"#REF!"}},{"$f":"#REF!","v":{"$error":"#REF!"}},{"$f":"#REF!","v":{"$error":"#REF!"}},{"$f":"#REF!","v":{"$error":"#REF!"}},{"$f":"#REF!","v":{"$error":"#REF!"}},{"$f":"#REF!","v":{"$error":"#REF!"}},{"$f":"#REF!","v":{"$error":"#REF!"}},{"$f":"#REF!","v":{"$error":"#REF!"}},{"$f":"#REF!","v":{"$error":"#REF!"}},{"$f":"#REF!","v":{"$error":"#REF!"}},{"$f":"#REF!","v":{"$error":"#REF!"}},{"$f":"#REF!","v":{"$error":"#REF!"}}]
[]
[]
[]
[]
[]
[null,"Millwall",null,{"$f":"Sheet2!$G$6","v":0},{"$f":"Sheet2!$G$7","v":3},{"$f":"Sheet2!$G$8","v":4},{"$f":"Sheet2!$G$9","v":7},{"$f":"Sheet2!$G$10","v":8},{"$f":"Sheet2!$G$11","v":9},{"$f":"Sheet2!$G$12","v":12},{"$f":"Sheet2!$G$13","v":13},{"$f":"Sheet2!$G$14","v":13},{"$f":"Sheet2!$G$15","v":14},{"$f":"Sheet2!$G$16","v":17},{"$f":"Sheet2!$G$17","v":20},{"$f":"Sheet2!$G$18","v":20},{"$f":"Sheet2!$G$19","v":23},{"$f":"Sheet2!$G$20","v":26},{"$f":"Sheet2!$G$21","v":29},{"$f":"Sheet2!$G$22","v":30},{"$f":"Sheet2!$G$23","v":30},{"$f":"Sheet2!$G$24","v":31},{"$f":"Sheet2!$G$25","v":34},{"$f":"Sheet2!$G$26","v":35},{"$f":"Sheet2!$G$27","v":36},{"$f":"Sheet2!$G$28","v":39},{"$f":"Sheet2!$G$29","v":42},{"$f":"Sheet2!$G$30","v":45},{"$f":"Sheet2!$G$31","v":48},{"$f":"Sheet2!$G$32","v":48},{"$f":"Sheet2!$G$33","v":51},{"$f":"Sheet2!$G$34","v":52},{"$f":"Sheet2!$G$35","v":52},{"$f":"Sheet2!$G$36","v":52},{"$f":"Sheet2!$G$37","v":53},{"$f":"Sheet2!$G$38","v":54},{"$f":"Sheet2!$G$39","v":57},{"$f":"Sheet2!$G$40","v":60},{"$f":"Sheet2!$G$41","v":61},{"$f":"Sheet2!$G$42","v":64},{"$f":"Sheet2!$G$43","v":65},{"$f":"Sheet2!$G$44","v":66},{"$f":"Sheet2!$G$45","v":66},{"$f":"Sheet2!$G$46","v":67},{"$f":"Sheet2!$G$47","v":67},{"$f":"Sheet2!$G$48","v":67},{"$f":"Sheet2!$G$49","v":70},{"$f":"Sheet2!$G$50","v":70},{"$f":"Sheet2!$G$51","v":70}]
[]
[null,"Position",null,{"$f":"100-(D121*4)","v":36},52,52,60,60,68,80,76,64,56,68,68,68,72,80,84,80,76,76,84,84,84,84,88,84,88,88,88,88,88,88,88,80,84,80,80,80,80,80,80,76,72,72,72,72,72]
[]
[]
[]
[null,null,null,{"$f":"Sheet2!$H$6","v":16},{"$f":"Sheet2!$H$7","v":12},{"$f":"Sheet2!$H$8","v":12},{"$f":"Sheet2!$H$9","v":10},{"$f":"Sheet2!$H$10","v":10},{"$f":"Sheet2!$H$11","v":8},{"$f":"Sheet2!$H$12","v":5},{"$f":"Sheet2!$H$13","v":6},{"$f":"Sheet2!$H$14","v":9},{"$f":"Sheet2!$H$15","v":11},{"$f":"Sheet2!$H$16","v":8},{"$f":"Sheet2!$H$17","v":8},{"$f":"Sheet2!$H$18","v":8},{"$f":"Sheet2!$H$19","v":7},{"$f":"Sheet2!$H$20","v":5},{"$f":"Sheet2!$H$21","v":4},{"$f":"Sheet2!$H$22","v":5},{"$f":"Sheet2!$H$23","v":6},{"$f":"Sheet2!$H$24","v":6},{"$f":"Sheet2!$H$25","v":4},{"$f":"Sheet2!$H$26","v":4},{"$f":"Sheet2!$H$27","v":4},{"$f":"Sheet2!$H$28","v":4},{"$f":"Sheet2!$H$29","v":3},{"$f":"Sheet2!$H$30","v":4},{"$f":"Sheet2!$H$31","v":3},{"$f":"Sheet2!$H$32","v":3},{"$f":"Sheet2!$H$33","v":3},{"$f":"Sheet2!$H$34","v":3},{"$f":"Sheet2!$H$35","v":3},{"$f":"Sheet2!$H$36","v":3},{"$f":"Sheet2!$H$37","v":3},{"$f":"Sheet2!$H$38","v":5},{"$f":"Sheet2!$H$39","v":4},{"$f":"Sheet2!$H$40","v":5},{"$f":"Sheet2!$H$41","v":5},{"$f":"Sheet2!$H$42","v":5},{"$f":"Sheet2!$H$43","v":5},{"$f":"Sheet2!$H$44","v":5},{"$f":"Sheet2!$H$45","v":5},{"$f":"Sheet2!$H$46","v":6},{"$f":"Sheet2!$H$47","v":7},{"$f":"Sheet2!$H$48","v":7},{"$f":"Sheet2!$H$49","v":7},{"$f":"Sheet2!$H$50","v":7},{"$f":"Sheet2!$H$51","v":7}]