{"text_format":"1","workbook":"xlsx","n_sheets":6,"sheets":["Millwall","Comparisons","Sheet1","Sheet1A","Sheet2","Sheet3"],"not_rendered":{"charts":1,"images":3,"macros":1,"external_links":5,"defined_names":47,"comments":0,"pivot_tables":0},"unopened":[],"bounds":{"document_bytes":16777216,"sheet_cells":100000,"rows_first":2000,"rows_last":500,"rows_between":2000,"halvings":0,"cell_chars":16384,"cell_head_chars":4096},"cells_cut":0,"cells_raw":0,"read":"whole","date_system":"1900"}

{"sheet":"Millwall","index":0,"n_rows":184,"n_cols":150,"rows_kept":184,"cut":false,"hidden":false,"merged":[[5,149,6,161],[5,89,5,92],[6,69,6,72],[6,74,6,77],[6,79,6,82],[6,84,6,87],[6,89,6,92],[5,69,5,72],[5,74,5,77],[5,79,5,82],[5,84,5,87]]}
[null,null,1]
[]
[]
[null,null,"Game","Competition","Date",null,"Us & Them","Opponents",null,"Score","HT","Att","Pts","Pos","Ref","Pens","Goal Scorers",null,null,null,"Game","Competition","Date","Opponents",null,"Score",1,2,3,4,5,6,7,8,9,10,11,12,14,null,null,null,null,null,null,null,null,null,null,null,null,null,null,null,null,null,null,null,null,null,null,null,null,null,null,null,null,null,null,null,null,null,null,null,null,null,null,null,null,null,null,null,null,null,null,null,null,null,null,null,null,null,null,null,null,null,null,null,null,null,null,null,null,null,null,null,null,null,null,null,null,null,null,null,null,null,null,null,null,null,null,null,null,null,null,null,null,null,null,null,null,null,null,null,null,null,null,null,null,null,null,null,"Opposition","Pts","Pos"]
[null,null,1,"Division 2","1986-08-23",null,"- -","Reading","(A)","W 1-0","0-0",6939,3,6,"G Ashby",null,"Byrne (66)",null,null,null,1,"Division 2","1986-08-23","Reading","(A)","W 1-0","Sansome","Stevens","N Coleman","Briley","Walker","McLeary","Byrne¹","Salman","Sheringham","Marks","Hinshelwood","Leslie",null,null,null,null,null,null,null,null,null,null,null,null,null,null,null,null,null,null,null,null,null,null,null,null,null,null,null,null,null,null,null,null,null,null,null,null,null,null,null,null,null,null,null,null,null,null,null,null,null,null,null,null,null,null,null,null,null,null,null,null,null,null,null,null,null,null,null,null,null,null,null,null,null,null,null,null,null,null,null,null,null,null,null,null,null,null,null,null,null,null,null,null,null,null,null,null,null,null,null,null,null,null,null,null,{"$f":"EM68&\" \"&EN68&\" \"&EO68","v":"Reading (A) W 1-0"},3,6]
[null,null,2,"Division 2","1986-08-26",null,"7th v 3rd","Hull City","(H)","L 0-1","0-0",4300,3,8,"D Hedges",null,"Bunn (82)",null,null,null,2,"Division 2","1986-08-26","Hull City","(H)","L 0-1","Sansome","Stevens","N Coleman","Briley","Walkern","Salman","Byrne","McLeary","Sheringham","Marks","Hinshelwood","Leslie",null,null,null,null,null,null,null,null,null,null,null,null,null,null,null,null,null,null,null,null,"Check with 2010 complete record",null,null,null,null,null,null,null,null,null,null,"All",null,null,null,null,"League",null,null,null,null,"FA Cup",null,null,null,null,"League Cup",null,null,null,null,"Full Member",null,null,null,null,null,null,null,null,null,null,null,null,null,null,null,null,null,null,null,null,null,null,null,null,null,null,null,null,null,null,null,null,null,null,null,null,null,null,null,null,null,null,null,null,null,null,null,null,null,null,null,null,{"$f":"EM69&\" \"&EN69&\" \"&EO69","v":"Hull City (H) L 0-1"},3,8,null,null,null,null,"Millwall Progress Season 1986/87"]
[null,null,3,"Division 2","1986-08-30",null,"8th v 21st","Barnsley","(H)","W 1-0","1-0",4082,6,6,"A Gunn",null,"Byrne (41)",null,null,null,3,"Division 2","1986-08-30","Barnsley","(H)","W 1-0","Sansome","Stevens","N Coleman","Briley","Walker","Salman","Byrne¹","McLeary","Sheringham","Marks","Hinshelwood","Mehmet",null,null,null,null,null,null,null,null,null,null,null,null,null,null,null,null,null,null,null,null,null,null,null,null,null,null,null,null,null,null,null,"Max (50)",null,null,null,null,"Max (42)",null,null,null,null,"Max (3)",null,null,null,null,"Max (3)",null,null,null,null,"Max (2)",null,null,null,null,null,null,null,null,null,null,null,null,null,null,null,null,null,null,null,null,null,null,null,null,null,null,null,null,null,null,null,null,null,null,null,null,null,null,null,null,null,null,null,null,null,null,null,null,null,null,null,null,"Barnsley (H) W 1-0",6,6]
[null,null,4,"Division 2","1986-09-02",null,"6th v 10th","Sheff Utd","(A)","L 1-2","0-0",8010,6,9,"C Trussell",null,"Sheringham (68) / Beagrie (80) Foley (85)",null,null,null,4,"Division 2","1986-09-02","Sheff Utd","(A)","L 1-2","Horne","Stevens","N Coleman","Brileyn","Walker","Salman","Byrne","McLeary","Sheringham¹","Marks","Hinshelwood (--)n","Mehmet (--)",null,null,null,null,null,null,null,null,null,null,null,null,null,null,null,null,null,null,null,null,"Apps","Sub","Apps","Sub","Apps","Sub","Apps","Sub",null,null,"Player ","Apps","Sub","Nps","Goals",null,"Apps","Sub","Nps","Goals",null,"Apps","Sub","Nps","Goals",null,"Apps","Sub","Nps","Goals",null,"Apps","Sub","Nps","Goals",null,null,null,null,null,null,null,null,null,null,null,null,null,null,null,null,null,null,null,null,null,null,null,null,null,null,null,null,null,null,null,null,null,null,null,null,null,null,null,null,null,null,null,null,null,null,null,null,null,"Sheff Utd (A) L 1-2",6,9]
[null,null,5,"Division 2","1986-09-06",null,"9th v 19th","Stoke","(A)","L 0-2","0-2",7076,6,11,"T Fitzharris","PM","Berry (34) Shaw (37 pen)",1,null,null,5,"Division 2","1986-09-06","Stoke","(A)","L 0-2","Horne","Stevens","N Coleman","Briley","Walker","Salman","Byrne","McLeary","Sheringham","Marks","Mehmet","Morgan",null,null,null,null,null,null,null,null,null,null,null,null,null,null,null,null,null,null,null,null,7,0,0,0,0,0,0,0,null,null,"Gerry Armstrong",{"$f":"BW9+CB9+CG9+CL9","v":7},{"$f":"BX9+CC9+CH9+CM9","v":0},0,0,null,{"$f":"BW46","v":7},0,0,0,null,{"$f":"CB46","v":0},0,0,0,null,{"$f":"CG46","v":0},0,0,0,null,{"$f":"CL46","v":0},0,0,0,null,null,7,0,0,null,{"$f":"IF(BR9=CR9,\"OK\",\"Error\")","v":"OK"},{"$f":"IF(BS9=CS9,\"OK\",\"Error\")","v":"OK"},"OK",null,null,null,null,null,null,null,null,null,null,null,null,null,null,null,null,null,null,null,null,null,null,null,null,null,null,null,null,null,null,null,null,null,null,null,null,null,null,null,null,"Stoke (A) L 0-2",6,11]
[null,null,6,"Division 2","1986-09-13",null,"11th v 18th","Bradford","(H)","L 1-2","0-0",3030,6,15,"J Borrett",null,"Marks (80) / Withe (55) Campbell (76)",null,null,null,6,"Division 2","1986-09-13","Bradford","(H)","L 1-2","Sansome","Stevens","N Coleman","Briley","Walker","Salman","Byrne","McLeary","Sheringham","Marks¹","Morgan","Leslie",null,null,null,null,null,null,null,null,null,null,null,null,null,null,null,null,null,null,null,null,1,2,0,0,1,0,0,0,null,null,"Trevor Booker",{"$f":"BW10+CB10+CG10+CL10","v":2},2,3,0,null,1,2,1,0,null,0,0,1,0,null,1,0,0,0,null,0,0,1,0,null,null,2,2,3,null,{"$f":"IF(BR10=CR10,\"OK\",\"Error\")","v":"OK"},"OK","OK",null,null,null,null,null,null,null,null,null,null,null,null,null,null,null,null,null,null,null,null,null,null,null,null,null,null,null,null,null,null,null,null,null,null,null,null,null,null,null,null,"Bradford (H) L 1-2",6,15]
[null,null,7,"Division 2","1986-09-20",null,"16th v 11th","Derby","(A)","D 1-1","1-0",12410,7,18,"T Mills",null,"Marks (37) / Davison (77) ",null,null,null,7,"Division 2","1986-09-20","Derby","(A)","D 1-1","Sansome","Stevens","N Coleman","Briley","Walkern","Salman","Byrne","McLeary","Sheringham","Marks¹","Fishenden","Morgan",null,null,null,null,null,null,null,null,null,null,null,null,null,null,null,null,null,null,null,null,33,0,3,0,3,0,0,0,null,null,"Les Briley",{"$f":"BW11+CB11+CG11+CL11","v":39},0,0,3,null,33,0,0,3,null,3,0,0,0,null,3,0,0,0,null,0,0,0,0,null,null,39,0,0,null,"OK","OK","OK",null,null,null,null,null,null,null,null,null,null,null,null,null,null,null,null,null,null,null,null,null,null,null,null,null,null,null,null,null,null,null,null,null,null,null,null,null,null,null,null,"Derby (A) D 1-1",7,18]
[null,null,8,"Division 2","1986-09-27",null,"18th v 7th","Blackburn","(H)","D 2-2","1-0",3025,8,17,"V Callow",null,"Sheringham (27) Marks (48) / Stevens o.g. (62) Patterson (64)",null,null,null,8,"Division 2","1986-09-27","Blackburn","(H)","D 2-2","Sansome","Stevens","N Coleman","Briley (45)","Walker","Salman","Byrne","McLeary","Sheringham¹","Marks¹","Fishenden","Morgan (45)",null,null,null,null,null,null,null,null,null,null,null,null,null,null,null,null,null,null,null,null,35,5,3,0,3,0,2,0,null,null,"David Byrne",{"$f":"BW12+CB12+CG12+CL12","v":43},5,2,5,null,35,5,2,4,null,3,0,0,0,null,3,0,0,1,null,2,0,0,0,null,null,43,5,2,null,"OK","OK","OK",null,null,null,null,null,null,null,null,null,null,null,null,null,null,null,null,null,null,null,null,null,null,null,null,null,null,null,null,null,null,null,null,null,null,null,null,null,null,null,null,"Blackburn (H) D 2-2",8,17]
[null,null,9,"Division 2","1986-10-04",null,"17th v 3rd","C Palace","(A)","L 1-2","1-0",8150,8,20,"R Lewis",null,"Sheringham (6) / Otulakowski (55) Finnigan (81)",null,null,null,9,"Division 2","1986-10-04","C Palace","(A)","L 1-2","Sansomen","Stevensn","N Coleman","Briley","Walker","Salman","Byrne","McLeary","Sheringham¹","Marks","Fishenden (--)","Morgan (--)",null,null,null,null,null,null,null,null,null,null,null,null,null,null,null,null,null,null,null,null,12,0,0,0,0,0,0,0,null,null,"Jimmy Carter",12,0,0,1,null,12,0,0,1,null,0,0,0,0,null,0,0,0,0,null,0,0,0,0,null,null,12,0,0,null,"OK","OK","OK",null,null,null,null,null,null,null,null,null,null,null,null,null,null,null,null,null,null,null,null,null,null,null,null,null,null,null,null,null,null,null,null,null,null,null,null,null,null,null,null,"C Palace (A) L 1-2",8,20]
[null,null,10,"League Cup","1986-10-07",null,"- -","Walsall","(A)","W 1-0","1-0",3475,"-","-",null,null,"Sheringham (30)",null,null,null,10,"League Cup","1986-10-07","Walsall","(A)","W 1-0","Horne","Stevens","Salman","Briley","Walker","McLeary","Byrne","Mehmet","Sheringham¹","Marks","Booker","Fishenden","N Coleman",null,null,null,null,null,null,null,null,null,null,null,null,null,null,null,null,null,null,null,1,0,0,0,0,0,0,0,null,null,"Terry Cochrane",1,0,1,0,null,1,0,1,0,null,0,0,0,0,null,0,0,0,0,null,0,0,0,0,null,null,1,0,1,null,"OK","OK","OK",null,null,null,null,null,null,null,null,null,null,null,null,null,null,null,null,null,null,null,null,null,null,null,null,null,null,null,null,null,null,null,null,null,null,null,null,null,null,null,null,"Shrewsbury (H) W 4-0",11,16]
[null,null,11,"Division 2","1986-10-11",null,"20th v 17th","Shrewsbury","(H)","W 4-0","3-0",3123,11,16,"R Groves",null,"Marks (11) (38) & (64) Briley (17)",null,null,null,11,"Division 2","1986-10-11","Shrewsbury","(H)","W 4-0","Horne","Stevens","N Coleman","Briley¹","Walker","McLeary","Byrne","Mehmet","Sheringham","Marks³","Salman","Leslie",null,null,null,null,null,null,null,null,null,null,null,null,null,null,null,null,null,null,null,null,42,0,3,0,2,0,2,0,null,null,"Nicky Coleman",49,0,1,0,null,42,0,0,0,null,3,0,0,0,null,2,0,1,0,null,2,0,0,0,null,null,49,0,1,null,"OK","OK","OK",null,null,null,null,null,null,null,null,null,null,null,null,null,null,null,null,null,null,null,null,null,null,null,null,null,null,null,null,null,null,null,null,null,null,null,null,null,null,null,null,"Oldham (A) L 1-2",11,16]
[null,null,12,"League Cup","1986-10-14",null,"- -","Walsall","(H)","W 3-2","1-0",2207,"-","-","J Martin",null,"Sheringham (12 pen) Walker (68) & (84) / Kelly (51) Shakespare (87 pen)",1,null,null,12,"League Cup","1986-10-14","Walsall","(H)","W 3-2","Horne","Stevens (--)","N Coleman","Briley","Walker²","McLeary","Byrne","Mehmet [--]","Sheringham¹","Marks","Salman","Leslie (--)","Morgan [--]",null,null,null,null,null,null,null,null,null,null,null,null,null,null,null,null,null,null,null,8,2,0,0,0,0,1,0,null,null,"Phil Coleman",9,2,6,0,null,8,2,2,0,null,0,0,3,0,null,0,0,1,0,null,1,0,0,0,null,null,9,2,6,null,"OK","OK","OK",null,null,null,null,null,null,null,null,null,null,null,null,null,null,null,null,null,null,null,null,null,null,null,null,null,null,null,null,null,null,null,null,null,null,null,null,null,null,null,null,"Plymouth (H) W 3-1",14,13]
[null,null,13,"Division 2","1986-10-17",null,"16th v 2nd","Oldham","(A)","L 1-2","0-2",4703,11,16,"K Hackett",null,"Morgan (52) / Linnighan (37) Williams (44)",null,null,null,13,"Division 2","1986-10-17","Oldham","(A)","L 1-2","Sansome","Stevens","N Coleman","Morgan¹","Walker","McLeary","Byrne","Mehmet","Sheringham","Marks","Salman","Leslie",null,null,null,null,null,null,null,null,null,null,null,null,null,null,null,null,null,null,null,null,3,0,0,0,0,0,0,0,null,null,"Paul Fishenden",3,0,1,0,null,3,0,0,0,null,0,0,0,0,null,0,0,1,0,null,0,0,0,0,null,null,3,0,1,null,"OK","OK","OK",null,null,null,null,null,null,null,null,null,null,null,null,null,null,null,null,null,null,null,null,null,null,null,null,null,null,null,null,null,null,null,null,null,null,null,null,null,null,null,null,"Grimsby (A) L 0-1",14,16]
[null,null,14,"Full Members","1986-10-21",null,"- -","West Brom","(H)","W 2-0","0-0",967,"-","-","D Axcell",null,"Sheringham (77) Leslie (81)",null,null,null,14,"Full Members","1986-10-21","West Brom","(H)","W 2-0","Sansome","Stevens","N Coleman","P Coleman","Walker","McLeary","Byrne","Morgan","Sheringham¹","Marks","Leslie¹","Sparham","Malcolm",null,null,null,null,null,null,null,null,null,null,null,null,null,null,null,null,null,null,null,4,0,0,0,0,0,0,0,null,null,"Paul Hinshelwood",4,0,0,0,null,4,0,0,0,null,0,0,0,0,null,0,0,0,0,null,0,0,0,0,null,null,4,0,0,null,"OK","OK","OK",null,null,null,null,null,null,null,null,null,null,null,null,null,null,null,null,null,null,null,null,null,null,null,null,null,null,null,null,null,null,null,null,null,null,null,null,null,null,null,null,"Leeds (H) W 1-0",17,12]
[null,null,15,"Division 2","1986-10-25",null,"18th v 4th","Plymouth","(H)","W 3-1","1-0",3578,14,13,"B Hill",null,"Sheringham (31) Stevens (78) Salman (80) / Walker o.g. (73)",null,null,null,15,"Division 2","1986-10-25","Plymouth","(H)","W 3-1","Sansome","Stevens¹","N Coleman","Briley","Walker","McLeary","Byrne","Morgan","Sheringham¹","Marks","Salman¹","Leslie",null,null,null,null,null,null,null,null,null,null,null,null,null,null,null,null,null,null,null,null,32,0,3,0,2,0,1,0,null,null,"Brian Horne",38,0,0,0,null,32,0,0,0,null,3,0,0,0,null,2,0,0,0,null,1,0,0,0,null,null,38,0,0,null,"OK","OK","OK",null,null,null,null,null,null,null,null,null,null,null,null,null,null,null,null,null,null,null,null,null,null,null,null,null,null,null,null,null,null,null,null,null,null,null,null,null,null,null,null,"Birmingham (H) L 0-2",17,15]
[null,null,16,"League Cup","1986-10-29",null,"- -","Norwich","(A)","L 1-4","1-2",10277,"-","-","J Key","PS","Byrne (14) / Hodgson (3) (77) & (90) Drinkell (11 pen)",1,null,null,16,"League Cup","1986-10-29","Norwich","(A)","L 1-4","Sansome","Stevens","N Coleman","Briley","Walker","McLeary","Byrne¹","Morgan","Sheringham","Marks (--)","Salman","Leslie (--)","P Coleman",null,null,null,null,null,null,null,null,null,null,null,null,null,null,null,null,null,null,null,13,0,0,0,0,0,0,0,null,null,"Terry Hurlock",13,0,0,1,null,13,0,0,1,null,0,0,0,0,null,0,0,0,0,null,0,0,0,0,null,null,13,0,0,null,"OK","OK","OK",null,null,null,null,null,null,null,null,null,null,null,null,null,null,null,null,null,null,null,null,null,null,null,null,null,null,null,null,null,null,null,null,null,null,null,null,null,null,null,null,"West Brom (A) W 1-0",20,12]
[null,null,17,"Division 2","1986-11-01",null,"13th v 16th","Grimsby","(A)","L 0-1","0-0",3757,14,16,"D Hutchinson",null,"Moore (61)",null,null,null,17,"Division 2","1986-11-01","Grimsby","(A)","L 0-1","Sansome","Stevens","N Coleman","Briley","Walkernnn (85)","McLeary","Byrne","Mehmet","Sheringham","Marks","Salman","Morgan",null,null,null,null,null,null,null,null,null,null,null,null,null,null,null,null,null,null,null,null,3,1,2,1,0,2,2,0,null,null,"John Leslie",7,4,10,4,null,3,1,10,1,null,2,1,0,1,null,0,2,0,0,null,2,0,0,2,null,null,7,4,10,null,"OK","OK","OK",null,null,null,null,null,null,null,null,null,null,null,null,null,null,null,null,null,null,null,null,null,null,null,null,null,null,null,null,null,null,null,null,null,null,null,null,null,null,null,null,"Portsmouth (H) D 1-1",21,13]
[null,null,18,"Full Members","1986-11-04",null,"- -","Portsmouth","(A)","L 2-3 aet","0-1",3990,"-","-","K Cooper",null,"Leslie (64) Marks (119) / Dillon (26 pen) (96 pen) & (102 pen)",3,null,null,18,"Full Members","1986-11-04","Portsmouth","(A)","L 2-3","Horne","Salman","N Coleman","Morgan","Walker","McLeary","Byrne","Mehmet","Sheringham","Marks¹","Leslie","Booker","Nutton",null,null,null,null,null,null,null,null,null,null,null,null,null,null,null,null,null,null,null,0,0,0,1,0,0,0,0,null,null,"Steve Lovell",0,1,0,0,null,0,0,0,0,null,0,1,0,0,null,0,0,0,0,null,0,0,0,0,null,null,0,1,0,null,"OK","OK","OK",null,null,null,null,null,null,null,null,null,null,null,null,null,null,null,null,null,null,null,null,null,null,null,null,null,null,null,null,null,null,null,null,null,null,null,null,null,null,null,null,"Sunderland (A) D 1-1",22,14]
[null,null,19,"Division 2","1986-11-08",null,"16th v 3rd","Leeds","(H)","W 1-0","1-0",6869,17,12,"K Morton",null,"Sheringham (36 pen)",1,null,null,19,"Division 2","1986-11-08","Leeds","(H)","W 1-0","Horne","Stevens","N Coleman","Briley","Walker","McLeary","Byrne","Mehmet","Sheringham¹","Marks","Salman (58)","Leslie (58)",null,null,null,null,null,null,null,null,null,null,null,null,null,null,null,null,null,null,null,null,0,0,0,0,0,0,0,0,null,null,"Paul Malcolm",0,0,1,0,null,0,0,0,0,null,0,0,0,0,null,0,0,0,0,null,0,0,1,0,null,null,0,0,1,null,"OK","OK","OK",null,null,null,null,null,null,null,null,null,null,null,null,null,null,null,null,null,null,null,null,null,null,null,null,null,null,null,null,null,null,null,null,null,null,null,null,null,null,null,null,"Huddersfield (H) W 4-0",25,10]
[null,null,20,"Division 2","1986-11-15",null,"12th v 18th","Birmingham","(H)","L 0-2","0-1",4795,17,15,"M James",null,"Clarke (5) Rees (49)",null,null,null,20,"Division 2","1986-11-15","Birmingham","(H)","L 0-2","Horne","P Coleman","N Coleman","Briley","Stevensn","McLeary","Byrne","Mehmet","Sheringham","Marks","Leslie","Morgan",null,null,null,null,null,null,null,null,null,null,null,null,null,null,null,null,null,null,null,null,36,0,3,0,3,0,2,0,null,null,"Michael Marks",44,0,0,11,null,36,0,0,10,null,3,0,0,0,null,3,0,0,0,null,2,0,0,1,null,null,44,0,0,null,"OK","OK","OK",null,null,null,null,null,null,null,null,null,null,null,null,null,null,null,null,null,null,null,null,null,null,null,null,null,null,null,null,null,null,null,null,null,null,null,null,null,null,null,null,"Ipswich (H) W 1-0",28,11]
[null,null,21,"Division 2","1986-11-22",null,"16th v 7th","West Brom","(A)","W 1-0","0-0",8007,20,12,"K Burge",null,"Sheringham (48 pen)",1,null,null,21,"Division 2","1986-11-22","West Brom","(A)","W 1-0","Horne","Stevens","N Coleman","Briley","Walker","McLeary","Byrne","Mehmet","Sheringham¹","Marks","Cochrane","Morgan",null,null,null,null,null,null,null,null,null,null,null,null,null,null,null,null,null,null,null,null,42,0,3,0,3,0,2,0,null,null,"Alan McLeary",50,0,0,0,null,42,0,0,0,null,3,0,0,0,null,3,0,0,0,null,2,0,0,0,null,null,50,0,0,null,"OK",{"$f":"IF(BS25=CS25,\"OK\",\"Error\")","v":"OK"},{"$f":"IF(BT25=CT25,\"OK\",\"Error\")","v":"OK"},null,null,null,null,null,null,null,null,null,null,null,null,null,null,null,null,null,null,null,null,null,null,null,null,null,null,null,null,null,null,null,null,null,null,null,null,null,null,null,null,"Birmingham (A) D 1-1",29,12]
[null,null,22,"Division 2","1986-11-29",null,"12th v 2nd","Portsmouth","(H)","D 1-1","0-0",5031,21,13,"M Read",null,"Sheringham (71) / Dillon (89) ",null,null,null,22,"Division 2","1986-11-29","Portsmouth","(H)","D 1-1","Horne","Stevens","N Coleman","Briley","Walker","McLeary","Byrne","Mehmet","Sheringham¹n","Marks","Salman","Cochrane",null,null,null,null,null,null,null,null,null,null,null,null,null,null,null,null,null,null,null,null,16,2,0,0,2,0,1,0,null,null,"Dave Mehmet",19,2,1,1,null,16,2,1,1,null,0,0,0,0,null,2,0,0,0,null,1,0,0,0,null,null,19,2,1,null,"OK","OK","OK",null,null,null,null,null,null,null,null,null,null,null,null,null,null,null,null,null,null,null,null,null,null,null,null,null,null,null,null,null,null,null,null,null,null,null,null,null,null,null,null,"Brighton (A) W 1-0",32,9]
[null,null,23,"Division 2","1986-12-06",null,"14th v 12th","Sunderland","(A)","D 1-1","1-0",10665,22,14,"P Wright",null,"Marks (33) / Proctor (52) ",null,null,null,23,"Division 2","1986-12-06","Sunderland","(A)","D 1-1","Horne","Stevens","N Coleman","Briley","Walker","McLeary","Byrne","Mehmet","Sheringham","Marks¹","Salman (9)","Morgan (9)",null,null,null,null,null,null,null,null,null,null,null,null,null,null,null,null,null,null,null,null,17,4,3,0,1,0,2,0,null,null,"Darren Morgan",23,5,6,2,null,17,4,6,1,null,3,0,0,1,null,1,1,0,0,null,2,0,0,0,null,null,23,5,6,null,"OK","OK","OK",null,null,null,null,null,null,null,null,null,null,null,null,null,null,null,null,null,null,null,null,null,null,null,null,null,null,null,null,null,null,null,null,null,null,null,null,null,null,null,null,"Stoke (H) D 1-1",33,9]
[null,null,24,"Division 2","1986-12-13",null,"14th v 21st","Huddersfield","(H)","W 4-0","0-0",3515,25,10,"L Shapter",null,"Sheringham (54) (71) & (84) Byrne (81)",null,null,null,24,"Division 2","1986-12-13","Huddersfield","(H)","W 4-0","Horne","Stevensn","N Coleman","Briley","Walker","McLeary","Byrne¹","Mehmet (33)","Sheringham³","Marks","Salman","Morgan (33)",null,null,null,null,null,null,null,null,null,null,null,null,null,null,null,null,null,null,null,null,0,0,0,0,0,0,0,0,null,null,"Micky Nutton",0,0,1,0,null,0,0,0,0,null,0,0,0,0,null,0,0,0,0,null,0,0,1,0,null,null,0,0,1,null,"OK","OK","OK",null,null,null,null,null,null,null,null,null,null,null,null,null,null,null,null,null,null,null,null,null,null,null,null,null,null,null,null,null,null,null,null,null,null,null,null,null,null,null,null,"Bradford (A) L 0-4",33,10]
[null,null,25,"Division 2","1986-12-26",null,"14th v 4th","Ipswich","(H)","W 1-0","0-0",4737,28,11,"M Bailey","PS","Salman (46)",null,null,null,25,"Division 2","1986-12-26","Ipswich","(H)","W 1-0","Horne","Stevens","N Coleman","Briley","Walker","McLeary","Byrne","Morgan","Sheringham","Marks","Salman¹","Leslie",null,null,null,null,null,null,null,null,null,null,null,null,null,null,null,null,null,null,null,null,31,0,1,0,3,0,1,0,null,null,"Danis Salman",36,0,0,2,null,31,0,0,2,null,1,0,0,0,null,3,0,0,0,null,1,0,0,0,null,null,36,0,0,null,"OK","OK","OK",null,null,null,null,null,null,null,null,null,null,null,null,null,null,null,null,null,null,null,null,null,null,null,null,null,null,null,null,null,null,null,null,null,null,null,null,null,null,null,null,"Reading (H) W 2-1",36,8]
[null,null,26,"Division 2","1986-12-29",null,"12th v 13th","Birmingham","(A)","D 1-1","1-1",8006,29,12,"J Ashworth",null,"Briley (42) / Mortimer (29) ",null,null,null,26,"Division 2","1986-12-29","Birmingham","(A)","D 1-1","Horne","P Coleman","N Coleman","Briley¹","Walker","McLeary","Byrne","Morgan","Sheringham","Marks","Salman","Leslie",null,null,null,null,null,null,null,null,null,null,null,null,null,null,null,null,null,null,null,null,10,0,0,0,1,0,1,0,null,null,"Paul Sansome",12,0,0,0,null,10,0,0,0,null,0,0,0,0,null,1,0,0,0,null,1,0,0,0,null,null,12,0,0,null,"OK","OK","OK",null,null,null,null,null,null,null,null,null,null,null,null,null,null,null,null,null,null,null,null,null,null,null,null,null,null,null,null,null,null,null,null,null,null,null,null,null,null,null,null,"Barnsley (A) L 0-1",36,9]
[null,null,27,"Division 2","1987-01-01",null,"12th v 16th","Brighton","(A)","W 1-0","1-0",7645,32,9,null,null,"Marks (30)",null,null,null,27,"Division 2","1987-01-01","Brighton","(A)","W 1-0","Horne","P Coleman","N Coleman","Briley","Walker","McLeary","Byrne","Morgan","Sheringham","Marks¹","Salman","Leslie",null,null,null,null,null,null,null,null,null,null,null,null,null,null,null,null,null,null,null,null,42,0,3,0,3,0,2,0,null,null,"Teddy Sheringham",50,0,0,16,null,42,0,0,13,null,3,0,0,0,null,3,0,0,2,null,2,0,0,1,null,null,50,0,0,null,"OK","OK","OK",null,null,null,null,null,null,null,null,null,null,null,null,null,null,null,null,null,null,null,null,null,null,null,null,null,null,null,null,null,null,null,null,null,null,null,null,null,null,null,null,"Sheff Utd (H) W 1-0",39,7]
[null,null,28,"Division 2","1987-01-03",null,"9th v 5th","Stoke","(H)","D 1-1","1-1",6134,33,9,"G Napthine",null,"Leslie (10) / Heath (31) ",null,null,null,28,"Division 2","1987-01-03","Stoke","(H)","D 1-1","Horne","P Coleman","N Coleman","Briley","Walker","McLeary","Byrne","Morgan","Sheringham","Leslie¹","Salman","Booker",null,null,null,null,null,null,null,null,null,null,null,null,null,null,null,null,null,null,null,null,0,0,0,0,0,0,0,0,null,null,"Sean Sparham",0,0,2,0,null,0,0,1,0,null,0,0,0,0,null,0,0,0,0,null,0,0,1,0,null,null,0,0,2,null,"OK","OK","OK",null,null,null,null,null,null,null,null,null,null,null,null,null,null,null,null,null,null,null,null,null,null,null,null,null,null,null,null,null,null,null,null,null,null,null,null,null,null,null,null,"Blackburn (A) L 0-1",39,7]
[null,null,29,"FA Cup","1987-01-10",null,"- -","Cardiff","(H)","D 0-0","0-0",5615,"-","-","J Moules",null,null,null,null,null,29,"FA Cup","1987-01-10","Cardiff","(H)","D 0-0","Horne","Stevens","N Coleman","Briley","Walker","McLeary","Byrne","Morgan","Sheringham","Marks (75)","Salman","Leslie (75)","P Coleman",null,null,null,null,null,null,null,null,null,null,null,null,null,null,null,null,null,null,null,34,1,3,0,3,0,1,0,null,null,"Keith Stevens",41,1,1,1,null,34,1,1,1,null,3,0,0,0,null,3,0,0,0,null,1,0,0,0,null,null,41,1,1,null,"OK","OK","OK",null,null,null,null,null,null,null,null,null,null,null,null,null,null,null,null,null,null,null,null,null,null,null,null,null,null,null,null,null,null,null,null,null,null,null,null,null,null,null,null,"Derby (H) L 0-1",39,10]
[null,null,30,"Division 2","1987-01-17",null,"9th v 22nd","Bradford","(A)","L 0-4","0-1",7729,33,10,null,null,"Ellis (5) Ormondroyd (59) & (76) Ellis (74)",null,null,null,30,"Division 2","1987-01-17","Bradford","(A)","L 0-4","Horne","Stevens","N Coleman","Briley","Walker","McLeary","Byrne","Morgan","Sheringham","Marks","Leslie","P Coleman",null,null,null,null,null,null,null,null,null,null,null,null,null,null,null,null,null,null,null,null,40,0,3,0,3,0,2,0,null,null,"Alan Walker",48,0,0,3,null,40,0,0,1,null,3,0,0,0,null,3,0,0,2,null,2,0,0,0,null,null,48,0,0,null,"OK","OK","OK",null,null,null,null,null,null,null,null,null,null,null,null,null,null,null,null,null,null,null,null,null,null,null,null,null,null,null,null,null,null,null,null,null,null,null,null,null,null,null,null,"Plymouth (A) L 0-1",39,11]
[null,null,31,"FA Cup","1987-01-20",null,"- -","Cardiff","(A)","D 2-2","1-1",4585,"-","-",null,null,"Leslie (2) Morgan (85) / Vaughan (33) Marustik (68)",null,null,null,31,"FA Cup","1987-01-20","Cardiff","(A)","D 2-2","Horne","Stevens","N Coleman","Briley","Walker","McLeary","Byrne","Morgan¹","Sheringham","Marks","Leslie¹","P Coleman","Booker",null,null,null,null,null,null,null,null,null,null,null,null,null,null,null,null,null,null,null,null,null,null,null,null,null,null,null,null,null,null,null,null,null,null,null,null,null,null,null,null,null,null,null,null,null,null,null,null,null,null,null,null,null,null,null,null,null,null,null,null,null,null,null,null,null,null,null,null,null,null,null,null,null,null,null,null,null,null,null,null,null,null,null,null,null,null,null,null,null,null,null,null,null,null,null,null,null,null,null,null,null,null,null,"Oldham (H) D 0-0",40,10]
[null,null,32,"Division 2","1987-01-24",null,"10th v 18th","Reading","(H)","W 2-1","1-0",4365,36,8,"B Stevens",null,"Briley (21) Marks (57) / Taylor (55)",null,null,null,32,"Division 2","1987-01-24","Reading","(H)","W 2-1","Horne","Stevens","N Coleman","Briley¹","Walker","McLeary","Byrne","Morgan","Sheringham","Armstrong","Marks¹","Leslie",null,null,null,null,null,null,null,null,null,null,null,null,null,null,null,null,null,null,null,null,null,null,null,null,null,null,null,null,null,null,"Own Goals",null,null,null,{"$f":"BZ36+CE36+CJ36+CO36","v":0},null,null,null,null,0,null,null,null,null,0,null,null,null,null,0,null,null,null,null,0,null,null,null,null,null,null,null,null,null,null,null,null,null,null,null,null,null,null,null,null,null,null,null,null,null,null,null,null,null,null,null,null,null,null,null,null,null,null,null,null,null,null,null,null,null,null,null,null,null,"Shrewsbury (A) W 2-1",43,9]
[null,null,33,"FA Cup","1987-01-26",null,"- -","Cardiff","(A)","L 0-1","0-0",5012,"-","-",null,null,"Pike (47)",null,null,null,33,"FA Cup","1987-01-26","Cardiff","(A)","L 0-1","Horne","Stevens","N Coleman","Briley","Walker","McLeary","Byrne","Morgan","Sheringham","Marks","Leslie (--)","Lovell (--)","P Coleman",null,null,null,null,null,null,null,null,null,null,null,null,null,null,null,null,null,null,null,null,null,null,null,null,null,null,null,null,null,null,null,null,null,null,null,null,null,null,null,null,null,null,null,null,null,null,null,null,null,null,null,null,null,null,null,null,null,null,null,null,null,null,null,null,null,null,null,null,null,null,null,null,null,null,null,null,null,null,null,null,null,null,null,null,null,null,null,null,null,null,null,null,null,null,null,null,null,null,null,null,null,null,null,"C Palace (H) L 0-1",43,10]
[null,null,34,"Division 2","1987-02-07",null,"8th v 20th","Barnsley","(A)","L 0-1","0-0",5461,36,9,null,null,"Dobbin (54)",null,null,null,34,"Division 2","1987-02-07","Barnsley","(A)","L 0-1","Horne","Stevens","N Coleman","Briley (--)","Walker","McLeary","Byrne","Morgan","Sheringham","Armstrong","Marks","P Coleman (--)",null,null,null,null,null,null,null,null,null,null,null,null,null,null,null,null,null,null,null,null,null,null,null,null,null,null,null,null,null,null,"Goals",null,null,null,{"$f":"SUM(BU9:BU36)","v":50},null,null,null,null,{"$f":"SUM(BZ9:BZ36)","v":39},null,null,null,null,{"$f":"SUM(CE9:CE36)","v":2},null,null,null,null,{"$f":"SUM(CJ9:CJ36)","v":5},null,null,null,null,{"$f":"SUM(CO9:CO36)","v":4},null,null,null,null,null,null,null,null,null,null,null,null,null,null,null,null,null,null,null,null,null,null,null,null,null,null,null,null,null,null,null,null,null,null,null,null,null,null,null,null,null,null,null,null,null,null,null,null,null,"Leeds (A) L 0-2",43,11]
[null,null,35,"Division 2","1987-02-14",null,"9th v 13th","Sheff Utd","(H)","W 1-0","0-0",4006,39,7,"A Seville",null,"Byrne (61)",null,null,null,35,"Division 2","1987-02-14","Sheff Utd","(H)","W 1-0","Horne","Stevensn","N Coleman","Hurlockn","Walker","McLeary","Byrne¹","Morgan","Sheringham","Armstrong","Marks","P Coleman",null,null,null,null,null,null,null,null,null,null,null,null,null,null,null,null,null,null,null,null,null,null,null,null,null,null,null,null,null,null,null,null,null,null,null,null,null,null,null,null,null,null,null,null,null,null,null,null,null,null,null,null,null,null,null,null,null,null,null,null,null,null,null,null,null,null,null,null,null,null,null,null,null,null,null,null,null,null,null,null,null,null,null,null,null,null,null,null,null,null,null,null,null,null,null,null,null,null,null,null,null,null,null,null,"Grimsby (H) W 1-0",46,10]
[null,null,36,"Division 2","1987-02-21",null,"7th v 17th","Blackburn","(A)","L 0-1","0-0",5422,39,7,"K Redfurn",null,"Barker (72 pen)",1,null,null,36,"Division 2","1987-02-21","Blackburn","(A)","L 0-1","Horne","Stevens","N Coleman","Hurlockn","Walker","McLeary","Byrne","Morgan","Sheringham","Armstrong","Marks (70)","Mehmet (70)n",null,null,null,null,null,null,null,null,null,null,null,null,null,null,null,null,null,null,null,null,null,null,null,null,null,null,null,null,null,null,null,null,null,null,null,null,null,null,null,null,null,null,null,null,null,null,null,null,null,null,null,null,null,null,null,null,null,null,null,null,null,null,null,null,null,null,null,null,null,null,null,null,null,null,null,null,null,null,null,null,null,null,null,null,null,null,null,null,null,null,null,null,null,null,null,null,null,null,null,null,null,null,null,null,"Hull City (A) L 1-2",46,10]
[null,null,37,"Division 2","1987-02-28",null,"7th v 2nd","Derby","(H)","L 0-1","0-1",7169,39,10,"H Taylor",null,"Callaghan (4)",null,null,null,37,"Division 2","1987-02-28","Derby","(H)","L 0-1","Horne","P Coleman","N Coleman","Hurlockn","Walker","McLeary","Byrne","Morgan (--)","Sheringhamn","Armstrong","Mehmet","Booker (--)",null,null,null,null,null,null,null,null,null,null,null,null,null,null,null,null,null,null,null,null,null,null,null,null,null,null,null,null,null,null,null,null,null,"Check",null,null,{"$f":"SUM(BW9:BW34)","v":462},{"$f":"SUM(BX9:BY34)","v":42},null,null,null,{"$f":"SUM(CB9:CB34)","v":33},{"$f":"SUM(CC9:CD34)","v":6},null,null,null,{"$f":"SUM(CG9:CG34)","v":33},{"$f":"SUM(CH9:CI34)","v":6},null,null,null,{"$f":"SUM(CL9:CL34)","v":22},{"$f":"SUM(CM9:CN34)","v":4},null,null,null,null,null,null,null,null,null,null,null,null,null,null,null,null,null,null,null,null,null,null,null,null,null,null,null,null,null,null,null,null,null,null,null,null,null,null,null,null,null,null,null,null,null,null,null,null,null,null,null,"Brighton (H) W 3-1",49,10]
[null,null,38,"Division 2","1987-03-07",null,"11th v 5th","Plymouth","(A)","L 0-1","0-0",9525,39,11,"R Groves",null,"Tynan (81)",null,null,null,38,"Division 2","1987-03-07","Plymouth","(A)","L 0-1","Horne","Morgan","N Coleman","Hurlock","P Coleman","McLeary","Byrne","Mehmet","Sheringham","Armstrong","Booker","Sparham",null,null,null,null,null,null,null,null,null,null,null,null,null,null,null,null,null,null,null,null,null,null,null,null,null,null,null,null,null,null,null,null,null,null,null,null,null,null,null,null,null,null,null,null,null,null,null,null,null,null,null,null,null,null,null,null,null,null,null,null,null,null,null,null,null,null,null,null,null,null,null,null,null,null,null,null,null,null,null,null,null,null,null,null,null,null,null,null,null,null,null,null,null,null,null,null,null,null,null,null,null,null,null,null,"Ipswich (A) D 0-0",50,10]
[null,null,39,"Division 2","1987-03-14",null,"11th v 3rd","Oldham","(H)","D 0-0","0-0",3770,40,10,"J Lovatt",null,null,null,null,null,39,"Division 2","1987-03-14","Oldham","(H)","D 0-0","Horne","Stevens","N Coleman","Morgan (45)","Walker","McLeary","Byrne","Mehmetn","Sheringham","Armstrong","Carter","P Coleman (45)",null,null,null,null,null,null,null,null,null,null,null,null,null,null,null,null,null,null,null,null,null,null,null,null,null,null,null,null,null,null,null,null,null,null,null,null,{"$f":"BW41/11","v":42},{"$f":"BX41/1","v":42},null,null,null,{"$f":"CB41/11","v":3},{"$f":"CC41/2","v":3},null,null,null,{"$f":"CG41/11","v":3},{"$f":"CH41/2","v":3},null,null,null,{"$f":"CL41/11","v":2},{"$f":"CM41/2","v":2},null,null,null,null,null,null,null,null,null,null,null,null,null,null,null,null,null,null,null,null,null,null,null,null,null,null,null,null,null,null,null,null,null,null,null,null,null,null,null,null,null,null,null,null,null,null,null,null,null,null,null,"West Brom (H) L 0-1",50,11]
[null,null,40,"Division 2","1987-03-21",null,"11th v 19th","Shrewsbury","(A)","W 2-1","2-0",2799,43,9,null,null,"Mehmet (20) Sheringham (28) / Geddis (70)",null,null,null,40,"Division 2","1987-03-21","Shrewsbury","(A)","W 2-1","Horne","Stevens","N Coleman","Hurlock","Walker","McLeary","P Coleman","Mehmet¹","Sheringham¹","Salman","Carter (--)","Byrne (--)",null,null,null,null,null,null,null,null,null,null,null,null,null,null,null,null,null,null,null,null,null,null,null,null,null,null,null,null,null,null,null,null,null,null,null,null,null,null,null,null,null,null,null,null,null,null,null,null,null,null,null,null,null,null,null,null,null,null,null,null,null,null,null,null,null,null,null,null,null,null,null,null,null,null,null,null,null,null,null,null,null,null,null,null,null,null,null,null,null,null,null,null,null,null,null,null,null,null,null,null,null,null,null,null,"Portsmouth (A) L 0-2",50,14]
[null,null,41,"Division 2","1987-03-28",null,"9th v 6th","C Palace","(H)","L 0-1","0-1",6285,43,10,"D Reeves",null,"Wright (8)",null,null,null,41,"Division 2","1987-03-28","C Palace","(H)","L 0-1","Horne","Stevens","N Coleman","Hurlock","Walker","McLeary","P Coleman","Mehmet","Sheringham","Salman","Carter (--)","Byrne (--)",null,null,null,null,null,null,null,null,null,null,null,null,null,null,null,null,null,null,null,null,null,null,null,null,null,null,null,null,null,null,null,null,null,null,null,null,"Apps","Sub","Nps",null,null,"Apps","Sub","Nps",null,null,"Apps","Sub","Nps",null,null,"Apps","Sub","Nps",null,null,null,null,null,null,null,null,null,null,null,null,null,null,null,null,null,null,null,null,null,null,null,null,null,null,null,null,null,null,null,null,null,null,null,null,null,null,null,null,null,null,null,null,null,null,null,null,null,null,"Sunderland (H) D 1-1",51,14]
[null,null,42,"Division 2","1987-04-04",null,"11th v 7th","Leeds","(A)","L 0-2","0-1",18304,43,11,null,null,"Baird (35) Ritchie (79)",null,null,null,42,"Division 2","1987-04-04","Leeds","(A)","L 0-2","Horne","Stevens","N Coleman","Hurlock","Walker","McLeary","Marks","Mehmet (45)","Sheringham","Salman","Carter","Byrne (45)",null,null,null,null,null,null,null,null,null,null,null,null,null,null,null,null,null,null,null,null,null,null,null,null,null,null,null,null,{"$f":"BT46&\" [**\"","v":"Armstrong [**"},null,{"$f":"BT46&\" (**\"","v":"Armstrong (**"},{"$f":"BT46&\"**\"","v":"Armstrong**"},null,"Armstrong",null,null,{"$f":"COUNTIF($AA$75:$AK$116,BR46)","v":7},{"$f":"COUNTIF($AL$75:$AL$116,BQ46)","v":0},{"$f":"COUNTIF($AL$75:$AL$116,BT46)","v":0},0,null,{"$f":"COUNTIF($AA$126:$AK$128,$BR46)","v":0},{"$f":"COUNTIF($AL$126:$AN$128,$BQ46)+COUNTIF($AL$126:$AN$128,$BO46)","v":0},{"$f":"COUNTIF($AL$126:$AN$128,$BT46)","v":0},0,null,{"$f":"COUNTIF($AA$136:$AK$138,$BR46)","v":0},{"$f":"COUNTIF($AL$136:$AN$138,$BQ46)+COUNTIF($AL$136:$AN$138,$BO46)","v":0},{"$f":"COUNTIF($AL$136:$AN$138,$BT46)","v":0},0,null,{"$f":"COUNTIF($AA$146:$AK$147,$BR46)","v":0},{"$f":"COUNTIF($AL$146:$AN$148,$BQ46)+COUNTIF($AL$146:$AN$148,$BO46)","v":0},{"$f":"COUNTIF($AL$146:$AN$148,$BT46)","v":0},0,null,"Gerry","Armstrong",null,{"$f":"COUNTIF($AA$5:$AK$54,BR46)","v":7},{"$f":"BR9","v":7},{"$f":"CT46-CU46","v":0},null,null,null,null,null,null,null,null,null,null,null,null,null,null,null,null,null,null,null,null,null,null,null,null,null,null,null,null,null,null,null,null,null,null,null,null,null,null,null,null,null,null,"Huddersfield (A) L 0-3",51,16]
[null,null,43,"Division 2","1987-04-11",null,"11th v 14th","Grimsby","(H)","W 1-0","1-0",3881,46,10,"D Axcell",null,"Sheringham (11)",null,null,null,43,"Division 2","1987-04-11","Grimsby","(H)","W 1-0","Horne","Stevens","N Coleman","Hurlock (77)n","Walkern","McLeary","Marks","Briley","Sheringham¹","Salman","Carter","Byrne",null,null,null,null,null,null,null,null,null,null,null,null,null,null,null,null,null,null,null,null,null,null,null,null,null,null,null,null,{"$f":"BT47&\" [**\"","v":"Booker [**"},null,{"$f":"BT47&\" (**\"","v":"Booker (**"},{"$f":"BT47&\"**\"","v":"Booker**"},null,"Booker",null,null,1,2,1,0,null,{"$f":"COUNTIF($AA$126:$AK$128,BR47)","v":0},{"$f":"COUNTIF($AL$126:$AN$128,$BQ47)+COUNTIF($AL$126:$AN$128,$BO47)","v":0},{"$f":"COUNTIF($AL$126:$AN$128,$BT47)","v":1},0,null,1,{"$f":"COUNTIF($AL$136:$AN$138,$BQ47)+COUNTIF($AL$136:$AN$138,$BO47)","v":0},{"$f":"COUNTIF($AL$136:$AN$138,$BT47)","v":0},0,null,0,{"$f":"COUNTIF($AL$146:$AN$148,$BQ47)+COUNTIF($AL$146:$AN$148,$BO47)","v":0},{"$f":"COUNTIF($AL$146:$AN$148,$BT47)","v":1},0,null,"Trevor","Booker",null,{"$f":"COUNTIF($AA$5:$AK$54,BR47)","v":2},2,{"$f":"CT47-CU47","v":0}]
[null,null,44,"Division 2","1987-04-14",null,"10th v 21st","Hull City","(A)","L 1-2","1-1",5327,46,10,"D Scott",null,"Sheringham (8) / Bunn (43) Jobson (82)",null,null,null,44,"Division 2","1987-04-14","Hull City","(A)","L 1-2","Horne","Stevensn","N Coleman","Hurlockn","Walker","McLeary","Marks","Brileyn","Sheringham¹","Salman","Carter (--)","Byrne (--)",null,null,null,null,null,null,null,null,null,null,null,null,null,null,null,null,null,null,null,null,null,null,null,null,null,null,null,null,"Briley [**",null,"Briley (**","Briley**",null,"Briley",null,null,33,0,0,3,null,3,0,0,0,null,3,0,0,0,null,0,0,0,0,null,"Les","Briley",null,39,39,0]
[null,null,45,"Division 2","1987-04-18",null,"11th v 22nd","Brighton","(H)","W 3-1","3-1",3851,49,10,"J Ashworth","PS","Walker (3) Carter (7) Hurlock (41) / Young (45)",null,null,null,45,"Division 2","1987-04-18","Brighton","(H)","W 3-1","Horne","Stevens","N Coleman","Hurlock¹","Walker¹","McLeary","Marks","Briley","Sheringham","Salman","Carter¹","Byrne",null,null,null,null,null,null,null,null,null,null,null,null,null,null,null,null,null,null,null,null,null,null,null,null,null,null,null,null,"Byrne [**",null,"Byrne (**","Byrne**",null,"Byrne",null,null,35,5,2,4,null,3,0,0,0,null,3,0,0,1,null,2,0,0,0,null,"David","Byrne",null,43,43,0]
[null,null,46,"Division 2","1987-04-21",null,"11th v 6th","Ipswich","(A)","D 0-0","0-0",10957,50,10,"I Hemley",null,null,null,null,null,46,"Division 2","1987-04-21","Ipswich","(A)","D 0-0","Horne","Stevensn","N Coleman","Hurlockn","Walker","McLeary","Marks","Briley","Sheringham","Byrnen","Carter","Morgan",null,null,null,null,null,null,null,null,null,null,null,null,null,null,null,null,null,null,null,null,null,null,null,null,null,null,null,null,"Carter [**",null,"Carter (**","Carter**",null,"Carter",null,null,12,0,0,1,null,0,0,0,0,null,0,0,0,0,null,0,0,0,0,null,"Jimmy","Carter",null,12,12,0]
[null,null,47,"Division 2","1987-04-25",null,"10th v 16th","West Brom","(H)","L 0-1","0-1",3912,50,11,"M James",null,"Williamson (18)",null,null,null,47,"Division 2","1987-04-25","West Brom","(H)","L 0-1","Horne","Stevens","N Coleman","Morgan","Walker","McLeary","Marks (--)","Briley","Sheringham","Salman","Carter","Byrne (--)",null,null,null,null,null,null,null,null,null,null,null,null,null,null,null,null,null,null,null,null,null,null,null,null,null,null,null,null,"Cochrane [**",null,"Cochrane (**","Cochrane**",null,"Cochrane",null,null,1,0,1,0,null,0,0,0,0,null,0,0,0,0,null,0,0,0,0,null,"Terry","Cochrane",null,1,1,0]
[null,null,48,"Division 2","1987-05-02",null,"12th v 2nd","Portsmouth","(A)","L 0-2","0-0",15777,50,14,"R Lewis",null,"Mariner (55) O'Callaghan (89)",null,null,null,48,"Division 2","1987-05-02","Portsmouth","(A)","L 0-2","Horne","Morgan","N Colemann","Briley","Walkern","McLeary","Byrne","Carter","Sheringham (--)","Marks","Salman","Booker (--)",null,null,null,null,null,null,null,null,null,null,null,null,null,null,null,null,null,null,null,null,null,null,null,null,null,null,null,null,"N Coleman [**",null,"N Coleman (**","N Coleman**",null,"N Coleman",null,null,42,0,0,0,null,3,0,0,0,null,2,0,1,0,null,2,0,0,0,null,"Nicky","Coleman",null,49,49,0]
[null,null,49,"Division 2","1987-05-05",null,"15th v 19th","Sunderland","(H)","D 1-1","1-0",4211,51,14,"A Gunn",null,"Marks (43) / Armstrong (82) ",null,null,null,49,"Division 2","1987-05-05","Sunderland","(H)","D 1-1","Horne","Salman","N Coleman","Hurlock","Walker","McLeary","Byrne","Briley","Sheringham","Marks¹","Carter","Stevens",null,null,null,null,null,null,null,null,null,null,null,null,null,null,null,null,null,null,null,null,null,null,null,null,null,null,null,null,"P Coleman [**",null,"P Coleman (**","P Coleman**",null,"P Coleman",null,null,8,2,2,0,null,0,0,3,0,null,0,0,1,0,null,1,0,0,0,null,"Phil","Coleman",null,9,9,0]
[null,null,50,"Division 2","1987-05-09",null,"14th v 19th","Huddersfield","(A)","L 0-3","0-0",6955,51,16,"R Nixon",null,"Jones (54) Cork (67) & (75)",null,null,null,50,"Division 2","1987-05-09","Huddersfield","(A)","L 0-3","Horne","Salman","N Coleman","Hurlock","Walker","McLeary","Byrne","Briley","Sheringham","Marks (--)","Carter","Stevens (--)",null,null,null,null,null,null,null,null,null,null,null,null,null,null,null,null,null,null,null,null,null,null,null,null,null,null,null,null,"Fishenden [**",null,"Fishenden (**","Fishenden**",null,"Fishenden",null,null,3,0,0,0,null,0,0,0,0,null,0,0,1,0,null,0,0,0,0,null,"Paul","Fishenden",null,3,3,0]
[null,null,null,null,null,null,null,null,null,null,null,null,null,null,null,null,null,null,null,null,null,null,null,null,null,null,null,null,null,null,null,null,null,null,null,null,null,null,null,null,null,null,null,null,null,null,null,null,null,null,null,null,null,null,null,null,null,null,null,null,null,null,null,null,null,null,"Hinshelwood [**",null,"Hinshelwood (**","Hinshelwood**",null,"Hinshelwood",null,null,4,0,0,0,null,0,0,0,0,null,0,0,0,0,null,0,0,0,0,null,"Paul","Hinshelwood",null,4,4,0]
[null,null,null,null,null,null,null,"PS = Penalty Saved, PM = Penalty Missed, Green Millwall Penalty Missed or Saved, Red Opposition Penalty Missed or Saved",null,null,null,null,null,null,null,null,null,null,null,null,null,null,null,null,null,null,null,"Note: Information on bookings is not comprehensive but shown where known",null,null,null,null,null,null,null,null,null,null,null,null,null,null,null,null,null,null,null,null,null,null,null,null,null,null,null,null,null,null,null,null,null,null,null,null,null,null,"Horne [**",null,"Horne (**","Horne**",null,"Horne",null,null,32,0,0,0,null,3,0,0,0,null,2,0,0,0,null,1,0,0,0,null,"Briam","Horne",null,38,38,0]
[null,null,null,null,null,null,null,null,null,null,null,null,null,null,null,null,null,null,null,null,null,null,null,null,null,null,null,null,null,null,null,null,null,null,null,null,null,null,null,null,null,null,null,null,null,null,null,null,null,null,null,null,null,null,null,null,null,null,null,null,null,null,null,null,null,null,"Hurlock [**",null,"Hurlock (**","Hurlock**",null,"Hurlock",null,null,13,0,0,1,null,0,0,0,0,null,0,0,0,0,null,0,0,0,0,null,"Terry","Hurlock",null,13,13,0]
[null,null,null,null,null,null,null,null,null,null,null,null,null,null,null,null,null,null,null,null,null,null,null,null,null,null,null,null,null,null,null,null,null,null,null,null,null,null,null,null,null,null,null,null,null,null,null,null,null,null,null,null,null,null,null,null,null,null,null,null,null,null,null,null,null,null,"Leslie [**",null,"Leslie (**","Leslie**",null,"Leslie",null,null,3,1,10,1,null,2,1,0,1,null,0,2,0,0,null,2,0,0,2,null,"John","Leslie",null,7,7,0]
[null,null,null,null,null,null,null,null,null,null,null,null,null,null,null,null,null,null,null,null,null,null,null,null,null,null,null,null,null,null,null,null,null,null,null,null,null,null,null,null,null,null,null,null,null,null,null,null,null,null,null,null,null,null,null,null,null,null,null,null,null,null,null,null,null,null,"Lovell [**",null,"Lovell (**","Lovell**",null,"Lovell",null,null,0,0,0,0,null,0,1,0,0,null,0,0,0,0,null,0,0,0,0,null,"Steve","Lovell",null,0,0,0]
[null,null,null,null,null,null,null,null,null,null,null,null,null,null,null,null,null,null,null,null,null,null,null,null,null,null,null,null,null,null,null,null,null,null,null,null,null,null,null,null,null,null,null,null,null,null,null,null,null,null,null,null,null,null,null,null,null,null,null,null,null,null,null,null,null,null,"Malcolm [**",null,"Malcolm (**","Malcolm**",null,"Malcolm",null,null,0,0,0,0,null,0,0,0,0,null,0,0,0,0,null,0,0,1,0,null,"Paul","Malcolm",null,0,0,0]
[null,null,null,null,null,null,null,null,null,null,null,null,null,null,null,null,null,null,null,null,null,null,null,null,null,null,null,null,null,null,null,null,null,null,null,null,null,null,null,null,null,null,null,null,null,null,null,null,null,null,null,null,null,null,null,null,null,null,null,null,null,null,null,null,null,null,"Marks [**",null,"Marks (**","Marks**",null,"Marks",null,null,36,0,0,10,null,3,0,0,0,null,3,0,0,0,null,2,0,0,1,null,"Michael","Marks",null,44,44,0]
[null,null,null,null,null,null,null,null,null,null,null,null,null,null,null,null,null,null,null,null,null,null,null,null,null,null,null,null,null,null,null,null,null,null,null,null,null,null,null,null,null,null,null,null,null,null,null,null,null,null,null,null,null,null,null,null,null,null,null,null,null,null,null,null,null,null,"McLeary [**",null,"McLeary (**","McLeary**",null,"McLeary",null,null,42,0,0,0,null,3,0,0,0,null,3,0,0,0,null,2,0,0,0,null,"Alan","McLeary",null,50,50,0]
[null,null,null,null,null,null,null,null,null,null,null,null,null,null,null,null,null,null,null,null,null,null,null,null,null,null,null,null,null,null,null,null,null,null,null,null,null,null,null,null,null,null,null,null,null,null,null,null,null,null,null,null,null,null,null,null,null,null,null,null,null,null,null,null,null,null,"Mehmet [**",null,"Mehmet (**","Mehmet**",null,"Mehmet",null,null,16,2,1,1,null,0,0,0,0,null,2,0,0,0,null,1,0,0,0,null,"Dave","Mehmet",null,19,19,0]
[null,null,null,null,null,null,null,null,null,null,null,null,null,null,null,null,null,null,null,null,null,null,null,null,null,null,null,null,null,null,null,null,null,null,null,null,null,null,null,null,null,null,null,null,null,null,null,null,null,null,null,null,null,null,null,null,null,null,null,null,null,null,null,null,null,null,"Morgan [**",null,"Morgan (**","Morgan**",null,"Morgan",null,null,17,4,6,1,null,3,0,0,1,null,1,1,0,0,null,2,0,0,0,null,"Darren","Morgan",null,23,23,0]
[null,null,null,null,null,null,null,null,null,null,null,null,null,null,null,null,null,null,null,null,null,null,null,null,null,null,null,null,null,null,null,null,null,null,null,null,null,null,null,null,null,null,null,null,null,null,null,null,null,null,null,null,null,null,null,null,null,null,null,null,null,null,null,null,null,null,"Nutton [**",null,"Nutton (**","Nutton**",null,"Nutton",null,null,0,0,0,0,null,0,0,0,0,null,0,0,0,0,null,0,0,1,0,null,"Micky","Nutton",null,0,0,0]
[null,null,null,null,null,null,null,null,null,null,null,null,null,null,null,null,null,null,null,null,null,null,null,null,null,null,null,null,null,null,null,null,null,null,null,null,null,null,null,null,null,null,null,null,null,null,null,null,null,null,null,null,null,null,null,null,null,null,null,null,null,null,null,null,null,null,"Salman [**",null,"Salman (**","Salman**",null,"Salman",null,null,31,0,0,2,null,1,0,0,0,null,3,0,0,0,null,1,0,0,0,null,"Danis","Salman",null,36,36,0]
[null,null,null,null,null,null,null,null,null,null,null,null,null,null,null,null,null,null,null,null,null,null,null,null,null,null,null,null,null,null,null,null,null,null,null,null,null,null,null,null,null,null,null,null,null,null,null,null,null,null,null,null,null,null,null,null,null,null,null,null,null,null,null,null,null,null,"Sansome [**",null,"Sansome (**","Sansome**",null,"Sansome",null,null,10,0,0,0,null,0,0,0,0,null,1,0,0,0,null,1,0,0,0,null,"Paul","Sansome",null,12,12,0]
[null,null,null,null,null,null,null,null,null,null,null,null,null,null,null,null,null,null,null,null,null,null,null,null,null,null,null,null,null,null,null,null,null,null,null,null,null,null,null,null,null,null,null,null,null,null,null,null,null,null,null,null,null,null,null,null,null,null,null,null,null,null,null,null,null,null,"Sheringham [**",null,"Sheringham (**","Sheringham**",null,"Sheringham",null,null,42,0,0,13,null,3,0,0,0,null,3,0,0,2,null,2,0,0,1,null,"Teddy","Sheringham",null,50,50,0,null,null,null,null,null,null,null,null,null,null,null,null,null,null,null,null,null,null,null,null,null,null,null,null,null,null,null,null,null,null,null,null,null,null,null,null,null,null,null,null,null,null,"Reading","(A)","W 1-0",3,6]
[null,null,null,null,null,null,null,null,null,null,null,null,null,null,null,null,null,null,null,null,null,null,null,null,null,null,null,null,null,null,null,null,null,null,null,null,null,null,null,null,null,null,null,null,null,null,null,null,null,null,null,null,null,null,null,null,null,null,null,null,null,null,null,null,null,null,"Sparham [**",null,"Sparham (**","Sparham**",null,"Sparham",null,null,0,0,1,0,null,0,0,0,0,null,0,0,0,0,null,0,0,1,0,null,"Sean","Sparham",null,0,0,0,null,null,null,null,null,null,null,null,null,null,null,null,null,null,null,null,null,null,null,null,null,null,null,null,null,null,null,null,null,null,null,null,null,null,null,null,null,null,null,null,null,null,"Hull City","(H)","L 0-1",3,8]
[null,null,null,null,null,null,null,"1986-08-26",null,null,null,4300,"m",null,null,null,null,null,null,null,null,null,null,null,null,null,null,null,null,null,null,null,null,null,null,null,null,null,null,null,null,null,null,null,null,null,null,null,null,null,null,null,null,null,null,null,null,null,null,null,null,null,null,null,null,null,"Stevens [**",null,"Stevens (**","Stevens**",null,"Stevens",null,null,34,1,1,1,null,3,0,0,0,null,3,0,0,0,null,1,0,0,0,null,"Keith","Stevens",null,41,41,0,null,null,null,null,null,null,null,null,null,null,null,null,null,null,null,null,null,null,null,null,null,null,null,null,null,null,null,null,null,null,null,null,null,null,null,null,null,null,null,null,null,null,"Barnsley","(H)","W 1-0",6,6]
[null,null,null,null,null,null,null,"1986-08-30",null,null,null,4082,"w",null,null,null,null,null,null,null,null,null,null,null,null,null,null,null,null,null,null,null,null,null,null,null,null,null,null,null,null,null,null,null,null,null,null,null,null,null,null,null,null,null,null,null,null,null,null,null,null,null,null,null,null,null,"Walker [**",null,"Walker (**","Walker**",null,"Walker",null,null,40,0,0,1,null,3,0,0,0,null,3,0,0,2,null,2,0,0,0,null,"Alan","Walker",null,48,48,0,null,null,null,null,null,null,null,null,null,null,null,null,null,null,null,null,null,null,null,null,null,null,null,null,null,null,null,null,null,null,null,null,null,null,null,null,null,null,null,null,null,null,"Sheff Utd","(A)","L 1-2",6,9]
[null,null,null,null,null,null,null,"1986-09-13",null,null,null,3030,"w",null,null,null,null,null,null,null,null,null,null,null,null,null,null,null,null,null,null,null,null,null,null,null,null,null,null,null,null,null,null,null,null,null,null,null,null,null,null,null,null,null,null,null,null,null,null,null,null,null,null,null,null,null,null,null,null,null,null,null,null,null,null,null,null,null,null,null,null,null,null,null,null,null,null,null,null,null,null,null,null,null,null,null,null,null,null,null,null,null,null,null,null,null,null,null,null,null,null,null,null,null,null,null,null,null,null,null,null,null,null,null,null,null,null,null,null,null,null,null,null,null,null,null,null,null,null,null,null,null,"Stoke","(A)","L 0-2",6,11]
[null,null,null,null,null,null,null,"1986-09-27",null,null,null,3025,"w",null,null,null,null,null,null,null,null,null,null,null,null,null,null,null,null,null,null,null,null,null,null,null,null,null,null,null,null,null,null,null,null,null,null,null,null,null,null,null,null,null,null,null,null,null,null,null,null,null,null,null,null,null,null,null,null,null,null,null,null,null,null,null,null,null,null,null,null,null,null,null,null,null,null,null,null,null,null,null,null,null,null,null,null,null,null,null,null,null,null,null,null,null,null,null,null,null,null,null,null,null,null,null,null,null,null,null,null,null,null,null,null,null,null,null,null,null,null,null,null,null,null,null,null,null,null,null,null,null,"Bradford","(H)","L 1-2",6,15]
[null,null,null,null,null,null,null,"1986-10-11",null,null,null,3123,"w",null,null,null,null,null,null,null,"Game","Competition","Date","Opponents",null,"Score",1,2,3,4,5,6,7,8,9,10,11,12,14,null,null,null,null,null,null,null,null,null,null,null,null,null,null,null,null,null,null,null,null,null,null,null,null,null,null,null,null,null,null,null,null,null,null,null,{"$f":"42*11","v":462},null,null,null,null,{"$f":"SUM(CB46:CB71)","v":33},null,null,null,null,{"$f":"SUM(CG46:CG71)","v":33},null,null,null,null,{"$f":"SUM(CL46:CL71)","v":22},null,null,null,null,null,null,null,null,null,null,null,null,null,null,null,null,null,null,null,null,null,null,null,null,null,null,null,null,null,null,null,null,null,null,null,null,null,null,null,null,null,null,null,null,null,null,null,null,null,null,null,null,"Derby","(A)","D 1-1",7,18]
[null,null,null,null,null,null,null,"1986-10-25",null,null,null,3578,"w",null,null,null,null,null,null,null,1,"Division 2","1986-08-23","Reading","(A)","W 1-0","Sansome","Stevens","N Coleman","Briley","Walker","McLeary","Byrne","Salman","Sheringham","Marks","Hinshelwood","Leslie",null,null,null,null,null,null,null,null,null,null,null,null,null,null,null,null,null,null,null,null,null,null,null,null,null,null,null,null,null,null,null,null,null,null,null,null,{"$f":"SUM(BW46:BW71)","v":462},null,null,null,null,null,null,null,null,null,null,null,null,null,null,null,null,null,null,null,null,null,null,null,null,null,null,null,null,null,null,null,null,null,null,null,null,null,null,null,null,null,null,null,null,null,null,null,null,null,null,null,null,null,null,null,null,null,null,null,null,null,null,null,null,null,null,null,"Blackburn","(H)","D 2-2",8,17]
[null,null,null,null,null,null,null,"1986-11-08",null,null,null,6869,"w",null,null,null,null,null,null,null,2,"Division 2","1986-08-26","Hull City","(H)","L 0-1","Sansome","Stevens","N Coleman","Briley","Walker","Salman","Byrne","McLeary","Sheringham","Marks","Hinshelwood","Leslie",null,null,null,null,null,null,null,null,null,null,null,null,null,null,null,null,null,null,null,null,null,null,null,null,null,null,null,null,null,null,null,null,null,null,null,null,null,null,null,null,null,null,null,null,null,null,null,null,null,null,null,null,null,null,null,null,null,null,null,null,null,null,null,null,null,null,null,null,null,null,null,null,null,null,null,null,null,null,null,null,null,null,null,null,null,null,null,null,null,null,null,null,null,null,null,null,null,null,null,null,null,null,null,null,"C Palace","(A)","L 1-2",8,20]
[null,null,null,null,null,null,null,"1986-11-15",null,null,null,4795,"w",null,null,null,null,null,null,null,3,"Division 2","1986-08-30","Barnsley","(H)","W 1-0","Sansome","Stevens","N Coleman","Briley","Walker","Salman","Byrne","McLeary","Sheringham","Marks","Hinshelwood","Mehmet",null,null,null,null,null,null,null,null,null,null,null,null,null,null,null,null,null,null,null,null,null,null,null,null,null,null,null,null,null,null,null,null,null,null,null,null,null,null,null,null,null,null,null,null,null,null,null,null,null,null,null,null,null,null,null,null,null,null,null,null,null,null,null,null,null,null,null,null,null,null,null,null,null,null,null,null,null,null,null,null,null,null,null,null,null,null,null,null,null,null,null,null,null,null,null,null,null,null,null,null,null,null,null,null,"Shrewsbury","(H)","W 4-0",11,16]
[null,null,null,null,null,null,null,"1986-11-29",null,null,null,5031,"w",null,null,null,null,null,null,null,4,"Division 2","1986-09-02","Sheff Utd","(A)","L 1-2","Horne","Stevens","N Coleman","Briley","Walker","Salman","Byrne","McLeary","Sheringham","Marks","Hinshelwood (--)","Mehmet (--)",null,null,null,null,null,null,null,null,null,null,null,null,null,null,null,null,null,null,null,null,null,null,null,null,null,null,null,null,null,null,null,null,null,null,null,null,null,null,null,null,null,null,null,null,null,null,null,null,null,null,null,null,null,null,null,null,null,null,null,null,null,null,null,null,null,null,null,null,null,null,null,null,null,null,null,null,null,null,null,null,null,null,null,null,null,null,null,null,null,null,null,null,null,null,null,null,null,null,null,null,null,null,null,null,"Oldham","(A)","L 1-2",11,16]
[null,null,null,null,null,null,null,"1986-12-13",null,null,null,3515,"w",null,null,null,null,null,null,null,5,"Division 2","1986-09-06","Stoke","(A)","L 0-2","Horne","Stevens","N Coleman","Briley","Walker","Salman","Byrne","McLeary","Sheringham","Marks","Mehmet","Morgan",null,null,null,null,null,null,null,null,null,null,null,null,null,null,null,null,null,null,null,null,null,null,null,null,null,null,null,null,null,null,null,null,null,null,null,null,null,null,null,null,null,null,null,null,null,null,null,null,null,null,null,null,null,null,null,null,null,null,null,null,null,null,null,null,null,null,null,null,null,null,null,null,null,null,null,null,null,null,null,null,null,null,null,null,null,null,null,null,null,null,null,null,null,null,null,null,null,null,null,null,null,null,null,null,"Plymouth","(H)","W 3-1",14,13]
[null,null,null,null,null,null,null,"1986-12-26",null,null,null,4737,"w",null,null,null,null,null,null,null,6,"Division 2","1986-09-13","Bradford","(H)","L 1-2","Sansome","Stevens","N Coleman","Briley","Walker","Salman","Byrne","McLeary","Sheringham","Marks","Morgan","Leslie",null,null,null,null,null,null,null,null,null,null,null,null,null,null,null,null,null,null,null,null,null,null,null,null,null,null,null,null,null,null,null,null,null,null,null,null,null,null,null,null,null,null,null,null,null,null,null,null,null,null,null,null,null,null,null,null,null,null,null,null,null,null,null,null,null,null,null,null,null,null,null,null,null,null,null,null,null,null,null,null,null,null,null,null,null,null,null,null,null,null,null,null,null,null,null,null,null,null,null,null,null,null,null,null,"Grimsby","(A)","L 0-1",14,16]
[null,null,null,null,null,null,null,"1987-01-03",null,null,null,6134,"w",null,null,null,null,null,null,null,7,"Division 2","1986-09-20","Derby","(A)","D 1-1","Sansome","Stevens","N Coleman","Briley","Walker","Salman","Byrne","McLeary","Sheringham","Marks","Fishenden","Morgan",null,null,null,null,null,null,null,null,null,null,null,null,null,null,null,null,null,null,null,null,null,null,null,null,null,null,null,null,null,null,null,null,null,null,null,null,null,null,null,null,null,null,null,null,null,null,null,null,null,null,null,null,null,null,null,null,null,null,null,null,null,null,null,null,null,null,null,null,null,null,null,null,null,null,null,null,null,null,null,null,null,null,null,null,null,null,null,null,null,null,null,null,null,null,null,null,null,null,null,null,null,null,null,null,"Leeds","(H)","W 1-0",17,12]
[null,null,null,null,null,null,null,"1987-01-24",null,null,null,4365,"w",null,null,null,null,null,null,null,8,"Division 2","1986-09-27","Blackburn","(H)","D 2-2","Sansome","Stevens","N Coleman","Briley (45)","Walker","Salman","Byrne","McLeary","Sheringham","Marks","Fishenden","Morgan (--)",null,null,null,null,null,null,null,null,null,null,null,null,null,null,null,null,null,null,null,null,null,null,null,null,null,null,null,null,null,null,null,null,null,null,null,null,null,null,null,null,null,null,null,null,null,null,null,null,null,null,null,null,null,null,null,null,null,null,null,null,null,null,null,null,null,null,null,null,null,null,null,null,null,null,null,null,null,null,null,null,null,null,null,null,null,null,null,null,null,null,null,null,null,null,null,null,null,null,null,null,null,null,null,null,"Birmingham","(H)","L 0-2",17,15]
[null,null,null,null,null,null,null,"1987-02-14",null,null,null,4006,"w",null,null,null,null,null,null,null,9,"Division 2","1986-10-04","C Palace","(A)","L 1-2","Sansomen","Stevensn","N Coleman","Briley","Walker","Salman","Byrne","McLeary","Sheringham","Marks","Fishenden (--)","Morgan (--)",null,null,null,null,null,null,null,null,null,null,null,null,null,null,null,null,null,null,null,null,null,null,null,null,null,null,null,null,null,null,null,null,null,null,null,null,null,null,null,null,null,null,null,null,null,null,null,null,null,null,null,null,null,null,null,null,null,null,null,null,null,null,null,null,null,null,null,null,null,null,null,null,null,null,null,null,null,null,null,null,null,null,null,null,null,null,null,null,null,null,null,null,null,null,null,null,null,null,null,null,null,null,null,null,"West Brom","(A)","W 1-0",20,12]
[null,null,null,null,null,null,null,"1987-02-28",null,null,null,7169,"w",null,null,null,null,null,null,null,10,"Division 2","1986-10-11","Shrewsbury","(H)","W 4-0","Horne","Stevens","N Coleman","Briley","Walker","McLeary","Byrne","Mehmet","Sheringham","Marks","Salman","Leslie",null,null,null,null,null,null,null,null,null,null,null,null,null,null,null,null,null,null,null,null,null,null,null,null,null,null,null,null,null,null,null,null,null,null,null,null,null,null,null,null,null,null,null,null,null,null,null,null,null,null,null,null,null,null,null,null,null,null,null,null,null,null,null,null,null,null,null,null,null,null,null,null,null,null,null,null,null,null,null,null,null,null,null,null,null,null,null,null,null,null,null,null,null,null,null,null,null,null,null,null,null,null,null,null,"Portsmouth","(H)","D 1-1",21,13]
[null,null,null,null,null,null,null,"1987-03-14",null,null,null,3770,"w",null,null,null,null,null,null,null,11,"Division 2","1986-10-17","Oldham","(A)","L 1-2","Sansome","Stevens","N Coleman","Morgan","Walker","McLeary","Byrne","Mehmet","Sheringham","Marks","Salman","Leslie",null,null,null,null,null,null,null,null,null,null,null,null,null,null,null,null,null,null,null,null,null,null,null,null,null,null,null,null,null,null,null,null,null,null,null,null,null,null,null,null,null,null,null,null,null,null,null,null,null,null,null,null,null,null,null,null,null,null,null,null,null,null,null,null,null,null,null,null,null,null,null,null,null,null,null,null,null,null,null,null,null,null,null,null,null,null,null,null,null,null,null,null,null,null,null,null,null,null,null,null,null,null,null,null,"Sunderland","(A)","D 1-1",22,14]
[null,null,null,null,null,null,null,"1987-03-28",null,null,null,6285,"w",null,null,null,null,null,null,null,12,"Division 2","1986-10-25","Plymouth","(H)","W 3-1","Sansome","Stevens","N Coleman","Briley","Walker","McLeary","Byrne","Morgan","Sheringham","Marks","Salman","Leslie",null,null,null,null,null,null,null,null,null,null,null,null,null,null,null,null,null,null,null,null,null,null,null,null,null,null,null,null,null,null,null,null,null,null,null,null,null,null,null,null,null,null,null,null,null,null,null,null,null,null,null,null,null,null,null,null,null,null,null,null,null,null,null,null,null,null,null,null,null,null,null,null,null,null,null,null,null,null,null,null,null,null,null,null,null,null,null,null,null,null,null,null,null,null,null,null,null,null,null,null,null,null,null,null,"Huddersfield","(H)","W 4-0",25,10]
[null,null,null,null,null,null,null,"1987-04-11",null,null,null,3881,"w",null,null,null,null,null,null,null,13,"Division 2","1986-11-01","Grimsby","(A)","L 0-1","Sansome","Stevens","N Coleman","Briley","Walker","McLeary","Byrne","Mehmet","Sheringham","Marks","Salman","Morgan",null,null,null,null,null,null,null,null,null,null,null,null,null,null,null,null,null,null,null,null,null,null,null,null,null,null,null,null,null,null,null,null,null,null,null,null,null,null,null,null,null,null,null,null,null,null,null,null,null,null,null,null,null,null,null,null,null,null,null,null,null,null,null,null,null,null,null,null,null,null,null,null,null,null,null,null,null,null,null,null,null,null,null,null,null,null,null,null,null,null,null,null,null,null,null,null,null,null,null,null,null,null,null,null,"Ipswich","(H)","W 1-0",28,11]
[null,null,null,null,null,null,null,"1987-04-18",null,null,null,3851,"w",null,null,null,null,null,null,null,14,"Division 2","1986-11-08","Leeds","(H)","W 1-0","Horne","Stevens","N Coleman","Briley","Walker","McLeary","Byrne","Mehmet","Sheringham","Marks","Salman (58)","Leslie (--)",null,null,null,null,null,null,null,null,null,null,null,null,null,null,null,null,null,null,null,null,null,null,null,null,null,null,null,null,null,null,null,null,null,null,null,null,null,null,null,null,null,null,null,null,null,null,null,null,null,null,null,null,null,null,null,null,null,null,null,null,null,null,null,null,null,null,null,null,null,null,null,null,null,null,null,null,null,null,null,null,null,null,null,null,null,null,null,null,null,null,null,null,null,null,null,null,null,null,null,null,null,null,null,null,"Birmingham","(A)","D 1-1",29,12]
[null,null,null,null,null,null,null,"1987-04-25",null,null,null,3912,"w",null,null,null,null,null,null,null,15,"Division 2","1986-11-15","Birmingham","(H)","L 0-2","Horne","P Coleman","N Coleman","Briley","Stevensn","McLeary","Byrne","Mehmet","Sheringham","Marks","Leslie","Morgan",null,null,null,null,null,null,null,null,null,null,null,null,null,null,null,null,null,null,null,null,null,null,null,null,null,null,null,null,null,null,null,null,null,null,null,null,null,null,null,null,null,null,null,null,null,null,null,null,null,null,null,null,null,null,null,null,null,null,null,null,null,null,null,null,null,null,null,null,null,null,null,null,null,null,null,null,null,null,null,null,null,null,null,null,null,null,null,null,null,null,null,null,null,null,null,null,null,null,null,null,null,null,null,null,"Brighton","(A)","W 1-0",32,9]
[null,null,null,null,null,null,null,"1987-05-05",null,null,null,4211,"m",null,null,null,null,null,null,null,16,"Division 2","1986-11-22","West Brom","(A)","W 1-0","Horne","Stevens","N Coleman","Briley","Walker","McLeary","Byrne","Mehmet","Sheringham","Marks","Cochrane","Morgan",null,null,null,null,null,null,null,null,null,null,null,null,null,null,null,null,null,null,null,null,null,null,null,null,null,null,null,null,null,null,null,null,null,null,null,null,null,null,null,null,null,null,null,null,null,null,null,null,null,null,null,null,null,null,null,null,null,null,null,null,null,null,null,null,null,null,null,null,null,null,null,null,null,null,null,null,null,null,null,null,null,null,null,null,null,null,null,null,null,null,null,null,null,null,null,null,null,null,null,null,null,null,null,null,"Stoke","(H)","D 1-1",33,9]
[null,null,null,null,null,null,null,null,null,null,null,null,null,null,null,null,null,null,null,null,17,"Division 2","1986-11-29","Portsmouth","(H)","D 1-1","Horne","Stevens","N Coleman","Briley","Walker","McLeary","Byrne","Mehmet","Sheringhamn","Marks","Salman","Cochrane",null,null,null,null,null,null,null,null,null,null,null,null,null,null,null,null,null,null,null,null,null,null,null,null,null,null,null,null,null,null,null,null,null,null,null,null,null,null,null,null,null,null,null,null,null,null,null,null,null,null,null,null,null,null,null,null,null,null,null,null,null,null,null,null,null,null,null,null,null,null,null,null,null,null,null,null,null,null,null,null,null,null,null,null,null,null,null,null,null,null,null,null,null,null,null,null,null,null,null,null,null,null,null,null,"Bradford","(A)","L 0-4",33,10]
[null,null,null,null,null,null,null,null,null,null,null,null,null,null,null,null,null,null,null,null,18,"Division 2","1986-12-06","Sunderland","(A)","D 1-1","Horne","Stevens","N Coleman","Briley","Walker","McLeary","Byrne","Mehmet","Sheringham","Marks","Salman (--)","Morgan (--)",null,null,null,null,null,null,null,null,null,null,null,null,null,null,null,null,null,null,null,null,null,null,null,null,null,null,null,null,null,null,null,null,null,null,null,null,null,null,null,null,null,null,null,null,null,null,null,null,null,null,null,null,null,null,null,null,null,null,null,null,null,null,null,null,null,null,null,null,null,null,null,null,null,null,null,null,null,null,null,null,null,null,null,null,null,null,null,null,null,null,null,null,null,null,null,null,null,null,null,null,null,null,null,null,"Reading","(H)","W 2-1",36,8]
[null,null,null,null,null,null,null,null,null,null,null,null,null,null,null,null,null,null,null,null,19,"Division 2","1986-12-13","Huddersfield","(H)","W 4-0","Horne","Stevensn","N Coleman","Briley","Walker","McLeary","Byrne","Mehmet (33)","Sheringham","Marks","Salman","Morgan (--)",null,null,null,null,null,null,null,null,null,null,null,null,null,null,null,null,null,null,null,null,null,null,null,null,null,null,null,null,null,null,null,null,null,null,null,null,null,null,null,null,null,null,null,null,null,null,null,null,null,null,null,null,null,null,null,null,null,null,null,null,null,null,null,null,null,null,null,null,null,null,null,null,null,null,null,null,null,null,null,null,null,null,null,null,null,null,null,null,null,null,null,null,null,null,null,null,null,null,null,null,null,null,null,null,"Barnsley","(A)","L 0-1",36,9]
[null,null,null,null,null,null,null,null,null,null,null,null,null,null,null,null,null,null,null,null,20,"Division 2","1986-12-26","Ipswich","(H)","W 1-0","Horne","Stevens","N Coleman","Briley","Walker","McLeary","Byrne","Morgan","Sheringham","Marks","Salman","Leslie",null,null,null,null,null,null,null,null,null,null,null,null,null,null,null,null,null,null,null,null,null,null,null,null,null,null,null,null,null,null,null,null,null,null,null,null,null,null,null,null,null,null,null,null,null,null,null,null,null,null,null,null,null,null,null,null,null,null,null,null,null,null,null,null,null,null,null,null,null,null,null,null,null,null,null,null,null,null,null,null,null,null,null,null,null,null,null,null,null,null,null,null,null,null,null,null,null,null,null,null,null,null,null,null,"Sheff Utd","(H)","W 1-0",39,7]
[null,null,null,null,null,null,null,null,"Agg",null,null,{"$f":"SUBTOTAL(9,L70:L92)","v":93669},null,null,null,null,null,null,null,null,21,"Division 2","1986-12-29","Birmingham","(A)","D 1-1","Horne","P Coleman","N Coleman","Briley","Walker","McLeary","Byrne","Morgan","Sheringham","Marks","Salman","Leslie",null,null,null,null,null,null,null,null,null,null,null,null,null,null,null,null,null,null,null,null,null,null,null,null,null,null,null,null,null,null,null,null,null,null,null,null,null,null,null,null,null,null,null,null,null,null,null,null,null,null,null,null,null,null,null,null,null,null,null,null,null,null,null,null,null,null,null,null,null,null,null,null,null,null,null,null,null,null,null,null,null,null,null,null,null,null,null,null,null,null,null,null,null,null,null,null,null,null,null,null,null,null,null,null,"Blackburn","(A)","L 0-1",39,7]
[null,null,null,null,null,null,null,null,"Max",null,null,{"$f":"MAX(L69:L92)","v":7169},null,null,null,null,null,null,null,null,22,"Division 2","1987-01-01","Brighton","(A)","W 1-0","Horne","P Coleman","N Coleman","Briley","Walker","McLeary","Byrne","Morgan","Sheringham","Marks","Salman","Leslie",null,null,null,null,null,null,null,null,null,null,null,null,null,null,null,null,null,null,null,null,null,null,null,null,null,null,null,null,null,null,null,null,null,null,null,null,null,null,null,null,null,null,null,null,null,null,null,null,null,null,null,null,null,null,null,null,null,null,null,null,null,null,null,null,null,null,null,null,null,null,null,null,null,null,null,null,null,null,null,null,null,null,null,null,null,null,null,null,null,null,null,null,null,null,null,null,null,null,null,null,null,null,null,null,"Derby","(H)","L 0-1",39,10]
[null,null,null,null,null,null,null,null,"Min",null,null,{"$f":"MIN(L69:L92)","v":3025},null,null,null,null,null,null,null,null,23,"Division 2","1987-01-03","Stoke","(H)","D 1-1","Horne","P Coleman","N Coleman","Briley","Walker","McLeary","Byrne","Morgan","Sheringham","Leslie","Salman","Booker",null,null,null,null,null,null,null,null,null,null,null,null,null,null,null,null,null,null,null,null,null,null,null,null,null,null,null,null,null,null,null,null,null,null,null,null,null,null,null,null,null,null,null,null,null,null,null,null,null,null,null,null,null,null,null,null,null,null,null,null,null,null,null,null,null,null,null,null,null,null,null,null,null,null,null,null,null,null,null,null,null,null,null,null,null,null,null,null,null,null,null,null,null,null,null,null,null,null,null,null,null,null,null,null,"Plymouth","(A)","L 0-1",39,11]
[null,null,null,null,null,null,null,null,null,null,null,null,null,null,null,null,null,null,null,null,24,"Division 2","1987-01-17","Bradford","(A)","L 0-4","Horne","Stevens","N Coleman","Briley","Walker","McLeary","Byrne","Morgan","Sheringham","Marks","Leslie","P Coleman",null,null,null,null,null,null,null,null,null,null,null,null,null,null,null,null,null,null,null,null,null,null,null,null,null,null,null,null,null,null,null,null,null,null,null,null,null,null,null,null,null,null,null,null,null,null,null,null,null,null,null,null,null,null,null,null,null,null,null,null,null,null,null,null,null,null,null,null,null,null,null,null,null,null,null,null,null,null,null,null,null,null,null,null,null,null,null,null,null,null,null,null,null,null,null,null,null,null,null,null,null,null,null,null,"Oldham","(H)","D 0-0",40,10]
[null,null,null,null,null,null,null,null,"Av",null,null,{"$f":"AVERAGE(L69:L91)","v":4460.4285714285716},null,null,null,null,null,null,null,null,25,"Division 2","1987-01-24","Reading","(H)","W 2-1","Horne","Stevens","N Coleman","Briley","Walker","McLeary","Byrne","Morgan","Sheringham","Armstrong","Marks","Leslie",null,null,null,null,null,null,null,null,null,null,null,null,null,null,null,null,null,null,null,null,null,null,null,null,null,null,null,null,null,null,null,null,null,null,null,null,null,null,null,null,null,null,null,null,null,null,null,null,null,null,null,null,null,null,null,null,null,null,null,null,null,null,null,null,null,null,null,null,null,null,null,null,null,null,null,null,null,null,null,null,null,null,null,null,null,null,null,null,null,null,null,null,null,null,null,null,null,null,null,null,null,null,null,null,"Shrewsbury","(A)","W 2-1",43,9]
[null,null,null,null,null,null,null,null,null,null,null,null,null,null,null,null,null,null,null,null,26,"Division 2","1987-02-07","Barnsley","(A)","L 0-1","Horne","Stevens","N Coleman","Briley (--)","Walker","McLeary","Byrne","Morgan","Sheringham","Armstrong","Marks","P Coleman (--)",null,null,null,null,null,null,null,null,null,null,null,null,null,null,null,null,null,null,null,null,null,null,null,null,null,null,null,null,null,null,null,null,null,null,null,null,null,null,null,null,null,null,null,null,null,null,null,null,null,null,null,null,null,null,null,null,null,null,null,null,null,null,null,null,null,null,null,null,null,null,null,null,null,null,null,null,null,null,null,null,null,null,null,null,null,null,null,null,null,null,null,null,null,null,null,null,null,null,null,null,null,null,null,null,"C Palace","(H)","L 0-1",43,10]
[null,null,null,null,null,null,null,null,"Weekend",null,null,{"$f":"SUMIF(M69:M92,\"w\",L69:L92)","v":85158},{"$f":"COUNTIF(M69:M94,\"w\")","v":19},null,null,null,null,null,null,null,27,"Division 2","1987-02-14","Sheff Utd","(H)","W 1-0","Horne","Stevensn","N Coleman","Hurlockn","Walker","McLeary","Byrne","Morgan","Sheringham","Armstrong","Marks","P Coleman",null,null,null,null,null,null,null,null,null,null,null,null,null,null,null,null,null,null,null,null,null,null,null,null,null,null,null,null,null,null,null,null,null,null,null,null,null,null,null,null,null,null,null,null,null,null,null,null,null,null,null,null,null,null,null,null,null,null,null,null,null,null,null,null,null,null,null,null,null,null,null,null,null,null,null,null,null,null,null,null,null,null,null,null,null,null,null,null,null,null,null,null,null,null,null,null,null,null,null,null,null,null,null,null,"Leeds","(A)","L 0-2",43,11]
[null,null,null,null,null,null,null,null,"Midweek",null,null,{"$f":"SUMIF(M69:M92,\"m\",L69:L92)","v":8511},{"$f":"COUNTIF(M69:M94,\"m\")","v":2},null,null,null,null,null,null,null,28,"Division 2","1987-02-21","Blackburn","(A)","L 0-1","Horne","Stevens","N Coleman","Hurlockn","Walker","McLeary","Byrne","Morgan","Sheringham","Armstrong","Marks (70)","Mehmet (--)",null,null,null,null,null,null,null,null,null,null,null,null,null,null,null,null,null,null,null,null,null,null,null,null,null,null,null,null,null,null,null,null,null,null,null,null,null,null,null,null,null,null,null,null,null,null,null,null,null,null,null,null,null,null,null,null,null,null,null,null,null,null,null,null,null,null,null,null,null,null,null,null,null,null,null,null,null,null,null,null,null,null,null,null,null,null,null,null,null,null,null,null,null,null,null,null,null,null,null,null,null,null,null,null,"Grimsby","(H)","W 1-0",46,10]
[null,null,null,null,null,null,null,null,null,null,null,null,null,null,null,null,null,null,null,null,29,"Division 2","1987-02-28","Derby","(H)","L 0-1","Horne","P Coleman","N Coleman","Hurlockn","Walker","McLeary","Byrne","Morgan (--)","Sheringhamn","Armstrong","Mehmet","Booker (--)",null,null,null,null,null,null,null,null,null,null,null,null,null,null,null,null,null,null,null,null,null,null,null,null,null,null,null,null,null,null,null,null,null,null,null,null,null,null,null,null,null,null,null,null,null,null,null,null,null,null,null,null,null,null,null,null,null,null,null,null,null,null,null,null,null,null,null,null,null,null,null,null,null,null,null,null,null,null,null,null,null,null,null,null,null,null,null,null,null,null,null,null,null,null,null,null,null,null,null,null,null,null,null,null,"Hull City","(A)","L 1-2",46,10]
[null,null,null,null,null,null,null,null,"Weekend",null,null,{"$f":"L101/M101","v":4482},null,null,null,null,null,null,null,null,30,"Division 2","1987-03-07","Plymouth","(A)","L 0-1","Horne","Morgan","N Coleman","Hurlock","P Coleman","McLeary","Byrne","Mehmet","Sheringham","Armstrong","Booker","Sparham",null,null,null,null,null,null,null,null,null,null,null,null,null,null,null,null,null,null,null,null,null,null,null,null,null,null,null,null,null,null,null,null,null,null,null,null,null,null,null,null,null,null,null,null,null,null,null,null,null,null,null,null,null,null,null,null,null,null,null,null,null,null,null,null,null,null,null,null,null,null,null,null,null,null,null,null,null,null,null,null,null,null,null,null,null,null,null,null,null,null,null,null,null,null,null,null,null,null,null,null,null,null,null,null,"Brighton","(H)","W 3-1",49,10]
[null,null,null,null,null,null,null,null,"Midweek",null,null,{"$f":"L102/M102","v":4255.5},null,null,null,null,null,null,null,null,31,"Division 2","1987-03-14","Oldham","(H)","D 0-0","Horne","Stevens","N Coleman","Morgan (45)","Walker","McLeary","Byrne","Mehmetn","Sheringham","Armstrong","Carter","P Coleman (--)",null,null,null,null,null,null,null,null,null,null,null,null,null,null,null,null,null,null,null,null,null,null,null,null,null,null,null,null,null,null,null,null,null,null,null,null,null,null,null,null,null,null,null,null,null,null,null,null,null,null,null,null,null,null,null,null,null,null,null,null,null,null,null,null,null,null,null,null,null,null,null,null,null,null,null,null,null,null,null,null,null,null,null,null,null,null,null,null,null,null,null,null,null,null,null,null,null,null,null,null,null,null,null,null,"Ipswich","(A)","D 0-0",50,10]
[null,null,null,null,null,null,null,null,null,null,null,null,null,null,null,null,null,null,null,null,32,"Division 2","1987-03-21","Shrewsbury","(A)","W 2-1","Horne","Stevens","N Coleman","Hurlock","Walker","McLeary","P Coleman","Mehmet","Sheringham","Salman","Carter (--)","Byrne (--)",null,null,null,null,null,null,null,null,null,null,null,null,null,null,null,null,null,null,null,null,null,null,null,null,null,null,null,null,null,null,null,null,null,null,null,null,null,null,null,null,null,null,null,null,null,null,null,null,null,null,null,null,null,null,null,null,null,null,null,null,null,null,null,null,null,null,null,null,null,null,null,null,null,null,null,null,null,null,null,null,null,null,null,null,null,null,null,null,null,null,null,null,null,null,null,null,null,null,null,null,null,null,null,null,"West Brom","(H)","L 0-1",50,11]
[null,null,null,null,null,null,null,null,null,null,null,null,null,null,null,null,null,null,null,null,33,"Division 2","1987-03-28","C Palace","(H)","L 0-1","Horne","Stevens","N Coleman","Hurlock","Walker","McLeary","P Coleman","Mehmet","Sheringham","Salman","Carter (--)","Byrne (--)",null,null,null,null,null,null,null,null,null,null,null,null,null,null,null,null,null,null,null,null,null,null,null,null,null,null,null,null,null,null,null,null,null,null,null,null,null,null,null,null,null,null,null,null,null,null,null,null,null,null,null,null,null,null,null,null,null,null,null,null,null,null,null,null,null,null,null,null,null,null,null,null,null,null,null,null,null,null,null,null,null,null,null,null,null,null,null,null,null,null,null,null,null,null,null,null,null,null,null,null,null,null,null,null,"Portsmouth","(A)","L 0-2",50,14]
[null,null,null,null,null,null,null,null,null,null,null,null,null,null,null,null,null,null,null,null,34,"Division 2","1987-04-04","Leeds","(A)","L 0-2","Horne","Stevens","N Coleman","Hurlock","Walker","McLeary","Marks","Mehmet (45)","Sheringham","Salman","Carter","Byrne (--)",null,null,null,null,null,null,null,null,null,null,null,null,null,null,null,null,null,null,null,null,null,null,null,null,null,null,null,null,null,null,null,null,null,null,null,null,null,null,null,null,null,null,null,null,null,null,null,null,null,null,null,null,null,null,null,null,null,null,null,null,null,null,null,null,null,null,null,null,null,null,null,null,null,null,null,null,null,null,null,null,null,null,null,null,null,null,null,null,null,null,null,null,null,null,null,null,null,null,null,null,null,null,null,null,"Sunderland","(H)","D 1-1",51,14]
[null,null,null,null,null,null,null,null,null,null,null,null,null,null,null,null,null,null,null,null,35,"Division 2","1987-04-11","Grimsby","(H)","W 1-0","Horne","Stevens","N Coleman","Hurlock (77)n","Walkern","McLeary","Marks","Briley","Sheringham","Salman","Carter","Byrne",null,null,null,null,null,null,null,null,null,null,null,null,null,null,null,null,null,null,null,null,null,null,null,null,null,null,null,null,null,null,null,null,null,null,null,null,null,null,null,null,null,null,null,null,null,null,null,null,null,null,null,null,null,null,null,null,null,null,null,null,null,null,null,null,null,null,null,null,null,null,null,null,null,null,null,null,null,null,null,null,null,null,null,null,null,null,null,null,null,null,null,null,null,null,null,null,null,null,null,null,null,null,null,null,"Huddersfield","(A)","L 0-3",51,16]
[null,null,null,null,null,null,null,null,null,null,null,null,null,null,null,null,null,null,null,null,36,"Division 2","1987-04-14","Hull City","(A)","L 1-2","Horne","Stevensn","N Coleman","Hurlockn","Walker","McLeary","Marks","Brileyn","Sheringham","Salman","Carter (--)","Byrne (--)"]
[null,null,null,null,null,null,null,null,null,null,null,null,null,null,null,null,null,null,null,null,37,"Division 2","1987-04-18","Brighton","(H)","W 3-1","Horne","Stevens","N Coleman","Hurlock","Walker","McLeary","Marks","Briley","Sheringham","Salman","Carter","Byrne"]
[null,null,null,null,null,null,null,null,null,null,null,null,null,null,null,null,null,null,null,null,38,"Division 2","1987-04-21","Ipswich","(A)","D 0-0","Horne","Stevensn","N Coleman","Hurlockn","Walker","McLeary","Marks","Briley","Sheringham","Byrnen","Carter","Morgan"]
[null,null,null,null,null,null,null,null,null,null,null,null,null,null,null,null,null,null,null,null,39,"Division 2","1987-04-25","West Brom","(H)","L 0-1","Horne","Stevens","N Coleman","Morgan","Walker","McLeary","Marks (--)","Briley","Sheringham","Salman","Carter","Byrne (--)"]
[null,null,null,null,null,null,null,null,null,null,null,null,null,null,null,null,null,null,null,null,40,"Division 2","1987-05-02","Portsmouth","(A)","L 0-2","Horne","Morgan","N Coleman","Briley","Walker","McLeary","Byrne","Carter","Sheringham (--)","Marks","Salman","Booker (--)"]
[null,null,null,null,null,null,null,null,null,null,null,null,null,null,null,null,null,null,null,null,41,"Division 2","1987-05-05","Sunderland","(H)","D 1-1","Horne","Salman","N Coleman","Hurlock","Walker","McLeary","Byrne","Briley","Sheringham","Marks","Carter","Stevens"]
[null,null,null,null,null,null,null,null,null,null,null,null,null,null,null,null,null,null,null,null,42,"Division 2","1987-05-09","Huddersfield","(A)","L 0-3","Horne","Salman","N Coleman","Hurlock","Walker","McLeary","Byrne","Briley","Sheringham","Marks (--)","Carter","Stevens (--)"]
[]
[]
[]
[]
[]
[]
[]
[]
[]
[null,null,null,null,null,null,null,null,null,null,null,null,null,null,null,null,null,null,null,null,29,"FA Cup","1987-01-10","Cardiff","(H)","D 0-0","Horne","Stevens","N Coleman","Briley","Walker","McLeary","Byrne","Morgan","Sheringham","Marks (75)","Salman","Leslie (--)",null,"P Coleman"]
[null,null,null,null,null,null,null,null,null,null,null,null,null,null,null,null,null,null,null,null,31,"FA Cup","1987-01-20","Cardiff","(A)","D 2-2","Horne","Stevens","N Coleman","Briley","Walker","McLeary","Byrne","Morgan","Sheringham","Marks","Leslie","P Coleman",null,"Booker"]
[null,null,null,null,null,null,null,null,null,null,null,null,null,null,null,null,null,null,null,null,33,"FA Cup","1987-01-26","Cardiff","(A)","L 0-1","Horne","Stevens","N Coleman","Briley","Walker","McLeary","Byrne","Morgan","Sheringham","Marks","Leslie (--)","Lovell (--)",null,"P Coleman"]
[]
[]
[]
[]
[]
[]
[]
[null,null,null,null,null,null,null,null,null,null,null,null,null,null,null,null,null,null,null,null,10,"League Cup","1986-10-07","Walsall","(A)","W 1-0","Horne","Stevens","Salman","Briley","Walker","McLeary","Byrne","Mehmet","Sheringham","Marks","Booker","Fishenden",null,"N Coleman"]
[null,null,null,null,null,null,null,null,null,null,null,null,null,null,null,null,null,null,null,null,12,"League Cup","1986-10-14","Walsall","(H)","W 3-2","Horne","Stevens (--)","N Coleman","Briley","Walker","McLeary","Byrne","Mehmet []","Sheringham","Marks","Salman","Leslie (--)",null,"Morgan []"]
[null,null,null,null,null,null,null,null,null,null,null,null,null,null,null,null,null,null,null,null,16,"League Cup","1986-10-29","Norwich","(A)","L 1-4","Sansome","Stevens","N Coleman","Briley","Walker","McLeary","Byrne","Morgan","Sheringham","Marks (--)","Salman","Leslie (--)",null,"P Coleman"]
[]
[]
[]
[]
[]
[]
[]
[null,null,null,null,null,null,null,null,null,null,null,null,null,null,null,null,null,null,null,null,14,"Full Members","1986-10-21","West Brom","(H)","W 2-0","Sansome","Stevens","N Coleman","P Coleman","Walker","McLeary","Byrne","Morgan","Sheringham","Marks","Leslie","Sparham",null,"Malcolm"]
[null,null,null,null,null,null,null,null,null,null,null,null,null,null,null,null,null,null,null,null,18,"Full Members","1986-11-04","Portsmouth","(A)","L 2-3","Horne","Salman","N Coleman","Morgan","Walker","McLeary","Byrne","Mehmet","Sheringham","Marks","Leslie","Booker",null,"Nutton"]
[]
[]
[]
[]
[]
[]
[]
[]
[null,null,null,null,null,null,null,null,null,null,null,null,null,null,null,null,null,null,null,null,null,{"$f":"AA156&\" [**\"","v":"Armstrong [**"},{"$f":"AA156&\" (**\"","v":"Armstrong (**"},{"$f":"AA156&Z156","v":"Armstrong**"},null,"**","Armstrong",{"$f":"COUNTIF($AA$75:$AK$116,$X156)","v":7},{"$f":"COUNTIF($AL$75:$AL$116,$W156)","v":0},{"$f":"COUNTIF($AL$75:$AL$116,$AA156)","v":0},{"$f":"COUNTIF($AA$126:$AK$128,$X156)","v":0},{"$f":"COUNTIF($AL$126:$AN$128,$W156)+COUNTIF($AL$126:$AN$128,$V156)","v":0},{"$f":"COUNTIF($AL$126:$AN$128,$AA156)","v":0},{"$f":"COUNTIF($AA$136:$AK$138,$X156)","v":0},{"$f":"COUNTIF($AL$136:$AN$138,$W156)+COUNTIF($AL$136:$AN$138,$V156)","v":0},{"$f":"COUNTIF($AL$136:$AN$138,$AA156)","v":0},{"$f":"COUNTIF($AA$146:$AK$147,$X156)","v":0},{"$f":"COUNTIF($AL$146:$AN$147,$W156)+COUNTIF($AL$146:$AN$147,$V156)","v":0},{"$f":"COUNTIF($AL$146:$AN$147,$AA156)","v":0}]
[null,null,null,null,null,null,null,null,null,null,null,null,null,null,null,null,null,null,null,null,null,{"$f":"AA157&\" [**\"","v":"Booker [**"},{"$f":"AA157&\" (**\"","v":"Booker (**"},{"$f":"AA157&Z157","v":"Booker**"},null,"**","Booker",1,{"$f":"COUNTIF($AL$75:$AL$116,$W157)","v":2},{"$f":"COUNTIF($AL$75:$AL$116,$AA157)","v":1},{"$f":"COUNTIF($AA$126:$AK$128,$X157)","v":0},{"$f":"COUNTIF($AL$126:$AN$128,$W157)+COUNTIF($AL$126:$AN$128,$V157)","v":0},{"$f":"COUNTIF($AL$126:$AN$128,$AA157)","v":1},1,{"$f":"COUNTIF($AL$136:$AN$138,$W157)+COUNTIF($AL$136:$AN$138,$V157)","v":0},{"$f":"COUNTIF($AL$136:$AN$138,$AA157)","v":0},0,{"$f":"COUNTIF($AL$146:$AN$147,$W157)+COUNTIF($AL$146:$AN$147,$V157)","v":0},{"$f":"COUNTIF($AL$146:$AN$147,$AA157)","v":1}]
[null,null,null,null,null,null,null,null,null,null,null,null,null,null,null,null,null,null,null,null,null,"Briley [**","Briley (**","Briley**",null,"**","Briley",33,0,0,3,0,0,3,0,0,0,0,0]
[null,null,null,null,null,null,null,null,null,null,null,null,null,null,null,null,null,null,null,null,null,"Byrne [**","Byrne (**","Byrne**",null,"**","Byrne",35,5,2,3,0,0,3,0,0,2,0,0]
[null,null,null,null,null,null,null,null,null,null,null,null,null,null,null,null,null,null,null,null,null,"Carter [**","Carter (**","Carter**",null,"**","Carter",12,0,0,0,0,0,0,0,0,0,0,0]
[null,null,null,null,null,null,null,null,null,null,null,null,null,null,null,null,null,null,null,null,null,"Cochrane [**","Cochrane (**","Cochrane**",null,"**","Cochrane",1,0,1,0,0,0,0,0,0,0,0,0]
[null,null,null,null,null,null,null,null,null,null,null,null,null,null,null,null,null,null,null,null,null,"N Coleman [**","N Coleman (**","N Coleman**",null,"**","N Coleman",42,0,0,3,0,0,2,0,1,2,0,0]
[null,null,null,null,null,null,null,null,null,null,null,null,null,null,null,null,null,null,null,null,null,"P Coleman [**","P Coleman (**","P Coleman**",null,"**","P Coleman",8,2,2,0,0,3,0,0,1,1,0,0]
[null,null,null,null,null,null,null,null,null,null,null,null,null,null,null,null,null,null,null,null,null,"Fishenden [**","Fishenden (**","Fishenden**",null,"**","Fishenden",3,0,0,0,0,0,0,0,1,0,0,0]
[null,null,null,null,null,null,null,null,null,null,null,null,null,null,null,null,null,null,null,null,null,"Hinshelwood [**","Hinshelwood (**","Hinshelwood**",null,"**","Hinshelwood",4,0,0,0,0,0,0,0,0,0,0,0]
[null,null,null,null,null,null,null,null,null,null,null,null,null,null,null,null,null,null,null,null,null,"Horne [**","Horne (**","Horne**",null,"**","Horne",32,0,0,3,0,0,2,0,0,1,0,0]
[null,null,null,null,null,null,null,null,null,null,null,null,null,null,null,null,null,null,null,null,null,"Hurlock [**","Hurlock (**","Hurlock**",null,"**","Hurlock",13,0,0,0,0,0,0,0,0,0,0,0]
[null,null,null,null,null,null,null,null,null,null,null,null,null,null,null,null,null,null,null,null,null,"Leslie [**","Leslie (**","Leslie**",null,"**","Leslie",3,1,10,2,1,0,0,2,0,2,0,0]
[null,null,null,null,null,null,null,null,null,null,null,null,null,null,null,null,null,null,null,null,null,"Lovell [**","Lovell (**","Lovell**",null,"**","Lovell",0,0,0,0,1,0,0,0,0,0,0,0]
[null,null,null,null,null,null,null,null,null,null,null,null,null,null,null,null,null,null,null,null,null,"Malcolm [**","Malcolm (**","Malcolm**",null,"**","Malcolm",0,0,0,0,0,0,0,0,0,0,0,1]
[null,null,null,null,null,null,null,null,null,null,null,null,null,null,null,null,null,null,null,null,null,"Marks [**","Marks (**","Marks**",null,"**","Marks",36,0,0,3,0,0,3,0,0,2,0,0]
[null,null,null,null,null,null,null,null,null,null,null,null,null,null,null,null,null,null,null,null,null,"McLeary [**","McLeary (**","McLeary**",null,"**","McLeary",42,0,0,3,0,0,3,0,0,2,0,0]
[null,null,null,null,null,null,null,null,null,null,null,null,null,null,null,null,null,null,null,null,null,"Mehmet [**","Mehmet (**","Mehmet**",null,"**","Mehmet",16,2,1,0,0,0,2,0,0,1,0,0]
[null,null,null,null,null,null,null,null,null,null,null,null,null,null,null,null,null,null,null,null,null,"Morgan [**","Morgan (**","Morgan**",null,"**","Morgan",17,4,6,3,0,0,1,1,0,2,0,0]
[null,null,null,null,null,null,null,null,null,null,null,null,null,null,null,null,null,null,null,null,null,"Nutton [**","Nutton (**","Nutton**",null,"**","Nutton",0,0,0,0,0,0,0,0,0,0,0,1]
[null,null,null,null,null,null,null,null,null,null,null,null,null,null,null,null,null,null,null,null,null,"Salman [**","Salman (**","Salman**",null,"**","Salman",31,0,0,1,0,0,3,0,0,1,0,0]
[null,null,null,null,null,null,null,null,null,null,null,null,null,null,null,null,null,null,null,null,null,"Sansome [**","Sansome (**","Sansome**",null,"**","Sansome",10,0,0,0,0,0,1,0,0,1,0,0]
[null,null,null,null,null,null,null,null,null,null,null,null,null,null,null,null,null,null,null,null,null,"Sheringham [**","Sheringham (**","Sheringham**",null,"**","Sheringham",42,0,0,3,0,0,3,0,0,2,0,0]
[null,null,null,null,null,null,null,null,null,null,null,null,null,null,null,null,null,null,null,null,null,"Sparham [**","Sparham (**","Sparham**",null,"**","Sparham",0,0,1,0,0,0,0,0,0,0,0,1]
[null,null,null,null,null,null,null,null,null,null,null,null,null,null,null,null,null,null,null,null,null,"Stevens [**","Stevens (**","Stevens**",null,"**","Stevens",34,1,1,3,0,0,3,0,0,1,0,0]
[null,null,null,null,null,null,null,null,null,null,null,null,null,null,null,null,null,null,null,null,null,"Walker [**","Walker (**","Walker**",null,"**","Walker",40,0,0,3,0,0,3,0,0,2,0,0]
[]
[]
[null,null,null,null,null,null,null,null,null,null,null,null,null,null,null,null,null,null,null,null,null,null,null,null,null,null,null,{"$f":"SUM(AB156:AB183)/11","v":42}]

{"sheet":"Comparisons","index":1,"n_rows":413,"n_cols":119,"rows_kept":413,"cut":false,"hidden":false,"merged":[]}
[]
[null,null,null,null,null,null,null,null,null,null,{"$f":"IF(K3=0,0,1)","v":1},{"$f":"IF(L3=0,0,1)","v":1},1,1,1,1,1,1,1,1,1,1,1,1,1,1,1,1,1,1,1,1,1,1,1,1,0,0,0,0,0,0,0,0,null,null,null,null,null,null,null,null,null,null,null,null,null,null,null,null,null,null,null,null,null,null,null,null,null,null,null,{"$f":"IF(BT3=0,0,1)","v":1},1,1,1,1,1,1,1,1,1,1,1]
["Formulas",null,null,null,null,"Date",null,"Opponents","Venue / Result",null,{"$f":"$CM$5","v":"Armstrong"},{"$f":"$CM$6","v":"Booker"},{"$f":"$CM$7","v":"Briley"},{"$f":"$CM$8","v":"Byrne"},{"$f":"$CM$9","v":"Carter"},{"$f":"$CM$10","v":"Cochrane"},{"$f":"$CM$11","v":"N Coleman"},{"$f":"$CM$12","v":"P Coleman"},{"$f":"$CM$13","v":"Fishenden"},{"$f":"$CM$14","v":"Hinshelwood"},{"$f":"$CM$15","v":"Horne"},{"$f":"$CM$16","v":"Hurlock"},{"$f":"$CM$17","v":"Leslie"},{"$f":"$CM$18","v":"Lovell"},{"$f":"$CM$19","v":"Malcolm"},{"$f":"$CM$20","v":"Marks"},{"$f":"$CM$21","v":"McLeary"},{"$f":"$CM$22","v":"Mehmet"},{"$f":"$CM$23","v":"Morgan"},{"$f":"$CM$24","v":"Nutton"},{"$f":"$CM$25","v":"Salman"},{"$f":"$CM$26","v":"Sansome"},{"$f":"$CM$27","v":"Sheringham"},{"$f":"$CM$28","v":"Sparham"},{"$f":"$CM$29","v":"Stevens"},{"$f":"$CM$30","v":"Walker"},{"$f":"$CM$31","v":0},{"$f":"$CM$32","v":0},{"$f":"$CM$33","v":0},{"$f":"$CM$34","v":0},{"$f":"$CM$35","v":0},{"$f":"$CM$36","v":0},{"$f":"$CM$37","v":0},{"$f":"$CM$38","v":0},null,null,null,null,null,{"$f":"$CN$5","v":"Armstrong (**"},{"$f":"$CN$6","v":"Booker (**"},{"$f":"$CN$7","v":"Briley (**"},{"$f":"$CN$8","v":"Byrne (**"},{"$f":"$CN$9","v":"Carter (**"},{"$f":"$CN$10","v":"Cochrane (**"},{"$f":"$CN$11","v":"N Coleman (**"},{"$f":"$CN$12","v":"P Coleman (**"},{"$f":"$CN$13","v":"Fishenden (**"},{"$f":"$CN$14","v":"Hinshelwood (**"},{"$f":"$CN$15","v":"Horne (**"},{"$f":"$CN$16","v":"Hurlock (**"},{"$f":"$CN$17","v":"Leslie (**"},{"$f":"$CN$18","v":"Lovell (**"},{"$f":"$CN$19","v":"Malcolm (**"},{"$f":"$CN$20","v":"Marks (**"},{"$f":"$CN$21","v":"McLeary (**"},{"$f":"$CN$22","v":"Mehmet (**"},{"$f":"$CN$23","v":"Morgan (**"},{"$f":"$CN$24","v":"Nutton (**"},{"$f":"$CN$25","v":"Salman (**"},{"$f":"$CN$26","v":"Sansome (**"},{"$f":"$CN$27","v":"Sheringham (**"},{"$f":"$CN$28","v":"Sparham (**"},{"$f":"$CN$29","v":"Stevens (**"},{"$f":"$CN$30","v":"Walker (**"},{"$f":"$CN$31","v":"0 (**"},{"$f":"$CN$32","v":"0 (**"},{"$f":"$CN$33","v":"0 (**"},{"$f":"$CN$34","v":"0 (**"},{"$f":"$CN$35","v":"0 (**"},{"$f":"$CN$36","v":"0 (**"},{"$f":"$CN$37","v":"0 (**"},{"$f":"$CN$38","v":"0 (**"},null,null,{"$f":"$CL$5","v":"Armstrong [**"},{"$f":"$CL$6","v":"Booker [**"},{"$f":"$CL$7","v":"Briley [**"},{"$f":"$CL$8","v":"Byrne [**"},{"$f":"$CL$9","v":"Carter [**"},{"$f":"$CL$10","v":"Cochrane [**"},{"$f":"$CL$11","v":"N Coleman [**"},{"$f":"$CL$12","v":"P Coleman [**"},{"$f":"$CL$13","v":"Fishenden [**"},{"$f":"$CL$14","v":"Hinshelwood [**"},{"$f":"$CL$15","v":"Horne [**"},{"$f":"$CL$16","v":"Hurlock [**"},{"$f":"$CL$17","v":"Leslie [**"},{"$f":"$CL$18","v":"Lovell [**"},{"$f":"$CL$19","v":"Malcolm [**"},{"$f":"$CL$20","v":"Marks [**"},{"$f":"$CL$21","v":"McLeary [**"},{"$f":"$CL$22","v":"Mehmet [**"},{"$f":"$CL$23","v":"Morgan [**"},{"$f":"$CL$24","v":"Nutton [**"},{"$f":"$CL$25","v":"Salman [**"},{"$f":"$CL$26","v":"Sansome [**"},{"$f":"$CL$27","v":"Sheringham [**"},{"$f":"$CL$28","v":"Sparham [**"},{"$f":"$CL$29","v":"Stevens [**"},{"$f":"$CL$30","v":"Walker [**"},{"$f":"$CL$31","v":"0 [**"},{"$f":"$CL$32","v":"0 [**"},{"$f":"$CL$33","v":"0 [**"},{"$f":"$CL$34","v":"0 [**"},{"$f":"$CL$35","v":"0 [**"},{"$f":"$CL$36","v":"0 [**"},{"$f":"$CL$37","v":"0 [**"},{"$f":"$CL$38","v":"0 [**"}]
[null,null,1,null,null,null,null,null,null,null,{"$f":"$CM$5&\"**\"","v":"Armstrong**"},{"$f":"$CM$6&\"**\"","v":"Booker**"},{"$f":"$CM$7&\"**\"","v":"Briley**"},{"$f":"$CM$8&\"**\"","v":"Byrne**"},{"$f":"$CM$9&\"**\"","v":"Carter**"},{"$f":"$CM$10&\"**\"","v":"Cochrane**"},{"$f":"$CM$11&\"**\"","v":"N Coleman**"},{"$f":"$CM$12&\"**\"","v":"P Coleman**"},{"$f":"$CM$13&\"**\"","v":"Fishenden**"},{"$f":"$CM$14&\"**\"","v":"Hinshelwood**"},{"$f":"$CM$15&\"**\"","v":"Horne**"},{"$f":"$CM$16&\"**\"","v":"Hurlock**"},{"$f":"$CM$17&\"**\"","v":"Leslie**"},{"$f":"$CM$18&\"**\"","v":"Lovell**"},{"$f":"$CM$19&\"**\"","v":"Malcolm**"},{"$f":"$CM$20&\"**\"","v":"Marks**"},{"$f":"$CM$21&\"**\"","v":"McLeary**"},{"$f":"$CM$22&\"**\"","v":"Mehmet**"},{"$f":"$CM$23&\"**\"","v":"Morgan**"},{"$f":"$CM$24&\"**\"","v":"Nutton**"},{"$f":"$CM$25&\"**\"","v":"Salman**"},{"$f":"$CM$26&\"**\"","v":"Sansome**"},{"$f":"$CM$27&\"**\"","v":"Sheringham**"},{"$f":"$CM$28&\"**\"","v":"Sparham**"},{"$f":"$CM$29&\"**\"","v":"Stevens**"},{"$f":"$CM$30&\"**\"","v":"Walker**"},{"$f":"$CM$31&\"**\"","v":"0**"},{"$f":"$CM$32&\"**\"","v":"0**"},{"$f":"$CM$33&\"**\"","v":"0**"},{"$f":"$CM$34&\"**\"","v":"0**"},{"$f":"$CM$35&\"**\"","v":"0**"},{"$f":"$CM$36&\"**\"","v":"0**"},{"$f":"$CM$37&\"**\"","v":"0**"},null,null,null,null,null,null,{"$f":"$CO$5","v":"Armstrong**"},{"$f":"$CO$6","v":"Booker**"},{"$f":"$CO$7","v":"Briley**"},{"$f":"$CO$8","v":"Byrne**"},{"$f":"$CO$9","v":"Carter**"},{"$f":"$CO$10","v":"Cochrane**"},{"$f":"$CO$11","v":"N Coleman**"},{"$f":"$CO$12","v":"P Coleman**"},{"$f":"$CO$13","v":"Fishenden**"},{"$f":"$CO$14","v":"Hinshelwood**"},{"$f":"$CO$15","v":"Horne**"},{"$f":"$CO$16","v":"Hurlock**"},{"$f":"$CO$17","v":"Leslie**"},{"$f":"$CO$18","v":"Lovell**"},{"$f":"$CO$19","v":"Malcolm**"},{"$f":"$CO$20","v":"Marks**"},{"$f":"$CO$21","v":"McLeary**"},{"$f":"$CO$22","v":"Mehmet**"},{"$f":"$CO$23","v":"Morgan**"},{"$f":"$CO$24","v":"Nutton**"},{"$f":"$CO$25","v":"Salman**"},{"$f":"$CO$26","v":"Sansome**"},{"$f":"$CO$27","v":"Sheringham**"},{"$f":"$CO$28","v":"Sparham**"},{"$f":"$CO$29","v":"Stevens**"},{"$f":"$CO$30","v":"Walker**"},{"$f":"$CO$31","v":"0**"},{"$f":"$CO$32","v":"0**"},{"$f":"$CO$33","v":"0**"},{"$f":"$CO$34","v":"0**"},{"$f":"$CO$35","v":"0**"},{"$f":"$CO$36","v":"0**"},{"$f":"$CO$37","v":"0**"},{"$f":"$CO$38","v":"0**"}]
[null,null,{"$f":"IF(J5=0,1,0)","v":0},1,null,{"$f":"Millwall!W75","v":"1986-08-23"},null,{"$f":"Millwall!X75","v":"Reading"},{"$f":"Millwall!Y75","v":"(A)"},{"$f":"Millwall!Z75","v":"W 1-0"},{"$f":"MATCH(K$4,Millwall!$AA75:$AL75,0)","v":{"$error":"#N/A"}},{"$f":"MATCH(L$4,Millwall!$AA75:$AL75,0)","v":{"$error":"#N/A"}},{"$f":"MATCH(M$4,Millwall!$AA75:$AL75,0)","v":4},{"$f":"MATCH(N$4,Millwall!$AA75:$AL75,0)","v":7},{"$f":"MATCH(O$4,Millwall!$AA75:$AL75,0)","v":{"$error":"#N/A"}},{"$f":"MATCH(P$4,Millwall!$AA75:$AL75,0)","v":{"$error":"#N/A"}},{"$f":"MATCH(Q$4,Millwall!$AA75:$AL75,0)","v":3},{"$f":"MATCH(R$4,Millwall!$AA75:$AL75,0)","v":{"$error":"#N/A"}},{"$f":"MATCH(S$4,Millwall!$AA75:$AL75,0)","v":{"$error":"#N/A"}},{"$f":"MATCH(T$4,Millwall!$AA75:$AL75,0)","v":11},{"$f":"MATCH(U$4,Millwall!$AA75:$AL75,0)","v":{"$error":"#N/A"}},{"$f":"MATCH(V$4,Millwall!$AA75:$AL75,0)","v":{"$error":"#N/A"}},{"$f":"MATCH(W$4,Millwall!$AA75:$AL75,0)","v":12},{"$f":"MATCH(X$4,Millwall!$AA75:$AL75,0)","v":{"$error":"#N/A"}},{"$f":"MATCH(Y$4,Millwall!$AA75:$AL75,0)","v":{"$error":"#N/A"}},{"$f":"MATCH(Z$4,Millwall!$AA75:$AL75,0)","v":10},{"$f":"MATCH(AA$4,Millwall!$AA75:$AL75,0)","v":6},{"$f":"MATCH(AB$4,Millwall!$AA75:$AL75,0)","v":{"$error":"#N/A"}},{"$f":"MATCH(AC$4,Millwall!$AA75:$AL75,0)","v":{"$error":"#N/A"}},{"$f":"MATCH(AD$4,Millwall!$AA75:$AL75,0)","v":{"$error":"#N/A"}},{"$f":"MATCH(AE$4,Millwall!$AA75:$AL75,0)","v":8},{"$f":"MATCH(AF$4,Millwall!$AA75:$AL75,0)","v":1},{"$f":"MATCH(AG$4,Millwall!$AA75:$AL75,0)","v":9},{"$f":"MATCH(AH$4,Millwall!$AA75:$AL75,0)","v":{"$error":"#N/A"}},{"$f":"MATCH(AI$4,Millwall!$AA75:$AL75,0)","v":2},{"$f":"MATCH(AJ$4,Millwall!$AA75:$AL75,0)","v":5},{"$f":"MATCH(AK$4,Millwall!$AA75:$AL75,0)","v":{"$error":"#N/A"}},{"$f":"MATCH(AL$4,Millwall!$AA75:$AL75,0)","v":{"$error":"#N/A"}},{"$f":"MATCH(AM$4,Millwall!$AA75:$AL75,0)","v":{"$error":"#N/A"}},{"$f":"MATCH(AN$4,Millwall!$AA75:$AL75,0)","v":{"$error":"#N/A"}},{"$f":"MATCH(AO$4,Millwall!$AA75:$AL75,0)","v":{"$error":"#N/A"}},{"$f":"MATCH(AP$4,Millwall!$AA75:$AL75,0)","v":{"$error":"#N/A"}},{"$f":"MATCH(AQ$4,Millwall!$AA75:$AL75,0)","v":{"$error":"#N/A"}},{"$f":"MATCH(AR$4,Millwall!$AD75:$AO75,0)","v":{"$error":"#N/A"}},null,null,null,null,null,{"$f":"MATCH(AX$3,Millwall!$AA75:$AL75,0)","v":{"$error":"#N/A"}},{"$f":"MATCH(AY$3,Millwall!$AA75:$AL75,0)","v":{"$error":"#N/A"}},{"$f":"MATCH(AZ$3,Millwall!$AA75:$AL75,0)","v":{"$error":"#N/A"}},{"$f":"MATCH(BA$3,Millwall!$AA75:$AL75,0)","v":{"$error":"#N/A"}},{"$f":"MATCH(BB$3,Millwall!$AA75:$AL75,0)","v":{"$error":"#N/A"}},{"$f":"MATCH(BC$3,Millwall!$AA75:$AL75,0)","v":{"$error":"#N/A"}},{"$f":"MATCH(BD$3,Millwall!$AA75:$AL75,0)","v":{"$error":"#N/A"}},{"$f":"MATCH(BE$3,Millwall!$AA75:$AL75,0)","v":{"$error":"#N/A"}},{"$f":"MATCH(BF$3,Millwall!$AA75:$AL75,0)","v":{"$error":"#N/A"}},{"$f":"MATCH(BG$3,Millwall!$AA75:$AL75,0)","v":{"$error":"#N/A"}},{"$f":"MATCH(BH$3,Millwall!$AA75:$AL75,0)","v":{"$error":"#N/A"}},{"$f":"MATCH(BI$3,Millwall!$AA75:$AL75,0)","v":{"$error":"#N/A"}},{"$f":"MATCH(BJ$3,Millwall!$AA75:$AL75,0)","v":{"$error":"#N/A"}},{"$f":"MATCH(BK$3,Millwall!$AA75:$AL75,0)","v":{"$error":"#N/A"}},{"$f":"MATCH(BL$3,Millwall!$AA75:$AL75,0)","v":{"$error":"#N/A"}},{"$f":"MATCH(BM$3,Millwall!$AA75:$AL75,0)","v":{"$error":"#N/A"}},{"$f":"MATCH(BN$3,Millwall!$AA75:$AL75,0)","v":{"$error":"#N/A"}},{"$f":"MATCH(BO$3,Millwall!$AA75:$AL75,0)","v":{"$error":"#N/A"}},{"$f":"MATCH(BP$3,Millwall!$AA75:$AL75,0)","v":{"$error":"#N/A"}},{"$f":"MATCH(BQ$3,Millwall!$AA75:$AL75,0)","v":{"$error":"#N/A"}},{"$f":"MATCH(BR$3,Millwall!$AA75:$AL75,0)","v":{"$error":"#N/A"}},{"$f":"MATCH(BS$3,Millwall!$AA75:$AL75,0)","v":{"$error":"#N/A"}},{"$f":"MATCH(BT$3,Millwall!$AA75:$AL75,0)","v":{"$error":"#N/A"}},{"$f":"MATCH(BU$3,Millwall!$AA75:$AL75,0)","v":{"$error":"#N/A"}},{"$f":"MATCH(BV$3,Millwall!$AA75:$AL75,0)","v":{"$error":"#N/A"}},{"$f":"MATCH(BW$3,Millwall!$AA75:$AL75,0)","v":{"$error":"#N/A"}},{"$f":"MATCH(BX$3,Millwall!$AA75:$AL75,0)","v":{"$error":"#N/A"}},{"$f":"MATCH(BY$3,Millwall!$AA75:$AL75,0)","v":{"$error":"#N/A"}},{"$f":"MATCH(BZ$3,Millwall!$AA75:$AL75,0)","v":{"$error":"#N/A"}},{"$f":"MATCH(CA$3,Millwall!$AA75:$AL75,0)","v":{"$error":"#N/A"}},{"$f":"MATCH(CB$3,Millwall!$AA75:$AL75,0)","v":{"$error":"#N/A"}},{"$f":"MATCH(CC$3,Millwall!$AA75:$AL75,0)","v":{"$error":"#N/A"}},{"$f":"MATCH(CD$3,Millwall!$AA75:$AL75,0)","v":{"$error":"#N/A"}},{"$f":"MATCH(CE$3,Millwall!$AA75:$AL75,0)","v":{"$error":"#N/A"}},null,null,null,null,null,null,{"$f":"$CM$5&\" [**\"","v":"Armstrong [**"},{"$f":"Millwall!$AA156","v":"Armstrong"},{"$f":"CM5&\" (**\"","v":"Armstrong (**"},{"$f":"$CM$5&\"**\"","v":"Armstrong**"},null,{"$f":"$CM$5","v":"Armstrong"},{"$f":"$CN$5","v":"Armstrong (**"},{"$f":"$CO$5","v":"Armstrong**"},null,{"$f":"Millwall!$BZ9","v":0},{"$f":"Millwall!$CE9","v":0},{"$f":"Millwall!$CJ9","v":0},{"$f":"Millwall!$CO9","v":0}]
[null,null,0,2,null,{"$f":"Millwall!W76","v":"1986-08-26"},null,{"$f":"Millwall!X76","v":"Hull City"},{"$f":"Millwall!Y76","v":"(H)"},{"$f":"Millwall!Z76","v":"L 0-1"},{"$f":"MATCH(K$4,Millwall!$AA76:$AL76,0)","v":{"$error":"#N/A"}},{"$f":"MATCH(L$4,Millwall!$AA76:$AL76,0)","v":{"$error":"#N/A"}},{"$f":"MATCH(M$4,Millwall!$AA76:$AL76,0)","v":4},{"$f":"MATCH(N$4,Millwall!$AA76:$AL76,0)","v":7},{"$f":"MATCH(O$4,Millwall!$AA76:$AL76,0)","v":{"$error":"#N/A"}},{"$f":"MATCH(P$4,Millwall!$AA76:$AL76,0)","v":{"$error":"#N/A"}},{"$f":"MATCH(Q$4,Millwall!$AA76:$AL76,0)","v":3},{"$f":"MATCH(R$4,Millwall!$AA76:$AL76,0)","v":{"$error":"#N/A"}},{"$f":"MATCH(S$4,Millwall!$AA76:$AL76,0)","v":{"$error":"#N/A"}},{"$f":"MATCH(T$4,Millwall!$AA76:$AL76,0)","v":11},{"$f":"MATCH(U$4,Millwall!$AA76:$AL76,0)","v":{"$error":"#N/A"}},{"$f":"MATCH(V$4,Millwall!$AA76:$AL76,0)","v":{"$error":"#N/A"}},{"$f":"MATCH(W$4,Millwall!$AA76:$AL76,0)","v":12},{"$f":"MATCH(X$4,Millwall!$AA76:$AL76,0)","v":{"$error":"#N/A"}},{"$f":"MATCH(Y$4,Millwall!$AA76:$AL76,0)","v":{"$error":"#N/A"}},{"$f":"MATCH(Z$4,Millwall!$AA76:$AL76,0)","v":10},{"$f":"MATCH(AA$4,Millwall!$AA76:$AL76,0)","v":8},{"$f":"MATCH(AB$4,Millwall!$AA76:$AL76,0)","v":{"$error":"#N/A"}},{"$f":"MATCH(AC$4,Millwall!$AA76:$AL76,0)","v":{"$error":"#N/A"}},{"$f":"MATCH(AD$4,Millwall!$AA76:$AL76,0)","v":{"$error":"#N/A"}},{"$f":"MATCH(AE$4,Millwall!$AA76:$AL76,0)","v":6},{"$f":"MATCH(AF$4,Millwall!$AA76:$AL76,0)","v":1},{"$f":"MATCH(AG$4,Millwall!$AA76:$AL76,0)","v":9},{"$f":"MATCH(AH$4,Millwall!$AA76:$AL76,0)","v":{"$error":"#N/A"}},{"$f":"MATCH(AI$4,Millwall!$AA76:$AL76,0)","v":2},{"$f":"MATCH(AJ$4,Millwall!$AA76:$AL76,0)","v":5},{"$f":"MATCH(AK$4,Millwall!$AA76:$AL76,0)","v":{"$error":"#N/A"}},{"$f":"MATCH(AL$4,Millwall!$AA76:$AL76,0)","v":{"$error":"#N/A"}},{"$f":"MATCH(AM$4,Millwall!$AA76:$AL76,0)","v":{"$error":"#N/A"}},{"$f":"MATCH(AN$4,Millwall!$AA76:$AL76,0)","v":{"$error":"#N/A"}},{"$f":"MATCH(AO$4,Millwall!$AA76:$AL76,0)","v":{"$error":"#N/A"}},{"$f":"MATCH(AP$4,Millwall!$AA76:$AL76,0)","v":{"$error":"#N/A"}},{"$f":"MATCH(AQ$4,Millwall!$AA76:$AL76,0)","v":{"$error":"#N/A"}},{"$f":"MATCH(AR$4,Millwall!$AD76:$AO76,0)","v":{"$error":"#N/A"}},null,null,null,null,null,{"$f":"MATCH(AX$3,Millwall!$AA76:$AL76,0)","v":{"$error":"#N/A"}},{"$f":"MATCH(AY$3,Millwall!$AA76:$AL76,0)","v":{"$error":"#N/A"}},{"$f":"MATCH(AZ$3,Millwall!$AA76:$AL76,0)","v":{"$error":"#N/A"}},{"$f":"MATCH(BA$3,Millwall!$AA76:$AL76,0)","v":{"$error":"#N/A"}},{"$f":"MATCH(BB$3,Millwall!$AA76:$AL76,0)","v":{"$error":"#N/A"}},{"$f":"MATCH(BC$3,Millwall!$AA76:$AL76,0)","v":{"$error":"#N/A"}},{"$f":"MATCH(BD$3,Millwall!$AA76:$AL76,0)","v":{"$error":"#N/A"}},{"$f":"MATCH(BE$3,Millwall!$AA76:$AL76,0)","v":{"$error":"#N/A"}},{"$f":"MATCH(BF$3,Millwall!$AA76:$AL76,0)","v":{"$error":"#N/A"}},{"$f":"MATCH(BG$3,Millwall!$AA76:$AL76,0)","v":{"$error":"#N/A"}},{"$f":"MATCH(BH$3,Millwall!$AA76:$AL76,0)","v":{"$error":"#N/A"}},{"$f":"MATCH(BI$3,Millwall!$AA76:$AL76,0)","v":{"$error":"#N/A"}},{"$f":"MATCH(BJ$3,Millwall!$AA76:$AL76,0)","v":{"$error":"#N/A"}},{"$f":"MATCH(BK$3,Millwall!$AA76:$AL76,0)","v":{"$error":"#N/A"}},{"$f":"MATCH(BL$3,Millwall!$AA76:$AL76,0)","v":{"$error":"#N/A"}},{"$f":"MATCH(BM$3,Millwall!$AA76:$AL76,0)","v":{"$error":"#N/A"}},{"$f":"MATCH(BN$3,Millwall!$AA76:$AL76,0)","v":{"$error":"#N/A"}},{"$f":"MATCH(BO$3,Millwall!$AA76:$AL76,0)","v":{"$error":"#N/A"}},{"$f":"MATCH(BP$3,Millwall!$AA76:$AL76,0)","v":{"$error":"#N/A"}},{"$f":"MATCH(BQ$3,Millwall!$AA76:$AL76,0)","v":{"$error":"#N/A"}},{"$f":"MATCH(BR$3,Millwall!$AA76:$AL76,0)","v":{"$error":"#N/A"}},{"$f":"MATCH(BS$3,Millwall!$AA76:$AL76,0)","v":{"$error":"#N/A"}},{"$f":"MATCH(BT$3,Millwall!$AA76:$AL76,0)","v":{"$error":"#N/A"}},{"$f":"MATCH(BU$3,Millwall!$AA76:$AL76,0)","v":{"$error":"#N/A"}},{"$f":"MATCH(BV$3,Millwall!$AA76:$AL76,0)","v":{"$error":"#N/A"}},{"$f":"MATCH(BW$3,Millwall!$AA76:$AL76,0)","v":{"$error":"#N/A"}},{"$f":"MATCH(BX$3,Millwall!$AA76:$AL76,0)","v":{"$error":"#N/A"}},{"$f":"MATCH(BY$3,Millwall!$AA76:$AL76,0)","v":{"$error":"#N/A"}},{"$f":"MATCH(BZ$3,Millwall!$AA76:$AL76,0)","v":{"$error":"#N/A"}},{"$f":"MATCH(CA$3,Millwall!$AA76:$AL76,0)","v":{"$error":"#N/A"}},{"$f":"MATCH(CB$3,Millwall!$AA76:$AL76,0)","v":{"$error":"#N/A"}},{"$f":"MATCH(CC$3,Millwall!$AA76:$AL76,0)","v":{"$error":"#N/A"}},{"$f":"MATCH(CD$3,Millwall!$AA76:$AL76,0)","v":{"$error":"#N/A"}},{"$f":"MATCH(CE$3,Millwall!$AA76:$AL76,0)","v":{"$error":"#N/A"}},null,null,null,null,null,null,{"$f":"$CM$6&\" [**\"","v":"Booker [**"},{"$f":"Millwall!$AA157","v":"Booker"},{"$f":"CM6&\" (**\"","v":"Booker (**"},{"$f":"$CM$6&\"**\"","v":"Booker**"},null,{"$f":"$CM$6","v":"Booker"},{"$f":"$CN$6","v":"Booker (**"},{"$f":"$CO$6","v":"Booker**"},null,{"$f":"Millwall!$BZ10","v":0},{"$f":"Millwall!$CE10","v":0},{"$f":"Millwall!$CJ10","v":0},{"$f":"Millwall!$CO10","v":0}]
[null,null,0,3,null,{"$f":"Millwall!W77","v":"1986-08-30"},null,{"$f":"Millwall!X77","v":"Barnsley"},{"$f":"Millwall!Y77","v":"(H)"},{"$f":"Millwall!Z77","v":"W 1-0"},{"$f":"MATCH(K$4,Millwall!$AA77:$AL77,0)","v":{"$error":"#N/A"}},{"$f":"MATCH(L$4,Millwall!$AA77:$AL77,0)","v":{"$error":"#N/A"}},{"$f":"MATCH(M$4,Millwall!$AA77:$AL77,0)","v":4},{"$f":"MATCH(N$4,Millwall!$AA77:$AL77,0)","v":7},{"$f":"MATCH(O$4,Millwall!$AA77:$AL77,0)","v":{"$error":"#N/A"}},{"$f":"MATCH(P$4,Millwall!$AA77:$AL77,0)","v":{"$error":"#N/A"}},{"$f":"MATCH(Q$4,Millwall!$AA77:$AL77,0)","v":3},{"$f":"MATCH(R$4,Millwall!$AA77:$AL77,0)","v":{"$error":"#N/A"}},{"$f":"MATCH(S$4,Millwall!$AA77:$AL77,0)","v":{"$error":"#N/A"}},{"$f":"MATCH(T$4,Millwall!$AA77:$AL77,0)","v":11},{"$f":"MATCH(U$4,Millwall!$AA77:$AL77,0)","v":{"$error":"#N/A"}},{"$f":"MATCH(V$4,Millwall!$AA77:$AL77,0)","v":{"$error":"#N/A"}},{"$f":"MATCH(W$4,Millwall!$AA77:$AL77,0)","v":{"$error":"#N/A"}},{"$f":"MATCH(X$4,Millwall!$AA77:$AL77,0)","v":{"$error":"#N/A"}},{"$f":"MATCH(Y$4,Millwall!$AA77:$AL77,0)","v":{"$error":"#N/A"}},{"$f":"MATCH(Z$4,Millwall!$AA77:$AL77,0)","v":10},{"$f":"MATCH(AA$4,Millwall!$AA77:$AL77,0)","v":8},{"$f":"MATCH(AB$4,Millwall!$AA77:$AL77,0)","v":12},{"$f":"MATCH(AC$4,Millwall!$AA77:$AL77,0)","v":{"$error":"#N/A"}},{"$f":"MATCH(AD$4,Millwall!$AA77:$AL77,0)","v":{"$error":"#N/A"}},{"$f":"MATCH(AE$4,Millwall!$AA77:$AL77,0)","v":6},{"$f":"MATCH(AF$4,Millwall!$AA77:$AL77,0)","v":1},{"$f":"MATCH(AG$4,Millwall!$AA77:$AL77,0)","v":9},{"$f":"MATCH(AH$4,Millwall!$AA77:$AL77,0)","v":{"$error":"#N/A"}},{"$f":"MATCH(AI$4,Millwall!$AA77:$AL77,0)","v":2},{"$f":"MATCH(AJ$4,Millwall!$AA77:$AL77,0)","v":5},{"$f":"MATCH(AK$4,Millwall!$AA77:$AL77,0)","v":{"$error":"#N/A"}},{"$f":"MATCH(AL$4,Millwall!$AA77:$AL77,0)","v":{"$error":"#N/A"}},{"$f":"MATCH(AM$4,Millwall!$AA77:$AL77,0)","v":{"$error":"#N/A"}},{"$f":"MATCH(AN$4,Millwall!$AA77:$AL77,0)","v":{"$error":"#N/A"}},{"$f":"MATCH(AO$4,Millwall!$AA77:$AL77,0)","v":{"$error":"#N/A"}},{"$f":"MATCH(AP$4,Millwall!$AA77:$AL77,0)","v":{"$error":"#N/A"}},{"$f":"MATCH(AQ$4,Millwall!$AA77:$AL77,0)","v":{"$error":"#N/A"}},{"$f":"MATCH(AR$4,Millwall!$AD77:$AO77,0)","v":{"$error":"#N/A"}},null,null,null,null,null,{"$f":"MATCH(AX$3,Millwall!$AA77:$AL77,0)","v":{"$error":"#N/A"}},{"$f":"MATCH(AY$3,Millwall!$AA77:$AL77,0)","v":{"$error":"#N/A"}},{"$f":"MATCH(AZ$3,Millwall!$AA77:$AL77,0)","v":{"$error":"#N/A"}},{"$f":"MATCH(BA$3,Millwall!$AA77:$AL77,0)","v":{"$error":"#N/A"}},{"$f":"MATCH(BB$3,Millwall!$AA77:$AL77,0)","v":{"$error":"#N/A"}},{"$f":"MATCH(BC$3,Millwall!$AA77:$AL77,0)","v":{"$error":"#N/A"}},{"$f":"MATCH(BD$3,Millwall!$AA77:$AL77,0)","v":{"$error":"#N/A"}},{"$f":"MATCH(BE$3,Millwall!$AA77:$AL77,0)","v":{"$error":"#N/A"}},{"$f":"MATCH(BF$3,Millwall!$AA77:$AL77,0)","v":{"$error":"#N/A"}},{"$f":"MATCH(BG$3,Millwall!$AA77:$AL77,0)","v":{"$error":"#N/A"}},{"$f":"MATCH(BH$3,Millwall!$AA77:$AL77,0)","v":{"$error":"#N/A"}},{"$f":"MATCH(BI$3,Millwall!$AA77:$AL77,0)","v":{"$error":"#N/A"}},{"$f":"MATCH(BJ$3,Millwall!$AA77:$AL77,0)","v":{"$error":"#N/A"}},{"$f":"MATCH(BK$3,Millwall!$AA77:$AL77,0)","v":{"$error":"#N/A"}},{"$f":"MATCH(BL$3,Millwall!$AA77:$AL77,0)","v":{"$error":"#N/A"}},{"$f":"MATCH(BM$3,Millwall!$AA77:$AL77,0)","v":{"$error":"#N/A"}},{"$f":"MATCH(BN$3,Millwall!$AA77:$AL77,0)","v":{"$error":"#N/A"}},{"$f":"MATCH(BO$3,Millwall!$AA77:$AL77,0)","v":{"$error":"#N/A"}},{"$f":"MATCH(BP$3,Millwall!$AA77:$AL77,0)","v":{"$error":"#N/A"}},{"$f":"MATCH(BQ$3,Millwall!$AA77:$AL77,0)","v":{"$error":"#N/A"}},{"$f":"MATCH(BR$3,Millwall!$AA77:$AL77,0)","v":{"$error":"#N/A"}},{"$f":"MATCH(BS$3,Millwall!$AA77:$AL77,0)","v":{"$error":"#N/A"}},{"$f":"MATCH(BT$3,Millwall!$AA77:$AL77,0)","v":{"$error":"#N/A"}},{"$f":"MATCH(BU$3,Millwall!$AA77:$AL77,0)","v":{"$error":"#N/A"}},{"$f":"MATCH(BV$3,Millwall!$AA77:$AL77,0)","v":{"$error":"#N/A"}},{"$f":"MATCH(BW$3,Millwall!$AA77:$AL77,0)","v":{"$error":"#N/A"}},{"$f":"MATCH(BX$3,Millwall!$AA77:$AL77,0)","v":{"$error":"#N/A"}},{"$f":"MATCH(BY$3,Millwall!$AA77:$AL77,0)","v":{"$error":"#N/A"}},{"$f":"MATCH(BZ$3,Millwall!$AA77:$AL77,0)","v":{"$error":"#N/A"}},{"$f":"MATCH(CA$3,Millwall!$AA77:$AL77,0)","v":{"$error":"#N/A"}},{"$f":"MATCH(CB$3,Millwall!$AA77:$AL77,0)","v":{"$error":"#N/A"}},{"$f":"MATCH(CC$3,Millwall!$AA77:$AL77,0)","v":{"$error":"#N/A"}},{"$f":"MATCH(CD$3,Millwall!$AA77:$AL77,0)","v":{"$error":"#N/A"}},{"$f":"MATCH(CE$3,Millwall!$AA77:$AL77,0)","v":{"$error":"#N/A"}},null,null,null,null,null,null,{"$f":"$CM$7&\" [**\"","v":"Briley [**"},{"$f":"Millwall!$AA158","v":"Briley"},"Briley (**",{"$f":"$CM$7&\"**\"","v":"Briley**"},null,{"$f":"$CM$7","v":"Briley"},{"$f":"$CN$7","v":"Briley (**"},{"$f":"$CO$7","v":"Briley**"},null,{"$f":"Millwall!$BZ11","v":3},{"$f":"Millwall!$CE11","v":0},{"$f":"Millwall!$CJ11","v":0},{"$f":"Millwall!$CO11","v":0}]
[null,null,0,4,null,{"$f":"Millwall!W78","v":"1986-09-02"},null,{"$f":"Millwall!X78","v":"Sheff Utd"},{"$f":"Millwall!Y78","v":"(A)"},{"$f":"Millwall!Z78","v":"L 1-2"},{"$f":"MATCH(K$4,Millwall!$AA78:$AL78,0)","v":{"$error":"#N/A"}},{"$f":"MATCH(L$4,Millwall!$AA78:$AL78,0)","v":{"$error":"#N/A"}},{"$f":"MATCH(M$4,Millwall!$AA78:$AL78,0)","v":4},{"$f":"MATCH(N$4,Millwall!$AA78:$AL78,0)","v":7},{"$f":"MATCH(O$4,Millwall!$AA78:$AL78,0)","v":{"$error":"#N/A"}},{"$f":"MATCH(P$4,Millwall!$AA78:$AL78,0)","v":{"$error":"#N/A"}},{"$f":"MATCH(Q$4,Millwall!$AA78:$AL78,0)","v":3},{"$f":"MATCH(R$4,Millwall!$AA78:$AL78,0)","v":{"$error":"#N/A"}},{"$f":"MATCH(S$4,Millwall!$AA78:$AL78,0)","v":{"$error":"#N/A"}},{"$f":"MATCH(T$4,Millwall!$AA78:$AL78,0)","v":11},{"$f":"MATCH(U$4,Millwall!$AA78:$AL78,0)","v":1},{"$f":"MATCH(V$4,Millwall!$AA78:$AL78,0)","v":{"$error":"#N/A"}},{"$f":"MATCH(W$4,Millwall!$AA78:$AL78,0)","v":{"$error":"#N/A"}},{"$f":"MATCH(X$4,Millwall!$AA78:$AL78,0)","v":{"$error":"#N/A"}},{"$f":"MATCH(Y$4,Millwall!$AA78:$AL78,0)","v":{"$error":"#N/A"}},{"$f":"MATCH(Z$4,Millwall!$AA78:$AL78,0)","v":10},{"$f":"MATCH(AA$4,Millwall!$AA78:$AL78,0)","v":8},{"$f":"MATCH(AB$4,Millwall!$AA78:$AL78,0)","v":12},{"$f":"MATCH(AC$4,Millwall!$AA78:$AL78,0)","v":{"$error":"#N/A"}},{"$f":"MATCH(AD$4,Millwall!$AA78:$AL78,0)","v":{"$error":"#N/A"}},{"$f":"MATCH(AE$4,Millwall!$AA78:$AL78,0)","v":6},{"$f":"MATCH(AF$4,Millwall!$AA78:$AL78,0)","v":{"$error":"#N/A"}},{"$f":"MATCH(AG$4,Millwall!$AA78:$AL78,0)","v":9},{"$f":"MATCH(AH$4,Millwall!$AA78:$AL78,0)","v":{"$error":"#N/A"}},{"$f":"MATCH(AI$4,Millwall!$AA78:$AL78,0)","v":2},{"$f":"MATCH(AJ$4,Millwall!$AA78:$AL78,0)","v":5},{"$f":"MATCH(AK$4,Millwall!$AA78:$AL78,0)","v":{"$error":"#N/A"}},{"$f":"MATCH(AL$4,Millwall!$AA78:$AL78,0)","v":{"$error":"#N/A"}},{"$f":"MATCH(AM$4,Millwall!$AA78:$AL78,0)","v":{"$error":"#N/A"}},{"$f":"MATCH(AN$4,Millwall!$AA78:$AL78,0)","v":{"$error":"#N/A"}},{"$f":"MATCH(AO$4,Millwall!$AA78:$AL78,0)","v":{"$error":"#N/A"}},{"$f":"MATCH(AP$4,Millwall!$AA78:$AL78,0)","v":{"$error":"#N/A"}},{"$f":"MATCH(AQ$4,Millwall!$AA78:$AL78,0)","v":{"$error":"#N/A"}},{"$f":"MATCH(AR$4,Millwall!$AD78:$AO78,0)","v":{"$error":"#N/A"}},null,null,null,null,null,{"$f":"MATCH(AX$3,Millwall!$AA78:$AL78,0)","v":{"$error":"#N/A"}},{"$f":"MATCH(AY$3,Millwall!$AA78:$AL78,0)","v":{"$error":"#N/A"}},{"$f":"MATCH(AZ$3,Millwall!$AA78:$AL78,0)","v":{"$error":"#N/A"}},{"$f":"MATCH(BA$3,Millwall!$AA78:$AL78,0)","v":{"$error":"#N/A"}},{"$f":"MATCH(BB$3,Millwall!$AA78:$AL78,0)","v":{"$error":"#N/A"}},{"$f":"MATCH(BC$3,Millwall!$AA78:$AL78,0)","v":{"$error":"#N/A"}},{"$f":"MATCH(BD$3,Millwall!$AA78:$AL78,0)","v":{"$error":"#N/A"}},{"$f":"MATCH(BE$3,Millwall!$AA78:$AL78,0)","v":{"$error":"#N/A"}},{"$f":"MATCH(BF$3,Millwall!$AA78:$AL78,0)","v":{"$error":"#N/A"}},{"$f":"MATCH(BG$3,Millwall!$AA78:$AL78,0)","v":11},{"$f":"MATCH(BH$3,Millwall!$AA78:$AL78,0)","v":{"$error":"#N/A"}},{"$f":"MATCH(BI$3,Millwall!$AA78:$AL78,0)","v":{"$error":"#N/A"}},{"$f":"MATCH(BJ$3,Millwall!$AA78:$AL78,0)","v":{"$error":"#N/A"}},{"$f":"MATCH(BK$3,Millwall!$AA78:$AL78,0)","v":{"$error":"#N/A"}},{"$f":"MATCH(BL$3,Millwall!$AA78:$AL78,0)","v":{"$error":"#N/A"}},{"$f":"MATCH(BM$3,Millwall!$AA78:$AL78,0)","v":{"$error":"#N/A"}},{"$f":"MATCH(BN$3,Millwall!$AA78:$AL78,0)","v":{"$error":"#N/A"}},{"$f":"MATCH(BO$3,Millwall!$AA78:$AL78,0)","v":12},{"$f":"MATCH(BP$3,Millwall!$AA78:$AL78,0)","v":{"$error":"#N/A"}},{"$f":"MATCH(BQ$3,Millwall!$AA78:$AL78,0)","v":{"$error":"#N/A"}},{"$f":"MATCH(BR$3,Millwall!$AA78:$AL78,0)","v":{"$error":"#N/A"}},{"$f":"MATCH(BS$3,Millwall!$AA78:$AL78,0)","v":{"$error":"#N/A"}},{"$f":"MATCH(BT$3,Millwall!$AA78:$AL78,0)","v":{"$error":"#N/A"}},{"$f":"MATCH(BU$3,Millwall!$AA78:$AL78,0)","v":{"$error":"#N/A"}},{"$f":"MATCH(BV$3,Millwall!$AA78:$AL78,0)","v":{"$error":"#N/A"}},{"$f":"MATCH(BW$3,Millwall!$AA78:$AL78,0)","v":{"$error":"#N/A"}},{"$f":"MATCH(BX$3,Millwall!$AA78:$AL78,0)","v":{"$error":"#N/A"}},{"$f":"MATCH(BY$3,Millwall!$AA78:$AL78,0)","v":{"$error":"#N/A"}},{"$f":"MATCH(BZ$3,Millwall!$AA78:$AL78,0)","v":{"$error":"#N/A"}},{"$f":"MATCH(CA$3,Millwall!$AA78:$AL78,0)","v":{"$error":"#N/A"}},{"$f":"MATCH(CB$3,Millwall!$AA78:$AL78,0)","v":{"$error":"#N/A"}},{"$f":"MATCH(CC$3,Millwall!$AA78:$AL78,0)","v":{"$error":"#N/A"}},{"$f":"MATCH(CD$3,Millwall!$AA78:$AL78,0)","v":{"$error":"#N/A"}},{"$f":"MATCH(CE$3,Millwall!$AA78:$AL78,0)","v":{"$error":"#N/A"}},null,null,null,null,null,null,{"$f":"$CM$8&\" [**\"","v":"Byrne [**"},{"$f":"Millwall!$AA159","v":"Byrne"},"Byrne (**",{"$f":"$CM$8&\"**\"","v":"Byrne**"},null,{"$f":"$CM$8","v":"Byrne"},{"$f":"$CN$8","v":"Byrne (**"},{"$f":"$CO$8","v":"Byrne**"},null,{"$f":"Millwall!$BZ12","v":4},{"$f":"Millwall!$CE12","v":0},{"$f":"Millwall!$CJ12","v":1},{"$f":"Millwall!$CO12","v":0}]
[null,null,0,5,null,{"$f":"Millwall!W79","v":"1986-09-06"},null,{"$f":"Millwall!X79","v":"Stoke"},{"$f":"Millwall!Y79","v":"(A)"},{"$f":"Millwall!Z79","v":"L 0-2"},{"$f":"MATCH(K$4,Millwall!$AA79:$AL79,0)","v":{"$error":"#N/A"}},{"$f":"MATCH(L$4,Millwall!$AA79:$AL79,0)","v":{"$error":"#N/A"}},{"$f":"MATCH(M$4,Millwall!$AA79:$AL79,0)","v":4},{"$f":"MATCH(N$4,Millwall!$AA79:$AL79,0)","v":7},{"$f":"MATCH(O$4,Millwall!$AA79:$AL79,0)","v":{"$error":"#N/A"}},{"$f":"MATCH(P$4,Millwall!$AA79:$AL79,0)","v":{"$error":"#N/A"}},{"$f":"MATCH(Q$4,Millwall!$AA79:$AL79,0)","v":3},{"$f":"MATCH(R$4,Millwall!$AA79:$AL79,0)","v":{"$error":"#N/A"}},{"$f":"MATCH(S$4,Millwall!$AA79:$AL79,0)","v":{"$error":"#N/A"}},{"$f":"MATCH(T$4,Millwall!$AA79:$AL79,0)","v":{"$error":"#N/A"}},{"$f":"MATCH(U$4,Millwall!$AA79:$AL79,0)","v":1},{"$f":"MATCH(V$4,Millwall!$AA79:$AL79,0)","v":{"$error":"#N/A"}},{"$f":"MATCH(W$4,Millwall!$AA79:$AL79,0)","v":{"$error":"#N/A"}},{"$f":"MATCH(X$4,Millwall!$AA79:$AL79,0)","v":{"$error":"#N/A"}},{"$f":"MATCH(Y$4,Millwall!$AA79:$AL79,0)","v":{"$error":"#N/A"}},{"$f":"MATCH(Z$4,Millwall!$AA79:$AL79,0)","v":10},{"$f":"MATCH(AA$4,Millwall!$AA79:$AL79,0)","v":8},{"$f":"MATCH(AB$4,Millwall!$AA79:$AL79,0)","v":11},{"$f":"MATCH(AC$4,Millwall!$AA79:$AL79,0)","v":12},{"$f":"MATCH(AD$4,Millwall!$AA79:$AL79,0)","v":{"$error":"#N/A"}},{"$f":"MATCH(AE$4,Millwall!$AA79:$AL79,0)","v":6},{"$f":"MATCH(AF$4,Millwall!$AA79:$AL79,0)","v":{"$error":"#N/A"}},{"$f":"MATCH(AG$4,Millwall!$AA79:$AL79,0)","v":9},{"$f":"MATCH(AH$4,Millwall!$AA79:$AL79,0)","v":{"$error":"#N/A"}},{"$f":"MATCH(AI$4,Millwall!$AA79:$AL79,0)","v":2},{"$f":"MATCH(AJ$4,Millwall!$AA79:$AL79,0)","v":5},{"$f":"MATCH(AK$4,Millwall!$AA79:$AL79,0)","v":{"$error":"#N/A"}},{"$f":"MATCH(AL$4,Millwall!$AA79:$AL79,0)","v":{"$error":"#N/A"}},{"$f":"MATCH(AM$4,Millwall!$AA79:$AL79,0)","v":{"$error":"#N/A"}},{"$f":"MATCH(AN$4,Millwall!$AA79:$AL79,0)","v":{"$error":"#N/A"}},{"$f":"MATCH(AO$4,Millwall!$AA79:$AL79,0)","v":{"$error":"#N/A"}},{"$f":"MATCH(AP$4,Millwall!$AA79:$AL79,0)","v":{"$error":"#N/A"}},{"$f":"MATCH(AQ$4,Millwall!$AA79:$AL79,0)","v":{"$error":"#N/A"}},{"$f":"MATCH(AR$4,Millwall!$AD79:$AO79,0)","v":{"$error":"#N/A"}},null,null,null,null,null,{"$f":"MATCH(AX$3,Millwall!$AA79:$AL79,0)","v":{"$error":"#N/A"}},{"$f":"MATCH(AY$3,Millwall!$AA79:$AL79,0)","v":{"$error":"#N/A"}},{"$f":"MATCH(AZ$3,Millwall!$AA79:$AL79,0)","v":{"$error":"#N/A"}},{"$f":"MATCH(BA$3,Millwall!$AA79:$AL79,0)","v":{"$error":"#N/A"}},{"$f":"MATCH(BB$3,Millwall!$AA79:$AL79,0)","v":{"$error":"#N/A"}},{"$f":"MATCH(BC$3,Millwall!$AA79:$AL79,0)","v":{"$error":"#N/A"}},{"$f":"MATCH(BD$3,Millwall!$AA79:$AL79,0)","v":{"$error":"#N/A"}},{"$f":"MATCH(BE$3,Millwall!$AA79:$AL79,0)","v":{"$error":"#N/A"}},{"$f":"MATCH(BF$3,Millwall!$AA79:$AL79,0)","v":{"$error":"#N/A"}},{"$f":"MATCH(BG$3,Millwall!$AA79:$AL79,0)","v":{"$error":"#N/A"}},{"$f":"MATCH(BH$3,Millwall!$AA79:$AL79,0)","v":{"$error":"#N/A"}},{"$f":"MATCH(BI$3,Millwall!$AA79:$AL79,0)","v":{"$error":"#N/A"}},{"$f":"MATCH(BJ$3,Millwall!$AA79:$AL79,0)","v":{"$error":"#N/A"}},{"$f":"MATCH(BK$3,Millwall!$AA79:$AL79,0)","v":{"$error":"#N/A"}},{"$f":"MATCH(BL$3,Millwall!$AA79:$AL79,0)","v":{"$error":"#N/A"}},{"$f":"MATCH(BM$3,Millwall!$AA79:$AL79,0)","v":{"$error":"#N/A"}},{"$f":"MATCH(BN$3,Millwall!$AA79:$AL79,0)","v":{"$error":"#N/A"}},{"$f":"MATCH(BO$3,Millwall!$AA79:$AL79,0)","v":{"$error":"#N/A"}},{"$f":"MATCH(BP$3,Millwall!$AA79:$AL79,0)","v":{"$error":"#N/A"}},{"$f":"MATCH(BQ$3,Millwall!$AA79:$AL79,0)","v":{"$error":"#N/A"}},{"$f":"MATCH(BR$3,Millwall!$AA79:$AL79,0)","v":{"$error":"#N/A"}},{"$f":"MATCH(BS$3,Millwall!$AA79:$AL79,0)","v":{"$error":"#N/A"}},{"$f":"MATCH(BT$3,Millwall!$AA79:$AL79,0)","v":{"$error":"#N/A"}},{"$f":"MATCH(BU$3,Millwall!$AA79:$AL79,0)","v":{"$error":"#N/A"}},{"$f":"MATCH(BV$3,Millwall!$AA79:$AL79,0)","v":{"$error":"#N/A"}},{"$f":"MATCH(BW$3,Millwall!$AA79:$AL79,0)","v":{"$error":"#N/A"}},{"$f":"MATCH(BX$3,Millwall!$AA79:$AL79,0)","v":{"$error":"#N/A"}},{"$f":"MATCH(BY$3,Millwall!$AA79:$AL79,0)","v":{"$error":"#N/A"}},{"$f":"MATCH(BZ$3,Millwall!$AA79:$AL79,0)","v":{"$error":"#N/A"}},{"$f":"MATCH(CA$3,Millwall!$AA79:$AL79,0)","v":{"$error":"#N/A"}},{"$f":"MATCH(CB$3,Millwall!$AA79:$AL79,0)","v":{"$error":"#N/A"}},{"$f":"MATCH(CC$3,Millwall!$AA79:$AL79,0)","v":{"$error":"#N/A"}},{"$f":"MATCH(CD$3,Millwall!$AA79:$AL79,0)","v":{"$error":"#N/A"}},{"$f":"MATCH(CE$3,Millwall!$AA79:$AL79,0)","v":{"$error":"#N/A"}},null,null,null,null,null,null,{"$f":"$CM$9&\" [**\"","v":"Carter [**"},{"$f":"Millwall!$AA160","v":"Carter"},"Carter (**",{"$f":"$CM$9&\"**\"","v":"Carter**"},null,{"$f":"$CM$9","v":"Carter"},{"$f":"$CN$9","v":"Carter (**"},{"$f":"$CO$9","v":"Carter**"},null,{"$f":"Millwall!$BZ13","v":1},{"$f":"Millwall!$CE13","v":0},{"$f":"Millwall!$CJ13","v":0},{"$f":"Millwall!$CO13","v":0}]
[null,null,0,6,null,{"$f":"Millwall!W80","v":"1986-09-13"},null,{"$f":"Millwall!X80","v":"Bradford"},{"$f":"Millwall!Y80","v":"(H)"},{"$f":"Millwall!Z80","v":"L 1-2"},{"$f":"MATCH(K$4,Millwall!$AA80:$AL80,0)","v":{"$error":"#N/A"}},{"$f":"MATCH(L$4,Millwall!$AA80:$AL80,0)","v":{"$error":"#N/A"}},{"$f":"MATCH(M$4,Millwall!$AA80:$AL80,0)","v":4},{"$f":"MATCH(N$4,Millwall!$AA80:$AL80,0)","v":7},{"$f":"MATCH(O$4,Millwall!$AA80:$AL80,0)","v":{"$error":"#N/A"}},{"$f":"MATCH(P$4,Millwall!$AA80:$AL80,0)","v":{"$error":"#N/A"}},{"$f":"MATCH(Q$4,Millwall!$AA80:$AL80,0)","v":3},{"$f":"MATCH(R$4,Millwall!$AA80:$AL80,0)","v":{"$error":"#N/A"}},{"$f":"MATCH(S$4,Millwall!$AA80:$AL80,0)","v":{"$error":"#N/A"}},{"$f":"MATCH(T$4,Millwall!$AA80:$AL80,0)","v":{"$error":"#N/A"}},{"$f":"MATCH(U$4,Millwall!$AA80:$AL80,0)","v":{"$error":"#N/A"}},{"$f":"MATCH(V$4,Millwall!$AA80:$AL80,0)","v":{"$error":"#N/A"}},{"$f":"MATCH(W$4,Millwall!$AA80:$AL80,0)","v":12},{"$f":"MATCH(X$4,Millwall!$AA80:$AL80,0)","v":{"$error":"#N/A"}},{"$f":"MATCH(Y$4,Millwall!$AA80:$AL80,0)","v":{"$error":"#N/A"}},{"$f":"MATCH(Z$4,Millwall!$AA80:$AL80,0)","v":10},{"$f":"MATCH(AA$4,Millwall!$AA80:$AL80,0)","v":8},{"$f":"MATCH(AB$4,Millwall!$AA80:$AL80,0)","v":{"$error":"#N/A"}},{"$f":"MATCH(AC$4,Millwall!$AA80:$AL80,0)","v":11},{"$f":"MATCH(AD$4,Millwall!$AA80:$AL80,0)","v":{"$error":"#N/A"}},{"$f":"MATCH(AE$4,Millwall!$AA80:$AL80,0)","v":6},{"$f":"MATCH(AF$4,Millwall!$AA80:$AL80,0)","v":1},{"$f":"MATCH(AG$4,Millwall!$AA80:$AL80,0)","v":9},{"$f":"MATCH(AH$4,Millwall!$AA80:$AL80,0)","v":{"$error":"#N/A"}},{"$f":"MATCH(AI$4,Millwall!$AA80:$AL80,0)","v":2},{"$f":"MATCH(AJ$4,Millwall!$AA80:$AL80,0)","v":5},{"$f":"MATCH(AK$4,Millwall!$AA80:$AL80,0)","v":{"$error":"#N/A"}},{"$f":"MATCH(AL$4,Millwall!$AA80:$AL80,0)","v":{"$error":"#N/A"}},{"$f":"MATCH(AM$4,Millwall!$AA80:$AL80,0)","v":{"$error":"#N/A"}},{"$f":"MATCH(AN$4,Millwall!$AA80:$AL80,0)","v":{"$error":"#N/A"}},{"$f":"MATCH(AO$4,Millwall!$AA80:$AL80,0)","v":{"$error":"#N/A"}},{"$f":"MATCH(AP$4,Millwall!$AA80:$AL80,0)","v":{"$error":"#N/A"}},{"$f":"MATCH(AQ$4,Millwall!$AA80:$AL80,0)","v":{"$error":"#N/A"}},{"$f":"MATCH(AR$4,Millwall!$AD80:$AO80,0)","v":{"$error":"#N/A"}},null,null,null,null,null,{"$f":"MATCH(AX$3,Millwall!$AA80:$AL80,0)","v":{"$error":"#N/A"}},{"$f":"MATCH(AY$3,Millwall!$AA80:$AL80,0)","v":{"$error":"#N/A"}},{"$f":"MATCH(AZ$3,Millwall!$AA80:$AL80,0)","v":{"$error":"#N/A"}},{"$f":"MATCH(BA$3,Millwall!$AA80:$AL80,0)","v":{"$error":"#N/A"}},{"$f":"MATCH(BB$3,Millwall!$AA80:$AL80,0)","v":{"$error":"#N/A"}},{"$f":"MATCH(BC$3,Millwall!$AA80:$AL80,0)","v":{"$error":"#N/A"}},{"$f":"MATCH(BD$3,Millwall!$AA80:$AL80,0)","v":{"$error":"#N/A"}},{"$f":"MATCH(BE$3,Millwall!$AA80:$AL80,0)","v":{"$error":"#N/A"}},{"$f":"MATCH(BF$3,Millwall!$AA80:$AL80,0)","v":{"$error":"#N/A"}},{"$f":"MATCH(BG$3,Millwall!$AA80:$AL80,0)","v":{"$error":"#N/A"}},{"$f":"MATCH(BH$3,Millwall!$AA80:$AL80,0)","v":{"$error":"#N/A"}},{"$f":"MATCH(BI$3,Millwall!$AA80:$AL80,0)","v":{"$error":"#N/A"}},{"$f":"MATCH(BJ$3,Millwall!$AA80:$AL80,0)","v":{"$error":"#N/A"}},{"$f":"MATCH(BK$3,Millwall!$AA80:$AL80,0)","v":{"$error":"#N/A"}},{"$f":"MATCH(BL$3,Millwall!$AA80:$AL80,0)","v":{"$error":"#N/A"}},{"$f":"MATCH(BM$3,Millwall!$AA80:$AL80,0)","v":{"$error":"#N/A"}},{"$f":"MATCH(BN$3,Millwall!$AA80:$AL80,0)","v":{"$error":"#N/A"}},{"$f":"MATCH(BO$3,Millwall!$AA80:$AL80,0)","v":{"$error":"#N/A"}},{"$f":"MATCH(BP$3,Millwall!$AA80:$AL80,0)","v":{"$error":"#N/A"}},{"$f":"MATCH(BQ$3,Millwall!$AA80:$AL80,0)","v":{"$error":"#N/A"}},{"$f":"MATCH(BR$3,Millwall!$AA80:$AL80,0)","v":{"$error":"#N/A"}},{"$f":"MATCH(BS$3,Millwall!$AA80:$AL80,0)","v":{"$error":"#N/A"}},{"$f":"MATCH(BT$3,Millwall!$AA80:$AL80,0)","v":{"$error":"#N/A"}},{"$f":"MATCH(BU$3,Millwall!$AA80:$AL80,0)","v":{"$error":"#N/A"}},{"$f":"MATCH(BV$3,Millwall!$AA80:$AL80,0)","v":{"$error":"#N/A"}},{"$f":"MATCH(BW$3,Millwall!$AA80:$AL80,0)","v":{"$error":"#N/A"}},{"$f":"MATCH(BX$3,Millwall!$AA80:$AL80,0)","v":{"$error":"#N/A"}},{"$f":"MATCH(BY$3,Millwall!$AA80:$AL80,0)","v":{"$error":"#N/A"}},{"$f":"MATCH(BZ$3,Millwall!$AA80:$AL80,0)","v":{"$error":"#N/A"}},{"$f":"MATCH(CA$3,Millwall!$AA80:$AL80,0)","v":{"$error":"#N/A"}},{"$f":"MATCH(CB$3,Millwall!$AA80:$AL80,0)","v":{"$error":"#N/A"}},{"$f":"MATCH(CC$3,Millwall!$AA80:$AL80,0)","v":{"$error":"#N/A"}},{"$f":"MATCH(CD$3,Millwall!$AA80:$AL80,0)","v":{"$error":"#N/A"}},{"$f":"MATCH(CE$3,Millwall!$AA80:$AL80,0)","v":{"$error":"#N/A"}},null,null,null,null,null,null,{"$f":"$CM$10&\" [**\"","v":"Cochrane [**"},{"$f":"Millwall!$AA161","v":"Cochrane"},"Cochrane (**",{"$f":"$CM$10&\"**\"","v":"Cochrane**"},null,{"$f":"$CM$10","v":"Cochrane"},{"$f":"$CN$10","v":"Cochrane (**"},{"$f":"$CO$10","v":"Cochrane**"},null,{"$f":"Millwall!$BZ14","v":0},{"$f":"Millwall!$CE14","v":0},{"$f":"Millwall!$CJ14","v":0},{"$f":"Millwall!$CO14","v":0}]
[null,null,0,7,null,{"$f":"Millwall!W81","v":"1986-09-20"},null,{"$f":"Millwall!X81","v":"Derby"},{"$f":"Millwall!Y81","v":"(A)"},{"$f":"Millwall!Z81","v":"D 1-1"},{"$f":"MATCH(K$4,Millwall!$AA81:$AL81,0)","v":{"$error":"#N/A"}},{"$f":"MATCH(L$4,Millwall!$AA81:$AL81,0)","v":{"$error":"#N/A"}},{"$f":"MATCH(M$4,Millwall!$AA81:$AL81,0)","v":4},{"$f":"MATCH(N$4,Millwall!$AA81:$AL81,0)","v":7},{"$f":"MATCH(O$4,Millwall!$AA81:$AL81,0)","v":{"$error":"#N/A"}},{"$f":"MATCH(P$4,Millwall!$AA81:$AL81,0)","v":{"$error":"#N/A"}},{"$f":"MATCH(Q$4,Millwall!$AA81:$AL81,0)","v":3},{"$f":"MATCH(R$4,Millwall!$AA81:$AL81,0)","v":{"$error":"#N/A"}},{"$f":"MATCH(S$4,Millwall!$AA81:$AL81,0)","v":11},{"$f":"MATCH(T$4,Millwall!$AA81:$AL81,0)","v":{"$error":"#N/A"}},{"$f":"MATCH(U$4,Millwall!$AA81:$AL81,0)","v":{"$error":"#N/A"}},{"$f":"MATCH(V$4,Millwall!$AA81:$AL81,0)","v":{"$error":"#N/A"}},{"$f":"MATCH(W$4,Millwall!$AA81:$AL81,0)","v":{"$error":"#N/A"}},{"$f":"MATCH(X$4,Millwall!$AA81:$AL81,0)","v":{"$error":"#N/A"}},{"$f":"MATCH(Y$4,Millwall!$AA81:$AL81,0)","v":{"$error":"#N/A"}},{"$f":"MATCH(Z$4,Millwall!$AA81:$AL81,0)","v":10},{"$f":"MATCH(AA$4,Millwall!$AA81:$AL81,0)","v":8},{"$f":"MATCH(AB$4,Millwall!$AA81:$AL81,0)","v":{"$error":"#N/A"}},{"$f":"MATCH(AC$4,Millwall!$AA81:$AL81,0)","v":12},{"$f":"MATCH(AD$4,Millwall!$AA81:$AL81,0)","v":{"$error":"#N/A"}},{"$f":"MATCH(AE$4,Millwall!$AA81:$AL81,0)","v":6},{"$f":"MATCH(AF$4,Millwall!$AA81:$AL81,0)","v":1},{"$f":"MATCH(AG$4,Millwall!$AA81:$AL81,0)","v":9},{"$f":"MATCH(AH$4,Millwall!$AA81:$AL81,0)","v":{"$error":"#N/A"}},{"$f":"MATCH(AI$4,Millwall!$AA81:$AL81,0)","v":2},{"$f":"MATCH(AJ$4,Millwall!$AA81:$AL81,0)","v":5},{"$f":"MATCH(AK$4,Millwall!$AA81:$AL81,0)","v":{"$error":"#N/A"}},{"$f":"MATCH(AL$4,Millwall!$AA81:$AL81,0)","v":{"$error":"#N/A"}},{"$f":"MATCH(AM$4,Millwall!$AA81:$AL81,0)","v":{"$error":"#N/A"}},{"$f":"MATCH(AN$4,Millwall!$AA81:$AL81,0)","v":{"$error":"#N/A"}},{"$f":"MATCH(AO$4,Millwall!$AA81:$AL81,0)","v":{"$error":"#N/A"}},{"$f":"MATCH(AP$4,Millwall!$AA81:$AL81,0)","v":{"$error":"#N/A"}},{"$f":"MATCH(AQ$4,Millwall!$AA81:$AL81,0)","v":{"$error":"#N/A"}},{"$f":"MATCH(AR$4,Millwall!$AD81:$AO81,0)","v":{"$error":"#N/A"}},null,null,null,null,null,{"$f":"MATCH(AX$3,Millwall!$AA81:$AL81,0)","v":{"$error":"#N/A"}},{"$f":"MATCH(AY$3,Millwall!$AA81:$AL81,0)","v":{"$error":"#N/A"}},{"$f":"MATCH(AZ$3,Millwall!$AA81:$AL81,0)","v":{"$error":"#N/A"}},{"$f":"MATCH(BA$3,Millwall!$AA81:$AL81,0)","v":{"$error":"#N/A"}},{"$f":"MATCH(BB$3,Millwall!$AA81:$AL81,0)","v":{"$error":"#N/A"}},{"$f":"MATCH(BC$3,Millwall!$AA81:$AL81,0)","v":{"$error":"#N/A"}},{"$f":"MATCH(BD$3,Millwall!$AA81:$AL81,0)","v":{"$error":"#N/A"}},{"$f":"MATCH(BE$3,Millwall!$AA81:$AL81,0)","v":{"$error":"#N/A"}},{"$f":"MATCH(BF$3,Millwall!$AA81:$AL81,0)","v":{"$error":"#N/A"}},{"$f":"MATCH(BG$3,Millwall!$AA81:$AL81,0)","v":{"$error":"#N/A"}},{"$f":"MATCH(BH$3,Millwall!$AA81:$AL81,0)","v":{"$error":"#N/A"}},{"$f":"MATCH(BI$3,Millwall!$AA81:$AL81,0)","v":{"$error":"#N/A"}},{"$f":"MATCH(BJ$3,Millwall!$AA81:$AL81,0)","v":{"$error":"#N/A"}},{"$f":"MATCH(BK$3,Millwall!$AA81:$AL81,0)","v":{"$error":"#N/A"}},{"$f":"MATCH(BL$3,Millwall!$AA81:$AL81,0)","v":{"$error":"#N/A"}},{"$f":"MATCH(BM$3,Millwall!$AA81:$AL81,0)","v":{"$error":"#N/A"}},{"$f":"MATCH(BN$3,Millwall!$AA81:$AL81,0)","v":{"$error":"#N/A"}},{"$f":"MATCH(BO$3,Millwall!$AA81:$AL81,0)","v":{"$error":"#N/A"}},{"$f":"MATCH(BP$3,Millwall!$AA81:$AL81,0)","v":{"$error":"#N/A"}},{"$f":"MATCH(BQ$3,Millwall!$AA81:$AL81,0)","v":{"$error":"#N/A"}},{"$f":"MATCH(BR$3,Millwall!$AA81:$AL81,0)","v":{"$error":"#N/A"}},{"$f":"MATCH(BS$3,Millwall!$AA81:$AL81,0)","v":{"$error":"#N/A"}},{"$f":"MATCH(BT$3,Millwall!$AA81:$AL81,0)","v":{"$error":"#N/A"}},{"$f":"MATCH(BU$3,Millwall!$AA81:$AL81,0)","v":{"$error":"#N/A"}},{"$f":"MATCH(BV$3,Millwall!$AA81:$AL81,0)","v":{"$error":"#N/A"}},{"$f":"MATCH(BW$3,Millwall!$AA81:$AL81,0)","v":{"$error":"#N/A"}},{"$f":"MATCH(BX$3,Millwall!$AA81:$AL81,0)","v":{"$error":"#N/A"}},{"$f":"MATCH(BY$3,Millwall!$AA81:$AL81,0)","v":{"$error":"#N/A"}},{"$f":"MATCH(BZ$3,Millwall!$AA81:$AL81,0)","v":{"$error":"#N/A"}},{"$f":"MATCH(CA$3,Millwall!$AA81:$AL81,0)","v":{"$error":"#N/A"}},{"$f":"MATCH(CB$3,Millwall!$AA81:$AL81,0)","v":{"$error":"#N/A"}},{"$f":"MATCH(CC$3,Millwall!$AA81:$AL81,0)","v":{"$error":"#N/A"}},{"$f":"MATCH(CD$3,Millwall!$AA81:$AL81,0)","v":{"$error":"#N/A"}},{"$f":"MATCH(CE$3,Millwall!$AA81:$AL81,0)","v":{"$error":"#N/A"}},null,null,null,null,null,null,{"$f":"$CM$11&\" [**\"","v":"N Coleman [**"},{"$f":"Millwall!$AA162","v":"N Coleman"},"N Coleman (**",{"$f":"$CM$11&\"**\"","v":"N Coleman**"},null,{"$f":"$CM$11","v":"N Coleman"},{"$f":"$CN$11","v":"N Coleman (**"},{"$f":"$CO$11","v":"N Coleman**"},null,{"$f":"Millwall!$BZ15","v":0},{"$f":"Millwall!$CE15","v":0},{"$f":"Millwall!$CJ15","v":0},{"$f":"Millwall!$CO15","v":0}]
[null,null,0,8,null,{"$f":"Millwall!W82","v":"1986-09-27"},null,{"$f":"Millwall!X82","v":"Blackburn"},{"$f":"Millwall!Y82","v":"(H)"},{"$f":"Millwall!Z82","v":"D 2-2"},{"$f":"MATCH(K$4,Millwall!$AA82:$AL82,0)","v":{"$error":"#N/A"}},{"$f":"MATCH(L$4,Millwall!$AA82:$AL82,0)","v":{"$error":"#N/A"}},{"$f":"MATCH(M$4,Millwall!$AA82:$AL82,0)","v":4},{"$f":"MATCH(N$4,Millwall!$AA82:$AL82,0)","v":7},{"$f":"MATCH(O$4,Millwall!$AA82:$AL82,0)","v":{"$error":"#N/A"}},{"$f":"MATCH(P$4,Millwall!$AA82:$AL82,0)","v":{"$error":"#N/A"}},{"$f":"MATCH(Q$4,Millwall!$AA82:$AL82,0)","v":3},{"$f":"MATCH(R$4,Millwall!$AA82:$AL82,0)","v":{"$error":"#N/A"}},{"$f":"MATCH(S$4,Millwall!$AA82:$AL82,0)","v":11},{"$f":"MATCH(T$4,Millwall!$AA82:$AL82,0)","v":{"$error":"#N/A"}},{"$f":"MATCH(U$4,Millwall!$AA82:$AL82,0)","v":{"$error":"#N/A"}},{"$f":"MATCH(V$4,Millwall!$AA82:$AL82,0)","v":{"$error":"#N/A"}},{"$f":"MATCH(W$4,Millwall!$AA82:$AL82,0)","v":{"$error":"#N/A"}},{"$f":"MATCH(X$4,Millwall!$AA82:$AL82,0)","v":{"$error":"#N/A"}},{"$f":"MATCH(Y$4,Millwall!$AA82:$AL82,0)","v":{"$error":"#N/A"}},{"$f":"MATCH(Z$4,Millwall!$AA82:$AL82,0)","v":10},{"$f":"MATCH(AA$4,Millwall!$AA82:$AL82,0)","v":8},{"$f":"MATCH(AB$4,Millwall!$AA82:$AL82,0)","v":{"$error":"#N/A"}},{"$f":"MATCH(AC$4,Millwall!$AA82:$AL82,0)","v":12},{"$f":"MATCH(AD$4,Millwall!$AA82:$AL82,0)","v":{"$error":"#N/A"}},{"$f":"MATCH(AE$4,Millwall!$AA82:$AL82,0)","v":6},{"$f":"MATCH(AF$4,Millwall!$AA82:$AL82,0)","v":1},{"$f":"MATCH(AG$4,Millwall!$AA82:$AL82,0)","v":9},{"$f":"MATCH(AH$4,Millwall!$AA82:$AL82,0)","v":{"$error":"#N/A"}},{"$f":"MATCH(AI$4,Millwall!$AA82:$AL82,0)","v":2},{"$f":"MATCH(AJ$4,Millwall!$AA82:$AL82,0)","v":5},{"$f":"MATCH(AK$4,Millwall!$AA82:$AL82,0)","v":{"$error":"#N/A"}},{"$f":"MATCH(AL$4,Millwall!$AA82:$AL82,0)","v":{"$error":"#N/A"}},{"$f":"MATCH(AM$4,Millwall!$AA82:$AL82,0)","v":{"$error":"#N/A"}},{"$f":"MATCH(AN$4,Millwall!$AA82:$AL82,0)","v":{"$error":"#N/A"}},{"$f":"MATCH(AO$4,Millwall!$AA82:$AL82,0)","v":{"$error":"#N/A"}},{"$f":"MATCH(AP$4,Millwall!$AA82:$AL82,0)","v":{"$error":"#N/A"}},{"$f":"MATCH(AQ$4,Millwall!$AA82:$AL82,0)","v":{"$error":"#N/A"}},{"$f":"MATCH(AR$4,Millwall!$AD82:$AO82,0)","v":{"$error":"#N/A"}},null,null,null,null,null,{"$f":"MATCH(AX$3,Millwall!$AA82:$AL82,0)","v":{"$error":"#N/A"}},{"$f":"MATCH(AY$3,Millwall!$AA82:$AL82,0)","v":{"$error":"#N/A"}},{"$f":"MATCH(AZ$3,Millwall!$AA82:$AL82,0)","v":4},{"$f":"MATCH(BA$3,Millwall!$AA82:$AL82,0)","v":{"$error":"#N/A"}},{"$f":"MATCH(BB$3,Millwall!$AA82:$AL82,0)","v":{"$error":"#N/A"}},{"$f":"MATCH(BC$3,Millwall!$AA82:$AL82,0)","v":{"$error":"#N/A"}},{"$f":"MATCH(BD$3,Millwall!$AA82:$AL82,0)","v":{"$error":"#N/A"}},{"$f":"MATCH(BE$3,Millwall!$AA82:$AL82,0)","v":{"$error":"#N/A"}},{"$f":"MATCH(BF$3,Millwall!$AA82:$AL82,0)","v":{"$error":"#N/A"}},{"$f":"MATCH(BG$3,Millwall!$AA82:$AL82,0)","v":{"$error":"#N/A"}},{"$f":"MATCH(BH$3,Millwall!$AA82:$AL82,0)","v":{"$error":"#N/A"}},{"$f":"MATCH(BI$3,Millwall!$AA82:$AL82,0)","v":{"$error":"#N/A"}},{"$f":"MATCH(BJ$3,Millwall!$AA82:$AL82,0)","v":{"$error":"#N/A"}},{"$f":"MATCH(BK$3,Millwall!$AA82:$AL82,0)","v":{"$error":"#N/A"}},{"$f":"MATCH(BL$3,Millwall!$AA82:$AL82,0)","v":{"$error":"#N/A"}},{"$f":"MATCH(BM$3,Millwall!$AA82:$AL82,0)","v":{"$error":"#N/A"}},{"$f":"MATCH(BN$3,Millwall!$AA82:$AL82,0)","v":{"$error":"#N/A"}},{"$f":"MATCH(BO$3,Millwall!$AA82:$AL82,0)","v":{"$error":"#N/A"}},{"$f":"MATCH(BP$3,Millwall!$AA82:$AL82,0)","v":12},{"$f":"MATCH(BQ$3,Millwall!$AA82:$AL82,0)","v":{"$error":"#N/A"}},{"$f":"MATCH(BR$3,Millwall!$AA82:$AL82,0)","v":{"$error":"#N/A"}},{"$f":"MATCH(BS$3,Millwall!$AA82:$AL82,0)","v":{"$error":"#N/A"}},{"$f":"MATCH(BT$3,Millwall!$AA82:$AL82,0)","v":{"$error":"#N/A"}},{"$f":"MATCH(BU$3,Millwall!$AA82:$AL82,0)","v":{"$error":"#N/A"}},{"$f":"MATCH(BV$3,Millwall!$AA82:$AL82,0)","v":{"$error":"#N/A"}},{"$f":"MATCH(BW$3,Millwall!$AA82:$AL82,0)","v":{"$error":"#N/A"}},{"$f":"MATCH(BX$3,Millwall!$AA82:$AL82,0)","v":{"$error":"#N/A"}},{"$f":"MATCH(BY$3,Millwall!$AA82:$AL82,0)","v":{"$error":"#N/A"}},{"$f":"MATCH(BZ$3,Millwall!$AA82:$AL82,0)","v":{"$error":"#N/A"}},{"$f":"MATCH(CA$3,Millwall!$AA82:$AL82,0)","v":{"$error":"#N/A"}},{"$f":"MATCH(CB$3,Millwall!$AA82:$AL82,0)","v":{"$error":"#N/A"}},{"$f":"MATCH(CC$3,Millwall!$AA82:$AL82,0)","v":{"$error":"#N/A"}},{"$f":"MATCH(CD$3,Millwall!$AA82:$AL82,0)","v":{"$error":"#N/A"}},{"$f":"MATCH(CE$3,Millwall!$AA82:$AL82,0)","v":{"$error":"#N/A"}},null,null,null,null,null,null,{"$f":"$CM$12&\" [**\"","v":"P Coleman [**"},{"$f":"Millwall!$AA163","v":"P Coleman"},"P Coleman (**",{"$f":"$CM$12&\"**\"","v":"P Coleman**"},null,{"$f":"$CM$12","v":"P Coleman"},{"$f":"$CN$12","v":"P Coleman (**"},{"$f":"$CO$12","v":"P Coleman**"},null,{"$f":"Millwall!$BZ16","v":0},{"$f":"Millwall!$CE16","v":0},{"$f":"Millwall!$CJ16","v":0},{"$f":"Millwall!$CO16","v":0}]
[null,null,0,9,null,{"$f":"Millwall!W83","v":"1986-10-04"},null,{"$f":"Millwall!X83","v":"C Palace"},{"$f":"Millwall!Y83","v":"(A)"},{"$f":"Millwall!Z83","v":"L 1-2"},{"$f":"MATCH(K$4,Millwall!$AA83:$AL83,0)","v":{"$error":"#N/A"}},{"$f":"MATCH(L$4,Millwall!$AA83:$AL83,0)","v":{"$error":"#N/A"}},{"$f":"MATCH(M$4,Millwall!$AA83:$AL83,0)","v":4},{"$f":"MATCH(N$4,Millwall!$AA83:$AL83,0)","v":7},{"$f":"MATCH(O$4,Millwall!$AA83:$AL83,0)","v":{"$error":"#N/A"}},{"$f":"MATCH(P$4,Millwall!$AA83:$AL83,0)","v":{"$error":"#N/A"}},{"$f":"MATCH(Q$4,Millwall!$AA83:$AL83,0)","v":3},{"$f":"MATCH(R$4,Millwall!$AA83:$AL83,0)","v":{"$error":"#N/A"}},{"$f":"MATCH(S$4,Millwall!$AA83:$AL83,0)","v":11},{"$f":"MATCH(T$4,Millwall!$AA83:$AL83,0)","v":{"$error":"#N/A"}},{"$f":"MATCH(U$4,Millwall!$AA83:$AL83,0)","v":{"$error":"#N/A"}},{"$f":"MATCH(V$4,Millwall!$AA83:$AL83,0)","v":{"$error":"#N/A"}},{"$f":"MATCH(W$4,Millwall!$AA83:$AL83,0)","v":{"$error":"#N/A"}},{"$f":"MATCH(X$4,Millwall!$AA83:$AL83,0)","v":{"$error":"#N/A"}},{"$f":"MATCH(Y$4,Millwall!$AA83:$AL83,0)","v":{"$error":"#N/A"}},{"$f":"MATCH(Z$4,Millwall!$AA83:$AL83,0)","v":10},{"$f":"MATCH(AA$4,Millwall!$AA83:$AL83,0)","v":8},{"$f":"MATCH(AB$4,Millwall!$AA83:$AL83,0)","v":{"$error":"#N/A"}},{"$f":"MATCH(AC$4,Millwall!$AA83:$AL83,0)","v":12},{"$f":"MATCH(AD$4,Millwall!$AA83:$AL83,0)","v":{"$error":"#N/A"}},{"$f":"MATCH(AE$4,Millwall!$AA83:$AL83,0)","v":6},{"$f":"MATCH(AF$4,Millwall!$AA83:$AL83,0)","v":1},{"$f":"MATCH(AG$4,Millwall!$AA83:$AL83,0)","v":9},{"$f":"MATCH(AH$4,Millwall!$AA83:$AL83,0)","v":{"$error":"#N/A"}},{"$f":"MATCH(AI$4,Millwall!$AA83:$AL83,0)","v":2},{"$f":"MATCH(AJ$4,Millwall!$AA83:$AL83,0)","v":5},{"$f":"MATCH(AK$4,Millwall!$AA83:$AL83,0)","v":{"$error":"#N/A"}},{"$f":"MATCH(AL$4,Millwall!$AA83:$AL83,0)","v":{"$error":"#N/A"}},{"$f":"MATCH(AM$4,Millwall!$AA83:$AL83,0)","v":{"$error":"#N/A"}},{"$f":"MATCH(AN$4,Millwall!$AA83:$AL83,0)","v":{"$error":"#N/A"}},{"$f":"MATCH(AO$4,Millwall!$AA83:$AL83,0)","v":{"$error":"#N/A"}},{"$f":"MATCH(AP$4,Millwall!$AA83:$AL83,0)","v":{"$error":"#N/A"}},{"$f":"MATCH(AQ$4,Millwall!$AA83:$AL83,0)","v":{"$error":"#N/A"}},{"$f":"MATCH(AR$4,Millwall!$AD83:$AO83,0)","v":{"$error":"#N/A"}},null,null,null,null,null,{"$f":"MATCH(AX$3,Millwall!$AA83:$AL83,0)","v":{"$error":"#N/A"}},{"$f":"MATCH(AY$3,Millwall!$AA83:$AL83,0)","v":{"$error":"#N/A"}},{"$f":"MATCH(AZ$3,Millwall!$AA83:$AL83,0)","v":{"$error":"#N/A"}},{"$f":"MATCH(BA$3,Millwall!$AA83:$AL83,0)","v":{"$error":"#N/A"}},{"$f":"MATCH(BB$3,Millwall!$AA83:$AL83,0)","v":{"$error":"#N/A"}},{"$f":"MATCH(BC$3,Millwall!$AA83:$AL83,0)","v":{"$error":"#N/A"}},{"$f":"MATCH(BD$3,Millwall!$AA83:$AL83,0)","v":{"$error":"#N/A"}},{"$f":"MATCH(BE$3,Millwall!$AA83:$AL83,0)","v":{"$error":"#N/A"}},{"$f":"MATCH(BF$3,Millwall!$AA83:$AL83,0)","v":11},{"$f":"MATCH(BG$3,Millwall!$AA83:$AL83,0)","v":{"$error":"#N/A"}},{"$f":"MATCH(BH$3,Millwall!$AA83:$AL83,0)","v":{"$error":"#N/A"}},{"$f":"MATCH(BI$3,Millwall!$AA83:$AL83,0)","v":{"$error":"#N/A"}},{"$f":"MATCH(BJ$3,Millwall!$AA83:$AL83,0)","v":{"$error":"#N/A"}},{"$f":"MATCH(BK$3,Millwall!$AA83:$AL83,0)","v":{"$error":"#N/A"}},{"$f":"MATCH(BL$3,Millwall!$AA83:$AL83,0)","v":{"$error":"#N/A"}},{"$f":"MATCH(BM$3,Millwall!$AA83:$AL83,0)","v":{"$error":"#N/A"}},{"$f":"MATCH(BN$3,Millwall!$AA83:$AL83,0)","v":{"$error":"#N/A"}},{"$f":"MATCH(BO$3,Millwall!$AA83:$AL83,0)","v":{"$error":"#N/A"}},{"$f":"MATCH(BP$3,Millwall!$AA83:$AL83,0)","v":12},{"$f":"MATCH(BQ$3,Millwall!$AA83:$AL83,0)","v":{"$error":"#N/A"}},{"$f":"MATCH(BR$3,Millwall!$AA83:$AL83,0)","v":{"$error":"#N/A"}},{"$f":"MATCH(BS$3,Millwall!$AA83:$AL83,0)","v":{"$error":"#N/A"}},{"$f":"MATCH(BT$3,Millwall!$AA83:$AL83,0)","v":{"$error":"#N/A"}},{"$f":"MATCH(BU$3,Millwall!$AA83:$AL83,0)","v":{"$error":"#N/A"}},{"$f":"MATCH(BV$3,Millwall!$AA83:$AL83,0)","v":{"$error":"#N/A"}},{"$f":"MATCH(BW$3,Millwall!$AA83:$AL83,0)","v":{"$error":"#N/A"}},{"$f":"MATCH(BX$3,Millwall!$AA83:$AL83,0)","v":{"$error":"#N/A"}},{"$f":"MATCH(BY$3,Millwall!$AA83:$AL83,0)","v":{"$error":"#N/A"}},{"$f":"MATCH(BZ$3,Millwall!$AA83:$AL83,0)","v":{"$error":"#N/A"}},{"$f":"MATCH(CA$3,Millwall!$AA83:$AL83,0)","v":{"$error":"#N/A"}},{"$f":"MATCH(CB$3,Millwall!$AA83:$AL83,0)","v":{"$error":"#N/A"}},{"$f":"MATCH(CC$3,Millwall!$AA83:$AL83,0)","v":{"$error":"#N/A"}},{"$f":"MATCH(CD$3,Millwall!$AA83:$AL83,0)","v":{"$error":"#N/A"}},{"$f":"MATCH(CE$3,Millwall!$AA83:$AL83,0)","v":{"$error":"#N/A"}},null,null,null,null,null,null,{"$f":"$CM$13&\" [**\"","v":"Fishenden [**"},{"$f":"Millwall!$AA164","v":"Fishenden"},"Fishenden (**",{"$f":"$CM$13&\"**\"","v":"Fishenden**"},null,{"$f":"$CM$13","v":"Fishenden"},{"$f":"$CN$13","v":"Fishenden (**"},{"$f":"$CO$13","v":"Fishenden**"},null,{"$f":"Millwall!$BZ17","v":0},{"$f":"Millwall!$CE17","v":0},{"$f":"Millwall!$CJ17","v":0},{"$f":"Millwall!$CO17","v":0}]
[null,null,0,10,null,{"$f":"Millwall!W84","v":"1986-10-11"},null,{"$f":"Millwall!X84","v":"Shrewsbury"},{"$f":"Millwall!Y84","v":"(H)"},{"$f":"Millwall!Z84","v":"W 4-0"},{"$f":"MATCH(K$4,Millwall!$AA84:$AL84,0)","v":{"$error":"#N/A"}},{"$f":"MATCH(L$4,Millwall!$AA84:$AL84,0)","v":{"$error":"#N/A"}},{"$f":"MATCH(M$4,Millwall!$AA84:$AL84,0)","v":4},{"$f":"MATCH(N$4,Millwall!$AA84:$AL84,0)","v":7},{"$f":"MATCH(O$4,Millwall!$AA84:$AL84,0)","v":{"$error":"#N/A"}},{"$f":"MATCH(P$4,Millwall!$AA84:$AL84,0)","v":{"$error":"#N/A"}},{"$f":"MATCH(Q$4,Millwall!$AA84:$AL84,0)","v":3},{"$f":"MATCH(R$4,Millwall!$AA84:$AL84,0)","v":{"$error":"#N/A"}},{"$f":"MATCH(S$4,Millwall!$AA84:$AL84,0)","v":{"$error":"#N/A"}},{"$f":"MATCH(T$4,Millwall!$AA84:$AL84,0)","v":{"$error":"#N/A"}},{"$f":"MATCH(U$4,Millwall!$AA84:$AL84,0)","v":1},{"$f":"MATCH(V$4,Millwall!$AA84:$AL84,0)","v":{"$error":"#N/A"}},{"$f":"MATCH(W$4,Millwall!$AA84:$AL84,0)","v":12},{"$f":"MATCH(X$4,Millwall!$AA84:$AL84,0)","v":{"$error":"#N/A"}},{"$f":"MATCH(Y$4,Millwall!$AA84:$AL84,0)","v":{"$error":"#N/A"}},{"$f":"MATCH(Z$4,Millwall!$AA84:$AL84,0)","v":10},{"$f":"MATCH(AA$4,Millwall!$AA84:$AL84,0)","v":6},{"$f":"MATCH(AB$4,Millwall!$AA84:$AL84,0)","v":8},{"$f":"MATCH(AC$4,Millwall!$AA84:$AL84,0)","v":{"$error":"#N/A"}},{"$f":"MATCH(AD$4,Millwall!$AA84:$AL84,0)","v":{"$error":"#N/A"}},{"$f":"MATCH(AE$4,Millwall!$AA84:$AL84,0)","v":11},{"$f":"MATCH(AF$4,Millwall!$AA84:$AL84,0)","v":{"$error":"#N/A"}},{"$f":"MATCH(AG$4,Millwall!$AA84:$AL84,0)","v":9},{"$f":"MATCH(AH$4,Millwall!$AA84:$AL84,0)","v":{"$error":"#N/A"}},{"$f":"MATCH(AI$4,Millwall!$AA84:$AL84,0)","v":2},{"$f":"MATCH(AJ$4,Millwall!$AA84:$AL84,0)","v":5},{"$f":"MATCH(AK$4,Millwall!$AA84:$AL84,0)","v":{"$error":"#N/A"}},{"$f":"MATCH(AL$4,Millwall!$AA84:$AL84,0)","v":{"$error":"#N/A"}},{"$f":"MATCH(AM$4,Millwall!$AA84:$AL84,0)","v":{"$error":"#N/A"}},{"$f":"MATCH(AN$4,Millwall!$AA84:$AL84,0)","v":{"$error":"#N/A"}},{"$f":"MATCH(AO$4,Millwall!$AA84:$AL84,0)","v":{"$error":"#N/A"}},{"$f":"MATCH(AP$4,Millwall!$AA84:$AL84,0)","v":{"$error":"#N/A"}},{"$f":"MATCH(AQ$4,Millwall!$AA84:$AL84,0)","v":{"$error":"#N/A"}},{"$f":"MATCH(AR$4,Millwall!$AD84:$AO84,0)","v":{"$error":"#N/A"}},null,null,null,null,null,{"$f":"MATCH(AX$3,Millwall!$AA84:$AL84,0)","v":{"$error":"#N/A"}},{"$f":"MATCH(AY$3,Millwall!$AA84:$AL84,0)","v":{"$error":"#N/A"}},{"$f":"MATCH(AZ$3,Millwall!$AA84:$AL84,0)","v":{"$error":"#N/A"}},{"$f":"MATCH(BA$3,Millwall!$AA84:$AL84,0)","v":{"$error":"#N/A"}},{"$f":"MATCH(BB$3,Millwall!$AA84:$AL84,0)","v":{"$error":"#N/A"}},{"$f":"MATCH(BC$3,Millwall!$AA84:$AL84,0)","v":{"$error":"#N/A"}},{"$f":"MATCH(BD$3,Millwall!$AA84:$AL84,0)","v":{"$error":"#N/A"}},{"$f":"MATCH(BE$3,Millwall!$AA84:$AL84,0)","v":{"$error":"#N/A"}},{"$f":"MATCH(BF$3,Millwall!$AA84:$AL84,0)","v":{"$error":"#N/A"}},{"$f":"MATCH(BG$3,Millwall!$AA84:$AL84,0)","v":{"$error":"#N/A"}},{"$f":"MATCH(BH$3,Millwall!$AA84:$AL84,0)","v":{"$error":"#N/A"}},{"$f":"MATCH(BI$3,Millwall!$AA84:$AL84,0)","v":{"$error":"#N/A"}},{"$f":"MATCH(BJ$3,Millwall!$AA84:$AL84,0)","v":{"$error":"#N/A"}},{"$f":"MATCH(BK$3,Millwall!$AA84:$AL84,0)","v":{"$error":"#N/A"}},{"$f":"MATCH(BL$3,Millwall!$AA84:$AL84,0)","v":{"$error":"#N/A"}},{"$f":"MATCH(BM$3,Millwall!$AA84:$AL84,0)","v":{"$error":"#N/A"}},{"$f":"MATCH(BN$3,Millwall!$AA84:$AL84,0)","v":{"$error":"#N/A"}},{"$f":"MATCH(BO$3,Millwall!$AA84:$AL84,0)","v":{"$error":"#N/A"}},{"$f":"MATCH(BP$3,Millwall!$AA84:$AL84,0)","v":{"$error":"#N/A"}},{"$f":"MATCH(BQ$3,Millwall!$AA84:$AL84,0)","v":{"$error":"#N/A"}},{"$f":"MATCH(BR$3,Millwall!$AA84:$AL84,0)","v":{"$error":"#N/A"}},{"$f":"MATCH(BS$3,Millwall!$AA84:$AL84,0)","v":{"$error":"#N/A"}},{"$f":"MATCH(BT$3,Millwall!$AA84:$AL84,0)","v":{"$error":"#N/A"}},{"$f":"MATCH(BU$3,Millwall!$AA84:$AL84,0)","v":{"$error":"#N/A"}},{"$f":"MATCH(BV$3,Millwall!$AA84:$AL84,0)","v":{"$error":"#N/A"}},{"$f":"MATCH(BW$3,Millwall!$AA84:$AL84,0)","v":{"$error":"#N/A"}},{"$f":"MATCH(BX$3,Millwall!$AA84:$AL84,0)","v":{"$error":"#N/A"}},{"$f":"MATCH(BY$3,Millwall!$AA84:$AL84,0)","v":{"$error":"#N/A"}},{"$f":"MATCH(BZ$3,Millwall!$AA84:$AL84,0)","v":{"$error":"#N/A"}},{"$f":"MATCH(CA$3,Millwall!$AA84:$AL84,0)","v":{"$error":"#N/A"}},{"$f":"MATCH(CB$3,Millwall!$AA84:$AL84,0)","v":{"$error":"#N/A"}},{"$f":"MATCH(CC$3,Millwall!$AA84:$AL84,0)","v":{"$error":"#N/A"}},{"$f":"MATCH(CD$3,Millwall!$AA84:$AL84,0)","v":{"$error":"#N/A"}},{"$f":"MATCH(CE$3,Millwall!$AA84:$AL84,0)","v":{"$error":"#N/A"}},null,null,null,null,null,null,{"$f":"$CM$14&\" [**\"","v":"Hinshelwood [**"},{"$f":"Millwall!$AA165","v":"Hinshelwood"},"Hinshelwood (**",{"$f":"$CM$14&\"**\"","v":"Hinshelwood**"},null,{"$f":"$CM$14","v":"Hinshelwood"},{"$f":"$CN$14","v":"Hinshelwood (**"},{"$f":"$CO$14","v":"Hinshelwood**"},null,{"$f":"Millwall!$BZ18","v":0},{"$f":"Millwall!$CE18","v":0},{"$f":"Millwall!$CJ18","v":0},{"$f":"Millwall!$CO18","v":0}]
[null,null,0,11,null,{"$f":"Millwall!W85","v":"1986-10-17"},null,{"$f":"Millwall!X85","v":"Oldham"},{"$f":"Millwall!Y85","v":"(A)"},{"$f":"Millwall!Z85","v":"L 1-2"},{"$f":"MATCH(K$4,Millwall!$AA85:$AL85,0)","v":{"$error":"#N/A"}},{"$f":"MATCH(L$4,Millwall!$AA85:$AL85,0)","v":{"$error":"#N/A"}},{"$f":"MATCH(M$4,Millwall!$AA85:$AL85,0)","v":{"$error":"#N/A"}},{"$f":"MATCH(N$4,Millwall!$AA85:$AL85,0)","v":7},{"$f":"MATCH(O$4,Millwall!$AA85:$AL85,0)","v":{"$error":"#N/A"}},{"$f":"MATCH(P$4,Millwall!$AA85:$AL85,0)","v":{"$error":"#N/A"}},{"$f":"MATCH(Q$4,Millwall!$AA85:$AL85,0)","v":3},{"$f":"MATCH(R$4,Millwall!$AA85:$AL85,0)","v":{"$error":"#N/A"}},{"$f":"MATCH(S$4,Millwall!$AA85:$AL85,0)","v":{"$error":"#N/A"}},{"$f":"MATCH(T$4,Millwall!$AA85:$AL85,0)","v":{"$error":"#N/A"}},{"$f":"MATCH(U$4,Millwall!$AA85:$AL85,0)","v":{"$error":"#N/A"}},{"$f":"MATCH(V$4,Millwall!$AA85:$AL85,0)","v":{"$error":"#N/A"}},{"$f":"MATCH(W$4,Millwall!$AA85:$AL85,0)","v":12},{"$f":"MATCH(X$4,Millwall!$AA85:$AL85,0)","v":{"$error":"#N/A"}},{"$f":"MATCH(Y$4,Millwall!$AA85:$AL85,0)","v":{"$error":"#N/A"}},{"$f":"MATCH(Z$4,Millwall!$AA85:$AL85,0)","v":10},{"$f":"MATCH(AA$4,Millwall!$AA85:$AL85,0)","v":6},{"$f":"MATCH(AB$4,Millwall!$AA85:$AL85,0)","v":8},{"$f":"MATCH(AC$4,Millwall!$AA85:$AL85,0)","v":4},{"$f":"MATCH(AD$4,Millwall!$AA85:$AL85,0)","v":{"$error":"#N/A"}},{"$f":"MATCH(AE$4,Millwall!$AA85:$AL85,0)","v":11},{"$f":"MATCH(AF$4,Millwall!$AA85:$AL85,0)","v":1},{"$f":"MATCH(AG$4,Millwall!$AA85:$AL85,0)","v":9},{"$f":"MATCH(AH$4,Millwall!$AA85:$AL85,0)","v":{"$error":"#N/A"}},{"$f":"MATCH(AI$4,Millwall!$AA85:$AL85,0)","v":2},{"$f":"MATCH(AJ$4,Millwall!$AA85:$AL85,0)","v":5},{"$f":"MATCH(AK$4,Millwall!$AA85:$AL85,0)","v":{"$error":"#N/A"}},{"$f":"MATCH(AL$4,Millwall!$AA85:$AL85,0)","v":{"$error":"#N/A"}},{"$f":"MATCH(AM$4,Millwall!$AA85:$AL85,0)","v":{"$error":"#N/A"}},{"$f":"MATCH(AN$4,Millwall!$AA85:$AL85,0)","v":{"$error":"#N/A"}},{"$f":"MATCH(AO$4,Millwall!$AA85:$AL85,0)","v":{"$error":"#N/A"}},{"$f":"MATCH(AP$4,Millwall!$AA85:$AL85,0)","v":{"$error":"#N/A"}},{"$f":"MATCH(AQ$4,Millwall!$AA85:$AL85,0)","v":{"$error":"#N/A"}},{"$f":"MATCH(AR$4,Millwall!$AD85:$AO85,0)","v":{"$error":"#N/A"}},null,null,null,null,null,{"$f":"MATCH(AX$3,Millwall!$AA85:$AL85,0)","v":{"$error":"#N/A"}},{"$f":"MATCH(AY$3,Millwall!$AA85:$AL85,0)","v":{"$error":"#N/A"}},{"$f":"MATCH(AZ$3,Millwall!$AA85:$AL85,0)","v":{"$error":"#N/A"}},{"$f":"MATCH(BA$3,Millwall!$AA85:$AL85,0)","v":{"$error":"#N/A"}},{"$f":"MATCH(BB$3,Millwall!$AA85:$AL85,0)","v":{"$error":"#N/A"}},{"$f":"MATCH(BC$3,Millwall!$AA85:$AL85,0)","v":{"$error":"#N/A"}},{"$f":"MATCH(BD$3,Millwall!$AA85:$AL85,0)","v":{"$error":"#N/A"}},{"$f":"MATCH(BE$3,Millwall!$AA85:$AL85,0)","v":{"$error":"#N/A"}},{"$f":"MATCH(BF$3,Millwall!$AA85:$AL85,0)","v":{"$error":"#N/A"}},{"$f":"MATCH(BG$3,Millwall!$AA85:$AL85,0)","v":{"$error":"#N/A"}},{"$f":"MATCH(BH$3,Millwall!$AA85:$AL85,0)","v":{"$error":"#N/A"}},{"$f":"MATCH(BI$3,Millwall!$AA85:$AL85,0)","v":{"$error":"#N/A"}},{"$f":"MATCH(BJ$3,Millwall!$AA85:$AL85,0)","v":{"$error":"#N/A"}},{"$f":"MATCH(BK$3,Millwall!$AA85:$AL85,0)","v":{"$error":"#N/A"}},{"$f":"MATCH(BL$3,Millwall!$AA85:$AL85,0)","v":{"$error":"#N/A"}},{"$f":"MATCH(BM$3,Millwall!$AA85:$AL85,0)","v":{"$error":"#N/A"}},{"$f":"MATCH(BN$3,Millwall!$AA85:$AL85,0)","v":{"$error":"#N/A"}},{"$f":"MATCH(BO$3,Millwall!$AA85:$AL85,0)","v":{"$error":"#N/A"}},{"$f":"MATCH(BP$3,Millwall!$AA85:$AL85,0)","v":{"$error":"#N/A"}},{"$f":"MATCH(BQ$3,Millwall!$AA85:$AL85,0)","v":{"$error":"#N/A"}},{"$f":"MATCH(BR$3,Millwall!$AA85:$AL85,0)","v":{"$error":"#N/A"}},{"$f":"MATCH(BS$3,Millwall!$AA85:$AL85,0)","v":{"$error":"#N/A"}},{"$f":"MATCH(BT$3,Millwall!$AA85:$AL85,0)","v":{"$error":"#N/A"}},{"$f":"MATCH(BU$3,Millwall!$AA85:$AL85,0)","v":{"$error":"#N/A"}},{"$f":"MATCH(BV$3,Millwall!$AA85:$AL85,0)","v":{"$error":"#N/A"}},{"$f":"MATCH(BW$3,Millwall!$AA85:$AL85,0)","v":{"$error":"#N/A"}},{"$f":"MATCH(BX$3,Millwall!$AA85:$AL85,0)","v":{"$error":"#N/A"}},{"$f":"MATCH(BY$3,Millwall!$AA85:$AL85,0)","v":{"$error":"#N/A"}},{"$f":"MATCH(BZ$3,Millwall!$AA85:$AL85,0)","v":{"$error":"#N/A"}},{"$f":"MATCH(CA$3,Millwall!$AA85:$AL85,0)","v":{"$error":"#N/A"}},{"$f":"MATCH(CB$3,Millwall!$AA85:$AL85,0)","v":{"$error":"#N/A"}},{"$f":"MATCH(CC$3,Millwall!$AA85:$AL85,0)","v":{"$error":"#N/A"}},{"$f":"MATCH(CD$3,Millwall!$AA85:$AL85,0)","v":{"$error":"#N/A"}},{"$f":"MATCH(CE$3,Millwall!$AA85:$AL85,0)","v":{"$error":"#N/A"}},null,null,null,null,null,null,{"$f":"$CM$15&\" [**\"","v":"Horne [**"},{"$f":"Millwall!$AA166","v":"Horne"},"Horne (**",{"$f":"$CM$15&\"**\"","v":"Horne**"},null,{"$f":"$CM$15","v":"Horne"},{"$f":"$CN$15","v":"Horne (**"},{"$f":"$CO$15","v":"Horne**"},null,{"$f":"Millwall!$BZ19","v":0},{"$f":"Millwall!$CE19","v":0},{"$f":"Millwall!$CJ19","v":0},{"$f":"Millwall!$CO19","v":0}]
[null,null,0,12,null,{"$f":"Millwall!W86","v":"1986-10-25"},null,{"$f":"Millwall!X86","v":"Plymouth"},{"$f":"Millwall!Y86","v":"(H)"},{"$f":"Millwall!Z86","v":"W 3-1"},{"$f":"MATCH(K$4,Millwall!$AA86:$AL86,0)","v":{"$error":"#N/A"}},{"$f":"MATCH(L$4,Millwall!$AA86:$AL86,0)","v":{"$error":"#N/A"}},{"$f":"MATCH(M$4,Millwall!$AA86:$AL86,0)","v":4},{"$f":"MATCH(N$4,Millwall!$AA86:$AL86,0)","v":7},{"$f":"MATCH(O$4,Millwall!$AA86:$AL86,0)","v":{"$error":"#N/A"}},{"$f":"MATCH(P$4,Millwall!$AA86:$AL86,0)","v":{"$error":"#N/A"}},{"$f":"MATCH(Q$4,Millwall!$AA86:$AL86,0)","v":3},{"$f":"MATCH(R$4,Millwall!$AA86:$AL86,0)","v":{"$error":"#N/A"}},{"$f":"MATCH(S$4,Millwall!$AA86:$AL86,0)","v":{"$error":"#N/A"}},{"$f":"MATCH(T$4,Millwall!$AA86:$AL86,0)","v":{"$error":"#N/A"}},{"$f":"MATCH(U$4,Millwall!$AA86:$AL86,0)","v":{"$error":"#N/A"}},{"$f":"MATCH(V$4,Millwall!$AA86:$AL86,0)","v":{"$error":"#N/A"}},{"$f":"MATCH(W$4,Millwall!$AA86:$AL86,0)","v":12},{"$f":"MATCH(X$4,Millwall!$AA86:$AL86,0)","v":{"$error":"#N/A"}},{"$f":"MATCH(Y$4,Millwall!$AA86:$AL86,0)","v":{"$error":"#N/A"}},{"$f":"MATCH(Z$4,Millwall!$AA86:$AL86,0)","v":10},{"$f":"MATCH(AA$4,Millwall!$AA86:$AL86,0)","v":6},{"$f":"MATCH(AB$4,Millwall!$AA86:$AL86,0)","v":{"$error":"#N/A"}},{"$f":"MATCH(AC$4,Millwall!$AA86:$AL86,0)","v":8},{"$f":"MATCH(AD$4,Millwall!$AA86:$AL86,0)","v":{"$error":"#N/A"}},{"$f":"MATCH(AE$4,Millwall!$AA86:$AL86,0)","v":11},{"$f":"MATCH(AF$4,Millwall!$AA86:$AL86,0)","v":1},{"$f":"MATCH(AG$4,Millwall!$AA86:$AL86,0)","v":9},{"$f":"MATCH(AH$4,Millwall!$AA86:$AL86,0)","v":{"$error":"#N/A"}},{"$f":"MATCH(AI$4,Millwall!$AA86:$AL86,0)","v":2},{"$f":"MATCH(AJ$4,Millwall!$AA86:$AL86,0)","v":5},{"$f":"MATCH(AK$4,Millwall!$AA86:$AL86,0)","v":{"$error":"#N/A"}},{"$f":"MATCH(AL$4,Millwall!$AA86:$AL86,0)","v":{"$error":"#N/A"}},{"$f":"MATCH(AM$4,Millwall!$AA86:$AL86,0)","v":{"$error":"#N/A"}},{"$f":"MATCH(AN$4,Millwall!$AA86:$AL86,0)","v":{"$error":"#N/A"}},{"$f":"MATCH(AO$4,Millwall!$AA86:$AL86,0)","v":{"$error":"#N/A"}},{"$f":"MATCH(AP$4,Millwall!$AA86:$AL86,0)","v":{"$error":"#N/A"}},{"$f":"MATCH(AQ$4,Millwall!$AA86:$AL86,0)","v":{"$error":"#N/A"}},{"$f":"MATCH(AR$4,Millwall!$AD86:$AO86,0)","v":{"$error":"#N/A"}},null,null,null,null,null,{"$f":"MATCH(AX$3,Millwall!$AA86:$AL86,0)","v":{"$error":"#N/A"}},{"$f":"MATCH(AY$3,Millwall!$AA86:$AL86,0)","v":{"$error":"#N/A"}},{"$f":"MATCH(AZ$3,Millwall!$AA86:$AL86,0)","v":{"$error":"#N/A"}},{"$f":"MATCH(BA$3,Millwall!$AA86:$AL86,0)","v":{"$error":"#N/A"}},{"$f":"MATCH(BB$3,Millwall!$AA86:$AL86,0)","v":{"$error":"#N/A"}},{"$f":"MATCH(BC$3,Millwall!$AA86:$AL86,0)","v":{"$error":"#N/A"}},{"$f":"MATCH(BD$3,Millwall!$AA86:$AL86,0)","v":{"$error":"#N/A"}},{"$f":"MATCH(BE$3,Millwall!$AA86:$AL86,0)","v":{"$error":"#N/A"}},{"$f":"MATCH(BF$3,Millwall!$AA86:$AL86,0)","v":{"$error":"#N/A"}},{"$f":"MATCH(BG$3,Millwall!$AA86:$AL86,0)","v":{"$error":"#N/A"}},{"$f":"MATCH(BH$3,Millwall!$AA86:$AL86,0)","v":{"$error":"#N/A"}},{"$f":"MATCH(BI$3,Millwall!$AA86:$AL86,0)","v":{"$error":"#N/A"}},{"$f":"MATCH(BJ$3,Millwall!$AA86:$AL86,0)","v":{"$error":"#N/A"}},{"$f":"MATCH(BK$3,Millwall!$AA86:$AL86,0)","v":{"$error":"#N/A"}},{"$f":"MATCH(BL$3,Millwall!$AA86:$AL86,0)","v":{"$error":"#N/A"}},{"$f":"MATCH(BM$3,Millwall!$AA86:$AL86,0)","v":{"$error":"#N/A"}},{"$f":"MATCH(BN$3,Millwall!$AA86:$AL86,0)","v":{"$error":"#N/A"}},{"$f":"MATCH(BO$3,Millwall!$AA86:$AL86,0)","v":{"$error":"#N/A"}},{"$f":"MATCH(BP$3,Millwall!$AA86:$AL86,0)","v":{"$error":"#N/A"}},{"$f":"MATCH(BQ$3,Millwall!$AA86:$AL86,0)","v":{"$error":"#N/A"}},{"$f":"MATCH(BR$3,Millwall!$AA86:$AL86,0)","v":{"$error":"#N/A"}},{"$f":"MATCH(BS$3,Millwall!$AA86:$AL86,0)","v":{"$error":"#N/A"}},{"$f":"MATCH(BT$3,Millwall!$AA86:$AL86,0)","v":{"$error":"#N/A"}},{"$f":"MATCH(BU$3,Millwall!$AA86:$AL86,0)","v":{"$error":"#N/A"}},{"$f":"MATCH(BV$3,Millwall!$AA86:$AL86,0)","v":{"$error":"#N/A"}},{"$f":"MATCH(BW$3,Millwall!$AA86:$AL86,0)","v":{"$error":"#N/A"}},{"$f":"MATCH(BX$3,Millwall!$AA86:$AL86,0)","v":{"$error":"#N/A"}},{"$f":"MATCH(BY$3,Millwall!$AA86:$AL86,0)","v":{"$error":"#N/A"}},{"$f":"MATCH(BZ$3,Millwall!$AA86:$AL86,0)","v":{"$error":"#N/A"}},{"$f":"MATCH(CA$3,Millwall!$AA86:$AL86,0)","v":{"$error":"#N/A"}},{"$f":"MATCH(CB$3,Millwall!$AA86:$AL86,0)","v":{"$error":"#N/A"}},{"$f":"MATCH(CC$3,Millwall!$AA86:$AL86,0)","v":{"$error":"#N/A"}},{"$f":"MATCH(CD$3,Millwall!$AA86:$AL86,0)","v":{"$error":"#N/A"}},{"$f":"MATCH(CE$3,Millwall!$AA86:$AL86,0)","v":{"$error":"#N/A"}},null,null,null,null,null,null,{"$f":"$CM$16&\" [**\"","v":"Hurlock [**"},{"$f":"Millwall!$AA167","v":"Hurlock"},"Hurlock (**",{"$f":"$CM$16&\"**\"","v":"Hurlock**"},null,{"$f":"$CM$16","v":"Hurlock"},{"$f":"$CN$16","v":"Hurlock (**"},{"$f":"$CO$16","v":"Hurlock**"},null,{"$f":"Millwall!$BZ20","v":1},{"$f":"Millwall!$CE20","v":0},{"$f":"Millwall!$CJ20","v":0},{"$f":"Millwall!$CO20","v":0}]
[null,null,0,13,null,{"$f":"Millwall!W87","v":"1986-11-01"},null,{"$f":"Millwall!X87","v":"Grimsby"},{"$f":"Millwall!Y87","v":"(A)"},{"$f":"Millwall!Z87","v":"L 0-1"},{"$f":"MATCH(K$4,Millwall!$AA87:$AL87,0)","v":{"$error":"#N/A"}},{"$f":"MATCH(L$4,Millwall!$AA87:$AL87,0)","v":{"$error":"#N/A"}},{"$f":"MATCH(M$4,Millwall!$AA87:$AL87,0)","v":4},{"$f":"MATCH(N$4,Millwall!$AA87:$AL87,0)","v":7},{"$f":"MATCH(O$4,Millwall!$AA87:$AL87,0)","v":{"$error":"#N/A"}},{"$f":"MATCH(P$4,Millwall!$AA87:$AL87,0)","v":{"$error":"#N/A"}},{"$f":"MATCH(Q$4,Millwall!$AA87:$AL87,0)","v":3},{"$f":"MATCH(R$4,Millwall!$AA87:$AL87,0)","v":{"$error":"#N/A"}},{"$f":"MATCH(S$4,Millwall!$AA87:$AL87,0)","v":{"$error":"#N/A"}},{"$f":"MATCH(T$4,Millwall!$AA87:$AL87,0)","v":{"$error":"#N/A"}},{"$f":"MATCH(U$4,Millwall!$AA87:$AL87,0)","v":{"$error":"#N/A"}},{"$f":"MATCH(V$4,Millwall!$AA87:$AL87,0)","v":{"$error":"#N/A"}},{"$f":"MATCH(W$4,Millwall!$AA87:$AL87,0)","v":{"$error":"#N/A"}},{"$f":"MATCH(X$4,Millwall!$AA87:$AL87,0)","v":{"$error":"#N/A"}},{"$f":"MATCH(Y$4,Millwall!$AA87:$AL87,0)","v":{"$error":"#N/A"}},{"$f":"MATCH(Z$4,Millwall!$AA87:$AL87,0)","v":10},{"$f":"MATCH(AA$4,Millwall!$AA87:$AL87,0)","v":6},{"$f":"MATCH(AB$4,Millwall!$AA87:$AL87,0)","v":8},{"$f":"MATCH(AC$4,Millwall!$AA87:$AL87,0)","v":12},{"$f":"MATCH(AD$4,Millwall!$AA87:$AL87,0)","v":{"$error":"#N/A"}},{"$f":"MATCH(AE$4,Millwall!$AA87:$AL87,0)","v":11},{"$f":"MATCH(AF$4,Millwall!$AA87:$AL87,0)","v":1},{"$f":"MATCH(AG$4,Millwall!$AA87:$AL87,0)","v":9},{"$f":"MATCH(AH$4,Millwall!$AA87:$AL87,0)","v":{"$error":"#N/A"}},{"$f":"MATCH(AI$4,Millwall!$AA87:$AL87,0)","v":2},{"$f":"MATCH(AJ$4,Millwall!$AA87:$AL87,0)","v":5},{"$f":"MATCH(AK$4,Millwall!$AA87:$AL87,0)","v":{"$error":"#N/A"}},{"$f":"MATCH(AL$4,Millwall!$AA87:$AL87,0)","v":{"$error":"#N/A"}},{"$f":"MATCH(AM$4,Millwall!$AA87:$AL87,0)","v":{"$error":"#N/A"}},{"$f":"MATCH(AN$4,Millwall!$AA87:$AL87,0)","v":{"$error":"#N/A"}},{"$f":"MATCH(AO$4,Millwall!$AA87:$AL87,0)","v":{"$error":"#N/A"}},{"$f":"MATCH(AP$4,Millwall!$AA87:$AL87,0)","v":{"$error":"#N/A"}},{"$f":"MATCH(AQ$4,Millwall!$AA87:$AL87,0)","v":{"$error":"#N/A"}},{"$f":"MATCH(AR$4,Millwall!$AD87:$AO87,0)","v":{"$error":"#N/A"}},null,null,null,null,null,{"$f":"MATCH(AX$3,Millwall!$AA87:$AL87,0)","v":{"$error":"#N/A"}},{"$f":"MATCH(AY$3,Millwall!$AA87:$AL87,0)","v":{"$error":"#N/A"}},{"$f":"MATCH(AZ$3,Millwall!$AA87:$AL87,0)","v":{"$error":"#N/A"}},{"$f":"MATCH(BA$3,Millwall!$AA87:$AL87,0)","v":{"$error":"#N/A"}},{"$f":"MATCH(BB$3,Millwall!$AA87:$AL87,0)","v":{"$error":"#N/A"}},{"$f":"MATCH(BC$3,Millwall!$AA87:$AL87,0)","v":{"$error":"#N/A"}},{"$f":"MATCH(BD$3,Millwall!$AA87:$AL87,0)","v":{"$error":"#N/A"}},{"$f":"MATCH(BE$3,Millwall!$AA87:$AL87,0)","v":{"$error":"#N/A"}},{"$f":"MATCH(BF$3,Millwall!$AA87:$AL87,0)","v":{"$error":"#N/A"}},{"$f":"MATCH(BG$3,Millwall!$AA87:$AL87,0)","v":{"$error":"#N/A"}},{"$f":"MATCH(BH$3,Millwall!$AA87:$AL87,0)","v":{"$error":"#N/A"}},{"$f":"MATCH(BI$3,Millwall!$AA87:$AL87,0)","v":{"$error":"#N/A"}},{"$f":"MATCH(BJ$3,Millwall!$AA87:$AL87,0)","v":{"$error":"#N/A"}},{"$f":"MATCH(BK$3,Millwall!$AA87:$AL87,0)","v":{"$error":"#N/A"}},{"$f":"MATCH(BL$3,Millwall!$AA87:$AL87,0)","v":{"$error":"#N/A"}},{"$f":"MATCH(BM$3,Millwall!$AA87:$AL87,0)","v":{"$error":"#N/A"}},{"$f":"MATCH(BN$3,Millwall!$AA87:$AL87,0)","v":{"$error":"#N/A"}},{"$f":"MATCH(BO$3,Millwall!$AA87:$AL87,0)","v":{"$error":"#N/A"}},{"$f":"MATCH(BP$3,Millwall!$AA87:$AL87,0)","v":{"$error":"#N/A"}},{"$f":"MATCH(BQ$3,Millwall!$AA87:$AL87,0)","v":{"$error":"#N/A"}},{"$f":"MATCH(BR$3,Millwall!$AA87:$AL87,0)","v":{"$error":"#N/A"}},{"$f":"MATCH(BS$3,Millwall!$AA87:$AL87,0)","v":{"$error":"#N/A"}},{"$f":"MATCH(BT$3,Millwall!$AA87:$AL87,0)","v":{"$error":"#N/A"}},{"$f":"MATCH(BU$3,Millwall!$AA87:$AL87,0)","v":{"$error":"#N/A"}},{"$f":"MATCH(BV$3,Millwall!$AA87:$AL87,0)","v":{"$error":"#N/A"}},{"$f":"MATCH(BW$3,Millwall!$AA87:$AL87,0)","v":{"$error":"#N/A"}},{"$f":"MATCH(BX$3,Millwall!$AA87:$AL87,0)","v":{"$error":"#N/A"}},{"$f":"MATCH(BY$3,Millwall!$AA87:$AL87,0)","v":{"$error":"#N/A"}},{"$f":"MATCH(BZ$3,Millwall!$AA87:$AL87,0)","v":{"$error":"#N/A"}},{"$f":"MATCH(CA$3,Millwall!$AA87:$AL87,0)","v":{"$error":"#N/A"}},{"$f":"MATCH(CB$3,Millwall!$AA87:$AL87,0)","v":{"$error":"#N/A"}},{"$f":"MATCH(CC$3,Millwall!$AA87:$AL87,0)","v":{"$error":"#N/A"}},{"$f":"MATCH(CD$3,Millwall!$AA87:$AL87,0)","v":{"$error":"#N/A"}},{"$f":"MATCH(CE$3,Millwall!$AA87:$AL87,0)","v":{"$error":"#N/A"}},null,null,null,null,null,null,{"$f":"$CM$17&\" [**\"","v":"Leslie [**"},{"$f":"Millwall!$AA168","v":"Leslie"},"Leslie (**",{"$f":"$CM$17&\"**\"","v":"Leslie**"},null,{"$f":"$CM$17","v":"Leslie"},{"$f":"$CN$17","v":"Leslie (**"},{"$f":"$CO$17","v":"Leslie**"},null,{"$f":"Millwall!$BZ21","v":1},{"$f":"Millwall!$CE21","v":1},{"$f":"Millwall!$CJ21","v":0},{"$f":"Millwall!$CO21","v":2}]
[null,null,0,14,null,{"$f":"Millwall!W88","v":"1986-11-08"},null,{"$f":"Millwall!X88","v":"Leeds"},{"$f":"Millwall!Y88","v":"(H)"},{"$f":"Millwall!Z88","v":"W 1-0"},{"$f":"MATCH(K$4,Millwall!$AA88:$AL88,0)","v":{"$error":"#N/A"}},{"$f":"MATCH(L$4,Millwall!$AA88:$AL88,0)","v":{"$error":"#N/A"}},{"$f":"MATCH(M$4,Millwall!$AA88:$AL88,0)","v":4},{"$f":"MATCH(N$4,Millwall!$AA88:$AL88,0)","v":7},{"$f":"MATCH(O$4,Millwall!$AA88:$AL88,0)","v":{"$error":"#N/A"}},{"$f":"MATCH(P$4,Millwall!$AA88:$AL88,0)","v":{"$error":"#N/A"}},{"$f":"MATCH(Q$4,Millwall!$AA88:$AL88,0)","v":3},{"$f":"MATCH(R$4,Millwall!$AA88:$AL88,0)","v":{"$error":"#N/A"}},{"$f":"MATCH(S$4,Millwall!$AA88:$AL88,0)","v":{"$error":"#N/A"}},{"$f":"MATCH(T$4,Millwall!$AA88:$AL88,0)","v":{"$error":"#N/A"}},{"$f":"MATCH(U$4,Millwall!$AA88:$AL88,0)","v":1},{"$f":"MATCH(V$4,Millwall!$AA88:$AL88,0)","v":{"$error":"#N/A"}},{"$f":"MATCH(W$4,Millwall!$AA88:$AL88,0)","v":12},{"$f":"MATCH(X$4,Millwall!$AA88:$AL88,0)","v":{"$error":"#N/A"}},{"$f":"MATCH(Y$4,Millwall!$AA88:$AL88,0)","v":{"$error":"#N/A"}},{"$f":"MATCH(Z$4,Millwall!$AA88:$AL88,0)","v":10},{"$f":"MATCH(AA$4,Millwall!$AA88:$AL88,0)","v":6},{"$f":"MATCH(AB$4,Millwall!$AA88:$AL88,0)","v":8},{"$f":"MATCH(AC$4,Millwall!$AA88:$AL88,0)","v":{"$error":"#N/A"}},{"$f":"MATCH(AD$4,Millwall!$AA88:$AL88,0)","v":{"$error":"#N/A"}},{"$f":"MATCH(AE$4,Millwall!$AA88:$AL88,0)","v":11},{"$f":"MATCH(AF$4,Millwall!$AA88:$AL88,0)","v":{"$error":"#N/A"}},{"$f":"MATCH(AG$4,Millwall!$AA88:$AL88,0)","v":9},{"$f":"MATCH(AH$4,Millwall!$AA88:$AL88,0)","v":{"$error":"#N/A"}},{"$f":"MATCH(AI$4,Millwall!$AA88:$AL88,0)","v":2},{"$f":"MATCH(AJ$4,Millwall!$AA88:$AL88,0)","v":5},{"$f":"MATCH(AK$4,Millwall!$AA88:$AL88,0)","v":{"$error":"#N/A"}},{"$f":"MATCH(AL$4,Millwall!$AA88:$AL88,0)","v":{"$error":"#N/A"}},{"$f":"MATCH(AM$4,Millwall!$AA88:$AL88,0)","v":{"$error":"#N/A"}},{"$f":"MATCH(AN$4,Millwall!$AA88:$AL88,0)","v":{"$error":"#N/A"}},{"$f":"MATCH(AO$4,Millwall!$AA88:$AL88,0)","v":{"$error":"#N/A"}},{"$f":"MATCH(AP$4,Millwall!$AA88:$AL88,0)","v":{"$error":"#N/A"}},{"$f":"MATCH(AQ$4,Millwall!$AA88:$AL88,0)","v":{"$error":"#N/A"}},{"$f":"MATCH(AR$4,Millwall!$AD88:$AO88,0)","v":{"$error":"#N/A"}},null,null,null,null,null,{"$f":"MATCH(AX$3,Millwall!$AA88:$AL88,0)","v":{"$error":"#N/A"}},{"$f":"MATCH(AY$3,Millwall!$AA88:$AL88,0)","v":{"$error":"#N/A"}},{"$f":"MATCH(AZ$3,Millwall!$AA88:$AL88,0)","v":{"$error":"#N/A"}},{"$f":"MATCH(BA$3,Millwall!$AA88:$AL88,0)","v":{"$error":"#N/A"}},{"$f":"MATCH(BB$3,Millwall!$AA88:$AL88,0)","v":{"$error":"#N/A"}},{"$f":"MATCH(BC$3,Millwall!$AA88:$AL88,0)","v":{"$error":"#N/A"}},{"$f":"MATCH(BD$3,Millwall!$AA88:$AL88,0)","v":{"$error":"#N/A"}},{"$f":"MATCH(BE$3,Millwall!$AA88:$AL88,0)","v":{"$error":"#N/A"}},{"$f":"MATCH(BF$3,Millwall!$AA88:$AL88,0)","v":{"$error":"#N/A"}},{"$f":"MATCH(BG$3,Millwall!$AA88:$AL88,0)","v":{"$error":"#N/A"}},{"$f":"MATCH(BH$3,Millwall!$AA88:$AL88,0)","v":{"$error":"#N/A"}},{"$f":"MATCH(BI$3,Millwall!$AA88:$AL88,0)","v":{"$error":"#N/A"}},{"$f":"MATCH(BJ$3,Millwall!$AA88:$AL88,0)","v":12},{"$f":"MATCH(BK$3,Millwall!$AA88:$AL88,0)","v":{"$error":"#N/A"}},{"$f":"MATCH(BL$3,Millwall!$AA88:$AL88,0)","v":{"$error":"#N/A"}},{"$f":"MATCH(BM$3,Millwall!$AA88:$AL88,0)","v":{"$error":"#N/A"}},{"$f":"MATCH(BN$3,Millwall!$AA88:$AL88,0)","v":{"$error":"#N/A"}},{"$f":"MATCH(BO$3,Millwall!$AA88:$AL88,0)","v":{"$error":"#N/A"}},{"$f":"MATCH(BP$3,Millwall!$AA88:$AL88,0)","v":{"$error":"#N/A"}},{"$f":"MATCH(BQ$3,Millwall!$AA88:$AL88,0)","v":{"$error":"#N/A"}},{"$f":"MATCH(BR$3,Millwall!$AA88:$AL88,0)","v":11},{"$f":"MATCH(BS$3,Millwall!$AA88:$AL88,0)","v":{"$error":"#N/A"}},{"$f":"MATCH(BT$3,Millwall!$AA88:$AL88,0)","v":{"$error":"#N/A"}},{"$f":"MATCH(BU$3,Millwall!$AA88:$AL88,0)","v":{"$error":"#N/A"}},{"$f":"MATCH(BV$3,Millwall!$AA88:$AL88,0)","v":{"$error":"#N/A"}},{"$f":"MATCH(BW$3,Millwall!$AA88:$AL88,0)","v":{"$error":"#N/A"}},{"$f":"MATCH(BX$3,Millwall!$AA88:$AL88,0)","v":{"$error":"#N/A"}},{"$f":"MATCH(BY$3,Millwall!$AA88:$AL88,0)","v":{"$error":"#N/A"}},{"$f":"MATCH(BZ$3,Millwall!$AA88:$AL88,0)","v":{"$error":"#N/A"}},{"$f":"MATCH(CA$3,Millwall!$AA88:$AL88,0)","v":{"$error":"#N/A"}},{"$f":"MATCH(CB$3,Millwall!$AA88:$AL88,0)","v":{"$error":"#N/A"}},{"$f":"MATCH(CC$3,Millwall!$AA88:$AL88,0)","v":{"$error":"#N/A"}},{"$f":"MATCH(CD$3,Millwall!$AA88:$AL88,0)","v":{"$error":"#N/A"}},{"$f":"MATCH(CE$3,Millwall!$AA88:$AL88,0)","v":{"$error":"#N/A"}},null,null,null,null,null,null,{"$f":"$CM$18&\" [**\"","v":"Lovell [**"},{"$f":"Millwall!$AA169","v":"Lovell"},"Lovell (**",{"$f":"$CM$18&\"**\"","v":"Lovell**"},null,{"$f":"$CM$18","v":"Lovell"},{"$f":"$CN$18","v":"Lovell (**"},{"$f":"$CO$18","v":"Lovell**"},null,{"$f":"Millwall!$BZ22","v":0},{"$f":"Millwall!$CE22","v":0},{"$f":"Millwall!$CJ22","v":0},{"$f":"Millwall!$CO22","v":0}]
[null,null,0,15,null,{"$f":"Millwall!W89","v":"1986-11-15"},null,{"$f":"Millwall!X89","v":"Birmingham"},{"$f":"Millwall!Y89","v":"(H)"},{"$f":"Millwall!Z89","v":"L 0-2"},{"$f":"MATCH(K$4,Millwall!$AA89:$AL89,0)","v":{"$error":"#N/A"}},{"$f":"MATCH(L$4,Millwall!$AA89:$AL89,0)","v":{"$error":"#N/A"}},{"$f":"MATCH(M$4,Millwall!$AA89:$AL89,0)","v":4},{"$f":"MATCH(N$4,Millwall!$AA89:$AL89,0)","v":7},{"$f":"MATCH(O$4,Millwall!$AA89:$AL89,0)","v":{"$error":"#N/A"}},{"$f":"MATCH(P$4,Millwall!$AA89:$AL89,0)","v":{"$error":"#N/A"}},{"$f":"MATCH(Q$4,Millwall!$AA89:$AL89,0)","v":3},{"$f":"MATCH(R$4,Millwall!$AA89:$AL89,0)","v":2},{"$f":"MATCH(S$4,Millwall!$AA89:$AL89,0)","v":{"$error":"#N/A"}},{"$f":"MATCH(T$4,Millwall!$AA89:$AL89,0)","v":{"$error":"#N/A"}},{"$f":"MATCH(U$4,Millwall!$AA89:$AL89,0)","v":1},{"$f":"MATCH(V$4,Millwall!$AA89:$AL89,0)","v":{"$error":"#N/A"}},{"$f":"MATCH(W$4,Millwall!$AA89:$AL89,0)","v":11},{"$f":"MATCH(X$4,Millwall!$AA89:$AL89,0)","v":{"$error":"#N/A"}},{"$f":"MATCH(Y$4,Millwall!$AA89:$AL89,0)","v":{"$error":"#N/A"}},{"$f":"MATCH(Z$4,Millwall!$AA89:$AL89,0)","v":10},{"$f":"MATCH(AA$4,Millwall!$AA89:$AL89,0)","v":6},{"$f":"MATCH(AB$4,Millwall!$AA89:$AL89,0)","v":8},{"$f":"MATCH(AC$4,Millwall!$AA89:$AL89,0)","v":12},{"$f":"MATCH(AD$4,Millwall!$AA89:$AL89,0)","v":{"$error":"#N/A"}},{"$f":"MATCH(AE$4,Millwall!$AA89:$AL89,0)","v":{"$error":"#N/A"}},{"$f":"MATCH(AF$4,Millwall!$AA89:$AL89,0)","v":{"$error":"#N/A"}},{"$f":"MATCH(AG$4,Millwall!$AA89:$AL89,0)","v":9},{"$f":"MATCH(AH$4,Millwall!$AA89:$AL89,0)","v":{"$error":"#N/A"}},{"$f":"MATCH(AI$4,Millwall!$AA89:$AL89,0)","v":5},{"$f":"MATCH(AJ$4,Millwall!$AA89:$AL89,0)","v":{"$error":"#N/A"}},{"$f":"MATCH(AK$4,Millwall!$AA89:$AL89,0)","v":{"$error":"#N/A"}},{"$f":"MATCH(AL$4,Millwall!$AA89:$AL89,0)","v":{"$error":"#N/A"}},{"$f":"MATCH(AM$4,Millwall!$AA89:$AL89,0)","v":{"$error":"#N/A"}},{"$f":"MATCH(AN$4,Millwall!$AA89:$AL89,0)","v":{"$error":"#N/A"}},{"$f":"MATCH(AO$4,Millwall!$AA89:$AL89,0)","v":{"$error":"#N/A"}},{"$f":"MATCH(AP$4,Millwall!$AA89:$AL89,0)","v":{"$error":"#N/A"}},{"$f":"MATCH(AQ$4,Millwall!$AA89:$AL89,0)","v":{"$error":"#N/A"}},{"$f":"MATCH(AR$4,Millwall!$AD89:$AO89,0)","v":{"$error":"#N/A"}},null,null,null,null,null,{"$f":"MATCH(AX$3,Millwall!$AA89:$AL89,0)","v":{"$error":"#N/A"}},{"$f":"MATCH(AY$3,Millwall!$AA89:$AL89,0)","v":{"$error":"#N/A"}},{"$f":"MATCH(AZ$3,Millwall!$AA89:$AL89,0)","v":{"$error":"#N/A"}},{"$f":"MATCH(BA$3,Millwall!$AA89:$AL89,0)","v":{"$error":"#N/A"}},{"$f":"MATCH(BB$3,Millwall!$AA89:$AL89,0)","v":{"$error":"#N/A"}},{"$f":"MATCH(BC$3,Millwall!$AA89:$AL89,0)","v":{"$error":"#N/A"}},{"$f":"MATCH(BD$3,Millwall!$AA89:$AL89,0)","v":{"$error":"#N/A"}},{"$f":"MATCH(BE$3,Millwall!$AA89:$AL89,0)","v":{"$error":"#N/A"}},{"$f":"MATCH(BF$3,Millwall!$AA89:$AL89,0)","v":{"$error":"#N/A"}},{"$f":"MATCH(BG$3,Millwall!$AA89:$AL89,0)","v":{"$error":"#N/A"}},{"$f":"MATCH(BH$3,Millwall!$AA89:$AL89,0)","v":{"$error":"#N/A"}},{"$f":"MATCH(BI$3,Millwall!$AA89:$AL89,0)","v":{"$error":"#N/A"}},{"$f":"MATCH(BJ$3,Millwall!$AA89:$AL89,0)","v":{"$error":"#N/A"}},{"$f":"MATCH(BK$3,Millwall!$AA89:$AL89,0)","v":{"$error":"#N/A"}},{"$f":"MATCH(BL$3,Millwall!$AA89:$AL89,0)","v":{"$error":"#N/A"}},{"$f":"MATCH(BM$3,Millwall!$AA89:$AL89,0)","v":{"$error":"#N/A"}},{"$f":"MATCH(BN$3,Millwall!$AA89:$AL89,0)","v":{"$error":"#N/A"}},{"$f":"MATCH(BO$3,Millwall!$AA89:$AL89,0)","v":{"$error":"#N/A"}},{"$f":"MATCH(BP$3,Millwall!$AA89:$AL89,0)","v":{"$error":"#N/A"}},{"$f":"MATCH(BQ$3,Millwall!$AA89:$AL89,0)","v":{"$error":"#N/A"}},{"$f":"MATCH(BR$3,Millwall!$AA89:$AL89,0)","v":{"$error":"#N/A"}},{"$f":"MATCH(BS$3,Millwall!$AA89:$AL89,0)","v":{"$error":"#N/A"}},{"$f":"MATCH(BT$3,Millwall!$AA89:$AL89,0)","v":{"$error":"#N/A"}},{"$f":"MATCH(BU$3,Millwall!$AA89:$AL89,0)","v":{"$error":"#N/A"}},{"$f":"MATCH(BV$3,Millwall!$AA89:$AL89,0)","v":{"$error":"#N/A"}},{"$f":"MATCH(BW$3,Millwall!$AA89:$AL89,0)","v":{"$error":"#N/A"}},{"$f":"MATCH(BX$3,Millwall!$AA89:$AL89,0)","v":{"$error":"#N/A"}},{"$f":"MATCH(BY$3,Millwall!$AA89:$AL89,0)","v":{"$error":"#N/A"}},{"$f":"MATCH(BZ$3,Millwall!$AA89:$AL89,0)","v":{"$error":"#N/A"}},{"$f":"MATCH(CA$3,Millwall!$AA89:$AL89,0)","v":{"$error":"#N/A"}},{"$f":"MATCH(CB$3,Millwall!$AA89:$AL89,0)","v":{"$error":"#N/A"}},{"$f":"MATCH(CC$3,Millwall!$AA89:$AL89,0)","v":{"$error":"#N/A"}},{"$f":"MATCH(CD$3,Millwall!$AA89:$AL89,0)","v":{"$error":"#N/A"}},{"$f":"MATCH(CE$3,Millwall!$AA89:$AL89,0)","v":{"$error":"#N/A"}},null,null,null,null,null,null,{"$f":"$CM$19&\" [**\"","v":"Malcolm [**"},{"$f":"Millwall!$AA170","v":"Malcolm"},"Malcolm (**",{"$f":"$CM$19&\"**\"","v":"Malcolm**"},null,{"$f":"$CM$19","v":"Malcolm"},{"$f":"$CN$19","v":"Malcolm (**"},{"$f":"$CO$19","v":"Malcolm**"},null,{"$f":"Millwall!$BZ23","v":0},{"$f":"Millwall!$CE23","v":0},{"$f":"Millwall!$CJ23","v":0},{"$f":"Millwall!$CO23","v":0}]
[null,null,0,16,null,{"$f":"Millwall!W90","v":"1986-11-22"},null,{"$f":"Millwall!X90","v":"West Brom"},{"$f":"Millwall!Y90","v":"(A)"},{"$f":"Millwall!Z90","v":"W 1-0"},{"$f":"MATCH(K$4,Millwall!$AA90:$AL90,0)","v":{"$error":"#N/A"}},{"$f":"MATCH(L$4,Millwall!$AA90:$AL90,0)","v":{"$error":"#N/A"}},{"$f":"MATCH(M$4,Millwall!$AA90:$AL90,0)","v":4},{"$f":"MATCH(N$4,Millwall!$AA90:$AL90,0)","v":7},{"$f":"MATCH(O$4,Millwall!$AA90:$AL90,0)","v":{"$error":"#N/A"}},{"$f":"MATCH(P$4,Millwall!$AA90:$AL90,0)","v":11},{"$f":"MATCH(Q$4,Millwall!$AA90:$AL90,0)","v":3},{"$f":"MATCH(R$4,Millwall!$AA90:$AL90,0)","v":{"$error":"#N/A"}},{"$f":"MATCH(S$4,Millwall!$AA90:$AL90,0)","v":{"$error":"#N/A"}},{"$f":"MATCH(T$4,Millwall!$AA90:$AL90,0)","v":{"$error":"#N/A"}},{"$f":"MATCH(U$4,Millwall!$AA90:$AL90,0)","v":1},{"$f":"MATCH(V$4,Millwall!$AA90:$AL90,0)","v":{"$error":"#N/A"}},{"$f":"MATCH(W$4,Millwall!$AA90:$AL90,0)","v":{"$error":"#N/A"}},{"$f":"MATCH(X$4,Millwall!$AA90:$AL90,0)","v":{"$error":"#N/A"}},{"$f":"MATCH(Y$4,Millwall!$AA90:$AL90,0)","v":{"$error":"#N/A"}},{"$f":"MATCH(Z$4,Millwall!$AA90:$AL90,0)","v":10},{"$f":"MATCH(AA$4,Millwall!$AA90:$AL90,0)","v":6},{"$f":"MATCH(AB$4,Millwall!$AA90:$AL90,0)","v":8},{"$f":"MATCH(AC$4,Millwall!$AA90:$AL90,0)","v":12},{"$f":"MATCH(AD$4,Millwall!$AA90:$AL90,0)","v":{"$error":"#N/A"}},{"$f":"MATCH(AE$4,Millwall!$AA90:$AL90,0)","v":{"$error":"#N/A"}},{"$f":"MATCH(AF$4,Millwall!$AA90:$AL90,0)","v":{"$error":"#N/A"}},{"$f":"MATCH(AG$4,Millwall!$AA90:$AL90,0)","v":9},{"$f":"MATCH(AH$4,Millwall!$AA90:$AL90,0)","v":{"$error":"#N/A"}},{"$f":"MATCH(AI$4,Millwall!$AA90:$AL90,0)","v":2},{"$f":"MATCH(AJ$4,Millwall!$AA90:$AL90,0)","v":5},{"$f":"MATCH(AK$4,Millwall!$AA90:$AL90,0)","v":{"$error":"#N/A"}},{"$f":"MATCH(AL$4,Millwall!$AA90:$AL90,0)","v":{"$error":"#N/A"}},{"$f":"MATCH(AM$4,Millwall!$AA90:$AL90,0)","v":{"$error":"#N/A"}},{"$f":"MATCH(AN$4,Millwall!$AA90:$AL90,0)","v":{"$error":"#N/A"}},{"$f":"MATCH(AO$4,Millwall!$AA90:$AL90,0)","v":{"$error":"#N/A"}},{"$f":"MATCH(AP$4,Millwall!$AA90:$AL90,0)","v":{"$error":"#N/A"}},{"$f":"MATCH(AQ$4,Millwall!$AA90:$AL90,0)","v":{"$error":"#N/A"}},{"$f":"MATCH(AR$4,Millwall!$AD90:$AO90,0)","v":{"$error":"#N/A"}},null,null,null,null,null,{"$f":"MATCH(AX$3,Millwall!$AA90:$AL90,0)","v":{"$error":"#N/A"}},{"$f":"MATCH(AY$3,Millwall!$AA90:$AL90,0)","v":{"$error":"#N/A"}},{"$f":"MATCH(AZ$3,Millwall!$AA90:$AL90,0)","v":{"$error":"#N/A"}},{"$f":"MATCH(BA$3,Millwall!$AA90:$AL90,0)","v":{"$error":"#N/A"}},{"$f":"MATCH(BB$3,Millwall!$AA90:$AL90,0)","v":{"$error":"#N/A"}},{"$f":"MATCH(BC$3,Millwall!$AA90:$AL90,0)","v":{"$error":"#N/A"}},{"$f":"MATCH(BD$3,Millwall!$AA90:$AL90,0)","v":{"$error":"#N/A"}},{"$f":"MATCH(BE$3,Millwall!$AA90:$AL90,0)","v":{"$error":"#N/A"}},{"$f":"MATCH(BF$3,Millwall!$AA90:$AL90,0)","v":{"$error":"#N/A"}},{"$f":"MATCH(BG$3,Millwall!$AA90:$AL90,0)","v":{"$error":"#N/A"}},{"$f":"MATCH(BH$3,Millwall!$AA90:$AL90,0)","v":{"$error":"#N/A"}},{"$f":"MATCH(BI$3,Millwall!$AA90:$AL90,0)","v":{"$error":"#N/A"}},{"$f":"MATCH(BJ$3,Millwall!$AA90:$AL90,0)","v":{"$error":"#N/A"}},{"$f":"MATCH(BK$3,Millwall!$AA90:$AL90,0)","v":{"$error":"#N/A"}},{"$f":"MATCH(BL$3,Millwall!$AA90:$AL90,0)","v":{"$error":"#N/A"}},{"$f":"MATCH(BM$3,Millwall!$AA90:$AL90,0)","v":{"$error":"#N/A"}},{"$f":"MATCH(BN$3,Millwall!$AA90:$AL90,0)","v":{"$error":"#N/A"}},{"$f":"MATCH(BO$3,Millwall!$AA90:$AL90,0)","v":{"$error":"#N/A"}},{"$f":"MATCH(BP$3,Millwall!$AA90:$AL90,0)","v":{"$error":"#N/A"}},{"$f":"MATCH(BQ$3,Millwall!$AA90:$AL90,0)","v":{"$error":"#N/A"}},{"$f":"MATCH(BR$3,Millwall!$AA90:$AL90,0)","v":{"$error":"#N/A"}},{"$f":"MATCH(BS$3,Millwall!$AA90:$AL90,0)","v":{"$error":"#N/A"}},{"$f":"MATCH(BT$3,Millwall!$AA90:$AL90,0)","v":{"$error":"#N/A"}},{"$f":"MATCH(BU$3,Millwall!$AA90:$AL90,0)","v":{"$error":"#N/A"}},{"$f":"MATCH(BV$3,Millwall!$AA90:$AL90,0)","v":{"$error":"#N/A"}},{"$f":"MATCH(BW$3,Millwall!$AA90:$AL90,0)","v":{"$error":"#N/A"}},{"$f":"MATCH(BX$3,Millwall!$AA90:$AL90,0)","v":{"$error":"#N/A"}},{"$f":"MATCH(BY$3,Millwall!$AA90:$AL90,0)","v":{"$error":"#N/A"}},{"$f":"MATCH(BZ$3,Millwall!$AA90:$AL90,0)","v":{"$error":"#N/A"}},{"$f":"MATCH(CA$3,Millwall!$AA90:$AL90,0)","v":{"$error":"#N/A"}},{"$f":"MATCH(CB$3,Millwall!$AA90:$AL90,0)","v":{"$error":"#N/A"}},{"$f":"MATCH(CC$3,Millwall!$AA90:$AL90,0)","v":{"$error":"#N/A"}},{"$f":"MATCH(CD$3,Millwall!$AA90:$AL90,0)","v":{"$error":"#N/A"}},{"$f":"MATCH(CE$3,Millwall!$AA90:$AL90,0)","v":{"$error":"#N/A"}},null,null,null,null,null,null,{"$f":"$CM$20&\" [**\"","v":"Marks [**"},{"$f":"Millwall!$AA171","v":"Marks"},"Marks (**",{"$f":"$CM$20&\"**\"","v":"Marks**"},null,{"$f":"$CM$20","v":"Marks"},{"$f":"$CN$20","v":"Marks (**"},{"$f":"$CO$20","v":"Marks**"},null,{"$f":"Millwall!$BZ24","v":10},{"$f":"Millwall!$CE24","v":0},{"$f":"Millwall!$CJ24","v":0},{"$f":"Millwall!$CO24","v":1}]
[null,null,0,17,null,{"$f":"Millwall!W91","v":"1986-11-29"},null,{"$f":"Millwall!X91","v":"Portsmouth"},{"$f":"Millwall!Y91","v":"(H)"},{"$f":"Millwall!Z91","v":"D 1-1"},{"$f":"MATCH(K$4,Millwall!$AA91:$AL91,0)","v":{"$error":"#N/A"}},{"$f":"MATCH(L$4,Millwall!$AA91:$AL91,0)","v":{"$error":"#N/A"}},{"$f":"MATCH(M$4,Millwall!$AA91:$AL91,0)","v":4},{"$f":"MATCH(N$4,Millwall!$AA91:$AL91,0)","v":7},{"$f":"MATCH(O$4,Millwall!$AA91:$AL91,0)","v":{"$error":"#N/A"}},{"$f":"MATCH(P$4,Millwall!$AA91:$AL91,0)","v":12},{"$f":"MATCH(Q$4,Millwall!$AA91:$AL91,0)","v":3},{"$f":"MATCH(R$4,Millwall!$AA91:$AL91,0)","v":{"$error":"#N/A"}},{"$f":"MATCH(S$4,Millwall!$AA91:$AL91,0)","v":{"$error":"#N/A"}},{"$f":"MATCH(T$4,Millwall!$AA91:$AL91,0)","v":{"$error":"#N/A"}},{"$f":"MATCH(U$4,Millwall!$AA91:$AL91,0)","v":1},{"$f":"MATCH(V$4,Millwall!$AA91:$AL91,0)","v":{"$error":"#N/A"}},{"$f":"MATCH(W$4,Millwall!$AA91:$AL91,0)","v":{"$error":"#N/A"}},{"$f":"MATCH(X$4,Millwall!$AA91:$AL91,0)","v":{"$error":"#N/A"}},{"$f":"MATCH(Y$4,Millwall!$AA91:$AL91,0)","v":{"$error":"#N/A"}},{"$f":"MATCH(Z$4,Millwall!$AA91:$AL91,0)","v":10},{"$f":"MATCH(AA$4,Millwall!$AA91:$AL91,0)","v":6},{"$f":"MATCH(AB$4,Millwall!$AA91:$AL91,0)","v":8},{"$f":"MATCH(AC$4,Millwall!$AA91:$AL91,0)","v":{"$error":"#N/A"}},{"$f":"MATCH(AD$4,Millwall!$AA91:$AL91,0)","v":{"$error":"#N/A"}},{"$f":"MATCH(AE$4,Millwall!$AA91:$AL91,0)","v":11},{"$f":"MATCH(AF$4,Millwall!$AA91:$AL91,0)","v":{"$error":"#N/A"}},{"$f":"MATCH(AG$4,Millwall!$AA91:$AL91,0)","v":9},{"$f":"MATCH(AH$4,Millwall!$AA91:$AL91,0)","v":{"$error":"#N/A"}},{"$f":"MATCH(AI$4,Millwall!$AA91:$AL91,0)","v":2},{"$f":"MATCH(AJ$4,Millwall!$AA91:$AL91,0)","v":5},{"$f":"MATCH(AK$4,Millwall!$AA91:$AL91,0)","v":{"$error":"#N/A"}},{"$f":"MATCH(AL$4,Millwall!$AA91:$AL91,0)","v":{"$error":"#N/A"}},{"$f":"MATCH(AM$4,Millwall!$AA91:$AL91,0)","v":{"$error":"#N/A"}},{"$f":"MATCH(AN$4,Millwall!$AA91:$AL91,0)","v":{"$error":"#N/A"}},{"$f":"MATCH(AO$4,Millwall!$AA91:$AL91,0)","v":{"$error":"#N/A"}},{"$f":"MATCH(AP$4,Millwall!$AA91:$AL91,0)","v":{"$error":"#N/A"}},{"$f":"MATCH(AQ$4,Millwall!$AA91:$AL91,0)","v":{"$error":"#N/A"}},{"$f":"MATCH(AR$4,Millwall!$AD91:$AO91,0)","v":{"$error":"#N/A"}},null,null,null,null,null,{"$f":"MATCH(AX$3,Millwall!$AA91:$AL91,0)","v":{"$error":"#N/A"}},{"$f":"MATCH(AY$3,Millwall!$AA91:$AL91,0)","v":{"$error":"#N/A"}},{"$f":"MATCH(AZ$3,Millwall!$AA91:$AL91,0)","v":{"$error":"#N/A"}},{"$f":"MATCH(BA$3,Millwall!$AA91:$AL91,0)","v":{"$error":"#N/A"}},{"$f":"MATCH(BB$3,Millwall!$AA91:$AL91,0)","v":{"$error":"#N/A"}},{"$f":"MATCH(BC$3,Millwall!$AA91:$AL91,0)","v":{"$error":"#N/A"}},{"$f":"MATCH(BD$3,Millwall!$AA91:$AL91,0)","v":{"$error":"#N/A"}},{"$f":"MATCH(BE$3,Millwall!$AA91:$AL91,0)","v":{"$error":"#N/A"}},{"$f":"MATCH(BF$3,Millwall!$AA91:$AL91,0)","v":{"$error":"#N/A"}},{"$f":"MATCH(BG$3,Millwall!$AA91:$AL91,0)","v":{"$error":"#N/A"}},{"$f":"MATCH(BH$3,Millwall!$AA91:$AL91,0)","v":{"$error":"#N/A"}},{"$f":"MATCH(BI$3,Millwall!$AA91:$AL91,0)","v":{"$error":"#N/A"}},{"$f":"MATCH(BJ$3,Millwall!$AA91:$AL91,0)","v":{"$error":"#N/A"}},{"$f":"MATCH(BK$3,Millwall!$AA91:$AL91,0)","v":{"$error":"#N/A"}},{"$f":"MATCH(BL$3,Millwall!$AA91:$AL91,0)","v":{"$error":"#N/A"}},{"$f":"MATCH(BM$3,Millwall!$AA91:$AL91,0)","v":{"$error":"#N/A"}},{"$f":"MATCH(BN$3,Millwall!$AA91:$AL91,0)","v":{"$error":"#N/A"}},{"$f":"MATCH(BO$3,Millwall!$AA91:$AL91,0)","v":{"$error":"#N/A"}},{"$f":"MATCH(BP$3,Millwall!$AA91:$AL91,0)","v":{"$error":"#N/A"}},{"$f":"MATCH(BQ$3,Millwall!$AA91:$AL91,0)","v":{"$error":"#N/A"}},{"$f":"MATCH(BR$3,Millwall!$AA91:$AL91,0)","v":{"$error":"#N/A"}},{"$f":"MATCH(BS$3,Millwall!$AA91:$AL91,0)","v":{"$error":"#N/A"}},{"$f":"MATCH(BT$3,Millwall!$AA91:$AL91,0)","v":{"$error":"#N/A"}},{"$f":"MATCH(BU$3,Millwall!$AA91:$AL91,0)","v":{"$error":"#N/A"}},{"$f":"MATCH(BV$3,Millwall!$AA91:$AL91,0)","v":{"$error":"#N/A"}},{"$f":"MATCH(BW$3,Millwall!$AA91:$AL91,0)","v":{"$error":"#N/A"}},{"$f":"MATCH(BX$3,Millwall!$AA91:$AL91,0)","v":{"$error":"#N/A"}},{"$f":"MATCH(BY$3,Millwall!$AA91:$AL91,0)","v":{"$error":"#N/A"}},{"$f":"MATCH(BZ$3,Millwall!$AA91:$AL91,0)","v":{"$error":"#N/A"}},{"$f":"MATCH(CA$3,Millwall!$AA91:$AL91,0)","v":{"$error":"#N/A"}},{"$f":"MATCH(CB$3,Millwall!$AA91:$AL91,0)","v":{"$error":"#N/A"}},{"$f":"MATCH(CC$3,Millwall!$AA91:$AL91,0)","v":{"$error":"#N/A"}},{"$f":"MATCH(CD$3,Millwall!$AA91:$AL91,0)","v":{"$error":"#N/A"}},{"$f":"MATCH(CE$3,Millwall!$AA91:$AL91,0)","v":{"$error":"#N/A"}},null,null,null,null,null,null,{"$f":"$CM$21&\" [**\"","v":"McLeary [**"},{"$f":"Millwall!$AA172","v":"McLeary"},"McLeary (**",{"$f":"$CM$21&\"**\"","v":"McLeary**"},null,{"$f":"$CM$21","v":"McLeary"},{"$f":"$CN$21","v":"McLeary (**"},{"$f":"$CO$21","v":"McLeary**"},null,{"$f":"Millwall!$BZ25","v":0},{"$f":"Millwall!$CE25","v":0},{"$f":"Millwall!$CJ25","v":0},{"$f":"Millwall!$CO25","v":0}]
[null,null,0,18,null,{"$f":"Millwall!W92","v":"1986-12-06"},null,{"$f":"Millwall!X92","v":"Sunderland"},{"$f":"Millwall!Y92","v":"(A)"},{"$f":"Millwall!Z92","v":"D 1-1"},{"$f":"MATCH(K$4,Millwall!$AA92:$AL92,0)","v":{"$error":"#N/A"}},{"$f":"MATCH(L$4,Millwall!$AA92:$AL92,0)","v":{"$error":"#N/A"}},{"$f":"MATCH(M$4,Millwall!$AA92:$AL92,0)","v":4},{"$f":"MATCH(N$4,Millwall!$AA92:$AL92,0)","v":7},{"$f":"MATCH(O$4,Millwall!$AA92:$AL92,0)","v":{"$error":"#N/A"}},{"$f":"MATCH(P$4,Millwall!$AA92:$AL92,0)","v":{"$error":"#N/A"}},{"$f":"MATCH(Q$4,Millwall!$AA92:$AL92,0)","v":3},{"$f":"MATCH(R$4,Millwall!$AA92:$AL92,0)","v":{"$error":"#N/A"}},{"$f":"MATCH(S$4,Millwall!$AA92:$AL92,0)","v":{"$error":"#N/A"}},{"$f":"MATCH(T$4,Millwall!$AA92:$AL92,0)","v":{"$error":"#N/A"}},{"$f":"MATCH(U$4,Millwall!$AA92:$AL92,0)","v":1},{"$f":"MATCH(V$4,Millwall!$AA92:$AL92,0)","v":{"$error":"#N/A"}},{"$f":"MATCH(W$4,Millwall!$AA92:$AL92,0)","v":{"$error":"#N/A"}},{"$f":"MATCH(X$4,Millwall!$AA92:$AL92,0)","v":{"$error":"#N/A"}},{"$f":"MATCH(Y$4,Millwall!$AA92:$AL92,0)","v":{"$error":"#N/A"}},{"$f":"MATCH(Z$4,Millwall!$AA92:$AL92,0)","v":10},{"$f":"MATCH(AA$4,Millwall!$AA92:$AL92,0)","v":6},{"$f":"MATCH(AB$4,Millwall!$AA92:$AL92,0)","v":8},{"$f":"MATCH(AC$4,Millwall!$AA92:$AL92,0)","v":12},{"$f":"MATCH(AD$4,Millwall!$AA92:$AL92,0)","v":{"$error":"#N/A"}},{"$f":"MATCH(AE$4,Millwall!$AA92:$AL92,0)","v":11},{"$f":"MATCH(AF$4,Millwall!$AA92:$AL92,0)","v":{"$error":"#N/A"}},{"$f":"MATCH(AG$4,Millwall!$AA92:$AL92,0)","v":9},{"$f":"MATCH(AH$4,Millwall!$AA92:$AL92,0)","v":{"$error":"#N/A"}},{"$f":"MATCH(AI$4,Millwall!$AA92:$AL92,0)","v":2},{"$f":"MATCH(AJ$4,Millwall!$AA92:$AL92,0)","v":5},{"$f":"MATCH(AK$4,Millwall!$AA92:$AL92,0)","v":{"$error":"#N/A"}},{"$f":"MATCH(AL$4,Millwall!$AA92:$AL92,0)","v":{"$error":"#N/A"}},{"$f":"MATCH(AM$4,Millwall!$AA92:$AL92,0)","v":{"$error":"#N/A"}},{"$f":"MATCH(AN$4,Millwall!$AA92:$AL92,0)","v":{"$error":"#N/A"}},{"$f":"MATCH(AO$4,Millwall!$AA92:$AL92,0)","v":{"$error":"#N/A"}},{"$f":"MATCH(AP$4,Millwall!$AA92:$AL92,0)","v":{"$error":"#N/A"}},{"$f":"MATCH(AQ$4,Millwall!$AA92:$AL92,0)","v":{"$error":"#N/A"}},{"$f":"MATCH(AR$4,Millwall!$AD92:$AO92,0)","v":{"$error":"#N/A"}},null,null,null,null,null,{"$f":"MATCH(AX$3,Millwall!$AA92:$AL92,0)","v":{"$error":"#N/A"}},{"$f":"MATCH(AY$3,Millwall!$AA92:$AL92,0)","v":{"$error":"#N/A"}},{"$f":"MATCH(AZ$3,Millwall!$AA92:$AL92,0)","v":{"$error":"#N/A"}},{"$f":"MATCH(BA$3,Millwall!$AA92:$AL92,0)","v":{"$error":"#N/A"}},{"$f":"MATCH(BB$3,Millwall!$AA92:$AL92,0)","v":{"$error":"#N/A"}},{"$f":"MATCH(BC$3,Millwall!$AA92:$AL92,0)","v":{"$error":"#N/A"}},{"$f":"MATCH(BD$3,Millwall!$AA92:$AL92,0)","v":{"$error":"#N/A"}},{"$f":"MATCH(BE$3,Millwall!$AA92:$AL92,0)","v":{"$error":"#N/A"}},{"$f":"MATCH(BF$3,Millwall!$AA92:$AL92,0)","v":{"$error":"#N/A"}},{"$f":"MATCH(BG$3,Millwall!$AA92:$AL92,0)","v":{"$error":"#N/A"}},{"$f":"MATCH(BH$3,Millwall!$AA92:$AL92,0)","v":{"$error":"#N/A"}},{"$f":"MATCH(BI$3,Millwall!$AA92:$AL92,0)","v":{"$error":"#N/A"}},{"$f":"MATCH(BJ$3,Millwall!$AA92:$AL92,0)","v":{"$error":"#N/A"}},{"$f":"MATCH(BK$3,Millwall!$AA92:$AL92,0)","v":{"$error":"#N/A"}},{"$f":"MATCH(BL$3,Millwall!$AA92:$AL92,0)","v":{"$error":"#N/A"}},{"$f":"MATCH(BM$3,Millwall!$AA92:$AL92,0)","v":{"$error":"#N/A"}},{"$f":"MATCH(BN$3,Millwall!$AA92:$AL92,0)","v":{"$error":"#N/A"}},{"$f":"MATCH(BO$3,Millwall!$AA92:$AL92,0)","v":{"$error":"#N/A"}},{"$f":"MATCH(BP$3,Millwall!$AA92:$AL92,0)","v":12},{"$f":"MATCH(BQ$3,Millwall!$AA92:$AL92,0)","v":{"$error":"#N/A"}},{"$f":"MATCH(BR$3,Millwall!$AA92:$AL92,0)","v":11},{"$f":"MATCH(BS$3,Millwall!$AA92:$AL92,0)","v":{"$error":"#N/A"}},{"$f":"MATCH(BT$3,Millwall!$AA92:$AL92,0)","v":{"$error":"#N/A"}},{"$f":"MATCH(BU$3,Millwall!$AA92:$AL92,0)","v":{"$error":"#N/A"}},{"$f":"MATCH(BV$3,Millwall!$AA92:$AL92,0)","v":{"$error":"#N/A"}},{"$f":"MATCH(BW$3,Millwall!$AA92:$AL92,0)","v":{"$error":"#N/A"}},{"$f":"MATCH(BX$3,Millwall!$AA92:$AL92,0)","v":{"$error":"#N/A"}},{"$f":"MATCH(BY$3,Millwall!$AA92:$AL92,0)","v":{"$error":"#N/A"}},{"$f":"MATCH(BZ$3,Millwall!$AA92:$AL92,0)","v":{"$error":"#N/A"}},{"$f":"MATCH(CA$3,Millwall!$AA92:$AL92,0)","v":{"$error":"#N/A"}},{"$f":"MATCH(CB$3,Millwall!$AA92:$AL92,0)","v":{"$error":"#N/A"}},{"$f":"MATCH(CC$3,Millwall!$AA92:$AL92,0)","v":{"$error":"#N/A"}},{"$f":"MATCH(CD$3,Millwall!$AA92:$AL92,0)","v":{"$error":"#N/A"}},{"$f":"MATCH(CE$3,Millwall!$AA92:$AL92,0)","v":{"$error":"#N/A"}},null,null,null,null,null,null,{"$f":"$CM$22&\" [**\"","v":"Mehmet [**"},{"$f":"Millwall!$AA173","v":"Mehmet"},"Mehmet (**",{"$f":"$CM$22&\"**\"","v":"Mehmet**"},null,{"$f":"$CM$22","v":"Mehmet"},{"$f":"$CN$22","v":"Mehmet (**"},{"$f":"$CO$22","v":"Mehmet**"},null,{"$f":"Millwall!$BZ26","v":1},{"$f":"Millwall!$CE26","v":0},{"$f":"Millwall!$CJ26","v":0},{"$f":"Millwall!$CO26","v":0}]
[null,null,0,19,null,{"$f":"Millwall!W93","v":"1986-12-13"},null,{"$f":"Millwall!X93","v":"Huddersfield"},{"$f":"Millwall!Y93","v":"(H)"},{"$f":"Millwall!Z93","v":"W 4-0"},{"$f":"MATCH(K$4,Millwall!$AA93:$AL93,0)","v":{"$error":"#N/A"}},{"$f":"MATCH(L$4,Millwall!$AA93:$AL93,0)","v":{"$error":"#N/A"}},{"$f":"MATCH(M$4,Millwall!$AA93:$AL93,0)","v":4},{"$f":"MATCH(N$4,Millwall!$AA93:$AL93,0)","v":7},{"$f":"MATCH(O$4,Millwall!$AA93:$AL93,0)","v":{"$error":"#N/A"}},{"$f":"MATCH(P$4,Millwall!$AA93:$AL93,0)","v":{"$error":"#N/A"}},{"$f":"MATCH(Q$4,Millwall!$AA93:$AL93,0)","v":3},{"$f":"MATCH(R$4,Millwall!$AA93:$AL93,0)","v":{"$error":"#N/A"}},{"$f":"MATCH(S$4,Millwall!$AA93:$AL93,0)","v":{"$error":"#N/A"}},{"$f":"MATCH(T$4,Millwall!$AA93:$AL93,0)","v":{"$error":"#N/A"}},{"$f":"MATCH(U$4,Millwall!$AA93:$AL93,0)","v":1},{"$f":"MATCH(V$4,Millwall!$AA93:$AL93,0)","v":{"$error":"#N/A"}},{"$f":"MATCH(W$4,Millwall!$AA93:$AL93,0)","v":{"$error":"#N/A"}},{"$f":"MATCH(X$4,Millwall!$AA93:$AL93,0)","v":{"$error":"#N/A"}},{"$f":"MATCH(Y$4,Millwall!$AA93:$AL93,0)","v":{"$error":"#N/A"}},{"$f":"MATCH(Z$4,Millwall!$AA93:$AL93,0)","v":10},{"$f":"MATCH(AA$4,Millwall!$AA93:$AL93,0)","v":6},{"$f":"MATCH(AB$4,Millwall!$AA93:$AL93,0)","v":8},{"$f":"MATCH(AC$4,Millwall!$AA93:$AL93,0)","v":12},{"$f":"MATCH(AD$4,Millwall!$AA93:$AL93,0)","v":{"$error":"#N/A"}},{"$f":"MATCH(AE$4,Millwall!$AA93:$AL93,0)","v":11},{"$f":"MATCH(AF$4,Millwall!$AA93:$AL93,0)","v":{"$error":"#N/A"}},{"$f":"MATCH(AG$4,Millwall!$AA93:$AL93,0)","v":9},{"$f":"MATCH(AH$4,Millwall!$AA93:$AL93,0)","v":{"$error":"#N/A"}},{"$f":"MATCH(AI$4,Millwall!$AA93:$AL93,0)","v":2},{"$f":"MATCH(AJ$4,Millwall!$AA93:$AL93,0)","v":5},{"$f":"MATCH(AK$4,Millwall!$AA93:$AL93,0)","v":{"$error":"#N/A"}},{"$f":"MATCH(AL$4,Millwall!$AA93:$AL93,0)","v":{"$error":"#N/A"}},{"$f":"MATCH(AM$4,Millwall!$AA93:$AL93,0)","v":{"$error":"#N/A"}},{"$f":"MATCH(AN$4,Millwall!$AA93:$AL93,0)","v":{"$error":"#N/A"}},{"$f":"MATCH(AO$4,Millwall!$AA93:$AL93,0)","v":{"$error":"#N/A"}},{"$f":"MATCH(AP$4,Millwall!$AA93:$AL93,0)","v":{"$error":"#N/A"}},{"$f":"MATCH(AQ$4,Millwall!$AA93:$AL93,0)","v":{"$error":"#N/A"}},{"$f":"MATCH(AR$4,Millwall!$AD93:$AO93,0)","v":{"$error":"#N/A"}},null,null,null,null,null,{"$f":"MATCH(AX$3,Millwall!$AA93:$AL93,0)","v":{"$error":"#N/A"}},{"$f":"MATCH(AY$3,Millwall!$AA93:$AL93,0)","v":{"$error":"#N/A"}},{"$f":"MATCH(AZ$3,Millwall!$AA93:$AL93,0)","v":{"$error":"#N/A"}},{"$f":"MATCH(BA$3,Millwall!$AA93:$AL93,0)","v":{"$error":"#N/A"}},{"$f":"MATCH(BB$3,Millwall!$AA93:$AL93,0)","v":{"$error":"#N/A"}},{"$f":"MATCH(BC$3,Millwall!$AA93:$AL93,0)","v":{"$error":"#N/A"}},{"$f":"MATCH(BD$3,Millwall!$AA93:$AL93,0)","v":{"$error":"#N/A"}},{"$f":"MATCH(BE$3,Millwall!$AA93:$AL93,0)","v":{"$error":"#N/A"}},{"$f":"MATCH(BF$3,Millwall!$AA93:$AL93,0)","v":{"$error":"#N/A"}},{"$f":"MATCH(BG$3,Millwall!$AA93:$AL93,0)","v":{"$error":"#N/A"}},{"$f":"MATCH(BH$3,Millwall!$AA93:$AL93,0)","v":{"$error":"#N/A"}},{"$f":"MATCH(BI$3,Millwall!$AA93:$AL93,0)","v":{"$error":"#N/A"}},{"$f":"MATCH(BJ$3,Millwall!$AA93:$AL93,0)","v":{"$error":"#N/A"}},{"$f":"MATCH(BK$3,Millwall!$AA93:$AL93,0)","v":{"$error":"#N/A"}},{"$f":"MATCH(BL$3,Millwall!$AA93:$AL93,0)","v":{"$error":"#N/A"}},{"$f":"MATCH(BM$3,Millwall!$AA93:$AL93,0)","v":{"$error":"#N/A"}},{"$f":"MATCH(BN$3,Millwall!$AA93:$AL93,0)","v":{"$error":"#N/A"}},{"$f":"MATCH(BO$3,Millwall!$AA93:$AL93,0)","v":8},{"$f":"MATCH(BP$3,Millwall!$AA93:$AL93,0)","v":12},{"$f":"MATCH(BQ$3,Millwall!$AA93:$AL93,0)","v":{"$error":"#N/A"}},{"$f":"MATCH(BR$3,Millwall!$AA93:$AL93,0)","v":{"$error":"#N/A"}},{"$f":"MATCH(BS$3,Millwall!$AA93:$AL93,0)","v":{"$error":"#N/A"}},{"$f":"MATCH(BT$3,Millwall!$AA93:$AL93,0)","v":{"$error":"#N/A"}},{"$f":"MATCH(BU$3,Millwall!$AA93:$AL93,0)","v":{"$error":"#N/A"}},{"$f":"MATCH(BV$3,Millwall!$AA93:$AL93,0)","v":{"$error":"#N/A"}},{"$f":"MATCH(BW$3,Millwall!$AA93:$AL93,0)","v":{"$error":"#N/A"}},{"$f":"MATCH(BX$3,Millwall!$AA93:$AL93,0)","v":{"$error":"#N/A"}},{"$f":"MATCH(BY$3,Millwall!$AA93:$AL93,0)","v":{"$error":"#N/A"}},{"$f":"MATCH(BZ$3,Millwall!$AA93:$AL93,0)","v":{"$error":"#N/A"}},{"$f":"MATCH(CA$3,Millwall!$AA93:$AL93,0)","v":{"$error":"#N/A"}},{"$f":"MATCH(CB$3,Millwall!$AA93:$AL93,0)","v":{"$error":"#N/A"}},{"$f":"MATCH(CC$3,Millwall!$AA93:$AL93,0)","v":{"$error":"#N/A"}},{"$f":"MATCH(CD$3,Millwall!$AA93:$AL93,0)","v":{"$error":"#N/A"}},{"$f":"MATCH(CE$3,Millwall!$AA93:$AL93,0)","v":{"$error":"#N/A"}},null,null,null,null,null,null,{"$f":"$CM$23&\" [**\"","v":"Morgan [**"},{"$f":"Millwall!$AA174","v":"Morgan"},"Morgan (**",{"$f":"$CM$23&\"**\"","v":"Morgan**"},null,{"$f":"$CM$23","v":"Morgan"},{"$f":"$CN$23","v":"Morgan (**"},{"$f":"$CO$23","v":"Morgan**"},null,{"$f":"Millwall!$BZ27","v":1},{"$f":"Millwall!$CE27","v":1},{"$f":"Millwall!$CJ27","v":0},{"$f":"Millwall!$CO27","v":0}]
[null,null,0,20,null,{"$f":"Millwall!W94","v":"1986-12-26"},null,{"$f":"Millwall!X94","v":"Ipswich"},{"$f":"Millwall!Y94","v":"(H)"},{"$f":"Millwall!Z94","v":"W 1-0"},{"$f":"MATCH(K$4,Millwall!$AA94:$AL94,0)","v":{"$error":"#N/A"}},{"$f":"MATCH(L$4,Millwall!$AA94:$AL94,0)","v":{"$error":"#N/A"}},{"$f":"MATCH(M$4,Millwall!$AA94:$AL94,0)","v":4},{"$f":"MATCH(N$4,Millwall!$AA94:$AL94,0)","v":7},{"$f":"MATCH(O$4,Millwall!$AA94:$AL94,0)","v":{"$error":"#N/A"}},{"$f":"MATCH(P$4,Millwall!$AA94:$AL94,0)","v":{"$error":"#N/A"}},{"$f":"MATCH(Q$4,Millwall!$AA94:$AL94,0)","v":3},{"$f":"MATCH(R$4,Millwall!$AA94:$AL94,0)","v":{"$error":"#N/A"}},{"$f":"MATCH(S$4,Millwall!$AA94:$AL94,0)","v":{"$error":"#N/A"}},{"$f":"MATCH(T$4,Millwall!$AA94:$AL94,0)","v":{"$error":"#N/A"}},{"$f":"MATCH(U$4,Millwall!$AA94:$AL94,0)","v":1},{"$f":"MATCH(V$4,Millwall!$AA94:$AL94,0)","v":{"$error":"#N/A"}},{"$f":"MATCH(W$4,Millwall!$AA94:$AL94,0)","v":12},{"$f":"MATCH(X$4,Millwall!$AA94:$AL94,0)","v":{"$error":"#N/A"}},{"$f":"MATCH(Y$4,Millwall!$AA94:$AL94,0)","v":{"$error":"#N/A"}},{"$f":"MATCH(Z$4,Millwall!$AA94:$AL94,0)","v":10},{"$f":"MATCH(AA$4,Millwall!$AA94:$AL94,0)","v":6},{"$f":"MATCH(AB$4,Millwall!$AA94:$AL94,0)","v":{"$error":"#N/A"}},{"$f":"MATCH(AC$4,Millwall!$AA94:$AL94,0)","v":8},{"$f":"MATCH(AD$4,Millwall!$AA94:$AL94,0)","v":{"$error":"#N/A"}},{"$f":"MATCH(AE$4,Millwall!$AA94:$AL94,0)","v":11},{"$f":"MATCH(AF$4,Millwall!$AA94:$AL94,0)","v":{"$error":"#N/A"}},{"$f":"MATCH(AG$4,Millwall!$AA94:$AL94,0)","v":9},{"$f":"MATCH(AH$4,Millwall!$AA94:$AL94,0)","v":{"$error":"#N/A"}},{"$f":"MATCH(AI$4,Millwall!$AA94:$AL94,0)","v":2},{"$f":"MATCH(AJ$4,Millwall!$AA94:$AL94,0)","v":5},{"$f":"MATCH(AK$4,Millwall!$AA94:$AL94,0)","v":{"$error":"#N/A"}},{"$f":"MATCH(AL$4,Millwall!$AA94:$AL94,0)","v":{"$error":"#N/A"}},{"$f":"MATCH(AM$4,Millwall!$AA94:$AL94,0)","v":{"$error":"#N/A"}},{"$f":"MATCH(AN$4,Millwall!$AA94:$AL94,0)","v":{"$error":"#N/A"}},{"$f":"MATCH(AO$4,Millwall!$AA94:$AL94,0)","v":{"$error":"#N/A"}},{"$f":"MATCH(AP$4,Millwall!$AA94:$AL94,0)","v":{"$error":"#N/A"}},{"$f":"MATCH(AQ$4,Millwall!$AA94:$AL94,0)","v":{"$error":"#N/A"}},{"$f":"MATCH(AR$4,Millwall!$AD94:$AO94,0)","v":{"$error":"#N/A"}},null,null,null,null,null,{"$f":"MATCH(AX$3,Millwall!$AA94:$AL94,0)","v":{"$error":"#N/A"}},{"$f":"MATCH(AY$3,Millwall!$AA94:$AL94,0)","v":{"$error":"#N/A"}},{"$f":"MATCH(AZ$3,Millwall!$AA94:$AL94,0)","v":{"$error":"#N/A"}},{"$f":"MATCH(BA$3,Millwall!$AA94:$AL94,0)","v":{"$error":"#N/A"}},{"$f":"MATCH(BB$3,Millwall!$AA94:$AL94,0)","v":{"$error":"#N/A"}},{"$f":"MATCH(BC$3,Millwall!$AA94:$AL94,0)","v":{"$error":"#N/A"}},{"$f":"MATCH(BD$3,Millwall!$AA94:$AL94,0)","v":{"$error":"#N/A"}},{"$f":"MATCH(BE$3,Millwall!$AA94:$AL94,0)","v":{"$error":"#N/A"}},{"$f":"MATCH(BF$3,Millwall!$AA94:$AL94,0)","v":{"$error":"#N/A"}},{"$f":"MATCH(BG$3,Millwall!$AA94:$AL94,0)","v":{"$error":"#N/A"}},{"$f":"MATCH(BH$3,Millwall!$AA94:$AL94,0)","v":{"$error":"#N/A"}},{"$f":"MATCH(BI$3,Millwall!$AA94:$AL94,0)","v":{"$error":"#N/A"}},{"$f":"MATCH(BJ$3,Millwall!$AA94:$AL94,0)","v":{"$error":"#N/A"}},{"$f":"MATCH(BK$3,Millwall!$AA94:$AL94,0)","v":{"$error":"#N/A"}},{"$f":"MATCH(BL$3,Millwall!$AA94:$AL94,0)","v":{"$error":"#N/A"}},{"$f":"MATCH(BM$3,Millwall!$AA94:$AL94,0)","v":{"$error":"#N/A"}},{"$f":"MATCH(BN$3,Millwall!$AA94:$AL94,0)","v":{"$error":"#N/A"}},{"$f":"MATCH(BO$3,Millwall!$AA94:$AL94,0)","v":{"$error":"#N/A"}},{"$f":"MATCH(BP$3,Millwall!$AA94:$AL94,0)","v":{"$error":"#N/A"}},{"$f":"MATCH(BQ$3,Millwall!$AA94:$AL94,0)","v":{"$error":"#N/A"}},{"$f":"MATCH(BR$3,Millwall!$AA94:$AL94,0)","v":{"$error":"#N/A"}},{"$f":"MATCH(BS$3,Millwall!$AA94:$AL94,0)","v":{"$error":"#N/A"}},{"$f":"MATCH(BT$3,Millwall!$AA94:$AL94,0)","v":{"$error":"#N/A"}},{"$f":"MATCH(BU$3,Millwall!$AA94:$AL94,0)","v":{"$error":"#N/A"}},{"$f":"MATCH(BV$3,Millwall!$AA94:$AL94,0)","v":{"$error":"#N/A"}},{"$f":"MATCH(BW$3,Millwall!$AA94:$AL94,0)","v":{"$error":"#N/A"}},{"$f":"MATCH(BX$3,Millwall!$AA94:$AL94,0)","v":{"$error":"#N/A"}},{"$f":"MATCH(BY$3,Millwall!$AA94:$AL94,0)","v":{"$error":"#N/A"}},{"$f":"MATCH(BZ$3,Millwall!$AA94:$AL94,0)","v":{"$error":"#N/A"}},{"$f":"MATCH(CA$3,Millwall!$AA94:$AL94,0)","v":{"$error":"#N/A"}},{"$f":"MATCH(CB$3,Millwall!$AA94:$AL94,0)","v":{"$error":"#N/A"}},{"$f":"MATCH(CC$3,Millwall!$AA94:$AL94,0)","v":{"$error":"#N/A"}},{"$f":"MATCH(CD$3,Millwall!$AA94:$AL94,0)","v":{"$error":"#N/A"}},{"$f":"MATCH(CE$3,Millwall!$AA94:$AL94,0)","v":{"$error":"#N/A"}},null,null,null,null,null,null,{"$f":"$CM$24&\" [**\"","v":"Nutton [**"},{"$f":"Millwall!$AA175","v":"Nutton"},"Nutton (**",{"$f":"$CM$24&\"**\"","v":"Nutton**"},null,{"$f":"$CM$24","v":"Nutton"},{"$f":"$CN$24","v":"Nutton (**"},{"$f":"$CO$24","v":"Nutton**"},null,{"$f":"Millwall!$BZ28","v":0},{"$f":"Millwall!$CE28","v":0},{"$f":"Millwall!$CJ28","v":0},{"$f":"Millwall!$CO28","v":0}]
[null,null,0,21,null,{"$f":"Millwall!W95","v":"1986-12-29"},null,{"$f":"Millwall!X95","v":"Birmingham"},{"$f":"Millwall!Y95","v":"(A)"},{"$f":"Millwall!Z95","v":"D 1-1"},{"$f":"MATCH(K$4,Millwall!$AA95:$AL95,0)","v":{"$error":"#N/A"}},{"$f":"MATCH(L$4,Millwall!$AA95:$AL95,0)","v":{"$error":"#N/A"}},{"$f":"MATCH(M$4,Millwall!$AA95:$AL95,0)","v":4},{"$f":"MATCH(N$4,Millwall!$AA95:$AL95,0)","v":7},{"$f":"MATCH(O$4,Millwall!$AA95:$AL95,0)","v":{"$error":"#N/A"}},{"$f":"MATCH(P$4,Millwall!$AA95:$AL95,0)","v":{"$error":"#N/A"}},{"$f":"MATCH(Q$4,Millwall!$AA95:$AL95,0)","v":3},{"$f":"MATCH(R$4,Millwall!$AA95:$AL95,0)","v":2},{"$f":"MATCH(S$4,Millwall!$AA95:$AL95,0)","v":{"$error":"#N/A"}},{"$f":"MATCH(T$4,Millwall!$AA95:$AL95,0)","v":{"$error":"#N/A"}},{"$f":"MATCH(U$4,Millwall!$AA95:$AL95,0)","v":1},{"$f":"MATCH(V$4,Millwall!$AA95:$AL95,0)","v":{"$error":"#N/A"}},{"$f":"MATCH(W$4,Millwall!$AA95:$AL95,0)","v":12},{"$f":"MATCH(X$4,Millwall!$AA95:$AL95,0)","v":{"$error":"#N/A"}},{"$f":"MATCH(Y$4,Millwall!$AA95:$AL95,0)","v":{"$error":"#N/A"}},{"$f":"MATCH(Z$4,Millwall!$AA95:$AL95,0)","v":10},{"$f":"MATCH(AA$4,Millwall!$AA95:$AL95,0)","v":6},{"$f":"MATCH(AB$4,Millwall!$AA95:$AL95,0)","v":{"$error":"#N/A"}},{"$f":"MATCH(AC$4,Millwall!$AA95:$AL95,0)","v":8},{"$f":"MATCH(AD$4,Millwall!$AA95:$AL95,0)","v":{"$error":"#N/A"}},{"$f":"MATCH(AE$4,Millwall!$AA95:$AL95,0)","v":11},{"$f":"MATCH(AF$4,Millwall!$AA95:$AL95,0)","v":{"$error":"#N/A"}},{"$f":"MATCH(AG$4,Millwall!$AA95:$AL95,0)","v":9},{"$f":"MATCH(AH$4,Millwall!$AA95:$AL95,0)","v":{"$error":"#N/A"}},{"$f":"MATCH(AI$4,Millwall!$AA95:$AL95,0)","v":{"$error":"#N/A"}},{"$f":"MATCH(AJ$4,Millwall!$AA95:$AL95,0)","v":5},{"$f":"MATCH(AK$4,Millwall!$AA95:$AL95,0)","v":{"$error":"#N/A"}},{"$f":"MATCH(AL$4,Millwall!$AA95:$AL95,0)","v":{"$error":"#N/A"}},{"$f":"MATCH(AM$4,Millwall!$AA95:$AL95,0)","v":{"$error":"#N/A"}},{"$f":"MATCH(AN$4,Millwall!$AA95:$AL95,0)","v":{"$error":"#N/A"}},{"$f":"MATCH(AO$4,Millwall!$AA95:$AL95,0)","v":{"$error":"#N/A"}},{"$f":"MATCH(AP$4,Millwall!$AA95:$AL95,0)","v":{"$error":"#N/A"}},{"$f":"MATCH(AQ$4,Millwall!$AA95:$AL95,0)","v":{"$error":"#N/A"}},{"$f":"MATCH(AR$4,Millwall!$AD95:$AO95,0)","v":{"$error":"#N/A"}},null,null,null,null,null,{"$f":"MATCH(AX$3,Millwall!$AA95:$AL95,0)","v":{"$error":"#N/A"}},{"$f":"MATCH(AY$3,Millwall!$AA95:$AL95,0)","v":{"$error":"#N/A"}},{"$f":"MATCH(AZ$3,Millwall!$AA95:$AL95,0)","v":{"$error":"#N/A"}},{"$f":"MATCH(BA$3,Millwall!$AA95:$AL95,0)","v":{"$error":"#N/A"}},{"$f":"MATCH(BB$3,Millwall!$AA95:$AL95,0)","v":{"$error":"#N/A"}},{"$f":"MATCH(BC$3,Millwall!$AA95:$AL95,0)","v":{"$error":"#N/A"}},{"$f":"MATCH(BD$3,Millwall!$AA95:$AL95,0)","v":{"$error":"#N/A"}},{"$f":"MATCH(BE$3,Millwall!$AA95:$AL95,0)","v":{"$error":"#N/A"}},{"$f":"MATCH(BF$3,Millwall!$AA95:$AL95,0)","v":{"$error":"#N/A"}},{"$f":"MATCH(BG$3,Millwall!$AA95:$AL95,0)","v":{"$error":"#N/A"}},{"$f":"MATCH(BH$3,Millwall!$AA95:$AL95,0)","v":{"$error":"#N/A"}},{"$f":"MATCH(BI$3,Millwall!$AA95:$AL95,0)","v":{"$error":"#N/A"}},{"$f":"MATCH(BJ$3,Millwall!$AA95:$AL95,0)","v":{"$error":"#N/A"}},{"$f":"MATCH(BK$3,Millwall!$AA95:$AL95,0)","v":{"$error":"#N/A"}},{"$f":"MATCH(BL$3,Millwall!$AA95:$AL95,0)","v":{"$error":"#N/A"}},{"$f":"MATCH(BM$3,Millwall!$AA95:$AL95,0)","v":{"$error":"#N/A"}},{"$f":"MATCH(BN$3,Millwall!$AA95:$AL95,0)","v":{"$error":"#N/A"}},{"$f":"MATCH(BO$3,Millwall!$AA95:$AL95,0)","v":{"$error":"#N/A"}},{"$f":"MATCH(BP$3,Millwall!$AA95:$AL95,0)","v":{"$error":"#N/A"}},{"$f":"MATCH(BQ$3,Millwall!$AA95:$AL95,0)","v":{"$error":"#N/A"}},{"$f":"MATCH(BR$3,Millwall!$AA95:$AL95,0)","v":{"$error":"#N/A"}},{"$f":"MATCH(BS$3,Millwall!$AA95:$AL95,0)","v":{"$error":"#N/A"}},{"$f":"MATCH(BT$3,Millwall!$AA95:$AL95,0)","v":{"$error":"#N/A"}},{"$f":"MATCH(BU$3,Millwall!$AA95:$AL95,0)","v":{"$error":"#N/A"}},{"$f":"MATCH(BV$3,Millwall!$AA95:$AL95,0)","v":{"$error":"#N/A"}},{"$f":"MATCH(BW$3,Millwall!$AA95:$AL95,0)","v":{"$error":"#N/A"}},{"$f":"MATCH(BX$3,Millwall!$AA95:$AL95,0)","v":{"$error":"#N/A"}},{"$f":"MATCH(BY$3,Millwall!$AA95:$AL95,0)","v":{"$error":"#N/A"}},{"$f":"MATCH(BZ$3,Millwall!$AA95:$AL95,0)","v":{"$error":"#N/A"}},{"$f":"MATCH(CA$3,Millwall!$AA95:$AL95,0)","v":{"$error":"#N/A"}},{"$f":"MATCH(CB$3,Millwall!$AA95:$AL95,0)","v":{"$error":"#N/A"}},{"$f":"MATCH(CC$3,Millwall!$AA95:$AL95,0)","v":{"$error":"#N/A"}},{"$f":"MATCH(CD$3,Millwall!$AA95:$AL95,0)","v":{"$error":"#N/A"}},{"$f":"MATCH(CE$3,Millwall!$AA95:$AL95,0)","v":{"$error":"#N/A"}},null,null,null,null,null,null,{"$f":"$CM$25&\" [**\"","v":"Salman [**"},{"$f":"Millwall!$AA176","v":"Salman"},"Salman (**",{"$f":"$CM$25&\"**\"","v":"Salman**"},null,{"$f":"$CM$25","v":"Salman"},{"$f":"$CN$25","v":"Salman (**"},{"$f":"$CO$25","v":"Salman**"},null,{"$f":"Millwall!$BZ29","v":2},{"$f":"Millwall!$CE29","v":0},{"$f":"Millwall!$CJ29","v":0},{"$f":"Millwall!$CO29","v":0}]
[null,null,0,22,null,{"$f":"Millwall!W96","v":"1987-01-01"},null,{"$f":"Millwall!X96","v":"Brighton"},{"$f":"Millwall!Y96","v":"(A)"},{"$f":"Millwall!Z96","v":"W 1-0"},{"$f":"MATCH(K$4,Millwall!$AA96:$AL96,0)","v":{"$error":"#N/A"}},{"$f":"MATCH(L$4,Millwall!$AA96:$AL96,0)","v":{"$error":"#N/A"}},{"$f":"MATCH(M$4,Millwall!$AA96:$AL96,0)","v":4},{"$f":"MATCH(N$4,Millwall!$AA96:$AL96,0)","v":7},{"$f":"MATCH(O$4,Millwall!$AA96:$AL96,0)","v":{"$error":"#N/A"}},{"$f":"MATCH(P$4,Millwall!$AA96:$AL96,0)","v":{"$error":"#N/A"}},{"$f":"MATCH(Q$4,Millwall!$AA96:$AL96,0)","v":3},{"$f":"MATCH(R$4,Millwall!$AA96:$AL96,0)","v":2},{"$f":"MATCH(S$4,Millwall!$AA96:$AL96,0)","v":{"$error":"#N/A"}},{"$f":"MATCH(T$4,Millwall!$AA96:$AL96,0)","v":{"$error":"#N/A"}},{"$f":"MATCH(U$4,Millwall!$AA96:$AL96,0)","v":1},{"$f":"MATCH(V$4,Millwall!$AA96:$AL96,0)","v":{"$error":"#N/A"}},{"$f":"MATCH(W$4,Millwall!$AA96:$AL96,0)","v":12},{"$f":"MATCH(X$4,Millwall!$AA96:$AL96,0)","v":{"$error":"#N/A"}},{"$f":"MATCH(Y$4,Millwall!$AA96:$AL96,0)","v":{"$error":"#N/A"}},{"$f":"MATCH(Z$4,Millwall!$AA96:$AL96,0)","v":10},{"$f":"MATCH(AA$4,Millwall!$AA96:$AL96,0)","v":6},{"$f":"MATCH(AB$4,Millwall!$AA96:$AL96,0)","v":{"$error":"#N/A"}},{"$f":"MATCH(AC$4,Millwall!$AA96:$AL96,0)","v":8},{"$f":"MATCH(AD$4,Millwall!$AA96:$AL96,0)","v":{"$error":"#N/A"}},{"$f":"MATCH(AE$4,Millwall!$AA96:$AL96,0)","v":11},{"$f":"MATCH(AF$4,Millwall!$AA96:$AL96,0)","v":{"$error":"#N/A"}},{"$f":"MATCH(AG$4,Millwall!$AA96:$AL96,0)","v":9},{"$f":"MATCH(AH$4,Millwall!$AA96:$AL96,0)","v":{"$error":"#N/A"}},{"$f":"MATCH(AI$4,Millwall!$AA96:$AL96,0)","v":{"$error":"#N/A"}},{"$f":"MATCH(AJ$4,Millwall!$AA96:$AL96,0)","v":5},{"$f":"MATCH(AK$4,Millwall!$AA96:$AL96,0)","v":{"$error":"#N/A"}},{"$f":"MATCH(AL$4,Millwall!$AA96:$AL96,0)","v":{"$error":"#N/A"}},{"$f":"MATCH(AM$4,Millwall!$AA96:$AL96,0)","v":{"$error":"#N/A"}},{"$f":"MATCH(AN$4,Millwall!$AA96:$AL96,0)","v":{"$error":"#N/A"}},{"$f":"MATCH(AO$4,Millwall!$AA96:$AL96,0)","v":{"$error":"#N/A"}},{"$f":"MATCH(AP$4,Millwall!$AA96:$AL96,0)","v":{"$error":"#N/A"}},{"$f":"MATCH(AQ$4,Millwall!$AA96:$AL96,0)","v":{"$error":"#N/A"}},{"$f":"MATCH(AR$4,Millwall!$AD96:$AO96,0)","v":{"$error":"#N/A"}},null,null,null,null,null,{"$f":"MATCH(AX$3,Millwall!$AA96:$AL96,0)","v":{"$error":"#N/A"}},{"$f":"MATCH(AY$3,Millwall!$AA96:$AL96,0)","v":{"$error":"#N/A"}},{"$f":"MATCH(AZ$3,Millwall!$AA96:$AL96,0)","v":{"$error":"#N/A"}},{"$f":"MATCH(BA$3,Millwall!$AA96:$AL96,0)","v":{"$error":"#N/A"}},{"$f":"MATCH(BB$3,Millwall!$AA96:$AL96,0)","v":{"$error":"#N/A"}},{"$f":"MATCH(BC$3,Millwall!$AA96:$AL96,0)","v":{"$error":"#N/A"}},{"$f":"MATCH(BD$3,Millwall!$AA96:$AL96,0)","v":{"$error":"#N/A"}},{"$f":"MATCH(BE$3,Millwall!$AA96:$AL96,0)","v":{"$error":"#N/A"}},{"$f":"MATCH(BF$3,Millwall!$AA96:$AL96,0)","v":{"$error":"#N/A"}},{"$f":"MATCH(BG$3,Millwall!$AA96:$AL96,0)","v":{"$error":"#N/A"}},{"$f":"MATCH(BH$3,Millwall!$AA96:$AL96,0)","v":{"$error":"#N/A"}},{"$f":"MATCH(BI$3,Millwall!$AA96:$AL96,0)","v":{"$error":"#N/A"}},{"$f":"MATCH(BJ$3,Millwall!$AA96:$AL96,0)","v":{"$error":"#N/A"}},{"$f":"MATCH(BK$3,Millwall!$AA96:$AL96,0)","v":{"$error":"#N/A"}},{"$f":"MATCH(BL$3,Millwall!$AA96:$AL96,0)","v":{"$error":"#N/A"}},{"$f":"MATCH(BM$3,Millwall!$AA96:$AL96,0)","v":{"$error":"#N/A"}},{"$f":"MATCH(BN$3,Millwall!$AA96:$AL96,0)","v":{"$error":"#N/A"}},{"$f":"MATCH(BO$3,Millwall!$AA96:$AL96,0)","v":{"$error":"#N/A"}},{"$f":"MATCH(BP$3,Millwall!$AA96:$AL96,0)","v":{"$error":"#N/A"}},{"$f":"MATCH(BQ$3,Millwall!$AA96:$AL96,0)","v":{"$error":"#N/A"}},{"$f":"MATCH(BR$3,Millwall!$AA96:$AL96,0)","v":{"$error":"#N/A"}},{"$f":"MATCH(BS$3,Millwall!$AA96:$AL96,0)","v":{"$error":"#N/A"}},{"$f":"MATCH(BT$3,Millwall!$AA96:$AL96,0)","v":{"$error":"#N/A"}},{"$f":"MATCH(BU$3,Millwall!$AA96:$AL96,0)","v":{"$error":"#N/A"}},{"$f":"MATCH(BV$3,Millwall!$AA96:$AL96,0)","v":{"$error":"#N/A"}},{"$f":"MATCH(BW$3,Millwall!$AA96:$AL96,0)","v":{"$error":"#N/A"}},{"$f":"MATCH(BX$3,Millwall!$AA96:$AL96,0)","v":{"$error":"#N/A"}},{"$f":"MATCH(BY$3,Millwall!$AA96:$AL96,0)","v":{"$error":"#N/A"}},{"$f":"MATCH(BZ$3,Millwall!$AA96:$AL96,0)","v":{"$error":"#N/A"}},{"$f":"MATCH(CA$3,Millwall!$AA96:$AL96,0)","v":{"$error":"#N/A"}},{"$f":"MATCH(CB$3,Millwall!$AA96:$AL96,0)","v":{"$error":"#N/A"}},{"$f":"MATCH(CC$3,Millwall!$AA96:$AL96,0)","v":{"$error":"#N/A"}},{"$f":"MATCH(CD$3,Millwall!$AA96:$AL96,0)","v":{"$error":"#N/A"}},{"$f":"MATCH(CE$3,Millwall!$AA96:$AL96,0)","v":{"$error":"#N/A"}},null,null,null,null,null,null,{"$f":"$CM$26&\" [**\"","v":"Sansome [**"},{"$f":"Millwall!$AA177","v":"Sansome"},"Sansome (**",{"$f":"$CM$26&\"**\"","v":"Sansome**"},null,{"$f":"$CM$26","v":"Sansome"},{"$f":"$CN$26","v":"Sansome (**"},{"$f":"$CO$26","v":"Sansome**"},null,{"$f":"Millwall!$BZ30","v":0},{"$f":"Millwall!$CE30","v":0},{"$f":"Millwall!$CJ30","v":0},{"$f":"Millwall!$CO30","v":0}]
[null,null,0,23,null,{"$f":"Millwall!W97","v":"1987-01-03"},null,{"$f":"Millwall!X97","v":"Stoke"},{"$f":"Millwall!Y97","v":"(H)"},{"$f":"Millwall!Z97","v":"D 1-1"},{"$f":"MATCH(K$4,Millwall!$AA97:$AL97,0)","v":{"$error":"#N/A"}},{"$f":"MATCH(L$4,Millwall!$AA97:$AL97,0)","v":12},{"$f":"MATCH(M$4,Millwall!$AA97:$AL97,0)","v":4},{"$f":"MATCH(N$4,Millwall!$AA97:$AL97,0)","v":7},{"$f":"MATCH(O$4,Millwall!$AA97:$AL97,0)","v":{"$error":"#N/A"}},{"$f":"MATCH(P$4,Millwall!$AA97:$AL97,0)","v":{"$error":"#N/A"}},{"$f":"MATCH(Q$4,Millwall!$AA97:$AL97,0)","v":3},{"$f":"MATCH(R$4,Millwall!$AA97:$AL97,0)","v":2},{"$f":"MATCH(S$4,Millwall!$AA97:$AL97,0)","v":{"$error":"#N/A"}},{"$f":"MATCH(T$4,Millwall!$AA97:$AL97,0)","v":{"$error":"#N/A"}},{"$f":"MATCH(U$4,Millwall!$AA97:$AL97,0)","v":1},{"$f":"MATCH(V$4,Millwall!$AA97:$AL97,0)","v":{"$error":"#N/A"}},{"$f":"MATCH(W$4,Millwall!$AA97:$AL97,0)","v":10},{"$f":"MATCH(X$4,Millwall!$AA97:$AL97,0)","v":{"$error":"#N/A"}},{"$f":"MATCH(Y$4,Millwall!$AA97:$AL97,0)","v":{"$error":"#N/A"}},{"$f":"MATCH(Z$4,Millwall!$AA97:$AL97,0)","v":{"$error":"#N/A"}},{"$f":"MATCH(AA$4,Millwall!$AA97:$AL97,0)","v":6},{"$f":"MATCH(AB$4,Millwall!$AA97:$AL97,0)","v":{"$error":"#N/A"}},{"$f":"MATCH(AC$4,Millwall!$AA97:$AL97,0)","v":8},{"$f":"MATCH(AD$4,Millwall!$AA97:$AL97,0)","v":{"$error":"#N/A"}},{"$f":"MATCH(AE$4,Millwall!$AA97:$AL97,0)","v":11},{"$f":"MATCH(AF$4,Millwall!$AA97:$AL97,0)","v":{"$error":"#N/A"}},{"$f":"MATCH(AG$4,Millwall!$AA97:$AL97,0)","v":9},{"$f":"MATCH(AH$4,Millwall!$AA97:$AL97,0)","v":{"$error":"#N/A"}},{"$f":"MATCH(AI$4,Millwall!$AA97:$AL97,0)","v":{"$error":"#N/A"}},{"$f":"MATCH(AJ$4,Millwall!$AA97:$AL97,0)","v":5},{"$f":"MATCH(AK$4,Millwall!$AA97:$AL97,0)","v":{"$error":"#N/A"}},{"$f":"MATCH(AL$4,Millwall!$AA97:$AL97,0)","v":{"$error":"#N/A"}},{"$f":"MATCH(AM$4,Millwall!$AA97:$AL97,0)","v":{"$error":"#N/A"}},{"$f":"MATCH(AN$4,Millwall!$AA97:$AL97,0)","v":{"$error":"#N/A"}},{"$f":"MATCH(AO$4,Millwall!$AA97:$AL97,0)","v":{"$error":"#N/A"}},{"$f":"MATCH(AP$4,Millwall!$AA97:$AL97,0)","v":{"$error":"#N/A"}},{"$f":"MATCH(AQ$4,Millwall!$AA97:$AL97,0)","v":{"$error":"#N/A"}},{"$f":"MATCH(AR$4,Millwall!$AD97:$AO97,0)","v":{"$error":"#N/A"}},null,null,null,null,null,{"$f":"MATCH(AX$3,Millwall!$AA97:$AL97,0)","v":{"$error":"#N/A"}},{"$f":"MATCH(AY$3,Millwall!$AA97:$AL97,0)","v":{"$error":"#N/A"}},{"$f":"MATCH(AZ$3,Millwall!$AA97:$AL97,0)","v":{"$error":"#N/A"}},{"$f":"MATCH(BA$3,Millwall!$AA97:$AL97,0)","v":{"$error":"#N/A"}},{"$f":"MATCH(BB$3,Millwall!$AA97:$AL97,0)","v":{"$error":"#N/A"}},{"$f":"MATCH(BC$3,Millwall!$AA97:$AL97,0)","v":{"$error":"#N/A"}},{"$f":"MATCH(BD$3,Millwall!$AA97:$AL97,0)","v":{"$error":"#N/A"}},{"$f":"MATCH(BE$3,Millwall!$AA97:$AL97,0)","v":{"$error":"#N/A"}},{"$f":"MATCH(BF$3,Millwall!$AA97:$AL97,0)","v":{"$error":"#N/A"}},{"$f":"MATCH(BG$3,Millwall!$AA97:$AL97,0)","v":{"$error":"#N/A"}},{"$f":"MATCH(BH$3,Millwall!$AA97:$AL97,0)","v":{"$error":"#N/A"}},{"$f":"MATCH(BI$3,Millwall!$AA97:$AL97,0)","v":{"$error":"#N/A"}},{"$f":"MATCH(BJ$3,Millwall!$AA97:$AL97,0)","v":{"$error":"#N/A"}},{"$f":"MATCH(BK$3,Millwall!$AA97:$AL97,0)","v":{"$error":"#N/A"}},{"$f":"MATCH(BL$3,Millwall!$AA97:$AL97,0)","v":{"$error":"#N/A"}},{"$f":"MATCH(BM$3,Millwall!$AA97:$AL97,0)","v":{"$error":"#N/A"}},{"$f":"MATCH(BN$3,Millwall!$AA97:$AL97,0)","v":{"$error":"#N/A"}},{"$f":"MATCH(BO$3,Millwall!$AA97:$AL97,0)","v":{"$error":"#N/A"}},{"$f":"MATCH(BP$3,Millwall!$AA97:$AL97,0)","v":{"$error":"#N/A"}},{"$f":"MATCH(BQ$3,Millwall!$AA97:$AL97,0)","v":{"$error":"#N/A"}},{"$f":"MATCH(BR$3,Millwall!$AA97:$AL97,0)","v":{"$error":"#N/A"}},{"$f":"MATCH(BS$3,Millwall!$AA97:$AL97,0)","v":{"$error":"#N/A"}},{"$f":"MATCH(BT$3,Millwall!$AA97:$AL97,0)","v":{"$error":"#N/A"}},{"$f":"MATCH(BU$3,Millwall!$AA97:$AL97,0)","v":{"$error":"#N/A"}},{"$f":"MATCH(BV$3,Millwall!$AA97:$AL97,0)","v":{"$error":"#N/A"}},{"$f":"MATCH(BW$3,Millwall!$AA97:$AL97,0)","v":{"$error":"#N/A"}},{"$f":"MATCH(BX$3,Millwall!$AA97:$AL97,0)","v":{"$error":"#N/A"}},{"$f":"MATCH(BY$3,Millwall!$AA97:$AL97,0)","v":{"$error":"#N/A"}},{"$f":"MATCH(BZ$3,Millwall!$AA97:$AL97,0)","v":{"$error":"#N/A"}},{"$f":"MATCH(CA$3,Millwall!$AA97:$AL97,0)","v":{"$error":"#N/A"}},{"$f":"MATCH(CB$3,Millwall!$AA97:$AL97,0)","v":{"$error":"#N/A"}},{"$f":"MATCH(CC$3,Millwall!$AA97:$AL97,0)","v":{"$error":"#N/A"}},{"$f":"MATCH(CD$3,Millwall!$AA97:$AL97,0)","v":{"$error":"#N/A"}},{"$f":"MATCH(CE$3,Millwall!$AA97:$AL97,0)","v":{"$error":"#N/A"}},null,null,null,null,null,null,{"$f":"$CM$27&\" [**\"","v":"Sheringham [**"},{"$f":"Millwall!$AA178","v":"Sheringham"},"Sheringham (**",{"$f":"$CM$27&\"**\"","v":"Sheringham**"},null,{"$f":"$CM$27","v":"Sheringham"},{"$f":"$CN$27","v":"Sheringham (**"},{"$f":"$CO$27","v":"Sheringham**"},null,{"$f":"Millwall!$BZ31","v":13},{"$f":"Millwall!$CE31","v":0},{"$f":"Millwall!$CJ31","v":2},{"$f":"Millwall!$CO31","v":1}]
[null,null,0,24,null,{"$f":"Millwall!W98","v":"1987-01-17"},null,{"$f":"Millwall!X98","v":"Bradford"},{"$f":"Millwall!Y98","v":"(A)"},{"$f":"Millwall!Z98","v":"L 0-4"},{"$f":"MATCH(K$4,Millwall!$AA98:$AL98,0)","v":{"$error":"#N/A"}},{"$f":"MATCH(L$4,Millwall!$AA98:$AL98,0)","v":{"$error":"#N/A"}},{"$f":"MATCH(M$4,Millwall!$AA98:$AL98,0)","v":4},{"$f":"MATCH(N$4,Millwall!$AA98:$AL98,0)","v":7},{"$f":"MATCH(O$4,Millwall!$AA98:$AL98,0)","v":{"$error":"#N/A"}},{"$f":"MATCH(P$4,Millwall!$AA98:$AL98,0)","v":{"$error":"#N/A"}},{"$f":"MATCH(Q$4,Millwall!$AA98:$AL98,0)","v":3},{"$f":"MATCH(R$4,Millwall!$AA98:$AL98,0)","v":12},{"$f":"MATCH(S$4,Millwall!$AA98:$AL98,0)","v":{"$error":"#N/A"}},{"$f":"MATCH(T$4,Millwall!$AA98:$AL98,0)","v":{"$error":"#N/A"}},{"$f":"MATCH(U$4,Millwall!$AA98:$AL98,0)","v":1},{"$f":"MATCH(V$4,Millwall!$AA98:$AL98,0)","v":{"$error":"#N/A"}},{"$f":"MATCH(W$4,Millwall!$AA98:$AL98,0)","v":11},{"$f":"MATCH(X$4,Millwall!$AA98:$AL98,0)","v":{"$error":"#N/A"}},{"$f":"MATCH(Y$4,Millwall!$AA98:$AL98,0)","v":{"$error":"#N/A"}},{"$f":"MATCH(Z$4,Millwall!$AA98:$AL98,0)","v":10},{"$f":"MATCH(AA$4,Millwall!$AA98:$AL98,0)","v":6},{"$f":"MATCH(AB$4,Millwall!$AA98:$AL98,0)","v":{"$error":"#N/A"}},{"$f":"MATCH(AC$4,Millwall!$AA98:$AL98,0)","v":8},{"$f":"MATCH(AD$4,Millwall!$AA98:$AL98,0)","v":{"$error":"#N/A"}},{"$f":"MATCH(AE$4,Millwall!$AA98:$AL98,0)","v":{"$error":"#N/A"}},{"$f":"MATCH(AF$4,Millwall!$AA98:$AL98,0)","v":{"$error":"#N/A"}},{"$f":"MATCH(AG$4,Millwall!$AA98:$AL98,0)","v":9},{"$f":"MATCH(AH$4,Millwall!$AA98:$AL98,0)","v":{"$error":"#N/A"}},{"$f":"MATCH(AI$4,Millwall!$AA98:$AL98,0)","v":2},{"$f":"MATCH(AJ$4,Millwall!$AA98:$AL98,0)","v":5},{"$f":"MATCH(AK$4,Millwall!$AA98:$AL98,0)","v":{"$error":"#N/A"}},{"$f":"MATCH(AL$4,Millwall!$AA98:$AL98,0)","v":{"$error":"#N/A"}},{"$f":"MATCH(AM$4,Millwall!$AA98:$AL98,0)","v":{"$error":"#N/A"}},{"$f":"MATCH(AN$4,Millwall!$AA98:$AL98,0)","v":{"$error":"#N/A"}},{"$f":"MATCH(AO$4,Millwall!$AA98:$AL98,0)","v":{"$error":"#N/A"}},{"$f":"MATCH(AP$4,Millwall!$AA98:$AL98,0)","v":{"$error":"#N/A"}},{"$f":"MATCH(AQ$4,Millwall!$AA98:$AL98,0)","v":{"$error":"#N/A"}},{"$f":"MATCH(AR$4,Millwall!$AD98:$AO98,0)","v":{"$error":"#N/A"}},null,null,null,null,null,{"$f":"MATCH(AX$3,Millwall!$AA98:$AL98,0)","v":{"$error":"#N/A"}},{"$f":"MATCH(AY$3,Millwall!$AA98:$AL98,0)","v":{"$error":"#N/A"}},{"$f":"MATCH(AZ$3,Millwall!$AA98:$AL98,0)","v":{"$error":"#N/A"}},{"$f":"MATCH(BA$3,Millwall!$AA98:$AL98,0)","v":{"$error":"#N/A"}},{"$f":"MATCH(BB$3,Millwall!$AA98:$AL98,0)","v":{"$error":"#N/A"}},{"$f":"MATCH(BC$3,Millwall!$AA98:$AL98,0)","v":{"$error":"#N/A"}},{"$f":"MATCH(BD$3,Millwall!$AA98:$AL98,0)","v":{"$error":"#N/A"}},{"$f":"MATCH(BE$3,Millwall!$AA98:$AL98,0)","v":{"$error":"#N/A"}},{"$f":"MATCH(BF$3,Millwall!$AA98:$AL98,0)","v":{"$error":"#N/A"}},{"$f":"MATCH(BG$3,Millwall!$AA98:$AL98,0)","v":{"$error":"#N/A"}},{"$f":"MATCH(BH$3,Millwall!$AA98:$AL98,0)","v":{"$error":"#N/A"}},{"$f":"MATCH(BI$3,Millwall!$AA98:$AL98,0)","v":{"$error":"#N/A"}},{"$f":"MATCH(BJ$3,Millwall!$AA98:$AL98,0)","v":{"$error":"#N/A"}},{"$f":"MATCH(BK$3,Millwall!$AA98:$AL98,0)","v":{"$error":"#N/A"}},{"$f":"MATCH(BL$3,Millwall!$AA98:$AL98,0)","v":{"$error":"#N/A"}},{"$f":"MATCH(BM$3,Millwall!$AA98:$AL98,0)","v":{"$error":"#N/A"}},{"$f":"MATCH(BN$3,Millwall!$AA98:$AL98,0)","v":{"$error":"#N/A"}},{"$f":"MATCH(BO$3,Millwall!$AA98:$AL98,0)","v":{"$error":"#N/A"}},{"$f":"MATCH(BP$3,Millwall!$AA98:$AL98,0)","v":{"$error":"#N/A"}},{"$f":"MATCH(BQ$3,Millwall!$AA98:$AL98,0)","v":{"$error":"#N/A"}},{"$f":"MATCH(BR$3,Millwall!$AA98:$AL98,0)","v":{"$error":"#N/A"}},{"$f":"MATCH(BS$3,Millwall!$AA98:$AL98,0)","v":{"$error":"#N/A"}},{"$f":"MATCH(BT$3,Millwall!$AA98:$AL98,0)","v":{"$error":"#N/A"}},{"$f":"MATCH(BU$3,Millwall!$AA98:$AL98,0)","v":{"$error":"#N/A"}},{"$f":"MATCH(BV$3,Millwall!$AA98:$AL98,0)","v":{"$error":"#N/A"}},{"$f":"MATCH(BW$3,Millwall!$AA98:$AL98,0)","v":{"$error":"#N/A"}},{"$f":"MATCH(BX$3,Millwall!$AA98:$AL98,0)","v":{"$error":"#N/A"}},{"$f":"MATCH(BY$3,Millwall!$AA98:$AL98,0)","v":{"$error":"#N/A"}},{"$f":"MATCH(BZ$3,Millwall!$AA98:$AL98,0)","v":{"$error":"#N/A"}},{"$f":"MATCH(CA$3,Millwall!$AA98:$AL98,0)","v":{"$error":"#N/A"}},{"$f":"MATCH(CB$3,Millwall!$AA98:$AL98,0)","v":{"$error":"#N/A"}},{"$f":"MATCH(CC$3,Millwall!$AA98:$AL98,0)","v":{"$error":"#N/A"}},{"$f":"MATCH(CD$3,Millwall!$AA98:$AL98,0)","v":{"$error":"#N/A"}},{"$f":"MATCH(CE$3,Millwall!$AA98:$AL98,0)","v":{"$error":"#N/A"}},null,null,null,null,null,null,{"$f":"$CM$28&\" [**\"","v":"Sparham [**"},{"$f":"Millwall!$AA179","v":"Sparham"},"Sparham (**",{"$f":"$CM$28&\"**\"","v":"Sparham**"},null,{"$f":"$CM$28","v":"Sparham"},{"$f":"$CN$28","v":"Sparham (**"},{"$f":"$CO$28","v":"Sparham**"},null,{"$f":"Millwall!$BZ32","v":0},{"$f":"Millwall!$CE32","v":0},{"$f":"Millwall!$CJ32","v":0},{"$f":"Millwall!$CO32","v":0}]
[null,null,0,25,null,{"$f":"Millwall!W99","v":"1987-01-24"},null,{"$f":"Millwall!X99","v":"Reading"},{"$f":"Millwall!Y99","v":"(H)"},{"$f":"Millwall!Z99","v":"W 2-1"},{"$f":"MATCH(K$4,Millwall!$AA99:$AL99,0)","v":10},{"$f":"MATCH(L$4,Millwall!$AA99:$AL99,0)","v":{"$error":"#N/A"}},{"$f":"MATCH(M$4,Millwall!$AA99:$AL99,0)","v":4},{"$f":"MATCH(N$4,Millwall!$AA99:$AL99,0)","v":7},{"$f":"MATCH(O$4,Millwall!$AA99:$AL99,0)","v":{"$error":"#N/A"}},{"$f":"MATCH(P$4,Millwall!$AA99:$AL99,0)","v":{"$error":"#N/A"}},{"$f":"MATCH(Q$4,Millwall!$AA99:$AL99,0)","v":3},{"$f":"MATCH(R$4,Millwall!$AA99:$AL99,0)","v":{"$error":"#N/A"}},{"$f":"MATCH(S$4,Millwall!$AA99:$AL99,0)","v":{"$error":"#N/A"}},{"$f":"MATCH(T$4,Millwall!$AA99:$AL99,0)","v":{"$error":"#N/A"}},{"$f":"MATCH(U$4,Millwall!$AA99:$AL99,0)","v":1},{"$f":"MATCH(V$4,Millwall!$AA99:$AL99,0)","v":{"$error":"#N/A"}},{"$f":"MATCH(W$4,Millwall!$AA99:$AL99,0)","v":12},{"$f":"MATCH(X$4,Millwall!$AA99:$AL99,0)","v":{"$error":"#N/A"}},{"$f":"MATCH(Y$4,Millwall!$AA99:$AL99,0)","v":{"$error":"#N/A"}},{"$f":"MATCH(Z$4,Millwall!$AA99:$AL99,0)","v":11},{"$f":"MATCH(AA$4,Millwall!$AA99:$AL99,0)","v":6},{"$f":"MATCH(AB$4,Millwall!$AA99:$AL99,0)","v":{"$error":"#N/A"}},{"$f":"MATCH(AC$4,Millwall!$AA99:$AL99,0)","v":8},{"$f":"MATCH(AD$4,Millwall!$AA99:$AL99,0)","v":{"$error":"#N/A"}},{"$f":"MATCH(AE$4,Millwall!$AA99:$AL99,0)","v":{"$error":"#N/A"}},{"$f":"MATCH(AF$4,Millwall!$AA99:$AL99,0)","v":{"$error":"#N/A"}},{"$f":"MATCH(AG$4,Millwall!$AA99:$AL99,0)","v":9},{"$f":"MATCH(AH$4,Millwall!$AA99:$AL99,0)","v":{"$error":"#N/A"}},{"$f":"MATCH(AI$4,Millwall!$AA99:$AL99,0)","v":2},{"$f":"MATCH(AJ$4,Millwall!$AA99:$AL99,0)","v":5},{"$f":"MATCH(AK$4,Millwall!$AA99:$AL99,0)","v":{"$error":"#N/A"}},{"$f":"MATCH(AL$4,Millwall!$AA99:$AL99,0)","v":{"$error":"#N/A"}},{"$f":"MATCH(AM$4,Millwall!$AA99:$AL99,0)","v":{"$error":"#N/A"}},{"$f":"MATCH(AN$4,Millwall!$AA99:$AL99,0)","v":{"$error":"#N/A"}},{"$f":"MATCH(AO$4,Millwall!$AA99:$AL99,0)","v":{"$error":"#N/A"}},{"$f":"MATCH(AP$4,Millwall!$AA99:$AL99,0)","v":{"$error":"#N/A"}},{"$f":"MATCH(AQ$4,Millwall!$AA99:$AL99,0)","v":{"$error":"#N/A"}},{"$f":"MATCH(AR$4,Millwall!$AD99:$AO99,0)","v":{"$error":"#N/A"}},null,null,null,null,null,{"$f":"MATCH(AX$3,Millwall!$AA99:$AL99,0)","v":{"$error":"#N/A"}},{"$f":"MATCH(AY$3,Millwall!$AA99:$AL99,0)","v":{"$error":"#N/A"}},{"$f":"MATCH(AZ$3,Millwall!$AA99:$AL99,0)","v":{"$error":"#N/A"}},{"$f":"MATCH(BA$3,Millwall!$AA99:$AL99,0)","v":{"$error":"#N/A"}},{"$f":"MATCH(BB$3,Millwall!$AA99:$AL99,0)","v":{"$error":"#N/A"}},{"$f":"MATCH(BC$3,Millwall!$AA99:$AL99,0)","v":{"$error":"#N/A"}},{"$f":"MATCH(BD$3,Millwall!$AA99:$AL99,0)","v":{"$error":"#N/A"}},{"$f":"MATCH(BE$3,Millwall!$AA99:$AL99,0)","v":{"$error":"#N/A"}},{"$f":"MATCH(BF$3,Millwall!$AA99:$AL99,0)","v":{"$error":"#N/A"}},{"$f":"MATCH(BG$3,Millwall!$AA99:$AL99,0)","v":{"$error":"#N/A"}},{"$f":"MATCH(BH$3,Millwall!$AA99:$AL99,0)","v":{"$error":"#N/A"}},{"$f":"MATCH(BI$3,Millwall!$AA99:$AL99,0)","v":{"$error":"#N/A"}},{"$f":"MATCH(BJ$3,Millwall!$AA99:$AL99,0)","v":{"$error":"#N/A"}},{"$f":"MATCH(BK$3,Millwall!$AA99:$AL99,0)","v":{"$error":"#N/A"}},{"$f":"MATCH(BL$3,Millwall!$AA99:$AL99,0)","v":{"$error":"#N/A"}},{"$f":"MATCH(BM$3,Millwall!$AA99:$AL99,0)","v":{"$error":"#N/A"}},{"$f":"MATCH(BN$3,Millwall!$AA99:$AL99,0)","v":{"$error":"#N/A"}},{"$f":"MATCH(BO$3,Millwall!$AA99:$AL99,0)","v":{"$error":"#N/A"}},{"$f":"MATCH(BP$3,Millwall!$AA99:$AL99,0)","v":{"$error":"#N/A"}},{"$f":"MATCH(BQ$3,Millwall!$AA99:$AL99,0)","v":{"$error":"#N/A"}},{"$f":"MATCH(BR$3,Millwall!$AA99:$AL99,0)","v":{"$error":"#N/A"}},{"$f":"MATCH(BS$3,Millwall!$AA99:$AL99,0)","v":{"$error":"#N/A"}},{"$f":"MATCH(BT$3,Millwall!$AA99:$AL99,0)","v":{"$error":"#N/A"}},{"$f":"MATCH(BU$3,Millwall!$AA99:$AL99,0)","v":{"$error":"#N/A"}},{"$f":"MATCH(BV$3,Millwall!$AA99:$AL99,0)","v":{"$error":"#N/A"}},{"$f":"MATCH(BW$3,Millwall!$AA99:$AL99,0)","v":{"$error":"#N/A"}},{"$f":"MATCH(BX$3,Millwall!$AA99:$AL99,0)","v":{"$error":"#N/A"}},{"$f":"MATCH(BY$3,Millwall!$AA99:$AL99,0)","v":{"$error":"#N/A"}},{"$f":"MATCH(BZ$3,Millwall!$AA99:$AL99,0)","v":{"$error":"#N/A"}},{"$f":"MATCH(CA$3,Millwall!$AA99:$AL99,0)","v":{"$error":"#N/A"}},{"$f":"MATCH(CB$3,Millwall!$AA99:$AL99,0)","v":{"$error":"#N/A"}},{"$f":"MATCH(CC$3,Millwall!$AA99:$AL99,0)","v":{"$error":"#N/A"}},{"$f":"MATCH(CD$3,Millwall!$AA99:$AL99,0)","v":{"$error":"#N/A"}},{"$f":"MATCH(CE$3,Millwall!$AA99:$AL99,0)","v":{"$error":"#N/A"}},null,null,null,null,null,null,{"$f":"$CM$29&\" [**\"","v":"Stevens [**"},{"$f":"Millwall!$AA180","v":"Stevens"},"Stevens (**",{"$f":"$CM$29&\"**\"","v":"Stevens**"},null,{"$f":"$CM$29","v":"Stevens"},{"$f":"$CN$29","v":"Stevens (**"},{"$f":"$CO$29","v":"Stevens**"},null,{"$f":"Millwall!$BZ33","v":1},{"$f":"Millwall!$CE33","v":0},{"$f":"Millwall!$CJ33","v":0},{"$f":"Millwall!$CO33","v":0}]
[null,null,0,26,null,{"$f":"Millwall!W100","v":"1987-02-07"},null,{"$f":"Millwall!X100","v":"Barnsley"},{"$f":"Millwall!Y100","v":"(A)"},{"$f":"Millwall!Z100","v":"L 0-1"},{"$f":"MATCH(K$4,Millwall!$AA100:$AL100,0)","v":10},{"$f":"MATCH(L$4,Millwall!$AA100:$AL100,0)","v":{"$error":"#N/A"}},{"$f":"MATCH(M$4,Millwall!$AA100:$AL100,0)","v":4},{"$f":"MATCH(N$4,Millwall!$AA100:$AL100,0)","v":7},{"$f":"MATCH(O$4,Millwall!$AA100:$AL100,0)","v":{"$error":"#N/A"}},{"$f":"MATCH(P$4,Millwall!$AA100:$AL100,0)","v":{"$error":"#N/A"}},{"$f":"MATCH(Q$4,Millwall!$AA100:$AL100,0)","v":3},{"$f":"MATCH(R$4,Millwall!$AA100:$AL100,0)","v":12},{"$f":"MATCH(S$4,Millwall!$AA100:$AL100,0)","v":{"$error":"#N/A"}},{"$f":"MATCH(T$4,Millwall!$AA100:$AL100,0)","v":{"$error":"#N/A"}},{"$f":"MATCH(U$4,Millwall!$AA100:$AL100,0)","v":1},{"$f":"MATCH(V$4,Millwall!$AA100:$AL100,0)","v":{"$error":"#N/A"}},{"$f":"MATCH(W$4,Millwall!$AA100:$AL100,0)","v":{"$error":"#N/A"}},{"$f":"MATCH(X$4,Millwall!$AA100:$AL100,0)","v":{"$error":"#N/A"}},{"$f":"MATCH(Y$4,Millwall!$AA100:$AL100,0)","v":{"$error":"#N/A"}},{"$f":"MATCH(Z$4,Millwall!$AA100:$AL100,0)","v":11},{"$f":"MATCH(AA$4,Millwall!$AA100:$AL100,0)","v":6},{"$f":"MATCH(AB$4,Millwall!$AA100:$AL100,0)","v":{"$error":"#N/A"}},{"$f":"MATCH(AC$4,Millwall!$AA100:$AL100,0)","v":8},{"$f":"MATCH(AD$4,Millwall!$AA100:$AL100,0)","v":{"$error":"#N/A"}},{"$f":"MATCH(AE$4,Millwall!$AA100:$AL100,0)","v":{"$error":"#N/A"}},{"$f":"MATCH(AF$4,Millwall!$AA100:$AL100,0)","v":{"$error":"#N/A"}},{"$f":"MATCH(AG$4,Millwall!$AA100:$AL100,0)","v":9},{"$f":"MATCH(AH$4,Millwall!$AA100:$AL100,0)","v":{"$error":"#N/A"}},{"$f":"MATCH(AI$4,Millwall!$AA100:$AL100,0)","v":2},{"$f":"MATCH(AJ$4,Millwall!$AA100:$AL100,0)","v":5},{"$f":"MATCH(AK$4,Millwall!$AA100:$AL100,0)","v":{"$error":"#N/A"}},{"$f":"MATCH(AL$4,Millwall!$AA100:$AL100,0)","v":{"$error":"#N/A"}},{"$f":"MATCH(AM$4,Millwall!$AA100:$AL100,0)","v":{"$error":"#N/A"}},{"$f":"MATCH(AN$4,Millwall!$AA100:$AL100,0)","v":{"$error":"#N/A"}},{"$f":"MATCH(AO$4,Millwall!$AA100:$AL100,0)","v":{"$error":"#N/A"}},{"$f":"MATCH(AP$4,Millwall!$AA100:$AL100,0)","v":{"$error":"#N/A"}},{"$f":"MATCH(AQ$4,Millwall!$AA100:$AL100,0)","v":{"$error":"#N/A"}},{"$f":"MATCH(AR$4,Millwall!$AD100:$AO100,0)","v":{"$error":"#N/A"}},null,null,null,null,null,{"$f":"MATCH(AX$3,Millwall!$AA100:$AL100,0)","v":{"$error":"#N/A"}},{"$f":"MATCH(AY$3,Millwall!$AA100:$AL100,0)","v":{"$error":"#N/A"}},{"$f":"MATCH(AZ$3,Millwall!$AA100:$AL100,0)","v":4},{"$f":"MATCH(BA$3,Millwall!$AA100:$AL100,0)","v":{"$error":"#N/A"}},{"$f":"MATCH(BB$3,Millwall!$AA100:$AL100,0)","v":{"$error":"#N/A"}},{"$f":"MATCH(BC$3,Millwall!$AA100:$AL100,0)","v":{"$error":"#N/A"}},{"$f":"MATCH(BD$3,Millwall!$AA100:$AL100,0)","v":{"$error":"#N/A"}},{"$f":"MATCH(BE$3,Millwall!$AA100:$AL100,0)","v":12},{"$f":"MATCH(BF$3,Millwall!$AA100:$AL100,0)","v":{"$error":"#N/A"}},{"$f":"MATCH(BG$3,Millwall!$AA100:$AL100,0)","v":{"$error":"#N/A"}},{"$f":"MATCH(BH$3,Millwall!$AA100:$AL100,0)","v":{"$error":"#N/A"}},{"$f":"MATCH(BI$3,Millwall!$AA100:$AL100,0)","v":{"$error":"#N/A"}},{"$f":"MATCH(BJ$3,Millwall!$AA100:$AL100,0)","v":{"$error":"#N/A"}},{"$f":"MATCH(BK$3,Millwall!$AA100:$AL100,0)","v":{"$error":"#N/A"}},{"$f":"MATCH(BL$3,Millwall!$AA100:$AL100,0)","v":{"$error":"#N/A"}},{"$f":"MATCH(BM$3,Millwall!$AA100:$AL100,0)","v":{"$error":"#N/A"}},{"$f":"MATCH(BN$3,Millwall!$AA100:$AL100,0)","v":{"$error":"#N/A"}},{"$f":"MATCH(BO$3,Millwall!$AA100:$AL100,0)","v":{"$error":"#N/A"}},{"$f":"MATCH(BP$3,Millwall!$AA100:$AL100,0)","v":{"$error":"#N/A"}},{"$f":"MATCH(BQ$3,Millwall!$AA100:$AL100,0)","v":{"$error":"#N/A"}},{"$f":"MATCH(BR$3,Millwall!$AA100:$AL100,0)","v":{"$error":"#N/A"}},{"$f":"MATCH(BS$3,Millwall!$AA100:$AL100,0)","v":{"$error":"#N/A"}},{"$f":"MATCH(BT$3,Millwall!$AA100:$AL100,0)","v":{"$error":"#N/A"}},{"$f":"MATCH(BU$3,Millwall!$AA100:$AL100,0)","v":{"$error":"#N/A"}},{"$f":"MATCH(BV$3,Millwall!$AA100:$AL100,0)","v":{"$error":"#N/A"}},{"$f":"MATCH(BW$3,Millwall!$AA100:$AL100,0)","v":{"$error":"#N/A"}},{"$f":"MATCH(BX$3,Millwall!$AA100:$AL100,0)","v":{"$error":"#N/A"}},{"$f":"MATCH(BY$3,Millwall!$AA100:$AL100,0)","v":{"$error":"#N/A"}},{"$f":"MATCH(BZ$3,Millwall!$AA100:$AL100,0)","v":{"$error":"#N/A"}},{"$f":"MATCH(CA$3,Millwall!$AA100:$AL100,0)","v":{"$error":"#N/A"}},{"$f":"MATCH(CB$3,Millwall!$AA100:$AL100,0)","v":{"$error":"#N/A"}},{"$f":"MATCH(CC$3,Millwall!$AA100:$AL100,0)","v":{"$error":"#N/A"}},{"$f":"MATCH(CD$3,Millwall!$AA100:$AL100,0)","v":{"$error":"#N/A"}},{"$f":"MATCH(CE$3,Millwall!$AA100:$AL100,0)","v":{"$error":"#N/A"}},null,null,null,null,null,null,{"$f":"$CM$30&\" [**\"","v":"Walker [**"},{"$f":"Millwall!$AA181","v":"Walker"},"Walker (**",{"$f":"$CM$30&\"**\"","v":"Walker**"},null,{"$f":"$CM$30","v":"Walker"},{"$f":"$CN$30","v":"Walker (**"},{"$f":"$CO$30","v":"Walker**"},null,{"$f":"Millwall!$BZ34","v":1},{"$f":"Millwall!$CE34","v":0},{"$f":"Millwall!$CJ34","v":2},{"$f":"Millwall!$CO34","v":0}]
[null,null,0,27,null,{"$f":"Millwall!W101","v":"1987-02-14"},null,{"$f":"Millwall!X101","v":"Sheff Utd"},{"$f":"Millwall!Y101","v":"(H)"},{"$f":"Millwall!Z101","v":"W 1-0"},{"$f":"MATCH(K$4,Millwall!$AA101:$AL101,0)","v":10},{"$f":"MATCH(L$4,Millwall!$AA101:$AL101,0)","v":{"$error":"#N/A"}},{"$f":"MATCH(M$4,Millwall!$AA101:$AL101,0)","v":{"$error":"#N/A"}},{"$f":"MATCH(N$4,Millwall!$AA101:$AL101,0)","v":7},{"$f":"MATCH(O$4,Millwall!$AA101:$AL101,0)","v":{"$error":"#N/A"}},{"$f":"MATCH(P$4,Millwall!$AA101:$AL101,0)","v":{"$error":"#N/A"}},{"$f":"MATCH(Q$4,Millwall!$AA101:$AL101,0)","v":3},{"$f":"MATCH(R$4,Millwall!$AA101:$AL101,0)","v":12},{"$f":"MATCH(S$4,Millwall!$AA101:$AL101,0)","v":{"$error":"#N/A"}},{"$f":"MATCH(T$4,Millwall!$AA101:$AL101,0)","v":{"$error":"#N/A"}},{"$f":"MATCH(U$4,Millwall!$AA101:$AL101,0)","v":1},{"$f":"MATCH(V$4,Millwall!$AA101:$AL101,0)","v":4},{"$f":"MATCH(W$4,Millwall!$AA101:$AL101,0)","v":{"$error":"#N/A"}},{"$f":"MATCH(X$4,Millwall!$AA101:$AL101,0)","v":{"$error":"#N/A"}},{"$f":"MATCH(Y$4,Millwall!$AA101:$AL101,0)","v":{"$error":"#N/A"}},{"$f":"MATCH(Z$4,Millwall!$AA101:$AL101,0)","v":11},{"$f":"MATCH(AA$4,Millwall!$AA101:$AL101,0)","v":6},{"$f":"MATCH(AB$4,Millwall!$AA101:$AL101,0)","v":{"$error":"#N/A"}},{"$f":"MATCH(AC$4,Millwall!$AA101:$AL101,0)","v":8},{"$f":"MATCH(AD$4,Millwall!$AA101:$AL101,0)","v":{"$error":"#N/A"}},{"$f":"MATCH(AE$4,Millwall!$AA101:$AL101,0)","v":{"$error":"#N/A"}},{"$f":"MATCH(AF$4,Millwall!$AA101:$AL101,0)","v":{"$error":"#N/A"}},{"$f":"MATCH(AG$4,Millwall!$AA101:$AL101,0)","v":9},{"$f":"MATCH(AH$4,Millwall!$AA101:$AL101,0)","v":{"$error":"#N/A"}},{"$f":"MATCH(AI$4,Millwall!$AA101:$AL101,0)","v":2},{"$f":"MATCH(AJ$4,Millwall!$AA101:$AL101,0)","v":5},{"$f":"MATCH(AK$4,Millwall!$AA101:$AL101,0)","v":{"$error":"#N/A"}},{"$f":"MATCH(AL$4,Millwall!$AA101:$AL101,0)","v":{"$error":"#N/A"}},{"$f":"MATCH(AM$4,Millwall!$AA101:$AL101,0)","v":{"$error":"#N/A"}},{"$f":"MATCH(AN$4,Millwall!$AA101:$AL101,0)","v":{"$error":"#N/A"}},{"$f":"MATCH(AO$4,Millwall!$AA101:$AL101,0)","v":{"$error":"#N/A"}},{"$f":"MATCH(AP$4,Millwall!$AA101:$AL101,0)","v":{"$error":"#N/A"}},{"$f":"MATCH(AQ$4,Millwall!$AA101:$AL101,0)","v":{"$error":"#N/A"}},{"$f":"MATCH(AR$4,Millwall!$AD101:$AO101,0)","v":{"$error":"#N/A"}},null,null,null,null,null,{"$f":"MATCH(AX$3,Millwall!$AA101:$AL101,0)","v":{"$error":"#N/A"}},{"$f":"MATCH(AY$3,Millwall!$AA101:$AL101,0)","v":{"$error":"#N/A"}},{"$f":"MATCH(AZ$3,Millwall!$AA101:$AL101,0)","v":{"$error":"#N/A"}},{"$f":"MATCH(BA$3,Millwall!$AA101:$AL101,0)","v":{"$error":"#N/A"}},{"$f":"MATCH(BB$3,Millwall!$AA101:$AL101,0)","v":{"$error":"#N/A"}},{"$f":"MATCH(BC$3,Millwall!$AA101:$AL101,0)","v":{"$error":"#N/A"}},{"$f":"MATCH(BD$3,Millwall!$AA101:$AL101,0)","v":{"$error":"#N/A"}},{"$f":"MATCH(BE$3,Millwall!$AA101:$AL101,0)","v":{"$error":"#N/A"}},{"$f":"MATCH(BF$3,Millwall!$AA101:$AL101,0)","v":{"$error":"#N/A"}},{"$f":"MATCH(BG$3,Millwall!$AA101:$AL101,0)","v":{"$error":"#N/A"}},{"$f":"MATCH(BH$3,Millwall!$AA101:$AL101,0)","v":{"$error":"#N/A"}},{"$f":"MATCH(BI$3,Millwall!$AA101:$AL101,0)","v":{"$error":"#N/A"}},{"$f":"MATCH(BJ$3,Millwall!$AA101:$AL101,0)","v":{"$error":"#N/A"}},{"$f":"MATCH(BK$3,Millwall!$AA101:$AL101,0)","v":{"$error":"#N/A"}},{"$f":"MATCH(BL$3,Millwall!$AA101:$AL101,0)","v":{"$error":"#N/A"}},{"$f":"MATCH(BM$3,Millwall!$AA101:$AL101,0)","v":{"$error":"#N/A"}},{"$f":"MATCH(BN$3,Millwall!$AA101:$AL101,0)","v":{"$error":"#N/A"}},{"$f":"MATCH(BO$3,Millwall!$AA101:$AL101,0)","v":{"$error":"#N/A"}},{"$f":"MATCH(BP$3,Millwall!$AA101:$AL101,0)","v":{"$error":"#N/A"}},{"$f":"MATCH(BQ$3,Millwall!$AA101:$AL101,0)","v":{"$error":"#N/A"}},{"$f":"MATCH(BR$3,Millwall!$AA101:$AL101,0)","v":{"$error":"#N/A"}},{"$f":"MATCH(BS$3,Millwall!$AA101:$AL101,0)","v":{"$error":"#N/A"}},{"$f":"MATCH(BT$3,Millwall!$AA101:$AL101,0)","v":{"$error":"#N/A"}},{"$f":"MATCH(BU$3,Millwall!$AA101:$AL101,0)","v":{"$error":"#N/A"}},{"$f":"MATCH(BV$3,Millwall!$AA101:$AL101,0)","v":{"$error":"#N/A"}},{"$f":"MATCH(BW$3,Millwall!$AA101:$AL101,0)","v":{"$error":"#N/A"}},{"$f":"MATCH(BX$3,Millwall!$AA101:$AL101,0)","v":{"$error":"#N/A"}},{"$f":"MATCH(BY$3,Millwall!$AA101:$AL101,0)","v":{"$error":"#N/A"}},{"$f":"MATCH(BZ$3,Millwall!$AA101:$AL101,0)","v":{"$error":"#N/A"}},{"$f":"MATCH(CA$3,Millwall!$AA101:$AL101,0)","v":{"$error":"#N/A"}},{"$f":"MATCH(CB$3,Millwall!$AA101:$AL101,0)","v":{"$error":"#N/A"}},{"$f":"MATCH(CC$3,Millwall!$AA101:$AL101,0)","v":{"$error":"#N/A"}},{"$f":"MATCH(CD$3,Millwall!$AA101:$AL101,0)","v":{"$error":"#N/A"}},{"$f":"MATCH(CE$3,Millwall!$AA101:$AL101,0)","v":{"$error":"#N/A"}},null,null,null,null,null,null,{"$f":"$CM$31&\" [**\"","v":"0 [**"},{"$f":"Millwall!$AA182","v":0},"0 (**",{"$f":"$CM$31&\"**\"","v":"0**"},null,{"$f":"$CM$31","v":0},{"$f":"$CN$31","v":"0 (**"},{"$f":"$CO$31","v":"0**"},null,{"$f":"Millwall!$BZ35","v":0},{"$f":"Millwall!$CE35","v":0},{"$f":"Millwall!$CJ35","v":0},{"$f":"Millwall!$CO35","v":0}]
[null,null,0,28,null,{"$f":"Millwall!W102","v":"1987-02-21"},null,{"$f":"Millwall!X102","v":"Blackburn"},{"$f":"Millwall!Y102","v":"(A)"},{"$f":"Millwall!Z102","v":"L 0-1"},{"$f":"MATCH(K$4,Millwall!$AA102:$AL102,0)","v":10},{"$f":"MATCH(L$4,Millwall!$AA102:$AL102,0)","v":{"$error":"#N/A"}},{"$f":"MATCH(M$4,Millwall!$AA102:$AL102,0)","v":{"$error":"#N/A"}},{"$f":"MATCH(N$4,Millwall!$AA102:$AL102,0)","v":7},{"$f":"MATCH(O$4,Millwall!$AA102:$AL102,0)","v":{"$error":"#N/A"}},{"$f":"MATCH(P$4,Millwall!$AA102:$AL102,0)","v":{"$error":"#N/A"}},{"$f":"MATCH(Q$4,Millwall!$AA102:$AL102,0)","v":3},{"$f":"MATCH(R$4,Millwall!$AA102:$AL102,0)","v":{"$error":"#N/A"}},{"$f":"MATCH(S$4,Millwall!$AA102:$AL102,0)","v":{"$error":"#N/A"}},{"$f":"MATCH(T$4,Millwall!$AA102:$AL102,0)","v":{"$error":"#N/A"}},{"$f":"MATCH(U$4,Millwall!$AA102:$AL102,0)","v":1},{"$f":"MATCH(V$4,Millwall!$AA102:$AL102,0)","v":4},{"$f":"MATCH(W$4,Millwall!$AA102:$AL102,0)","v":{"$error":"#N/A"}},{"$f":"MATCH(X$4,Millwall!$AA102:$AL102,0)","v":{"$error":"#N/A"}},{"$f":"MATCH(Y$4,Millwall!$AA102:$AL102,0)","v":{"$error":"#N/A"}},{"$f":"MATCH(Z$4,Millwall!$AA102:$AL102,0)","v":11},{"$f":"MATCH(AA$4,Millwall!$AA102:$AL102,0)","v":6},{"$f":"MATCH(AB$4,Millwall!$AA102:$AL102,0)","v":12},{"$f":"MATCH(AC$4,Millwall!$AA102:$AL102,0)","v":8},{"$f":"MATCH(AD$4,Millwall!$AA102:$AL102,0)","v":{"$error":"#N/A"}},{"$f":"MATCH(AE$4,Millwall!$AA102:$AL102,0)","v":{"$error":"#N/A"}},{"$f":"MATCH(AF$4,Millwall!$AA102:$AL102,0)","v":{"$error":"#N/A"}},{"$f":"MATCH(AG$4,Millwall!$AA102:$AL102,0)","v":9},{"$f":"MATCH(AH$4,Millwall!$AA102:$AL102,0)","v":{"$error":"#N/A"}},{"$f":"MATCH(AI$4,Millwall!$AA102:$AL102,0)","v":2},{"$f":"MATCH(AJ$4,Millwall!$AA102:$AL102,0)","v":5},{"$f":"MATCH(AK$4,Millwall!$AA102:$AL102,0)","v":{"$error":"#N/A"}},{"$f":"MATCH(AL$4,Millwall!$AA102:$AL102,0)","v":{"$error":"#N/A"}},{"$f":"MATCH(AM$4,Millwall!$AA102:$AL102,0)","v":{"$error":"#N/A"}},{"$f":"MATCH(AN$4,Millwall!$AA102:$AL102,0)","v":{"$error":"#N/A"}},{"$f":"MATCH(AO$4,Millwall!$AA102:$AL102,0)","v":{"$error":"#N/A"}},{"$f":"MATCH(AP$4,Millwall!$AA102:$AL102,0)","v":{"$error":"#N/A"}},{"$f":"MATCH(AQ$4,Millwall!$AA102:$AL102,0)","v":{"$error":"#N/A"}},{"$f":"MATCH(AR$4,Millwall!$AD102:$AO102,0)","v":{"$error":"#N/A"}},null,null,null,null,null,{"$f":"MATCH(AX$3,Millwall!$AA102:$AL102,0)","v":{"$error":"#N/A"}},{"$f":"MATCH(AY$3,Millwall!$AA102:$AL102,0)","v":{"$error":"#N/A"}},{"$f":"MATCH(AZ$3,Millwall!$AA102:$AL102,0)","v":{"$error":"#N/A"}},{"$f":"MATCH(BA$3,Millwall!$AA102:$AL102,0)","v":{"$error":"#N/A"}},{"$f":"MATCH(BB$3,Millwall!$AA102:$AL102,0)","v":{"$error":"#N/A"}},{"$f":"MATCH(BC$3,Millwall!$AA102:$AL102,0)","v":{"$error":"#N/A"}},{"$f":"MATCH(BD$3,Millwall!$AA102:$AL102,0)","v":{"$error":"#N/A"}},{"$f":"MATCH(BE$3,Millwall!$AA102:$AL102,0)","v":{"$error":"#N/A"}},{"$f":"MATCH(BF$3,Millwall!$AA102:$AL102,0)","v":{"$error":"#N/A"}},{"$f":"MATCH(BG$3,Millwall!$AA102:$AL102,0)","v":{"$error":"#N/A"}},{"$f":"MATCH(BH$3,Millwall!$AA102:$AL102,0)","v":{"$error":"#N/A"}},{"$f":"MATCH(BI$3,Millwall!$AA102:$AL102,0)","v":{"$error":"#N/A"}},{"$f":"MATCH(BJ$3,Millwall!$AA102:$AL102,0)","v":{"$error":"#N/A"}},{"$f":"MATCH(BK$3,Millwall!$AA102:$AL102,0)","v":{"$error":"#N/A"}},{"$f":"MATCH(BL$3,Millwall!$AA102:$AL102,0)","v":{"$error":"#N/A"}},{"$f":"MATCH(BM$3,Millwall!$AA102:$AL102,0)","v":11},{"$f":"MATCH(BN$3,Millwall!$AA102:$AL102,0)","v":{"$error":"#N/A"}},{"$f":"MATCH(BO$3,Millwall!$AA102:$AL102,0)","v":12},{"$f":"MATCH(BP$3,Millwall!$AA102:$AL102,0)","v":{"$error":"#N/A"}},{"$f":"MATCH(BQ$3,Millwall!$AA102:$AL102,0)","v":{"$error":"#N/A"}},{"$f":"MATCH(BR$3,Millwall!$AA102:$AL102,0)","v":{"$error":"#N/A"}},{"$f":"MATCH(BS$3,Millwall!$AA102:$AL102,0)","v":{"$error":"#N/A"}},{"$f":"MATCH(BT$3,Millwall!$AA102:$AL102,0)","v":{"$error":"#N/A"}},{"$f":"MATCH(BU$3,Millwall!$AA102:$AL102,0)","v":{"$error":"#N/A"}},{"$f":"MATCH(BV$3,Millwall!$AA102:$AL102,0)","v":{"$error":"#N/A"}},{"$f":"MATCH(BW$3,Millwall!$AA102:$AL102,0)","v":{"$error":"#N/A"}},{"$f":"MATCH(BX$3,Millwall!$AA102:$AL102,0)","v":{"$error":"#N/A"}},{"$f":"MATCH(BY$3,Millwall!$AA102:$AL102,0)","v":{"$error":"#N/A"}},{"$f":"MATCH(BZ$3,Millwall!$AA102:$AL102,0)","v":{"$error":"#N/A"}},{"$f":"MATCH(CA$3,Millwall!$AA102:$AL102,0)","v":{"$error":"#N/A"}},{"$f":"MATCH(CB$3,Millwall!$AA102:$AL102,0)","v":{"$error":"#N/A"}},{"$f":"MATCH(CC$3,Millwall!$AA102:$AL102,0)","v":{"$error":"#N/A"}},{"$f":"MATCH(CD$3,Millwall!$AA102:$AL102,0)","v":{"$error":"#N/A"}},{"$f":"MATCH(CE$3,Millwall!$AA102:$AL102,0)","v":{"$error":"#N/A"}},null,null,null,null,null,null,{"$f":"$CM$32&\" [**\"","v":"0 [**"},{"$f":"Millwall!$AA183","v":0},"0 (**",{"$f":"$CM$32&\"**\"","v":"0**"},null,{"$f":"$CM$32","v":0},{"$f":"$CN$32","v":"0 (**"},{"$f":"$CO$32","v":"0**"},null,{"$f":"Millwall!$BZ36","v":0},{"$f":"Millwall!$CE36","v":0},{"$f":"Millwall!$CJ36","v":0},{"$f":"Millwall!$CO36","v":0}]
[null,null,0,29,null,{"$f":"Millwall!W103","v":"1987-02-28"},null,{"$f":"Millwall!X103","v":"Derby"},{"$f":"Millwall!Y103","v":"(H)"},{"$f":"Millwall!Z103","v":"L 0-1"},{"$f":"MATCH(K$4,Millwall!$AA103:$AL103,0)","v":10},{"$f":"MATCH(L$4,Millwall!$AA103:$AL103,0)","v":12},{"$f":"MATCH(M$4,Millwall!$AA103:$AL103,0)","v":{"$error":"#N/A"}},{"$f":"MATCH(N$4,Millwall!$AA103:$AL103,0)","v":7},{"$f":"MATCH(O$4,Millwall!$AA103:$AL103,0)","v":{"$error":"#N/A"}},{"$f":"MATCH(P$4,Millwall!$AA103:$AL103,0)","v":{"$error":"#N/A"}},{"$f":"MATCH(Q$4,Millwall!$AA103:$AL103,0)","v":3},{"$f":"MATCH(R$4,Millwall!$AA103:$AL103,0)","v":2},{"$f":"MATCH(S$4,Millwall!$AA103:$AL103,0)","v":{"$error":"#N/A"}},{"$f":"MATCH(T$4,Millwall!$AA103:$AL103,0)","v":{"$error":"#N/A"}},{"$f":"MATCH(U$4,Millwall!$AA103:$AL103,0)","v":1},{"$f":"MATCH(V$4,Millwall!$AA103:$AL103,0)","v":4},{"$f":"MATCH(W$4,Millwall!$AA103:$AL103,0)","v":{"$error":"#N/A"}},{"$f":"MATCH(X$4,Millwall!$AA103:$AL103,0)","v":{"$error":"#N/A"}},{"$f":"MATCH(Y$4,Millwall!$AA103:$AL103,0)","v":{"$error":"#N/A"}},{"$f":"MATCH(Z$4,Millwall!$AA103:$AL103,0)","v":{"$error":"#N/A"}},{"$f":"MATCH(AA$4,Millwall!$AA103:$AL103,0)","v":6},{"$f":"MATCH(AB$4,Millwall!$AA103:$AL103,0)","v":11},{"$f":"MATCH(AC$4,Millwall!$AA103:$AL103,0)","v":8},{"$f":"MATCH(AD$4,Millwall!$AA103:$AL103,0)","v":{"$error":"#N/A"}},{"$f":"MATCH(AE$4,Millwall!$AA103:$AL103,0)","v":{"$error":"#N/A"}},{"$f":"MATCH(AF$4,Millwall!$AA103:$AL103,0)","v":{"$error":"#N/A"}},{"$f":"MATCH(AG$4,Millwall!$AA103:$AL103,0)","v":9},{"$f":"MATCH(AH$4,Millwall!$AA103:$AL103,0)","v":{"$error":"#N/A"}},{"$f":"MATCH(AI$4,Millwall!$AA103:$AL103,0)","v":{"$error":"#N/A"}},{"$f":"MATCH(AJ$4,Millwall!$AA103:$AL103,0)","v":5},{"$f":"MATCH(AK$4,Millwall!$AA103:$AL103,0)","v":{"$error":"#N/A"}},{"$f":"MATCH(AL$4,Millwall!$AA103:$AL103,0)","v":{"$error":"#N/A"}},{"$f":"MATCH(AM$4,Millwall!$AA103:$AL103,0)","v":{"$error":"#N/A"}},{"$f":"MATCH(AN$4,Millwall!$AA103:$AL103,0)","v":{"$error":"#N/A"}},{"$f":"MATCH(AO$4,Millwall!$AA103:$AL103,0)","v":{"$error":"#N/A"}},{"$f":"MATCH(AP$4,Millwall!$AA103:$AL103,0)","v":{"$error":"#N/A"}},{"$f":"MATCH(AQ$4,Millwall!$AA103:$AL103,0)","v":{"$error":"#N/A"}},{"$f":"MATCH(AR$4,Millwall!$AD103:$AO103,0)","v":{"$error":"#N/A"}},null,null,null,null,null,{"$f":"MATCH(AX$3,Millwall!$AA103:$AL103,0)","v":{"$error":"#N/A"}},{"$f":"MATCH(AY$3,Millwall!$AA103:$AL103,0)","v":12},{"$f":"MATCH(AZ$3,Millwall!$AA103:$AL103,0)","v":{"$error":"#N/A"}},{"$f":"MATCH(BA$3,Millwall!$AA103:$AL103,0)","v":{"$error":"#N/A"}},{"$f":"MATCH(BB$3,Millwall!$AA103:$AL103,0)","v":{"$error":"#N/A"}},{"$f":"MATCH(BC$3,Millwall!$AA103:$AL103,0)","v":{"$error":"#N/A"}},{"$f":"MATCH(BD$3,Millwall!$AA103:$AL103,0)","v":{"$error":"#N/A"}},{"$f":"MATCH(BE$3,Millwall!$AA103:$AL103,0)","v":{"$error":"#N/A"}},{"$f":"MATCH(BF$3,Millwall!$AA103:$AL103,0)","v":{"$error":"#N/A"}},{"$f":"MATCH(BG$3,Millwall!$AA103:$AL103,0)","v":{"$error":"#N/A"}},{"$f":"MATCH(BH$3,Millwall!$AA103:$AL103,0)","v":{"$error":"#N/A"}},{"$f":"MATCH(BI$3,Millwall!$AA103:$AL103,0)","v":{"$error":"#N/A"}},{"$f":"MATCH(BJ$3,Millwall!$AA103:$AL103,0)","v":{"$error":"#N/A"}},{"$f":"MATCH(BK$3,Millwall!$AA103:$AL103,0)","v":{"$error":"#N/A"}},{"$f":"MATCH(BL$3,Millwall!$AA103:$AL103,0)","v":{"$error":"#N/A"}},{"$f":"MATCH(BM$3,Millwall!$AA103:$AL103,0)","v":{"$error":"#N/A"}},{"$f":"MATCH(BN$3,Millwall!$AA103:$AL103,0)","v":{"$error":"#N/A"}},{"$f":"MATCH(BO$3,Millwall!$AA103:$AL103,0)","v":{"$error":"#N/A"}},{"$f":"MATCH(BP$3,Millwall!$AA103:$AL103,0)","v":8},{"$f":"MATCH(BQ$3,Millwall!$AA103:$AL103,0)","v":{"$error":"#N/A"}},{"$f":"MATCH(BR$3,Millwall!$AA103:$AL103,0)","v":{"$error":"#N/A"}},{"$f":"MATCH(BS$3,Millwall!$AA103:$AL103,0)","v":{"$error":"#N/A"}},{"$f":"MATCH(BT$3,Millwall!$AA103:$AL103,0)","v":{"$error":"#N/A"}},{"$f":"MATCH(BU$3,Millwall!$AA103:$AL103,0)","v":{"$error":"#N/A"}},{"$f":"MATCH(BV$3,Millwall!$AA103:$AL103,0)","v":{"$error":"#N/A"}},{"$f":"MATCH(BW$3,Millwall!$AA103:$AL103,0)","v":{"$error":"#N/A"}},{"$f":"MATCH(BX$3,Millwall!$AA103:$AL103,0)","v":{"$error":"#N/A"}},{"$f":"MATCH(BY$3,Millwall!$AA103:$AL103,0)","v":{"$error":"#N/A"}},{"$f":"MATCH(BZ$3,Millwall!$AA103:$AL103,0)","v":{"$error":"#N/A"}},{"$f":"MATCH(CA$3,Millwall!$AA103:$AL103,0)","v":{"$error":"#N/A"}},{"$f":"MATCH(CB$3,Millwall!$AA103:$AL103,0)","v":{"$error":"#N/A"}},{"$f":"MATCH(CC$3,Millwall!$AA103:$AL103,0)","v":{"$error":"#N/A"}},{"$f":"MATCH(CD$3,Millwall!$AA103:$AL103,0)","v":{"$error":"#N/A"}},{"$f":"MATCH(CE$3,Millwall!$AA103:$AL103,0)","v":{"$error":"#N/A"}},null,null,null,null,null,null,{"$f":"$CM$33&\" [**\"","v":"0 [**"},{"$f":"Millwall!$AA184","v":0},"0 (**",{"$f":"$CM$33&\"**\"","v":"0**"},null,{"$f":"$CM$33","v":0},{"$f":"$CN$33","v":"0 (**"},{"$f":"$CO$33","v":"0**"},null,{"$f":"Millwall!$BZ37","v":0},{"$f":"Millwall!$CE37","v":0},{"$f":"Millwall!$CJ37","v":0},{"$f":"Millwall!$CO37","v":0}]
[null,null,0,30,null,{"$f":"Millwall!W104","v":"1987-03-07"},null,{"$f":"Millwall!X104","v":"Plymouth"},{"$f":"Millwall!Y104","v":"(A)"},{"$f":"Millwall!Z104","v":"L 0-1"},{"$f":"MATCH(K$4,Millwall!$AA104:$AL104,0)","v":10},{"$f":"MATCH(L$4,Millwall!$AA104:$AL104,0)","v":11},{"$f":"MATCH(M$4,Millwall!$AA104:$AL104,0)","v":{"$error":"#N/A"}},{"$f":"MATCH(N$4,Millwall!$AA104:$AL104,0)","v":7},{"$f":"MATCH(O$4,Millwall!$AA104:$AL104,0)","v":{"$error":"#N/A"}},{"$f":"MATCH(P$4,Millwall!$AA104:$AL104,0)","v":{"$error":"#N/A"}},{"$f":"MATCH(Q$4,Millwall!$AA104:$AL104,0)","v":3},{"$f":"MATCH(R$4,Millwall!$AA104:$AL104,0)","v":5},{"$f":"MATCH(S$4,Millwall!$AA104:$AL104,0)","v":{"$error":"#N/A"}},{"$f":"MATCH(T$4,Millwall!$AA104:$AL104,0)","v":{"$error":"#N/A"}},{"$f":"MATCH(U$4,Millwall!$AA104:$AL104,0)","v":1},{"$f":"MATCH(V$4,Millwall!$AA104:$AL104,0)","v":4},{"$f":"MATCH(W$4,Millwall!$AA104:$AL104,0)","v":{"$error":"#N/A"}},{"$f":"MATCH(X$4,Millwall!$AA104:$AL104,0)","v":{"$error":"#N/A"}},{"$f":"MATCH(Y$4,Millwall!$AA104:$AL104,0)","v":{"$error":"#N/A"}},{"$f":"MATCH(Z$4,Millwall!$AA104:$AL104,0)","v":{"$error":"#N/A"}},{"$f":"MATCH(AA$4,Millwall!$AA104:$AL104,0)","v":6},{"$f":"MATCH(AB$4,Millwall!$AA104:$AL104,0)","v":8},{"$f":"MATCH(AC$4,Millwall!$AA104:$AL104,0)","v":2},{"$f":"MATCH(AD$4,Millwall!$AA104:$AL104,0)","v":{"$error":"#N/A"}},{"$f":"MATCH(AE$4,Millwall!$AA104:$AL104,0)","v":{"$error":"#N/A"}},{"$f":"MATCH(AF$4,Millwall!$AA104:$AL104,0)","v":{"$error":"#N/A"}},{"$f":"MATCH(AG$4,Millwall!$AA104:$AL104,0)","v":9},{"$f":"MATCH(AH$4,Millwall!$AA104:$AL104,0)","v":12},{"$f":"MATCH(AI$4,Millwall!$AA104:$AL104,0)","v":{"$error":"#N/A"}},{"$f":"MATCH(AJ$4,Millwall!$AA104:$AL104,0)","v":{"$error":"#N/A"}},{"$f":"MATCH(AK$4,Millwall!$AA104:$AL104,0)","v":{"$error":"#N/A"}},{"$f":"MATCH(AL$4,Millwall!$AA104:$AL104,0)","v":{"$error":"#N/A"}},{"$f":"MATCH(AM$4,Millwall!$AA104:$AL104,0)","v":{"$error":"#N/A"}},{"$f":"MATCH(AN$4,Millwall!$AA104:$AL104,0)","v":{"$error":"#N/A"}},{"$f":"MATCH(AO$4,Millwall!$AA104:$AL104,0)","v":{"$error":"#N/A"}},{"$f":"MATCH(AP$4,Millwall!$AA104:$AL104,0)","v":{"$error":"#N/A"}},{"$f":"MATCH(AQ$4,Millwall!$AA104:$AL104,0)","v":{"$error":"#N/A"}},{"$f":"MATCH(AR$4,Millwall!$AD104:$AO104,0)","v":{"$error":"#N/A"}},null,null,null,null,null,{"$f":"MATCH(AX$3,Millwall!$AA104:$AL104,0)","v":{"$error":"#N/A"}},{"$f":"MATCH(AY$3,Millwall!$AA104:$AL104,0)","v":{"$error":"#N/A"}},{"$f":"MATCH(AZ$3,Millwall!$AA104:$AL104,0)","v":{"$error":"#N/A"}},{"$f":"MATCH(BA$3,Millwall!$AA104:$AL104,0)","v":{"$error":"#N/A"}},{"$f":"MATCH(BB$3,Millwall!$AA104:$AL104,0)","v":{"$error":"#N/A"}},{"$f":"MATCH(BC$3,Millwall!$AA104:$AL104,0)","v":{"$error":"#N/A"}},{"$f":"MATCH(BD$3,Millwall!$AA104:$AL104,0)","v":{"$error":"#N/A"}},{"$f":"MATCH(BE$3,Millwall!$AA104:$AL104,0)","v":{"$error":"#N/A"}},{"$f":"MATCH(BF$3,Millwall!$AA104:$AL104,0)","v":{"$error":"#N/A"}},{"$f":"MATCH(BG$3,Millwall!$AA104:$AL104,0)","v":{"$error":"#N/A"}},{"$f":"MATCH(BH$3,Millwall!$AA104:$AL104,0)","v":{"$error":"#N/A"}},{"$f":"MATCH(BI$3,Millwall!$AA104:$AL104,0)","v":{"$error":"#N/A"}},{"$f":"MATCH(BJ$3,Millwall!$AA104:$AL104,0)","v":{"$error":"#N/A"}},{"$f":"MATCH(BK$3,Millwall!$AA104:$AL104,0)","v":{"$error":"#N/A"}},{"$f":"MATCH(BL$3,Millwall!$AA104:$AL104,0)","v":{"$error":"#N/A"}},{"$f":"MATCH(BM$3,Millwall!$AA104:$AL104,0)","v":{"$error":"#N/A"}},{"$f":"MATCH(BN$3,Millwall!$AA104:$AL104,0)","v":{"$error":"#N/A"}},{"$f":"MATCH(BO$3,Millwall!$AA104:$AL104,0)","v":{"$error":"#N/A"}},{"$f":"MATCH(BP$3,Millwall!$AA104:$AL104,0)","v":{"$error":"#N/A"}},{"$f":"MATCH(BQ$3,Millwall!$AA104:$AL104,0)","v":{"$error":"#N/A"}},{"$f":"MATCH(BR$3,Millwall!$AA104:$AL104,0)","v":{"$error":"#N/A"}},{"$f":"MATCH(BS$3,Millwall!$AA104:$AL104,0)","v":{"$error":"#N/A"}},{"$f":"MATCH(BT$3,Millwall!$AA104:$AL104,0)","v":{"$error":"#N/A"}},{"$f":"MATCH(BU$3,Millwall!$AA104:$AL104,0)","v":{"$error":"#N/A"}},{"$f":"MATCH(BV$3,Millwall!$AA104:$AL104,0)","v":{"$error":"#N/A"}},{"$f":"MATCH(BW$3,Millwall!$AA104:$AL104,0)","v":{"$error":"#N/A"}},{"$f":"MATCH(BX$3,Millwall!$AA104:$AL104,0)","v":{"$error":"#N/A"}},{"$f":"MATCH(BY$3,Millwall!$AA104:$AL104,0)","v":{"$error":"#N/A"}},{"$f":"MATCH(BZ$3,Millwall!$AA104:$AL104,0)","v":{"$error":"#N/A"}},{"$f":"MATCH(CA$3,Millwall!$AA104:$AL104,0)","v":{"$error":"#N/A"}},{"$f":"MATCH(CB$3,Millwall!$AA104:$AL104,0)","v":{"$error":"#N/A"}},{"$f":"MATCH(CC$3,Millwall!$AA104:$AL104,0)","v":{"$error":"#N/A"}},{"$f":"MATCH(CD$3,Millwall!$AA104:$AL104,0)","v":{"$error":"#N/A"}},{"$f":"MATCH(CE$3,Millwall!$AA104:$AL104,0)","v":{"$error":"#N/A"}},null,null,null,null,null,null,{"$f":"$CM$34&\" [**\"","v":"0 [**"},{"$f":"Millwall!$AA185","v":0},"0 (**",{"$f":"$CM$34&\"**\"","v":"0**"},null,{"$f":"$CM$34","v":0},{"$f":"$CN$34","v":"0 (**"},{"$f":"$CO$34","v":"0**"},null,{"$f":"Millwall!$BZ38","v":39},{"$f":"Millwall!$CE38","v":2},{"$f":"Millwall!$CJ38","v":5},{"$f":"Millwall!$CO38","v":4}]
[null,null,0,31,null,{"$f":"Millwall!W105","v":"1987-03-14"},null,{"$f":"Millwall!X105","v":"Oldham"},{"$f":"Millwall!Y105","v":"(H)"},{"$f":"Millwall!Z105","v":"D 0-0"},{"$f":"MATCH(K$4,Millwall!$AA105:$AL105,0)","v":10},{"$f":"MATCH(L$4,Millwall!$AA105:$AL105,0)","v":{"$error":"#N/A"}},{"$f":"MATCH(M$4,Millwall!$AA105:$AL105,0)","v":{"$error":"#N/A"}},{"$f":"MATCH(N$4,Millwall!$AA105:$AL105,0)","v":7},{"$f":"MATCH(O$4,Millwall!$AA105:$AL105,0)","v":11},{"$f":"MATCH(P$4,Millwall!$AA105:$AL105,0)","v":{"$error":"#N/A"}},{"$f":"MATCH(Q$4,Millwall!$AA105:$AL105,0)","v":3},{"$f":"MATCH(R$4,Millwall!$AA105:$AL105,0)","v":12},{"$f":"MATCH(S$4,Millwall!$AA105:$AL105,0)","v":{"$error":"#N/A"}},{"$f":"MATCH(T$4,Millwall!$AA105:$AL105,0)","v":{"$error":"#N/A"}},{"$f":"MATCH(U$4,Millwall!$AA105:$AL105,0)","v":1},{"$f":"MATCH(V$4,Millwall!$AA105:$AL105,0)","v":{"$error":"#N/A"}},{"$f":"MATCH(W$4,Millwall!$AA105:$AL105,0)","v":{"$error":"#N/A"}},{"$f":"MATCH(X$4,Millwall!$AA105:$AL105,0)","v":{"$error":"#N/A"}},{"$f":"MATCH(Y$4,Millwall!$AA105:$AL105,0)","v":{"$error":"#N/A"}},{"$f":"MATCH(Z$4,Millwall!$AA105:$AL105,0)","v":{"$error":"#N/A"}},{"$f":"MATCH(AA$4,Millwall!$AA105:$AL105,0)","v":6},{"$f":"MATCH(AB$4,Millwall!$AA105:$AL105,0)","v":8},{"$f":"MATCH(AC$4,Millwall!$AA105:$AL105,0)","v":4},{"$f":"MATCH(AD$4,Millwall!$AA105:$AL105,0)","v":{"$error":"#N/A"}},{"$f":"MATCH(AE$4,Millwall!$AA105:$AL105,0)","v":{"$error":"#N/A"}},{"$f":"MATCH(AF$4,Millwall!$AA105:$AL105,0)","v":{"$error":"#N/A"}},{"$f":"MATCH(AG$4,Millwall!$AA105:$AL105,0)","v":9},{"$f":"MATCH(AH$4,Millwall!$AA105:$AL105,0)","v":{"$error":"#N/A"}},{"$f":"MATCH(AI$4,Millwall!$AA105:$AL105,0)","v":2},{"$f":"MATCH(AJ$4,Millwall!$AA105:$AL105,0)","v":5},{"$f":"MATCH(AK$4,Millwall!$AA105:$AL105,0)","v":{"$error":"#N/A"}},{"$f":"MATCH(AL$4,Millwall!$AA105:$AL105,0)","v":{"$error":"#N/A"}},{"$f":"MATCH(AM$4,Millwall!$AA105:$AL105,0)","v":{"$error":"#N/A"}},{"$f":"MATCH(AN$4,Millwall!$AA105:$AL105,0)","v":{"$error":"#N/A"}},{"$f":"MATCH(AO$4,Millwall!$AA105:$AL105,0)","v":{"$error":"#N/A"}},{"$f":"MATCH(AP$4,Millwall!$AA105:$AL105,0)","v":{"$error":"#N/A"}},{"$f":"MATCH(AQ$4,Millwall!$AA105:$AL105,0)","v":{"$error":"#N/A"}},{"$f":"MATCH(AR$4,Millwall!$AD105:$AO105,0)","v":{"$error":"#N/A"}},null,null,null,null,null,{"$f":"MATCH(AX$3,Millwall!$AA105:$AL105,0)","v":{"$error":"#N/A"}},{"$f":"MATCH(AY$3,Millwall!$AA105:$AL105,0)","v":{"$error":"#N/A"}},{"$f":"MATCH(AZ$3,Millwall!$AA105:$AL105,0)","v":{"$error":"#N/A"}},{"$f":"MATCH(BA$3,Millwall!$AA105:$AL105,0)","v":{"$error":"#N/A"}},{"$f":"MATCH(BB$3,Millwall!$AA105:$AL105,0)","v":{"$error":"#N/A"}},{"$f":"MATCH(BC$3,Millwall!$AA105:$AL105,0)","v":{"$error":"#N/A"}},{"$f":"MATCH(BD$3,Millwall!$AA105:$AL105,0)","v":{"$error":"#N/A"}},{"$f":"MATCH(BE$3,Millwall!$AA105:$AL105,0)","v":12},{"$f":"MATCH(BF$3,Millwall!$AA105:$AL105,0)","v":{"$error":"#N/A"}},{"$f":"MATCH(BG$3,Millwall!$AA105:$AL105,0)","v":{"$error":"#N/A"}},{"$f":"MATCH(BH$3,Millwall!$AA105:$AL105,0)","v":{"$error":"#N/A"}},{"$f":"MATCH(BI$3,Millwall!$AA105:$AL105,0)","v":{"$error":"#N/A"}},{"$f":"MATCH(BJ$3,Millwall!$AA105:$AL105,0)","v":{"$error":"#N/A"}},{"$f":"MATCH(BK$3,Millwall!$AA105:$AL105,0)","v":{"$error":"#N/A"}},{"$f":"MATCH(BL$3,Millwall!$AA105:$AL105,0)","v":{"$error":"#N/A"}},{"$f":"MATCH(BM$3,Millwall!$AA105:$AL105,0)","v":{"$error":"#N/A"}},{"$f":"MATCH(BN$3,Millwall!$AA105:$AL105,0)","v":{"$error":"#N/A"}},{"$f":"MATCH(BO$3,Millwall!$AA105:$AL105,0)","v":{"$error":"#N/A"}},{"$f":"MATCH(BP$3,Millwall!$AA105:$AL105,0)","v":4},{"$f":"MATCH(BQ$3,Millwall!$AA105:$AL105,0)","v":{"$error":"#N/A"}},{"$f":"MATCH(BR$3,Millwall!$AA105:$AL105,0)","v":{"$error":"#N/A"}},{"$f":"MATCH(BS$3,Millwall!$AA105:$AL105,0)","v":{"$error":"#N/A"}},{"$f":"MATCH(BT$3,Millwall!$AA105:$AL105,0)","v":{"$error":"#N/A"}},{"$f":"MATCH(BU$3,Millwall!$AA105:$AL105,0)","v":{"$error":"#N/A"}},{"$f":"MATCH(BV$3,Millwall!$AA105:$AL105,0)","v":{"$error":"#N/A"}},{"$f":"MATCH(BW$3,Millwall!$AA105:$AL105,0)","v":{"$error":"#N/A"}},{"$f":"MATCH(BX$3,Millwall!$AA105:$AL105,0)","v":{"$error":"#N/A"}},{"$f":"MATCH(BY$3,Millwall!$AA105:$AL105,0)","v":{"$error":"#N/A"}},{"$f":"MATCH(BZ$3,Millwall!$AA105:$AL105,0)","v":{"$error":"#N/A"}},{"$f":"MATCH(CA$3,Millwall!$AA105:$AL105,0)","v":{"$error":"#N/A"}},{"$f":"MATCH(CB$3,Millwall!$AA105:$AL105,0)","v":{"$error":"#N/A"}},{"$f":"MATCH(CC$3,Millwall!$AA105:$AL105,0)","v":{"$error":"#N/A"}},{"$f":"MATCH(CD$3,Millwall!$AA105:$AL105,0)","v":{"$error":"#N/A"}},{"$f":"MATCH(CE$3,Millwall!$AA105:$AL105,0)","v":{"$error":"#N/A"}},null,null,null,null,null,null,{"$f":"$CM$35&\" [**\"","v":"0 [**"},{"$f":"Millwall!$AA186","v":0},"0 (**",{"$f":"$CM$35&\"**\"","v":"0**"},null,{"$f":"$CM$35","v":0},{"$f":"$CN$35","v":"0 (**"},{"$f":"$CO$35","v":"0**"},null,{"$f":"Millwall!$BZ39","v":0},{"$f":"Millwall!$CE39","v":0},{"$f":"Millwall!$CJ39","v":0},{"$f":"Millwall!$CO39","v":0}]
[null,null,0,32,null,{"$f":"Millwall!W106","v":"1987-03-21"},null,{"$f":"Millwall!X106","v":"Shrewsbury"},{"$f":"Millwall!Y106","v":"(A)"},{"$f":"Millwall!Z106","v":"W 2-1"},{"$f":"MATCH(K$4,Millwall!$AA106:$AL106,0)","v":{"$error":"#N/A"}},{"$f":"MATCH(L$4,Millwall!$AA106:$AL106,0)","v":{"$error":"#N/A"}},{"$f":"MATCH(M$4,Millwall!$AA106:$AL106,0)","v":{"$error":"#N/A"}},{"$f":"MATCH(N$4,Millwall!$AA106:$AL106,0)","v":12},{"$f":"MATCH(O$4,Millwall!$AA106:$AL106,0)","v":11},{"$f":"MATCH(P$4,Millwall!$AA106:$AL106,0)","v":{"$error":"#N/A"}},{"$f":"MATCH(Q$4,Millwall!$AA106:$AL106,0)","v":3},{"$f":"MATCH(R$4,Millwall!$AA106:$AL106,0)","v":7},{"$f":"MATCH(S$4,Millwall!$AA106:$AL106,0)","v":{"$error":"#N/A"}},{"$f":"MATCH(T$4,Millwall!$AA106:$AL106,0)","v":{"$error":"#N/A"}},{"$f":"MATCH(U$4,Millwall!$AA106:$AL106,0)","v":1},{"$f":"MATCH(V$4,Millwall!$AA106:$AL106,0)","v":4},{"$f":"MATCH(W$4,Millwall!$AA106:$AL106,0)","v":{"$error":"#N/A"}},{"$f":"MATCH(X$4,Millwall!$AA106:$AL106,0)","v":{"$error":"#N/A"}},{"$f":"MATCH(Y$4,Millwall!$AA106:$AL106,0)","v":{"$error":"#N/A"}},{"$f":"MATCH(Z$4,Millwall!$AA106:$AL106,0)","v":{"$error":"#N/A"}},{"$f":"MATCH(AA$4,Millwall!$AA106:$AL106,0)","v":6},{"$f":"MATCH(AB$4,Millwall!$AA106:$AL106,0)","v":8},{"$f":"MATCH(AC$4,Millwall!$AA106:$AL106,0)","v":{"$error":"#N/A"}},{"$f":"MATCH(AD$4,Millwall!$AA106:$AL106,0)","v":{"$error":"#N/A"}},{"$f":"MATCH(AE$4,Millwall!$AA106:$AL106,0)","v":10},{"$f":"MATCH(AF$4,Millwall!$AA106:$AL106,0)","v":{"$error":"#N/A"}},{"$f":"MATCH(AG$4,Millwall!$AA106:$AL106,0)","v":9},{"$f":"MATCH(AH$4,Millwall!$AA106:$AL106,0)","v":{"$error":"#N/A"}},{"$f":"MATCH(AI$4,Millwall!$AA106:$AL106,0)","v":2},{"$f":"MATCH(AJ$4,Millwall!$AA106:$AL106,0)","v":5},{"$f":"MATCH(AK$4,Millwall!$AA106:$AL106,0)","v":{"$error":"#N/A"}},{"$f":"MATCH(AL$4,Millwall!$AA106:$AL106,0)","v":{"$error":"#N/A"}},{"$f":"MATCH(AM$4,Millwall!$AA106:$AL106,0)","v":{"$error":"#N/A"}},{"$f":"MATCH(AN$4,Millwall!$AA106:$AL106,0)","v":{"$error":"#N/A"}},{"$f":"MATCH(AO$4,Millwall!$AA106:$AL106,0)","v":{"$error":"#N/A"}},{"$f":"MATCH(AP$4,Millwall!$AA106:$AL106,0)","v":{"$error":"#N/A"}},{"$f":"MATCH(AQ$4,Millwall!$AA106:$AL106,0)","v":{"$error":"#N/A"}},{"$f":"MATCH(AR$4,Millwall!$AD106:$AO106,0)","v":{"$error":"#N/A"}},null,null,null,null,null,{"$f":"MATCH(AX$3,Millwall!$AA106:$AL106,0)","v":{"$error":"#N/A"}},{"$f":"MATCH(AY$3,Millwall!$AA106:$AL106,0)","v":{"$error":"#N/A"}},{"$f":"MATCH(AZ$3,Millwall!$AA106:$AL106,0)","v":{"$error":"#N/A"}},{"$f":"MATCH(BA$3,Millwall!$AA106:$AL106,0)","v":12},{"$f":"MATCH(BB$3,Millwall!$AA106:$AL106,0)","v":11},{"$f":"MATCH(BC$3,Millwall!$AA106:$AL106,0)","v":{"$error":"#N/A"}},{"$f":"MATCH(BD$3,Millwall!$AA106:$AL106,0)","v":{"$error":"#N/A"}},{"$f":"MATCH(BE$3,Millwall!$AA106:$AL106,0)","v":{"$error":"#N/A"}},{"$f":"MATCH(BF$3,Millwall!$AA106:$AL106,0)","v":{"$error":"#N/A"}},{"$f":"MATCH(BG$3,Millwall!$AA106:$AL106,0)","v":{"$error":"#N/A"}},{"$f":"MATCH(BH$3,Millwall!$AA106:$AL106,0)","v":{"$error":"#N/A"}},{"$f":"MATCH(BI$3,Millwall!$AA106:$AL106,0)","v":{"$error":"#N/A"}},{"$f":"MATCH(BJ$3,Millwall!$AA106:$AL106,0)","v":{"$error":"#N/A"}},{"$f":"MATCH(BK$3,Millwall!$AA106:$AL106,0)","v":{"$error":"#N/A"}},{"$f":"MATCH(BL$3,Millwall!$AA106:$AL106,0)","v":{"$error":"#N/A"}},{"$f":"MATCH(BM$3,Millwall!$AA106:$AL106,0)","v":{"$error":"#N/A"}},{"$f":"MATCH(BN$3,Millwall!$AA106:$AL106,0)","v":{"$error":"#N/A"}},{"$f":"MATCH(BO$3,Millwall!$AA106:$AL106,0)","v":{"$error":"#N/A"}},{"$f":"MATCH(BP$3,Millwall!$AA106:$AL106,0)","v":{"$error":"#N/A"}},{"$f":"MATCH(BQ$3,Millwall!$AA106:$AL106,0)","v":{"$error":"#N/A"}},{"$f":"MATCH(BR$3,Millwall!$AA106:$AL106,0)","v":{"$error":"#N/A"}},{"$f":"MATCH(BS$3,Millwall!$AA106:$AL106,0)","v":{"$error":"#N/A"}},{"$f":"MATCH(BT$3,Millwall!$AA106:$AL106,0)","v":{"$error":"#N/A"}},{"$f":"MATCH(BU$3,Millwall!$AA106:$AL106,0)","v":{"$error":"#N/A"}},{"$f":"MATCH(BV$3,Millwall!$AA106:$AL106,0)","v":{"$error":"#N/A"}},{"$f":"MATCH(BW$3,Millwall!$AA106:$AL106,0)","v":{"$error":"#N/A"}},{"$f":"MATCH(BX$3,Millwall!$AA106:$AL106,0)","v":{"$error":"#N/A"}},{"$f":"MATCH(BY$3,Millwall!$AA106:$AL106,0)","v":{"$error":"#N/A"}},{"$f":"MATCH(BZ$3,Millwall!$AA106:$AL106,0)","v":{"$error":"#N/A"}},{"$f":"MATCH(CA$3,Millwall!$AA106:$AL106,0)","v":{"$error":"#N/A"}},{"$f":"MATCH(CB$3,Millwall!$AA106:$AL106,0)","v":{"$error":"#N/A"}},{"$f":"MATCH(CC$3,Millwall!$AA106:$AL106,0)","v":{"$error":"#N/A"}},{"$f":"MATCH(CD$3,Millwall!$AA106:$AL106,0)","v":{"$error":"#N/A"}},{"$f":"MATCH(CE$3,Millwall!$AA106:$AL106,0)","v":{"$error":"#N/A"}},null,null,null,null,null,null,{"$f":"$CM$36&\" [**\"","v":"0 [**"},{"$f":"Millwall!$AA187","v":0},"0 (**",{"$f":"$CM$36&\"**\"","v":"0**"},null,{"$f":"$CM$36","v":0},{"$f":"$CN$36","v":"0 (**"},{"$f":"$CO$36","v":"0**"},null,{"$f":"Millwall!$BZ40","v":0},{"$f":"Millwall!$CE40","v":0},{"$f":"Millwall!$CJ40","v":0},{"$f":"Millwall!$CO40","v":0}]
[null,null,0,33,null,{"$f":"Millwall!W107","v":"1987-03-28"},null,{"$f":"Millwall!X107","v":"C Palace"},{"$f":"Millwall!Y107","v":"(H)"},{"$f":"Millwall!Z107","v":"L 0-1"},{"$f":"MATCH(K$4,Millwall!$AA107:$AL107,0)","v":{"$error":"#N/A"}},{"$f":"MATCH(L$4,Millwall!$AA107:$AL107,0)","v":{"$error":"#N/A"}},{"$f":"MATCH(M$4,Millwall!$AA107:$AL107,0)","v":{"$error":"#N/A"}},{"$f":"MATCH(N$4,Millwall!$AA107:$AL107,0)","v":12},{"$f":"MATCH(O$4,Millwall!$AA107:$AL107,0)","v":11},{"$f":"MATCH(P$4,Millwall!$AA107:$AL107,0)","v":{"$error":"#N/A"}},{"$f":"MATCH(Q$4,Millwall!$AA107:$AL107,0)","v":3},{"$f":"MATCH(R$4,Millwall!$AA107:$AL107,0)","v":7},{"$f":"MATCH(S$4,Millwall!$AA107:$AL107,0)","v":{"$error":"#N/A"}},{"$f":"MATCH(T$4,Millwall!$AA107:$AL107,0)","v":{"$error":"#N/A"}},{"$f":"MATCH(U$4,Millwall!$AA107:$AL107,0)","v":1},{"$f":"MATCH(V$4,Millwall!$AA107:$AL107,0)","v":4},{"$f":"MATCH(W$4,Millwall!$AA107:$AL107,0)","v":{"$error":"#N/A"}},{"$f":"MATCH(X$4,Millwall!$AA107:$AL107,0)","v":{"$error":"#N/A"}},{"$f":"MATCH(Y$4,Millwall!$AA107:$AL107,0)","v":{"$error":"#N/A"}},{"$f":"MATCH(Z$4,Millwall!$AA107:$AL107,0)","v":{"$error":"#N/A"}},{"$f":"MATCH(AA$4,Millwall!$AA107:$AL107,0)","v":6},{"$f":"MATCH(AB$4,Millwall!$AA107:$AL107,0)","v":8},{"$f":"MATCH(AC$4,Millwall!$AA107:$AL107,0)","v":{"$error":"#N/A"}},{"$f":"MATCH(AD$4,Millwall!$AA107:$AL107,0)","v":{"$error":"#N/A"}},{"$f":"MATCH(AE$4,Millwall!$AA107:$AL107,0)","v":10},{"$f":"MATCH(AF$4,Millwall!$AA107:$AL107,0)","v":{"$error":"#N/A"}},{"$f":"MATCH(AG$4,Millwall!$AA107:$AL107,0)","v":9},{"$f":"MATCH(AH$4,Millwall!$AA107:$AL107,0)","v":{"$error":"#N/A"}},{"$f":"MATCH(AI$4,Millwall!$AA107:$AL107,0)","v":2},{"$f":"MATCH(AJ$4,Millwall!$AA107:$AL107,0)","v":5},{"$f":"MATCH(AK$4,Millwall!$AA107:$AL107,0)","v":{"$error":"#N/A"}},{"$f":"MATCH(AL$4,Millwall!$AA107:$AL107,0)","v":{"$error":"#N/A"}},{"$f":"MATCH(AM$4,Millwall!$AA107:$AL107,0)","v":{"$error":"#N/A"}},{"$f":"MATCH(AN$4,Millwall!$AA107:$AL107,0)","v":{"$error":"#N/A"}},{"$f":"MATCH(AO$4,Millwall!$AA107:$AL107,0)","v":{"$error":"#N/A"}},{"$f":"MATCH(AP$4,Millwall!$AA107:$AL107,0)","v":{"$error":"#N/A"}},{"$f":"MATCH(AQ$4,Millwall!$AA107:$AL107,0)","v":{"$error":"#N/A"}},{"$f":"MATCH(AR$4,Millwall!$AD107:$AO107,0)","v":{"$error":"#N/A"}},null,null,null,null,null,{"$f":"MATCH(AX$3,Millwall!$AA107:$AL107,0)","v":{"$error":"#N/A"}},{"$f":"MATCH(AY$3,Millwall!$AA107:$AL107,0)","v":{"$error":"#N/A"}},{"$f":"MATCH(AZ$3,Millwall!$AA107:$AL107,0)","v":{"$error":"#N/A"}},{"$f":"MATCH(BA$3,Millwall!$AA107:$AL107,0)","v":12},{"$f":"MATCH(BB$3,Millwall!$AA107:$AL107,0)","v":11},{"$f":"MATCH(BC$3,Millwall!$AA107:$AL107,0)","v":{"$error":"#N/A"}},{"$f":"MATCH(BD$3,Millwall!$AA107:$AL107,0)","v":{"$error":"#N/A"}},{"$f":"MATCH(BE$3,Millwall!$AA107:$AL107,0)","v":{"$error":"#N/A"}},{"$f":"MATCH(BF$3,Millwall!$AA107:$AL107,0)","v":{"$error":"#N/A"}},{"$f":"MATCH(BG$3,Millwall!$AA107:$AL107,0)","v":{"$error":"#N/A"}},{"$f":"MATCH(BH$3,Millwall!$AA107:$AL107,0)","v":{"$error":"#N/A"}},{"$f":"MATCH(BI$3,Millwall!$AA107:$AL107,0)","v":{"$error":"#N/A"}},{"$f":"MATCH(BJ$3,Millwall!$AA107:$AL107,0)","v":{"$error":"#N/A"}},{"$f":"MATCH(BK$3,Millwall!$AA107:$AL107,0)","v":{"$error":"#N/A"}},{"$f":"MATCH(BL$3,Millwall!$AA107:$AL107,0)","v":{"$error":"#N/A"}},{"$f":"MATCH(BM$3,Millwall!$AA107:$AL107,0)","v":{"$error":"#N/A"}},{"$f":"MATCH(BN$3,Millwall!$AA107:$AL107,0)","v":{"$error":"#N/A"}},{"$f":"MATCH(BO$3,Millwall!$AA107:$AL107,0)","v":{"$error":"#N/A"}},{"$f":"MATCH(BP$3,Millwall!$AA107:$AL107,0)","v":{"$error":"#N/A"}},{"$f":"MATCH(BQ$3,Millwall!$AA107:$AL107,0)","v":{"$error":"#N/A"}},{"$f":"MATCH(BR$3,Millwall!$AA107:$AL107,0)","v":{"$error":"#N/A"}},{"$f":"MATCH(BS$3,Millwall!$AA107:$AL107,0)","v":{"$error":"#N/A"}},{"$f":"MATCH(BT$3,Millwall!$AA107:$AL107,0)","v":{"$error":"#N/A"}},{"$f":"MATCH(BU$3,Millwall!$AA107:$AL107,0)","v":{"$error":"#N/A"}},{"$f":"MATCH(BV$3,Millwall!$AA107:$AL107,0)","v":{"$error":"#N/A"}},{"$f":"MATCH(BW$3,Millwall!$AA107:$AL107,0)","v":{"$error":"#N/A"}},{"$f":"MATCH(BX$3,Millwall!$AA107:$AL107,0)","v":{"$error":"#N/A"}},{"$f":"MATCH(BY$3,Millwall!$AA107:$AL107,0)","v":{"$error":"#N/A"}},{"$f":"MATCH(BZ$3,Millwall!$AA107:$AL107,0)","v":{"$error":"#N/A"}},{"$f":"MATCH(CA$3,Millwall!$AA107:$AL107,0)","v":{"$error":"#N/A"}},{"$f":"MATCH(CB$3,Millwall!$AA107:$AL107,0)","v":{"$error":"#N/A"}},{"$f":"MATCH(CC$3,Millwall!$AA107:$AL107,0)","v":{"$error":"#N/A"}},{"$f":"MATCH(CD$3,Millwall!$AA107:$AL107,0)","v":{"$error":"#N/A"}},{"$f":"MATCH(CE$3,Millwall!$AA107:$AL107,0)","v":{"$error":"#N/A"}},null,null,null,null,null,null,{"$f":"$CM$37&\" [**\"","v":"0 [**"},{"$f":"Millwall!$AA188","v":0},"0 (**",{"$f":"$CM$37&\"**\"","v":"0**"},null,{"$f":"$CM$37","v":0},{"$f":"$CN$37","v":"0 (**"},{"$f":"$CO$37","v":"0**"},null,{"$f":"Millwall!$BZ41","v":0},{"$f":"Millwall!$CE41","v":0},{"$f":"Millwall!$CJ41","v":0},{"$f":"Millwall!$CO41","v":0}]
[null,null,0,34,null,{"$f":"Millwall!W108","v":"1987-04-04"},null,{"$f":"Millwall!X108","v":"Leeds"},{"$f":"Millwall!Y108","v":"(A)"},{"$f":"Millwall!Z108","v":"L 0-2"},{"$f":"MATCH(K$4,Millwall!$AA108:$AL108,0)","v":{"$error":"#N/A"}},{"$f":"MATCH(L$4,Millwall!$AA108:$AL108,0)","v":{"$error":"#N/A"}},{"$f":"MATCH(M$4,Millwall!$AA108:$AL108,0)","v":{"$error":"#N/A"}},{"$f":"MATCH(N$4,Millwall!$AA108:$AL108,0)","v":12},{"$f":"MATCH(O$4,Millwall!$AA108:$AL108,0)","v":11},{"$f":"MATCH(P$4,Millwall!$AA108:$AL108,0)","v":{"$error":"#N/A"}},{"$f":"MATCH(Q$4,Millwall!$AA108:$AL108,0)","v":3},{"$f":"MATCH(R$4,Millwall!$AA108:$AL108,0)","v":{"$error":"#N/A"}},{"$f":"MATCH(S$4,Millwall!$AA108:$AL108,0)","v":{"$error":"#N/A"}},{"$f":"MATCH(T$4,Millwall!$AA108:$AL108,0)","v":{"$error":"#N/A"}},{"$f":"MATCH(U$4,Millwall!$AA108:$AL108,0)","v":1},{"$f":"MATCH(V$4,Millwall!$AA108:$AL108,0)","v":4},{"$f":"MATCH(W$4,Millwall!$AA108:$AL108,0)","v":{"$error":"#N/A"}},{"$f":"MATCH(X$4,Millwall!$AA108:$AL108,0)","v":{"$error":"#N/A"}},{"$f":"MATCH(Y$4,Millwall!$AA108:$AL108,0)","v":{"$error":"#N/A"}},{"$f":"MATCH(Z$4,Millwall!$AA108:$AL108,0)","v":7},{"$f":"MATCH(AA$4,Millwall!$AA108:$AL108,0)","v":6},{"$f":"MATCH(AB$4,Millwall!$AA108:$AL108,0)","v":8},{"$f":"MATCH(AC$4,Millwall!$AA108:$AL108,0)","v":{"$error":"#N/A"}},{"$f":"MATCH(AD$4,Millwall!$AA108:$AL108,0)","v":{"$error":"#N/A"}},{"$f":"MATCH(AE$4,Millwall!$AA108:$AL108,0)","v":10},{"$f":"MATCH(AF$4,Millwall!$AA108:$AL108,0)","v":{"$error":"#N/A"}},{"$f":"MATCH(AG$4,Millwall!$AA108:$AL108,0)","v":9},{"$f":"MATCH(AH$4,Millwall!$AA108:$AL108,0)","v":{"$error":"#N/A"}},{"$f":"MATCH(AI$4,Millwall!$AA108:$AL108,0)","v":2},{"$f":"MATCH(AJ$4,Millwall!$AA108:$AL108,0)","v":5},{"$f":"MATCH(AK$4,Millwall!$AA108:$AL108,0)","v":{"$error":"#N/A"}},{"$f":"MATCH(AL$4,Millwall!$AA108:$AL108,0)","v":{"$error":"#N/A"}},{"$f":"MATCH(AM$4,Millwall!$AA108:$AL108,0)","v":{"$error":"#N/A"}},{"$f":"MATCH(AN$4,Millwall!$AA108:$AL108,0)","v":{"$error":"#N/A"}},{"$f":"MATCH(AO$4,Millwall!$AA108:$AL108,0)","v":{"$error":"#N/A"}},{"$f":"MATCH(AP$4,Millwall!$AA108:$AL108,0)","v":{"$error":"#N/A"}},{"$f":"MATCH(AQ$4,Millwall!$AA108:$AL108,0)","v":{"$error":"#N/A"}},{"$f":"MATCH(AR$4,Millwall!$AD108:$AO108,0)","v":{"$error":"#N/A"}},null,null,null,null,null,{"$f":"MATCH(AX$3,Millwall!$AA108:$AL108,0)","v":{"$error":"#N/A"}},{"$f":"MATCH(AY$3,Millwall!$AA108:$AL108,0)","v":{"$error":"#N/A"}},{"$f":"MATCH(AZ$3,Millwall!$AA108:$AL108,0)","v":{"$error":"#N/A"}},{"$f":"MATCH(BA$3,Millwall!$AA108:$AL108,0)","v":12},{"$f":"MATCH(BB$3,Millwall!$AA108:$AL108,0)","v":{"$error":"#N/A"}},{"$f":"MATCH(BC$3,Millwall!$AA108:$AL108,0)","v":{"$error":"#N/A"}},{"$f":"MATCH(BD$3,Millwall!$AA108:$AL108,0)","v":{"$error":"#N/A"}},{"$f":"MATCH(BE$3,Millwall!$AA108:$AL108,0)","v":{"$error":"#N/A"}},{"$f":"MATCH(BF$3,Millwall!$AA108:$AL108,0)","v":{"$error":"#N/A"}},{"$f":"MATCH(BG$3,Millwall!$AA108:$AL108,0)","v":{"$error":"#N/A"}},{"$f":"MATCH(BH$3,Millwall!$AA108:$AL108,0)","v":{"$error":"#N/A"}},{"$f":"MATCH(BI$3,Millwall!$AA108:$AL108,0)","v":{"$error":"#N/A"}},{"$f":"MATCH(BJ$3,Millwall!$AA108:$AL108,0)","v":{"$error":"#N/A"}},{"$f":"MATCH(BK$3,Millwall!$AA108:$AL108,0)","v":{"$error":"#N/A"}},{"$f":"MATCH(BL$3,Millwall!$AA108:$AL108,0)","v":{"$error":"#N/A"}},{"$f":"MATCH(BM$3,Millwall!$AA108:$AL108,0)","v":{"$error":"#N/A"}},{"$f":"MATCH(BN$3,Millwall!$AA108:$AL108,0)","v":{"$error":"#N/A"}},{"$f":"MATCH(BO$3,Millwall!$AA108:$AL108,0)","v":8},{"$f":"MATCH(BP$3,Millwall!$AA108:$AL108,0)","v":{"$error":"#N/A"}},{"$f":"MATCH(BQ$3,Millwall!$AA108:$AL108,0)","v":{"$error":"#N/A"}},{"$f":"MATCH(BR$3,Millwall!$AA108:$AL108,0)","v":{"$error":"#N/A"}},{"$f":"MATCH(BS$3,Millwall!$AA108:$AL108,0)","v":{"$error":"#N/A"}},{"$f":"MATCH(BT$3,Millwall!$AA108:$AL108,0)","v":{"$error":"#N/A"}},{"$f":"MATCH(BU$3,Millwall!$AA108:$AL108,0)","v":{"$error":"#N/A"}},{"$f":"MATCH(BV$3,Millwall!$AA108:$AL108,0)","v":{"$error":"#N/A"}},{"$f":"MATCH(BW$3,Millwall!$AA108:$AL108,0)","v":{"$error":"#N/A"}},{"$f":"MATCH(BX$3,Millwall!$AA108:$AL108,0)","v":{"$error":"#N/A"}},{"$f":"MATCH(BY$3,Millwall!$AA108:$AL108,0)","v":{"$error":"#N/A"}},{"$f":"MATCH(BZ$3,Millwall!$AA108:$AL108,0)","v":{"$error":"#N/A"}},{"$f":"MATCH(CA$3,Millwall!$AA108:$AL108,0)","v":{"$error":"#N/A"}},{"$f":"MATCH(CB$3,Millwall!$AA108:$AL108,0)","v":{"$error":"#N/A"}},{"$f":"MATCH(CC$3,Millwall!$AA108:$AL108,0)","v":{"$error":"#N/A"}},{"$f":"MATCH(CD$3,Millwall!$AA108:$AL108,0)","v":{"$error":"#N/A"}},{"$f":"MATCH(CE$3,Millwall!$AA108:$AL108,0)","v":{"$error":"#N/A"}},null,null,null,null,null,null,{"$f":"$CM$38&\" [**\"","v":"0 [**"},{"$f":"Millwall!$AA189","v":0},"0 (**",{"$f":"$CM$38&\"**\"","v":"0**"},null,{"$f":"$CM$38","v":0},{"$f":"$CN$38","v":"0 (**"},{"$f":"$CO$38","v":"0**"},null,{"$f":"Millwall!$BZ42","v":0},{"$f":"Millwall!$CE42","v":0},{"$f":"Millwall!$CJ42","v":0},{"$f":"Millwall!$CO42","v":0}]
[null,null,0,35,null,{"$f":"Millwall!W109","v":"1987-04-11"},null,{"$f":"Millwall!X109","v":"Grimsby"},{"$f":"Millwall!Y109","v":"(H)"},{"$f":"Millwall!Z109","v":"W 1-0"},{"$f":"MATCH(K$4,Millwall!$AA109:$AL109,0)","v":{"$error":"#N/A"}},{"$f":"MATCH(L$4,Millwall!$AA109:$AL109,0)","v":{"$error":"#N/A"}},{"$f":"MATCH(M$4,Millwall!$AA109:$AL109,0)","v":8},{"$f":"MATCH(N$4,Millwall!$AA109:$AL109,0)","v":12},{"$f":"MATCH(O$4,Millwall!$AA109:$AL109,0)","v":11},{"$f":"MATCH(P$4,Millwall!$AA109:$AL109,0)","v":{"$error":"#N/A"}},{"$f":"MATCH(Q$4,Millwall!$AA109:$AL109,0)","v":3},{"$f":"MATCH(R$4,Millwall!$AA109:$AL109,0)","v":{"$error":"#N/A"}},{"$f":"MATCH(S$4,Millwall!$AA109:$AL109,0)","v":{"$error":"#N/A"}},{"$f":"MATCH(T$4,Millwall!$AA109:$AL109,0)","v":{"$error":"#N/A"}},{"$f":"MATCH(U$4,Millwall!$AA109:$AL109,0)","v":1},{"$f":"MATCH(V$4,Millwall!$AA109:$AL109,0)","v":4},{"$f":"MATCH(W$4,Millwall!$AA109:$AL109,0)","v":{"$error":"#N/A"}},{"$f":"MATCH(X$4,Millwall!$AA109:$AL109,0)","v":{"$error":"#N/A"}},{"$f":"MATCH(Y$4,Millwall!$AA109:$AL109,0)","v":{"$error":"#N/A"}},{"$f":"MATCH(Z$4,Millwall!$AA109:$AL109,0)","v":7},{"$f":"MATCH(AA$4,Millwall!$AA109:$AL109,0)","v":6},{"$f":"MATCH(AB$4,Millwall!$AA109:$AL109,0)","v":{"$error":"#N/A"}},{"$f":"MATCH(AC$4,Millwall!$AA109:$AL109,0)","v":{"$error":"#N/A"}},{"$f":"MATCH(AD$4,Millwall!$AA109:$AL109,0)","v":{"$error":"#N/A"}},{"$f":"MATCH(AE$4,Millwall!$AA109:$AL109,0)","v":10},{"$f":"MATCH(AF$4,Millwall!$AA109:$AL109,0)","v":{"$error":"#N/A"}},{"$f":"MATCH(AG$4,Millwall!$AA109:$AL109,0)","v":9},{"$f":"MATCH(AH$4,Millwall!$AA109:$AL109,0)","v":{"$error":"#N/A"}},{"$f":"MATCH(AI$4,Millwall!$AA109:$AL109,0)","v":2},{"$f":"MATCH(AJ$4,Millwall!$AA109:$AL109,0)","v":5},{"$f":"MATCH(AK$4,Millwall!$AA109:$AL109,0)","v":{"$error":"#N/A"}},{"$f":"MATCH(AL$4,Millwall!$AA109:$AL109,0)","v":{"$error":"#N/A"}},{"$f":"MATCH(AM$4,Millwall!$AA109:$AL109,0)","v":{"$error":"#N/A"}},{"$f":"MATCH(AN$4,Millwall!$AA109:$AL109,0)","v":{"$error":"#N/A"}},{"$f":"MATCH(AO$4,Millwall!$AA109:$AL109,0)","v":{"$error":"#N/A"}},{"$f":"MATCH(AP$4,Millwall!$AA109:$AL109,0)","v":{"$error":"#N/A"}},{"$f":"MATCH(AQ$4,Millwall!$AA109:$AL109,0)","v":{"$error":"#N/A"}},{"$f":"MATCH(AR$4,Millwall!$AD109:$AO109,0)","v":{"$error":"#N/A"}},null,null,null,null,null,{"$f":"MATCH(AX$3,Millwall!$AA109:$AL109,0)","v":{"$error":"#N/A"}},{"$f":"MATCH(AY$3,Millwall!$AA109:$AL109,0)","v":{"$error":"#N/A"}},{"$f":"MATCH(AZ$3,Millwall!$AA109:$AL109,0)","v":{"$error":"#N/A"}},{"$f":"MATCH(BA$3,Millwall!$AA109:$AL109,0)","v":{"$error":"#N/A"}},{"$f":"MATCH(BB$3,Millwall!$AA109:$AL109,0)","v":{"$error":"#N/A"}},{"$f":"MATCH(BC$3,Millwall!$AA109:$AL109,0)","v":{"$error":"#N/A"}},{"$f":"MATCH(BD$3,Millwall!$AA109:$AL109,0)","v":{"$error":"#N/A"}},{"$f":"MATCH(BE$3,Millwall!$AA109:$AL109,0)","v":{"$error":"#N/A"}},{"$f":"MATCH(BF$3,Millwall!$AA109:$AL109,0)","v":{"$error":"#N/A"}},{"$f":"MATCH(BG$3,Millwall!$AA109:$AL109,0)","v":{"$error":"#N/A"}},{"$f":"MATCH(BH$3,Millwall!$AA109:$AL109,0)","v":{"$error":"#N/A"}},{"$f":"MATCH(BI$3,Millwall!$AA109:$AL109,0)","v":4},{"$f":"MATCH(BJ$3,Millwall!$AA109:$AL109,0)","v":{"$error":"#N/A"}},{"$f":"MATCH(BK$3,Millwall!$AA109:$AL109,0)","v":{"$error":"#N/A"}},{"$f":"MATCH(BL$3,Millwall!$AA109:$AL109,0)","v":{"$error":"#N/A"}},{"$f":"MATCH(BM$3,Millwall!$AA109:$AL109,0)","v":{"$error":"#N/A"}},{"$f":"MATCH(BN$3,Millwall!$AA109:$AL109,0)","v":{"$error":"#N/A"}},{"$f":"MATCH(BO$3,Millwall!$AA109:$AL109,0)","v":{"$error":"#N/A"}},{"$f":"MATCH(BP$3,Millwall!$AA109:$AL109,0)","v":{"$error":"#N/A"}},{"$f":"MATCH(BQ$3,Millwall!$AA109:$AL109,0)","v":{"$error":"#N/A"}},{"$f":"MATCH(BR$3,Millwall!$AA109:$AL109,0)","v":{"$error":"#N/A"}},{"$f":"MATCH(BS$3,Millwall!$AA109:$AL109,0)","v":{"$error":"#N/A"}},{"$f":"MATCH(BT$3,Millwall!$AA109:$AL109,0)","v":{"$error":"#N/A"}},{"$f":"MATCH(BU$3,Millwall!$AA109:$AL109,0)","v":{"$error":"#N/A"}},{"$f":"MATCH(BV$3,Millwall!$AA109:$AL109,0)","v":{"$error":"#N/A"}},{"$f":"MATCH(BW$3,Millwall!$AA109:$AL109,0)","v":{"$error":"#N/A"}},{"$f":"MATCH(BX$3,Millwall!$AA109:$AL109,0)","v":{"$error":"#N/A"}},{"$f":"MATCH(BY$3,Millwall!$AA109:$AL109,0)","v":{"$error":"#N/A"}},{"$f":"MATCH(BZ$3,Millwall!$AA109:$AL109,0)","v":{"$error":"#N/A"}},{"$f":"MATCH(CA$3,Millwall!$AA109:$AL109,0)","v":{"$error":"#N/A"}},{"$f":"MATCH(CB$3,Millwall!$AA109:$AL109,0)","v":{"$error":"#N/A"}},{"$f":"MATCH(CC$3,Millwall!$AA109:$AL109,0)","v":{"$error":"#N/A"}},{"$f":"MATCH(CD$3,Millwall!$AA109:$AL109,0)","v":{"$error":"#N/A"}},{"$f":"MATCH(CE$3,Millwall!$AA109:$AL109,0)","v":{"$error":"#N/A"}}]
[null,null,0,36,null,{"$f":"Millwall!W110","v":"1987-04-14"},null,{"$f":"Millwall!X110","v":"Hull City"},{"$f":"Millwall!Y110","v":"(A)"},{"$f":"Millwall!Z110","v":"L 1-2"},{"$f":"MATCH(K$4,Millwall!$AA110:$AL110,0)","v":{"$error":"#N/A"}},{"$f":"MATCH(L$4,Millwall!$AA110:$AL110,0)","v":{"$error":"#N/A"}},{"$f":"MATCH(M$4,Millwall!$AA110:$AL110,0)","v":8},{"$f":"MATCH(N$4,Millwall!$AA110:$AL110,0)","v":12},{"$f":"MATCH(O$4,Millwall!$AA110:$AL110,0)","v":11},{"$f":"MATCH(P$4,Millwall!$AA110:$AL110,0)","v":{"$error":"#N/A"}},{"$f":"MATCH(Q$4,Millwall!$AA110:$AL110,0)","v":3},{"$f":"MATCH(R$4,Millwall!$AA110:$AL110,0)","v":{"$error":"#N/A"}},{"$f":"MATCH(S$4,Millwall!$AA110:$AL110,0)","v":{"$error":"#N/A"}},{"$f":"MATCH(T$4,Millwall!$AA110:$AL110,0)","v":{"$error":"#N/A"}},{"$f":"MATCH(U$4,Millwall!$AA110:$AL110,0)","v":1},{"$f":"MATCH(V$4,Millwall!$AA110:$AL110,0)","v":4},{"$f":"MATCH(W$4,Millwall!$AA110:$AL110,0)","v":{"$error":"#N/A"}},{"$f":"MATCH(X$4,Millwall!$AA110:$AL110,0)","v":{"$error":"#N/A"}},{"$f":"MATCH(Y$4,Millwall!$AA110:$AL110,0)","v":{"$error":"#N/A"}},{"$f":"MATCH(Z$4,Millwall!$AA110:$AL110,0)","v":7},{"$f":"MATCH(AA$4,Millwall!$AA110:$AL110,0)","v":6},{"$f":"MATCH(AB$4,Millwall!$AA110:$AL110,0)","v":{"$error":"#N/A"}},{"$f":"MATCH(AC$4,Millwall!$AA110:$AL110,0)","v":{"$error":"#N/A"}},{"$f":"MATCH(AD$4,Millwall!$AA110:$AL110,0)","v":{"$error":"#N/A"}},{"$f":"MATCH(AE$4,Millwall!$AA110:$AL110,0)","v":10},{"$f":"MATCH(AF$4,Millwall!$AA110:$AL110,0)","v":{"$error":"#N/A"}},{"$f":"MATCH(AG$4,Millwall!$AA110:$AL110,0)","v":9},{"$f":"MATCH(AH$4,Millwall!$AA110:$AL110,0)","v":{"$error":"#N/A"}},{"$f":"MATCH(AI$4,Millwall!$AA110:$AL110,0)","v":2},{"$f":"MATCH(AJ$4,Millwall!$AA110:$AL110,0)","v":5},{"$f":"MATCH(AK$4,Millwall!$AA110:$AL110,0)","v":{"$error":"#N/A"}},{"$f":"MATCH(AL$4,Millwall!$AA110:$AL110,0)","v":{"$error":"#N/A"}},{"$f":"MATCH(AM$4,Millwall!$AA110:$AL110,0)","v":{"$error":"#N/A"}},{"$f":"MATCH(AN$4,Millwall!$AA110:$AL110,0)","v":{"$error":"#N/A"}},{"$f":"MATCH(AO$4,Millwall!$AA110:$AL110,0)","v":{"$error":"#N/A"}},{"$f":"MATCH(AP$4,Millwall!$AA110:$AL110,0)","v":{"$error":"#N/A"}},{"$f":"MATCH(AQ$4,Millwall!$AA110:$AL110,0)","v":{"$error":"#N/A"}},{"$f":"MATCH(AR$4,Millwall!$AD110:$AO110,0)","v":{"$error":"#N/A"}},null,null,null,null,null,{"$f":"MATCH(AX$3,Millwall!$AA110:$AL110,0)","v":{"$error":"#N/A"}},{"$f":"MATCH(AY$3,Millwall!$AA110:$AL110,0)","v":{"$error":"#N/A"}},{"$f":"MATCH(AZ$3,Millwall!$AA110:$AL110,0)","v":{"$error":"#N/A"}},{"$f":"MATCH(BA$3,Millwall!$AA110:$AL110,0)","v":12},{"$f":"MATCH(BB$3,Millwall!$AA110:$AL110,0)","v":11},{"$f":"MATCH(BC$3,Millwall!$AA110:$AL110,0)","v":{"$error":"#N/A"}},{"$f":"MATCH(BD$3,Millwall!$AA110:$AL110,0)","v":{"$error":"#N/A"}},{"$f":"MATCH(BE$3,Millwall!$AA110:$AL110,0)","v":{"$error":"#N/A"}},{"$f":"MATCH(BF$3,Millwall!$AA110:$AL110,0)","v":{"$error":"#N/A"}},{"$f":"MATCH(BG$3,Millwall!$AA110:$AL110,0)","v":{"$error":"#N/A"}},{"$f":"MATCH(BH$3,Millwall!$AA110:$AL110,0)","v":{"$error":"#N/A"}},{"$f":"MATCH(BI$3,Millwall!$AA110:$AL110,0)","v":{"$error":"#N/A"}},{"$f":"MATCH(BJ$3,Millwall!$AA110:$AL110,0)","v":{"$error":"#N/A"}},{"$f":"MATCH(BK$3,Millwall!$AA110:$AL110,0)","v":{"$error":"#N/A"}},{"$f":"MATCH(BL$3,Millwall!$AA110:$AL110,0)","v":{"$error":"#N/A"}},{"$f":"MATCH(BM$3,Millwall!$AA110:$AL110,0)","v":{"$error":"#N/A"}},{"$f":"MATCH(BN$3,Millwall!$AA110:$AL110,0)","v":{"$error":"#N/A"}},{"$f":"MATCH(BO$3,Millwall!$AA110:$AL110,0)","v":{"$error":"#N/A"}},{"$f":"MATCH(BP$3,Millwall!$AA110:$AL110,0)","v":{"$error":"#N/A"}},{"$f":"MATCH(BQ$3,Millwall!$AA110:$AL110,0)","v":{"$error":"#N/A"}},{"$f":"MATCH(BR$3,Millwall!$AA110:$AL110,0)","v":{"$error":"#N/A"}},{"$f":"MATCH(BS$3,Millwall!$AA110:$AL110,0)","v":{"$error":"#N/A"}},{"$f":"MATCH(BT$3,Millwall!$AA110:$AL110,0)","v":{"$error":"#N/A"}},{"$f":"MATCH(BU$3,Millwall!$AA110:$AL110,0)","v":{"$error":"#N/A"}},{"$f":"MATCH(BV$3,Millwall!$AA110:$AL110,0)","v":{"$error":"#N/A"}},{"$f":"MATCH(BW$3,Millwall!$AA110:$AL110,0)","v":{"$error":"#N/A"}},{"$f":"MATCH(BX$3,Millwall!$AA110:$AL110,0)","v":{"$error":"#N/A"}},{"$f":"MATCH(BY$3,Millwall!$AA110:$AL110,0)","v":{"$error":"#N/A"}},{"$f":"MATCH(BZ$3,Millwall!$AA110:$AL110,0)","v":{"$error":"#N/A"}},{"$f":"MATCH(CA$3,Millwall!$AA110:$AL110,0)","v":{"$error":"#N/A"}},{"$f":"MATCH(CB$3,Millwall!$AA110:$AL110,0)","v":{"$error":"#N/A"}},{"$f":"MATCH(CC$3,Millwall!$AA110:$AL110,0)","v":{"$error":"#N/A"}},{"$f":"MATCH(CD$3,Millwall!$AA110:$AL110,0)","v":{"$error":"#N/A"}},{"$f":"MATCH(CE$3,Millwall!$AA110:$AL110,0)","v":{"$error":"#N/A"}}]
[null,null,0,37,null,{"$f":"Millwall!W111","v":"1987-04-18"},null,{"$f":"Millwall!X111","v":"Brighton"},{"$f":"Millwall!Y111","v":"(H)"},{"$f":"Millwall!Z111","v":"W 3-1"},{"$f":"MATCH(K$4,Millwall!$AA111:$AL111,0)","v":{"$error":"#N/A"}},{"$f":"MATCH(L$4,Millwall!$AA111:$AL111,0)","v":{"$error":"#N/A"}},{"$f":"MATCH(M$4,Millwall!$AA111:$AL111,0)","v":8},{"$f":"MATCH(N$4,Millwall!$AA111:$AL111,0)","v":12},{"$f":"MATCH(O$4,Millwall!$AA111:$AL111,0)","v":11},{"$f":"MATCH(P$4,Millwall!$AA111:$AL111,0)","v":{"$error":"#N/A"}},{"$f":"MATCH(Q$4,Millwall!$AA111:$AL111,0)","v":3},{"$f":"MATCH(R$4,Millwall!$AA111:$AL111,0)","v":{"$error":"#N/A"}},{"$f":"MATCH(S$4,Millwall!$AA111:$AL111,0)","v":{"$error":"#N/A"}},{"$f":"MATCH(T$4,Millwall!$AA111:$AL111,0)","v":{"$error":"#N/A"}},{"$f":"MATCH(U$4,Millwall!$AA111:$AL111,0)","v":1},{"$f":"MATCH(V$4,Millwall!$AA111:$AL111,0)","v":4},{"$f":"MATCH(W$4,Millwall!$AA111:$AL111,0)","v":{"$error":"#N/A"}},{"$f":"MATCH(X$4,Millwall!$AA111:$AL111,0)","v":{"$error":"#N/A"}},{"$f":"MATCH(Y$4,Millwall!$AA111:$AL111,0)","v":{"$error":"#N/A"}},{"$f":"MATCH(Z$4,Millwall!$AA111:$AL111,0)","v":7},{"$f":"MATCH(AA$4,Millwall!$AA111:$AL111,0)","v":6},{"$f":"MATCH(AB$4,Millwall!$AA111:$AL111,0)","v":{"$error":"#N/A"}},{"$f":"MATCH(AC$4,Millwall!$AA111:$AL111,0)","v":{"$error":"#N/A"}},{"$f":"MATCH(AD$4,Millwall!$AA111:$AL111,0)","v":{"$error":"#N/A"}},{"$f":"MATCH(AE$4,Millwall!$AA111:$AL111,0)","v":10},{"$f":"MATCH(AF$4,Millwall!$AA111:$AL111,0)","v":{"$error":"#N/A"}},{"$f":"MATCH(AG$4,Millwall!$AA111:$AL111,0)","v":9},{"$f":"MATCH(AH$4,Millwall!$AA111:$AL111,0)","v":{"$error":"#N/A"}},{"$f":"MATCH(AI$4,Millwall!$AA111:$AL111,0)","v":2},{"$f":"MATCH(AJ$4,Millwall!$AA111:$AL111,0)","v":5},{"$f":"MATCH(AK$4,Millwall!$AA111:$AL111,0)","v":{"$error":"#N/A"}},{"$f":"MATCH(AL$4,Millwall!$AA111:$AL111,0)","v":{"$error":"#N/A"}},{"$f":"MATCH(AM$4,Millwall!$AA111:$AL111,0)","v":{"$error":"#N/A"}},{"$f":"MATCH(AN$4,Millwall!$AA111:$AL111,0)","v":{"$error":"#N/A"}},{"$f":"MATCH(AO$4,Millwall!$AA111:$AL111,0)","v":{"$error":"#N/A"}},{"$f":"MATCH(AP$4,Millwall!$AA111:$AL111,0)","v":{"$error":"#N/A"}},{"$f":"MATCH(AQ$4,Millwall!$AA111:$AL111,0)","v":{"$error":"#N/A"}},{"$f":"MATCH(AR$4,Millwall!$AD111:$AO111,0)","v":{"$error":"#N/A"}},null,null,null,null,null,{"$f":"MATCH(AX$3,Millwall!$AA111:$AL111,0)","v":{"$error":"#N/A"}},{"$f":"MATCH(AY$3,Millwall!$AA111:$AL111,0)","v":{"$error":"#N/A"}},{"$f":"MATCH(AZ$3,Millwall!$AA111:$AL111,0)","v":{"$error":"#N/A"}},{"$f":"MATCH(BA$3,Millwall!$AA111:$AL111,0)","v":{"$error":"#N/A"}},{"$f":"MATCH(BB$3,Millwall!$AA111:$AL111,0)","v":{"$error":"#N/A"}},{"$f":"MATCH(BC$3,Millwall!$AA111:$AL111,0)","v":{"$error":"#N/A"}},{"$f":"MATCH(BD$3,Millwall!$AA111:$AL111,0)","v":{"$error":"#N/A"}},{"$f":"MATCH(BE$3,Millwall!$AA111:$AL111,0)","v":{"$error":"#N/A"}},{"$f":"MATCH(BF$3,Millwall!$AA111:$AL111,0)","v":{"$error":"#N/A"}},{"$f":"MATCH(BG$3,Millwall!$AA111:$AL111,0)","v":{"$error":"#N/A"}},{"$f":"MATCH(BH$3,Millwall!$AA111:$AL111,0)","v":{"$error":"#N/A"}},{"$f":"MATCH(BI$3,Millwall!$AA111:$AL111,0)","v":{"$error":"#N/A"}},{"$f":"MATCH(BJ$3,Millwall!$AA111:$AL111,0)","v":{"$error":"#N/A"}},{"$f":"MATCH(BK$3,Millwall!$AA111:$AL111,0)","v":{"$error":"#N/A"}},{"$f":"MATCH(BL$3,Millwall!$AA111:$AL111,0)","v":{"$error":"#N/A"}},{"$f":"MATCH(BM$3,Millwall!$AA111:$AL111,0)","v":{"$error":"#N/A"}},{"$f":"MATCH(BN$3,Millwall!$AA111:$AL111,0)","v":{"$error":"#N/A"}},{"$f":"MATCH(BO$3,Millwall!$AA111:$AL111,0)","v":{"$error":"#N/A"}},{"$f":"MATCH(BP$3,Millwall!$AA111:$AL111,0)","v":{"$error":"#N/A"}},{"$f":"MATCH(BQ$3,Millwall!$AA111:$AL111,0)","v":{"$error":"#N/A"}},{"$f":"MATCH(BR$3,Millwall!$AA111:$AL111,0)","v":{"$error":"#N/A"}},{"$f":"MATCH(BS$3,Millwall!$AA111:$AL111,0)","v":{"$error":"#N/A"}},{"$f":"MATCH(BT$3,Millwall!$AA111:$AL111,0)","v":{"$error":"#N/A"}},{"$f":"MATCH(BU$3,Millwall!$AA111:$AL111,0)","v":{"$error":"#N/A"}},{"$f":"MATCH(BV$3,Millwall!$AA111:$AL111,0)","v":{"$error":"#N/A"}},{"$f":"MATCH(BW$3,Millwall!$AA111:$AL111,0)","v":{"$error":"#N/A"}},{"$f":"MATCH(BX$3,Millwall!$AA111:$AL111,0)","v":{"$error":"#N/A"}},{"$f":"MATCH(BY$3,Millwall!$AA111:$AL111,0)","v":{"$error":"#N/A"}},{"$f":"MATCH(BZ$3,Millwall!$AA111:$AL111,0)","v":{"$error":"#N/A"}},{"$f":"MATCH(CA$3,Millwall!$AA111:$AL111,0)","v":{"$error":"#N/A"}},{"$f":"MATCH(CB$3,Millwall!$AA111:$AL111,0)","v":{"$error":"#N/A"}},{"$f":"MATCH(CC$3,Millwall!$AA111:$AL111,0)","v":{"$error":"#N/A"}},{"$f":"MATCH(CD$3,Millwall!$AA111:$AL111,0)","v":{"$error":"#N/A"}},{"$f":"MATCH(CE$3,Millwall!$AA111:$AL111,0)","v":{"$error":"#N/A"}}]
[null,null,0,38,null,{"$f":"Millwall!W112","v":"1987-04-21"},null,{"$f":"Millwall!X112","v":"Ipswich"},{"$f":"Millwall!Y112","v":"(A)"},{"$f":"Millwall!Z112","v":"D 0-0"},{"$f":"MATCH(K$4,Millwall!$AA112:$AL112,0)","v":{"$error":"#N/A"}},{"$f":"MATCH(L$4,Millwall!$AA112:$AL112,0)","v":{"$error":"#N/A"}},{"$f":"MATCH(M$4,Millwall!$AA112:$AL112,0)","v":8},{"$f":"MATCH(N$4,Millwall!$AA112:$AL112,0)","v":10},{"$f":"MATCH(O$4,Millwall!$AA112:$AL112,0)","v":11},{"$f":"MATCH(P$4,Millwall!$AA112:$AL112,0)","v":{"$error":"#N/A"}},{"$f":"MATCH(Q$4,Millwall!$AA112:$AL112,0)","v":3},{"$f":"MATCH(R$4,Millwall!$AA112:$AL112,0)","v":{"$error":"#N/A"}},{"$f":"MATCH(S$4,Millwall!$AA112:$AL112,0)","v":{"$error":"#N/A"}},{"$f":"MATCH(T$4,Millwall!$AA112:$AL112,0)","v":{"$error":"#N/A"}},{"$f":"MATCH(U$4,Millwall!$AA112:$AL112,0)","v":1},{"$f":"MATCH(V$4,Millwall!$AA112:$AL112,0)","v":4},{"$f":"MATCH(W$4,Millwall!$AA112:$AL112,0)","v":{"$error":"#N/A"}},{"$f":"MATCH(X$4,Millwall!$AA112:$AL112,0)","v":{"$error":"#N/A"}},{"$f":"MATCH(Y$4,Millwall!$AA112:$AL112,0)","v":{"$error":"#N/A"}},{"$f":"MATCH(Z$4,Millwall!$AA112:$AL112,0)","v":7},{"$f":"MATCH(AA$4,Millwall!$AA112:$AL112,0)","v":6},{"$f":"MATCH(AB$4,Millwall!$AA112:$AL112,0)","v":{"$error":"#N/A"}},{"$f":"MATCH(AC$4,Millwall!$AA112:$AL112,0)","v":12},{"$f":"MATCH(AD$4,Millwall!$AA112:$AL112,0)","v":{"$error":"#N/A"}},{"$f":"MATCH(AE$4,Millwall!$AA112:$AL112,0)","v":{"$error":"#N/A"}},{"$f":"MATCH(AF$4,Millwall!$AA112:$AL112,0)","v":{"$error":"#N/A"}},{"$f":"MATCH(AG$4,Millwall!$AA112:$AL112,0)","v":9},{"$f":"MATCH(AH$4,Millwall!$AA112:$AL112,0)","v":{"$error":"#N/A"}},{"$f":"MATCH(AI$4,Millwall!$AA112:$AL112,0)","v":2},{"$f":"MATCH(AJ$4,Millwall!$AA112:$AL112,0)","v":5},{"$f":"MATCH(AK$4,Millwall!$AA112:$AL112,0)","v":{"$error":"#N/A"}},{"$f":"MATCH(AL$4,Millwall!$AA112:$AL112,0)","v":{"$error":"#N/A"}},{"$f":"MATCH(AM$4,Millwall!$AA112:$AL112,0)","v":{"$error":"#N/A"}},{"$f":"MATCH(AN$4,Millwall!$AA112:$AL112,0)","v":{"$error":"#N/A"}},{"$f":"MATCH(AO$4,Millwall!$AA112:$AL112,0)","v":{"$error":"#N/A"}},{"$f":"MATCH(AP$4,Millwall!$AA112:$AL112,0)","v":{"$error":"#N/A"}},{"$f":"MATCH(AQ$4,Millwall!$AA112:$AL112,0)","v":{"$error":"#N/A"}},{"$f":"MATCH(AR$4,Millwall!$AD112:$AO112,0)","v":{"$error":"#N/A"}},null,null,null,null,null,{"$f":"MATCH(AX$3,Millwall!$AA112:$AL112,0)","v":{"$error":"#N/A"}},{"$f":"MATCH(AY$3,Millwall!$AA112:$AL112,0)","v":{"$error":"#N/A"}},{"$f":"MATCH(AZ$3,Millwall!$AA112:$AL112,0)","v":{"$error":"#N/A"}},{"$f":"MATCH(BA$3,Millwall!$AA112:$AL112,0)","v":{"$error":"#N/A"}},{"$f":"MATCH(BB$3,Millwall!$AA112:$AL112,0)","v":{"$error":"#N/A"}},{"$f":"MATCH(BC$3,Millwall!$AA112:$AL112,0)","v":{"$error":"#N/A"}},{"$f":"MATCH(BD$3,Millwall!$AA112:$AL112,0)","v":{"$error":"#N/A"}},{"$f":"MATCH(BE$3,Millwall!$AA112:$AL112,0)","v":{"$error":"#N/A"}},{"$f":"MATCH(BF$3,Millwall!$AA112:$AL112,0)","v":{"$error":"#N/A"}},{"$f":"MATCH(BG$3,Millwall!$AA112:$AL112,0)","v":{"$error":"#N/A"}},{"$f":"MATCH(BH$3,Millwall!$AA112:$AL112,0)","v":{"$error":"#N/A"}},{"$f":"MATCH(BI$3,Millwall!$AA112:$AL112,0)","v":{"$error":"#N/A"}},{"$f":"MATCH(BJ$3,Millwall!$AA112:$AL112,0)","v":{"$error":"#N/A"}},{"$f":"MATCH(BK$3,Millwall!$AA112:$AL112,0)","v":{"$error":"#N/A"}},{"$f":"MATCH(BL$3,Millwall!$AA112:$AL112,0)","v":{"$error":"#N/A"}},{"$f":"MATCH(BM$3,Millwall!$AA112:$AL112,0)","v":{"$error":"#N/A"}},{"$f":"MATCH(BN$3,Millwall!$AA112:$AL112,0)","v":{"$error":"#N/A"}},{"$f":"MATCH(BO$3,Millwall!$AA112:$AL112,0)","v":{"$error":"#N/A"}},{"$f":"MATCH(BP$3,Millwall!$AA112:$AL112,0)","v":{"$error":"#N/A"}},{"$f":"MATCH(BQ$3,Millwall!$AA112:$AL112,0)","v":{"$error":"#N/A"}},{"$f":"MATCH(BR$3,Millwall!$AA112:$AL112,0)","v":{"$error":"#N/A"}},{"$f":"MATCH(BS$3,Millwall!$AA112:$AL112,0)","v":{"$error":"#N/A"}},{"$f":"MATCH(BT$3,Millwall!$AA112:$AL112,0)","v":{"$error":"#N/A"}},{"$f":"MATCH(BU$3,Millwall!$AA112:$AL112,0)","v":{"$error":"#N/A"}},{"$f":"MATCH(BV$3,Millwall!$AA112:$AL112,0)","v":{"$error":"#N/A"}},{"$f":"MATCH(BW$3,Millwall!$AA112:$AL112,0)","v":{"$error":"#N/A"}},{"$f":"MATCH(BX$3,Millwall!$AA112:$AL112,0)","v":{"$error":"#N/A"}},{"$f":"MATCH(BY$3,Millwall!$AA112:$AL112,0)","v":{"$error":"#N/A"}},{"$f":"MATCH(BZ$3,Millwall!$AA112:$AL112,0)","v":{"$error":"#N/A"}},{"$f":"MATCH(CA$3,Millwall!$AA112:$AL112,0)","v":{"$error":"#N/A"}},{"$f":"MATCH(CB$3,Millwall!$AA112:$AL112,0)","v":{"$error":"#N/A"}},{"$f":"MATCH(CC$3,Millwall!$AA112:$AL112,0)","v":{"$error":"#N/A"}},{"$f":"MATCH(CD$3,Millwall!$AA112:$AL112,0)","v":{"$error":"#N/A"}},{"$f":"MATCH(CE$3,Millwall!$AA112:$AL112,0)","v":{"$error":"#N/A"}}]
[null,null,0,39,null,{"$f":"Millwall!W113","v":"1987-04-25"},null,{"$f":"Millwall!X113","v":"West Brom"},{"$f":"Millwall!Y113","v":"(H)"},{"$f":"Millwall!Z113","v":"L 0-1"},{"$f":"MATCH(K$4,Millwall!$AA113:$AL113,0)","v":{"$error":"#N/A"}},{"$f":"MATCH(L$4,Millwall!$AA113:$AL113,0)","v":{"$error":"#N/A"}},{"$f":"MATCH(M$4,Millwall!$AA113:$AL113,0)","v":8},{"$f":"MATCH(N$4,Millwall!$AA113:$AL113,0)","v":12},{"$f":"MATCH(O$4,Millwall!$AA113:$AL113,0)","v":11},{"$f":"MATCH(P$4,Millwall!$AA113:$AL113,0)","v":{"$error":"#N/A"}},{"$f":"MATCH(Q$4,Millwall!$AA113:$AL113,0)","v":3},{"$f":"MATCH(R$4,Millwall!$AA113:$AL113,0)","v":{"$error":"#N/A"}},{"$f":"MATCH(S$4,Millwall!$AA113:$AL113,0)","v":{"$error":"#N/A"}},{"$f":"MATCH(T$4,Millwall!$AA113:$AL113,0)","v":{"$error":"#N/A"}},{"$f":"MATCH(U$4,Millwall!$AA113:$AL113,0)","v":1},{"$f":"MATCH(V$4,Millwall!$AA113:$AL113,0)","v":{"$error":"#N/A"}},{"$f":"MATCH(W$4,Millwall!$AA113:$AL113,0)","v":{"$error":"#N/A"}},{"$f":"MATCH(X$4,Millwall!$AA113:$AL113,0)","v":{"$error":"#N/A"}},{"$f":"MATCH(Y$4,Millwall!$AA113:$AL113,0)","v":{"$error":"#N/A"}},{"$f":"MATCH(Z$4,Millwall!$AA113:$AL113,0)","v":7},{"$f":"MATCH(AA$4,Millwall!$AA113:$AL113,0)","v":6},{"$f":"MATCH(AB$4,Millwall!$AA113:$AL113,0)","v":{"$error":"#N/A"}},{"$f":"MATCH(AC$4,Millwall!$AA113:$AL113,0)","v":4},{"$f":"MATCH(AD$4,Millwall!$AA113:$AL113,0)","v":{"$error":"#N/A"}},{"$f":"MATCH(AE$4,Millwall!$AA113:$AL113,0)","v":10},{"$f":"MATCH(AF$4,Millwall!$AA113:$AL113,0)","v":{"$error":"#N/A"}},{"$f":"MATCH(AG$4,Millwall!$AA113:$AL113,0)","v":9},{"$f":"MATCH(AH$4,Millwall!$AA113:$AL113,0)","v":{"$error":"#N/A"}},{"$f":"MATCH(AI$4,Millwall!$AA113:$AL113,0)","v":2},{"$f":"MATCH(AJ$4,Millwall!$AA113:$AL113,0)","v":5},{"$f":"MATCH(AK$4,Millwall!$AA113:$AL113,0)","v":{"$error":"#N/A"}},{"$f":"MATCH(AL$4,Millwall!$AA113:$AL113,0)","v":{"$error":"#N/A"}},{"$f":"MATCH(AM$4,Millwall!$AA113:$AL113,0)","v":{"$error":"#N/A"}},{"$f":"MATCH(AN$4,Millwall!$AA113:$AL113,0)","v":{"$error":"#N/A"}},{"$f":"MATCH(AO$4,Millwall!$AA113:$AL113,0)","v":{"$error":"#N/A"}},{"$f":"MATCH(AP$4,Millwall!$AA113:$AL113,0)","v":{"$error":"#N/A"}},{"$f":"MATCH(AQ$4,Millwall!$AA113:$AL113,0)","v":{"$error":"#N/A"}},{"$f":"MATCH(AR$4,Millwall!$AD113:$AO113,0)","v":{"$error":"#N/A"}},null,null,null,null,null,{"$f":"MATCH(AX$3,Millwall!$AA113:$AL113,0)","v":{"$error":"#N/A"}},{"$f":"MATCH(AY$3,Millwall!$AA113:$AL113,0)","v":{"$error":"#N/A"}},{"$f":"MATCH(AZ$3,Millwall!$AA113:$AL113,0)","v":{"$error":"#N/A"}},{"$f":"MATCH(BA$3,Millwall!$AA113:$AL113,0)","v":12},{"$f":"MATCH(BB$3,Millwall!$AA113:$AL113,0)","v":{"$error":"#N/A"}},{"$f":"MATCH(BC$3,Millwall!$AA113:$AL113,0)","v":{"$error":"#N/A"}},{"$f":"MATCH(BD$3,Millwall!$AA113:$AL113,0)","v":{"$error":"#N/A"}},{"$f":"MATCH(BE$3,Millwall!$AA113:$AL113,0)","v":{"$error":"#N/A"}},{"$f":"MATCH(BF$3,Millwall!$AA113:$AL113,0)","v":{"$error":"#N/A"}},{"$f":"MATCH(BG$3,Millwall!$AA113:$AL113,0)","v":{"$error":"#N/A"}},{"$f":"MATCH(BH$3,Millwall!$AA113:$AL113,0)","v":{"$error":"#N/A"}},{"$f":"MATCH(BI$3,Millwall!$AA113:$AL113,0)","v":{"$error":"#N/A"}},{"$f":"MATCH(BJ$3,Millwall!$AA113:$AL113,0)","v":{"$error":"#N/A"}},{"$f":"MATCH(BK$3,Millwall!$AA113:$AL113,0)","v":{"$error":"#N/A"}},{"$f":"MATCH(BL$3,Millwall!$AA113:$AL113,0)","v":{"$error":"#N/A"}},{"$f":"MATCH(BM$3,Millwall!$AA113:$AL113,0)","v":7},{"$f":"MATCH(BN$3,Millwall!$AA113:$AL113,0)","v":{"$error":"#N/A"}},{"$f":"MATCH(BO$3,Millwall!$AA113:$AL113,0)","v":{"$error":"#N/A"}},{"$f":"MATCH(BP$3,Millwall!$AA113:$AL113,0)","v":{"$error":"#N/A"}},{"$f":"MATCH(BQ$3,Millwall!$AA113:$AL113,0)","v":{"$error":"#N/A"}},{"$f":"MATCH(BR$3,Millwall!$AA113:$AL113,0)","v":{"$error":"#N/A"}},{"$f":"MATCH(BS$3,Millwall!$AA113:$AL113,0)","v":{"$error":"#N/A"}},{"$f":"MATCH(BT$3,Millwall!$AA113:$AL113,0)","v":{"$error":"#N/A"}},{"$f":"MATCH(BU$3,Millwall!$AA113:$AL113,0)","v":{"$error":"#N/A"}},{"$f":"MATCH(BV$3,Millwall!$AA113:$AL113,0)","v":{"$error":"#N/A"}},{"$f":"MATCH(BW$3,Millwall!$AA113:$AL113,0)","v":{"$error":"#N/A"}},{"$f":"MATCH(BX$3,Millwall!$AA113:$AL113,0)","v":{"$error":"#N/A"}},{"$f":"MATCH(BY$3,Millwall!$AA113:$AL113,0)","v":{"$error":"#N/A"}},{"$f":"MATCH(BZ$3,Millwall!$AA113:$AL113,0)","v":{"$error":"#N/A"}},{"$f":"MATCH(CA$3,Millwall!$AA113:$AL113,0)","v":{"$error":"#N/A"}},{"$f":"MATCH(CB$3,Millwall!$AA113:$AL113,0)","v":{"$error":"#N/A"}},{"$f":"MATCH(CC$3,Millwall!$AA113:$AL113,0)","v":{"$error":"#N/A"}},{"$f":"MATCH(CD$3,Millwall!$AA113:$AL113,0)","v":{"$error":"#N/A"}},{"$f":"MATCH(CE$3,Millwall!$AA113:$AL113,0)","v":{"$error":"#N/A"}}]
[null,null,0,40,null,{"$f":"Millwall!W114","v":"1987-05-02"},null,{"$f":"Millwall!X114","v":"Portsmouth"},{"$f":"Millwall!Y114","v":"(A)"},{"$f":"Millwall!Z114","v":"L 0-2"},{"$f":"MATCH(K$4,Millwall!$AA114:$AL114,0)","v":{"$error":"#N/A"}},{"$f":"MATCH(L$4,Millwall!$AA114:$AL114,0)","v":12},{"$f":"MATCH(M$4,Millwall!$AA114:$AL114,0)","v":4},{"$f":"MATCH(N$4,Millwall!$AA114:$AL114,0)","v":7},{"$f":"MATCH(O$4,Millwall!$AA114:$AL114,0)","v":8},{"$f":"MATCH(P$4,Millwall!$AA114:$AL114,0)","v":{"$error":"#N/A"}},{"$f":"MATCH(Q$4,Millwall!$AA114:$AL114,0)","v":3},{"$f":"MATCH(R$4,Millwall!$AA114:$AL114,0)","v":{"$error":"#N/A"}},{"$f":"MATCH(S$4,Millwall!$AA114:$AL114,0)","v":{"$error":"#N/A"}},{"$f":"MATCH(T$4,Millwall!$AA114:$AL114,0)","v":{"$error":"#N/A"}},{"$f":"MATCH(U$4,Millwall!$AA114:$AL114,0)","v":1},{"$f":"MATCH(V$4,Millwall!$AA114:$AL114,0)","v":{"$error":"#N/A"}},{"$f":"MATCH(W$4,Millwall!$AA114:$AL114,0)","v":{"$error":"#N/A"}},{"$f":"MATCH(X$4,Millwall!$AA114:$AL114,0)","v":{"$error":"#N/A"}},{"$f":"MATCH(Y$4,Millwall!$AA114:$AL114,0)","v":{"$error":"#N/A"}},{"$f":"MATCH(Z$4,Millwall!$AA114:$AL114,0)","v":10},{"$f":"MATCH(AA$4,Millwall!$AA114:$AL114,0)","v":6},{"$f":"MATCH(AB$4,Millwall!$AA114:$AL114,0)","v":{"$error":"#N/A"}},{"$f":"MATCH(AC$4,Millwall!$AA114:$AL114,0)","v":2},{"$f":"MATCH(AD$4,Millwall!$AA114:$AL114,0)","v":{"$error":"#N/A"}},{"$f":"MATCH(AE$4,Millwall!$AA114:$AL114,0)","v":11},{"$f":"MATCH(AF$4,Millwall!$AA114:$AL114,0)","v":{"$error":"#N/A"}},{"$f":"MATCH(AG$4,Millwall!$AA114:$AL114,0)","v":9},{"$f":"MATCH(AH$4,Millwall!$AA114:$AL114,0)","v":{"$error":"#N/A"}},{"$f":"MATCH(AI$4,Millwall!$AA114:$AL114,0)","v":{"$error":"#N/A"}},{"$f":"MATCH(AJ$4,Millwall!$AA114:$AL114,0)","v":5},{"$f":"MATCH(AK$4,Millwall!$AA114:$AL114,0)","v":{"$error":"#N/A"}},{"$f":"MATCH(AL$4,Millwall!$AA114:$AL114,0)","v":{"$error":"#N/A"}},{"$f":"MATCH(AM$4,Millwall!$AA114:$AL114,0)","v":{"$error":"#N/A"}},{"$f":"MATCH(AN$4,Millwall!$AA114:$AL114,0)","v":{"$error":"#N/A"}},{"$f":"MATCH(AO$4,Millwall!$AA114:$AL114,0)","v":{"$error":"#N/A"}},{"$f":"MATCH(AP$4,Millwall!$AA114:$AL114,0)","v":{"$error":"#N/A"}},{"$f":"MATCH(AQ$4,Millwall!$AA114:$AL114,0)","v":{"$error":"#N/A"}},{"$f":"MATCH(AR$4,Millwall!$AD114:$AO114,0)","v":{"$error":"#N/A"}},null,null,null,null,741,{"$f":"MATCH(AX$3,Millwall!$AA114:$AL114,0)","v":{"$error":"#N/A"}},{"$f":"MATCH(AY$3,Millwall!$AA114:$AL114,0)","v":12},{"$f":"MATCH(AZ$3,Millwall!$AA114:$AL114,0)","v":{"$error":"#N/A"}},{"$f":"MATCH(BA$3,Millwall!$AA114:$AL114,0)","v":{"$error":"#N/A"}},{"$f":"MATCH(BB$3,Millwall!$AA114:$AL114,0)","v":{"$error":"#N/A"}},{"$f":"MATCH(BC$3,Millwall!$AA114:$AL114,0)","v":{"$error":"#N/A"}},{"$f":"MATCH(BD$3,Millwall!$AA114:$AL114,0)","v":{"$error":"#N/A"}},{"$f":"MATCH(BE$3,Millwall!$AA114:$AL114,0)","v":{"$error":"#N/A"}},{"$f":"MATCH(BF$3,Millwall!$AA114:$AL114,0)","v":{"$error":"#N/A"}},{"$f":"MATCH(BG$3,Millwall!$AA114:$AL114,0)","v":{"$error":"#N/A"}},{"$f":"MATCH(BH$3,Millwall!$AA114:$AL114,0)","v":{"$error":"#N/A"}},{"$f":"MATCH(BI$3,Millwall!$AA114:$AL114,0)","v":{"$error":"#N/A"}},{"$f":"MATCH(BJ$3,Millwall!$AA114:$AL114,0)","v":{"$error":"#N/A"}},{"$f":"MATCH(BK$3,Millwall!$AA114:$AL114,0)","v":{"$error":"#N/A"}},{"$f":"MATCH(BL$3,Millwall!$AA114:$AL114,0)","v":{"$error":"#N/A"}},{"$f":"MATCH(BM$3,Millwall!$AA114:$AL114,0)","v":{"$error":"#N/A"}},{"$f":"MATCH(BN$3,Millwall!$AA114:$AL114,0)","v":{"$error":"#N/A"}},{"$f":"MATCH(BO$3,Millwall!$AA114:$AL114,0)","v":{"$error":"#N/A"}},{"$f":"MATCH(BP$3,Millwall!$AA114:$AL114,0)","v":{"$error":"#N/A"}},{"$f":"MATCH(BQ$3,Millwall!$AA114:$AL114,0)","v":{"$error":"#N/A"}},{"$f":"MATCH(BR$3,Millwall!$AA114:$AL114,0)","v":{"$error":"#N/A"}},{"$f":"MATCH(BS$3,Millwall!$AA114:$AL114,0)","v":{"$error":"#N/A"}},{"$f":"MATCH(BT$3,Millwall!$AA114:$AL114,0)","v":9},{"$f":"MATCH(BU$3,Millwall!$AA114:$AL114,0)","v":{"$error":"#N/A"}},{"$f":"MATCH(BV$3,Millwall!$AA114:$AL114,0)","v":{"$error":"#N/A"}},{"$f":"MATCH(BW$3,Millwall!$AA114:$AL114,0)","v":{"$error":"#N/A"}},{"$f":"MATCH(BX$3,Millwall!$AA114:$AL114,0)","v":{"$error":"#N/A"}},{"$f":"MATCH(BY$3,Millwall!$AA114:$AL114,0)","v":{"$error":"#N/A"}},{"$f":"MATCH(BZ$3,Millwall!$AA114:$AL114,0)","v":{"$error":"#N/A"}},{"$f":"MATCH(CA$3,Millwall!$AA114:$AL114,0)","v":{"$error":"#N/A"}},{"$f":"MATCH(CB$3,Millwall!$AA114:$AL114,0)","v":{"$error":"#N/A"}},{"$f":"MATCH(CC$3,Millwall!$AA114:$AL114,0)","v":{"$error":"#N/A"}},{"$f":"MATCH(CD$3,Millwall!$AA114:$AL114,0)","v":{"$error":"#N/A"}},{"$f":"MATCH(CE$3,Millwall!$AA114:$AL114,0)","v":{"$error":"#N/A"}}]
[null,null,0,41,null,{"$f":"Millwall!W115","v":"1987-05-05"},null,{"$f":"Millwall!X115","v":"Sunderland"},{"$f":"Millwall!Y115","v":"(H)"},{"$f":"Millwall!Z115","v":"D 1-1"},{"$f":"MATCH(K$4,Millwall!$AA115:$AL115,0)","v":{"$error":"#N/A"}},{"$f":"MATCH(L$4,Millwall!$AA115:$AL115,0)","v":{"$error":"#N/A"}},{"$f":"MATCH(M$4,Millwall!$AA115:$AL115,0)","v":8},{"$f":"MATCH(N$4,Millwall!$AA115:$AL115,0)","v":7},{"$f":"MATCH(O$4,Millwall!$AA115:$AL115,0)","v":11},{"$f":"MATCH(P$4,Millwall!$AA115:$AL115,0)","v":{"$error":"#N/A"}},{"$f":"MATCH(Q$4,Millwall!$AA115:$AL115,0)","v":3},{"$f":"MATCH(R$4,Millwall!$AA115:$AL115,0)","v":{"$error":"#N/A"}},{"$f":"MATCH(S$4,Millwall!$AA115:$AL115,0)","v":{"$error":"#N/A"}},{"$f":"MATCH(T$4,Millwall!$AA115:$AL115,0)","v":{"$error":"#N/A"}},{"$f":"MATCH(U$4,Millwall!$AA115:$AL115,0)","v":1},{"$f":"MATCH(V$4,Millwall!$AA115:$AL115,0)","v":4},{"$f":"MATCH(W$4,Millwall!$AA115:$AL115,0)","v":{"$error":"#N/A"}},{"$f":"MATCH(X$4,Millwall!$AA115:$AL115,0)","v":{"$error":"#N/A"}},{"$f":"MATCH(Y$4,Millwall!$AA115:$AL115,0)","v":{"$error":"#N/A"}},{"$f":"MATCH(Z$4,Millwall!$AA115:$AL115,0)","v":10},{"$f":"MATCH(AA$4,Millwall!$AA115:$AL115,0)","v":6},{"$f":"MATCH(AB$4,Millwall!$AA115:$AL115,0)","v":{"$error":"#N/A"}},{"$f":"MATCH(AC$4,Millwall!$AA115:$AL115,0)","v":{"$error":"#N/A"}},{"$f":"MATCH(AD$4,Millwall!$AA115:$AL115,0)","v":{"$error":"#N/A"}},{"$f":"MATCH(AE$4,Millwall!$AA115:$AL115,0)","v":2},{"$f":"MATCH(AF$4,Millwall!$AA115:$AL115,0)","v":{"$error":"#N/A"}},{"$f":"MATCH(AG$4,Millwall!$AA115:$AL115,0)","v":9},{"$f":"MATCH(AH$4,Millwall!$AA115:$AL115,0)","v":{"$error":"#N/A"}},{"$f":"MATCH(AI$4,Millwall!$AA115:$AL115,0)","v":12},{"$f":"MATCH(AJ$4,Millwall!$AA115:$AL115,0)","v":5},{"$f":"MATCH(AK$4,Millwall!$AA115:$AL115,0)","v":{"$error":"#N/A"}},{"$f":"MATCH(AL$4,Millwall!$AA115:$AL115,0)","v":{"$error":"#N/A"}},{"$f":"MATCH(AM$4,Millwall!$AA115:$AL115,0)","v":{"$error":"#N/A"}},{"$f":"MATCH(AN$4,Millwall!$AA115:$AL115,0)","v":{"$error":"#N/A"}},{"$f":"MATCH(AO$4,Millwall!$AA115:$AL115,0)","v":{"$error":"#N/A"}},{"$f":"MATCH(AP$4,Millwall!$AA115:$AL115,0)","v":{"$error":"#N/A"}},{"$f":"MATCH(AQ$4,Millwall!$AA115:$AL115,0)","v":{"$error":"#N/A"}},{"$f":"MATCH(AR$4,Millwall!$AD115:$AO115,0)","v":{"$error":"#N/A"}},null,null,null,null,371,{"$f":"MATCH(AX$3,Millwall!$AA115:$AL115,0)","v":{"$error":"#N/A"}},{"$f":"MATCH(AY$3,Millwall!$AA115:$AL115,0)","v":{"$error":"#N/A"}},{"$f":"MATCH(AZ$3,Millwall!$AA115:$AL115,0)","v":{"$error":"#N/A"}},{"$f":"MATCH(BA$3,Millwall!$AA115:$AL115,0)","v":{"$error":"#N/A"}},{"$f":"MATCH(BB$3,Millwall!$AA115:$AL115,0)","v":{"$error":"#N/A"}},{"$f":"MATCH(BC$3,Millwall!$AA115:$AL115,0)","v":{"$error":"#N/A"}},{"$f":"MATCH(BD$3,Millwall!$AA115:$AL115,0)","v":{"$error":"#N/A"}},{"$f":"MATCH(BE$3,Millwall!$AA115:$AL115,0)","v":{"$error":"#N/A"}},{"$f":"MATCH(BF$3,Millwall!$AA115:$AL115,0)","v":{"$error":"#N/A"}},{"$f":"MATCH(BG$3,Millwall!$AA115:$AL115,0)","v":{"$error":"#N/A"}},{"$f":"MATCH(BH$3,Millwall!$AA115:$AL115,0)","v":{"$error":"#N/A"}},{"$f":"MATCH(BI$3,Millwall!$AA115:$AL115,0)","v":{"$error":"#N/A"}},{"$f":"MATCH(BJ$3,Millwall!$AA115:$AL115,0)","v":{"$error":"#N/A"}},{"$f":"MATCH(BK$3,Millwall!$AA115:$AL115,0)","v":{"$error":"#N/A"}},{"$f":"MATCH(BL$3,Millwall!$AA115:$AL115,0)","v":{"$error":"#N/A"}},{"$f":"MATCH(BM$3,Millwall!$AA115:$AL115,0)","v":{"$error":"#N/A"}},{"$f":"MATCH(BN$3,Millwall!$AA115:$AL115,0)","v":{"$error":"#N/A"}},{"$f":"MATCH(BO$3,Millwall!$AA115:$AL115,0)","v":{"$error":"#N/A"}},{"$f":"MATCH(BP$3,Millwall!$AA115:$AL115,0)","v":{"$error":"#N/A"}},{"$f":"MATCH(BQ$3,Millwall!$AA115:$AL115,0)","v":{"$error":"#N/A"}},{"$f":"MATCH(BR$3,Millwall!$AA115:$AL115,0)","v":{"$error":"#N/A"}},{"$f":"MATCH(BS$3,Millwall!$AA115:$AL115,0)","v":{"$error":"#N/A"}},{"$f":"MATCH(BT$3,Millwall!$AA115:$AL115,0)","v":{"$error":"#N/A"}},{"$f":"MATCH(BU$3,Millwall!$AA115:$AL115,0)","v":{"$error":"#N/A"}},{"$f":"MATCH(BV$3,Millwall!$AA115:$AL115,0)","v":{"$error":"#N/A"}},{"$f":"MATCH(BW$3,Millwall!$AA115:$AL115,0)","v":{"$error":"#N/A"}},{"$f":"MATCH(BX$3,Millwall!$AA115:$AL115,0)","v":{"$error":"#N/A"}},{"$f":"MATCH(BY$3,Millwall!$AA115:$AL115,0)","v":{"$error":"#N/A"}},{"$f":"MATCH(BZ$3,Millwall!$AA115:$AL115,0)","v":{"$error":"#N/A"}},{"$f":"MATCH(CA$3,Millwall!$AA115:$AL115,0)","v":{"$error":"#N/A"}},{"$f":"MATCH(CB$3,Millwall!$AA115:$AL115,0)","v":{"$error":"#N/A"}},{"$f":"MATCH(CC$3,Millwall!$AA115:$AL115,0)","v":{"$error":"#N/A"}},{"$f":"MATCH(CD$3,Millwall!$AA115:$AL115,0)","v":{"$error":"#N/A"}},{"$f":"MATCH(CE$3,Millwall!$AA115:$AL115,0)","v":{"$error":"#N/A"}},null,null,null,null,null,null,null,-13]
[null,null,0,42,null,{"$f":"Millwall!W116","v":"1987-05-09"},null,{"$f":"Millwall!X116","v":"Huddersfield"},{"$f":"Millwall!Y116","v":"(A)"},{"$f":"Millwall!Z116","v":"L 0-3"},{"$f":"MATCH(K$4,Millwall!$AA116:$AL116,0)","v":{"$error":"#N/A"}},{"$f":"MATCH(L$4,Millwall!$AA116:$AL116,0)","v":{"$error":"#N/A"}},{"$f":"MATCH(M$4,Millwall!$AA116:$AL116,0)","v":8},{"$f":"MATCH(N$4,Millwall!$AA116:$AL116,0)","v":7},{"$f":"MATCH(O$4,Millwall!$AA116:$AL116,0)","v":11},{"$f":"MATCH(P$4,Millwall!$AA116:$AL116,0)","v":{"$error":"#N/A"}},{"$f":"MATCH(Q$4,Millwall!$AA116:$AL116,0)","v":3},{"$f":"MATCH(R$4,Millwall!$AA116:$AL116,0)","v":{"$error":"#N/A"}},{"$f":"MATCH(S$4,Millwall!$AA116:$AL116,0)","v":{"$error":"#N/A"}},{"$f":"MATCH(T$4,Millwall!$AA116:$AL116,0)","v":{"$error":"#N/A"}},{"$f":"MATCH(U$4,Millwall!$AA116:$AL116,0)","v":1},{"$f":"MATCH(V$4,Millwall!$AA116:$AL116,0)","v":4},{"$f":"MATCH(W$4,Millwall!$AA116:$AL116,0)","v":{"$error":"#N/A"}},{"$f":"MATCH(X$4,Millwall!$AA116:$AL116,0)","v":{"$error":"#N/A"}},{"$f":"MATCH(Y$4,Millwall!$AA116:$AL116,0)","v":{"$error":"#N/A"}},{"$f":"MATCH(Z$4,Millwall!$AA116:$AL116,0)","v":10},{"$f":"MATCH(AA$4,Millwall!$AA116:$AL116,0)","v":6},{"$f":"MATCH(AB$4,Millwall!$AA116:$AL116,0)","v":{"$error":"#N/A"}},{"$f":"MATCH(AC$4,Millwall!$AA116:$AL116,0)","v":{"$error":"#N/A"}},{"$f":"MATCH(AD$4,Millwall!$AA116:$AL116,0)","v":{"$error":"#N/A"}},{"$f":"MATCH(AE$4,Millwall!$AA116:$AL116,0)","v":2},{"$f":"MATCH(AF$4,Millwall!$AA116:$AL116,0)","v":{"$error":"#N/A"}},{"$f":"MATCH(AG$4,Millwall!$AA116:$AL116,0)","v":9},{"$f":"MATCH(AH$4,Millwall!$AA116:$AL116,0)","v":{"$error":"#N/A"}},{"$f":"MATCH(AI$4,Millwall!$AA116:$AL116,0)","v":12},{"$f":"MATCH(AJ$4,Millwall!$AA116:$AL116,0)","v":5},{"$f":"MATCH(AK$4,Millwall!$AA116:$AL116,0)","v":{"$error":"#N/A"}},{"$f":"MATCH(AL$4,Millwall!$AA116:$AL116,0)","v":{"$error":"#N/A"}},{"$f":"MATCH(AM$4,Millwall!$AA116:$AL116,0)","v":{"$error":"#N/A"}},{"$f":"MATCH(AN$4,Millwall!$AA116:$AL116,0)","v":{"$error":"#N/A"}},{"$f":"MATCH(AO$4,Millwall!$AA116:$AL116,0)","v":{"$error":"#N/A"}},{"$f":"MATCH(AP$4,Millwall!$AA116:$AL116,0)","v":{"$error":"#N/A"}},{"$f":"MATCH(AQ$4,Millwall!$AA116:$AL116,0)","v":{"$error":"#N/A"}},{"$f":"MATCH(AR$4,Millwall!$AD116:$AO116,0)","v":{"$error":"#N/A"}},null,null,null,null,null,{"$f":"MATCH(AX$3,Millwall!$AA116:$AL116,0)","v":{"$error":"#N/A"}},{"$f":"MATCH(AY$3,Millwall!$AA116:$AL116,0)","v":{"$error":"#N/A"}},{"$f":"MATCH(AZ$3,Millwall!$AA116:$AL116,0)","v":{"$error":"#N/A"}},{"$f":"MATCH(BA$3,Millwall!$AA116:$AL116,0)","v":{"$error":"#N/A"}},{"$f":"MATCH(BB$3,Millwall!$AA116:$AL116,0)","v":{"$error":"#N/A"}},{"$f":"MATCH(BC$3,Millwall!$AA116:$AL116,0)","v":{"$error":"#N/A"}},{"$f":"MATCH(BD$3,Millwall!$AA116:$AL116,0)","v":{"$error":"#N/A"}},{"$f":"MATCH(BE$3,Millwall!$AA116:$AL116,0)","v":{"$error":"#N/A"}},{"$f":"MATCH(BF$3,Millwall!$AA116:$AL116,0)","v":{"$error":"#N/A"}},{"$f":"MATCH(BG$3,Millwall!$AA116:$AL116,0)","v":{"$error":"#N/A"}},{"$f":"MATCH(BH$3,Millwall!$AA116:$AL116,0)","v":{"$error":"#N/A"}},{"$f":"MATCH(BI$3,Millwall!$AA116:$AL116,0)","v":{"$error":"#N/A"}},{"$f":"MATCH(BJ$3,Millwall!$AA116:$AL116,0)","v":{"$error":"#N/A"}},{"$f":"MATCH(BK$3,Millwall!$AA116:$AL116,0)","v":{"$error":"#N/A"}},{"$f":"MATCH(BL$3,Millwall!$AA116:$AL116,0)","v":{"$error":"#N/A"}},{"$f":"MATCH(BM$3,Millwall!$AA116:$AL116,0)","v":10},{"$f":"MATCH(BN$3,Millwall!$AA116:$AL116,0)","v":{"$error":"#N/A"}},{"$f":"MATCH(BO$3,Millwall!$AA116:$AL116,0)","v":{"$error":"#N/A"}},{"$f":"MATCH(BP$3,Millwall!$AA116:$AL116,0)","v":{"$error":"#N/A"}},{"$f":"MATCH(BQ$3,Millwall!$AA116:$AL116,0)","v":{"$error":"#N/A"}},{"$f":"MATCH(BR$3,Millwall!$AA116:$AL116,0)","v":{"$error":"#N/A"}},{"$f":"MATCH(BS$3,Millwall!$AA116:$AL116,0)","v":{"$error":"#N/A"}},{"$f":"MATCH(BT$3,Millwall!$AA116:$AL116,0)","v":{"$error":"#N/A"}},{"$f":"MATCH(BU$3,Millwall!$AA116:$AL116,0)","v":{"$error":"#N/A"}},{"$f":"MATCH(BV$3,Millwall!$AA116:$AL116,0)","v":12},{"$f":"MATCH(BW$3,Millwall!$AA116:$AL116,0)","v":{"$error":"#N/A"}},{"$f":"MATCH(BX$3,Millwall!$AA116:$AL116,0)","v":{"$error":"#N/A"}},{"$f":"MATCH(BY$3,Millwall!$AA116:$AL116,0)","v":{"$error":"#N/A"}},{"$f":"MATCH(BZ$3,Millwall!$AA116:$AL116,0)","v":{"$error":"#N/A"}},{"$f":"MATCH(CA$3,Millwall!$AA116:$AL116,0)","v":{"$error":"#N/A"}},{"$f":"MATCH(CB$3,Millwall!$AA116:$AL116,0)","v":{"$error":"#N/A"}},{"$f":"MATCH(CC$3,Millwall!$AA116:$AL116,0)","v":{"$error":"#N/A"}},{"$f":"MATCH(CD$3,Millwall!$AA116:$AL116,0)","v":{"$error":"#N/A"}},{"$f":"MATCH(CE$3,Millwall!$AA116:$AL116,0)","v":{"$error":"#N/A"}}]
[null,null,1,43,null,{"$f":"Millwall!W117","v":"00:00:00"},null,{"$f":"Millwall!X117","v":"00:00:00"},{"$f":"Millwall!Y117","v":"00:00:00"},{"$f":"Millwall!Z117","v":0},{"$f":"MATCH(K$4,Millwall!$AA117:$AL117,0)","v":{"$error":"#N/A"}},{"$f":"MATCH(L$4,Millwall!$AA117:$AL117,0)","v":{"$error":"#N/A"}},{"$f":"MATCH(M$4,Millwall!$AA117:$AL117,0)","v":{"$error":"#N/A"}},{"$f":"MATCH(N$4,Millwall!$AA117:$AL117,0)","v":{"$error":"#N/A"}},{"$f":"MATCH(O$4,Millwall!$AA117:$AL117,0)","v":{"$error":"#N/A"}},{"$f":"MATCH(P$4,Millwall!$AA117:$AL117,0)","v":{"$error":"#N/A"}},{"$f":"MATCH(Q$4,Millwall!$AA117:$AL117,0)","v":{"$error":"#N/A"}},{"$f":"MATCH(R$4,Millwall!$AA117:$AL117,0)","v":{"$error":"#N/A"}},{"$f":"MATCH(S$4,Millwall!$AA117:$AL117,0)","v":{"$error":"#N/A"}},{"$f":"MATCH(T$4,Millwall!$AA117:$AL117,0)","v":{"$error":"#N/A"}},{"$f":"MATCH(U$4,Millwall!$AA117:$AL117,0)","v":{"$error":"#N/A"}},{"$f":"MATCH(V$4,Millwall!$AA117:$AL117,0)","v":{"$error":"#N/A"}},{"$f":"MATCH(W$4,Millwall!$AA117:$AL117,0)","v":{"$error":"#N/A"}},{"$f":"MATCH(X$4,Millwall!$AA117:$AL117,0)","v":{"$error":"#N/A"}},{"$f":"MATCH(Y$4,Millwall!$AA117:$AL117,0)","v":{"$error":"#N/A"}},{"$f":"MATCH(Z$4,Millwall!$AA117:$AL117,0)","v":{"$error":"#N/A"}},{"$f":"MATCH(AA$4,Millwall!$AA117:$AL117,0)","v":{"$error":"#N/A"}},{"$f":"MATCH(AB$4,Millwall!$AA117:$AL117,0)","v":{"$error":"#N/A"}},{"$f":"MATCH(AC$4,Millwall!$AA117:$AL117,0)","v":{"$error":"#N/A"}},{"$f":"MATCH(AD$4,Millwall!$AA117:$AL117,0)","v":{"$error":"#N/A"}},{"$f":"MATCH(AE$4,Millwall!$AA117:$AL117,0)","v":{"$error":"#N/A"}},{"$f":"MATCH(AF$4,Millwall!$AA117:$AL117,0)","v":{"$error":"#N/A"}},{"$f":"MATCH(AG$4,Millwall!$AA117:$AL117,0)","v":{"$error":"#N/A"}},{"$f":"MATCH(AH$4,Millwall!$AA117:$AL117,0)","v":{"$error":"#N/A"}},{"$f":"MATCH(AI$4,Millwall!$AA117:$AL117,0)","v":{"$error":"#N/A"}},{"$f":"MATCH(AJ$4,Millwall!$AA117:$AL117,0)","v":{"$error":"#N/A"}},{"$f":"MATCH(AK$4,Millwall!$AA117:$AL117,0)","v":{"$error":"#N/A"}},{"$f":"MATCH(AL$4,Millwall!$AA117:$AL117,0)","v":{"$error":"#N/A"}},{"$f":"MATCH(AM$4,Millwall!$AA117:$AL117,0)","v":{"$error":"#N/A"}},{"$f":"MATCH(AN$4,Millwall!$AA117:$AL117,0)","v":{"$error":"#N/A"}},{"$f":"MATCH(AO$4,Millwall!$AA117:$AL117,0)","v":{"$error":"#N/A"}},{"$f":"MATCH(AP$4,Millwall!$AA117:$AL117,0)","v":{"$error":"#N/A"}},{"$f":"MATCH(AQ$4,Millwall!$AA117:$AL117,0)","v":{"$error":"#N/A"}},{"$f":"MATCH(AR$4,Millwall!$AD117:$AO117,0)","v":{"$error":"#N/A"}},null,null,null,null,null,{"$f":"MATCH(AX$3,Millwall!$AA117:$AL117,0)","v":{"$error":"#N/A"}},{"$f":"MATCH(AY$3,Millwall!$AA117:$AL117,0)","v":{"$error":"#N/A"}},{"$f":"MATCH(AZ$3,Millwall!$AA117:$AL117,0)","v":{"$error":"#N/A"}},{"$f":"MATCH(BA$3,Millwall!$AA117:$AL117,0)","v":{"$error":"#N/A"}},{"$f":"MATCH(BB$3,Millwall!$AA117:$AL117,0)","v":{"$error":"#N/A"}},{"$f":"MATCH(BC$3,Millwall!$AA117:$AL117,0)","v":{"$error":"#N/A"}},{"$f":"MATCH(BD$3,Millwall!$AA117:$AL117,0)","v":{"$error":"#N/A"}},{"$f":"MATCH(BE$3,Millwall!$AA117:$AL117,0)","v":{"$error":"#N/A"}},{"$f":"MATCH(BF$3,Millwall!$AA117:$AL117,0)","v":{"$error":"#N/A"}},{"$f":"MATCH(BG$3,Millwall!$AA117:$AL117,0)","v":{"$error":"#N/A"}},{"$f":"MATCH(BH$3,Millwall!$AA117:$AL117,0)","v":{"$error":"#N/A"}},{"$f":"MATCH(BI$3,Millwall!$AA117:$AL117,0)","v":{"$error":"#N/A"}},{"$f":"MATCH(BJ$3,Millwall!$AA117:$AL117,0)","v":{"$error":"#N/A"}},{"$f":"MATCH(BK$3,Millwall!$AA117:$AL117,0)","v":{"$error":"#N/A"}},{"$f":"MATCH(BL$3,Millwall!$AA117:$AL117,0)","v":{"$error":"#N/A"}},{"$f":"MATCH(BM$3,Millwall!$AA117:$AL117,0)","v":{"$error":"#N/A"}},{"$f":"MATCH(BN$3,Millwall!$AA117:$AL117,0)","v":{"$error":"#N/A"}},{"$f":"MATCH(BO$3,Millwall!$AA117:$AL117,0)","v":{"$error":"#N/A"}},{"$f":"MATCH(BP$3,Millwall!$AA117:$AL117,0)","v":{"$error":"#N/A"}},{"$f":"MATCH(BQ$3,Millwall!$AA117:$AL117,0)","v":{"$error":"#N/A"}},{"$f":"MATCH(BR$3,Millwall!$AA117:$AL117,0)","v":{"$error":"#N/A"}},{"$f":"MATCH(BS$3,Millwall!$AA117:$AL117,0)","v":{"$error":"#N/A"}},{"$f":"MATCH(BT$3,Millwall!$AA117:$AL117,0)","v":{"$error":"#N/A"}},{"$f":"MATCH(BU$3,Millwall!$AA117:$AL117,0)","v":{"$error":"#N/A"}},{"$f":"MATCH(BV$3,Millwall!$AA117:$AL117,0)","v":{"$error":"#N/A"}},{"$f":"MATCH(BW$3,Millwall!$AA117:$AL117,0)","v":{"$error":"#N/A"}},{"$f":"MATCH(BX$3,Millwall!$AA117:$AL117,0)","v":{"$error":"#N/A"}},{"$f":"MATCH(BY$3,Millwall!$AA117:$AL117,0)","v":{"$error":"#N/A"}},{"$f":"MATCH(BZ$3,Millwall!$AA117:$AL117,0)","v":{"$error":"#N/A"}},{"$f":"MATCH(CA$3,Millwall!$AA117:$AL117,0)","v":{"$error":"#N/A"}},{"$f":"MATCH(CB$3,Millwall!$AA117:$AL117,0)","v":{"$error":"#N/A"}},{"$f":"MATCH(CC$3,Millwall!$AA117:$AL117,0)","v":{"$error":"#N/A"}},{"$f":"MATCH(CD$3,Millwall!$AA117:$AL117,0)","v":{"$error":"#N/A"}},{"$f":"MATCH(CE$3,Millwall!$AA117:$AL117,0)","v":{"$error":"#N/A"}}]
[null,null,1,44,null,{"$f":"Millwall!W118","v":"00:00:00"},null,{"$f":"Millwall!X118","v":"00:00:00"},{"$f":"Millwall!Y118","v":"00:00:00"},{"$f":"Millwall!Z118","v":0},{"$f":"MATCH(K$4,Millwall!$AA118:$AL118,0)","v":{"$error":"#N/A"}},{"$f":"MATCH(L$4,Millwall!$AA118:$AL118,0)","v":{"$error":"#N/A"}},{"$f":"MATCH(M$4,Millwall!$AA118:$AL118,0)","v":{"$error":"#N/A"}},{"$f":"MATCH(N$4,Millwall!$AA118:$AL118,0)","v":{"$error":"#N/A"}},{"$f":"MATCH(O$4,Millwall!$AA118:$AL118,0)","v":{"$error":"#N/A"}},{"$f":"MATCH(P$4,Millwall!$AA118:$AL118,0)","v":{"$error":"#N/A"}},{"$f":"MATCH(Q$4,Millwall!$AA118:$AL118,0)","v":{"$error":"#N/A"}},{"$f":"MATCH(R$4,Millwall!$AA118:$AL118,0)","v":{"$error":"#N/A"}},{"$f":"MATCH(S$4,Millwall!$AA118:$AL118,0)","v":{"$error":"#N/A"}},{"$f":"MATCH(T$4,Millwall!$AA118:$AL118,0)","v":{"$error":"#N/A"}},{"$f":"MATCH(U$4,Millwall!$AA118:$AL118,0)","v":{"$error":"#N/A"}},{"$f":"MATCH(V$4,Millwall!$AA118:$AL118,0)","v":{"$error":"#N/A"}},{"$f":"MATCH(W$4,Millwall!$AA118:$AL118,0)","v":{"$error":"#N/A"}},{"$f":"MATCH(X$4,Millwall!$AA118:$AL118,0)","v":{"$error":"#N/A"}},{"$f":"MATCH(Y$4,Millwall!$AA118:$AL118,0)","v":{"$error":"#N/A"}},{"$f":"MATCH(Z$4,Millwall!$AA118:$AL118,0)","v":{"$error":"#N/A"}},{"$f":"MATCH(AA$4,Millwall!$AA118:$AL118,0)","v":{"$error":"#N/A"}},{"$f":"MATCH(AB$4,Millwall!$AA118:$AL118,0)","v":{"$error":"#N/A"}},{"$f":"MATCH(AC$4,Millwall!$AA118:$AL118,0)","v":{"$error":"#N/A"}},{"$f":"MATCH(AD$4,Millwall!$AA118:$AL118,0)","v":{"$error":"#N/A"}},{"$f":"MATCH(AE$4,Millwall!$AA118:$AL118,0)","v":{"$error":"#N/A"}},{"$f":"MATCH(AF$4,Millwall!$AA118:$AL118,0)","v":{"$error":"#N/A"}},{"$f":"MATCH(AG$4,Millwall!$AA118:$AL118,0)","v":{"$error":"#N/A"}},{"$f":"MATCH(AH$4,Millwall!$AA118:$AL118,0)","v":{"$error":"#N/A"}},{"$f":"MATCH(AI$4,Millwall!$AA118:$AL118,0)","v":{"$error":"#N/A"}},{"$f":"MATCH(AJ$4,Millwall!$AA118:$AL118,0)","v":{"$error":"#N/A"}},{"$f":"MATCH(AK$4,Millwall!$AA118:$AL118,0)","v":{"$error":"#N/A"}},{"$f":"MATCH(AL$4,Millwall!$AA118:$AL118,0)","v":{"$error":"#N/A"}},{"$f":"MATCH(AM$4,Millwall!$AA118:$AL118,0)","v":{"$error":"#N/A"}},{"$f":"MATCH(AN$4,Millwall!$AA118:$AL118,0)","v":{"$error":"#N/A"}},{"$f":"MATCH(AO$4,Millwall!$AA118:$AL118,0)","v":{"$error":"#N/A"}},{"$f":"MATCH(AP$4,Millwall!$AA118:$AL118,0)","v":{"$error":"#N/A"}},{"$f":"MATCH(AQ$4,Millwall!$AA118:$AL118,0)","v":{"$error":"#N/A"}},{"$f":"MATCH(AR$4,Millwall!$AD118:$AO118,0)","v":{"$error":"#N/A"}},null,null,null,null,null,{"$f":"MATCH(AX$3,Millwall!$AA118:$AL118,0)","v":{"$error":"#N/A"}},{"$f":"MATCH(AY$3,Millwall!$AA118:$AL118,0)","v":{"$error":"#N/A"}},{"$f":"MATCH(AZ$3,Millwall!$AA118:$AL118,0)","v":{"$error":"#N/A"}},{"$f":"MATCH(BA$3,Millwall!$AA118:$AL118,0)","v":{"$error":"#N/A"}},{"$f":"MATCH(BB$3,Millwall!$AA118:$AL118,0)","v":{"$error":"#N/A"}},{"$f":"MATCH(BC$3,Millwall!$AA118:$AL118,0)","v":{"$error":"#N/A"}},{"$f":"MATCH(BD$3,Millwall!$AA118:$AL118,0)","v":{"$error":"#N/A"}},{"$f":"MATCH(BE$3,Millwall!$AA118:$AL118,0)","v":{"$error":"#N/A"}},{"$f":"MATCH(BF$3,Millwall!$AA118:$AL118,0)","v":{"$error":"#N/A"}},{"$f":"MATCH(BG$3,Millwall!$AA118:$AL118,0)","v":{"$error":"#N/A"}},{"$f":"MATCH(BH$3,Millwall!$AA118:$AL118,0)","v":{"$error":"#N/A"}},{"$f":"MATCH(BI$3,Millwall!$AA118:$AL118,0)","v":{"$error":"#N/A"}},{"$f":"MATCH(BJ$3,Millwall!$AA118:$AL118,0)","v":{"$error":"#N/A"}},{"$f":"MATCH(BK$3,Millwall!$AA118:$AL118,0)","v":{"$error":"#N/A"}},{"$f":"MATCH(BL$3,Millwall!$AA118:$AL118,0)","v":{"$error":"#N/A"}},{"$f":"MATCH(BM$3,Millwall!$AA118:$AL118,0)","v":{"$error":"#N/A"}},{"$f":"MATCH(BN$3,Millwall!$AA118:$AL118,0)","v":{"$error":"#N/A"}},{"$f":"MATCH(BO$3,Millwall!$AA118:$AL118,0)","v":{"$error":"#N/A"}},{"$f":"MATCH(BP$3,Millwall!$AA118:$AL118,0)","v":{"$error":"#N/A"}},{"$f":"MATCH(BQ$3,Millwall!$AA118:$AL118,0)","v":{"$error":"#N/A"}},{"$f":"MATCH(BR$3,Millwall!$AA118:$AL118,0)","v":{"$error":"#N/A"}},{"$f":"MATCH(BS$3,Millwall!$AA118:$AL118,0)","v":{"$error":"#N/A"}},{"$f":"MATCH(BT$3,Millwall!$AA118:$AL118,0)","v":{"$error":"#N/A"}},{"$f":"MATCH(BU$3,Millwall!$AA118:$AL118,0)","v":{"$error":"#N/A"}},{"$f":"MATCH(BV$3,Millwall!$AA118:$AL118,0)","v":{"$error":"#N/A"}},{"$f":"MATCH(BW$3,Millwall!$AA118:$AL118,0)","v":{"$error":"#N/A"}},{"$f":"MATCH(BX$3,Millwall!$AA118:$AL118,0)","v":{"$error":"#N/A"}},{"$f":"MATCH(BY$3,Millwall!$AA118:$AL118,0)","v":{"$error":"#N/A"}},{"$f":"MATCH(BZ$3,Millwall!$AA118:$AL118,0)","v":{"$error":"#N/A"}},{"$f":"MATCH(CA$3,Millwall!$AA118:$AL118,0)","v":{"$error":"#N/A"}},{"$f":"MATCH(CB$3,Millwall!$AA118:$AL118,0)","v":{"$error":"#N/A"}},{"$f":"MATCH(CC$3,Millwall!$AA118:$AL118,0)","v":{"$error":"#N/A"}},{"$f":"MATCH(CD$3,Millwall!$AA118:$AL118,0)","v":{"$error":"#N/A"}},{"$f":"MATCH(CE$3,Millwall!$AA118:$AL118,0)","v":{"$error":"#N/A"}}]
[null,null,1,45,null,{"$f":"Millwall!W119","v":"00:00:00"},null,{"$f":"Millwall!X119","v":"00:00:00"},{"$f":"Millwall!Y119","v":"00:00:00"},{"$f":"Millwall!Z119","v":0},{"$f":"MATCH(K$4,Millwall!$AA119:$AL119,0)","v":{"$error":"#N/A"}},{"$f":"MATCH(L$4,Millwall!$AA119:$AL119,0)","v":{"$error":"#N/A"}},{"$f":"MATCH(M$4,Millwall!$AA119:$AL119,0)","v":{"$error":"#N/A"}},{"$f":"MATCH(N$4,Millwall!$AA119:$AL119,0)","v":{"$error":"#N/A"}},{"$f":"MATCH(O$4,Millwall!$AA119:$AL119,0)","v":{"$error":"#N/A"}},{"$f":"MATCH(P$4,Millwall!$AA119:$AL119,0)","v":{"$error":"#N/A"}},{"$f":"MATCH(Q$4,Millwall!$AA119:$AL119,0)","v":{"$error":"#N/A"}},{"$f":"MATCH(R$4,Millwall!$AA119:$AL119,0)","v":{"$error":"#N/A"}},{"$f":"MATCH(S$4,Millwall!$AA119:$AL119,0)","v":{"$error":"#N/A"}},{"$f":"MATCH(T$4,Millwall!$AA119:$AL119,0)","v":{"$error":"#N/A"}},{"$f":"MATCH(U$4,Millwall!$AA119:$AL119,0)","v":{"$error":"#N/A"}},{"$f":"MATCH(V$4,Millwall!$AA119:$AL119,0)","v":{"$error":"#N/A"}},{"$f":"MATCH(W$4,Millwall!$AA119:$AL119,0)","v":{"$error":"#N/A"}},{"$f":"MATCH(X$4,Millwall!$AA119:$AL119,0)","v":{"$error":"#N/A"}},{"$f":"MATCH(Y$4,Millwall!$AA119:$AL119,0)","v":{"$error":"#N/A"}},{"$f":"MATCH(Z$4,Millwall!$AA119:$AL119,0)","v":{"$error":"#N/A"}},{"$f":"MATCH(AA$4,Millwall!$AA119:$AL119,0)","v":{"$error":"#N/A"}},{"$f":"MATCH(AB$4,Millwall!$AA119:$AL119,0)","v":{"$error":"#N/A"}},{"$f":"MATCH(AC$4,Millwall!$AA119:$AL119,0)","v":{"$error":"#N/A"}},{"$f":"MATCH(AD$4,Millwall!$AA119:$AL119,0)","v":{"$error":"#N/A"}},{"$f":"MATCH(AE$4,Millwall!$AA119:$AL119,0)","v":{"$error":"#N/A"}},{"$f":"MATCH(AF$4,Millwall!$AA119:$AL119,0)","v":{"$error":"#N/A"}},{"$f":"MATCH(AG$4,Millwall!$AA119:$AL119,0)","v":{"$error":"#N/A"}},{"$f":"MATCH(AH$4,Millwall!$AA119:$AL119,0)","v":{"$error":"#N/A"}},{"$f":"MATCH(AI$4,Millwall!$AA119:$AL119,0)","v":{"$error":"#N/A"}},{"$f":"MATCH(AJ$4,Millwall!$AA119:$AL119,0)","v":{"$error":"#N/A"}},{"$f":"MATCH(AK$4,Millwall!$AA119:$AL119,0)","v":{"$error":"#N/A"}},{"$f":"MATCH(AL$4,Millwall!$AA119:$AL119,0)","v":{"$error":"#N/A"}},{"$f":"MATCH(AM$4,Millwall!$AA119:$AL119,0)","v":{"$error":"#N/A"}},{"$f":"MATCH(AN$4,Millwall!$AA119:$AL119,0)","v":{"$error":"#N/A"}},{"$f":"MATCH(AO$4,Millwall!$AA119:$AL119,0)","v":{"$error":"#N/A"}},{"$f":"MATCH(AP$4,Millwall!$AA119:$AL119,0)","v":{"$error":"#N/A"}},{"$f":"MATCH(AQ$4,Millwall!$AA119:$AL119,0)","v":{"$error":"#N/A"}},{"$f":"MATCH(AR$4,Millwall!$AD119:$AO119,0)","v":{"$error":"#N/A"}},null,null,null,null,null,{"$f":"MATCH(AX$3,Millwall!$AA119:$AL119,0)","v":{"$error":"#N/A"}},{"$f":"MATCH(AY$3,Millwall!$AA119:$AL119,0)","v":{"$error":"#N/A"}},{"$f":"MATCH(AZ$3,Millwall!$AA119:$AL119,0)","v":{"$error":"#N/A"}},{"$f":"MATCH(BA$3,Millwall!$AA119:$AL119,0)","v":{"$error":"#N/A"}},{"$f":"MATCH(BB$3,Millwall!$AA119:$AL119,0)","v":{"$error":"#N/A"}},{"$f":"MATCH(BC$3,Millwall!$AA119:$AL119,0)","v":{"$error":"#N/A"}},{"$f":"MATCH(BD$3,Millwall!$AA119:$AL119,0)","v":{"$error":"#N/A"}},{"$f":"MATCH(BE$3,Millwall!$AA119:$AL119,0)","v":{"$error":"#N/A"}},{"$f":"MATCH(BF$3,Millwall!$AA119:$AL119,0)","v":{"$error":"#N/A"}},{"$f":"MATCH(BG$3,Millwall!$AA119:$AL119,0)","v":{"$error":"#N/A"}},{"$f":"MATCH(BH$3,Millwall!$AA119:$AL119,0)","v":{"$error":"#N/A"}},{"$f":"MATCH(BI$3,Millwall!$AA119:$AL119,0)","v":{"$error":"#N/A"}},{"$f":"MATCH(BJ$3,Millwall!$AA119:$AL119,0)","v":{"$error":"#N/A"}},{"$f":"MATCH(BK$3,Millwall!$AA119:$AL119,0)","v":{"$error":"#N/A"}},{"$f":"MATCH(BL$3,Millwall!$AA119:$AL119,0)","v":{"$error":"#N/A"}},{"$f":"MATCH(BM$3,Millwall!$AA119:$AL119,0)","v":{"$error":"#N/A"}},{"$f":"MATCH(BN$3,Millwall!$AA119:$AL119,0)","v":{"$error":"#N/A"}},{"$f":"MATCH(BO$3,Millwall!$AA119:$AL119,0)","v":{"$error":"#N/A"}},{"$f":"MATCH(BP$3,Millwall!$AA119:$AL119,0)","v":{"$error":"#N/A"}},{"$f":"MATCH(BQ$3,Millwall!$AA119:$AL119,0)","v":{"$error":"#N/A"}},{"$f":"MATCH(BR$3,Millwall!$AA119:$AL119,0)","v":{"$error":"#N/A"}},{"$f":"MATCH(BS$3,Millwall!$AA119:$AL119,0)","v":{"$error":"#N/A"}},{"$f":"MATCH(BT$3,Millwall!$AA119:$AL119,0)","v":{"$error":"#N/A"}},{"$f":"MATCH(BU$3,Millwall!$AA119:$AL119,0)","v":{"$error":"#N/A"}},{"$f":"MATCH(BV$3,Millwall!$AA119:$AL119,0)","v":{"$error":"#N/A"}},{"$f":"MATCH(BW$3,Millwall!$AA119:$AL119,0)","v":{"$error":"#N/A"}},{"$f":"MATCH(BX$3,Millwall!$AA119:$AL119,0)","v":{"$error":"#N/A"}},{"$f":"MATCH(BY$3,Millwall!$AA119:$AL119,0)","v":{"$error":"#N/A"}},{"$f":"MATCH(BZ$3,Millwall!$AA119:$AL119,0)","v":{"$error":"#N/A"}},{"$f":"MATCH(CA$3,Millwall!$AA119:$AL119,0)","v":{"$error":"#N/A"}},{"$f":"MATCH(CB$3,Millwall!$AA119:$AL119,0)","v":{"$error":"#N/A"}},{"$f":"MATCH(CC$3,Millwall!$AA119:$AL119,0)","v":{"$error":"#N/A"}},{"$f":"MATCH(CD$3,Millwall!$AA119:$AL119,0)","v":{"$error":"#N/A"}},{"$f":"MATCH(CE$3,Millwall!$AA119:$AL119,0)","v":{"$error":"#N/A"}}]
[null,null,{"$f":"IF(J50=0,1,0)","v":1},46,null,{"$f":"Millwall!W120","v":"00:00:00"},null,{"$f":"Millwall!X120","v":"00:00:00"},{"$f":"Millwall!Y120","v":"00:00:00"},{"$f":"Millwall!Z120","v":0},{"$f":"MATCH(K$4,Millwall!$AA120:$AL120,0)","v":{"$error":"#N/A"}},{"$f":"MATCH(L$4,Millwall!$AA120:$AL120,0)","v":{"$error":"#N/A"}},{"$f":"MATCH(M$4,Millwall!$AA120:$AL120,0)","v":{"$error":"#N/A"}},{"$f":"MATCH(N$4,Millwall!$AA120:$AL120,0)","v":{"$error":"#N/A"}},{"$f":"MATCH(O$4,Millwall!$AA120:$AL120,0)","v":{"$error":"#N/A"}},{"$f":"MATCH(P$4,Millwall!$AA120:$AL120,0)","v":{"$error":"#N/A"}},{"$f":"MATCH(Q$4,Millwall!$AA120:$AL120,0)","v":{"$error":"#N/A"}},{"$f":"MATCH(R$4,Millwall!$AA120:$AL120,0)","v":{"$error":"#N/A"}},{"$f":"MATCH(S$4,Millwall!$AA120:$AL120,0)","v":{"$error":"#N/A"}},{"$f":"MATCH(T$4,Millwall!$AA120:$AL120,0)","v":{"$error":"#N/A"}},{"$f":"MATCH(U$4,Millwall!$AA120:$AL120,0)","v":{"$error":"#N/A"}},{"$f":"MATCH(V$4,Millwall!$AA120:$AL120,0)","v":{"$error":"#N/A"}},{"$f":"MATCH(W$4,Millwall!$AA120:$AL120,0)","v":{"$error":"#N/A"}},{"$f":"MATCH(X$4,Millwall!$AA120:$AL120,0)","v":{"$error":"#N/A"}},{"$f":"MATCH(Y$4,Millwall!$AA120:$AL120,0)","v":{"$error":"#N/A"}},{"$f":"MATCH(Z$4,Millwall!$AA120:$AL120,0)","v":{"$error":"#N/A"}},{"$f":"MATCH(AA$4,Millwall!$AA120:$AL120,0)","v":{"$error":"#N/A"}},{"$f":"MATCH(AB$4,Millwall!$AA120:$AL120,0)","v":{"$error":"#N/A"}},{"$f":"MATCH(AC$4,Millwall!$AA120:$AL120,0)","v":{"$error":"#N/A"}},{"$f":"MATCH(AD$4,Millwall!$AA120:$AL120,0)","v":{"$error":"#N/A"}},{"$f":"MATCH(AE$4,Millwall!$AA120:$AL120,0)","v":{"$error":"#N/A"}},{"$f":"MATCH(AF$4,Millwall!$AA120:$AL120,0)","v":{"$error":"#N/A"}},{"$f":"MATCH(AG$4,Millwall!$AA120:$AL120,0)","v":{"$error":"#N/A"}},{"$f":"MATCH(AH$4,Millwall!$AA120:$AL120,0)","v":{"$error":"#N/A"}},{"$f":"MATCH(AI$4,Millwall!$AA120:$AL120,0)","v":{"$error":"#N/A"}},{"$f":"MATCH(AJ$4,Millwall!$AA120:$AL120,0)","v":{"$error":"#N/A"}},{"$f":"MATCH(AK$4,Millwall!$AA120:$AL120,0)","v":{"$error":"#N/A"}},{"$f":"MATCH(AL$4,Millwall!$AA120:$AL120,0)","v":{"$error":"#N/A"}},{"$f":"MATCH(AM$4,Millwall!$AA120:$AL120,0)","v":{"$error":"#N/A"}},{"$f":"MATCH(AN$4,Millwall!$AA120:$AL120,0)","v":{"$error":"#N/A"}},{"$f":"MATCH(AO$4,Millwall!$AA120:$AL120,0)","v":{"$error":"#N/A"}},{"$f":"MATCH(AP$4,Millwall!$AA120:$AL120,0)","v":{"$error":"#N/A"}},{"$f":"MATCH(AQ$4,Millwall!$AA120:$AL120,0)","v":{"$error":"#N/A"}},{"$f":"MATCH(AR$4,Millwall!$AD120:$AO120,0)","v":{"$error":"#N/A"}},null,null,null,null,null,{"$f":"MATCH(AX$3,Millwall!$AA120:$AL120,0)","v":{"$error":"#N/A"}},{"$f":"MATCH(AY$3,Millwall!$AA120:$AL120,0)","v":{"$error":"#N/A"}},{"$f":"MATCH(AZ$3,Millwall!$AA120:$AL120,0)","v":{"$error":"#N/A"}},{"$f":"MATCH(BA$3,Millwall!$AA120:$AL120,0)","v":{"$error":"#N/A"}},{"$f":"MATCH(BB$3,Millwall!$AA120:$AL120,0)","v":{"$error":"#N/A"}},{"$f":"MATCH(BC$3,Millwall!$AA120:$AL120,0)","v":{"$error":"#N/A"}},{"$f":"MATCH(BD$3,Millwall!$AA120:$AL120,0)","v":{"$error":"#N/A"}},{"$f":"MATCH(BE$3,Millwall!$AA120:$AL120,0)","v":{"$error":"#N/A"}},{"$f":"MATCH(BF$3,Millwall!$AA120:$AL120,0)","v":{"$error":"#N/A"}},{"$f":"MATCH(BG$3,Millwall!$AA120:$AL120,0)","v":{"$error":"#N/A"}},{"$f":"MATCH(BH$3,Millwall!$AA120:$AL120,0)","v":{"$error":"#N/A"}},{"$f":"MATCH(BI$3,Millwall!$AA120:$AL120,0)","v":{"$error":"#N/A"}},{"$f":"MATCH(BJ$3,Millwall!$AA120:$AL120,0)","v":{"$error":"#N/A"}},{"$f":"MATCH(BK$3,Millwall!$AA120:$AL120,0)","v":{"$error":"#N/A"}},{"$f":"MATCH(BL$3,Millwall!$AA120:$AL120,0)","v":{"$error":"#N/A"}},{"$f":"MATCH(BM$3,Millwall!$AA120:$AL120,0)","v":{"$error":"#N/A"}},{"$f":"MATCH(BN$3,Millwall!$AA120:$AL120,0)","v":{"$error":"#N/A"}},{"$f":"MATCH(BO$3,Millwall!$AA120:$AL120,0)","v":{"$error":"#N/A"}},{"$f":"MATCH(BP$3,Millwall!$AA120:$AL120,0)","v":{"$error":"#N/A"}},{"$f":"MATCH(BQ$3,Millwall!$AA120:$AL120,0)","v":{"$error":"#N/A"}},{"$f":"MATCH(BR$3,Millwall!$AA120:$AL120,0)","v":{"$error":"#N/A"}},{"$f":"MATCH(BS$3,Millwall!$AA120:$AL120,0)","v":{"$error":"#N/A"}},{"$f":"MATCH(BT$3,Millwall!$AA120:$AL120,0)","v":{"$error":"#N/A"}},{"$f":"MATCH(BU$3,Millwall!$AA120:$AL120,0)","v":{"$error":"#N/A"}},{"$f":"MATCH(BV$3,Millwall!$AA120:$AL120,0)","v":{"$error":"#N/A"}},{"$f":"MATCH(BW$3,Millwall!$AA120:$AL120,0)","v":{"$error":"#N/A"}},{"$f":"MATCH(BX$3,Millwall!$AA120:$AL120,0)","v":{"$error":"#N/A"}},{"$f":"MATCH(BY$3,Millwall!$AA120:$AL120,0)","v":{"$error":"#N/A"}},{"$f":"MATCH(BZ$3,Millwall!$AA120:$AL120,0)","v":{"$error":"#N/A"}},{"$f":"MATCH(CA$3,Millwall!$AA120:$AL120,0)","v":{"$error":"#N/A"}},{"$f":"MATCH(CB$3,Millwall!$AA120:$AL120,0)","v":{"$error":"#N/A"}},{"$f":"MATCH(CC$3,Millwall!$AA120:$AL120,0)","v":{"$error":"#N/A"}},{"$f":"MATCH(CD$3,Millwall!$AA120:$AL120,0)","v":{"$error":"#N/A"}},{"$f":"MATCH(CE$3,Millwall!$AA120:$AL120,0)","v":{"$error":"#N/A"}}]
[]
[null,null,null,null,null,null,null,null,null,"Total League Apperances",{"$f":"COUNT($K$5:$K$50)-$K$53-$K$54","v":7},{"$f":"COUNT($L$5:$L$50)-$L$53-$L$54","v":1},{"$f":"COUNT($M$5:$M$50)-$M$53-$M$54","v":33},{"$f":"COUNT($N$5:$N$50)-$N$53-$N$54","v":35},{"$f":"COUNT($O$5:$O$50)-$O$53-$O$54","v":12},{"$f":"COUNT($P$5:$P$50)-$P$53-$P$54","v":1},{"$f":"COUNT($Q$5:$Q$50)-$Q$53-$Q$54","v":42},{"$f":"COUNT($R$5:$R$50)-$R$53-$R$54","v":8},{"$f":"COUNT($S$5:$S$50)-$S$53-$S$54","v":3},{"$f":"COUNT($T$5:$T$50)-$T$53-$T$54","v":4},{"$f":"COUNT($U$5:$U$50)-$U$53-$U$54","v":32},{"$f":"COUNT($V$5:$V$50)-$V$53-$V$54","v":13},{"$f":"COUNT($W$5:$W$50)-$W$53-$W$54","v":3},{"$f":"COUNT($X$5:$X$50)-$X$53-$X$54","v":0},{"$f":"COUNT($Y$5:$Y$50)-$Y$53-$Y$54","v":0},{"$f":"COUNT($Z$5:$Z$50)-$Z$53-$Z$54","v":36},{"$f":"COUNT($AA$5:$AA$50)-$AA$53-$AA$54","v":42},{"$f":"COUNT($AB$5:$AB$50)-$AB$53-$AB$54","v":16},{"$f":"COUNT($AC$5:$AC$50)-$AC$53-$AC$54","v":17},{"$f":"COUNT($AD$5:$AD$50)-$AD$53-$AD$54","v":0},{"$f":"COUNT($AE$5:$AE$50)-$AE$53-$AE$54","v":31},{"$f":"COUNT($AF$5:$AF$50)-$AF$53-$AF$54","v":10},{"$f":"COUNT($AG$5:$AG$50)-$AG$53-$AG$54","v":42},{"$f":"COUNT($AH$5:$AH$50)-$AH$53-$AH$54","v":0},{"$f":"COUNT($AI$5:$AI$50)-$AI$53","v":35},{"$f":"COUNT($AJ$5:$AJ$50)-$AJ$53","v":40},{"$f":"COUNT($AK$5:$AK$50)-$AK$53","v":0},{"$f":"COUNT($AL$5:$AL$50)-$AL$53","v":0},{"$f":"COUNT($AM$5:$AM$50)-$AM$53","v":0},{"$f":"COUNT($AN$5:$AN$50)-$AN$53","v":0},{"$f":"COUNT($AO$5:$AO$50)-$AO$53","v":0},{"$f":"COUNT($AP$5:$AP$50)-$AP$53","v":0},{"$f":"COUNT($AQ$5:$AQ$50)-$AQ$53","v":0},{"$f":"COUNT($AR$5:$AR$50)-$AR$53","v":0}]
[null,null,null,null,null,null,null,null,null,"Total League Substitute Appearences ",{"$f":"$AX$53","v":0},{"$f":"$AY$53","v":2},{"$f":"$AZ$53","v":0},{"$f":"$BA$53","v":5},{"$f":"$BB$53","v":0},{"$f":"$BC$53","v":0},{"$f":"$BD$53","v":0},{"$f":"$BE$53","v":2},{"$f":"$BF$53","v":0},{"$f":"$BG$53","v":0},{"$f":"$BH$53","v":0},{"$f":"$BI$53","v":0},{"$f":"$BJ$53","v":1},{"$f":"$BK$53","v":0},{"$f":"$BL$53","v":0},{"$f":"$BM$53","v":0},{"$f":"$BN$53","v":0},{"$f":"$BO$53","v":2},{"$f":"$BP$53","v":4},{"$f":"$BQ$53","v":0},{"$f":"$BR$53","v":0},{"$f":"$BS$53","v":0},{"$f":"$BT$53","v":0},{"$f":"$BU$53","v":0},{"$f":"$BV$53","v":1},{"$f":"$BW$53","v":0},{"$f":"$BX$53","v":0},{"$f":"$BY$53","v":0},{"$f":"$BZ$53","v":0},{"$f":"$CA$53","v":0},{"$f":"$CB$53","v":0},{"$f":"$CC$53","v":0},{"$f":"$CD$53","v":0},{"$f":"$CE$53","v":0},null,null,null,null,null,{"$f":"COUNTIF(AX5:AX50,12)","v":0},{"$f":"COUNTIF(AY5:AY50,12)","v":2},0,5,0,0,0,2,0,0,0,0,1,0,0,0,0,2,4,0,0,0,0,0,1,0,0,0,0,0,0,0,0,0]
[null,null,null,null,null,null,null,null,null,"Non Playing Substitute",{"$f":"COUNTIF($K$5:$K$50,12)-$K$53","v":0},{"$f":"COUNTIF($L$5:$L$50,12)-$L$53","v":1},{"$f":"COUNTIF($M$5:$M$50,12)-$M$53","v":0},{"$f":"COUNTIF($N$5:$N$50,12)-$N$53","v":2},{"$f":"COUNTIF($O$5:$O$50,12)-$O$53","v":0},{"$f":"COUNTIF($P$5:$P$50,12)-$P$53","v":1},{"$f":"COUNTIF($Q$5:$Q$50,12)-$Q$53","v":0},{"$f":"COUNTIF($R$5:$R$50,12)-$R$53","v":2},{"$f":"COUNTIF($S$5:$S$50,12)-$S$53","v":0},{"$f":"COUNTIF($T$5:$T$50,12)-$T$53","v":0},{"$f":"COUNTIF($U$5:$U$50,12)-$U$53","v":0},{"$f":"COUNTIF($V$5:$V$50,12)-$V$53","v":0},{"$f":"COUNTIF($W$5:$W$50,12)-$W$53","v":10},{"$f":"COUNTIF($X$5:$X$50,12)-$X$53","v":0},{"$f":"COUNTIF($Y$5:$Y$50,12)-$Y$53","v":0},{"$f":"COUNTIF($Z$5:$Z$50,12)-$Z$53","v":0},{"$f":"COUNTIF($AA$5:$AA$50,12)-$AA$53","v":0},{"$f":"COUNTIF($AB$5:$AB$50,12)-$AB$53","v":1},{"$f":"COUNTIF($AC$5:$AC$50,12)-$AC$53","v":6},{"$f":"COUNTIF($AD$5:$AD$50,12)-$AD$53","v":0},{"$f":"COUNTIF($AE$5:$AE$50,12)-$AE$53","v":0},{"$f":"COUNTIF($AF$5:$AF$50,12)-$AF$53","v":0},{"$f":"COUNTIF($AG$5:$AG$50,12)-$AG$53","v":0},{"$f":"COUNTIF($AH$5:$AH$50,12)-$AH$53","v":1},{"$f":"COUNTIF($AI$5:$AI$50,12)-$AI$53","v":1},{"$f":"COUNTIF($AJ$5:$AJ$50,12)-$AJ$53","v":0},{"$f":"COUNTIF($AK$5:$AK$50,12)-$AK$53","v":0},{"$f":"COUNTIF($AL$5:$AL$50,12)-$AL$53","v":0},{"$f":"COUNTIF($AM$5:$AM$50,12)-$AM$53","v":0},{"$f":"COUNTIF($AN$5:$AN$50,12)-$AN$53","v":0},{"$f":"COUNTIF($AO$5:$AO$50,12)-$AO$53","v":0},{"$f":"COUNTIF($AP$5:$AP$50,12)-$AP$53","v":0},{"$f":"COUNTIF($AQ$5:$AQ$50,12)-$AQ$53","v":0},{"$f":"COUNTIF($AR$5:$AR$50,12)-$AR$53","v":0}]
[null,null,null,null,null,null,null,null,null,"Goals",{"$f":"Millwall!$BZ$9","v":0},{"$f":"Millwall!$BZ$10","v":0},{"$f":"Millwall!$BZ$11","v":3},{"$f":"Millwall!$BZ$12","v":4},{"$f":"Millwall!$BZ$13","v":1},{"$f":"Millwall!$BZ$14","v":0},{"$f":"Millwall!$BZ$15","v":0},{"$f":"Millwall!$BZ$16","v":0},{"$f":"Millwall!$BZ$17","v":0},{"$f":"Millwall!$BZ$18","v":0},{"$f":"Millwall!$BZ$19","v":0},{"$f":"Millwall!$BZ$20","v":1},{"$f":"Millwall!$BZ$21","v":1},{"$f":"Millwall!$BZ$22","v":0},{"$f":"Millwall!$BZ$23","v":0},{"$f":"Millwall!$BZ$24","v":10},{"$f":"Millwall!$BZ$25","v":0},{"$f":"Millwall!$BZ$26","v":1},{"$f":"Millwall!$BZ$27","v":1},{"$f":"Millwall!$BZ$28","v":0},{"$f":"Millwall!$BZ$29","v":2},{"$f":"Millwall!$BZ$30","v":0},{"$f":"Millwall!$BZ$31","v":13},{"$f":"Millwall!$BZ$32","v":0},{"$f":"Millwall!$BZ$33","v":1},{"$f":"Millwall!$BZ$34","v":1},{"$f":"Millwall!$BZ$35","v":0},{"$f":"Millwall!$BZ$36","v":0},{"$f":"Millwall!$BZ$37","v":0},{"$f":"Millwall!$BZ$38","v":39},{"$f":"Millwall!$BZ$39","v":0},{"$f":"Millwall!$BZ$40","v":0},{"$f":"Millwall!$BZ$41","v":0},{"$f":"Millwall!$BZ$42","v":0}]
[null,null,0]
[null,null,null,null,null,null,null,"FA Cup"]
[null,null,{"$f":"IF(J58=0,1,0)","v":0},3,null,{"$f":"Millwall!W126","v":"1987-01-10"},null,{"$f":"Millwall!X126","v":"Cardiff"},{"$f":"Millwall!Y126","v":"(H)"},{"$f":"Millwall!Z126","v":"D 0-0"},{"$f":"MATCH(K$4,Millwall!$AA126:$AN126,0)","v":{"$error":"#N/A"}},{"$f":"MATCH(L$4,Millwall!$AA126:$AN126,0)","v":{"$error":"#N/A"}},{"$f":"MATCH(M$4,Millwall!$AA126:$AN126,0)","v":4},{"$f":"MATCH(N$4,Millwall!$AA126:$AN126,0)","v":7},{"$f":"MATCH(O$4,Millwall!$AA126:$AN126,0)","v":{"$error":"#N/A"}},{"$f":"MATCH(P$4,Millwall!$AA126:$AN126,0)","v":{"$error":"#N/A"}},{"$f":"MATCH(Q$4,Millwall!$AA126:$AN126,0)","v":3},{"$f":"MATCH(R$4,Millwall!$AA126:$AN126,0)","v":14},{"$f":"MATCH(S$4,Millwall!$AA126:$AN126,0)","v":{"$error":"#N/A"}},{"$f":"MATCH(T$4,Millwall!$AA126:$AN126,0)","v":{"$error":"#N/A"}},{"$f":"MATCH(U$4,Millwall!$AA126:$AN126,0)","v":1},{"$f":"MATCH(V$4,Millwall!$AA126:$AN126,0)","v":{"$error":"#N/A"}},{"$f":"MATCH(W$4,Millwall!$AA126:$AN126,0)","v":12},{"$f":"MATCH(X$4,Millwall!$AA126:$AN126,0)","v":{"$error":"#N/A"}},{"$f":"MATCH(Y$4,Millwall!$AA126:$AN126,0)","v":{"$error":"#N/A"}},{"$f":"MATCH(Z$4,Millwall!$AA126:$AN126,0)","v":10},{"$f":"MATCH(AA$4,Millwall!$AA126:$AN126,0)","v":6},{"$f":"MATCH(AB$4,Millwall!$AA126:$AN126,0)","v":{"$error":"#N/A"}},{"$f":"MATCH(AC$4,Millwall!$AA126:$AN126,0)","v":8},{"$f":"MATCH(AD$4,Millwall!$AA126:$AN126,0)","v":{"$error":"#N/A"}},{"$f":"MATCH(AE$4,Millwall!$AA126:$AN126,0)","v":11},{"$f":"MATCH(AF$4,Millwall!$AA126:$AN126,0)","v":{"$error":"#N/A"}},{"$f":"MATCH(AG$4,Millwall!$AA126:$AN126,0)","v":9},{"$f":"MATCH(AH$4,Millwall!$AA126:$AN126,0)","v":{"$error":"#N/A"}},{"$f":"MATCH(AI$4,Millwall!$AA126:$AN126,0)","v":2},{"$f":"MATCH(AJ$4,Millwall!$AA126:$AN126,0)","v":5},{"$f":"MATCH(AK$4,Millwall!$AA126:$AN126,0)","v":{"$error":"#N/A"}},{"$f":"MATCH(AL$4,Millwall!$AA126:$AN126,0)","v":{"$error":"#N/A"}},{"$f":"MATCH(AM$4,Millwall!$AA126:$AN126,0)","v":{"$error":"#N/A"}},{"$f":"MATCH(AN$4,Millwall!$AA126:$AN126,0)","v":{"$error":"#N/A"}},{"$f":"MATCH(AO$4,Millwall!$AA126:$AN126,0)","v":{"$error":"#N/A"}},{"$f":"MATCH(AP$4,Millwall!$AA126:$AN126,0)","v":{"$error":"#N/A"}},{"$f":"MATCH(AQ$4,Millwall!$AA126:$AN126,0)","v":{"$error":"#N/A"}},{"$f":"MATCH(AR$4,Millwall!$AA126:$AN126,0)","v":{"$error":"#N/A"}},null,null,null,null,null,{"$f":"MATCH(AX$3,Millwall!$AA126:$AM126,0)","v":{"$error":"#N/A"}},{"$f":"MATCH(AY$3,Millwall!$AA126:$AM126,0)","v":{"$error":"#N/A"}},{"$f":"MATCH(AZ$3,Millwall!$AA126:$AM126,0)","v":{"$error":"#N/A"}},{"$f":"MATCH(BA$3,Millwall!$AA126:$AM126,0)","v":{"$error":"#N/A"}},{"$f":"MATCH(BB$3,Millwall!$AA126:$AM126,0)","v":{"$error":"#N/A"}},{"$f":"MATCH(BC$3,Millwall!$AA126:$AM126,0)","v":{"$error":"#N/A"}},{"$f":"MATCH(BD$3,Millwall!$AA126:$AM126,0)","v":{"$error":"#N/A"}},{"$f":"MATCH(BE$3,Millwall!$AA126:$AM126,0)","v":{"$error":"#N/A"}},{"$f":"MATCH(BF$3,Millwall!$AA126:$AM126,0)","v":{"$error":"#N/A"}},{"$f":"MATCH(BG$3,Millwall!$AA126:$AM126,0)","v":{"$error":"#N/A"}},{"$f":"MATCH(BH$3,Millwall!$AA126:$AM126,0)","v":{"$error":"#N/A"}},{"$f":"MATCH(BI$3,Millwall!$AA126:$AM126,0)","v":{"$error":"#N/A"}},{"$f":"MATCH(BJ$3,Millwall!$AA126:$AM126,0)","v":12},{"$f":"MATCH(BK$3,Millwall!$AA126:$AM126,0)","v":{"$error":"#N/A"}},{"$f":"MATCH(BL$3,Millwall!$AA126:$AM126,0)","v":{"$error":"#N/A"}},{"$f":"MATCH(BM$3,Millwall!$AA126:$AM126,0)","v":10},{"$f":"MATCH(BN$3,Millwall!$AA126:$AM126,0)","v":{"$error":"#N/A"}},{"$f":"MATCH(BO$3,Millwall!$AA126:$AM126,0)","v":{"$error":"#N/A"}},{"$f":"MATCH(BP$3,Millwall!$AA126:$AM126,0)","v":{"$error":"#N/A"}},{"$f":"MATCH(BQ$3,Millwall!$AA126:$AM126,0)","v":{"$error":"#N/A"}},{"$f":"MATCH(BR$3,Millwall!$AA126:$AM126,0)","v":{"$error":"#N/A"}},{"$f":"MATCH(BS$3,Millwall!$AA126:$AM126,0)","v":{"$error":"#N/A"}},{"$f":"MATCH(BT$3,Millwall!$AA126:$AM126,0)","v":{"$error":"#N/A"}},{"$f":"MATCH(BU$3,Millwall!$AA126:$AM126,0)","v":{"$error":"#N/A"}},{"$f":"MATCH(BV$3,Millwall!$AA126:$AM126,0)","v":{"$error":"#N/A"}},{"$f":"MATCH(BW$3,Millwall!$AA126:$AM126,0)","v":{"$error":"#N/A"}},{"$f":"MATCH(BX$3,Millwall!$AA126:$AM126,0)","v":{"$error":"#N/A"}},{"$f":"MATCH(BY$3,Millwall!$AA126:$AM126,0)","v":{"$error":"#N/A"}},{"$f":"MATCH(BZ$3,Millwall!$AA126:$AM126,0)","v":{"$error":"#N/A"}},{"$f":"MATCH(CA$3,Millwall!$AA126:$AM126,0)","v":{"$error":"#N/A"}},{"$f":"MATCH(CB$3,Millwall!$AA126:$AM126,0)","v":{"$error":"#N/A"}},{"$f":"MATCH(CC$3,Millwall!$AA126:$AM126,0)","v":{"$error":"#N/A"}},{"$f":"MATCH(CD$3,Millwall!$AA126:$AM126,0)","v":{"$error":"#N/A"}},{"$f":"MATCH(CE$3,Millwall!$AA126:$AM126,0)","v":{"$error":"#N/A"}},null,null,{"$f":"MATCH(CH$3,Millwall!$AA126:$AN126,0)","v":{"$error":"#N/A"}},{"$f":"MATCH(CI$3,Millwall!$AA126:$AN126,0)","v":{"$error":"#N/A"}},{"$f":"MATCH(CJ$3,Millwall!$AA126:$AN126,0)","v":{"$error":"#N/A"}},{"$f":"MATCH(CK$3,Millwall!$AA126:$AN126,0)","v":{"$error":"#N/A"}},{"$f":"MATCH(CL$3,Millwall!$AA126:$AN126,0)","v":{"$error":"#N/A"}},{"$f":"MATCH(CM$3,Millwall!$AA126:$AN126,0)","v":{"$error":"#N/A"}},{"$f":"MATCH(CN$3,Millwall!$AA126:$AN126,0)","v":{"$error":"#N/A"}},{"$f":"MATCH(CO$3,Millwall!$AA126:$AN126,0)","v":{"$error":"#N/A"}},{"$f":"MATCH(CP$3,Millwall!$AA126:$AN126,0)","v":{"$error":"#N/A"}},{"$f":"MATCH(CQ$3,Millwall!$AA126:$AN126,0)","v":{"$error":"#N/A"}},{"$f":"MATCH(CR$3,Millwall!$AA126:$AN126,0)","v":{"$error":"#N/A"}},{"$f":"MATCH(CS$3,Millwall!$AA126:$AN126,0)","v":{"$error":"#N/A"}},{"$f":"MATCH(CT$3,Millwall!$AA126:$AN126,0)","v":{"$error":"#N/A"}},{"$f":"MATCH(CU$3,Millwall!$AA126:$AN126,0)","v":{"$error":"#N/A"}},{"$f":"MATCH(CV$3,Millwall!$AA126:$AN126,0)","v":{"$error":"#N/A"}},{"$f":"MATCH(CW$3,Millwall!$AA126:$AN126,0)","v":{"$error":"#N/A"}},{"$f":"MATCH(CX$3,Millwall!$AA126:$AN126,0)","v":{"$error":"#N/A"}},{"$f":"MATCH(CY$3,Millwall!$AA126:$AN126,0)","v":{"$error":"#N/A"}},{"$f":"MATCH(CZ$3,Millwall!$AA126:$AN126,0)","v":{"$error":"#N/A"}},{"$f":"MATCH(DA$3,Millwall!$AA126:$AN126,0)","v":{"$error":"#N/A"}},{"$f":"MATCH(DB$3,Millwall!$AA126:$AN126,0)","v":{"$error":"#N/A"}},{"$f":"MATCH(DC$3,Millwall!$AA126:$AN126,0)","v":{"$error":"#N/A"}},{"$f":"MATCH(DD$3,Millwall!$AA126:$AN126,0)","v":{"$error":"#N/A"}},{"$f":"MATCH(DE$3,Millwall!$AA126:$AN126,0)","v":{"$error":"#N/A"}},{"$f":"MATCH(DF$3,Millwall!$AA126:$AN126,0)","v":{"$error":"#N/A"}},{"$f":"MATCH(DG$3,Millwall!$AA126:$AN126,0)","v":{"$error":"#N/A"}},{"$f":"MATCH(DH$3,Millwall!$AA126:$AN126,0)","v":{"$error":"#N/A"}},{"$f":"MATCH(DI$3,Millwall!$AA126:$AN126,0)","v":{"$error":"#N/A"}},{"$f":"MATCH(DJ$3,Millwall!$AA126:$AN126,0)","v":{"$error":"#N/A"}},{"$f":"MATCH(DK$3,Millwall!$AA126:$AN126,0)","v":{"$error":"#N/A"}},{"$f":"MATCH(DL$3,Millwall!$AA126:$AN126,0)","v":{"$error":"#N/A"}},{"$f":"MATCH(DM$3,Millwall!$AA126:$AN126,0)","v":{"$error":"#N/A"}},{"$f":"MATCH(DN$3,Millwall!$AA126:$AN126,0)","v":{"$error":"#N/A"}},{"$f":"MATCH(DO$3,Millwall!$AA126:$AN126,0)","v":{"$error":"#N/A"}}]
[null,null,0,"3R",null,{"$f":"Millwall!W127","v":"1987-01-20"},null,{"$f":"Millwall!X127","v":"Cardiff"},{"$f":"Millwall!Y127","v":"(A)"},{"$f":"Millwall!Z127","v":"D 2-2"},{"$f":"MATCH(K$4,Millwall!$AA127:$AN127,0)","v":{"$error":"#N/A"}},{"$f":"MATCH(L$4,Millwall!$AA127:$AN127,0)","v":14},{"$f":"MATCH(M$4,Millwall!$AA127:$AN127,0)","v":4},{"$f":"MATCH(N$4,Millwall!$AA127:$AN127,0)","v":7},{"$f":"MATCH(O$4,Millwall!$AA127:$AN127,0)","v":{"$error":"#N/A"}},{"$f":"MATCH(P$4,Millwall!$AA127:$AN127,0)","v":{"$error":"#N/A"}},{"$f":"MATCH(Q$4,Millwall!$AA127:$AN127,0)","v":3},{"$f":"MATCH(R$4,Millwall!$AA127:$AN127,0)","v":12},{"$f":"MATCH(S$4,Millwall!$AA127:$AN127,0)","v":{"$error":"#N/A"}},{"$f":"MATCH(T$4,Millwall!$AA127:$AN127,0)","v":{"$error":"#N/A"}},{"$f":"MATCH(U$4,Millwall!$AA127:$AN127,0)","v":1},{"$f":"MATCH(V$4,Millwall!$AA127:$AN127,0)","v":{"$error":"#N/A"}},{"$f":"MATCH(W$4,Millwall!$AA127:$AN127,0)","v":11},{"$f":"MATCH(X$4,Millwall!$AA127:$AN127,0)","v":{"$error":"#N/A"}},{"$f":"MATCH(Y$4,Millwall!$AA127:$AN127,0)","v":{"$error":"#N/A"}},{"$f":"MATCH(Z$4,Millwall!$AA127:$AN127,0)","v":10},{"$f":"MATCH(AA$4,Millwall!$AA127:$AN127,0)","v":6},{"$f":"MATCH(AB$4,Millwall!$AA127:$AN127,0)","v":{"$error":"#N/A"}},{"$f":"MATCH(AC$4,Millwall!$AA127:$AN127,0)","v":8},{"$f":"MATCH(AD$4,Millwall!$AA127:$AN127,0)","v":{"$error":"#N/A"}},{"$f":"MATCH(AE$4,Millwall!$AA127:$AN127,0)","v":{"$error":"#N/A"}},{"$f":"MATCH(AF$4,Millwall!$AA127:$AN127,0)","v":{"$error":"#N/A"}},{"$f":"MATCH(AG$4,Millwall!$AA127:$AN127,0)","v":9},{"$f":"MATCH(AH$4,Millwall!$AA127:$AN127,0)","v":{"$error":"#N/A"}},{"$f":"MATCH(AI$4,Millwall!$AA127:$AN127,0)","v":2},{"$f":"MATCH(AJ$4,Millwall!$AA127:$AN127,0)","v":5},{"$f":"MATCH(AK$4,Millwall!$AA127:$AN127,0)","v":{"$error":"#N/A"}},{"$f":"MATCH(AL$4,Millwall!$AA127:$AN127,0)","v":{"$error":"#N/A"}},{"$f":"MATCH(AM$4,Millwall!$AA127:$AN127,0)","v":{"$error":"#N/A"}},{"$f":"MATCH(AN$4,Millwall!$AA127:$AN127,0)","v":{"$error":"#N/A"}},{"$f":"MATCH(AO$4,Millwall!$AA127:$AN127,0)","v":{"$error":"#N/A"}},{"$f":"MATCH(AP$4,Millwall!$AA127:$AN127,0)","v":{"$error":"#N/A"}},{"$f":"MATCH(AQ$4,Millwall!$AA127:$AN127,0)","v":{"$error":"#N/A"}},{"$f":"MATCH(AR$4,Millwall!$AA127:$AN127,0)","v":{"$error":"#N/A"}},null,null,null,null,null,{"$f":"MATCH(AX$3,Millwall!$AA127:$AM127,0)","v":{"$error":"#N/A"}},{"$f":"MATCH(AY$3,Millwall!$AA127:$AM127,0)","v":{"$error":"#N/A"}},{"$f":"MATCH(AZ$3,Millwall!$AA127:$AM127,0)","v":{"$error":"#N/A"}},{"$f":"MATCH(BA$3,Millwall!$AA127:$AM127,0)","v":{"$error":"#N/A"}},{"$f":"MATCH(BB$3,Millwall!$AA127:$AM127,0)","v":{"$error":"#N/A"}},{"$f":"MATCH(BC$3,Millwall!$AA127:$AM127,0)","v":{"$error":"#N/A"}},{"$f":"MATCH(BD$3,Millwall!$AA127:$AM127,0)","v":{"$error":"#N/A"}},{"$f":"MATCH(BE$3,Millwall!$AA127:$AM127,0)","v":{"$error":"#N/A"}},{"$f":"MATCH(BF$3,Millwall!$AA127:$AM127,0)","v":{"$error":"#N/A"}},{"$f":"MATCH(BG$3,Millwall!$AA127:$AM127,0)","v":{"$error":"#N/A"}},{"$f":"MATCH(BH$3,Millwall!$AA127:$AM127,0)","v":{"$error":"#N/A"}},{"$f":"MATCH(BI$3,Millwall!$AA127:$AM127,0)","v":{"$error":"#N/A"}},{"$f":"MATCH(BJ$3,Millwall!$AA127:$AM127,0)","v":{"$error":"#N/A"}},{"$f":"MATCH(BK$3,Millwall!$AA127:$AM127,0)","v":{"$error":"#N/A"}},{"$f":"MATCH(BL$3,Millwall!$AA127:$AM127,0)","v":{"$error":"#N/A"}},{"$f":"MATCH(BM$3,Millwall!$AA127:$AM127,0)","v":{"$error":"#N/A"}},{"$f":"MATCH(BN$3,Millwall!$AA127:$AM127,0)","v":{"$error":"#N/A"}},{"$f":"MATCH(BO$3,Millwall!$AA127:$AM127,0)","v":{"$error":"#N/A"}},{"$f":"MATCH(BP$3,Millwall!$AA127:$AM127,0)","v":{"$error":"#N/A"}},{"$f":"MATCH(BQ$3,Millwall!$AA127:$AM127,0)","v":{"$error":"#N/A"}},{"$f":"MATCH(BR$3,Millwall!$AA127:$AM127,0)","v":{"$error":"#N/A"}},{"$f":"MATCH(BS$3,Millwall!$AA127:$AM127,0)","v":{"$error":"#N/A"}},{"$f":"MATCH(BT$3,Millwall!$AA127:$AM127,0)","v":{"$error":"#N/A"}},{"$f":"MATCH(BU$3,Millwall!$AA127:$AM127,0)","v":{"$error":"#N/A"}},{"$f":"MATCH(BV$3,Millwall!$AA127:$AM127,0)","v":{"$error":"#N/A"}},{"$f":"MATCH(BW$3,Millwall!$AA127:$AM127,0)","v":{"$error":"#N/A"}},{"$f":"MATCH(BX$3,Millwall!$AA127:$AM127,0)","v":{"$error":"#N/A"}},{"$f":"MATCH(BY$3,Millwall!$AA127:$AM127,0)","v":{"$error":"#N/A"}},{"$f":"MATCH(BZ$3,Millwall!$AA127:$AM127,0)","v":{"$error":"#N/A"}},{"$f":"MATCH(CA$3,Millwall!$AA127:$AM127,0)","v":{"$error":"#N/A"}},{"$f":"MATCH(CB$3,Millwall!$AA127:$AM127,0)","v":{"$error":"#N/A"}},{"$f":"MATCH(CC$3,Millwall!$AA127:$AM127,0)","v":{"$error":"#N/A"}},{"$f":"MATCH(CD$3,Millwall!$AA127:$AM127,0)","v":{"$error":"#N/A"}},{"$f":"MATCH(CE$3,Millwall!$AA127:$AM127,0)","v":{"$error":"#N/A"}},null,null,{"$f":"MATCH(CH$3,Millwall!$AA127:$AN127,0)","v":{"$error":"#N/A"}},{"$f":"MATCH(CI$3,Millwall!$AA127:$AN127,0)","v":{"$error":"#N/A"}},{"$f":"MATCH(CJ$3,Millwall!$AA127:$AN127,0)","v":{"$error":"#N/A"}},{"$f":"MATCH(CK$3,Millwall!$AA127:$AN127,0)","v":{"$error":"#N/A"}},{"$f":"MATCH(CL$3,Millwall!$AA127:$AN127,0)","v":{"$error":"#N/A"}},{"$f":"MATCH(CM$3,Millwall!$AA127:$AN127,0)","v":{"$error":"#N/A"}},{"$f":"MATCH(CN$3,Millwall!$AA127:$AN127,0)","v":{"$error":"#N/A"}},{"$f":"MATCH(CO$3,Millwall!$AA127:$AN127,0)","v":{"$error":"#N/A"}},{"$f":"MATCH(CP$3,Millwall!$AA127:$AN127,0)","v":{"$error":"#N/A"}},{"$f":"MATCH(CQ$3,Millwall!$AA127:$AN127,0)","v":{"$error":"#N/A"}},{"$f":"MATCH(CR$3,Millwall!$AA127:$AN127,0)","v":{"$error":"#N/A"}},{"$f":"MATCH(CS$3,Millwall!$AA127:$AN127,0)","v":{"$error":"#N/A"}},{"$f":"MATCH(CT$3,Millwall!$AA127:$AN127,0)","v":{"$error":"#N/A"}},{"$f":"MATCH(CU$3,Millwall!$AA127:$AN127,0)","v":{"$error":"#N/A"}},{"$f":"MATCH(CV$3,Millwall!$AA127:$AN127,0)","v":{"$error":"#N/A"}},{"$f":"MATCH(CW$3,Millwall!$AA127:$AN127,0)","v":{"$error":"#N/A"}},{"$f":"MATCH(CX$3,Millwall!$AA127:$AN127,0)","v":{"$error":"#N/A"}},{"$f":"MATCH(CY$3,Millwall!$AA127:$AN127,0)","v":{"$error":"#N/A"}},{"$f":"MATCH(CZ$3,Millwall!$AA127:$AN127,0)","v":{"$error":"#N/A"}},{"$f":"MATCH(DA$3,Millwall!$AA127:$AN127,0)","v":{"$error":"#N/A"}},{"$f":"MATCH(DB$3,Millwall!$AA127:$AN127,0)","v":{"$error":"#N/A"}},{"$f":"MATCH(DC$3,Millwall!$AA127:$AN127,0)","v":{"$error":"#N/A"}},{"$f":"MATCH(DD$3,Millwall!$AA127:$AN127,0)","v":{"$error":"#N/A"}},{"$f":"MATCH(DE$3,Millwall!$AA127:$AN127,0)","v":{"$error":"#N/A"}},{"$f":"MATCH(DF$3,Millwall!$AA127:$AN127,0)","v":{"$error":"#N/A"}},{"$f":"MATCH(DG$3,Millwall!$AA127:$AN127,0)","v":{"$error":"#N/A"}},{"$f":"MATCH(DH$3,Millwall!$AA127:$AN127,0)","v":{"$error":"#N/A"}},{"$f":"MATCH(DI$3,Millwall!$AA127:$AN127,0)","v":{"$error":"#N/A"}},{"$f":"MATCH(DJ$3,Millwall!$AA127:$AN127,0)","v":{"$error":"#N/A"}},{"$f":"MATCH(DK$3,Millwall!$AA127:$AN127,0)","v":{"$error":"#N/A"}},{"$f":"MATCH(DL$3,Millwall!$AA127:$AN127,0)","v":{"$error":"#N/A"}},{"$f":"MATCH(DM$3,Millwall!$AA127:$AN127,0)","v":{"$error":"#N/A"}},{"$f":"MATCH(DN$3,Millwall!$AA127:$AN127,0)","v":{"$error":"#N/A"}},{"$f":"MATCH(DO$3,Millwall!$AA127:$AN127,0)","v":{"$error":"#N/A"}}]
[null,null,0,"3 2R",null,{"$f":"Millwall!W128","v":"1987-01-26"},null,{"$f":"Millwall!X128","v":"Cardiff"},{"$f":"Millwall!Y128","v":"(A)"},{"$f":"Millwall!Z128","v":"L 0-1"},{"$f":"MATCH(K$4,Millwall!$AA128:$AN128,0)","v":{"$error":"#N/A"}},{"$f":"MATCH(L$4,Millwall!$AA128:$AN128,0)","v":{"$error":"#N/A"}},{"$f":"MATCH(M$4,Millwall!$AA128:$AN128,0)","v":4},{"$f":"MATCH(N$4,Millwall!$AA128:$AN128,0)","v":7},{"$f":"MATCH(O$4,Millwall!$AA128:$AN128,0)","v":{"$error":"#N/A"}},{"$f":"MATCH(P$4,Millwall!$AA128:$AN128,0)","v":{"$error":"#N/A"}},{"$f":"MATCH(Q$4,Millwall!$AA128:$AN128,0)","v":3},{"$f":"MATCH(R$4,Millwall!$AA128:$AN128,0)","v":14},{"$f":"MATCH(S$4,Millwall!$AA128:$AN128,0)","v":{"$error":"#N/A"}},{"$f":"MATCH(T$4,Millwall!$AA128:$AN128,0)","v":{"$error":"#N/A"}},{"$f":"MATCH(U$4,Millwall!$AA128:$AN128,0)","v":1},{"$f":"MATCH(V$4,Millwall!$AA128:$AN128,0)","v":{"$error":"#N/A"}},{"$f":"MATCH(W$4,Millwall!$AA128:$AN128,0)","v":11},{"$f":"MATCH(X$4,Millwall!$AA128:$AN128,0)","v":12},{"$f":"MATCH(Y$4,Millwall!$AA128:$AN128,0)","v":{"$error":"#N/A"}},{"$f":"MATCH(Z$4,Millwall!$AA128:$AN128,0)","v":10},{"$f":"MATCH(AA$4,Millwall!$AA128:$AN128,0)","v":6},{"$f":"MATCH(AB$4,Millwall!$AA128:$AN128,0)","v":{"$error":"#N/A"}},{"$f":"MATCH(AC$4,Millwall!$AA128:$AN128,0)","v":8},{"$f":"MATCH(AD$4,Millwall!$AA128:$AN128,0)","v":{"$error":"#N/A"}},{"$f":"MATCH(AE$4,Millwall!$AA128:$AN128,0)","v":{"$error":"#N/A"}},{"$f":"MATCH(AF$4,Millwall!$AA128:$AN128,0)","v":{"$error":"#N/A"}},{"$f":"MATCH(AG$4,Millwall!$AA128:$AN128,0)","v":9},{"$f":"MATCH(AH$4,Millwall!$AA128:$AN128,0)","v":{"$error":"#N/A"}},{"$f":"MATCH(AI$4,Millwall!$AA128:$AN128,0)","v":2},{"$f":"MATCH(AJ$4,Millwall!$AA128:$AN128,0)","v":5},{"$f":"MATCH(AK$4,Millwall!$AA128:$AN128,0)","v":{"$error":"#N/A"}},{"$f":"MATCH(AL$4,Millwall!$AA128:$AN128,0)","v":{"$error":"#N/A"}},{"$f":"MATCH(AM$4,Millwall!$AA128:$AN128,0)","v":{"$error":"#N/A"}},{"$f":"MATCH(AN$4,Millwall!$AA128:$AN128,0)","v":{"$error":"#N/A"}},{"$f":"MATCH(AO$4,Millwall!$AA128:$AN128,0)","v":{"$error":"#N/A"}},{"$f":"MATCH(AP$4,Millwall!$AA128:$AN128,0)","v":{"$error":"#N/A"}},{"$f":"MATCH(AQ$4,Millwall!$AA128:$AN128,0)","v":{"$error":"#N/A"}},{"$f":"MATCH(AR$4,Millwall!$AA128:$AN128,0)","v":{"$error":"#N/A"}},null,null,null,null,null,{"$f":"MATCH(AX$3,Millwall!$AA128:$AM128,0)","v":{"$error":"#N/A"}},{"$f":"MATCH(AY$3,Millwall!$AA128:$AM128,0)","v":{"$error":"#N/A"}},{"$f":"MATCH(AZ$3,Millwall!$AA128:$AM128,0)","v":{"$error":"#N/A"}},{"$f":"MATCH(BA$3,Millwall!$AA128:$AM128,0)","v":{"$error":"#N/A"}},{"$f":"MATCH(BB$3,Millwall!$AA128:$AM128,0)","v":{"$error":"#N/A"}},{"$f":"MATCH(BC$3,Millwall!$AA128:$AM128,0)","v":{"$error":"#N/A"}},{"$f":"MATCH(BD$3,Millwall!$AA128:$AM128,0)","v":{"$error":"#N/A"}},{"$f":"MATCH(BE$3,Millwall!$AA128:$AM128,0)","v":{"$error":"#N/A"}},{"$f":"MATCH(BF$3,Millwall!$AA128:$AM128,0)","v":{"$error":"#N/A"}},{"$f":"MATCH(BG$3,Millwall!$AA128:$AM128,0)","v":{"$error":"#N/A"}},{"$f":"MATCH(BH$3,Millwall!$AA128:$AM128,0)","v":{"$error":"#N/A"}},{"$f":"MATCH(BI$3,Millwall!$AA128:$AM128,0)","v":{"$error":"#N/A"}},{"$f":"MATCH(BJ$3,Millwall!$AA128:$AM128,0)","v":11},{"$f":"MATCH(BK$3,Millwall!$AA128:$AM128,0)","v":12},{"$f":"MATCH(BL$3,Millwall!$AA128:$AM128,0)","v":{"$error":"#N/A"}},{"$f":"MATCH(BM$3,Millwall!$AA128:$AM128,0)","v":{"$error":"#N/A"}},{"$f":"MATCH(BN$3,Millwall!$AA128:$AM128,0)","v":{"$error":"#N/A"}},{"$f":"MATCH(BO$3,Millwall!$AA128:$AM128,0)","v":{"$error":"#N/A"}},{"$f":"MATCH(BP$3,Millwall!$AA128:$AM128,0)","v":{"$error":"#N/A"}},{"$f":"MATCH(BQ$3,Millwall!$AA128:$AM128,0)","v":{"$error":"#N/A"}},{"$f":"MATCH(BR$3,Millwall!$AA128:$AM128,0)","v":{"$error":"#N/A"}},{"$f":"MATCH(BS$3,Millwall!$AA128:$AM128,0)","v":{"$error":"#N/A"}},{"$f":"MATCH(BT$3,Millwall!$AA128:$AM128,0)","v":{"$error":"#N/A"}},{"$f":"MATCH(BU$3,Millwall!$AA128:$AM128,0)","v":{"$error":"#N/A"}},{"$f":"MATCH(BV$3,Millwall!$AA128:$AM128,0)","v":{"$error":"#N/A"}},{"$f":"MATCH(BW$3,Millwall!$AA128:$AM128,0)","v":{"$error":"#N/A"}},{"$f":"MATCH(BX$3,Millwall!$AA128:$AM128,0)","v":{"$error":"#N/A"}},{"$f":"MATCH(BY$3,Millwall!$AA128:$AM128,0)","v":{"$error":"#N/A"}},{"$f":"MATCH(BZ$3,Millwall!$AA128:$AM128,0)","v":{"$error":"#N/A"}},{"$f":"MATCH(CA$3,Millwall!$AA128:$AM128,0)","v":{"$error":"#N/A"}},{"$f":"MATCH(CB$3,Millwall!$AA128:$AM128,0)","v":{"$error":"#N/A"}},{"$f":"MATCH(CC$3,Millwall!$AA128:$AM128,0)","v":{"$error":"#N/A"}},{"$f":"MATCH(CD$3,Millwall!$AA128:$AM128,0)","v":{"$error":"#N/A"}},{"$f":"MATCH(CE$3,Millwall!$AA128:$AM128,0)","v":{"$error":"#N/A"}},null,null,{"$f":"MATCH(CH$3,Millwall!$AA128:$AN128,0)","v":{"$error":"#N/A"}},{"$f":"MATCH(CI$3,Millwall!$AA128:$AN128,0)","v":{"$error":"#N/A"}},{"$f":"MATCH(CJ$3,Millwall!$AA128:$AN128,0)","v":{"$error":"#N/A"}},{"$f":"MATCH(CK$3,Millwall!$AA128:$AN128,0)","v":{"$error":"#N/A"}},{"$f":"MATCH(CL$3,Millwall!$AA128:$AN128,0)","v":{"$error":"#N/A"}},{"$f":"MATCH(CM$3,Millwall!$AA128:$AN128,0)","v":{"$error":"#N/A"}},{"$f":"MATCH(CN$3,Millwall!$AA128:$AN128,0)","v":{"$error":"#N/A"}},{"$f":"MATCH(CO$3,Millwall!$AA128:$AN128,0)","v":{"$error":"#N/A"}},{"$f":"MATCH(CP$3,Millwall!$AA128:$AN128,0)","v":{"$error":"#N/A"}},{"$f":"MATCH(CQ$3,Millwall!$AA128:$AN128,0)","v":{"$error":"#N/A"}},{"$f":"MATCH(CR$3,Millwall!$AA128:$AN128,0)","v":{"$error":"#N/A"}},{"$f":"MATCH(CS$3,Millwall!$AA128:$AN128,0)","v":{"$error":"#N/A"}},{"$f":"MATCH(CT$3,Millwall!$AA128:$AN128,0)","v":{"$error":"#N/A"}},{"$f":"MATCH(CU$3,Millwall!$AA128:$AN128,0)","v":{"$error":"#N/A"}},{"$f":"MATCH(CV$3,Millwall!$AA128:$AN128,0)","v":{"$error":"#N/A"}},{"$f":"MATCH(CW$3,Millwall!$AA128:$AN128,0)","v":{"$error":"#N/A"}},{"$f":"MATCH(CX$3,Millwall!$AA128:$AN128,0)","v":{"$error":"#N/A"}},{"$f":"MATCH(CY$3,Millwall!$AA128:$AN128,0)","v":{"$error":"#N/A"}},{"$f":"MATCH(CZ$3,Millwall!$AA128:$AN128,0)","v":{"$error":"#N/A"}},{"$f":"MATCH(DA$3,Millwall!$AA128:$AN128,0)","v":{"$error":"#N/A"}},{"$f":"MATCH(DB$3,Millwall!$AA128:$AN128,0)","v":{"$error":"#N/A"}},{"$f":"MATCH(DC$3,Millwall!$AA128:$AN128,0)","v":{"$error":"#N/A"}},{"$f":"MATCH(DD$3,Millwall!$AA128:$AN128,0)","v":{"$error":"#N/A"}},{"$f":"MATCH(DE$3,Millwall!$AA128:$AN128,0)","v":{"$error":"#N/A"}},{"$f":"MATCH(DF$3,Millwall!$AA128:$AN128,0)","v":{"$error":"#N/A"}},{"$f":"MATCH(DG$3,Millwall!$AA128:$AN128,0)","v":{"$error":"#N/A"}},{"$f":"MATCH(DH$3,Millwall!$AA128:$AN128,0)","v":{"$error":"#N/A"}},{"$f":"MATCH(DI$3,Millwall!$AA128:$AN128,0)","v":{"$error":"#N/A"}},{"$f":"MATCH(DJ$3,Millwall!$AA128:$AN128,0)","v":{"$error":"#N/A"}},{"$f":"MATCH(DK$3,Millwall!$AA128:$AN128,0)","v":{"$error":"#N/A"}},{"$f":"MATCH(DL$3,Millwall!$AA128:$AN128,0)","v":{"$error":"#N/A"}},{"$f":"MATCH(DM$3,Millwall!$AA128:$AN128,0)","v":{"$error":"#N/A"}},{"$f":"MATCH(DN$3,Millwall!$AA128:$AN128,0)","v":{"$error":"#N/A"}},{"$f":"MATCH(DO$3,Millwall!$AA128:$AN128,0)","v":{"$error":"#N/A"}}]
[null,null,1,null,null,{"$f":"Millwall!W129","v":"00:00:00"},null,{"$f":"Millwall!X129","v":"00:00:00"},{"$f":"Millwall!Y129","v":"00:00:00"},{"$f":"Millwall!Z129","v":0},{"$f":"MATCH(K$4,Millwall!$AA129:$AN129,0)","v":{"$error":"#N/A"}},{"$f":"MATCH(L$4,Millwall!$AA129:$AN129,0)","v":{"$error":"#N/A"}},{"$f":"MATCH(M$4,Millwall!$AA129:$AN129,0)","v":{"$error":"#N/A"}},{"$f":"MATCH(N$4,Millwall!$AA129:$AN129,0)","v":{"$error":"#N/A"}},{"$f":"MATCH(O$4,Millwall!$AA129:$AN129,0)","v":{"$error":"#N/A"}},{"$f":"MATCH(P$4,Millwall!$AA129:$AN129,0)","v":{"$error":"#N/A"}},{"$f":"MATCH(Q$4,Millwall!$AA129:$AN129,0)","v":{"$error":"#N/A"}},{"$f":"MATCH(R$4,Millwall!$AA129:$AN129,0)","v":{"$error":"#N/A"}},{"$f":"MATCH(S$4,Millwall!$AA129:$AN129,0)","v":{"$error":"#N/A"}},{"$f":"MATCH(T$4,Millwall!$AA129:$AN129,0)","v":{"$error":"#N/A"}},{"$f":"MATCH(U$4,Millwall!$AA129:$AN129,0)","v":{"$error":"#N/A"}},{"$f":"MATCH(V$4,Millwall!$AA129:$AN129,0)","v":{"$error":"#N/A"}},{"$f":"MATCH(W$4,Millwall!$AA129:$AN129,0)","v":{"$error":"#N/A"}},{"$f":"MATCH(X$4,Millwall!$AA129:$AN129,0)","v":{"$error":"#N/A"}},{"$f":"MATCH(Y$4,Millwall!$AA129:$AN129,0)","v":{"$error":"#N/A"}},{"$f":"MATCH(Z$4,Millwall!$AA129:$AN129,0)","v":{"$error":"#N/A"}},{"$f":"MATCH(AA$4,Millwall!$AA129:$AN129,0)","v":{"$error":"#N/A"}},{"$f":"MATCH(AB$4,Millwall!$AA129:$AN129,0)","v":{"$error":"#N/A"}},{"$f":"MATCH(AC$4,Millwall!$AA129:$AN129,0)","v":{"$error":"#N/A"}},{"$f":"MATCH(AD$4,Millwall!$AA129:$AN129,0)","v":{"$error":"#N/A"}},{"$f":"MATCH(AE$4,Millwall!$AA129:$AN129,0)","v":{"$error":"#N/A"}},{"$f":"MATCH(AF$4,Millwall!$AA129:$AN129,0)","v":{"$error":"#N/A"}},{"$f":"MATCH(AG$4,Millwall!$AA129:$AN129,0)","v":{"$error":"#N/A"}},{"$f":"MATCH(AH$4,Millwall!$AA129:$AN129,0)","v":{"$error":"#N/A"}},{"$f":"MATCH(AI$4,Millwall!$AA129:$AN129,0)","v":{"$error":"#N/A"}},{"$f":"MATCH(AJ$4,Millwall!$AA129:$AN129,0)","v":{"$error":"#N/A"}},{"$f":"MATCH(AK$4,Millwall!$AA129:$AN129,0)","v":{"$error":"#N/A"}},{"$f":"MATCH(AL$4,Millwall!$AA129:$AN129,0)","v":{"$error":"#N/A"}},{"$f":"MATCH(AM$4,Millwall!$AA129:$AN129,0)","v":{"$error":"#N/A"}},{"$f":"MATCH(AN$4,Millwall!$AA129:$AN129,0)","v":{"$error":"#N/A"}},{"$f":"MATCH(AO$4,Millwall!$AA129:$AN129,0)","v":{"$error":"#N/A"}},{"$f":"MATCH(AP$4,Millwall!$AA129:$AN129,0)","v":{"$error":"#N/A"}},{"$f":"MATCH(AQ$4,Millwall!$AA129:$AN129,0)","v":{"$error":"#N/A"}},{"$f":"MATCH(AR$4,Millwall!$AA129:$AN129,0)","v":{"$error":"#N/A"}},null,null,null,null,null,{"$f":"MATCH(AX$3,Millwall!$AA129:$AM129,0)","v":{"$error":"#N/A"}},{"$f":"MATCH(AY$3,Millwall!$AA129:$AM129,0)","v":{"$error":"#N/A"}},{"$f":"MATCH(AZ$3,Millwall!$AA129:$AM129,0)","v":{"$error":"#N/A"}},{"$f":"MATCH(BA$3,Millwall!$AA129:$AM129,0)","v":{"$error":"#N/A"}},{"$f":"MATCH(BB$3,Millwall!$AA129:$AM129,0)","v":{"$error":"#N/A"}},{"$f":"MATCH(BC$3,Millwall!$AA129:$AM129,0)","v":{"$error":"#N/A"}},{"$f":"MATCH(BD$3,Millwall!$AA129:$AM129,0)","v":{"$error":"#N/A"}},{"$f":"MATCH(BE$3,Millwall!$AA129:$AM129,0)","v":{"$error":"#N/A"}},{"$f":"MATCH(BF$3,Millwall!$AA129:$AM129,0)","v":{"$error":"#N/A"}},{"$f":"MATCH(BG$3,Millwall!$AA129:$AM129,0)","v":{"$error":"#N/A"}},{"$f":"MATCH(BH$3,Millwall!$AA129:$AM129,0)","v":{"$error":"#N/A"}},{"$f":"MATCH(BI$3,Millwall!$AA129:$AM129,0)","v":{"$error":"#N/A"}},{"$f":"MATCH(BJ$3,Millwall!$AA129:$AM129,0)","v":{"$error":"#N/A"}},{"$f":"MATCH(BK$3,Millwall!$AA129:$AM129,0)","v":{"$error":"#N/A"}},{"$f":"MATCH(BL$3,Millwall!$AA129:$AM129,0)","v":{"$error":"#N/A"}},{"$f":"MATCH(BM$3,Millwall!$AA129:$AM129,0)","v":{"$error":"#N/A"}},{"$f":"MATCH(BN$3,Millwall!$AA129:$AM129,0)","v":{"$error":"#N/A"}},{"$f":"MATCH(BO$3,Millwall!$AA129:$AM129,0)","v":{"$error":"#N/A"}},{"$f":"MATCH(BP$3,Millwall!$AA129:$AM129,0)","v":{"$error":"#N/A"}},{"$f":"MATCH(BQ$3,Millwall!$AA129:$AM129,0)","v":{"$error":"#N/A"}},{"$f":"MATCH(BR$3,Millwall!$AA129:$AM129,0)","v":{"$error":"#N/A"}},{"$f":"MATCH(BS$3,Millwall!$AA129:$AM129,0)","v":{"$error":"#N/A"}},{"$f":"MATCH(BT$3,Millwall!$AA129:$AM129,0)","v":{"$error":"#N/A"}},{"$f":"MATCH(BU$3,Millwall!$AA129:$AM129,0)","v":{"$error":"#N/A"}},{"$f":"MATCH(BV$3,Millwall!$AA129:$AM129,0)","v":{"$error":"#N/A"}},{"$f":"MATCH(BW$3,Millwall!$AA129:$AM129,0)","v":{"$error":"#N/A"}},{"$f":"MATCH(BX$3,Millwall!$AA129:$AM129,0)","v":{"$error":"#N/A"}},{"$f":"MATCH(BY$3,Millwall!$AA129:$AM129,0)","v":{"$error":"#N/A"}},{"$f":"MATCH(BZ$3,Millwall!$AA129:$AM129,0)","v":{"$error":"#N/A"}},{"$f":"MATCH(CA$3,Millwall!$AA129:$AM129,0)","v":{"$error":"#N/A"}},{"$f":"MATCH(CB$3,Millwall!$AA129:$AM129,0)","v":{"$error":"#N/A"}},{"$f":"MATCH(CC$3,Millwall!$AA129:$AM129,0)","v":{"$error":"#N/A"}},{"$f":"MATCH(CD$3,Millwall!$AA129:$AM129,0)","v":{"$error":"#N/A"}},{"$f":"MATCH(CE$3,Millwall!$AA129:$AM129,0)","v":{"$error":"#N/A"}},null,null,{"$f":"MATCH(CH$3,Millwall!$AA129:$AN129,0)","v":{"$error":"#N/A"}},{"$f":"MATCH(CI$3,Millwall!$AA129:$AN129,0)","v":{"$error":"#N/A"}},{"$f":"MATCH(CJ$3,Millwall!$AA129:$AN129,0)","v":{"$error":"#N/A"}},{"$f":"MATCH(CK$3,Millwall!$AA129:$AN129,0)","v":{"$error":"#N/A"}},{"$f":"MATCH(CL$3,Millwall!$AA129:$AN129,0)","v":{"$error":"#N/A"}},{"$f":"MATCH(CM$3,Millwall!$AA129:$AN129,0)","v":{"$error":"#N/A"}},{"$f":"MATCH(CN$3,Millwall!$AA129:$AN129,0)","v":{"$error":"#N/A"}},{"$f":"MATCH(CO$3,Millwall!$AA129:$AN129,0)","v":{"$error":"#N/A"}},{"$f":"MATCH(CP$3,Millwall!$AA129:$AN129,0)","v":{"$error":"#N/A"}},{"$f":"MATCH(CQ$3,Millwall!$AA129:$AN129,0)","v":{"$error":"#N/A"}},{"$f":"MATCH(CR$3,Millwall!$AA129:$AN129,0)","v":{"$error":"#N/A"}},{"$f":"MATCH(CS$3,Millwall!$AA129:$AN129,0)","v":{"$error":"#N/A"}},{"$f":"MATCH(CT$3,Millwall!$AA129:$AN129,0)","v":{"$error":"#N/A"}},{"$f":"MATCH(CU$3,Millwall!$AA129:$AN129,0)","v":{"$error":"#N/A"}},{"$f":"MATCH(CV$3,Millwall!$AA129:$AN129,0)","v":{"$error":"#N/A"}},{"$f":"MATCH(CW$3,Millwall!$AA129:$AN129,0)","v":{"$error":"#N/A"}},{"$f":"MATCH(CX$3,Millwall!$AA129:$AN129,0)","v":{"$error":"#N/A"}},{"$f":"MATCH(CY$3,Millwall!$AA129:$AN129,0)","v":{"$error":"#N/A"}},{"$f":"MATCH(CZ$3,Millwall!$AA129:$AN129,0)","v":{"$error":"#N/A"}},{"$f":"MATCH(DA$3,Millwall!$AA129:$AN129,0)","v":{"$error":"#N/A"}},{"$f":"MATCH(DB$3,Millwall!$AA129:$AN129,0)","v":{"$error":"#N/A"}},{"$f":"MATCH(DC$3,Millwall!$AA129:$AN129,0)","v":{"$error":"#N/A"}},{"$f":"MATCH(DD$3,Millwall!$AA129:$AN129,0)","v":{"$error":"#N/A"}},{"$f":"MATCH(DE$3,Millwall!$AA129:$AN129,0)","v":{"$error":"#N/A"}},{"$f":"MATCH(DF$3,Millwall!$AA129:$AN129,0)","v":{"$error":"#N/A"}},{"$f":"MATCH(DG$3,Millwall!$AA129:$AN129,0)","v":{"$error":"#N/A"}},{"$f":"MATCH(DH$3,Millwall!$AA129:$AN129,0)","v":{"$error":"#N/A"}},{"$f":"MATCH(DI$3,Millwall!$AA129:$AN129,0)","v":{"$error":"#N/A"}},{"$f":"MATCH(DJ$3,Millwall!$AA129:$AN129,0)","v":{"$error":"#N/A"}},{"$f":"MATCH(DK$3,Millwall!$AA129:$AN129,0)","v":{"$error":"#N/A"}},{"$f":"MATCH(DL$3,Millwall!$AA129:$AN129,0)","v":{"$error":"#N/A"}},{"$f":"MATCH(DM$3,Millwall!$AA129:$AN129,0)","v":{"$error":"#N/A"}},{"$f":"MATCH(DN$3,Millwall!$AA129:$AN129,0)","v":{"$error":"#N/A"}},{"$f":"MATCH(DO$3,Millwall!$AA129:$AN129,0)","v":{"$error":"#N/A"}}]
[null,null,1,null,null,{"$f":"Millwall!W130","v":"00:00:00"},null,{"$f":"Millwall!X130","v":"00:00:00"},{"$f":"Millwall!Y130","v":"00:00:00"},{"$f":"Millwall!Z130","v":0},{"$f":"MATCH(K$4,Millwall!$AA130:$AN130,0)","v":{"$error":"#N/A"}},{"$f":"MATCH(L$4,Millwall!$AA130:$AN130,0)","v":{"$error":"#N/A"}},{"$f":"MATCH(M$4,Millwall!$AA130:$AN130,0)","v":{"$error":"#N/A"}},{"$f":"MATCH(N$4,Millwall!$AA130:$AN130,0)","v":{"$error":"#N/A"}},{"$f":"MATCH(O$4,Millwall!$AA130:$AN130,0)","v":{"$error":"#N/A"}},{"$f":"MATCH(P$4,Millwall!$AA130:$AN130,0)","v":{"$error":"#N/A"}},{"$f":"MATCH(Q$4,Millwall!$AA130:$AN130,0)","v":{"$error":"#N/A"}},{"$f":"MATCH(R$4,Millwall!$AA130:$AN130,0)","v":{"$error":"#N/A"}},{"$f":"MATCH(S$4,Millwall!$AA130:$AN130,0)","v":{"$error":"#N/A"}},{"$f":"MATCH(T$4,Millwall!$AA130:$AN130,0)","v":{"$error":"#N/A"}},{"$f":"MATCH(U$4,Millwall!$AA130:$AN130,0)","v":{"$error":"#N/A"}},{"$f":"MATCH(V$4,Millwall!$AA130:$AN130,0)","v":{"$error":"#N/A"}},{"$f":"MATCH(W$4,Millwall!$AA130:$AN130,0)","v":{"$error":"#N/A"}},{"$f":"MATCH(X$4,Millwall!$AA130:$AN130,0)","v":{"$error":"#N/A"}},{"$f":"MATCH(Y$4,Millwall!$AA130:$AN130,0)","v":{"$error":"#N/A"}},{"$f":"MATCH(Z$4,Millwall!$AA130:$AN130,0)","v":{"$error":"#N/A"}},{"$f":"MATCH(AA$4,Millwall!$AA130:$AN130,0)","v":{"$error":"#N/A"}},{"$f":"MATCH(AB$4,Millwall!$AA130:$AN130,0)","v":{"$error":"#N/A"}},{"$f":"MATCH(AC$4,Millwall!$AA130:$AN130,0)","v":{"$error":"#N/A"}},{"$f":"MATCH(AD$4,Millwall!$AA130:$AN130,0)","v":{"$error":"#N/A"}},{"$f":"MATCH(AE$4,Millwall!$AA130:$AN130,0)","v":{"$error":"#N/A"}},{"$f":"MATCH(AF$4,Millwall!$AA130:$AN130,0)","v":{"$error":"#N/A"}},{"$f":"MATCH(AG$4,Millwall!$AA130:$AN130,0)","v":{"$error":"#N/A"}},{"$f":"MATCH(AH$4,Millwall!$AA130:$AN130,0)","v":{"$error":"#N/A"}},{"$f":"MATCH(AI$4,Millwall!$AA130:$AN130,0)","v":{"$error":"#N/A"}},{"$f":"MATCH(AJ$4,Millwall!$AA130:$AN130,0)","v":{"$error":"#N/A"}},{"$f":"MATCH(AK$4,Millwall!$AA130:$AN130,0)","v":{"$error":"#N/A"}},{"$f":"MATCH(AL$4,Millwall!$AA130:$AN130,0)","v":{"$error":"#N/A"}},{"$f":"MATCH(AM$4,Millwall!$AA130:$AN130,0)","v":{"$error":"#N/A"}},{"$f":"MATCH(AN$4,Millwall!$AA130:$AN130,0)","v":{"$error":"#N/A"}},{"$f":"MATCH(AO$4,Millwall!$AA130:$AN130,0)","v":{"$error":"#N/A"}},{"$f":"MATCH(AP$4,Millwall!$AA130:$AN130,0)","v":{"$error":"#N/A"}},{"$f":"MATCH(AQ$4,Millwall!$AA130:$AN130,0)","v":{"$error":"#N/A"}},{"$f":"MATCH(AR$4,Millwall!$AA130:$AN130,0)","v":{"$error":"#N/A"}},null,null,null,null,null,{"$f":"MATCH(AX$3,Millwall!$AA130:$AM130,0)","v":{"$error":"#N/A"}},{"$f":"MATCH(AY$3,Millwall!$AA130:$AM130,0)","v":{"$error":"#N/A"}},{"$f":"MATCH(AZ$3,Millwall!$AA130:$AM130,0)","v":{"$error":"#N/A"}},{"$f":"MATCH(BA$3,Millwall!$AA130:$AM130,0)","v":{"$error":"#N/A"}},{"$f":"MATCH(BB$3,Millwall!$AA130:$AM130,0)","v":{"$error":"#N/A"}},{"$f":"MATCH(BC$3,Millwall!$AA130:$AM130,0)","v":{"$error":"#N/A"}},{"$f":"MATCH(BD$3,Millwall!$AA130:$AM130,0)","v":{"$error":"#N/A"}},{"$f":"MATCH(BE$3,Millwall!$AA130:$AM130,0)","v":{"$error":"#N/A"}},{"$f":"MATCH(BF$3,Millwall!$AA130:$AM130,0)","v":{"$error":"#N/A"}},{"$f":"MATCH(BG$3,Millwall!$AA130:$AM130,0)","v":{"$error":"#N/A"}},{"$f":"MATCH(BH$3,Millwall!$AA130:$AM130,0)","v":{"$error":"#N/A"}},{"$f":"MATCH(BI$3,Millwall!$AA130:$AM130,0)","v":{"$error":"#N/A"}},{"$f":"MATCH(BJ$3,Millwall!$AA130:$AM130,0)","v":{"$error":"#N/A"}},{"$f":"MATCH(BK$3,Millwall!$AA130:$AM130,0)","v":{"$error":"#N/A"}},{"$f":"MATCH(BL$3,Millwall!$AA130:$AM130,0)","v":{"$error":"#N/A"}},{"$f":"MATCH(BM$3,Millwall!$AA130:$AM130,0)","v":{"$error":"#N/A"}},{"$f":"MATCH(BN$3,Millwall!$AA130:$AM130,0)","v":{"$error":"#N/A"}},{"$f":"MATCH(BO$3,Millwall!$AA130:$AM130,0)","v":{"$error":"#N/A"}},{"$f":"MATCH(BP$3,Millwall!$AA130:$AM130,0)","v":{"$error":"#N/A"}},{"$f":"MATCH(BQ$3,Millwall!$AA130:$AM130,0)","v":{"$error":"#N/A"}},{"$f":"MATCH(BR$3,Millwall!$AA130:$AM130,0)","v":{"$error":"#N/A"}},{"$f":"MATCH(BS$3,Millwall!$AA130:$AM130,0)","v":{"$error":"#N/A"}},{"$f":"MATCH(BT$3,Millwall!$AA130:$AM130,0)","v":{"$error":"#N/A"}},{"$f":"MATCH(BU$3,Millwall!$AA130:$AM130,0)","v":{"$error":"#N/A"}},{"$f":"MATCH(BV$3,Millwall!$AA130:$AM130,0)","v":{"$error":"#N/A"}},{"$f":"MATCH(BW$3,Millwall!$AA130:$AM130,0)","v":{"$error":"#N/A"}},{"$f":"MATCH(BX$3,Millwall!$AA130:$AM130,0)","v":{"$error":"#N/A"}},{"$f":"MATCH(BY$3,Millwall!$AA130:$AM130,0)","v":{"$error":"#N/A"}},{"$f":"MATCH(BZ$3,Millwall!$AA130:$AM130,0)","v":{"$error":"#N/A"}},{"$f":"MATCH(CA$3,Millwall!$AA130:$AM130,0)","v":{"$error":"#N/A"}},{"$f":"MATCH(CB$3,Millwall!$AA130:$AM130,0)","v":{"$error":"#N/A"}},{"$f":"MATCH(CC$3,Millwall!$AA130:$AM130,0)","v":{"$error":"#N/A"}},{"$f":"MATCH(CD$3,Millwall!$AA130:$AM130,0)","v":{"$error":"#N/A"}},{"$f":"MATCH(CE$3,Millwall!$AA130:$AM130,0)","v":{"$error":"#N/A"}},null,null,{"$f":"MATCH(CH$3,Millwall!$AA130:$AN130,0)","v":{"$error":"#N/A"}},{"$f":"MATCH(CI$3,Millwall!$AA130:$AN130,0)","v":{"$error":"#N/A"}},{"$f":"MATCH(CJ$3,Millwall!$AA130:$AN130,0)","v":{"$error":"#N/A"}},{"$f":"MATCH(CK$3,Millwall!$AA130:$AN130,0)","v":{"$error":"#N/A"}},{"$f":"MATCH(CL$3,Millwall!$AA130:$AN130,0)","v":{"$error":"#N/A"}},{"$f":"MATCH(CM$3,Millwall!$AA130:$AN130,0)","v":{"$error":"#N/A"}},{"$f":"MATCH(CN$3,Millwall!$AA130:$AN130,0)","v":{"$error":"#N/A"}},{"$f":"MATCH(CO$3,Millwall!$AA130:$AN130,0)","v":{"$error":"#N/A"}},{"$f":"MATCH(CP$3,Millwall!$AA130:$AN130,0)","v":{"$error":"#N/A"}},{"$f":"MATCH(CQ$3,Millwall!$AA130:$AN130,0)","v":{"$error":"#N/A"}},{"$f":"MATCH(CR$3,Millwall!$AA130:$AN130,0)","v":{"$error":"#N/A"}},{"$f":"MATCH(CS$3,Millwall!$AA130:$AN130,0)","v":{"$error":"#N/A"}},{"$f":"MATCH(CT$3,Millwall!$AA130:$AN130,0)","v":{"$error":"#N/A"}},{"$f":"MATCH(CU$3,Millwall!$AA130:$AN130,0)","v":{"$error":"#N/A"}},{"$f":"MATCH(CV$3,Millwall!$AA130:$AN130,0)","v":{"$error":"#N/A"}},{"$f":"MATCH(CW$3,Millwall!$AA130:$AN130,0)","v":{"$error":"#N/A"}},{"$f":"MATCH(CX$3,Millwall!$AA130:$AN130,0)","v":{"$error":"#N/A"}},{"$f":"MATCH(CY$3,Millwall!$AA130:$AN130,0)","v":{"$error":"#N/A"}},{"$f":"MATCH(CZ$3,Millwall!$AA130:$AN130,0)","v":{"$error":"#N/A"}},{"$f":"MATCH(DA$3,Millwall!$AA130:$AN130,0)","v":{"$error":"#N/A"}},{"$f":"MATCH(DB$3,Millwall!$AA130:$AN130,0)","v":{"$error":"#N/A"}},{"$f":"MATCH(DC$3,Millwall!$AA130:$AN130,0)","v":{"$error":"#N/A"}},{"$f":"MATCH(DD$3,Millwall!$AA130:$AN130,0)","v":{"$error":"#N/A"}},{"$f":"MATCH(DE$3,Millwall!$AA130:$AN130,0)","v":{"$error":"#N/A"}},{"$f":"MATCH(DF$3,Millwall!$AA130:$AN130,0)","v":{"$error":"#N/A"}},{"$f":"MATCH(DG$3,Millwall!$AA130:$AN130,0)","v":{"$error":"#N/A"}},{"$f":"MATCH(DH$3,Millwall!$AA130:$AN130,0)","v":{"$error":"#N/A"}},{"$f":"MATCH(DI$3,Millwall!$AA130:$AN130,0)","v":{"$error":"#N/A"}},{"$f":"MATCH(DJ$3,Millwall!$AA130:$AN130,0)","v":{"$error":"#N/A"}},{"$f":"MATCH(DK$3,Millwall!$AA130:$AN130,0)","v":{"$error":"#N/A"}},{"$f":"MATCH(DL$3,Millwall!$AA130:$AN130,0)","v":{"$error":"#N/A"}},{"$f":"MATCH(DM$3,Millwall!$AA130:$AN130,0)","v":{"$error":"#N/A"}},{"$f":"MATCH(DN$3,Millwall!$AA130:$AN130,0)","v":{"$error":"#N/A"}},{"$f":"MATCH(DO$3,Millwall!$AA130:$AN130,0)","v":{"$error":"#N/A"}}]
[null,null,1,null,null,{"$f":"Millwall!W131","v":"00:00:00"},null,{"$f":"Millwall!X131","v":"00:00:00"},{"$f":"Millwall!Y131","v":"00:00:00"},{"$f":"Millwall!Z131","v":0},{"$f":"MATCH(K$4,Millwall!$AA131:$AN131,0)","v":{"$error":"#N/A"}},{"$f":"MATCH(L$4,Millwall!$AA131:$AN131,0)","v":{"$error":"#N/A"}},{"$f":"MATCH(M$4,Millwall!$AA131:$AN131,0)","v":{"$error":"#N/A"}},{"$f":"MATCH(N$4,Millwall!$AA131:$AN131,0)","v":{"$error":"#N/A"}},{"$f":"MATCH(O$4,Millwall!$AA131:$AN131,0)","v":{"$error":"#N/A"}},{"$f":"MATCH(P$4,Millwall!$AA131:$AN131,0)","v":{"$error":"#N/A"}},{"$f":"MATCH(Q$4,Millwall!$AA131:$AN131,0)","v":{"$error":"#N/A"}},{"$f":"MATCH(R$4,Millwall!$AA131:$AN131,0)","v":{"$error":"#N/A"}},{"$f":"MATCH(S$4,Millwall!$AA131:$AN131,0)","v":{"$error":"#N/A"}},{"$f":"MATCH(T$4,Millwall!$AA131:$AN131,0)","v":{"$error":"#N/A"}},{"$f":"MATCH(U$4,Millwall!$AA131:$AN131,0)","v":{"$error":"#N/A"}},{"$f":"MATCH(V$4,Millwall!$AA131:$AN131,0)","v":{"$error":"#N/A"}},{"$f":"MATCH(W$4,Millwall!$AA131:$AN131,0)","v":{"$error":"#N/A"}},{"$f":"MATCH(X$4,Millwall!$AA131:$AN131,0)","v":{"$error":"#N/A"}},{"$f":"MATCH(Y$4,Millwall!$AA131:$AN131,0)","v":{"$error":"#N/A"}},{"$f":"MATCH(Z$4,Millwall!$AA131:$AN131,0)","v":{"$error":"#N/A"}},{"$f":"MATCH(AA$4,Millwall!$AA131:$AN131,0)","v":{"$error":"#N/A"}},{"$f":"MATCH(AB$4,Millwall!$AA131:$AN131,0)","v":{"$error":"#N/A"}},{"$f":"MATCH(AC$4,Millwall!$AA131:$AN131,0)","v":{"$error":"#N/A"}},{"$f":"MATCH(AD$4,Millwall!$AA131:$AN131,0)","v":{"$error":"#N/A"}},{"$f":"MATCH(AE$4,Millwall!$AA131:$AN131,0)","v":{"$error":"#N/A"}},{"$f":"MATCH(AF$4,Millwall!$AA131:$AN131,0)","v":{"$error":"#N/A"}},{"$f":"MATCH(AG$4,Millwall!$AA131:$AN131,0)","v":{"$error":"#N/A"}},{"$f":"MATCH(AH$4,Millwall!$AA131:$AN131,0)","v":{"$error":"#N/A"}},{"$f":"MATCH(AI$4,Millwall!$AA131:$AN131,0)","v":{"$error":"#N/A"}},{"$f":"MATCH(AJ$4,Millwall!$AA131:$AN131,0)","v":{"$error":"#N/A"}},{"$f":"MATCH(AK$4,Millwall!$AA131:$AN131,0)","v":{"$error":"#N/A"}},{"$f":"MATCH(AL$4,Millwall!$AA131:$AN131,0)","v":{"$error":"#N/A"}},{"$f":"MATCH(AM$4,Millwall!$AA131:$AN131,0)","v":{"$error":"#N/A"}},{"$f":"MATCH(AN$4,Millwall!$AA131:$AN131,0)","v":{"$error":"#N/A"}},{"$f":"MATCH(AO$4,Millwall!$AA131:$AN131,0)","v":{"$error":"#N/A"}},{"$f":"MATCH(AP$4,Millwall!$AA131:$AN131,0)","v":{"$error":"#N/A"}},{"$f":"MATCH(AQ$4,Millwall!$AA131:$AN131,0)","v":{"$error":"#N/A"}},{"$f":"MATCH(AR$4,Millwall!$AA131:$AN131,0)","v":{"$error":"#N/A"}},null,null,null,null,null,{"$f":"MATCH(AX$3,Millwall!$AA131:$AM131,0)","v":{"$error":"#N/A"}},{"$f":"MATCH(AY$3,Millwall!$AA131:$AM131,0)","v":{"$error":"#N/A"}},{"$f":"MATCH(AZ$3,Millwall!$AA131:$AM131,0)","v":{"$error":"#N/A"}},{"$f":"MATCH(BA$3,Millwall!$AA131:$AM131,0)","v":{"$error":"#N/A"}},{"$f":"MATCH(BB$3,Millwall!$AA131:$AM131,0)","v":{"$error":"#N/A"}},{"$f":"MATCH(BC$3,Millwall!$AA131:$AM131,0)","v":{"$error":"#N/A"}},{"$f":"MATCH(BD$3,Millwall!$AA131:$AM131,0)","v":{"$error":"#N/A"}},{"$f":"MATCH(BE$3,Millwall!$AA131:$AM131,0)","v":{"$error":"#N/A"}},{"$f":"MATCH(BF$3,Millwall!$AA131:$AM131,0)","v":{"$error":"#N/A"}},{"$f":"MATCH(BG$3,Millwall!$AA131:$AM131,0)","v":{"$error":"#N/A"}},{"$f":"MATCH(BH$3,Millwall!$AA131:$AM131,0)","v":{"$error":"#N/A"}},{"$f":"MATCH(BI$3,Millwall!$AA131:$AM131,0)","v":{"$error":"#N/A"}},{"$f":"MATCH(BJ$3,Millwall!$AA131:$AM131,0)","v":{"$error":"#N/A"}},{"$f":"MATCH(BK$3,Millwall!$AA131:$AM131,0)","v":{"$error":"#N/A"}},{"$f":"MATCH(BL$3,Millwall!$AA131:$AM131,0)","v":{"$error":"#N/A"}},{"$f":"MATCH(BM$3,Millwall!$AA131:$AM131,0)","v":{"$error":"#N/A"}},{"$f":"MATCH(BN$3,Millwall!$AA131:$AM131,0)","v":{"$error":"#N/A"}},{"$f":"MATCH(BO$3,Millwall!$AA131:$AM131,0)","v":{"$error":"#N/A"}},{"$f":"MATCH(BP$3,Millwall!$AA131:$AM131,0)","v":{"$error":"#N/A"}},{"$f":"MATCH(BQ$3,Millwall!$AA131:$AM131,0)","v":{"$error":"#N/A"}},{"$f":"MATCH(BR$3,Millwall!$AA131:$AM131,0)","v":{"$error":"#N/A"}},{"$f":"MATCH(BS$3,Millwall!$AA131:$AM131,0)","v":{"$error":"#N/A"}},{"$f":"MATCH(BT$3,Millwall!$AA131:$AM131,0)","v":{"$error":"#N/A"}},{"$f":"MATCH(BU$3,Millwall!$AA131:$AM131,0)","v":{"$error":"#N/A"}},{"$f":"MATCH(BV$3,Millwall!$AA131:$AM131,0)","v":{"$error":"#N/A"}},{"$f":"MATCH(BW$3,Millwall!$AA131:$AM131,0)","v":{"$error":"#N/A"}},{"$f":"MATCH(BX$3,Millwall!$AA131:$AM131,0)","v":{"$error":"#N/A"}},{"$f":"MATCH(BY$3,Millwall!$AA131:$AM131,0)","v":{"$error":"#N/A"}},{"$f":"MATCH(BZ$3,Millwall!$AA131:$AM131,0)","v":{"$error":"#N/A"}},{"$f":"MATCH(CA$3,Millwall!$AA131:$AM131,0)","v":{"$error":"#N/A"}},{"$f":"MATCH(CB$3,Millwall!$AA131:$AM131,0)","v":{"$error":"#N/A"}},{"$f":"MATCH(CC$3,Millwall!$AA131:$AM131,0)","v":{"$error":"#N/A"}},{"$f":"MATCH(CD$3,Millwall!$AA131:$AM131,0)","v":{"$error":"#N/A"}},{"$f":"MATCH(CE$3,Millwall!$AA131:$AM131,0)","v":{"$error":"#N/A"}},null,null,{"$f":"MATCH(CH$3,Millwall!$AA131:$AN131,0)","v":{"$error":"#N/A"}},{"$f":"MATCH(CI$3,Millwall!$AA131:$AN131,0)","v":{"$error":"#N/A"}},{"$f":"MATCH(CJ$3,Millwall!$AA131:$AN131,0)","v":{"$error":"#N/A"}},{"$f":"MATCH(CK$3,Millwall!$AA131:$AN131,0)","v":{"$error":"#N/A"}},{"$f":"MATCH(CL$3,Millwall!$AA131:$AN131,0)","v":{"$error":"#N/A"}},{"$f":"MATCH(CM$3,Millwall!$AA131:$AN131,0)","v":{"$error":"#N/A"}},{"$f":"MATCH(CN$3,Millwall!$AA131:$AN131,0)","v":{"$error":"#N/A"}},{"$f":"MATCH(CO$3,Millwall!$AA131:$AN131,0)","v":{"$error":"#N/A"}},{"$f":"MATCH(CP$3,Millwall!$AA131:$AN131,0)","v":{"$error":"#N/A"}},{"$f":"MATCH(CQ$3,Millwall!$AA131:$AN131,0)","v":{"$error":"#N/A"}},{"$f":"MATCH(CR$3,Millwall!$AA131:$AN131,0)","v":{"$error":"#N/A"}},{"$f":"MATCH(CS$3,Millwall!$AA131:$AN131,0)","v":{"$error":"#N/A"}},{"$f":"MATCH(CT$3,Millwall!$AA131:$AN131,0)","v":{"$error":"#N/A"}},{"$f":"MATCH(CU$3,Millwall!$AA131:$AN131,0)","v":{"$error":"#N/A"}},{"$f":"MATCH(CV$3,Millwall!$AA131:$AN131,0)","v":{"$error":"#N/A"}},{"$f":"MATCH(CW$3,Millwall!$AA131:$AN131,0)","v":{"$error":"#N/A"}},{"$f":"MATCH(CX$3,Millwall!$AA131:$AN131,0)","v":{"$error":"#N/A"}},{"$f":"MATCH(CY$3,Millwall!$AA131:$AN131,0)","v":{"$error":"#N/A"}},{"$f":"MATCH(CZ$3,Millwall!$AA131:$AN131,0)","v":{"$error":"#N/A"}},{"$f":"MATCH(DA$3,Millwall!$AA131:$AN131,0)","v":{"$error":"#N/A"}},{"$f":"MATCH(DB$3,Millwall!$AA131:$AN131,0)","v":{"$error":"#N/A"}},{"$f":"MATCH(DC$3,Millwall!$AA131:$AN131,0)","v":{"$error":"#N/A"}},{"$f":"MATCH(DD$3,Millwall!$AA131:$AN131,0)","v":{"$error":"#N/A"}},{"$f":"MATCH(DE$3,Millwall!$AA131:$AN131,0)","v":{"$error":"#N/A"}},{"$f":"MATCH(DF$3,Millwall!$AA131:$AN131,0)","v":{"$error":"#N/A"}},{"$f":"MATCH(DG$3,Millwall!$AA131:$AN131,0)","v":{"$error":"#N/A"}},{"$f":"MATCH(DH$3,Millwall!$AA131:$AN131,0)","v":{"$error":"#N/A"}},{"$f":"MATCH(DI$3,Millwall!$AA131:$AN131,0)","v":{"$error":"#N/A"}},{"$f":"MATCH(DJ$3,Millwall!$AA131:$AN131,0)","v":{"$error":"#N/A"}},{"$f":"MATCH(DK$3,Millwall!$AA131:$AN131,0)","v":{"$error":"#N/A"}},{"$f":"MATCH(DL$3,Millwall!$AA131:$AN131,0)","v":{"$error":"#N/A"}},{"$f":"MATCH(DM$3,Millwall!$AA131:$AN131,0)","v":{"$error":"#N/A"}},{"$f":"MATCH(DN$3,Millwall!$AA131:$AN131,0)","v":{"$error":"#N/A"}},{"$f":"MATCH(DO$3,Millwall!$AA131:$AN131,0)","v":{"$error":"#N/A"}}]
[null,null,1,null,null,{"$f":"Millwall!W132","v":"00:00:00"},null,{"$f":"Millwall!X132","v":"00:00:00"},{"$f":"Millwall!Y132","v":"00:00:00"},{"$f":"Millwall!Z132","v":0},{"$f":"MATCH(K$4,Millwall!$AA132:$AN132,0)","v":{"$error":"#N/A"}},{"$f":"MATCH(L$4,Millwall!$AA132:$AN132,0)","v":{"$error":"#N/A"}},{"$f":"MATCH(M$4,Millwall!$AA132:$AN132,0)","v":{"$error":"#N/A"}},{"$f":"MATCH(N$4,Millwall!$AA132:$AN132,0)","v":{"$error":"#N/A"}},{"$f":"MATCH(O$4,Millwall!$AA132:$AN132,0)","v":{"$error":"#N/A"}},{"$f":"MATCH(P$4,Millwall!$AA132:$AN132,0)","v":{"$error":"#N/A"}},{"$f":"MATCH(Q$4,Millwall!$AA132:$AN132,0)","v":{"$error":"#N/A"}},{"$f":"MATCH(R$4,Millwall!$AA132:$AN132,0)","v":{"$error":"#N/A"}},{"$f":"MATCH(S$4,Millwall!$AA132:$AN132,0)","v":{"$error":"#N/A"}},{"$f":"MATCH(T$4,Millwall!$AA132:$AN132,0)","v":{"$error":"#N/A"}},{"$f":"MATCH(U$4,Millwall!$AA132:$AN132,0)","v":{"$error":"#N/A"}},{"$f":"MATCH(V$4,Millwall!$AA132:$AN132,0)","v":{"$error":"#N/A"}},{"$f":"MATCH(W$4,Millwall!$AA132:$AN132,0)","v":{"$error":"#N/A"}},{"$f":"MATCH(X$4,Millwall!$AA132:$AN132,0)","v":{"$error":"#N/A"}},{"$f":"MATCH(Y$4,Millwall!$AA132:$AN132,0)","v":{"$error":"#N/A"}},{"$f":"MATCH(Z$4,Millwall!$AA132:$AN132,0)","v":{"$error":"#N/A"}},{"$f":"MATCH(AA$4,Millwall!$AA132:$AN132,0)","v":{"$error":"#N/A"}},{"$f":"MATCH(AB$4,Millwall!$AA132:$AN132,0)","v":{"$error":"#N/A"}},{"$f":"MATCH(AC$4,Millwall!$AA132:$AN132,0)","v":{"$error":"#N/A"}},{"$f":"MATCH(AD$4,Millwall!$AA132:$AN132,0)","v":{"$error":"#N/A"}},{"$f":"MATCH(AE$4,Millwall!$AA132:$AN132,0)","v":{"$error":"#N/A"}},{"$f":"MATCH(AF$4,Millwall!$AA132:$AN132,0)","v":{"$error":"#N/A"}},{"$f":"MATCH(AG$4,Millwall!$AA132:$AN132,0)","v":{"$error":"#N/A"}},{"$f":"MATCH(AH$4,Millwall!$AA132:$AN132,0)","v":{"$error":"#N/A"}},{"$f":"MATCH(AI$4,Millwall!$AA132:$AN132,0)","v":{"$error":"#N/A"}},{"$f":"MATCH(AJ$4,Millwall!$AA132:$AN132,0)","v":{"$error":"#N/A"}},{"$f":"MATCH(AK$4,Millwall!$AA132:$AN132,0)","v":{"$error":"#N/A"}},{"$f":"MATCH(AL$4,Millwall!$AA132:$AN132,0)","v":{"$error":"#N/A"}},{"$f":"MATCH(AM$4,Millwall!$AA132:$AN132,0)","v":{"$error":"#N/A"}},{"$f":"MATCH(AN$4,Millwall!$AA132:$AN132,0)","v":{"$error":"#N/A"}},{"$f":"MATCH(AO$4,Millwall!$AA132:$AN132,0)","v":{"$error":"#N/A"}},{"$f":"MATCH(AP$4,Millwall!$AA132:$AN132,0)","v":{"$error":"#N/A"}},{"$f":"MATCH(AQ$4,Millwall!$AA132:$AN132,0)","v":{"$error":"#N/A"}},{"$f":"MATCH(AR$4,Millwall!$AA132:$AN132,0)","v":{"$error":"#N/A"}},null,null,null,null,null,{"$f":"MATCH(AX$3,Millwall!$AA132:$AM132,0)","v":{"$error":"#N/A"}},{"$f":"MATCH(AY$3,Millwall!$AA132:$AM132,0)","v":{"$error":"#N/A"}},{"$f":"MATCH(AZ$3,Millwall!$AA132:$AM132,0)","v":{"$error":"#N/A"}},{"$f":"MATCH(BA$3,Millwall!$AA132:$AM132,0)","v":{"$error":"#N/A"}},{"$f":"MATCH(BB$3,Millwall!$AA132:$AM132,0)","v":{"$error":"#N/A"}},{"$f":"MATCH(BC$3,Millwall!$AA132:$AM132,0)","v":{"$error":"#N/A"}},{"$f":"MATCH(BD$3,Millwall!$AA132:$AM132,0)","v":{"$error":"#N/A"}},{"$f":"MATCH(BE$3,Millwall!$AA132:$AM132,0)","v":{"$error":"#N/A"}},{"$f":"MATCH(BF$3,Millwall!$AA132:$AM132,0)","v":{"$error":"#N/A"}},{"$f":"MATCH(BG$3,Millwall!$AA132:$AM132,0)","v":{"$error":"#N/A"}},{"$f":"MATCH(BH$3,Millwall!$AA132:$AM132,0)","v":{"$error":"#N/A"}},{"$f":"MATCH(BI$3,Millwall!$AA132:$AM132,0)","v":{"$error":"#N/A"}},{"$f":"MATCH(BJ$3,Millwall!$AA132:$AM132,0)","v":{"$error":"#N/A"}},{"$f":"MATCH(BK$3,Millwall!$AA132:$AM132,0)","v":{"$error":"#N/A"}},{"$f":"MATCH(BL$3,Millwall!$AA132:$AM132,0)","v":{"$error":"#N/A"}},{"$f":"MATCH(BM$3,Millwall!$AA132:$AM132,0)","v":{"$error":"#N/A"}},{"$f":"MATCH(BN$3,Millwall!$AA132:$AM132,0)","v":{"$error":"#N/A"}},{"$f":"MATCH(BO$3,Millwall!$AA132:$AM132,0)","v":{"$error":"#N/A"}},{"$f":"MATCH(BP$3,Millwall!$AA132:$AM132,0)","v":{"$error":"#N/A"}},{"$f":"MATCH(BQ$3,Millwall!$AA132:$AM132,0)","v":{"$error":"#N/A"}},{"$f":"MATCH(BR$3,Millwall!$AA132:$AM132,0)","v":{"$error":"#N/A"}},{"$f":"MATCH(BS$3,Millwall!$AA132:$AM132,0)","v":{"$error":"#N/A"}},{"$f":"MATCH(BT$3,Millwall!$AA132:$AM132,0)","v":{"$error":"#N/A"}},{"$f":"MATCH(BU$3,Millwall!$AA132:$AM132,0)","v":{"$error":"#N/A"}},{"$f":"MATCH(BV$3,Millwall!$AA132:$AM132,0)","v":{"$error":"#N/A"}},{"$f":"MATCH(BW$3,Millwall!$AA132:$AM132,0)","v":{"$error":"#N/A"}},{"$f":"MATCH(BX$3,Millwall!$AA132:$AM132,0)","v":{"$error":"#N/A"}},{"$f":"MATCH(BY$3,Millwall!$AA132:$AM132,0)","v":{"$error":"#N/A"}},{"$f":"MATCH(BZ$3,Millwall!$AA132:$AM132,0)","v":{"$error":"#N/A"}},{"$f":"MATCH(CA$3,Millwall!$AA132:$AM132,0)","v":{"$error":"#N/A"}},{"$f":"MATCH(CB$3,Millwall!$AA132:$AM132,0)","v":{"$error":"#N/A"}},{"$f":"MATCH(CC$3,Millwall!$AA132:$AM132,0)","v":{"$error":"#N/A"}},{"$f":"MATCH(CD$3,Millwall!$AA132:$AM132,0)","v":{"$error":"#N/A"}},{"$f":"MATCH(CE$3,Millwall!$AA132:$AM132,0)","v":{"$error":"#N/A"}},null,null,{"$f":"MATCH(CH$3,Millwall!$AA132:$AN132,0)","v":{"$error":"#N/A"}},{"$f":"MATCH(CI$3,Millwall!$AA132:$AN132,0)","v":{"$error":"#N/A"}},{"$f":"MATCH(CJ$3,Millwall!$AA132:$AN132,0)","v":{"$error":"#N/A"}},{"$f":"MATCH(CK$3,Millwall!$AA132:$AN132,0)","v":{"$error":"#N/A"}},{"$f":"MATCH(CL$3,Millwall!$AA132:$AN132,0)","v":{"$error":"#N/A"}},{"$f":"MATCH(CM$3,Millwall!$AA132:$AN132,0)","v":{"$error":"#N/A"}},{"$f":"MATCH(CN$3,Millwall!$AA132:$AN132,0)","v":{"$error":"#N/A"}},{"$f":"MATCH(CO$3,Millwall!$AA132:$AN132,0)","v":{"$error":"#N/A"}},{"$f":"MATCH(CP$3,Millwall!$AA132:$AN132,0)","v":{"$error":"#N/A"}},{"$f":"MATCH(CQ$3,Millwall!$AA132:$AN132,0)","v":{"$error":"#N/A"}},{"$f":"MATCH(CR$3,Millwall!$AA132:$AN132,0)","v":{"$error":"#N/A"}},{"$f":"MATCH(CS$3,Millwall!$AA132:$AN132,0)","v":{"$error":"#N/A"}},{"$f":"MATCH(CT$3,Millwall!$AA132:$AN132,0)","v":{"$error":"#N/A"}},{"$f":"MATCH(CU$3,Millwall!$AA132:$AN132,0)","v":{"$error":"#N/A"}},{"$f":"MATCH(CV$3,Millwall!$AA132:$AN132,0)","v":{"$error":"#N/A"}},{"$f":"MATCH(CW$3,Millwall!$AA132:$AN132,0)","v":{"$error":"#N/A"}},{"$f":"MATCH(CX$3,Millwall!$AA132:$AN132,0)","v":{"$error":"#N/A"}},{"$f":"MATCH(CY$3,Millwall!$AA132:$AN132,0)","v":{"$error":"#N/A"}},{"$f":"MATCH(CZ$3,Millwall!$AA132:$AN132,0)","v":{"$error":"#N/A"}},{"$f":"MATCH(DA$3,Millwall!$AA132:$AN132,0)","v":{"$error":"#N/A"}},{"$f":"MATCH(DB$3,Millwall!$AA132:$AN132,0)","v":{"$error":"#N/A"}},{"$f":"MATCH(DC$3,Millwall!$AA132:$AN132,0)","v":{"$error":"#N/A"}},{"$f":"MATCH(DD$3,Millwall!$AA132:$AN132,0)","v":{"$error":"#N/A"}},{"$f":"MATCH(DE$3,Millwall!$AA132:$AN132,0)","v":{"$error":"#N/A"}},{"$f":"MATCH(DF$3,Millwall!$AA132:$AN132,0)","v":{"$error":"#N/A"}},{"$f":"MATCH(DG$3,Millwall!$AA132:$AN132,0)","v":{"$error":"#N/A"}},{"$f":"MATCH(DH$3,Millwall!$AA132:$AN132,0)","v":{"$error":"#N/A"}},{"$f":"MATCH(DI$3,Millwall!$AA132:$AN132,0)","v":{"$error":"#N/A"}},{"$f":"MATCH(DJ$3,Millwall!$AA132:$AN132,0)","v":{"$error":"#N/A"}},{"$f":"MATCH(DK$3,Millwall!$AA132:$AN132,0)","v":{"$error":"#N/A"}},{"$f":"MATCH(DL$3,Millwall!$AA132:$AN132,0)","v":{"$error":"#N/A"}},{"$f":"MATCH(DM$3,Millwall!$AA132:$AN132,0)","v":{"$error":"#N/A"}},{"$f":"MATCH(DN$3,Millwall!$AA132:$AN132,0)","v":{"$error":"#N/A"}},{"$f":"MATCH(DO$3,Millwall!$AA132:$AN132,0)","v":{"$error":"#N/A"}}]
[]
[null,null,null,null,null,null,null,null,null,"Total FA Cup Apperances",{"$f":"COUNT($K$58:$K$64)-$K$67-$K$68","v":0},{"$f":"COUNT($L$58:$L$64)-$L$67-$L$68","v":0},{"$f":"COUNT($M$58:$M$64)-$M$67-$M$68","v":3},{"$f":"COUNT($N$58:$N$64)-$N$67-$N$68","v":3},{"$f":"COUNT($O$58:$O$64)-$O$67-$O$68","v":0},{"$f":"COUNT($P$58:$P$64)-$P$67-$P$68","v":0},{"$f":"COUNT($Q$58:$Q$64)-$Q$67-$Q$68","v":3},{"$f":"COUNT($R$58:$R$64)-$R$67-$R$68","v":0},{"$f":"COUNT($S$58:$S$64)-$S$67-$S$68","v":0},{"$f":"COUNT($T$58:$T$64)-$T$67-$T$68","v":0},{"$f":"COUNT($U$58:$U$64)-$U$67-$U$68","v":3},{"$f":"COUNT($V$58:$V$64)-$V$67-$V$68","v":0},{"$f":"COUNT($W$58:$W$64)-$W$67-$W$68","v":2},{"$f":"COUNT($X$58:$X$64)-$X$67-$X$68","v":0},{"$f":"COUNT($Y$58:$Y$64)-$Y$67-$Y$68","v":0},{"$f":"COUNT($Z$58:$Z$64)-$Z$67-$Z$68","v":3},{"$f":"COUNT($AA$58:$AA$64)-$AA$67-$AA$68","v":3},{"$f":"COUNT($AB$58:$AB$64)-$AB$67-$AB$68","v":0},{"$f":"COUNT($AC$58:$AC$64)-$AC$67-$AC$68","v":3},{"$f":"COUNT($AD$58:$AD$64)-$AD$67-$AD$68","v":0},{"$f":"COUNT($AE$58:$AE$64)-$AE$67-$AE$68","v":1},{"$f":"COUNT($AF$58:$AF$64)-$AF$67-$AF$68","v":0},{"$f":"COUNT($AG$58:$AG$64)-$AG$67-$AG$68","v":3},{"$f":"COUNT($AH$58:$AH$64)-$AH$67-$AH$68","v":0},{"$f":"COUNT($AI$58:$AI$64)-$AI$67-$AI$68","v":3},{"$f":"COUNT($AJ$58:$AJ$64)-$AJ$67-$AJ$68","v":3},{"$f":"COUNT($AK$58:$AK$64)-$AK$67-$AK$68","v":0},{"$f":"COUNT($AL$58:$AL$64)-$AL$67-$AL$68","v":0},{"$f":"COUNT($AM$58:$AM$64)-$AM$67-$AM$68","v":0},{"$f":"COUNT($AN$58:$AN$64)-$AN$67-$AN$68","v":0},{"$f":"COUNT($AO$58:$AO$64)-$AO$67-$AO$68","v":0},{"$f":"COUNT($AP$58:$AP$64)-$AP$67-$AP$68","v":0},{"$f":"COUNT($AQ$58:$AQ$64)-$AQ$67-$AQ$68","v":0},{"$f":"COUNT($AR$58:$AR$64)-$AR$67-$AR$68","v":0}]
[null,null,null,null,null,null,null,null,null,"Total FA Cup Substitute Appearences ",{"$f":"$AX$67+$CH$67","v":0},{"$f":"$AY$67+$CI$67","v":0},{"$f":"$AZ$67+$CJ$67","v":0},{"$f":"$BA$67+$CK$67","v":0},{"$f":"$BB$67+$CL$67","v":0},{"$f":"$BC$67+$CM$67","v":0},{"$f":"$BD$67+$CN$67","v":0},{"$f":"$BE$67+$CO$67","v":0},{"$f":"$BF$67+$CP$67","v":0},{"$f":"$BG$67+$CQ$67","v":0},{"$f":"$BH$67+$CR$67","v":0},{"$f":"$BI$67+$CS$67","v":0},{"$f":"$BJ$67+$CT$67","v":1},{"$f":"$BK$67+$CU$67","v":1},{"$f":"$BL$67+$CV$67","v":0},{"$f":"$BM$67+$CW$67","v":0},{"$f":"$BN$67+$CX$67","v":0},{"$f":"$BO$67+$CY$67","v":0},{"$f":"$BP$67+$CZ$67","v":0},{"$f":"$BQ$67+$DA$67","v":0},{"$f":"$BR$67+$DB$67","v":0},{"$f":"$BS$67+$DC$67","v":0},{"$f":"$BT$67+$DD$67","v":0},{"$f":"$BU$67+$DE$67","v":0},{"$f":"$BV$67+$DF$67","v":0},{"$f":"$BW$67+$DG$67","v":0},{"$f":"$BX$67+$DH$67","v":0},{"$f":"$BY$67+$DI$67","v":0},{"$f":"$BZ$67+$DJ$67","v":0},{"$f":"$CA$67+$DK$67","v":0},{"$f":"$CB$67+$DL$67","v":0},{"$f":"$CC$67+$DM$67","v":0},{"$f":"$CD$67+$DN$67","v":0},{"$f":"$CE$67","v":0},null,null,null,null,null,{"$f":"COUNTIF(AX58:AX64,12)","v":0},{"$f":"COUNTIF(AY58:AY64,12)","v":0},0,0,0,0,0,0,0,0,0,0,1,1,0,0,0,0,0,0,0,0,0,0,0,0,0,0,0,0,0,0,0,0,null,null,{"$f":"COUNTIF(CH58:CH66,14)","v":0},{"$f":"COUNTIF(CI58:CI66,14)","v":0},0,0,0,0,0,0,0,0,0,0,0,0,0,0,0,0,0,0,0,0,0,0,0,0,0,0,0,0,0,0,0,0]
[null,null,null,null,null,null,null,null,null,"Non Playing Substitute",{"$f":"COUNTIF($K$58:$K$64,\">=12\")-$K$67","v":0},{"$f":"COUNTIF($L$58:$L$64,\">=12\")-$L$67","v":1},{"$f":"COUNTIF($M$58:$M$64,\">=12\")-$M$67","v":0},{"$f":"COUNTIF($N$58:$N$64,\">=12\")-$N$67","v":0},{"$f":"COUNTIF($O$58:$O$64,\">=12\")-$O$67","v":0},{"$f":"COUNTIF($P$58:$P$64,\">=12\")-$P$67","v":0},{"$f":"COUNTIF($Q$58:$Q$64,\">=12\")-$Q$67","v":0},{"$f":"COUNTIF($R$58:$R$64,\">=12\")-$R$67","v":3},{"$f":"COUNTIF($S$58:$S$64,\">=12\")-$S$67","v":0},{"$f":"COUNTIF($T$58:$T$64,\">=12\")-$T$67","v":0},{"$f":"COUNTIF($U$58:$U$64,\">=12\")-$U$67","v":0},{"$f":"COUNTIF($V$58:$V$64,\">=12\")-$V$67","v":0},{"$f":"COUNTIF($W$58:$W$64,\">=12\")-$W$67","v":0},{"$f":"COUNTIF($X$58:$X$64,\">=12\")-$X$67","v":0},{"$f":"COUNTIF($Y$58:$Y$64,\">=12\")-$Y$67","v":0},{"$f":"COUNTIF($Z$58:$Z$64,\">=12\")-$Z$67","v":0},{"$f":"COUNTIF($AA$58:$AA$64,\">=12\")-$AA$67","v":0},{"$f":"COUNTIF($AB$58:$AB$64,\">=12\")-$AB$67","v":0},{"$f":"COUNTIF($AC$58:$AC$64,\">=12\")-$AC$67","v":0},{"$f":"COUNTIF($AD$58:$AD$64,\">=12\")-$AD$67","v":0},{"$f":"COUNTIF($AE$58:$AE$64,\">=12\")-$AE$67","v":0},{"$f":"COUNTIF($AF$58:$AF$64,\">=12\")-$AF$67","v":0},{"$f":"COUNTIF($AG$58:$AG$64,\">=12\")-$AG$67","v":0},{"$f":"COUNTIF($AH$58:$AH$64,\">=12\")-$AH$67","v":0},{"$f":"COUNTIF($AI$58:$AI$64,\">=12\")-$AI$67","v":0},{"$f":"COUNTIF($AJ$58:$AJ$64,\">=12\")-$AJ$67","v":0},{"$f":"COUNTIF($AK$58:$AK$64,\">=12\")-$AK$67","v":0},{"$f":"COUNTIF($AL$58:$AL$64,\">=12\")-$AL$67","v":0},{"$f":"COUNTIF($AM$58:$AM$64,\">=12\")-$AM$67","v":0},{"$f":"COUNTIF($AN$58:$AN$64,\">=12\")-$AN$67","v":0},{"$f":"COUNTIF($AO$58:$AO$64,\">=12\")-$AO$67","v":0},{"$f":"COUNTIF($AP$58:$AP$64,\">=12\")-$AP$67","v":0},{"$f":"COUNTIF($AQ$58:$AQ$64,\">=12\")-$AQ$67","v":0},{"$f":"COUNTIF($AR$58:$AR$64,\">=12\")-$AR$67","v":0}]
[null,null,null,null,null,null,null,null,null,"Goals",{"$f":"Millwall!$CE$9","v":0},{"$f":"Millwall!$CE$10","v":0},{"$f":"Millwall!$CE$11","v":0},{"$f":"Millwall!$CE$12","v":0},{"$f":"Millwall!$CE$13","v":0},{"$f":"Millwall!$CE$14","v":0},{"$f":"Millwall!$CE$15","v":0},{"$f":"Millwall!$CE$16","v":0},{"$f":"Millwall!$CE$17","v":0},{"$f":"Millwall!$CE$18","v":0},{"$f":"Millwall!$CE$19","v":0},{"$f":"Millwall!$CE$20","v":0},{"$f":"Millwall!$CE$21","v":1},{"$f":"Millwall!$CE$22","v":0},{"$f":"Millwall!$CE$23","v":0},{"$f":"Millwall!$CE$24","v":0},{"$f":"Millwall!$CE$25","v":0},{"$f":"Millwall!$CE$26","v":0},{"$f":"Millwall!$CE$27","v":1},{"$f":"Millwall!$CE$28","v":0},{"$f":"Millwall!$CE$29","v":0},{"$f":"Millwall!$CE$30","v":0},{"$f":"Millwall!$CE$31","v":0},{"$f":"Millwall!$CE$32","v":0},{"$f":"Millwall!$CE$33","v":0},{"$f":"Millwall!$CE$34","v":0},{"$f":"Millwall!$CE$35","v":0},{"$f":"Millwall!$CE$36","v":0},{"$f":"Millwall!$CE$37","v":0},{"$f":"Millwall!$CE$38","v":2},{"$f":"Millwall!$CE$39","v":0},{"$f":"Millwall!$CE$40","v":0},{"$f":"Millwall!$CE$41","v":0},{"$f":"Millwall!$CE$42","v":0}]
[null,null,1]
[null,null,null,null,null,null,null,"League Cup"]
[null,null,{"$f":"IF(J72=0,1,0)","v":0},2,null,{"$f":"Millwall!W136","v":"1986-10-07"},null,{"$f":"Millwall!X136","v":"Walsall"},{"$f":"Millwall!Y136","v":"(A)"},{"$f":"Millwall!Z136","v":"W 1-0"},{"$f":"MATCH(K$4,Millwall!$AA136:$AN136,0)","v":{"$error":"#N/A"}},{"$f":"MATCH(L$4,Millwall!$AA136:$AN136,0)","v":11},{"$f":"MATCH(M$4,Millwall!$AA136:$AN136,0)","v":4},{"$f":"MATCH(N$4,Millwall!$AA136:$AN136,0)","v":7},{"$f":"MATCH(O$4,Millwall!$AA136:$AN136,0)","v":{"$error":"#N/A"}},{"$f":"MATCH(P$4,Millwall!$AA136:$AN136,0)","v":{"$error":"#N/A"}},{"$f":"MATCH(Q$4,Millwall!$AA136:$AN136,0)","v":14},{"$f":"MATCH(R$4,Millwall!$AA136:$AN136,0)","v":{"$error":"#N/A"}},{"$f":"MATCH(S$4,Millwall!$AA136:$AN136,0)","v":12},{"$f":"MATCH(T$4,Millwall!$AA136:$AN136,0)","v":{"$error":"#N/A"}},{"$f":"MATCH(U$4,Millwall!$AA136:$AN136,0)","v":1},{"$f":"MATCH(V$4,Millwall!$AA136:$AN136,0)","v":{"$error":"#N/A"}},{"$f":"MATCH(W$4,Millwall!$AA136:$AN136,0)","v":{"$error":"#N/A"}},{"$f":"MATCH(X$4,Millwall!$AA136:$AN136,0)","v":{"$error":"#N/A"}},{"$f":"MATCH(Y$4,Millwall!$AA136:$AN136,0)","v":{"$error":"#N/A"}},{"$f":"MATCH(Z$4,Millwall!$AA136:$AN136,0)","v":10},{"$f":"MATCH(AA$4,Millwall!$AA136:$AN136,0)","v":6},{"$f":"MATCH(AB$4,Millwall!$AA136:$AN136,0)","v":8},{"$f":"MATCH(AC$4,Millwall!$AA136:$AN136,0)","v":{"$error":"#N/A"}},{"$f":"MATCH(AD$4,Millwall!$AA136:$AN136,0)","v":{"$error":"#N/A"}},{"$f":"MATCH(AE$4,Millwall!$AA136:$AN136,0)","v":3},{"$f":"MATCH(AF$4,Millwall!$AA136:$AN136,0)","v":{"$error":"#N/A"}},{"$f":"MATCH(AG$4,Millwall!$AA136:$AN136,0)","v":9},{"$f":"MATCH(AH$4,Millwall!$AA136:$AN136,0)","v":{"$error":"#N/A"}},{"$f":"MATCH(AI$4,Millwall!$AA136:$AN136,0)","v":2},{"$f":"MATCH(AJ$4,Millwall!$AA136:$AN136,0)","v":5},{"$f":"MATCH(AK$4,Millwall!$AA136:$AN136,0)","v":{"$error":"#N/A"}},{"$f":"MATCH(AL$4,Millwall!$AA136:$AN136,0)","v":{"$error":"#N/A"}},{"$f":"MATCH(AM$4,Millwall!$AA136:$AN136,0)","v":{"$error":"#N/A"}},{"$f":"MATCH(AN$4,Millwall!$AA136:$AN136,0)","v":{"$error":"#N/A"}},{"$f":"MATCH(AO$4,Millwall!$AA136:$AN136,0)","v":{"$error":"#N/A"}},{"$f":"MATCH(AP$4,Millwall!$AA136:$AN136,0)","v":{"$error":"#N/A"}},{"$f":"MATCH(AQ$4,Millwall!$AA136:$AN136,0)","v":{"$error":"#N/A"}},{"$f":"MATCH(AR$4,Millwall!$AA136:$AN136,0)","v":{"$error":"#N/A"}},null,null,null,null,null,{"$f":"MATCH(AX$3,Millwall!$AA136:$AM136,0)","v":{"$error":"#N/A"}},{"$f":"MATCH(AY$3,Millwall!$AA136:$AM136,0)","v":{"$error":"#N/A"}},{"$f":"MATCH(AZ$3,Millwall!$AA136:$AM136,0)","v":{"$error":"#N/A"}},{"$f":"MATCH(BA$3,Millwall!$AA136:$AM136,0)","v":{"$error":"#N/A"}},{"$f":"MATCH(BB$3,Millwall!$AA136:$AM136,0)","v":{"$error":"#N/A"}},{"$f":"MATCH(BC$3,Millwall!$AA136:$AM136,0)","v":{"$error":"#N/A"}},{"$f":"MATCH(BD$3,Millwall!$AA136:$AM136,0)","v":{"$error":"#N/A"}},{"$f":"MATCH(BE$3,Millwall!$AA136:$AM136,0)","v":{"$error":"#N/A"}},{"$f":"MATCH(BF$3,Millwall!$AA136:$AM136,0)","v":{"$error":"#N/A"}},{"$f":"MATCH(BG$3,Millwall!$AA136:$AM136,0)","v":{"$error":"#N/A"}},{"$f":"MATCH(BH$3,Millwall!$AA136:$AM136,0)","v":{"$error":"#N/A"}},{"$f":"MATCH(BI$3,Millwall!$AA136:$AM136,0)","v":{"$error":"#N/A"}},{"$f":"MATCH(BJ$3,Millwall!$AA136:$AM136,0)","v":{"$error":"#N/A"}},{"$f":"MATCH(BK$3,Millwall!$AA136:$AM136,0)","v":{"$error":"#N/A"}},{"$f":"MATCH(BL$3,Millwall!$AA136:$AM136,0)","v":{"$error":"#N/A"}},{"$f":"MATCH(BM$3,Millwall!$AA136:$AM136,0)","v":{"$error":"#N/A"}},{"$f":"MATCH(BN$3,Millwall!$AA136:$AM136,0)","v":{"$error":"#N/A"}},{"$f":"MATCH(BO$3,Millwall!$AA136:$AM136,0)","v":{"$error":"#N/A"}},{"$f":"MATCH(BP$3,Millwall!$AA136:$AM136,0)","v":{"$error":"#N/A"}},{"$f":"MATCH(BQ$3,Millwall!$AA136:$AM136,0)","v":{"$error":"#N/A"}},{"$f":"MATCH(BR$3,Millwall!$AA136:$AM136,0)","v":{"$error":"#N/A"}},{"$f":"MATCH(BS$3,Millwall!$AA136:$AM136,0)","v":{"$error":"#N/A"}},{"$f":"MATCH(BT$3,Millwall!$AA136:$AM136,0)","v":{"$error":"#N/A"}},{"$f":"MATCH(BU$3,Millwall!$AA136:$AM136,0)","v":{"$error":"#N/A"}},{"$f":"MATCH(BV$3,Millwall!$AA136:$AM136,0)","v":{"$error":"#N/A"}},{"$f":"MATCH(BW$3,Millwall!$AA136:$AM136,0)","v":{"$error":"#N/A"}},{"$f":"MATCH(BX$3,Millwall!$AA136:$AM136,0)","v":{"$error":"#N/A"}},{"$f":"MATCH(BY$3,Millwall!$AA136:$AM136,0)","v":{"$error":"#N/A"}},{"$f":"MATCH(BZ$3,Millwall!$AA136:$AM136,0)","v":{"$error":"#N/A"}},{"$f":"MATCH(CA$3,Millwall!$AA136:$AM136,0)","v":{"$error":"#N/A"}},{"$f":"MATCH(CB$3,Millwall!$AA136:$AM136,0)","v":{"$error":"#N/A"}},{"$f":"MATCH(CC$3,Millwall!$AA136:$AM136,0)","v":{"$error":"#N/A"}},{"$f":"MATCH(CD$3,Millwall!$AA136:$AM136,0)","v":{"$error":"#N/A"}},{"$f":"MATCH(CE$3,Millwall!$AA136:$AM136,0)","v":{"$error":"#N/A"}},null,null,{"$f":"MATCH(CH$3,Millwall!$AA136:$AN136,0)","v":{"$error":"#N/A"}},{"$f":"MATCH(CI$3,Millwall!$AA136:$AN136,0)","v":{"$error":"#N/A"}},{"$f":"MATCH(CJ$3,Millwall!$AA136:$AN136,0)","v":{"$error":"#N/A"}},{"$f":"MATCH(CK$3,Millwall!$AA136:$AN136,0)","v":{"$error":"#N/A"}},{"$f":"MATCH(CL$3,Millwall!$AA136:$AN136,0)","v":{"$error":"#N/A"}},{"$f":"MATCH(CM$3,Millwall!$AA136:$AN136,0)","v":{"$error":"#N/A"}},{"$f":"MATCH(CN$3,Millwall!$AA136:$AN136,0)","v":{"$error":"#N/A"}},{"$f":"MATCH(CO$3,Millwall!$AA136:$AN136,0)","v":{"$error":"#N/A"}},{"$f":"MATCH(CP$3,Millwall!$AA136:$AN136,0)","v":{"$error":"#N/A"}},{"$f":"MATCH(CQ$3,Millwall!$AA136:$AN136,0)","v":{"$error":"#N/A"}},{"$f":"MATCH(CR$3,Millwall!$AA136:$AN136,0)","v":{"$error":"#N/A"}},{"$f":"MATCH(CS$3,Millwall!$AA136:$AN136,0)","v":{"$error":"#N/A"}},{"$f":"MATCH(CT$3,Millwall!$AA136:$AN136,0)","v":{"$error":"#N/A"}},{"$f":"MATCH(CU$3,Millwall!$AA136:$AN136,0)","v":{"$error":"#N/A"}},{"$f":"MATCH(CV$3,Millwall!$AA136:$AN136,0)","v":{"$error":"#N/A"}},{"$f":"MATCH(CW$3,Millwall!$AA136:$AN136,0)","v":{"$error":"#N/A"}},{"$f":"MATCH(CX$3,Millwall!$AA136:$AN136,0)","v":{"$error":"#N/A"}},{"$f":"MATCH(CY$3,Millwall!$AA136:$AN136,0)","v":{"$error":"#N/A"}},{"$f":"MATCH(CZ$3,Millwall!$AA136:$AN136,0)","v":{"$error":"#N/A"}},{"$f":"MATCH(DA$3,Millwall!$AA136:$AN136,0)","v":{"$error":"#N/A"}},{"$f":"MATCH(DB$3,Millwall!$AA136:$AN136,0)","v":{"$error":"#N/A"}},{"$f":"MATCH(DC$3,Millwall!$AA136:$AN136,0)","v":{"$error":"#N/A"}},{"$f":"MATCH(DD$3,Millwall!$AA136:$AN136,0)","v":{"$error":"#N/A"}},{"$f":"MATCH(DE$3,Millwall!$AA136:$AN136,0)","v":{"$error":"#N/A"}},{"$f":"MATCH(DF$3,Millwall!$AA136:$AN136,0)","v":{"$error":"#N/A"}},{"$f":"MATCH(DG$3,Millwall!$AA136:$AN136,0)","v":{"$error":"#N/A"}},{"$f":"MATCH(DH$3,Millwall!$AA136:$AN136,0)","v":{"$error":"#N/A"}},{"$f":"MATCH(DI$3,Millwall!$AA136:$AN136,0)","v":{"$error":"#N/A"}},{"$f":"MATCH(DJ$3,Millwall!$AA136:$AN136,0)","v":{"$error":"#N/A"}},{"$f":"MATCH(DK$3,Millwall!$AA136:$AN136,0)","v":{"$error":"#N/A"}},{"$f":"MATCH(DL$3,Millwall!$AA136:$AN136,0)","v":{"$error":"#N/A"}},{"$f":"MATCH(DM$3,Millwall!$AA136:$AN136,0)","v":{"$error":"#N/A"}},{"$f":"MATCH(DN$3,Millwall!$AA136:$AN136,0)","v":{"$error":"#N/A"}},{"$f":"MATCH(DO$3,Millwall!$AA136:$AN136,0)","v":{"$error":"#N/A"}}]
[null,null,{"$f":"IF(J73=0,1,0)","v":0},2,null,{"$f":"Millwall!W137","v":"1986-10-14"},null,{"$f":"Millwall!X137","v":"Walsall"},{"$f":"Millwall!Y137","v":"(H)"},{"$f":"Millwall!Z137","v":"W 3-2"},{"$f":"MATCH(K$4,Millwall!$AA137:$AN137,0)","v":{"$error":"#N/A"}},{"$f":"MATCH(L$4,Millwall!$AA137:$AN137,0)","v":{"$error":"#N/A"}},{"$f":"MATCH(M$4,Millwall!$AA137:$AN137,0)","v":4},{"$f":"MATCH(N$4,Millwall!$AA137:$AN137,0)","v":7},{"$f":"MATCH(O$4,Millwall!$AA137:$AN137,0)","v":{"$error":"#N/A"}},{"$f":"MATCH(P$4,Millwall!$AA137:$AN137,0)","v":{"$error":"#N/A"}},{"$f":"MATCH(Q$4,Millwall!$AA137:$AN137,0)","v":3},{"$f":"MATCH(R$4,Millwall!$AA137:$AN137,0)","v":{"$error":"#N/A"}},{"$f":"MATCH(S$4,Millwall!$AA137:$AN137,0)","v":{"$error":"#N/A"}},{"$f":"MATCH(T$4,Millwall!$AA137:$AN137,0)","v":{"$error":"#N/A"}},{"$f":"MATCH(U$4,Millwall!$AA137:$AN137,0)","v":1},{"$f":"MATCH(V$4,Millwall!$AA137:$AN137,0)","v":{"$error":"#N/A"}},{"$f":"MATCH(W$4,Millwall!$AA137:$AN137,0)","v":12},{"$f":"MATCH(X$4,Millwall!$AA137:$AN137,0)","v":{"$error":"#N/A"}},{"$f":"MATCH(Y$4,Millwall!$AA137:$AN137,0)","v":{"$error":"#N/A"}},{"$f":"MATCH(Z$4,Millwall!$AA137:$AN137,0)","v":10},{"$f":"MATCH(AA$4,Millwall!$AA137:$AN137,0)","v":6},{"$f":"MATCH(AB$4,Millwall!$AA137:$AN137,0)","v":8},{"$f":"MATCH(AC$4,Millwall!$AA137:$AN137,0)","v":14},{"$f":"MATCH(AD$4,Millwall!$AA137:$AN137,0)","v":{"$error":"#N/A"}},{"$f":"MATCH(AE$4,Millwall!$AA137:$AN137,0)","v":11},{"$f":"MATCH(AF$4,Millwall!$AA137:$AN137,0)","v":{"$error":"#N/A"}},{"$f":"MATCH(AG$4,Millwall!$AA137:$AN137,0)","v":9},{"$f":"MATCH(AH$4,Millwall!$AA137:$AN137,0)","v":{"$error":"#N/A"}},{"$f":"MATCH(AI$4,Millwall!$AA137:$AN137,0)","v":2},{"$f":"MATCH(AJ$4,Millwall!$AA137:$AN137,0)","v":5},{"$f":"MATCH(AK$4,Millwall!$AA137:$AN137,0)","v":{"$error":"#N/A"}},{"$f":"MATCH(AL$4,Millwall!$AA137:$AN137,0)","v":{"$error":"#N/A"}},{"$f":"MATCH(AM$4,Millwall!$AA137:$AN137,0)","v":{"$error":"#N/A"}},{"$f":"MATCH(AN$4,Millwall!$AA137:$AN137,0)","v":{"$error":"#N/A"}},{"$f":"MATCH(AO$4,Millwall!$AA137:$AN137,0)","v":{"$error":"#N/A"}},{"$f":"MATCH(AP$4,Millwall!$AA137:$AN137,0)","v":{"$error":"#N/A"}},{"$f":"MATCH(AQ$4,Millwall!$AA137:$AN137,0)","v":{"$error":"#N/A"}},{"$f":"MATCH(AR$4,Millwall!$AA137:$AN137,0)","v":{"$error":"#N/A"}},null,null,null,null,null,{"$f":"MATCH(AX$3,Millwall!$AA137:$AM137,0)","v":{"$error":"#N/A"}},{"$f":"MATCH(AY$3,Millwall!$AA137:$AM137,0)","v":{"$error":"#N/A"}},{"$f":"MATCH(AZ$3,Millwall!$AA137:$AM137,0)","v":{"$error":"#N/A"}},{"$f":"MATCH(BA$3,Millwall!$AA137:$AM137,0)","v":{"$error":"#N/A"}},{"$f":"MATCH(BB$3,Millwall!$AA137:$AM137,0)","v":{"$error":"#N/A"}},{"$f":"MATCH(BC$3,Millwall!$AA137:$AM137,0)","v":{"$error":"#N/A"}},{"$f":"MATCH(BD$3,Millwall!$AA137:$AM137,0)","v":{"$error":"#N/A"}},{"$f":"MATCH(BE$3,Millwall!$AA137:$AM137,0)","v":{"$error":"#N/A"}},{"$f":"MATCH(BF$3,Millwall!$AA137:$AM137,0)","v":{"$error":"#N/A"}},{"$f":"MATCH(BG$3,Millwall!$AA137:$AM137,0)","v":{"$error":"#N/A"}},{"$f":"MATCH(BH$3,Millwall!$AA137:$AM137,0)","v":{"$error":"#N/A"}},{"$f":"MATCH(BI$3,Millwall!$AA137:$AM137,0)","v":{"$error":"#N/A"}},{"$f":"MATCH(BJ$3,Millwall!$AA137:$AM137,0)","v":12},{"$f":"MATCH(BK$3,Millwall!$AA137:$AM137,0)","v":{"$error":"#N/A"}},{"$f":"MATCH(BL$3,Millwall!$AA137:$AM137,0)","v":{"$error":"#N/A"}},{"$f":"MATCH(BM$3,Millwall!$AA137:$AM137,0)","v":{"$error":"#N/A"}},{"$f":"MATCH(BN$3,Millwall!$AA137:$AM137,0)","v":{"$error":"#N/A"}},{"$f":"MATCH(BO$3,Millwall!$AA137:$AM137,0)","v":{"$error":"#N/A"}},{"$f":"MATCH(BP$3,Millwall!$AA137:$AM137,0)","v":{"$error":"#N/A"}},{"$f":"MATCH(BQ$3,Millwall!$AA137:$AM137,0)","v":{"$error":"#N/A"}},{"$f":"MATCH(BR$3,Millwall!$AA137:$AM137,0)","v":{"$error":"#N/A"}},{"$f":"MATCH(BS$3,Millwall!$AA137:$AM137,0)","v":{"$error":"#N/A"}},{"$f":"MATCH(BT$3,Millwall!$AA137:$AM137,0)","v":{"$error":"#N/A"}},{"$f":"MATCH(BU$3,Millwall!$AA137:$AM137,0)","v":{"$error":"#N/A"}},{"$f":"MATCH(BV$3,Millwall!$AA137:$AM137,0)","v":2},{"$f":"MATCH(BW$3,Millwall!$AA137:$AM137,0)","v":{"$error":"#N/A"}},{"$f":"MATCH(BX$3,Millwall!$AA137:$AM137,0)","v":{"$error":"#N/A"}},{"$f":"MATCH(BY$3,Millwall!$AA137:$AM137,0)","v":{"$error":"#N/A"}},{"$f":"MATCH(BZ$3,Millwall!$AA137:$AM137,0)","v":{"$error":"#N/A"}},{"$f":"MATCH(CA$3,Millwall!$AA137:$AM137,0)","v":{"$error":"#N/A"}},{"$f":"MATCH(CB$3,Millwall!$AA137:$AM137,0)","v":{"$error":"#N/A"}},{"$f":"MATCH(CC$3,Millwall!$AA137:$AM137,0)","v":{"$error":"#N/A"}},{"$f":"MATCH(CD$3,Millwall!$AA137:$AM137,0)","v":{"$error":"#N/A"}},{"$f":"MATCH(CE$3,Millwall!$AA137:$AM137,0)","v":{"$error":"#N/A"}},null,null,{"$f":"MATCH(CH$3,Millwall!$AA137:$AN137,0)","v":{"$error":"#N/A"}},{"$f":"MATCH(CI$3,Millwall!$AA137:$AN137,0)","v":{"$error":"#N/A"}},{"$f":"MATCH(CJ$3,Millwall!$AA137:$AN137,0)","v":{"$error":"#N/A"}},{"$f":"MATCH(CK$3,Millwall!$AA137:$AN137,0)","v":{"$error":"#N/A"}},{"$f":"MATCH(CL$3,Millwall!$AA137:$AN137,0)","v":{"$error":"#N/A"}},{"$f":"MATCH(CM$3,Millwall!$AA137:$AN137,0)","v":{"$error":"#N/A"}},{"$f":"MATCH(CN$3,Millwall!$AA137:$AN137,0)","v":{"$error":"#N/A"}},{"$f":"MATCH(CO$3,Millwall!$AA137:$AN137,0)","v":{"$error":"#N/A"}},{"$f":"MATCH(CP$3,Millwall!$AA137:$AN137,0)","v":{"$error":"#N/A"}},{"$f":"MATCH(CQ$3,Millwall!$AA137:$AN137,0)","v":{"$error":"#N/A"}},{"$f":"MATCH(CR$3,Millwall!$AA137:$AN137,0)","v":{"$error":"#N/A"}},{"$f":"MATCH(CS$3,Millwall!$AA137:$AN137,0)","v":{"$error":"#N/A"}},{"$f":"MATCH(CT$3,Millwall!$AA137:$AN137,0)","v":{"$error":"#N/A"}},{"$f":"MATCH(CU$3,Millwall!$AA137:$AN137,0)","v":{"$error":"#N/A"}},{"$f":"MATCH(CV$3,Millwall!$AA137:$AN137,0)","v":{"$error":"#N/A"}},{"$f":"MATCH(CW$3,Millwall!$AA137:$AN137,0)","v":{"$error":"#N/A"}},{"$f":"MATCH(CX$3,Millwall!$AA137:$AN137,0)","v":{"$error":"#N/A"}},{"$f":"MATCH(CY$3,Millwall!$AA137:$AN137,0)","v":8},{"$f":"MATCH(CZ$3,Millwall!$AA137:$AN137,0)","v":14},{"$f":"MATCH(DA$3,Millwall!$AA137:$AN137,0)","v":{"$error":"#N/A"}},{"$f":"MATCH(DB$3,Millwall!$AA137:$AN137,0)","v":{"$error":"#N/A"}},{"$f":"MATCH(DC$3,Millwall!$AA137:$AN137,0)","v":{"$error":"#N/A"}},{"$f":"MATCH(DD$3,Millwall!$AA137:$AN137,0)","v":{"$error":"#N/A"}},{"$f":"MATCH(DE$3,Millwall!$AA137:$AN137,0)","v":{"$error":"#N/A"}},{"$f":"MATCH(DF$3,Millwall!$AA137:$AN137,0)","v":{"$error":"#N/A"}},{"$f":"MATCH(DG$3,Millwall!$AA137:$AN137,0)","v":{"$error":"#N/A"}},{"$f":"MATCH(DH$3,Millwall!$AA137:$AN137,0)","v":{"$error":"#N/A"}},{"$f":"MATCH(DI$3,Millwall!$AA137:$AN137,0)","v":{"$error":"#N/A"}},{"$f":"MATCH(DJ$3,Millwall!$AA137:$AN137,0)","v":{"$error":"#N/A"}},{"$f":"MATCH(DK$3,Millwall!$AA137:$AN137,0)","v":{"$error":"#N/A"}},{"$f":"MATCH(DL$3,Millwall!$AA137:$AN137,0)","v":{"$error":"#N/A"}},{"$f":"MATCH(DM$3,Millwall!$AA137:$AN137,0)","v":{"$error":"#N/A"}},{"$f":"MATCH(DN$3,Millwall!$AA137:$AN137,0)","v":{"$error":"#N/A"}},{"$f":"MATCH(DO$3,Millwall!$AA137:$AN137,0)","v":{"$error":"#N/A"}}]
[null,null,0,3,null,{"$f":"Millwall!W138","v":"1986-10-29"},null,{"$f":"Millwall!X138","v":"Norwich"},{"$f":"Millwall!Y138","v":"(A)"},{"$f":"Millwall!Z138","v":"L 1-4"},{"$f":"MATCH(K$4,Millwall!$AA138:$AN138,0)","v":{"$error":"#N/A"}},{"$f":"MATCH(L$4,Millwall!$AA138:$AN138,0)","v":{"$error":"#N/A"}},{"$f":"MATCH(M$4,Millwall!$AA138:$AN138,0)","v":4},{"$f":"MATCH(N$4,Millwall!$AA138:$AN138,0)","v":7},{"$f":"MATCH(O$4,Millwall!$AA138:$AN138,0)","v":{"$error":"#N/A"}},{"$f":"MATCH(P$4,Millwall!$AA138:$AN138,0)","v":{"$error":"#N/A"}},{"$f":"MATCH(Q$4,Millwall!$AA138:$AN138,0)","v":3},{"$f":"MATCH(R$4,Millwall!$AA138:$AN138,0)","v":14},{"$f":"MATCH(S$4,Millwall!$AA138:$AN138,0)","v":{"$error":"#N/A"}},{"$f":"MATCH(T$4,Millwall!$AA138:$AN138,0)","v":{"$error":"#N/A"}},{"$f":"MATCH(U$4,Millwall!$AA138:$AN138,0)","v":{"$error":"#N/A"}},{"$f":"MATCH(V$4,Millwall!$AA138:$AN138,0)","v":{"$error":"#N/A"}},{"$f":"MATCH(W$4,Millwall!$AA138:$AN138,0)","v":12},{"$f":"MATCH(X$4,Millwall!$AA138:$AN138,0)","v":{"$error":"#N/A"}},{"$f":"MATCH(Y$4,Millwall!$AA138:$AN138,0)","v":{"$error":"#N/A"}},{"$f":"MATCH(Z$4,Millwall!$AA138:$AN138,0)","v":10},{"$f":"MATCH(AA$4,Millwall!$AA138:$AN138,0)","v":6},{"$f":"MATCH(AB$4,Millwall!$AA138:$AN138,0)","v":{"$error":"#N/A"}},{"$f":"MATCH(AC$4,Millwall!$AA138:$AN138,0)","v":8},{"$f":"MATCH(AD$4,Millwall!$AA138:$AN138,0)","v":{"$error":"#N/A"}},{"$f":"MATCH(AE$4,Millwall!$AA138:$AN138,0)","v":11},{"$f":"MATCH(AF$4,Millwall!$AA138:$AN138,0)","v":1},{"$f":"MATCH(AG$4,Millwall!$AA138:$AN138,0)","v":9},{"$f":"MATCH(AH$4,Millwall!$AA138:$AN138,0)","v":{"$error":"#N/A"}},{"$f":"MATCH(AI$4,Millwall!$AA138:$AN138,0)","v":2},{"$f":"MATCH(AJ$4,Millwall!$AA138:$AN138,0)","v":5},{"$f":"MATCH(AK$4,Millwall!$AA138:$AN138,0)","v":{"$error":"#N/A"}},{"$f":"MATCH(AL$4,Millwall!$AA138:$AN138,0)","v":{"$error":"#N/A"}},{"$f":"MATCH(AM$4,Millwall!$AA138:$AN138,0)","v":{"$error":"#N/A"}},{"$f":"MATCH(AN$4,Millwall!$AA138:$AN138,0)","v":{"$error":"#N/A"}},{"$f":"MATCH(AO$4,Millwall!$AA138:$AN138,0)","v":{"$error":"#N/A"}},{"$f":"MATCH(AP$4,Millwall!$AA138:$AN138,0)","v":{"$error":"#N/A"}},{"$f":"MATCH(AQ$4,Millwall!$AA138:$AN138,0)","v":{"$error":"#N/A"}},{"$f":"MATCH(AR$4,Millwall!$AA138:$AN138,0)","v":{"$error":"#N/A"}},null,null,null,null,null,{"$f":"MATCH(AX$3,Millwall!$AA138:$AM138,0)","v":{"$error":"#N/A"}},{"$f":"MATCH(AY$3,Millwall!$AA138:$AM138,0)","v":{"$error":"#N/A"}},{"$f":"MATCH(AZ$3,Millwall!$AA138:$AM138,0)","v":{"$error":"#N/A"}},{"$f":"MATCH(BA$3,Millwall!$AA138:$AM138,0)","v":{"$error":"#N/A"}},{"$f":"MATCH(BB$3,Millwall!$AA138:$AM138,0)","v":{"$error":"#N/A"}},{"$f":"MATCH(BC$3,Millwall!$AA138:$AM138,0)","v":{"$error":"#N/A"}},{"$f":"MATCH(BD$3,Millwall!$AA138:$AM138,0)","v":{"$error":"#N/A"}},{"$f":"MATCH(BE$3,Millwall!$AA138:$AM138,0)","v":{"$error":"#N/A"}},{"$f":"MATCH(BF$3,Millwall!$AA138:$AM138,0)","v":{"$error":"#N/A"}},{"$f":"MATCH(BG$3,Millwall!$AA138:$AM138,0)","v":{"$error":"#N/A"}},{"$f":"MATCH(BH$3,Millwall!$AA138:$AM138,0)","v":{"$error":"#N/A"}},{"$f":"MATCH(BI$3,Millwall!$AA138:$AM138,0)","v":{"$error":"#N/A"}},{"$f":"MATCH(BJ$3,Millwall!$AA138:$AM138,0)","v":12},{"$f":"MATCH(BK$3,Millwall!$AA138:$AM138,0)","v":{"$error":"#N/A"}},{"$f":"MATCH(BL$3,Millwall!$AA138:$AM138,0)","v":{"$error":"#N/A"}},{"$f":"MATCH(BM$3,Millwall!$AA138:$AM138,0)","v":10},{"$f":"MATCH(BN$3,Millwall!$AA138:$AM138,0)","v":{"$error":"#N/A"}},{"$f":"MATCH(BO$3,Millwall!$AA138:$AM138,0)","v":{"$error":"#N/A"}},{"$f":"MATCH(BP$3,Millwall!$AA138:$AM138,0)","v":{"$error":"#N/A"}},{"$f":"MATCH(BQ$3,Millwall!$AA138:$AM138,0)","v":{"$error":"#N/A"}},{"$f":"MATCH(BR$3,Millwall!$AA138:$AM138,0)","v":{"$error":"#N/A"}},{"$f":"MATCH(BS$3,Millwall!$AA138:$AM138,0)","v":{"$error":"#N/A"}},{"$f":"MATCH(BT$3,Millwall!$AA138:$AM138,0)","v":{"$error":"#N/A"}},{"$f":"MATCH(BU$3,Millwall!$AA138:$AM138,0)","v":{"$error":"#N/A"}},{"$f":"MATCH(BV$3,Millwall!$AA138:$AM138,0)","v":{"$error":"#N/A"}},{"$f":"MATCH(BW$3,Millwall!$AA138:$AM138,0)","v":{"$error":"#N/A"}},{"$f":"MATCH(BX$3,Millwall!$AA138:$AM138,0)","v":{"$error":"#N/A"}},{"$f":"MATCH(BY$3,Millwall!$AA138:$AM138,0)","v":{"$error":"#N/A"}},{"$f":"MATCH(BZ$3,Millwall!$AA138:$AM138,0)","v":{"$error":"#N/A"}},{"$f":"MATCH(CA$3,Millwall!$AA138:$AM138,0)","v":{"$error":"#N/A"}},{"$f":"MATCH(CB$3,Millwall!$AA138:$AM138,0)","v":{"$error":"#N/A"}},{"$f":"MATCH(CC$3,Millwall!$AA138:$AM138,0)","v":{"$error":"#N/A"}},{"$f":"MATCH(CD$3,Millwall!$AA138:$AM138,0)","v":{"$error":"#N/A"}},{"$f":"MATCH(CE$3,Millwall!$AA138:$AM138,0)","v":{"$error":"#N/A"}},null,null,{"$f":"MATCH(CH$3,Millwall!$AA138:$AN138,0)","v":{"$error":"#N/A"}},{"$f":"MATCH(CI$3,Millwall!$AA138:$AN138,0)","v":{"$error":"#N/A"}},{"$f":"MATCH(CJ$3,Millwall!$AA138:$AN138,0)","v":{"$error":"#N/A"}},{"$f":"MATCH(CK$3,Millwall!$AA138:$AN138,0)","v":{"$error":"#N/A"}},{"$f":"MATCH(CL$3,Millwall!$AA138:$AN138,0)","v":{"$error":"#N/A"}},{"$f":"MATCH(CM$3,Millwall!$AA138:$AN138,0)","v":{"$error":"#N/A"}},{"$f":"MATCH(CN$3,Millwall!$AA138:$AN138,0)","v":{"$error":"#N/A"}},{"$f":"MATCH(CO$3,Millwall!$AA138:$AN138,0)","v":{"$error":"#N/A"}},{"$f":"MATCH(CP$3,Millwall!$AA138:$AN138,0)","v":{"$error":"#N/A"}},{"$f":"MATCH(CQ$3,Millwall!$AA138:$AN138,0)","v":{"$error":"#N/A"}},{"$f":"MATCH(CR$3,Millwall!$AA138:$AN138,0)","v":{"$error":"#N/A"}},{"$f":"MATCH(CS$3,Millwall!$AA138:$AN138,0)","v":{"$error":"#N/A"}},{"$f":"MATCH(CT$3,Millwall!$AA138:$AN138,0)","v":{"$error":"#N/A"}},{"$f":"MATCH(CU$3,Millwall!$AA138:$AN138,0)","v":{"$error":"#N/A"}},{"$f":"MATCH(CV$3,Millwall!$AA138:$AN138,0)","v":{"$error":"#N/A"}},{"$f":"MATCH(CW$3,Millwall!$AA138:$AN138,0)","v":{"$error":"#N/A"}},{"$f":"MATCH(CX$3,Millwall!$AA138:$AN138,0)","v":{"$error":"#N/A"}},{"$f":"MATCH(CY$3,Millwall!$AA138:$AN138,0)","v":{"$error":"#N/A"}},{"$f":"MATCH(CZ$3,Millwall!$AA138:$AN138,0)","v":{"$error":"#N/A"}},{"$f":"MATCH(DA$3,Millwall!$AA138:$AN138,0)","v":{"$error":"#N/A"}},{"$f":"MATCH(DB$3,Millwall!$AA138:$AN138,0)","v":{"$error":"#N/A"}},{"$f":"MATCH(DC$3,Millwall!$AA138:$AN138,0)","v":{"$error":"#N/A"}},{"$f":"MATCH(DD$3,Millwall!$AA138:$AN138,0)","v":{"$error":"#N/A"}},{"$f":"MATCH(DE$3,Millwall!$AA138:$AN138,0)","v":{"$error":"#N/A"}},{"$f":"MATCH(DF$3,Millwall!$AA138:$AN138,0)","v":{"$error":"#N/A"}},{"$f":"MATCH(DG$3,Millwall!$AA138:$AN138,0)","v":{"$error":"#N/A"}},{"$f":"MATCH(DH$3,Millwall!$AA138:$AN138,0)","v":{"$error":"#N/A"}},{"$f":"MATCH(DI$3,Millwall!$AA138:$AN138,0)","v":{"$error":"#N/A"}},{"$f":"MATCH(DJ$3,Millwall!$AA138:$AN138,0)","v":{"$error":"#N/A"}},{"$f":"MATCH(DK$3,Millwall!$AA138:$AN138,0)","v":{"$error":"#N/A"}},{"$f":"MATCH(DL$3,Millwall!$AA138:$AN138,0)","v":{"$error":"#N/A"}},{"$f":"MATCH(DM$3,Millwall!$AA138:$AN138,0)","v":{"$error":"#N/A"}},{"$f":"MATCH(DN$3,Millwall!$AA138:$AN138,0)","v":{"$error":"#N/A"}},{"$f":"MATCH(DO$3,Millwall!$AA138:$AN138,0)","v":{"$error":"#N/A"}}]
[null,null,1,null,null,{"$f":"Millwall!W139","v":"00:00:00"},null,{"$f":"Millwall!X139","v":"00:00:00"},{"$f":"Millwall!Y139","v":"00:00:00"},{"$f":"Millwall!Z139","v":0},{"$f":"MATCH(K$4,Millwall!$AA139:$AN139,0)","v":{"$error":"#N/A"}},{"$f":"MATCH(L$4,Millwall!$AA139:$AN139,0)","v":{"$error":"#N/A"}},{"$f":"MATCH(M$4,Millwall!$AA139:$AN139,0)","v":{"$error":"#N/A"}},{"$f":"MATCH(N$4,Millwall!$AA139:$AN139,0)","v":{"$error":"#N/A"}},{"$f":"MATCH(O$4,Millwall!$AA139:$AN139,0)","v":{"$error":"#N/A"}},{"$f":"MATCH(P$4,Millwall!$AA139:$AN139,0)","v":{"$error":"#N/A"}},{"$f":"MATCH(Q$4,Millwall!$AA139:$AN139,0)","v":{"$error":"#N/A"}},{"$f":"MATCH(R$4,Millwall!$AA139:$AN139,0)","v":{"$error":"#N/A"}},{"$f":"MATCH(S$4,Millwall!$AA139:$AN139,0)","v":{"$error":"#N/A"}},{"$f":"MATCH(T$4,Millwall!$AA139:$AN139,0)","v":{"$error":"#N/A"}},{"$f":"MATCH(U$4,Millwall!$AA139:$AN139,0)","v":{"$error":"#N/A"}},{"$f":"MATCH(V$4,Millwall!$AA139:$AN139,0)","v":{"$error":"#N/A"}},{"$f":"MATCH(W$4,Millwall!$AA139:$AN139,0)","v":{"$error":"#N/A"}},{"$f":"MATCH(X$4,Millwall!$AA139:$AN139,0)","v":{"$error":"#N/A"}},{"$f":"MATCH(Y$4,Millwall!$AA139:$AN139,0)","v":{"$error":"#N/A"}},{"$f":"MATCH(Z$4,Millwall!$AA139:$AN139,0)","v":{"$error":"#N/A"}},{"$f":"MATCH(AA$4,Millwall!$AA139:$AN139,0)","v":{"$error":"#N/A"}},{"$f":"MATCH(AB$4,Millwall!$AA139:$AN139,0)","v":{"$error":"#N/A"}},{"$f":"MATCH(AC$4,Millwall!$AA139:$AN139,0)","v":{"$error":"#N/A"}},{"$f":"MATCH(AD$4,Millwall!$AA139:$AN139,0)","v":{"$error":"#N/A"}},{"$f":"MATCH(AE$4,Millwall!$AA139:$AN139,0)","v":{"$error":"#N/A"}},{"$f":"MATCH(AF$4,Millwall!$AA139:$AN139,0)","v":{"$error":"#N/A"}},{"$f":"MATCH(AG$4,Millwall!$AA139:$AN139,0)","v":{"$error":"#N/A"}},{"$f":"MATCH(AH$4,Millwall!$AA139:$AN139,0)","v":{"$error":"#N/A"}},{"$f":"MATCH(AI$4,Millwall!$AA139:$AN139,0)","v":{"$error":"#N/A"}},{"$f":"MATCH(AJ$4,Millwall!$AA139:$AN139,0)","v":{"$error":"#N/A"}},{"$f":"MATCH(AK$4,Millwall!$AA139:$AN139,0)","v":{"$error":"#N/A"}},{"$f":"MATCH(AL$4,Millwall!$AA139:$AN139,0)","v":{"$error":"#N/A"}},{"$f":"MATCH(AM$4,Millwall!$AA139:$AN139,0)","v":{"$error":"#N/A"}},{"$f":"MATCH(AN$4,Millwall!$AA139:$AN139,0)","v":{"$error":"#N/A"}},{"$f":"MATCH(AO$4,Millwall!$AA139:$AN139,0)","v":{"$error":"#N/A"}},{"$f":"MATCH(AP$4,Millwall!$AA139:$AN139,0)","v":{"$error":"#N/A"}},{"$f":"MATCH(AQ$4,Millwall!$AA139:$AN139,0)","v":{"$error":"#N/A"}},{"$f":"MATCH(AR$4,Millwall!$AA139:$AN139,0)","v":{"$error":"#N/A"}},null,null,null,null,null,{"$f":"MATCH(AX$3,Millwall!$AA139:$AM139,0)","v":{"$error":"#N/A"}},{"$f":"MATCH(AY$3,Millwall!$AA139:$AM139,0)","v":{"$error":"#N/A"}},{"$f":"MATCH(AZ$3,Millwall!$AA139:$AM139,0)","v":{"$error":"#N/A"}},{"$f":"MATCH(BA$3,Millwall!$AA139:$AM139,0)","v":{"$error":"#N/A"}},{"$f":"MATCH(BB$3,Millwall!$AA139:$AM139,0)","v":{"$error":"#N/A"}},{"$f":"MATCH(BC$3,Millwall!$AA139:$AM139,0)","v":{"$error":"#N/A"}},{"$f":"MATCH(BD$3,Millwall!$AA139:$AM139,0)","v":{"$error":"#N/A"}},{"$f":"MATCH(BE$3,Millwall!$AA139:$AM139,0)","v":{"$error":"#N/A"}},{"$f":"MATCH(BF$3,Millwall!$AA139:$AM139,0)","v":{"$error":"#N/A"}},{"$f":"MATCH(BG$3,Millwall!$AA139:$AM139,0)","v":{"$error":"#N/A"}},{"$f":"MATCH(BH$3,Millwall!$AA139:$AM139,0)","v":{"$error":"#N/A"}},{"$f":"MATCH(BI$3,Millwall!$AA139:$AM139,0)","v":{"$error":"#N/A"}},{"$f":"MATCH(BJ$3,Millwall!$AA139:$AM139,0)","v":{"$error":"#N/A"}},{"$f":"MATCH(BK$3,Millwall!$AA139:$AM139,0)","v":{"$error":"#N/A"}},{"$f":"MATCH(BL$3,Millwall!$AA139:$AM139,0)","v":{"$error":"#N/A"}},{"$f":"MATCH(BM$3,Millwall!$AA139:$AM139,0)","v":{"$error":"#N/A"}},{"$f":"MATCH(BN$3,Millwall!$AA139:$AM139,0)","v":{"$error":"#N/A"}},{"$f":"MATCH(BO$3,Millwall!$AA139:$AM139,0)","v":{"$error":"#N/A"}},{"$f":"MATCH(BP$3,Millwall!$AA139:$AM139,0)","v":{"$error":"#N/A"}},{"$f":"MATCH(BQ$3,Millwall!$AA139:$AM139,0)","v":{"$error":"#N/A"}},{"$f":"MATCH(BR$3,Millwall!$AA139:$AM139,0)","v":{"$error":"#N/A"}},{"$f":"MATCH(BS$3,Millwall!$AA139:$AM139,0)","v":{"$error":"#N/A"}},{"$f":"MATCH(BT$3,Millwall!$AA139:$AM139,0)","v":{"$error":"#N/A"}},{"$f":"MATCH(BU$3,Millwall!$AA139:$AM139,0)","v":{"$error":"#N/A"}},{"$f":"MATCH(BV$3,Millwall!$AA139:$AM139,0)","v":{"$error":"#N/A"}},{"$f":"MATCH(BW$3,Millwall!$AA139:$AM139,0)","v":{"$error":"#N/A"}},{"$f":"MATCH(BX$3,Millwall!$AA139:$AM139,0)","v":{"$error":"#N/A"}},{"$f":"MATCH(BY$3,Millwall!$AA139:$AM139,0)","v":{"$error":"#N/A"}},{"$f":"MATCH(BZ$3,Millwall!$AA139:$AM139,0)","v":{"$error":"#N/A"}},{"$f":"MATCH(CA$3,Millwall!$AA139:$AM139,0)","v":{"$error":"#N/A"}},{"$f":"MATCH(CB$3,Millwall!$AA139:$AM139,0)","v":{"$error":"#N/A"}},{"$f":"MATCH(CC$3,Millwall!$AA139:$AM139,0)","v":{"$error":"#N/A"}},{"$f":"MATCH(CD$3,Millwall!$AA139:$AM139,0)","v":{"$error":"#N/A"}},{"$f":"MATCH(CE$3,Millwall!$AA139:$AM139,0)","v":{"$error":"#N/A"}},null,null,{"$f":"MATCH(CH$3,Millwall!$AA139:$AN139,0)","v":{"$error":"#N/A"}},{"$f":"MATCH(CI$3,Millwall!$AA139:$AN139,0)","v":{"$error":"#N/A"}},{"$f":"MATCH(CJ$3,Millwall!$AA139:$AN139,0)","v":{"$error":"#N/A"}},{"$f":"MATCH(CK$3,Millwall!$AA139:$AN139,0)","v":{"$error":"#N/A"}},{"$f":"MATCH(CL$3,Millwall!$AA139:$AN139,0)","v":{"$error":"#N/A"}},{"$f":"MATCH(CM$3,Millwall!$AA139:$AN139,0)","v":{"$error":"#N/A"}},{"$f":"MATCH(CN$3,Millwall!$AA139:$AN139,0)","v":{"$error":"#N/A"}},{"$f":"MATCH(CO$3,Millwall!$AA139:$AN139,0)","v":{"$error":"#N/A"}},{"$f":"MATCH(CP$3,Millwall!$AA139:$AN139,0)","v":{"$error":"#N/A"}},{"$f":"MATCH(CQ$3,Millwall!$AA139:$AN139,0)","v":{"$error":"#N/A"}},{"$f":"MATCH(CR$3,Millwall!$AA139:$AN139,0)","v":{"$error":"#N/A"}},{"$f":"MATCH(CS$3,Millwall!$AA139:$AN139,0)","v":{"$error":"#N/A"}},{"$f":"MATCH(CT$3,Millwall!$AA139:$AN139,0)","v":{"$error":"#N/A"}},{"$f":"MATCH(CU$3,Millwall!$AA139:$AN139,0)","v":{"$error":"#N/A"}},{"$f":"MATCH(CV$3,Millwall!$AA139:$AN139,0)","v":{"$error":"#N/A"}},{"$f":"MATCH(CW$3,Millwall!$AA139:$AN139,0)","v":{"$error":"#N/A"}},{"$f":"MATCH(CX$3,Millwall!$AA139:$AN139,0)","v":{"$error":"#N/A"}},{"$f":"MATCH(CY$3,Millwall!$AA139:$AN139,0)","v":{"$error":"#N/A"}},{"$f":"MATCH(CZ$3,Millwall!$AA139:$AN139,0)","v":{"$error":"#N/A"}},{"$f":"MATCH(DA$3,Millwall!$AA139:$AN139,0)","v":{"$error":"#N/A"}},{"$f":"MATCH(DB$3,Millwall!$AA139:$AN139,0)","v":{"$error":"#N/A"}},{"$f":"MATCH(DC$3,Millwall!$AA139:$AN139,0)","v":{"$error":"#N/A"}},{"$f":"MATCH(DD$3,Millwall!$AA139:$AN139,0)","v":{"$error":"#N/A"}},{"$f":"MATCH(DE$3,Millwall!$AA139:$AN139,0)","v":{"$error":"#N/A"}},{"$f":"MATCH(DF$3,Millwall!$AA139:$AN139,0)","v":{"$error":"#N/A"}},{"$f":"MATCH(DG$3,Millwall!$AA139:$AN139,0)","v":{"$error":"#N/A"}},{"$f":"MATCH(DH$3,Millwall!$AA139:$AN139,0)","v":{"$error":"#N/A"}},{"$f":"MATCH(DI$3,Millwall!$AA139:$AN139,0)","v":{"$error":"#N/A"}},{"$f":"MATCH(DJ$3,Millwall!$AA139:$AN139,0)","v":{"$error":"#N/A"}},{"$f":"MATCH(DK$3,Millwall!$AA139:$AN139,0)","v":{"$error":"#N/A"}},{"$f":"MATCH(DL$3,Millwall!$AA139:$AN139,0)","v":{"$error":"#N/A"}},{"$f":"MATCH(DM$3,Millwall!$AA139:$AN139,0)","v":{"$error":"#N/A"}},{"$f":"MATCH(DN$3,Millwall!$AA139:$AN139,0)","v":{"$error":"#N/A"}},{"$f":"MATCH(DO$3,Millwall!$AA139:$AN139,0)","v":{"$error":"#N/A"}}]
[null,null,1,null,null,{"$f":"Millwall!AJ140","v":"00:00:00"},null,{"$f":"Millwall!AK140","v":"00:00:00"},{"$f":"Millwall!AL140","v":"00:00:00"},{"$f":"Millwall!AM140","v":0},{"$f":"MATCH(K$4,Millwall!$AA140:$AN140,0)","v":{"$error":"#N/A"}},{"$f":"MATCH(L$4,Millwall!$AA140:$AN140,0)","v":{"$error":"#N/A"}},{"$f":"MATCH(M$4,Millwall!$AA140:$AN140,0)","v":{"$error":"#N/A"}},{"$f":"MATCH(N$4,Millwall!$AA140:$AN140,0)","v":{"$error":"#N/A"}},{"$f":"MATCH(O$4,Millwall!$AA140:$AN140,0)","v":{"$error":"#N/A"}},{"$f":"MATCH(P$4,Millwall!$AA140:$AN140,0)","v":{"$error":"#N/A"}},{"$f":"MATCH(Q$4,Millwall!$AA140:$AN140,0)","v":{"$error":"#N/A"}},{"$f":"MATCH(R$4,Millwall!$AA140:$AN140,0)","v":{"$error":"#N/A"}},{"$f":"MATCH(S$4,Millwall!$AA140:$AN140,0)","v":{"$error":"#N/A"}},{"$f":"MATCH(T$4,Millwall!$AA140:$AN140,0)","v":{"$error":"#N/A"}},{"$f":"MATCH(U$4,Millwall!$AA140:$AN140,0)","v":{"$error":"#N/A"}},{"$f":"MATCH(V$4,Millwall!$AA140:$AN140,0)","v":{"$error":"#N/A"}},{"$f":"MATCH(W$4,Millwall!$AA140:$AN140,0)","v":{"$error":"#N/A"}},{"$f":"MATCH(X$4,Millwall!$AA140:$AN140,0)","v":{"$error":"#N/A"}},{"$f":"MATCH(Y$4,Millwall!$AA140:$AN140,0)","v":{"$error":"#N/A"}},{"$f":"MATCH(Z$4,Millwall!$AA140:$AN140,0)","v":{"$error":"#N/A"}},{"$f":"MATCH(AA$4,Millwall!$AA140:$AN140,0)","v":{"$error":"#N/A"}},{"$f":"MATCH(AB$4,Millwall!$AA140:$AN140,0)","v":{"$error":"#N/A"}},{"$f":"MATCH(AC$4,Millwall!$AA140:$AN140,0)","v":{"$error":"#N/A"}},{"$f":"MATCH(AD$4,Millwall!$AA140:$AN140,0)","v":{"$error":"#N/A"}},{"$f":"MATCH(AE$4,Millwall!$AA140:$AN140,0)","v":{"$error":"#N/A"}},{"$f":"MATCH(AF$4,Millwall!$AA140:$AN140,0)","v":{"$error":"#N/A"}},{"$f":"MATCH(AG$4,Millwall!$AA140:$AN140,0)","v":{"$error":"#N/A"}},{"$f":"MATCH(AH$4,Millwall!$AA140:$AN140,0)","v":{"$error":"#N/A"}},{"$f":"MATCH(AI$4,Millwall!$AA140:$AN140,0)","v":{"$error":"#N/A"}},{"$f":"MATCH(AJ$4,Millwall!$AA140:$AN140,0)","v":{"$error":"#N/A"}},{"$f":"MATCH(AK$4,Millwall!$AA140:$AN140,0)","v":{"$error":"#N/A"}},{"$f":"MATCH(AL$4,Millwall!$AA140:$AN140,0)","v":{"$error":"#N/A"}},{"$f":"MATCH(AM$4,Millwall!$AA140:$AN140,0)","v":{"$error":"#N/A"}},{"$f":"MATCH(AN$4,Millwall!$AA140:$AN140,0)","v":{"$error":"#N/A"}},{"$f":"MATCH(AO$4,Millwall!$AA140:$AN140,0)","v":{"$error":"#N/A"}},{"$f":"MATCH(AP$4,Millwall!$AA140:$AN140,0)","v":{"$error":"#N/A"}},{"$f":"MATCH(AQ$4,Millwall!$AA140:$AN140,0)","v":{"$error":"#N/A"}},{"$f":"MATCH(AR$4,Millwall!$AA140:$AN140,0)","v":{"$error":"#N/A"}},null,null,null,null,null,{"$f":"MATCH(AX$3,Millwall!$AA140:$AM140,0)","v":{"$error":"#N/A"}},{"$f":"MATCH(AY$3,Millwall!$AA140:$AM140,0)","v":{"$error":"#N/A"}},{"$f":"MATCH(AZ$3,Millwall!$AA140:$AM140,0)","v":{"$error":"#N/A"}},{"$f":"MATCH(BA$3,Millwall!$AA140:$AM140,0)","v":{"$error":"#N/A"}},{"$f":"MATCH(BB$3,Millwall!$AA140:$AM140,0)","v":{"$error":"#N/A"}},{"$f":"MATCH(BC$3,Millwall!$AA140:$AM140,0)","v":{"$error":"#N/A"}},{"$f":"MATCH(BD$3,Millwall!$AA140:$AM140,0)","v":{"$error":"#N/A"}},{"$f":"MATCH(BE$3,Millwall!$AA140:$AM140,0)","v":{"$error":"#N/A"}},{"$f":"MATCH(BF$3,Millwall!$AA140:$AM140,0)","v":{"$error":"#N/A"}},{"$f":"MATCH(BG$3,Millwall!$AA140:$AM140,0)","v":{"$error":"#N/A"}},{"$f":"MATCH(BH$3,Millwall!$AA140:$AM140,0)","v":{"$error":"#N/A"}},{"$f":"MATCH(BI$3,Millwall!$AA140:$AM140,0)","v":{"$error":"#N/A"}},{"$f":"MATCH(BJ$3,Millwall!$AA140:$AM140,0)","v":{"$error":"#N/A"}},{"$f":"MATCH(BK$3,Millwall!$AA140:$AM140,0)","v":{"$error":"#N/A"}},{"$f":"MATCH(BL$3,Millwall!$AA140:$AM140,0)","v":{"$error":"#N/A"}},{"$f":"MATCH(BM$3,Millwall!$AA140:$AM140,0)","v":{"$error":"#N/A"}},{"$f":"MATCH(BN$3,Millwall!$AA140:$AM140,0)","v":{"$error":"#N/A"}},{"$f":"MATCH(BO$3,Millwall!$AA140:$AM140,0)","v":{"$error":"#N/A"}},{"$f":"MATCH(BP$3,Millwall!$AA140:$AM140,0)","v":{"$error":"#N/A"}},{"$f":"MATCH(BQ$3,Millwall!$AA140:$AM140,0)","v":{"$error":"#N/A"}},{"$f":"MATCH(BR$3,Millwall!$AA140:$AM140,0)","v":{"$error":"#N/A"}},{"$f":"MATCH(BS$3,Millwall!$AA140:$AM140,0)","v":{"$error":"#N/A"}},{"$f":"MATCH(BT$3,Millwall!$AA140:$AM140,0)","v":{"$error":"#N/A"}},{"$f":"MATCH(BU$3,Millwall!$AA140:$AM140,0)","v":{"$error":"#N/A"}},{"$f":"MATCH(BV$3,Millwall!$AA140:$AM140,0)","v":{"$error":"#N/A"}},{"$f":"MATCH(BW$3,Millwall!$AA140:$AM140,0)","v":{"$error":"#N/A"}},{"$f":"MATCH(BX$3,Millwall!$AA140:$AM140,0)","v":{"$error":"#N/A"}},{"$f":"MATCH(BY$3,Millwall!$AA140:$AM140,0)","v":{"$error":"#N/A"}},{"$f":"MATCH(BZ$3,Millwall!$AA140:$AM140,0)","v":{"$error":"#N/A"}},{"$f":"MATCH(CA$3,Millwall!$AA140:$AM140,0)","v":{"$error":"#N/A"}},{"$f":"MATCH(CB$3,Millwall!$AA140:$AM140,0)","v":{"$error":"#N/A"}},{"$f":"MATCH(CC$3,Millwall!$AA140:$AM140,0)","v":{"$error":"#N/A"}},{"$f":"MATCH(CD$3,Millwall!$AA140:$AM140,0)","v":{"$error":"#N/A"}},{"$f":"MATCH(CE$3,Millwall!$AA140:$AM140,0)","v":{"$error":"#N/A"}},null,null,{"$f":"MATCH(CH$3,Millwall!$AA140:$AN140,0)","v":{"$error":"#N/A"}},{"$f":"MATCH(CI$3,Millwall!$AA140:$AN140,0)","v":{"$error":"#N/A"}},{"$f":"MATCH(CJ$3,Millwall!$AA140:$AN140,0)","v":{"$error":"#N/A"}},{"$f":"MATCH(CK$3,Millwall!$AA140:$AN140,0)","v":{"$error":"#N/A"}},{"$f":"MATCH(CL$3,Millwall!$AA140:$AN140,0)","v":{"$error":"#N/A"}},{"$f":"MATCH(CM$3,Millwall!$AA140:$AN140,0)","v":{"$error":"#N/A"}},{"$f":"MATCH(CN$3,Millwall!$AA140:$AN140,0)","v":{"$error":"#N/A"}},{"$f":"MATCH(CO$3,Millwall!$AA140:$AN140,0)","v":{"$error":"#N/A"}},{"$f":"MATCH(CP$3,Millwall!$AA140:$AN140,0)","v":{"$error":"#N/A"}},{"$f":"MATCH(CQ$3,Millwall!$AA140:$AN140,0)","v":{"$error":"#N/A"}},{"$f":"MATCH(CR$3,Millwall!$AA140:$AN140,0)","v":{"$error":"#N/A"}},{"$f":"MATCH(CS$3,Millwall!$AA140:$AN140,0)","v":{"$error":"#N/A"}},{"$f":"MATCH(CT$3,Millwall!$AA140:$AN140,0)","v":{"$error":"#N/A"}},{"$f":"MATCH(CU$3,Millwall!$AA140:$AN140,0)","v":{"$error":"#N/A"}},{"$f":"MATCH(CV$3,Millwall!$AA140:$AN140,0)","v":{"$error":"#N/A"}},{"$f":"MATCH(CW$3,Millwall!$AA140:$AN140,0)","v":{"$error":"#N/A"}},{"$f":"MATCH(CX$3,Millwall!$AA140:$AN140,0)","v":{"$error":"#N/A"}},{"$f":"MATCH(CY$3,Millwall!$AA140:$AN140,0)","v":{"$error":"#N/A"}},{"$f":"MATCH(CZ$3,Millwall!$AA140:$AN140,0)","v":{"$error":"#N/A"}},{"$f":"MATCH(DA$3,Millwall!$AA140:$AN140,0)","v":{"$error":"#N/A"}},{"$f":"MATCH(DB$3,Millwall!$AA140:$AN140,0)","v":{"$error":"#N/A"}},{"$f":"MATCH(DC$3,Millwall!$AA140:$AN140,0)","v":{"$error":"#N/A"}},{"$f":"MATCH(DD$3,Millwall!$AA140:$AN140,0)","v":{"$error":"#N/A"}},{"$f":"MATCH(DE$3,Millwall!$AA140:$AN140,0)","v":{"$error":"#N/A"}},{"$f":"MATCH(DF$3,Millwall!$AA140:$AN140,0)","v":{"$error":"#N/A"}},{"$f":"MATCH(DG$3,Millwall!$AA140:$AN140,0)","v":{"$error":"#N/A"}},{"$f":"MATCH(DH$3,Millwall!$AA140:$AN140,0)","v":{"$error":"#N/A"}},{"$f":"MATCH(DI$3,Millwall!$AA140:$AN140,0)","v":{"$error":"#N/A"}},{"$f":"MATCH(DJ$3,Millwall!$AA140:$AN140,0)","v":{"$error":"#N/A"}},{"$f":"MATCH(DK$3,Millwall!$AA140:$AN140,0)","v":{"$error":"#N/A"}},{"$f":"MATCH(DL$3,Millwall!$AA140:$AN140,0)","v":{"$error":"#N/A"}},{"$f":"MATCH(DM$3,Millwall!$AA140:$AN140,0)","v":{"$error":"#N/A"}},{"$f":"MATCH(DN$3,Millwall!$AA140:$AN140,0)","v":{"$error":"#N/A"}},{"$f":"MATCH(DO$3,Millwall!$AA140:$AN140,0)","v":{"$error":"#N/A"}}]
[null,null,1,null,null,{"$f":"Millwall!AJ141","v":"00:00:00"},null,{"$f":"Millwall!AK141","v":"00:00:00"},{"$f":"Millwall!AL141","v":"00:00:00"},{"$f":"Millwall!AM141","v":0},{"$f":"MATCH(K$4,Millwall!$AA141:$AN141,0)","v":{"$error":"#N/A"}},{"$f":"MATCH(L$4,Millwall!$AA141:$AN141,0)","v":{"$error":"#N/A"}},{"$f":"MATCH(M$4,Millwall!$AA141:$AN141,0)","v":{"$error":"#N/A"}},{"$f":"MATCH(N$4,Millwall!$AA141:$AN141,0)","v":{"$error":"#N/A"}},{"$f":"MATCH(O$4,Millwall!$AA141:$AN141,0)","v":{"$error":"#N/A"}},{"$f":"MATCH(P$4,Millwall!$AA141:$AN141,0)","v":{"$error":"#N/A"}},{"$f":"MATCH(Q$4,Millwall!$AA141:$AN141,0)","v":{"$error":"#N/A"}},{"$f":"MATCH(R$4,Millwall!$AA141:$AN141,0)","v":{"$error":"#N/A"}},{"$f":"MATCH(S$4,Millwall!$AA141:$AN141,0)","v":{"$error":"#N/A"}},{"$f":"MATCH(T$4,Millwall!$AA141:$AN141,0)","v":{"$error":"#N/A"}},{"$f":"MATCH(U$4,Millwall!$AA141:$AN141,0)","v":{"$error":"#N/A"}},{"$f":"MATCH(V$4,Millwall!$AA141:$AN141,0)","v":{"$error":"#N/A"}},{"$f":"MATCH(W$4,Millwall!$AA141:$AN141,0)","v":{"$error":"#N/A"}},{"$f":"MATCH(X$4,Millwall!$AA141:$AN141,0)","v":{"$error":"#N/A"}},{"$f":"MATCH(Y$4,Millwall!$AA141:$AN141,0)","v":{"$error":"#N/A"}},{"$f":"MATCH(Z$4,Millwall!$AA141:$AN141,0)","v":{"$error":"#N/A"}},{"$f":"MATCH(AA$4,Millwall!$AA141:$AN141,0)","v":{"$error":"#N/A"}},{"$f":"MATCH(AB$4,Millwall!$AA141:$AN141,0)","v":{"$error":"#N/A"}},{"$f":"MATCH(AC$4,Millwall!$AA141:$AN141,0)","v":{"$error":"#N/A"}},{"$f":"MATCH(AD$4,Millwall!$AA141:$AN141,0)","v":{"$error":"#N/A"}},{"$f":"MATCH(AE$4,Millwall!$AA141:$AN141,0)","v":{"$error":"#N/A"}},{"$f":"MATCH(AF$4,Millwall!$AA141:$AN141,0)","v":{"$error":"#N/A"}},{"$f":"MATCH(AG$4,Millwall!$AA141:$AN141,0)","v":{"$error":"#N/A"}},{"$f":"MATCH(AH$4,Millwall!$AA141:$AN141,0)","v":{"$error":"#N/A"}},{"$f":"MATCH(AI$4,Millwall!$AA141:$AN141,0)","v":{"$error":"#N/A"}},{"$f":"MATCH(AJ$4,Millwall!$AA141:$AN141,0)","v":{"$error":"#N/A"}},{"$f":"MATCH(AK$4,Millwall!$AA141:$AN141,0)","v":{"$error":"#N/A"}},{"$f":"MATCH(AL$4,Millwall!$AA141:$AN141,0)","v":{"$error":"#N/A"}},{"$f":"MATCH(AM$4,Millwall!$AA141:$AN141,0)","v":{"$error":"#N/A"}},{"$f":"MATCH(AN$4,Millwall!$AA141:$AN141,0)","v":{"$error":"#N/A"}},{"$f":"MATCH(AO$4,Millwall!$AA141:$AN141,0)","v":{"$error":"#N/A"}},{"$f":"MATCH(AP$4,Millwall!$AA141:$AN141,0)","v":{"$error":"#N/A"}},{"$f":"MATCH(AQ$4,Millwall!$AA141:$AN141,0)","v":{"$error":"#N/A"}},{"$f":"MATCH(AR$4,Millwall!$AA141:$AN141,0)","v":{"$error":"#N/A"}},null,null,null,null,null,{"$f":"MATCH(AX$3,Millwall!$AA141:$AM141,0)","v":{"$error":"#N/A"}},{"$f":"MATCH(AY$3,Millwall!$AA141:$AM141,0)","v":{"$error":"#N/A"}},{"$f":"MATCH(AZ$3,Millwall!$AA141:$AM141,0)","v":{"$error":"#N/A"}},{"$f":"MATCH(BA$3,Millwall!$AA141:$AM141,0)","v":{"$error":"#N/A"}},{"$f":"MATCH(BB$3,Millwall!$AA141:$AM141,0)","v":{"$error":"#N/A"}},{"$f":"MATCH(BC$3,Millwall!$AA141:$AM141,0)","v":{"$error":"#N/A"}},{"$f":"MATCH(BD$3,Millwall!$AA141:$AM141,0)","v":{"$error":"#N/A"}},{"$f":"MATCH(BE$3,Millwall!$AA141:$AM141,0)","v":{"$error":"#N/A"}},{"$f":"MATCH(BF$3,Millwall!$AA141:$AM141,0)","v":{"$error":"#N/A"}},{"$f":"MATCH(BG$3,Millwall!$AA141:$AM141,0)","v":{"$error":"#N/A"}},{"$f":"MATCH(BH$3,Millwall!$AA141:$AM141,0)","v":{"$error":"#N/A"}},{"$f":"MATCH(BI$3,Millwall!$AA141:$AM141,0)","v":{"$error":"#N/A"}},{"$f":"MATCH(BJ$3,Millwall!$AA141:$AM141,0)","v":{"$error":"#N/A"}},{"$f":"MATCH(BK$3,Millwall!$AA141:$AM141,0)","v":{"$error":"#N/A"}},{"$f":"MATCH(BL$3,Millwall!$AA141:$AM141,0)","v":{"$error":"#N/A"}},{"$f":"MATCH(BM$3,Millwall!$AA141:$AM141,0)","v":{"$error":"#N/A"}},{"$f":"MATCH(BN$3,Millwall!$AA141:$AM141,0)","v":{"$error":"#N/A"}},{"$f":"MATCH(BO$3,Millwall!$AA141:$AM141,0)","v":{"$error":"#N/A"}},{"$f":"MATCH(BP$3,Millwall!$AA141:$AM141,0)","v":{"$error":"#N/A"}},{"$f":"MATCH(BQ$3,Millwall!$AA141:$AM141,0)","v":{"$error":"#N/A"}},{"$f":"MATCH(BR$3,Millwall!$AA141:$AM141,0)","v":{"$error":"#N/A"}},{"$f":"MATCH(BS$3,Millwall!$AA141:$AM141,0)","v":{"$error":"#N/A"}},{"$f":"MATCH(BT$3,Millwall!$AA141:$AM141,0)","v":{"$error":"#N/A"}},{"$f":"MATCH(BU$3,Millwall!$AA141:$AM141,0)","v":{"$error":"#N/A"}},{"$f":"MATCH(BV$3,Millwall!$AA141:$AM141,0)","v":{"$error":"#N/A"}},{"$f":"MATCH(BW$3,Millwall!$AA141:$AM141,0)","v":{"$error":"#N/A"}},{"$f":"MATCH(BX$3,Millwall!$AA141:$AM141,0)","v":{"$error":"#N/A"}},{"$f":"MATCH(BY$3,Millwall!$AA141:$AM141,0)","v":{"$error":"#N/A"}},{"$f":"MATCH(BZ$3,Millwall!$AA141:$AM141,0)","v":{"$error":"#N/A"}},{"$f":"MATCH(CA$3,Millwall!$AA141:$AM141,0)","v":{"$error":"#N/A"}},{"$f":"MATCH(CB$3,Millwall!$AA141:$AM141,0)","v":{"$error":"#N/A"}},{"$f":"MATCH(CC$3,Millwall!$AA141:$AM141,0)","v":{"$error":"#N/A"}},{"$f":"MATCH(CD$3,Millwall!$AA141:$AM141,0)","v":{"$error":"#N/A"}},{"$f":"MATCH(CE$3,Millwall!$AA141:$AM141,0)","v":{"$error":"#N/A"}},null,null,{"$f":"MATCH(CH$3,Millwall!$AA141:$AN141,0)","v":{"$error":"#N/A"}},{"$f":"MATCH(CI$3,Millwall!$AA141:$AN141,0)","v":{"$error":"#N/A"}},{"$f":"MATCH(CJ$3,Millwall!$AA141:$AN141,0)","v":{"$error":"#N/A"}},{"$f":"MATCH(CK$3,Millwall!$AA141:$AN141,0)","v":{"$error":"#N/A"}},{"$f":"MATCH(CL$3,Millwall!$AA141:$AN141,0)","v":{"$error":"#N/A"}},{"$f":"MATCH(CM$3,Millwall!$AA141:$AN141,0)","v":{"$error":"#N/A"}},{"$f":"MATCH(CN$3,Millwall!$AA141:$AN141,0)","v":{"$error":"#N/A"}},{"$f":"MATCH(CO$3,Millwall!$AA141:$AN141,0)","v":{"$error":"#N/A"}},{"$f":"MATCH(CP$3,Millwall!$AA141:$AN141,0)","v":{"$error":"#N/A"}},{"$f":"MATCH(CQ$3,Millwall!$AA141:$AN141,0)","v":{"$error":"#N/A"}},{"$f":"MATCH(CR$3,Millwall!$AA141:$AN141,0)","v":{"$error":"#N/A"}},{"$f":"MATCH(CS$3,Millwall!$AA141:$AN141,0)","v":{"$error":"#N/A"}},{"$f":"MATCH(CT$3,Millwall!$AA141:$AN141,0)","v":{"$error":"#N/A"}},{"$f":"MATCH(CU$3,Millwall!$AA141:$AN141,0)","v":{"$error":"#N/A"}},{"$f":"MATCH(CV$3,Millwall!$AA141:$AN141,0)","v":{"$error":"#N/A"}},{"$f":"MATCH(CW$3,Millwall!$AA141:$AN141,0)","v":{"$error":"#N/A"}},{"$f":"MATCH(CX$3,Millwall!$AA141:$AN141,0)","v":{"$error":"#N/A"}},{"$f":"MATCH(CY$3,Millwall!$AA141:$AN141,0)","v":{"$error":"#N/A"}},{"$f":"MATCH(CZ$3,Millwall!$AA141:$AN141,0)","v":{"$error":"#N/A"}},{"$f":"MATCH(DA$3,Millwall!$AA141:$AN141,0)","v":{"$error":"#N/A"}},{"$f":"MATCH(DB$3,Millwall!$AA141:$AN141,0)","v":{"$error":"#N/A"}},{"$f":"MATCH(DC$3,Millwall!$AA141:$AN141,0)","v":{"$error":"#N/A"}},{"$f":"MATCH(DD$3,Millwall!$AA141:$AN141,0)","v":{"$error":"#N/A"}},{"$f":"MATCH(DE$3,Millwall!$AA141:$AN141,0)","v":{"$error":"#N/A"}},{"$f":"MATCH(DF$3,Millwall!$AA141:$AN141,0)","v":{"$error":"#N/A"}},{"$f":"MATCH(DG$3,Millwall!$AA141:$AN141,0)","v":{"$error":"#N/A"}},{"$f":"MATCH(DH$3,Millwall!$AA141:$AN141,0)","v":{"$error":"#N/A"}},{"$f":"MATCH(DI$3,Millwall!$AA141:$AN141,0)","v":{"$error":"#N/A"}},{"$f":"MATCH(DJ$3,Millwall!$AA141:$AN141,0)","v":{"$error":"#N/A"}},{"$f":"MATCH(DK$3,Millwall!$AA141:$AN141,0)","v":{"$error":"#N/A"}},{"$f":"MATCH(DL$3,Millwall!$AA141:$AN141,0)","v":{"$error":"#N/A"}},{"$f":"MATCH(DM$3,Millwall!$AA141:$AN141,0)","v":{"$error":"#N/A"}},{"$f":"MATCH(DN$3,Millwall!$AA141:$AN141,0)","v":{"$error":"#N/A"}},{"$f":"MATCH(DO$3,Millwall!$AA141:$AN141,0)","v":{"$error":"#N/A"}}]
[null,null,1,null,null,{"$f":"Millwall!AJ142","v":"00:00:00"},null,{"$f":"Millwall!AK142","v":"00:00:00"},{"$f":"Millwall!AL142","v":"00:00:00"},{"$f":"Millwall!AM142","v":0},{"$f":"MATCH(K$4,Millwall!$AA142:$AN142,0)","v":{"$error":"#N/A"}},{"$f":"MATCH(L$4,Millwall!$AA142:$AN142,0)","v":{"$error":"#N/A"}},{"$f":"MATCH(M$4,Millwall!$AA142:$AN142,0)","v":{"$error":"#N/A"}},{"$f":"MATCH(N$4,Millwall!$AA142:$AN142,0)","v":{"$error":"#N/A"}},{"$f":"MATCH(O$4,Millwall!$AA142:$AN142,0)","v":{"$error":"#N/A"}},{"$f":"MATCH(P$4,Millwall!$AA142:$AN142,0)","v":{"$error":"#N/A"}},{"$f":"MATCH(Q$4,Millwall!$AA142:$AN142,0)","v":{"$error":"#N/A"}},{"$f":"MATCH(R$4,Millwall!$AA142:$AN142,0)","v":{"$error":"#N/A"}},{"$f":"MATCH(S$4,Millwall!$AA142:$AN142,0)","v":{"$error":"#N/A"}},{"$f":"MATCH(T$4,Millwall!$AA142:$AN142,0)","v":{"$error":"#N/A"}},{"$f":"MATCH(U$4,Millwall!$AA142:$AN142,0)","v":{"$error":"#N/A"}},{"$f":"MATCH(V$4,Millwall!$AA142:$AN142,0)","v":{"$error":"#N/A"}},{"$f":"MATCH(W$4,Millwall!$AA142:$AN142,0)","v":{"$error":"#N/A"}},{"$f":"MATCH(X$4,Millwall!$AA142:$AN142,0)","v":{"$error":"#N/A"}},{"$f":"MATCH(Y$4,Millwall!$AA142:$AN142,0)","v":{"$error":"#N/A"}},{"$f":"MATCH(Z$4,Millwall!$AA142:$AN142,0)","v":{"$error":"#N/A"}},{"$f":"MATCH(AA$4,Millwall!$AA142:$AN142,0)","v":{"$error":"#N/A"}},{"$f":"MATCH(AB$4,Millwall!$AA142:$AN142,0)","v":{"$error":"#N/A"}},{"$f":"MATCH(AC$4,Millwall!$AA142:$AN142,0)","v":{"$error":"#N/A"}},{"$f":"MATCH(AD$4,Millwall!$AA142:$AN142,0)","v":{"$error":"#N/A"}},{"$f":"MATCH(AE$4,Millwall!$AA142:$AN142,0)","v":{"$error":"#N/A"}},{"$f":"MATCH(AF$4,Millwall!$AA142:$AN142,0)","v":{"$error":"#N/A"}},{"$f":"MATCH(AG$4,Millwall!$AA142:$AN142,0)","v":{"$error":"#N/A"}},{"$f":"MATCH(AH$4,Millwall!$AA142:$AN142,0)","v":{"$error":"#N/A"}},{"$f":"MATCH(AI$4,Millwall!$AA142:$AN142,0)","v":{"$error":"#N/A"}},{"$f":"MATCH(AJ$4,Millwall!$AA142:$AN142,0)","v":{"$error":"#N/A"}},{"$f":"MATCH(AK$4,Millwall!$AA142:$AN142,0)","v":{"$error":"#N/A"}},{"$f":"MATCH(AL$4,Millwall!$AA142:$AN142,0)","v":{"$error":"#N/A"}},{"$f":"MATCH(AM$4,Millwall!$AA142:$AN142,0)","v":{"$error":"#N/A"}},{"$f":"MATCH(AN$4,Millwall!$AA142:$AN142,0)","v":{"$error":"#N/A"}},{"$f":"MATCH(AO$4,Millwall!$AA142:$AN142,0)","v":{"$error":"#N/A"}},{"$f":"MATCH(AP$4,Millwall!$AA142:$AN142,0)","v":{"$error":"#N/A"}},{"$f":"MATCH(AQ$4,Millwall!$AA142:$AN142,0)","v":{"$error":"#N/A"}},{"$f":"MATCH(AR$4,Millwall!$AA142:$AN142,0)","v":{"$error":"#N/A"}},null,null,null,null,null,{"$f":"MATCH(AX$3,Millwall!$AA142:$AM142,0)","v":{"$error":"#N/A"}},{"$f":"MATCH(AY$3,Millwall!$AA142:$AM142,0)","v":{"$error":"#N/A"}},{"$f":"MATCH(AZ$3,Millwall!$AA142:$AM142,0)","v":{"$error":"#N/A"}},{"$f":"MATCH(BA$3,Millwall!$AA142:$AM142,0)","v":{"$error":"#N/A"}},{"$f":"MATCH(BB$3,Millwall!$AA142:$AM142,0)","v":{"$error":"#N/A"}},{"$f":"MATCH(BC$3,Millwall!$AA142:$AM142,0)","v":{"$error":"#N/A"}},{"$f":"MATCH(BD$3,Millwall!$AA142:$AM142,0)","v":{"$error":"#N/A"}},{"$f":"MATCH(BE$3,Millwall!$AA142:$AM142,0)","v":{"$error":"#N/A"}},{"$f":"MATCH(BF$3,Millwall!$AA142:$AM142,0)","v":{"$error":"#N/A"}},{"$f":"MATCH(BG$3,Millwall!$AA142:$AM142,0)","v":{"$error":"#N/A"}},{"$f":"MATCH(BH$3,Millwall!$AA142:$AM142,0)","v":{"$error":"#N/A"}},{"$f":"MATCH(BI$3,Millwall!$AA142:$AM142,0)","v":{"$error":"#N/A"}},{"$f":"MATCH(BJ$3,Millwall!$AA142:$AM142,0)","v":{"$error":"#N/A"}},{"$f":"MATCH(BK$3,Millwall!$AA142:$AM142,0)","v":{"$error":"#N/A"}},{"$f":"MATCH(BL$3,Millwall!$AA142:$AM142,0)","v":{"$error":"#N/A"}},{"$f":"MATCH(BM$3,Millwall!$AA142:$AM142,0)","v":{"$error":"#N/A"}},{"$f":"MATCH(BN$3,Millwall!$AA142:$AM142,0)","v":{"$error":"#N/A"}},{"$f":"MATCH(BO$3,Millwall!$AA142:$AM142,0)","v":{"$error":"#N/A"}},{"$f":"MATCH(BP$3,Millwall!$AA142:$AM142,0)","v":{"$error":"#N/A"}},{"$f":"MATCH(BQ$3,Millwall!$AA142:$AM142,0)","v":{"$error":"#N/A"}},{"$f":"MATCH(BR$3,Millwall!$AA142:$AM142,0)","v":{"$error":"#N/A"}},{"$f":"MATCH(BS$3,Millwall!$AA142:$AM142,0)","v":{"$error":"#N/A"}},{"$f":"MATCH(BT$3,Millwall!$AA142:$AM142,0)","v":{"$error":"#N/A"}},{"$f":"MATCH(BU$3,Millwall!$AA142:$AM142,0)","v":{"$error":"#N/A"}},{"$f":"MATCH(BV$3,Millwall!$AA142:$AM142,0)","v":{"$error":"#N/A"}},{"$f":"MATCH(BW$3,Millwall!$AA142:$AM142,0)","v":{"$error":"#N/A"}},{"$f":"MATCH(BX$3,Millwall!$AA142:$AM142,0)","v":{"$error":"#N/A"}},{"$f":"MATCH(BY$3,Millwall!$AA142:$AM142,0)","v":{"$error":"#N/A"}},{"$f":"MATCH(BZ$3,Millwall!$AA142:$AM142,0)","v":{"$error":"#N/A"}},{"$f":"MATCH(CA$3,Millwall!$AA142:$AM142,0)","v":{"$error":"#N/A"}},{"$f":"MATCH(CB$3,Millwall!$AA142:$AM142,0)","v":{"$error":"#N/A"}},{"$f":"MATCH(CC$3,Millwall!$AA142:$AM142,0)","v":{"$error":"#N/A"}},{"$f":"MATCH(CD$3,Millwall!$AA142:$AM142,0)","v":{"$error":"#N/A"}},{"$f":"MATCH(CE$3,Millwall!$AA142:$AM142,0)","v":{"$error":"#N/A"}},null,null,{"$f":"MATCH(CH$3,Millwall!$AA142:$AN142,0)","v":{"$error":"#N/A"}},{"$f":"MATCH(CI$3,Millwall!$AA142:$AN142,0)","v":{"$error":"#N/A"}},{"$f":"MATCH(CJ$3,Millwall!$AA142:$AN142,0)","v":{"$error":"#N/A"}},{"$f":"MATCH(CK$3,Millwall!$AA142:$AN142,0)","v":{"$error":"#N/A"}},{"$f":"MATCH(CL$3,Millwall!$AA142:$AN142,0)","v":{"$error":"#N/A"}},{"$f":"MATCH(CM$3,Millwall!$AA142:$AN142,0)","v":{"$error":"#N/A"}},{"$f":"MATCH(CN$3,Millwall!$AA142:$AN142,0)","v":{"$error":"#N/A"}},{"$f":"MATCH(CO$3,Millwall!$AA142:$AN142,0)","v":{"$error":"#N/A"}},{"$f":"MATCH(CP$3,Millwall!$AA142:$AN142,0)","v":{"$error":"#N/A"}},{"$f":"MATCH(CQ$3,Millwall!$AA142:$AN142,0)","v":{"$error":"#N/A"}},{"$f":"MATCH(CR$3,Millwall!$AA142:$AN142,0)","v":{"$error":"#N/A"}},{"$f":"MATCH(CS$3,Millwall!$AA142:$AN142,0)","v":{"$error":"#N/A"}},{"$f":"MATCH(CT$3,Millwall!$AA142:$AN142,0)","v":{"$error":"#N/A"}},{"$f":"MATCH(CU$3,Millwall!$AA142:$AN142,0)","v":{"$error":"#N/A"}},{"$f":"MATCH(CV$3,Millwall!$AA142:$AN142,0)","v":{"$error":"#N/A"}},{"$f":"MATCH(CW$3,Millwall!$AA142:$AN142,0)","v":{"$error":"#N/A"}},{"$f":"MATCH(CX$3,Millwall!$AA142:$AN142,0)","v":{"$error":"#N/A"}},{"$f":"MATCH(CY$3,Millwall!$AA142:$AN142,0)","v":{"$error":"#N/A"}},{"$f":"MATCH(CZ$3,Millwall!$AA142:$AN142,0)","v":{"$error":"#N/A"}},{"$f":"MATCH(DA$3,Millwall!$AA142:$AN142,0)","v":{"$error":"#N/A"}},{"$f":"MATCH(DB$3,Millwall!$AA142:$AN142,0)","v":{"$error":"#N/A"}},{"$f":"MATCH(DC$3,Millwall!$AA142:$AN142,0)","v":{"$error":"#N/A"}},{"$f":"MATCH(DD$3,Millwall!$AA142:$AN142,0)","v":{"$error":"#N/A"}},{"$f":"MATCH(DE$3,Millwall!$AA142:$AN142,0)","v":{"$error":"#N/A"}},{"$f":"MATCH(DF$3,Millwall!$AA142:$AN142,0)","v":{"$error":"#N/A"}},{"$f":"MATCH(DG$3,Millwall!$AA142:$AN142,0)","v":{"$error":"#N/A"}},{"$f":"MATCH(DH$3,Millwall!$AA142:$AN142,0)","v":{"$error":"#N/A"}},{"$f":"MATCH(DI$3,Millwall!$AA142:$AN142,0)","v":{"$error":"#N/A"}},{"$f":"MATCH(DJ$3,Millwall!$AA142:$AN142,0)","v":{"$error":"#N/A"}},{"$f":"MATCH(DK$3,Millwall!$AA142:$AN142,0)","v":{"$error":"#N/A"}},{"$f":"MATCH(DL$3,Millwall!$AA142:$AN142,0)","v":{"$error":"#N/A"}},{"$f":"MATCH(DM$3,Millwall!$AA142:$AN142,0)","v":{"$error":"#N/A"}},{"$f":"MATCH(DN$3,Millwall!$AA142:$AN142,0)","v":{"$error":"#N/A"}},{"$f":"MATCH(DO$3,Millwall!$AA142:$AN142,0)","v":{"$error":"#N/A"}}]
[null,null,1,null,null,{"$f":"Millwall!AJ143","v":"00:00:00"},null,{"$f":"Millwall!AK143","v":"00:00:00"},{"$f":"Millwall!AL143","v":"00:00:00"},{"$f":"Millwall!AM143","v":0},{"$f":"MATCH(K$4,Millwall!$AA143:$AN143,0)","v":{"$error":"#N/A"}},{"$f":"MATCH(L$4,Millwall!$AA143:$AN143,0)","v":{"$error":"#N/A"}},{"$f":"MATCH(M$4,Millwall!$AA143:$AN143,0)","v":{"$error":"#N/A"}},{"$f":"MATCH(N$4,Millwall!$AA143:$AN143,0)","v":{"$error":"#N/A"}},{"$f":"MATCH(O$4,Millwall!$AA143:$AN143,0)","v":{"$error":"#N/A"}},{"$f":"MATCH(P$4,Millwall!$AA143:$AN143,0)","v":{"$error":"#N/A"}},{"$f":"MATCH(Q$4,Millwall!$AA143:$AN143,0)","v":{"$error":"#N/A"}},{"$f":"MATCH(R$4,Millwall!$AA143:$AN143,0)","v":{"$error":"#N/A"}},{"$f":"MATCH(S$4,Millwall!$AA143:$AN143,0)","v":{"$error":"#N/A"}},{"$f":"MATCH(T$4,Millwall!$AA143:$AN143,0)","v":{"$error":"#N/A"}},{"$f":"MATCH(U$4,Millwall!$AA143:$AN143,0)","v":{"$error":"#N/A"}},{"$f":"MATCH(V$4,Millwall!$AA143:$AN143,0)","v":{"$error":"#N/A"}},{"$f":"MATCH(W$4,Millwall!$AA143:$AN143,0)","v":{"$error":"#N/A"}},{"$f":"MATCH(X$4,Millwall!$AA143:$AN143,0)","v":{"$error":"#N/A"}},{"$f":"MATCH(Y$4,Millwall!$AA143:$AN143,0)","v":{"$error":"#N/A"}},{"$f":"MATCH(Z$4,Millwall!$AA143:$AN143,0)","v":{"$error":"#N/A"}},{"$f":"MATCH(AA$4,Millwall!$AA143:$AN143,0)","v":{"$error":"#N/A"}},{"$f":"MATCH(AB$4,Millwall!$AA143:$AN143,0)","v":{"$error":"#N/A"}},{"$f":"MATCH(AC$4,Millwall!$AA143:$AN143,0)","v":{"$error":"#N/A"}},{"$f":"MATCH(AD$4,Millwall!$AA143:$AN143,0)","v":{"$error":"#N/A"}},{"$f":"MATCH(AE$4,Millwall!$AA143:$AN143,0)","v":{"$error":"#N/A"}},{"$f":"MATCH(AF$4,Millwall!$AA143:$AN143,0)","v":{"$error":"#N/A"}},{"$f":"MATCH(AG$4,Millwall!$AA143:$AN143,0)","v":{"$error":"#N/A"}},{"$f":"MATCH(AH$4,Millwall!$AA143:$AN143,0)","v":{"$error":"#N/A"}},{"$f":"MATCH(AI$4,Millwall!$AA143:$AN143,0)","v":{"$error":"#N/A"}},{"$f":"MATCH(AJ$4,Millwall!$AA143:$AN143,0)","v":{"$error":"#N/A"}},{"$f":"MATCH(AK$4,Millwall!$AA143:$AN143,0)","v":{"$error":"#N/A"}},{"$f":"MATCH(AL$4,Millwall!$AA143:$AN143,0)","v":{"$error":"#N/A"}},{"$f":"MATCH(AM$4,Millwall!$AA143:$AN143,0)","v":{"$error":"#N/A"}},{"$f":"MATCH(AN$4,Millwall!$AA143:$AN143,0)","v":{"$error":"#N/A"}},{"$f":"MATCH(AO$4,Millwall!$AA143:$AN143,0)","v":{"$error":"#N/A"}},{"$f":"MATCH(AP$4,Millwall!$AA143:$AN143,0)","v":{"$error":"#N/A"}},{"$f":"MATCH(AQ$4,Millwall!$AA143:$AN143,0)","v":{"$error":"#N/A"}},{"$f":"MATCH(AR$4,Millwall!$AA143:$AN143,0)","v":{"$error":"#N/A"}},null,null,null,null,null,{"$f":"MATCH(AX$3,Millwall!$AA143:$AM143,0)","v":{"$error":"#N/A"}},{"$f":"MATCH(AY$3,Millwall!$AA143:$AM143,0)","v":{"$error":"#N/A"}},{"$f":"MATCH(AZ$3,Millwall!$AA143:$AM143,0)","v":{"$error":"#N/A"}},{"$f":"MATCH(BA$3,Millwall!$AA143:$AM143,0)","v":{"$error":"#N/A"}},{"$f":"MATCH(BB$3,Millwall!$AA143:$AM143,0)","v":{"$error":"#N/A"}},{"$f":"MATCH(BC$3,Millwall!$AA143:$AM143,0)","v":{"$error":"#N/A"}},{"$f":"MATCH(BD$3,Millwall!$AA143:$AM143,0)","v":{"$error":"#N/A"}},{"$f":"MATCH(BE$3,Millwall!$AA143:$AM143,0)","v":{"$error":"#N/A"}},{"$f":"MATCH(BF$3,Millwall!$AA143:$AM143,0)","v":{"$error":"#N/A"}},{"$f":"MATCH(BG$3,Millwall!$AA143:$AM143,0)","v":{"$error":"#N/A"}},{"$f":"MATCH(BH$3,Millwall!$AA143:$AM143,0)","v":{"$error":"#N/A"}},{"$f":"MATCH(BI$3,Millwall!$AA143:$AM143,0)","v":{"$error":"#N/A"}},{"$f":"MATCH(BJ$3,Millwall!$AA143:$AM143,0)","v":{"$error":"#N/A"}},{"$f":"MATCH(BK$3,Millwall!$AA143:$AM143,0)","v":{"$error":"#N/A"}},{"$f":"MATCH(BL$3,Millwall!$AA143:$AM143,0)","v":{"$error":"#N/A"}},{"$f":"MATCH(BM$3,Millwall!$AA143:$AM143,0)","v":{"$error":"#N/A"}},{"$f":"MATCH(BN$3,Millwall!$AA143:$AM143,0)","v":{"$error":"#N/A"}},{"$f":"MATCH(BO$3,Millwall!$AA143:$AM143,0)","v":{"$error":"#N/A"}},{"$f":"MATCH(BP$3,Millwall!$AA143:$AM143,0)","v":{"$error":"#N/A"}},{"$f":"MATCH(BQ$3,Millwall!$AA143:$AM143,0)","v":{"$error":"#N/A"}},{"$f":"MATCH(BR$3,Millwall!$AA143:$AM143,0)","v":{"$error":"#N/A"}},{"$f":"MATCH(BS$3,Millwall!$AA143:$AM143,0)","v":{"$error":"#N/A"}},{"$f":"MATCH(BT$3,Millwall!$AA143:$AM143,0)","v":{"$error":"#N/A"}},{"$f":"MATCH(BU$3,Millwall!$AA143:$AM143,0)","v":{"$error":"#N/A"}},{"$f":"MATCH(BV$3,Millwall!$AA143:$AM143,0)","v":{"$error":"#N/A"}},{"$f":"MATCH(BW$3,Millwall!$AA143:$AM143,0)","v":{"$error":"#N/A"}},{"$f":"MATCH(BX$3,Millwall!$AA143:$AM143,0)","v":{"$error":"#N/A"}},{"$f":"MATCH(BY$3,Millwall!$AA143:$AM143,0)","v":{"$error":"#N/A"}},{"$f":"MATCH(BZ$3,Millwall!$AA143:$AM143,0)","v":{"$error":"#N/A"}},{"$f":"MATCH(CA$3,Millwall!$AA143:$AM143,0)","v":{"$error":"#N/A"}},{"$f":"MATCH(CB$3,Millwall!$AA143:$AM143,0)","v":{"$error":"#N/A"}},{"$f":"MATCH(CC$3,Millwall!$AA143:$AM143,0)","v":{"$error":"#N/A"}},{"$f":"MATCH(CD$3,Millwall!$AA143:$AM143,0)","v":{"$error":"#N/A"}},{"$f":"MATCH(CE$3,Millwall!$AA143:$AM143,0)","v":{"$error":"#N/A"}},null,null,{"$f":"MATCH(CH$3,Millwall!$AA143:$AN143,0)","v":{"$error":"#N/A"}},{"$f":"MATCH(CI$3,Millwall!$AA143:$AN143,0)","v":{"$error":"#N/A"}},{"$f":"MATCH(CJ$3,Millwall!$AA143:$AN143,0)","v":{"$error":"#N/A"}},{"$f":"MATCH(CK$3,Millwall!$AA143:$AN143,0)","v":{"$error":"#N/A"}},{"$f":"MATCH(CL$3,Millwall!$AA143:$AN143,0)","v":{"$error":"#N/A"}},{"$f":"MATCH(CM$3,Millwall!$AA143:$AN143,0)","v":{"$error":"#N/A"}},{"$f":"MATCH(CN$3,Millwall!$AA143:$AN143,0)","v":{"$error":"#N/A"}},{"$f":"MATCH(CO$3,Millwall!$AA143:$AN143,0)","v":{"$error":"#N/A"}},{"$f":"MATCH(CP$3,Millwall!$AA143:$AN143,0)","v":{"$error":"#N/A"}},{"$f":"MATCH(CQ$3,Millwall!$AA143:$AN143,0)","v":{"$error":"#N/A"}},{"$f":"MATCH(CR$3,Millwall!$AA143:$AN143,0)","v":{"$error":"#N/A"}},{"$f":"MATCH(CS$3,Millwall!$AA143:$AN143,0)","v":{"$error":"#N/A"}},{"$f":"MATCH(CT$3,Millwall!$AA143:$AN143,0)","v":{"$error":"#N/A"}},{"$f":"MATCH(CU$3,Millwall!$AA143:$AN143,0)","v":{"$error":"#N/A"}},{"$f":"MATCH(CV$3,Millwall!$AA143:$AN143,0)","v":{"$error":"#N/A"}},{"$f":"MATCH(CW$3,Millwall!$AA143:$AN143,0)","v":{"$error":"#N/A"}},{"$f":"MATCH(CX$3,Millwall!$AA143:$AN143,0)","v":{"$error":"#N/A"}},{"$f":"MATCH(CY$3,Millwall!$AA143:$AN143,0)","v":{"$error":"#N/A"}},{"$f":"MATCH(CZ$3,Millwall!$AA143:$AN143,0)","v":{"$error":"#N/A"}},{"$f":"MATCH(DA$3,Millwall!$AA143:$AN143,0)","v":{"$error":"#N/A"}},{"$f":"MATCH(DB$3,Millwall!$AA143:$AN143,0)","v":{"$error":"#N/A"}},{"$f":"MATCH(DC$3,Millwall!$AA143:$AN143,0)","v":{"$error":"#N/A"}},{"$f":"MATCH(DD$3,Millwall!$AA143:$AN143,0)","v":{"$error":"#N/A"}},{"$f":"MATCH(DE$3,Millwall!$AA143:$AN143,0)","v":{"$error":"#N/A"}},{"$f":"MATCH(DF$3,Millwall!$AA143:$AN143,0)","v":{"$error":"#N/A"}},{"$f":"MATCH(DG$3,Millwall!$AA143:$AN143,0)","v":{"$error":"#N/A"}},{"$f":"MATCH(DH$3,Millwall!$AA143:$AN143,0)","v":{"$error":"#N/A"}},{"$f":"MATCH(DI$3,Millwall!$AA143:$AN143,0)","v":{"$error":"#N/A"}},{"$f":"MATCH(DJ$3,Millwall!$AA143:$AN143,0)","v":{"$error":"#N/A"}},{"$f":"MATCH(DK$3,Millwall!$AA143:$AN143,0)","v":{"$error":"#N/A"}},{"$f":"MATCH(DL$3,Millwall!$AA143:$AN143,0)","v":{"$error":"#N/A"}},{"$f":"MATCH(DM$3,Millwall!$AA143:$AN143,0)","v":{"$error":"#N/A"}},{"$f":"MATCH(DN$3,Millwall!$AA143:$AN143,0)","v":{"$error":"#N/A"}},{"$f":"MATCH(DO$3,Millwall!$AA143:$AN143,0)","v":{"$error":"#N/A"}}]
[null,null,1,null,null,{"$f":"Millwall!AJ144","v":"00:00:00"},null,{"$f":"Millwall!AK144","v":"00:00:00"},{"$f":"Millwall!AL144","v":"00:00:00"},{"$f":"Millwall!AM144","v":0},{"$f":"MATCH(K$4,Millwall!$AA144:$AN144,0)","v":{"$error":"#N/A"}},{"$f":"MATCH(L$4,Millwall!$AA144:$AN144,0)","v":{"$error":"#N/A"}},{"$f":"MATCH(M$4,Millwall!$AA144:$AN144,0)","v":{"$error":"#N/A"}},{"$f":"MATCH(N$4,Millwall!$AA144:$AN144,0)","v":{"$error":"#N/A"}},{"$f":"MATCH(O$4,Millwall!$AA144:$AN144,0)","v":{"$error":"#N/A"}},{"$f":"MATCH(P$4,Millwall!$AA144:$AN144,0)","v":{"$error":"#N/A"}},{"$f":"MATCH(Q$4,Millwall!$AA144:$AN144,0)","v":{"$error":"#N/A"}},{"$f":"MATCH(R$4,Millwall!$AA144:$AN144,0)","v":{"$error":"#N/A"}},{"$f":"MATCH(S$4,Millwall!$AA144:$AN144,0)","v":{"$error":"#N/A"}},{"$f":"MATCH(T$4,Millwall!$AA144:$AN144,0)","v":{"$error":"#N/A"}},{"$f":"MATCH(U$4,Millwall!$AA144:$AN144,0)","v":{"$error":"#N/A"}},{"$f":"MATCH(V$4,Millwall!$AA144:$AN144,0)","v":{"$error":"#N/A"}},{"$f":"MATCH(W$4,Millwall!$AA144:$AN144,0)","v":{"$error":"#N/A"}},{"$f":"MATCH(X$4,Millwall!$AA144:$AN144,0)","v":{"$error":"#N/A"}},{"$f":"MATCH(Y$4,Millwall!$AA144:$AN144,0)","v":{"$error":"#N/A"}},{"$f":"MATCH(Z$4,Millwall!$AA144:$AN144,0)","v":{"$error":"#N/A"}},{"$f":"MATCH(AA$4,Millwall!$AA144:$AN144,0)","v":{"$error":"#N/A"}},{"$f":"MATCH(AB$4,Millwall!$AA144:$AN144,0)","v":{"$error":"#N/A"}},{"$f":"MATCH(AC$4,Millwall!$AA144:$AN144,0)","v":{"$error":"#N/A"}},{"$f":"MATCH(AD$4,Millwall!$AA144:$AN144,0)","v":{"$error":"#N/A"}},{"$f":"MATCH(AE$4,Millwall!$AA144:$AN144,0)","v":{"$error":"#N/A"}},{"$f":"MATCH(AF$4,Millwall!$AA144:$AN144,0)","v":{"$error":"#N/A"}},{"$f":"MATCH(AG$4,Millwall!$AA144:$AN144,0)","v":{"$error":"#N/A"}},{"$f":"MATCH(AH$4,Millwall!$AA144:$AN144,0)","v":{"$error":"#N/A"}},{"$f":"MATCH(AI$4,Millwall!$AA144:$AN144,0)","v":{"$error":"#N/A"}},{"$f":"MATCH(AJ$4,Millwall!$AA144:$AN144,0)","v":{"$error":"#N/A"}},{"$f":"MATCH(AK$4,Millwall!$AA144:$AN144,0)","v":{"$error":"#N/A"}},{"$f":"MATCH(AL$4,Millwall!$AA144:$AN144,0)","v":{"$error":"#N/A"}},{"$f":"MATCH(AM$4,Millwall!$AA144:$AN144,0)","v":{"$error":"#N/A"}},{"$f":"MATCH(AN$4,Millwall!$AA144:$AN144,0)","v":{"$error":"#N/A"}},{"$f":"MATCH(AO$4,Millwall!$AA144:$AN144,0)","v":{"$error":"#N/A"}},{"$f":"MATCH(AP$4,Millwall!$AA144:$AN144,0)","v":{"$error":"#N/A"}},{"$f":"MATCH(AQ$4,Millwall!$AA144:$AN144,0)","v":{"$error":"#N/A"}},{"$f":"MATCH(AR$4,Millwall!$AA144:$AN144,0)","v":{"$error":"#N/A"}},null,null,null,null,null,{"$f":"MATCH(AX$3,Millwall!$AA144:$AM144,0)","v":{"$error":"#N/A"}},{"$f":"MATCH(AY$3,Millwall!$AA144:$AM144,0)","v":{"$error":"#N/A"}},{"$f":"MATCH(AZ$3,Millwall!$AA144:$AM144,0)","v":{"$error":"#N/A"}},{"$f":"MATCH(BA$3,Millwall!$AA144:$AM144,0)","v":{"$error":"#N/A"}},{"$f":"MATCH(BB$3,Millwall!$AA144:$AM144,0)","v":{"$error":"#N/A"}},{"$f":"MATCH(BC$3,Millwall!$AA144:$AM144,0)","v":{"$error":"#N/A"}},{"$f":"MATCH(BD$3,Millwall!$AA144:$AM144,0)","v":{"$error":"#N/A"}},{"$f":"MATCH(BE$3,Millwall!$AA144:$AM144,0)","v":{"$error":"#N/A"}},{"$f":"MATCH(BF$3,Millwall!$AA144:$AM144,0)","v":{"$error":"#N/A"}},{"$f":"MATCH(BG$3,Millwall!$AA144:$AM144,0)","v":{"$error":"#N/A"}},{"$f":"MATCH(BH$3,Millwall!$AA144:$AM144,0)","v":{"$error":"#N/A"}},{"$f":"MATCH(BI$3,Millwall!$AA144:$AM144,0)","v":{"$error":"#N/A"}},{"$f":"MATCH(BJ$3,Millwall!$AA144:$AM144,0)","v":{"$error":"#N/A"}},{"$f":"MATCH(BK$3,Millwall!$AA144:$AM144,0)","v":{"$error":"#N/A"}},{"$f":"MATCH(BL$3,Millwall!$AA144:$AM144,0)","v":{"$error":"#N/A"}},{"$f":"MATCH(BM$3,Millwall!$AA144:$AM144,0)","v":{"$error":"#N/A"}},{"$f":"MATCH(BN$3,Millwall!$AA144:$AM144,0)","v":{"$error":"#N/A"}},{"$f":"MATCH(BO$3,Millwall!$AA144:$AM144,0)","v":{"$error":"#N/A"}},{"$f":"MATCH(BP$3,Millwall!$AA144:$AM144,0)","v":{"$error":"#N/A"}},{"$f":"MATCH(BQ$3,Millwall!$AA144:$AM144,0)","v":{"$error":"#N/A"}},{"$f":"MATCH(BR$3,Millwall!$AA144:$AM144,0)","v":{"$error":"#N/A"}},{"$f":"MATCH(BS$3,Millwall!$AA144:$AM144,0)","v":{"$error":"#N/A"}},{"$f":"MATCH(BT$3,Millwall!$AA144:$AM144,0)","v":{"$error":"#N/A"}},{"$f":"MATCH(BU$3,Millwall!$AA144:$AM144,0)","v":{"$error":"#N/A"}},{"$f":"MATCH(BV$3,Millwall!$AA144:$AM144,0)","v":{"$error":"#N/A"}},{"$f":"MATCH(BW$3,Millwall!$AA144:$AM144,0)","v":{"$error":"#N/A"}},{"$f":"MATCH(BX$3,Millwall!$AA144:$AM144,0)","v":{"$error":"#N/A"}},{"$f":"MATCH(BY$3,Millwall!$AA144:$AM144,0)","v":{"$error":"#N/A"}},{"$f":"MATCH(BZ$3,Millwall!$AA144:$AM144,0)","v":{"$error":"#N/A"}},{"$f":"MATCH(CA$3,Millwall!$AA144:$AM144,0)","v":{"$error":"#N/A"}},{"$f":"MATCH(CB$3,Millwall!$AA144:$AM144,0)","v":{"$error":"#N/A"}},{"$f":"MATCH(CC$3,Millwall!$AA144:$AM144,0)","v":{"$error":"#N/A"}},{"$f":"MATCH(CD$3,Millwall!$AA144:$AM144,0)","v":{"$error":"#N/A"}},{"$f":"MATCH(CE$3,Millwall!$AA144:$AM144,0)","v":{"$error":"#N/A"}},null,null,{"$f":"MATCH(CH$3,Millwall!$AA144:$AN144,0)","v":{"$error":"#N/A"}},{"$f":"MATCH(CI$3,Millwall!$AA144:$AN144,0)","v":{"$error":"#N/A"}},{"$f":"MATCH(CJ$3,Millwall!$AA144:$AN144,0)","v":{"$error":"#N/A"}},{"$f":"MATCH(CK$3,Millwall!$AA144:$AN144,0)","v":{"$error":"#N/A"}},{"$f":"MATCH(CL$3,Millwall!$AA144:$AN144,0)","v":{"$error":"#N/A"}},{"$f":"MATCH(CM$3,Millwall!$AA144:$AN144,0)","v":{"$error":"#N/A"}},{"$f":"MATCH(CN$3,Millwall!$AA144:$AN144,0)","v":{"$error":"#N/A"}},{"$f":"MATCH(CO$3,Millwall!$AA144:$AN144,0)","v":{"$error":"#N/A"}},{"$f":"MATCH(CP$3,Millwall!$AA144:$AN144,0)","v":{"$error":"#N/A"}},{"$f":"MATCH(CQ$3,Millwall!$AA144:$AN144,0)","v":{"$error":"#N/A"}},{"$f":"MATCH(CR$3,Millwall!$AA144:$AN144,0)","v":{"$error":"#N/A"}},{"$f":"MATCH(CS$3,Millwall!$AA144:$AN144,0)","v":{"$error":"#N/A"}},{"$f":"MATCH(CT$3,Millwall!$AA144:$AN144,0)","v":{"$error":"#N/A"}},{"$f":"MATCH(CU$3,Millwall!$AA144:$AN144,0)","v":{"$error":"#N/A"}},{"$f":"MATCH(CV$3,Millwall!$AA144:$AN144,0)","v":{"$error":"#N/A"}},{"$f":"MATCH(CW$3,Millwall!$AA144:$AN144,0)","v":{"$error":"#N/A"}},{"$f":"MATCH(CX$3,Millwall!$AA144:$AN144,0)","v":{"$error":"#N/A"}},{"$f":"MATCH(CY$3,Millwall!$AA144:$AN144,0)","v":{"$error":"#N/A"}},{"$f":"MATCH(CZ$3,Millwall!$AA144:$AN144,0)","v":{"$error":"#N/A"}},{"$f":"MATCH(DA$3,Millwall!$AA144:$AN144,0)","v":{"$error":"#N/A"}},{"$f":"MATCH(DB$3,Millwall!$AA144:$AN144,0)","v":{"$error":"#N/A"}},{"$f":"MATCH(DC$3,Millwall!$AA144:$AN144,0)","v":{"$error":"#N/A"}},{"$f":"MATCH(DD$3,Millwall!$AA144:$AN144,0)","v":{"$error":"#N/A"}},{"$f":"MATCH(DE$3,Millwall!$AA144:$AN144,0)","v":{"$error":"#N/A"}},{"$f":"MATCH(DF$3,Millwall!$AA144:$AN144,0)","v":{"$error":"#N/A"}},{"$f":"MATCH(DG$3,Millwall!$AA144:$AN144,0)","v":{"$error":"#N/A"}},{"$f":"MATCH(DH$3,Millwall!$AA144:$AN144,0)","v":{"$error":"#N/A"}},{"$f":"MATCH(DI$3,Millwall!$AA144:$AN144,0)","v":{"$error":"#N/A"}},{"$f":"MATCH(DJ$3,Millwall!$AA144:$AN144,0)","v":{"$error":"#N/A"}},{"$f":"MATCH(DK$3,Millwall!$AA144:$AN144,0)","v":{"$error":"#N/A"}},{"$f":"MATCH(DL$3,Millwall!$AA144:$AN144,0)","v":{"$error":"#N/A"}},{"$f":"MATCH(DM$3,Millwall!$AA144:$AN144,0)","v":{"$error":"#N/A"}},{"$f":"MATCH(DN$3,Millwall!$AA144:$AN144,0)","v":{"$error":"#N/A"}},{"$f":"MATCH(DO$3,Millwall!$AA144:$AN144,0)","v":{"$error":"#N/A"}}]
[]
[null,null,null,null,null,null,null,null,null,"Total League Cup Apperances",{"$f":"COUNT($K$72:$K$80)-$K$84-$K$83","v":0},{"$f":"COUNT($L$72:$L$80)-$L$84-$L$83","v":1},{"$f":"COUNT($M$72:$M$80)-$M$84-$M$83","v":3},{"$f":"COUNT($N$72:$N$80)-$N$84-$N$83","v":3},{"$f":"COUNT($O$72:$O$80)-$O$84-$O$83","v":0},{"$f":"COUNT($P$72:$P$80)-$P$84-$P$83","v":0},{"$f":"COUNT($Q$72:$Q$80)-$Q$84-$Q$83","v":2},{"$f":"COUNT($R$72:$R$80)-$R$84-$R$83","v":0},{"$f":"COUNT($S$72:$S$80)-$S$84-$S$83","v":0},{"$f":"COUNT($T$72:$T$80)-$T$84-$T$83","v":0},{"$f":"COUNT($U$72:$U$80)-$U$84-$U$83","v":2},{"$f":"COUNT($V$72:$V$80)-$V$84-$V$83","v":0},{"$f":"COUNT($W$72:$W$80)-$W$84-$W$83","v":0},{"$f":"COUNT($X$72:$X$80)-$X$84-$X$83","v":0},{"$f":"COUNT($Y$72:$Y$80)-$Y$84-$Y$83","v":0},{"$f":"COUNT($Z$72:$Z$80)-$Z$84-$Z$83","v":3},{"$f":"COUNT($AA$72:$AA$80)-$AA$84-$AA$83","v":3},{"$f":"COUNT($AB$72:$AB$80)-$AB$84-$AB$83","v":2},{"$f":"COUNT($AC$72:$AC$80)-$AC$84-$AC$83","v":1},{"$f":"COUNT($AD$72:$AD$80)-$AD$84-$AD$83","v":0},{"$f":"COUNT($AE$72:$AE$80)-$AE$84-$AE$83","v":3},{"$f":"COUNT($AF$72:$AF$80)-$AF$84-$AF$83","v":1},{"$f":"COUNT($AG$72:$AG$80)-$AG$84-$AG$83","v":3},{"$f":"COUNT($AH$72:$AH$80)-$AH$84-$AH$83","v":0},{"$f":"COUNT($AI$72:$AI$80)-$AI$84-$AI$83","v":3},{"$f":"COUNT($AJ$72:$AJ$80)-$AJ$84-$AJ$83","v":3},{"$f":"COUNT($AK$72:$AK$80)-$AK$84-$AK$83","v":0},{"$f":"COUNT($AL$72:$AL$80)-$AL$84-$AL$83","v":0},{"$f":"COUNT($AM$72:$AM$80)-$AM$84-$AM$83","v":0},{"$f":"COUNT($AN$72:$AN$80)-$AN$84-$AN$83","v":0},{"$f":"COUNT($AO$72:$AO$80)-$AO$84-$AO$83","v":0},{"$f":"COUNT($AP$72:$AP$80)-$AP$84-$AP$83","v":0},{"$f":"COUNT($AQ$72:$AQ$80)-$AQ$84-$AQ$83","v":0},{"$f":"COUNT($AR$72:$AR$80)-$AR$84-$AR$83","v":0}]
[null,null,null,null,null,null,null,null,null,"Total League Cup Substitute Appearences ",{"$f":"$AX$83+$CH$83","v":0},{"$f":"$AY$83+$CI$83","v":0},{"$f":"$AZ$83+$CJ$83","v":0},{"$f":"$BA$83+$CK$83","v":0},{"$f":"$BB$83+$CL$83","v":0},{"$f":"$BC$83+$CM$83","v":0},{"$f":"$BD$83+$CN$83","v":0},{"$f":"$BE$83+$CO$83","v":0},{"$f":"$BF$83+$CP$83","v":0},{"$f":"$BG$83+$CQ$83","v":0},{"$f":"$BH$83+$CR$83","v":0},{"$f":"$BI$83+$CS$83","v":0},{"$f":"$BJ$83+$CT$83","v":2},{"$f":"$BK$83+$CU$83","v":0},{"$f":"$BL$83+$CV$83","v":0},{"$f":"$BM$83+$CW$83","v":0},{"$f":"$BN$83+$CX$83","v":0},{"$f":"$BO$83+$CY$83","v":0},{"$f":"$BP$83+$CZ$83","v":1},{"$f":"$BQ$83+$DA$83","v":0},{"$f":"$BR$83+$DB$83","v":0},{"$f":"$BS$83+$DC$83","v":0},{"$f":"$BT$83+$DD$83","v":0},{"$f":"$BU$83+$DE$83","v":0},{"$f":"$BV$83+$DF$83","v":0},{"$f":"$BW$83+$DG$83","v":0},{"$f":"$BX$83+$DH$83","v":0},{"$f":"$BY$83+$DI$83","v":0},{"$f":"$BZ$83+$DJ$83","v":0},{"$f":"$CA$83+$DK$83","v":0},{"$f":"$CB$83+$DL$83","v":0},{"$f":"$CC$83+$DM$83","v":0},{"$f":"$CD$83+$DN$83","v":0},{"$f":"$CE$83+$DO$83","v":0},null,null,null,null,null,{"$f":"COUNTIF(AX72:AX80,12)","v":0},{"$f":"COUNTIF(AY72:AY80,12)","v":0},0,0,0,0,0,0,0,0,0,0,2,0,0,0,0,0,0,0,0,0,0,0,0,0,0,0,0,0,0,0,0,0,null,null,{"$f":"COUNTIF(CH72:CH80,14)","v":0},{"$f":"COUNTIF(CI72:CI80,14)","v":0},0,0,0,0,0,0,0,0,0,0,0,0,0,0,0,0,1,0,0,0,0,0,0,0,0,0,0,0,0,0,0,0]
[null,null,null,null,null,null,null,null,null,"Non Playing Substitute",{"$f":"COUNTIF($K$72:$K$80,\">=12\")-$K$83","v":0},{"$f":"COUNTIF($L$72:$L$80,\">=12\")-$L$83","v":0},{"$f":"COUNTIF($M$72:$M$80,\">=12\")-$M$83","v":0},{"$f":"COUNTIF($N$72:$N$80,\">=12\")-$N$83","v":0},{"$f":"COUNTIF($O$72:$O$80,\">=12\")-$O$83","v":0},{"$f":"COUNTIF($P$72:$P$80,\">=12\")-$P$83","v":0},{"$f":"COUNTIF($Q$72:$Q$80,\">=12\")-$Q$83","v":1},{"$f":"COUNTIF($R$72:$R$80,\">=12\")-$R$83","v":1},{"$f":"COUNTIF($S$72:$S$80,\">=12\")-$S$83","v":1},{"$f":"COUNTIF($T$72:$T$80,\">=12\")-$T$83","v":0},{"$f":"COUNTIF($U$72:$U$80,\">=12\")-$U$83","v":0},{"$f":"COUNTIF($V$72:$V$80,\">=12\")-$V$83","v":0},{"$f":"COUNTIF($W$72:$W$80,\">=12\")-$W$83","v":0},{"$f":"COUNTIF($X$72:$X$80,\">=12\")-$X$83","v":0},{"$f":"COUNTIF($Y$72:$Y$80,\">=12\")-$Y$83","v":0},{"$f":"COUNTIF($Z$72:$Z$80,\">=12\")-$Z$83","v":0},{"$f":"COUNTIF($AA$72:$AA$80,\">=12\")-$AA$83","v":0},{"$f":"COUNTIF($AB$72:$AB$80,\">=12\")-$AB$83","v":0},{"$f":"COUNTIF($AC$72:$AC$80,\">=12\")-$AC$83","v":0},{"$f":"COUNTIF($AD$72:$AD$80,\">=12\")-$AD$83","v":0},{"$f":"COUNTIF($AE$72:$AE$80,\">=12\")-$AE$83","v":0},{"$f":"COUNTIF($AF$72:$AF$80,\">=12\")-$AF$83","v":0},{"$f":"COUNTIF($AG$72:$AG$80,\">=12\")-$AG$83","v":0},{"$f":"COUNTIF($AH$72:$AH$80,\">=12\")-$AH$83","v":0},{"$f":"COUNTIF($AI$72:$AI$80,\">=12\")-$AI$83","v":0},{"$f":"COUNTIF($AJ$72:$AJ$80,\">=12\")-$AJ$83","v":0},{"$f":"COUNTIF($AK$72:$AK$80,\">=12\")-$AK$83","v":0},{"$f":"COUNTIF($AL$72:$AL$80,\">=12\")-$AL$83","v":0},{"$f":"COUNTIF($AM$72:$AM$80,\">=12\")-$AM$83","v":0},{"$f":"COUNTIF($AN$72:$AN$80,\">=12\")-$AN$83","v":0},{"$f":"COUNTIF($AO$72:$AO$80,\">=12\")-$AO$83","v":0},{"$f":"COUNTIF($AP$72:$AP$80,\">=12\")-$AP$83","v":0},{"$f":"COUNTIF($AQ$72:$AQ$80,\">=12\")-$AQ$83","v":0},{"$f":"COUNTIF($AR$72:$AR$80,\">=12\")-$AR$83","v":0}]
[null,null,null,null,null,null,null,null,null,"Goals",{"$f":"Millwall!$CJ$9","v":0},{"$f":"Millwall!$CJ$10","v":0},{"$f":"Millwall!$CJ$11","v":0},{"$f":"Millwall!$CJ$12","v":1},{"$f":"Millwall!$CJ$13","v":0},{"$f":"Millwall!$CJ$14","v":0},{"$f":"Millwall!$CJ$15","v":0},{"$f":"Millwall!$CJ$16","v":0},{"$f":"Millwall!$CJ$17","v":0},{"$f":"Millwall!$CJ$18","v":0},{"$f":"Millwall!$CJ$19","v":0},{"$f":"Millwall!$CJ$20","v":0},{"$f":"Millwall!$CJ$21","v":0},{"$f":"Millwall!$CJ$22","v":0},{"$f":"Millwall!$CJ$23","v":0},{"$f":"Millwall!$CJ$24","v":0},{"$f":"Millwall!$CJ$25","v":0},{"$f":"Millwall!$CJ$26","v":0},{"$f":"Millwall!$CJ$27","v":0},{"$f":"Millwall!$CJ$28","v":0},{"$f":"Millwall!$CJ$29","v":0},{"$f":"Millwall!$CJ$30","v":0},{"$f":"Millwall!$CJ$31","v":2},{"$f":"Millwall!$CJ$32","v":0},{"$f":"Millwall!$CJ$33","v":0},{"$f":"Millwall!$CJ$34","v":2},{"$f":"Millwall!$CJ$35","v":0},{"$f":"Millwall!$CJ$36","v":0},{"$f":"Millwall!$CJ$37","v":0},{"$f":"Millwall!$CJ$38","v":5},{"$f":"Millwall!$CJ$39","v":0},{"$f":"Millwall!$CJ$40","v":0},{"$f":"Millwall!$CJ$41","v":0},{"$f":"Millwall!$CJ$42","v":0}]
[]
[null,null,null,null,null,null,null,"Full Members Cup"]
[null,null,{"$f":"IF(J88=0,1,0)","v":0},"G",null,{"$f":"Millwall!W146","v":"1986-10-21"},null,{"$f":"Millwall!X146","v":"West Brom"},{"$f":"Millwall!Y146","v":"(H)"},{"$f":"Millwall!Z146","v":"W 2-0"},{"$f":"MATCH(K$4,Millwall!$AA146:$AN146,0)","v":{"$error":"#N/A"}},{"$f":"MATCH(L$4,Millwall!$AA146:$AN146,0)","v":{"$error":"#N/A"}},{"$f":"MATCH(M$4,Millwall!$AA146:$AN146,0)","v":{"$error":"#N/A"}},{"$f":"MATCH(N$4,Millwall!$AA146:$AN146,0)","v":7},{"$f":"MATCH(O$4,Millwall!$AA146:$AN146,0)","v":{"$error":"#N/A"}},{"$f":"MATCH(P$4,Millwall!$AA146:$AN146,0)","v":{"$error":"#N/A"}},{"$f":"MATCH(Q$4,Millwall!$AA146:$AN146,0)","v":3},{"$f":"MATCH(R$4,Millwall!$AA146:$AN146,0)","v":4},{"$f":"MATCH(S$4,Millwall!$AA146:$AN146,0)","v":{"$error":"#N/A"}},{"$f":"MATCH(T$4,Millwall!$AA146:$AN146,0)","v":{"$error":"#N/A"}},{"$f":"MATCH(U$4,Millwall!$AA146:$AN146,0)","v":{"$error":"#N/A"}},{"$f":"MATCH(V$4,Millwall!$AA146:$AN146,0)","v":{"$error":"#N/A"}},{"$f":"MATCH(W$4,Millwall!$AA146:$AN146,0)","v":11},{"$f":"MATCH(X$4,Millwall!$AA146:$AN146,0)","v":{"$error":"#N/A"}},{"$f":"MATCH(Y$4,Millwall!$AA146:$AN146,0)","v":14},{"$f":"MATCH(Z$4,Millwall!$AA146:$AN146,0)","v":10},{"$f":"MATCH(AA$4,Millwall!$AA146:$AN146,0)","v":6},{"$f":"MATCH(AB$4,Millwall!$AA146:$AN146,0)","v":{"$error":"#N/A"}},{"$f":"MATCH(AC$4,Millwall!$AA146:$AN146,0)","v":8},{"$f":"MATCH(AD$4,Millwall!$AA146:$AN146,0)","v":{"$error":"#N/A"}},{"$f":"MATCH(AE$4,Millwall!$AA146:$AN146,0)","v":{"$error":"#N/A"}},{"$f":"MATCH(AF$4,Millwall!$AA146:$AN146,0)","v":1},{"$f":"MATCH(AG$4,Millwall!$AA146:$AN146,0)","v":9},{"$f":"MATCH(AH$4,Millwall!$AA146:$AN146,0)","v":12},{"$f":"MATCH(AI$4,Millwall!$AA146:$AN146,0)","v":2},{"$f":"MATCH(AJ$4,Millwall!$AA146:$AN146,0)","v":5},{"$f":"MATCH(AK$4,Millwall!$AA146:$AN146,0)","v":{"$error":"#N/A"}},{"$f":"MATCH(AL$4,Millwall!$AA146:$AN146,0)","v":{"$error":"#N/A"}},{"$f":"MATCH(AM$4,Millwall!$AA146:$AN146,0)","v":{"$error":"#N/A"}},{"$f":"MATCH(AN$4,Millwall!$AA146:$AN146,0)","v":{"$error":"#N/A"}},{"$f":"MATCH(AO$4,Millwall!$AA146:$AN146,0)","v":{"$error":"#N/A"}},{"$f":"MATCH(AP$4,Millwall!$AA146:$AN146,0)","v":{"$error":"#N/A"}},{"$f":"MATCH(AQ$4,Millwall!$AA146:$AN146,0)","v":{"$error":"#N/A"}},{"$f":"MATCH(AR$4,Millwall!$AA146:$AN146,0)","v":{"$error":"#N/A"}},null,null,null,null,null,{"$f":"MATCH(AX$3,Millwall!$AA146:$AM146,0)","v":{"$error":"#N/A"}},{"$f":"MATCH(AY$3,Millwall!$AA146:$AM146,0)","v":{"$error":"#N/A"}},{"$f":"MATCH(AZ$3,Millwall!$AA146:$AM146,0)","v":{"$error":"#N/A"}},{"$f":"MATCH(BA$3,Millwall!$AA146:$AM146,0)","v":{"$error":"#N/A"}},{"$f":"MATCH(BB$3,Millwall!$AA146:$AM146,0)","v":{"$error":"#N/A"}},{"$f":"MATCH(BC$3,Millwall!$AA146:$AM146,0)","v":{"$error":"#N/A"}},{"$f":"MATCH(BD$3,Millwall!$AA146:$AM146,0)","v":{"$error":"#N/A"}},{"$f":"MATCH(BE$3,Millwall!$AA146:$AM146,0)","v":{"$error":"#N/A"}},{"$f":"MATCH(BF$3,Millwall!$AA146:$AM146,0)","v":{"$error":"#N/A"}},{"$f":"MATCH(BG$3,Millwall!$AA146:$AM146,0)","v":{"$error":"#N/A"}},{"$f":"MATCH(BH$3,Millwall!$AA146:$AM146,0)","v":{"$error":"#N/A"}},{"$f":"MATCH(BI$3,Millwall!$AA146:$AM146,0)","v":{"$error":"#N/A"}},{"$f":"MATCH(BJ$3,Millwall!$AA146:$AM146,0)","v":{"$error":"#N/A"}},{"$f":"MATCH(BK$3,Millwall!$AA146:$AM146,0)","v":{"$error":"#N/A"}},{"$f":"MATCH(BL$3,Millwall!$AA146:$AM146,0)","v":{"$error":"#N/A"}},{"$f":"MATCH(BM$3,Millwall!$AA146:$AM146,0)","v":{"$error":"#N/A"}},{"$f":"MATCH(BN$3,Millwall!$AA146:$AM146,0)","v":{"$error":"#N/A"}},{"$f":"MATCH(BO$3,Millwall!$AA146:$AM146,0)","v":{"$error":"#N/A"}},{"$f":"MATCH(BP$3,Millwall!$AA146:$AM146,0)","v":{"$error":"#N/A"}},{"$f":"MATCH(BQ$3,Millwall!$AA146:$AM146,0)","v":{"$error":"#N/A"}},{"$f":"MATCH(BR$3,Millwall!$AA146:$AM146,0)","v":{"$error":"#N/A"}},{"$f":"MATCH(BS$3,Millwall!$AA146:$AM146,0)","v":{"$error":"#N/A"}},{"$f":"MATCH(BT$3,Millwall!$AA146:$AM146,0)","v":{"$error":"#N/A"}},{"$f":"MATCH(BU$3,Millwall!$AA146:$AM146,0)","v":{"$error":"#N/A"}},{"$f":"MATCH(BV$3,Millwall!$AA146:$AM146,0)","v":{"$error":"#N/A"}},{"$f":"MATCH(BW$3,Millwall!$AA146:$AM146,0)","v":{"$error":"#N/A"}},{"$f":"MATCH(BX$3,Millwall!$AA146:$AM146,0)","v":{"$error":"#N/A"}},{"$f":"MATCH(BY$3,Millwall!$AA146:$AM146,0)","v":{"$error":"#N/A"}},{"$f":"MATCH(BZ$3,Millwall!$AA146:$AM146,0)","v":{"$error":"#N/A"}},{"$f":"MATCH(CA$3,Millwall!$AA146:$AM146,0)","v":{"$error":"#N/A"}},{"$f":"MATCH(CB$3,Millwall!$AA146:$AM146,0)","v":{"$error":"#N/A"}},{"$f":"MATCH(CC$3,Millwall!$AA146:$AM146,0)","v":{"$error":"#N/A"}},{"$f":"MATCH(CD$3,Millwall!$AA146:$AM146,0)","v":{"$error":"#N/A"}},{"$f":"MATCH(CE$3,Millwall!$AA146:$AM146,0)","v":{"$error":"#N/A"}},null,null,{"$f":"MATCH(CH$3,Millwall!$AA146:$AN146,0)","v":{"$error":"#N/A"}},{"$f":"MATCH(CI$3,Millwall!$AA146:$AN146,0)","v":{"$error":"#N/A"}},{"$f":"MATCH(CJ$3,Millwall!$AA146:$AN146,0)","v":{"$error":"#N/A"}},{"$f":"MATCH(CK$3,Millwall!$AA146:$AN146,0)","v":{"$error":"#N/A"}},{"$f":"MATCH(CL$3,Millwall!$AA146:$AN146,0)","v":{"$error":"#N/A"}},{"$f":"MATCH(CM$3,Millwall!$AA146:$AN146,0)","v":{"$error":"#N/A"}},{"$f":"MATCH(CN$3,Millwall!$AA146:$AN146,0)","v":{"$error":"#N/A"}},{"$f":"MATCH(CO$3,Millwall!$AA146:$AN146,0)","v":{"$error":"#N/A"}},{"$f":"MATCH(CP$3,Millwall!$AA146:$AN146,0)","v":{"$error":"#N/A"}},{"$f":"MATCH(CQ$3,Millwall!$AA146:$AN146,0)","v":{"$error":"#N/A"}},{"$f":"MATCH(CR$3,Millwall!$AA146:$AN146,0)","v":{"$error":"#N/A"}},{"$f":"MATCH(CS$3,Millwall!$AA146:$AN146,0)","v":{"$error":"#N/A"}},{"$f":"MATCH(CT$3,Millwall!$AA146:$AN146,0)","v":{"$error":"#N/A"}},{"$f":"MATCH(CU$3,Millwall!$AA146:$AN146,0)","v":{"$error":"#N/A"}},{"$f":"MATCH(CV$3,Millwall!$AA146:$AN146,0)","v":{"$error":"#N/A"}},{"$f":"MATCH(CW$3,Millwall!$AA146:$AN146,0)","v":{"$error":"#N/A"}},{"$f":"MATCH(CX$3,Millwall!$AA146:$AN146,0)","v":{"$error":"#N/A"}},{"$f":"MATCH(CY$3,Millwall!$AA146:$AN146,0)","v":{"$error":"#N/A"}},{"$f":"MATCH(CZ$3,Millwall!$AA146:$AN146,0)","v":{"$error":"#N/A"}},{"$f":"MATCH(DA$3,Millwall!$AA146:$AN146,0)","v":{"$error":"#N/A"}},{"$f":"MATCH(DB$3,Millwall!$AA146:$AN146,0)","v":{"$error":"#N/A"}},{"$f":"MATCH(DC$3,Millwall!$AA146:$AN146,0)","v":{"$error":"#N/A"}},{"$f":"MATCH(DD$3,Millwall!$AA146:$AN146,0)","v":{"$error":"#N/A"}},{"$f":"MATCH(DE$3,Millwall!$AA146:$AN146,0)","v":{"$error":"#N/A"}},{"$f":"MATCH(DF$3,Millwall!$AA146:$AN146,0)","v":{"$error":"#N/A"}},{"$f":"MATCH(DG$3,Millwall!$AA146:$AN146,0)","v":{"$error":"#N/A"}},{"$f":"MATCH(DH$3,Millwall!$AA146:$AN146,0)","v":{"$error":"#N/A"}},{"$f":"MATCH(DI$3,Millwall!$AA146:$AN146,0)","v":{"$error":"#N/A"}},{"$f":"MATCH(DJ$3,Millwall!$AA146:$AN146,0)","v":{"$error":"#N/A"}},{"$f":"MATCH(DK$3,Millwall!$AA146:$AN146,0)","v":{"$error":"#N/A"}},{"$f":"MATCH(DL$3,Millwall!$AA146:$AN146,0)","v":{"$error":"#N/A"}},{"$f":"MATCH(DM$3,Millwall!$AA146:$AN146,0)","v":{"$error":"#N/A"}},{"$f":"MATCH(DN$3,Millwall!$AA146:$AN146,0)","v":{"$error":"#N/A"}},{"$f":"MATCH(DO$3,Millwall!$AA146:$AN146,0)","v":{"$error":"#N/A"}}]
[null,null,{"$f":"IF(J89=0,1,0)","v":0},"G",null,{"$f":"Millwall!W147","v":"1986-11-04"},null,{"$f":"Millwall!X147","v":"Portsmouth"},{"$f":"Millwall!Y147","v":"(A)"},{"$f":"Millwall!Z147","v":"L 2-3"},{"$f":"MATCH(K$4,Millwall!$AA147:$AN147,0)","v":{"$error":"#N/A"}},{"$f":"MATCH(L$4,Millwall!$AA147:$AN147,0)","v":12},{"$f":"MATCH(M$4,Millwall!$AA147:$AN147,0)","v":{"$error":"#N/A"}},{"$f":"MATCH(N$4,Millwall!$AA147:$AN147,0)","v":7},{"$f":"MATCH(O$4,Millwall!$AA147:$AN147,0)","v":{"$error":"#N/A"}},{"$f":"MATCH(P$4,Millwall!$AA147:$AN147,0)","v":{"$error":"#N/A"}},{"$f":"MATCH(Q$4,Millwall!$AA147:$AN147,0)","v":3},{"$f":"MATCH(R$4,Millwall!$AA147:$AN147,0)","v":{"$error":"#N/A"}},{"$f":"MATCH(S$4,Millwall!$AA147:$AN147,0)","v":{"$error":"#N/A"}},{"$f":"MATCH(T$4,Millwall!$AA147:$AN147,0)","v":{"$error":"#N/A"}},{"$f":"MATCH(U$4,Millwall!$AA147:$AN147,0)","v":1},{"$f":"MATCH(V$4,Millwall!$AA147:$AN147,0)","v":{"$error":"#N/A"}},{"$f":"MATCH(W$4,Millwall!$AA147:$AN147,0)","v":11},{"$f":"MATCH(X$4,Millwall!$AA147:$AN147,0)","v":{"$error":"#N/A"}},{"$f":"MATCH(Y$4,Millwall!$AA147:$AN147,0)","v":{"$error":"#N/A"}},{"$f":"MATCH(Z$4,Millwall!$AA147:$AN147,0)","v":10},{"$f":"MATCH(AA$4,Millwall!$AA147:$AN147,0)","v":6},{"$f":"MATCH(AB$4,Millwall!$AA147:$AN147,0)","v":8},{"$f":"MATCH(AC$4,Millwall!$AA147:$AN147,0)","v":4},{"$f":"MATCH(AD$4,Millwall!$AA147:$AN147,0)","v":14},{"$f":"MATCH(AE$4,Millwall!$AA147:$AN147,0)","v":2},{"$f":"MATCH(AF$4,Millwall!$AA147:$AN147,0)","v":{"$error":"#N/A"}},{"$f":"MATCH(AG$4,Millwall!$AA147:$AN147,0)","v":9},{"$f":"MATCH(AH$4,Millwall!$AA147:$AN147,0)","v":{"$error":"#N/A"}},{"$f":"MATCH(AI$4,Millwall!$AA147:$AN147,0)","v":{"$error":"#N/A"}},{"$f":"MATCH(AJ$4,Millwall!$AA147:$AN147,0)","v":5},{"$f":"MATCH(AK$4,Millwall!$AA147:$AN147,0)","v":{"$error":"#N/A"}},{"$f":"MATCH(AL$4,Millwall!$AA147:$AN147,0)","v":{"$error":"#N/A"}},{"$f":"MATCH(AM$4,Millwall!$AA147:$AN147,0)","v":{"$error":"#N/A"}},{"$f":"MATCH(AN$4,Millwall!$AA147:$AN147,0)","v":{"$error":"#N/A"}},{"$f":"MATCH(AO$4,Millwall!$AA147:$AN147,0)","v":{"$error":"#N/A"}},{"$f":"MATCH(AP$4,Millwall!$AA147:$AN147,0)","v":{"$error":"#N/A"}},{"$f":"MATCH(AQ$4,Millwall!$AA147:$AN147,0)","v":{"$error":"#N/A"}},{"$f":"MATCH(AR$4,Millwall!$AA147:$AN147,0)","v":{"$error":"#N/A"}},null,null,null,null,null,{"$f":"MATCH(AX$3,Millwall!$AA147:$AM147,0)","v":{"$error":"#N/A"}},{"$f":"MATCH(AY$3,Millwall!$AA147:$AM147,0)","v":{"$error":"#N/A"}},{"$f":"MATCH(AZ$3,Millwall!$AA147:$AM147,0)","v":{"$error":"#N/A"}},{"$f":"MATCH(BA$3,Millwall!$AA147:$AM147,0)","v":{"$error":"#N/A"}},{"$f":"MATCH(BB$3,Millwall!$AA147:$AM147,0)","v":{"$error":"#N/A"}},{"$f":"MATCH(BC$3,Millwall!$AA147:$AM147,0)","v":{"$error":"#N/A"}},{"$f":"MATCH(BD$3,Millwall!$AA147:$AM147,0)","v":{"$error":"#N/A"}},{"$f":"MATCH(BE$3,Millwall!$AA147:$AM147,0)","v":{"$error":"#N/A"}},{"$f":"MATCH(BF$3,Millwall!$AA147:$AM147,0)","v":{"$error":"#N/A"}},{"$f":"MATCH(BG$3,Millwall!$AA147:$AM147,0)","v":{"$error":"#N/A"}},{"$f":"MATCH(BH$3,Millwall!$AA147:$AM147,0)","v":{"$error":"#N/A"}},{"$f":"MATCH(BI$3,Millwall!$AA147:$AM147,0)","v":{"$error":"#N/A"}},{"$f":"MATCH(BJ$3,Millwall!$AA147:$AM147,0)","v":{"$error":"#N/A"}},{"$f":"MATCH(BK$3,Millwall!$AA147:$AM147,0)","v":{"$error":"#N/A"}},{"$f":"MATCH(BL$3,Millwall!$AA147:$AM147,0)","v":{"$error":"#N/A"}},{"$f":"MATCH(BM$3,Millwall!$AA147:$AM147,0)","v":{"$error":"#N/A"}},{"$f":"MATCH(BN$3,Millwall!$AA147:$AM147,0)","v":{"$error":"#N/A"}},{"$f":"MATCH(BO$3,Millwall!$AA147:$AM147,0)","v":{"$error":"#N/A"}},{"$f":"MATCH(BP$3,Millwall!$AA147:$AM147,0)","v":{"$error":"#N/A"}},{"$f":"MATCH(BQ$3,Millwall!$AA147:$AM147,0)","v":{"$error":"#N/A"}},{"$f":"MATCH(BR$3,Millwall!$AA147:$AM147,0)","v":{"$error":"#N/A"}},{"$f":"MATCH(BS$3,Millwall!$AA147:$AM147,0)","v":{"$error":"#N/A"}},{"$f":"MATCH(BT$3,Millwall!$AA147:$AM147,0)","v":{"$error":"#N/A"}},{"$f":"MATCH(BU$3,Millwall!$AA147:$AM147,0)","v":{"$error":"#N/A"}},{"$f":"MATCH(BV$3,Millwall!$AA147:$AM147,0)","v":{"$error":"#N/A"}},{"$f":"MATCH(BW$3,Millwall!$AA147:$AM147,0)","v":{"$error":"#N/A"}},{"$f":"MATCH(BX$3,Millwall!$AA147:$AM147,0)","v":{"$error":"#N/A"}},{"$f":"MATCH(BY$3,Millwall!$AA147:$AM147,0)","v":{"$error":"#N/A"}},{"$f":"MATCH(BZ$3,Millwall!$AA147:$AM147,0)","v":{"$error":"#N/A"}},{"$f":"MATCH(CA$3,Millwall!$AA147:$AM147,0)","v":{"$error":"#N/A"}},{"$f":"MATCH(CB$3,Millwall!$AA147:$AM147,0)","v":{"$error":"#N/A"}},{"$f":"MATCH(CC$3,Millwall!$AA147:$AM147,0)","v":{"$error":"#N/A"}},{"$f":"MATCH(CD$3,Millwall!$AA147:$AM147,0)","v":{"$error":"#N/A"}},{"$f":"MATCH(CE$3,Millwall!$AA147:$AM147,0)","v":{"$error":"#N/A"}},null,null,{"$f":"MATCH(CH$3,Millwall!$AA147:$AN147,0)","v":{"$error":"#N/A"}},{"$f":"MATCH(CI$3,Millwall!$AA147:$AN147,0)","v":{"$error":"#N/A"}},{"$f":"MATCH(CJ$3,Millwall!$AA147:$AN147,0)","v":{"$error":"#N/A"}},{"$f":"MATCH(CK$3,Millwall!$AA147:$AN147,0)","v":{"$error":"#N/A"}},{"$f":"MATCH(CL$3,Millwall!$AA147:$AN147,0)","v":{"$error":"#N/A"}},{"$f":"MATCH(CM$3,Millwall!$AA147:$AN147,0)","v":{"$error":"#N/A"}},{"$f":"MATCH(CN$3,Millwall!$AA147:$AN147,0)","v":{"$error":"#N/A"}},{"$f":"MATCH(CO$3,Millwall!$AA147:$AN147,0)","v":{"$error":"#N/A"}},{"$f":"MATCH(CP$3,Millwall!$AA147:$AN147,0)","v":{"$error":"#N/A"}},{"$f":"MATCH(CQ$3,Millwall!$AA147:$AN147,0)","v":{"$error":"#N/A"}},{"$f":"MATCH(CR$3,Millwall!$AA147:$AN147,0)","v":{"$error":"#N/A"}},{"$f":"MATCH(CS$3,Millwall!$AA147:$AN147,0)","v":{"$error":"#N/A"}},{"$f":"MATCH(CT$3,Millwall!$AA147:$AN147,0)","v":{"$error":"#N/A"}},{"$f":"MATCH(CU$3,Millwall!$AA147:$AN147,0)","v":{"$error":"#N/A"}},{"$f":"MATCH(CV$3,Millwall!$AA147:$AN147,0)","v":{"$error":"#N/A"}},{"$f":"MATCH(CW$3,Millwall!$AA147:$AN147,0)","v":{"$error":"#N/A"}},{"$f":"MATCH(CX$3,Millwall!$AA147:$AN147,0)","v":{"$error":"#N/A"}},{"$f":"MATCH(CY$3,Millwall!$AA147:$AN147,0)","v":{"$error":"#N/A"}},{"$f":"MATCH(CZ$3,Millwall!$AA147:$AN147,0)","v":{"$error":"#N/A"}},{"$f":"MATCH(DA$3,Millwall!$AA147:$AN147,0)","v":{"$error":"#N/A"}},{"$f":"MATCH(DB$3,Millwall!$AA147:$AN147,0)","v":{"$error":"#N/A"}},{"$f":"MATCH(DC$3,Millwall!$AA147:$AN147,0)","v":{"$error":"#N/A"}},{"$f":"MATCH(DD$3,Millwall!$AA147:$AN147,0)","v":{"$error":"#N/A"}},{"$f":"MATCH(DE$3,Millwall!$AA147:$AN147,0)","v":{"$error":"#N/A"}},{"$f":"MATCH(DF$3,Millwall!$AA147:$AN147,0)","v":{"$error":"#N/A"}},{"$f":"MATCH(DG$3,Millwall!$AA147:$AN147,0)","v":{"$error":"#N/A"}},{"$f":"MATCH(DH$3,Millwall!$AA147:$AN147,0)","v":{"$error":"#N/A"}},{"$f":"MATCH(DI$3,Millwall!$AA147:$AN147,0)","v":{"$error":"#N/A"}},{"$f":"MATCH(DJ$3,Millwall!$AA147:$AN147,0)","v":{"$error":"#N/A"}},{"$f":"MATCH(DK$3,Millwall!$AA147:$AN147,0)","v":{"$error":"#N/A"}},{"$f":"MATCH(DL$3,Millwall!$AA147:$AN147,0)","v":{"$error":"#N/A"}},{"$f":"MATCH(DM$3,Millwall!$AA147:$AN147,0)","v":{"$error":"#N/A"}},{"$f":"MATCH(DN$3,Millwall!$AA147:$AN147,0)","v":{"$error":"#N/A"}},{"$f":"MATCH(DO$3,Millwall!$AA147:$AN147,0)","v":{"$error":"#N/A"}}]
[null,null,1,null,null,{"$f":"Millwall!W148","v":"00:00:00"},null,{"$f":"Millwall!X148","v":"00:00:00"},{"$f":"Millwall!Y148","v":"00:00:00"},{"$f":"Millwall!Z148","v":0},{"$f":"MATCH(K$4,Millwall!$AA148:$AN148,0)","v":{"$error":"#N/A"}},{"$f":"MATCH(L$4,Millwall!$AA148:$AN148,0)","v":{"$error":"#N/A"}},{"$f":"MATCH(M$4,Millwall!$AA148:$AN148,0)","v":{"$error":"#N/A"}},{"$f":"MATCH(N$4,Millwall!$AA148:$AN148,0)","v":{"$error":"#N/A"}},{"$f":"MATCH(O$4,Millwall!$AA148:$AN148,0)","v":{"$error":"#N/A"}},{"$f":"MATCH(P$4,Millwall!$AA148:$AN148,0)","v":{"$error":"#N/A"}},{"$f":"MATCH(Q$4,Millwall!$AA148:$AN148,0)","v":{"$error":"#N/A"}},{"$f":"MATCH(R$4,Millwall!$AA148:$AN148,0)","v":{"$error":"#N/A"}},{"$f":"MATCH(S$4,Millwall!$AA148:$AN148,0)","v":{"$error":"#N/A"}},{"$f":"MATCH(T$4,Millwall!$AA148:$AN148,0)","v":{"$error":"#N/A"}},{"$f":"MATCH(U$4,Millwall!$AA148:$AN148,0)","v":{"$error":"#N/A"}},{"$f":"MATCH(V$4,Millwall!$AA148:$AN148,0)","v":{"$error":"#N/A"}},{"$f":"MATCH(W$4,Millwall!$AA148:$AN148,0)","v":{"$error":"#N/A"}},{"$f":"MATCH(X$4,Millwall!$AA148:$AN148,0)","v":{"$error":"#N/A"}},{"$f":"MATCH(Y$4,Millwall!$AA148:$AN148,0)","v":{"$error":"#N/A"}},{"$f":"MATCH(Z$4,Millwall!$AA148:$AN148,0)","v":{"$error":"#N/A"}},{"$f":"MATCH(AA$4,Millwall!$AA148:$AN148,0)","v":{"$error":"#N/A"}},{"$f":"MATCH(AB$4,Millwall!$AA148:$AN148,0)","v":{"$error":"#N/A"}},{"$f":"MATCH(AC$4,Millwall!$AA148:$AN148,0)","v":{"$error":"#N/A"}},{"$f":"MATCH(AD$4,Millwall!$AA148:$AN148,0)","v":{"$error":"#N/A"}},{"$f":"MATCH(AE$4,Millwall!$AA148:$AN148,0)","v":{"$error":"#N/A"}},{"$f":"MATCH(AF$4,Millwall!$AA148:$AN148,0)","v":{"$error":"#N/A"}},{"$f":"MATCH(AG$4,Millwall!$AA148:$AN148,0)","v":{"$error":"#N/A"}},{"$f":"MATCH(AH$4,Millwall!$AA148:$AN148,0)","v":{"$error":"#N/A"}},{"$f":"MATCH(AI$4,Millwall!$AA148:$AN148,0)","v":{"$error":"#N/A"}},{"$f":"MATCH(AJ$4,Millwall!$AA148:$AN148,0)","v":{"$error":"#N/A"}},{"$f":"MATCH(AK$4,Millwall!$AA148:$AN148,0)","v":{"$error":"#N/A"}},{"$f":"MATCH(AL$4,Millwall!$AA148:$AN148,0)","v":{"$error":"#N/A"}},{"$f":"MATCH(AM$4,Millwall!$AA148:$AN148,0)","v":{"$error":"#N/A"}},{"$f":"MATCH(AN$4,Millwall!$AA148:$AN148,0)","v":{"$error":"#N/A"}},{"$f":"MATCH(AO$4,Millwall!$AA148:$AN148,0)","v":{"$error":"#N/A"}},{"$f":"MATCH(AP$4,Millwall!$AA148:$AN148,0)","v":{"$error":"#N/A"}},{"$f":"MATCH(AQ$4,Millwall!$AA148:$AN148,0)","v":{"$error":"#N/A"}},{"$f":"MATCH(AR$4,Millwall!$AA148:$AN148,0)","v":{"$error":"#N/A"}},null,null,null,null,null,{"$f":"MATCH(AX$3,Millwall!$AA148:$AM148,0)","v":{"$error":"#N/A"}},{"$f":"MATCH(AY$3,Millwall!$AA148:$AM148,0)","v":{"$error":"#N/A"}},{"$f":"MATCH(AZ$3,Millwall!$AA148:$AM148,0)","v":{"$error":"#N/A"}},{"$f":"MATCH(BA$3,Millwall!$AA148:$AM148,0)","v":{"$error":"#N/A"}},{"$f":"MATCH(BB$3,Millwall!$AA148:$AM148,0)","v":{"$error":"#N/A"}},{"$f":"MATCH(BC$3,Millwall!$AA148:$AM148,0)","v":{"$error":"#N/A"}},{"$f":"MATCH(BD$3,Millwall!$AA148:$AM148,0)","v":{"$error":"#N/A"}},{"$f":"MATCH(BE$3,Millwall!$AA148:$AM148,0)","v":{"$error":"#N/A"}},{"$f":"MATCH(BF$3,Millwall!$AA148:$AM148,0)","v":{"$error":"#N/A"}},{"$f":"MATCH(BG$3,Millwall!$AA148:$AM148,0)","v":{"$error":"#N/A"}},{"$f":"MATCH(BH$3,Millwall!$AA148:$AM148,0)","v":{"$error":"#N/A"}},{"$f":"MATCH(BI$3,Millwall!$AA148:$AM148,0)","v":{"$error":"#N/A"}},{"$f":"MATCH(BJ$3,Millwall!$AA148:$AM148,0)","v":{"$error":"#N/A"}},{"$f":"MATCH(BK$3,Millwall!$AA148:$AM148,0)","v":{"$error":"#N/A"}},{"$f":"MATCH(BL$3,Millwall!$AA148:$AM148,0)","v":{"$error":"#N/A"}},{"$f":"MATCH(BM$3,Millwall!$AA148:$AM148,0)","v":{"$error":"#N/A"}},{"$f":"MATCH(BN$3,Millwall!$AA148:$AM148,0)","v":{"$error":"#N/A"}},{"$f":"MATCH(BO$3,Millwall!$AA148:$AM148,0)","v":{"$error":"#N/A"}},{"$f":"MATCH(BP$3,Millwall!$AA148:$AM148,0)","v":{"$error":"#N/A"}},{"$f":"MATCH(BQ$3,Millwall!$AA148:$AM148,0)","v":{"$error":"#N/A"}},{"$f":"MATCH(BR$3,Millwall!$AA148:$AM148,0)","v":{"$error":"#N/A"}},{"$f":"MATCH(BS$3,Millwall!$AA148:$AM148,0)","v":{"$error":"#N/A"}},{"$f":"MATCH(BT$3,Millwall!$AA148:$AM148,0)","v":{"$error":"#N/A"}},{"$f":"MATCH(BU$3,Millwall!$AA148:$AM148,0)","v":{"$error":"#N/A"}},{"$f":"MATCH(BV$3,Millwall!$AA148:$AM148,0)","v":{"$error":"#N/A"}},{"$f":"MATCH(BW$3,Millwall!$AA148:$AM148,0)","v":{"$error":"#N/A"}},{"$f":"MATCH(BX$3,Millwall!$AA148:$AM148,0)","v":{"$error":"#N/A"}},{"$f":"MATCH(BY$3,Millwall!$AA148:$AM148,0)","v":{"$error":"#N/A"}},{"$f":"MATCH(BZ$3,Millwall!$AA148:$AM148,0)","v":{"$error":"#N/A"}},{"$f":"MATCH(CA$3,Millwall!$AA148:$AM148,0)","v":{"$error":"#N/A"}},{"$f":"MATCH(CB$3,Millwall!$AA148:$AM148,0)","v":{"$error":"#N/A"}},{"$f":"MATCH(CC$3,Millwall!$AA148:$AM148,0)","v":{"$error":"#N/A"}},{"$f":"MATCH(CD$3,Millwall!$AA148:$AM148,0)","v":{"$error":"#N/A"}},{"$f":"MATCH(CE$3,Millwall!$AA148:$AM148,0)","v":{"$error":"#N/A"}},null,null,{"$f":"MATCH(CH$3,Millwall!$AN148:$AN148,0)","v":{"$error":"#N/A"}},{"$f":"MATCH(CI$3,Millwall!$AN148:$AN148,0)","v":{"$error":"#N/A"}},{"$f":"MATCH(CJ$3,Millwall!$AN148:$AN148,0)","v":{"$error":"#N/A"}},{"$f":"MATCH(CK$3,Millwall!$AN148:$AN148,0)","v":{"$error":"#N/A"}},{"$f":"MATCH(CL$3,Millwall!$AN148:$AN148,0)","v":{"$error":"#N/A"}},{"$f":"MATCH(CM$3,Millwall!$AN148:$AN148,0)","v":{"$error":"#N/A"}},{"$f":"MATCH(CN$3,Millwall!$AN148:$AN148,0)","v":{"$error":"#N/A"}},{"$f":"MATCH(CO$3,Millwall!$AN148:$AN148,0)","v":{"$error":"#N/A"}},{"$f":"MATCH(CP$3,Millwall!$AN148:$AN148,0)","v":{"$error":"#N/A"}},{"$f":"MATCH(CQ$3,Millwall!$AN148:$AN148,0)","v":{"$error":"#N/A"}},{"$f":"MATCH(CR$3,Millwall!$AN148:$AN148,0)","v":{"$error":"#N/A"}},{"$f":"MATCH(CS$3,Millwall!$AN148:$AN148,0)","v":{"$error":"#N/A"}},{"$f":"MATCH(CT$3,Millwall!$AN148:$AN148,0)","v":{"$error":"#N/A"}},{"$f":"MATCH(CU$3,Millwall!$AN148:$AN148,0)","v":{"$error":"#N/A"}},{"$f":"MATCH(CV$3,Millwall!$AN148:$AN148,0)","v":{"$error":"#N/A"}},{"$f":"MATCH(CW$3,Millwall!$AN148:$AN148,0)","v":{"$error":"#N/A"}},{"$f":"MATCH(CX$3,Millwall!$AN148:$AN148,0)","v":{"$error":"#N/A"}},{"$f":"MATCH(CY$3,Millwall!$AN148:$AN148,0)","v":{"$error":"#N/A"}},{"$f":"MATCH(CZ$3,Millwall!$AN148:$AN148,0)","v":{"$error":"#N/A"}},{"$f":"MATCH(DA$3,Millwall!$AN148:$AN148,0)","v":{"$error":"#N/A"}},{"$f":"MATCH(DB$3,Millwall!$AN148:$AN148,0)","v":{"$error":"#N/A"}},{"$f":"MATCH(DC$3,Millwall!$AN148:$AN148,0)","v":{"$error":"#N/A"}},{"$f":"MATCH(DD$3,Millwall!$AN148:$AN148,0)","v":{"$error":"#N/A"}},{"$f":"MATCH(DE$3,Millwall!$AN148:$AN148,0)","v":{"$error":"#N/A"}},{"$f":"MATCH(DF$3,Millwall!$AN148:$AN148,0)","v":{"$error":"#N/A"}},{"$f":"MATCH(DG$3,Millwall!$AN148:$AN148,0)","v":{"$error":"#N/A"}},{"$f":"MATCH(DH$3,Millwall!$AN148:$AN148,0)","v":{"$error":"#N/A"}},{"$f":"MATCH(DI$3,Millwall!$AN148:$AN148,0)","v":{"$error":"#N/A"}},{"$f":"MATCH(DJ$3,Millwall!$AN148:$AN148,0)","v":{"$error":"#N/A"}},{"$f":"MATCH(DK$3,Millwall!$AN148:$AN148,0)","v":{"$error":"#N/A"}},{"$f":"MATCH(DL$3,Millwall!$AN148:$AN148,0)","v":{"$error":"#N/A"}},{"$f":"MATCH(DM$3,Millwall!$AN148:$AN148,0)","v":{"$error":"#N/A"}},{"$f":"MATCH(DN$3,Millwall!$AN148:$AN148,0)","v":{"$error":"#N/A"}},{"$f":"MATCH(DO$3,Millwall!$AN148:$AN148,0)","v":{"$error":"#N/A"}}]
[null,null,1,null,null,{"$f":"Millwall!W149","v":"00:00:00"},null,{"$f":"Millwall!X149","v":"00:00:00"},{"$f":"Millwall!Y149","v":"00:00:00"},{"$f":"Millwall!Z149","v":0},{"$f":"MATCH(K$4,Millwall!$AA149:$AN149,0)","v":{"$error":"#N/A"}},{"$f":"MATCH(L$4,Millwall!$AA149:$AN149,0)","v":{"$error":"#N/A"}},{"$f":"MATCH(M$4,Millwall!$AA149:$AN149,0)","v":{"$error":"#N/A"}},{"$f":"MATCH(N$4,Millwall!$AA149:$AN149,0)","v":{"$error":"#N/A"}},{"$f":"MATCH(O$4,Millwall!$AA149:$AN149,0)","v":{"$error":"#N/A"}},{"$f":"MATCH(P$4,Millwall!$AA149:$AN149,0)","v":{"$error":"#N/A"}},{"$f":"MATCH(Q$4,Millwall!$AA149:$AN149,0)","v":{"$error":"#N/A"}},{"$f":"MATCH(R$4,Millwall!$AA149:$AN149,0)","v":{"$error":"#N/A"}},{"$f":"MATCH(S$4,Millwall!$AA149:$AN149,0)","v":{"$error":"#N/A"}},{"$f":"MATCH(T$4,Millwall!$AA149:$AN149,0)","v":{"$error":"#N/A"}},{"$f":"MATCH(U$4,Millwall!$AA149:$AN149,0)","v":{"$error":"#N/A"}},{"$f":"MATCH(V$4,Millwall!$AA149:$AN149,0)","v":{"$error":"#N/A"}},{"$f":"MATCH(W$4,Millwall!$AA149:$AN149,0)","v":{"$error":"#N/A"}},{"$f":"MATCH(X$4,Millwall!$AA149:$AN149,0)","v":{"$error":"#N/A"}},{"$f":"MATCH(Y$4,Millwall!$AA149:$AN149,0)","v":{"$error":"#N/A"}},{"$f":"MATCH(Z$4,Millwall!$AA149:$AN149,0)","v":{"$error":"#N/A"}},{"$f":"MATCH(AA$4,Millwall!$AA149:$AN149,0)","v":{"$error":"#N/A"}},{"$f":"MATCH(AB$4,Millwall!$AA149:$AN149,0)","v":{"$error":"#N/A"}},{"$f":"MATCH(AC$4,Millwall!$AA149:$AN149,0)","v":{"$error":"#N/A"}},{"$f":"MATCH(AD$4,Millwall!$AA149:$AN149,0)","v":{"$error":"#N/A"}},{"$f":"MATCH(AE$4,Millwall!$AA149:$AN149,0)","v":{"$error":"#N/A"}},{"$f":"MATCH(AF$4,Millwall!$AA149:$AN149,0)","v":{"$error":"#N/A"}},{"$f":"MATCH(AG$4,Millwall!$AA149:$AN149,0)","v":{"$error":"#N/A"}},{"$f":"MATCH(AH$4,Millwall!$AA149:$AN149,0)","v":{"$error":"#N/A"}},{"$f":"MATCH(AI$4,Millwall!$AA149:$AN149,0)","v":{"$error":"#N/A"}},{"$f":"MATCH(AJ$4,Millwall!$AA149:$AN149,0)","v":{"$error":"#N/A"}},{"$f":"MATCH(AK$4,Millwall!$AA149:$AN149,0)","v":{"$error":"#N/A"}},{"$f":"MATCH(AL$4,Millwall!$AA149:$AN149,0)","v":{"$error":"#N/A"}},{"$f":"MATCH(AM$4,Millwall!$AA149:$AN149,0)","v":{"$error":"#N/A"}},{"$f":"MATCH(AN$4,Millwall!$AA149:$AN149,0)","v":{"$error":"#N/A"}},{"$f":"MATCH(AO$4,Millwall!$AA149:$AN149,0)","v":{"$error":"#N/A"}},{"$f":"MATCH(AP$4,Millwall!$AA149:$AN149,0)","v":{"$error":"#N/A"}},{"$f":"MATCH(AQ$4,Millwall!$AA149:$AN149,0)","v":{"$error":"#N/A"}},{"$f":"MATCH(AR$4,Millwall!$AA149:$AN149,0)","v":{"$error":"#N/A"}},null,null,null,null,null,{"$f":"MATCH(AX$3,Millwall!$AA149:$AM149,0)","v":{"$error":"#N/A"}},{"$f":"MATCH(AY$3,Millwall!$AA149:$AM149,0)","v":{"$error":"#N/A"}},{"$f":"MATCH(AZ$3,Millwall!$AA149:$AM149,0)","v":{"$error":"#N/A"}},{"$f":"MATCH(BA$3,Millwall!$AA149:$AM149,0)","v":{"$error":"#N/A"}},{"$f":"MATCH(BB$3,Millwall!$AA149:$AM149,0)","v":{"$error":"#N/A"}},{"$f":"MATCH(BC$3,Millwall!$AA149:$AM149,0)","v":{"$error":"#N/A"}},{"$f":"MATCH(BD$3,Millwall!$AA149:$AM149,0)","v":{"$error":"#N/A"}},{"$f":"MATCH(BE$3,Millwall!$AA149:$AM149,0)","v":{"$error":"#N/A"}},{"$f":"MATCH(BF$3,Millwall!$AA149:$AM149,0)","v":{"$error":"#N/A"}},{"$f":"MATCH(BG$3,Millwall!$AA149:$AM149,0)","v":{"$error":"#N/A"}},{"$f":"MATCH(BH$3,Millwall!$AA149:$AM149,0)","v":{"$error":"#N/A"}},{"$f":"MATCH(BI$3,Millwall!$AA149:$AM149,0)","v":{"$error":"#N/A"}},{"$f":"MATCH(BJ$3,Millwall!$AA149:$AM149,0)","v":{"$error":"#N/A"}},{"$f":"MATCH(BK$3,Millwall!$AA149:$AM149,0)","v":{"$error":"#N/A"}},{"$f":"MATCH(BL$3,Millwall!$AA149:$AM149,0)","v":{"$error":"#N/A"}},{"$f":"MATCH(BM$3,Millwall!$AA149:$AM149,0)","v":{"$error":"#N/A"}},{"$f":"MATCH(BN$3,Millwall!$AA149:$AM149,0)","v":{"$error":"#N/A"}},{"$f":"MATCH(BO$3,Millwall!$AA149:$AM149,0)","v":{"$error":"#N/A"}},{"$f":"MATCH(BP$3,Millwall!$AA149:$AM149,0)","v":{"$error":"#N/A"}},{"$f":"MATCH(BQ$3,Millwall!$AA149:$AM149,0)","v":{"$error":"#N/A"}},{"$f":"MATCH(BR$3,Millwall!$AA149:$AM149,0)","v":{"$error":"#N/A"}},{"$f":"MATCH(BS$3,Millwall!$AA149:$AM149,0)","v":{"$error":"#N/A"}},{"$f":"MATCH(BT$3,Millwall!$AA149:$AM149,0)","v":{"$error":"#N/A"}},{"$f":"MATCH(BU$3,Millwall!$AA149:$AM149,0)","v":{"$error":"#N/A"}},{"$f":"MATCH(BV$3,Millwall!$AA149:$AM149,0)","v":{"$error":"#N/A"}},{"$f":"MATCH(BW$3,Millwall!$AA149:$AM149,0)","v":{"$error":"#N/A"}},{"$f":"MATCH(BX$3,Millwall!$AA149:$AM149,0)","v":{"$error":"#N/A"}},{"$f":"MATCH(BY$3,Millwall!$AA149:$AM149,0)","v":{"$error":"#N/A"}},{"$f":"MATCH(BZ$3,Millwall!$AA149:$AM149,0)","v":{"$error":"#N/A"}},{"$f":"MATCH(CA$3,Millwall!$AA149:$AM149,0)","v":{"$error":"#N/A"}},{"$f":"MATCH(CB$3,Millwall!$AA149:$AM149,0)","v":{"$error":"#N/A"}},{"$f":"MATCH(CC$3,Millwall!$AA149:$AM149,0)","v":{"$error":"#N/A"}},{"$f":"MATCH(CD$3,Millwall!$AA149:$AM149,0)","v":{"$error":"#N/A"}},{"$f":"MATCH(CE$3,Millwall!$AA149:$AM149,0)","v":{"$error":"#N/A"}},null,null,{"$f":"MATCH(CH$3,Millwall!$AN149:AP149,0)","v":{"$error":"#N/A"}},{"$f":"MATCH(CI$3,Millwall!$AN149:AP149,0)","v":{"$error":"#N/A"}},{"$f":"MATCH(CJ$3,Millwall!$AN149:AP149,0)","v":{"$error":"#N/A"}},{"$f":"MATCH(CK$3,Millwall!$AN149:AP149,0)","v":{"$error":"#N/A"}},{"$f":"MATCH(CL$3,Millwall!$AN149:AP149,0)","v":{"$error":"#N/A"}},{"$f":"MATCH(CM$3,Millwall!$AN149:AP149,0)","v":{"$error":"#N/A"}},{"$f":"MATCH(CN$3,Millwall!$AN149:AP149,0)","v":{"$error":"#N/A"}},{"$f":"MATCH(CO$3,Millwall!$AN149:AP149,0)","v":{"$error":"#N/A"}},{"$f":"MATCH(CP$3,Millwall!$AN149:AP149,0)","v":{"$error":"#N/A"}},{"$f":"MATCH(CQ$3,Millwall!$AN149:AP149,0)","v":{"$error":"#N/A"}},{"$f":"MATCH(CR$3,Millwall!$AN149:AP149,0)","v":{"$error":"#N/A"}},{"$f":"MATCH(CS$3,Millwall!$AN149:AP149,0)","v":{"$error":"#N/A"}},{"$f":"MATCH(CT$3,Millwall!$AN149:AP149,0)","v":{"$error":"#N/A"}},{"$f":"MATCH(CU$3,Millwall!$AN149:AP149,0)","v":{"$error":"#N/A"}},{"$f":"MATCH(CV$3,Millwall!$AN149:AP149,0)","v":{"$error":"#N/A"}},{"$f":"MATCH(CW$3,Millwall!$AN149:AP149,0)","v":{"$error":"#N/A"}},{"$f":"MATCH(CX$3,Millwall!$AN149:AP149,0)","v":{"$error":"#N/A"}},{"$f":"MATCH(CY$3,Millwall!$AN149:AP149,0)","v":{"$error":"#N/A"}},{"$f":"MATCH(CZ$3,Millwall!$AN149:AP149,0)","v":{"$error":"#N/A"}},{"$f":"MATCH(DA$3,Millwall!$AN149:AP149,0)","v":{"$error":"#N/A"}},{"$f":"MATCH(DB$3,Millwall!$AN149:AP149,0)","v":{"$error":"#N/A"}},{"$f":"MATCH(DC$3,Millwall!$AN149:AP149,0)","v":{"$error":"#N/A"}},{"$f":"MATCH(DD$3,Millwall!$AN149:AP149,0)","v":{"$error":"#N/A"}},{"$f":"MATCH(DE$3,Millwall!$AN149:AP149,0)","v":{"$error":"#N/A"}},{"$f":"MATCH(DF$3,Millwall!$AN149:AP149,0)","v":{"$error":"#N/A"}},{"$f":"MATCH(DG$3,Millwall!$AN149:AP149,0)","v":{"$error":"#N/A"}},{"$f":"MATCH(DH$3,Millwall!$AN149:AP149,0)","v":{"$error":"#N/A"}},{"$f":"MATCH(DI$3,Millwall!$AN149:AP149,0)","v":{"$error":"#N/A"}},{"$f":"MATCH(DJ$3,Millwall!$AN149:AP149,0)","v":{"$error":"#N/A"}},{"$f":"MATCH(DK$3,Millwall!$AN149:AP149,0)","v":{"$error":"#N/A"}},{"$f":"MATCH(DL$3,Millwall!$AN149:AP149,0)","v":{"$error":"#N/A"}},{"$f":"MATCH(DM$3,Millwall!$AN149:AP149,0)","v":{"$error":"#N/A"}},{"$f":"MATCH(DN$3,Millwall!$AN149:AP149,0)","v":{"$error":"#N/A"}},{"$f":"MATCH(DO$3,Millwall!$AN149:AP149,0)","v":{"$error":"#N/A"}}]
[null,null,1,null,null,{"$f":"Millwall!W150","v":"00:00:00"},null,{"$f":"Millwall!X150","v":"00:00:00"},{"$f":"Millwall!Y150","v":"00:00:00"},{"$f":"Millwall!Z150","v":"00:00:00"},{"$f":"MATCH(K$4,Millwall!$AA150:$AN150,0)","v":{"$error":"#N/A"}},{"$f":"MATCH(L$4,Millwall!$AA150:$AN150,0)","v":{"$error":"#N/A"}},{"$f":"MATCH(M$4,Millwall!$AA150:$AN150,0)","v":{"$error":"#N/A"}},{"$f":"MATCH(N$4,Millwall!$AA150:$AN150,0)","v":{"$error":"#N/A"}},{"$f":"MATCH(O$4,Millwall!$AA150:$AN150,0)","v":{"$error":"#N/A"}},{"$f":"MATCH(P$4,Millwall!$AA150:$AN150,0)","v":{"$error":"#N/A"}},{"$f":"MATCH(Q$4,Millwall!$AA150:$AN150,0)","v":{"$error":"#N/A"}},{"$f":"MATCH(R$4,Millwall!$AA150:$AN150,0)","v":{"$error":"#N/A"}},{"$f":"MATCH(S$4,Millwall!$AA150:$AN150,0)","v":{"$error":"#N/A"}},{"$f":"MATCH(T$4,Millwall!$AA150:$AN150,0)","v":{"$error":"#N/A"}},{"$f":"MATCH(U$4,Millwall!$AA150:$AN150,0)","v":{"$error":"#N/A"}},{"$f":"MATCH(V$4,Millwall!$AA150:$AN150,0)","v":{"$error":"#N/A"}},{"$f":"MATCH(W$4,Millwall!$AA150:$AN150,0)","v":{"$error":"#N/A"}},{"$f":"MATCH(X$4,Millwall!$AA150:$AN150,0)","v":{"$error":"#N/A"}},{"$f":"MATCH(Y$4,Millwall!$AA150:$AN150,0)","v":{"$error":"#N/A"}},{"$f":"MATCH(Z$4,Millwall!$AA150:$AN150,0)","v":{"$error":"#N/A"}},{"$f":"MATCH(AA$4,Millwall!$AA150:$AN150,0)","v":{"$error":"#N/A"}},{"$f":"MATCH(AB$4,Millwall!$AA150:$AN150,0)","v":{"$error":"#N/A"}},{"$f":"MATCH(AC$4,Millwall!$AA150:$AN150,0)","v":{"$error":"#N/A"}},{"$f":"MATCH(AD$4,Millwall!$AA150:$AN150,0)","v":{"$error":"#N/A"}},{"$f":"MATCH(AE$4,Millwall!$AA150:$AN150,0)","v":{"$error":"#N/A"}},{"$f":"MATCH(AF$4,Millwall!$AA150:$AN150,0)","v":{"$error":"#N/A"}},{"$f":"MATCH(AG$4,Millwall!$AA150:$AN150,0)","v":{"$error":"#N/A"}},{"$f":"MATCH(AH$4,Millwall!$AA150:$AN150,0)","v":{"$error":"#N/A"}},{"$f":"MATCH(AI$4,Millwall!$AA150:$AN150,0)","v":{"$error":"#N/A"}},{"$f":"MATCH(AJ$4,Millwall!$AA150:$AN150,0)","v":{"$error":"#N/A"}},{"$f":"MATCH(AK$4,Millwall!$AA150:$AN150,0)","v":{"$error":"#N/A"}},{"$f":"MATCH(AL$4,Millwall!$AA150:$AN150,0)","v":{"$error":"#N/A"}},{"$f":"MATCH(AM$4,Millwall!$AA150:$AN150,0)","v":{"$error":"#N/A"}},{"$f":"MATCH(AN$4,Millwall!$AA150:$AN150,0)","v":{"$error":"#N/A"}},{"$f":"MATCH(AO$4,Millwall!$AA150:$AN150,0)","v":{"$error":"#N/A"}},{"$f":"MATCH(AP$4,Millwall!$AA150:$AN150,0)","v":{"$error":"#N/A"}},{"$f":"MATCH(AQ$4,Millwall!$AA150:$AN150,0)","v":{"$error":"#N/A"}},{"$f":"MATCH(AR$4,Millwall!$AA150:$AN150,0)","v":{"$error":"#N/A"}},null,null,null,null,null,{"$f":"MATCH(AX$3,Millwall!$AA150:$AM150,0)","v":{"$error":"#N/A"}},{"$f":"MATCH(AY$3,Millwall!$AA150:$AM150,0)","v":{"$error":"#N/A"}},{"$f":"MATCH(AZ$3,Millwall!$AA150:$AM150,0)","v":{"$error":"#N/A"}},{"$f":"MATCH(BA$3,Millwall!$AA150:$AM150,0)","v":{"$error":"#N/A"}},{"$f":"MATCH(BB$3,Millwall!$AA150:$AM150,0)","v":{"$error":"#N/A"}},{"$f":"MATCH(BC$3,Millwall!$AA150:$AM150,0)","v":{"$error":"#N/A"}},{"$f":"MATCH(BD$3,Millwall!$AA150:$AM150,0)","v":{"$error":"#N/A"}},{"$f":"MATCH(BE$3,Millwall!$AA150:$AM150,0)","v":{"$error":"#N/A"}},{"$f":"MATCH(BF$3,Millwall!$AA150:$AM150,0)","v":{"$error":"#N/A"}},{"$f":"MATCH(BG$3,Millwall!$AA150:$AM150,0)","v":{"$error":"#N/A"}},{"$f":"MATCH(BH$3,Millwall!$AA150:$AM150,0)","v":{"$error":"#N/A"}},{"$f":"MATCH(BI$3,Millwall!$AA150:$AM150,0)","v":{"$error":"#N/A"}},{"$f":"MATCH(BJ$3,Millwall!$AA150:$AM150,0)","v":{"$error":"#N/A"}},{"$f":"MATCH(BK$3,Millwall!$AA150:$AM150,0)","v":{"$error":"#N/A"}},{"$f":"MATCH(BL$3,Millwall!$AA150:$AM150,0)","v":{"$error":"#N/A"}},{"$f":"MATCH(BM$3,Millwall!$AA150:$AM150,0)","v":{"$error":"#N/A"}},{"$f":"MATCH(BN$3,Millwall!$AA150:$AM150,0)","v":{"$error":"#N/A"}},{"$f":"MATCH(BO$3,Millwall!$AA150:$AM150,0)","v":{"$error":"#N/A"}},{"$f":"MATCH(BP$3,Millwall!$AA150:$AM150,0)","v":{"$error":"#N/A"}},{"$f":"MATCH(BQ$3,Millwall!$AA150:$AM150,0)","v":{"$error":"#N/A"}},{"$f":"MATCH(BR$3,Millwall!$AA150:$AM150,0)","v":{"$error":"#N/A"}},{"$f":"MATCH(BS$3,Millwall!$AA150:$AM150,0)","v":{"$error":"#N/A"}},{"$f":"MATCH(BT$3,Millwall!$AA150:$AM150,0)","v":{"$error":"#N/A"}},{"$f":"MATCH(BU$3,Millwall!$AA150:$AM150,0)","v":{"$error":"#N/A"}},{"$f":"MATCH(BV$3,Millwall!$AA150:$AM150,0)","v":{"$error":"#N/A"}},{"$f":"MATCH(BW$3,Millwall!$AA150:$AM150,0)","v":{"$error":"#N/A"}},{"$f":"MATCH(BX$3,Millwall!$AA150:$AM150,0)","v":{"$error":"#N/A"}},{"$f":"MATCH(BY$3,Millwall!$AA150:$AM150,0)","v":{"$error":"#N/A"}},{"$f":"MATCH(BZ$3,Millwall!$AA150:$AM150,0)","v":{"$error":"#N/A"}},{"$f":"MATCH(CA$3,Millwall!$AA150:$AM150,0)","v":{"$error":"#N/A"}},{"$f":"MATCH(CB$3,Millwall!$AA150:$AM150,0)","v":{"$error":"#N/A"}},{"$f":"MATCH(CC$3,Millwall!$AA150:$AM150,0)","v":{"$error":"#N/A"}},{"$f":"MATCH(CD$3,Millwall!$AA150:$AM150,0)","v":{"$error":"#N/A"}},{"$f":"MATCH(CE$3,Millwall!$AA150:$AM150,0)","v":{"$error":"#N/A"}},null,null,{"$f":"MATCH(CH$3,Millwall!$AN150:AP150,0)","v":{"$error":"#N/A"}},{"$f":"MATCH(CI$3,Millwall!$AN150:AP150,0)","v":{"$error":"#N/A"}},{"$f":"MATCH(CJ$3,Millwall!$AN150:AP150,0)","v":{"$error":"#N/A"}},{"$f":"MATCH(CK$3,Millwall!$AN150:AP150,0)","v":{"$error":"#N/A"}},{"$f":"MATCH(CL$3,Millwall!$AN150:AP150,0)","v":{"$error":"#N/A"}},{"$f":"MATCH(CM$3,Millwall!$AN150:AP150,0)","v":{"$error":"#N/A"}},{"$f":"MATCH(CN$3,Millwall!$AN150:AP150,0)","v":{"$error":"#N/A"}},{"$f":"MATCH(CO$3,Millwall!$AN150:AP150,0)","v":{"$error":"#N/A"}},{"$f":"MATCH(CP$3,Millwall!$AN150:AP150,0)","v":{"$error":"#N/A"}},{"$f":"MATCH(CQ$3,Millwall!$AN150:AP150,0)","v":{"$error":"#N/A"}},{"$f":"MATCH(CR$3,Millwall!$AN150:AP150,0)","v":{"$error":"#N/A"}},{"$f":"MATCH(CS$3,Millwall!$AN150:AP150,0)","v":{"$error":"#N/A"}},{"$f":"MATCH(CT$3,Millwall!$AN150:AP150,0)","v":{"$error":"#N/A"}},{"$f":"MATCH(CU$3,Millwall!$AN150:AP150,0)","v":{"$error":"#N/A"}},{"$f":"MATCH(CV$3,Millwall!$AN150:AP150,0)","v":{"$error":"#N/A"}},{"$f":"MATCH(CW$3,Millwall!$AN150:AP150,0)","v":{"$error":"#N/A"}},{"$f":"MATCH(CX$3,Millwall!$AN150:AP150,0)","v":{"$error":"#N/A"}},{"$f":"MATCH(CY$3,Millwall!$AN150:AP150,0)","v":{"$error":"#N/A"}},{"$f":"MATCH(CZ$3,Millwall!$AN150:AP150,0)","v":{"$error":"#N/A"}},{"$f":"MATCH(DA$3,Millwall!$AN150:AP150,0)","v":{"$error":"#N/A"}},{"$f":"MATCH(DB$3,Millwall!$AN150:AP150,0)","v":{"$error":"#N/A"}},{"$f":"MATCH(DC$3,Millwall!$AN150:AP150,0)","v":{"$error":"#N/A"}},{"$f":"MATCH(DD$3,Millwall!$AN150:AP150,0)","v":{"$error":"#N/A"}},{"$f":"MATCH(DE$3,Millwall!$AN150:AP150,0)","v":{"$error":"#N/A"}},{"$f":"MATCH(DF$3,Millwall!$AN150:AP150,0)","v":{"$error":"#N/A"}},{"$f":"MATCH(DG$3,Millwall!$AN150:AP150,0)","v":{"$error":"#N/A"}},{"$f":"MATCH(DH$3,Millwall!$AN150:AP150,0)","v":{"$error":"#N/A"}},{"$f":"MATCH(DI$3,Millwall!$AN150:AP150,0)","v":{"$error":"#N/A"}},{"$f":"MATCH(DJ$3,Millwall!$AN150:AP150,0)","v":{"$error":"#N/A"}},{"$f":"MATCH(DK$3,Millwall!$AN150:AP150,0)","v":{"$error":"#N/A"}},{"$f":"MATCH(DL$3,Millwall!$AN150:AP150,0)","v":{"$error":"#N/A"}},{"$f":"MATCH(DM$3,Millwall!$AN150:AP150,0)","v":{"$error":"#N/A"}},{"$f":"MATCH(DN$3,Millwall!$AN150:AP150,0)","v":{"$error":"#N/A"}},{"$f":"MATCH(DO$3,Millwall!$AN150:AP150,0)","v":{"$error":"#N/A"}}]
[null,null,1,null,null,{"$f":"Millwall!W151","v":"00:00:00"},null,{"$f":"Millwall!X151","v":"00:00:00"},{"$f":"Millwall!Y151","v":"00:00:00"},{"$f":"Millwall!Z151","v":0},{"$f":"MATCH(K$4,Millwall!$AA151:$AN151,0)","v":{"$error":"#N/A"}},{"$f":"MATCH(L$4,Millwall!$AA151:$AN151,0)","v":{"$error":"#N/A"}},{"$f":"MATCH(M$4,Millwall!$AA151:$AN151,0)","v":{"$error":"#N/A"}},{"$f":"MATCH(N$4,Millwall!$AA151:$AN151,0)","v":{"$error":"#N/A"}},{"$f":"MATCH(O$4,Millwall!$AA151:$AN151,0)","v":{"$error":"#N/A"}},{"$f":"MATCH(P$4,Millwall!$AA151:$AN151,0)","v":{"$error":"#N/A"}},{"$f":"MATCH(Q$4,Millwall!$AA151:$AN151,0)","v":{"$error":"#N/A"}},{"$f":"MATCH(R$4,Millwall!$AA151:$AN151,0)","v":{"$error":"#N/A"}},{"$f":"MATCH(S$4,Millwall!$AA151:$AN151,0)","v":{"$error":"#N/A"}},{"$f":"MATCH(T$4,Millwall!$AA151:$AN151,0)","v":{"$error":"#N/A"}},{"$f":"MATCH(U$4,Millwall!$AA151:$AN151,0)","v":{"$error":"#N/A"}},{"$f":"MATCH(V$4,Millwall!$AA151:$AN151,0)","v":{"$error":"#N/A"}},{"$f":"MATCH(W$4,Millwall!$AA151:$AN151,0)","v":{"$error":"#N/A"}},{"$f":"MATCH(X$4,Millwall!$AA151:$AN151,0)","v":{"$error":"#N/A"}},{"$f":"MATCH(Y$4,Millwall!$AA151:$AN151,0)","v":{"$error":"#N/A"}},{"$f":"MATCH(Z$4,Millwall!$AA151:$AN151,0)","v":{"$error":"#N/A"}},{"$f":"MATCH(AA$4,Millwall!$AA151:$AN151,0)","v":{"$error":"#N/A"}},{"$f":"MATCH(AB$4,Millwall!$AA151:$AN151,0)","v":{"$error":"#N/A"}},{"$f":"MATCH(AC$4,Millwall!$AA151:$AN151,0)","v":{"$error":"#N/A"}},{"$f":"MATCH(AD$4,Millwall!$AA151:$AN151,0)","v":{"$error":"#N/A"}},{"$f":"MATCH(AE$4,Millwall!$AA151:$AN151,0)","v":{"$error":"#N/A"}},{"$f":"MATCH(AF$4,Millwall!$AA151:$AN151,0)","v":{"$error":"#N/A"}},{"$f":"MATCH(AG$4,Millwall!$AA151:$AN151,0)","v":{"$error":"#N/A"}},{"$f":"MATCH(AH$4,Millwall!$AA151:$AN151,0)","v":{"$error":"#N/A"}},{"$f":"MATCH(AI$4,Millwall!$AA151:$AN151,0)","v":{"$error":"#N/A"}},{"$f":"MATCH(AJ$4,Millwall!$AA151:$AN151,0)","v":{"$error":"#N/A"}},{"$f":"MATCH(AK$4,Millwall!$AA151:$AN151,0)","v":{"$error":"#N/A"}},{"$f":"MATCH(AL$4,Millwall!$AA151:$AN151,0)","v":{"$error":"#N/A"}},{"$f":"MATCH(AM$4,Millwall!$AA151:$AN151,0)","v":{"$error":"#N/A"}},{"$f":"MATCH(AN$4,Millwall!$AA151:$AN151,0)","v":{"$error":"#N/A"}},{"$f":"MATCH(AO$4,Millwall!$AA151:$AN151,0)","v":{"$error":"#N/A"}},{"$f":"MATCH(AP$4,Millwall!$AA151:$AN151,0)","v":{"$error":"#N/A"}},{"$f":"MATCH(AQ$4,Millwall!$AA151:$AN151,0)","v":{"$error":"#N/A"}},{"$f":"MATCH(AR$4,Millwall!$AA151:$AN151,0)","v":{"$error":"#N/A"}},null,null,null,null,null,{"$f":"MATCH(AX$3,Millwall!$AA151:$AM151,0)","v":{"$error":"#N/A"}},{"$f":"MATCH(AY$3,Millwall!$AA151:$AM151,0)","v":{"$error":"#N/A"}},{"$f":"MATCH(AZ$3,Millwall!$AA151:$AM151,0)","v":{"$error":"#N/A"}},{"$f":"MATCH(BA$3,Millwall!$AA151:$AM151,0)","v":{"$error":"#N/A"}},{"$f":"MATCH(BB$3,Millwall!$AA151:$AM151,0)","v":{"$error":"#N/A"}},{"$f":"MATCH(BC$3,Millwall!$AA151:$AM151,0)","v":{"$error":"#N/A"}},{"$f":"MATCH(BD$3,Millwall!$AA151:$AM151,0)","v":{"$error":"#N/A"}},{"$f":"MATCH(BE$3,Millwall!$AA151:$AM151,0)","v":{"$error":"#N/A"}},{"$f":"MATCH(BF$3,Millwall!$AA151:$AM151,0)","v":{"$error":"#N/A"}},{"$f":"MATCH(BG$3,Millwall!$AA151:$AM151,0)","v":{"$error":"#N/A"}},{"$f":"MATCH(BH$3,Millwall!$AA151:$AM151,0)","v":{"$error":"#N/A"}},{"$f":"MATCH(BI$3,Millwall!$AA151:$AM151,0)","v":{"$error":"#N/A"}},{"$f":"MATCH(BJ$3,Millwall!$AA151:$AM151,0)","v":{"$error":"#N/A"}},{"$f":"MATCH(BK$3,Millwall!$AA151:$AM151,0)","v":{"$error":"#N/A"}},{"$f":"MATCH(BL$3,Millwall!$AA151:$AM151,0)","v":{"$error":"#N/A"}},{"$f":"MATCH(BM$3,Millwall!$AA151:$AM151,0)","v":{"$error":"#N/A"}},{"$f":"MATCH(BN$3,Millwall!$AA151:$AM151,0)","v":{"$error":"#N/A"}},{"$f":"MATCH(BO$3,Millwall!$AA151:$AM151,0)","v":{"$error":"#N/A"}},{"$f":"MATCH(BP$3,Millwall!$AA151:$AM151,0)","v":{"$error":"#N/A"}},{"$f":"MATCH(BQ$3,Millwall!$AA151:$AM151,0)","v":{"$error":"#N/A"}},{"$f":"MATCH(BR$3,Millwall!$AA151:$AM151,0)","v":{"$error":"#N/A"}},{"$f":"MATCH(BS$3,Millwall!$AA151:$AM151,0)","v":{"$error":"#N/A"}},{"$f":"MATCH(BT$3,Millwall!$AA151:$AM151,0)","v":{"$error":"#N/A"}},{"$f":"MATCH(BU$3,Millwall!$AA151:$AM151,0)","v":{"$error":"#N/A"}},{"$f":"MATCH(BV$3,Millwall!$AA151:$AM151,0)","v":{"$error":"#N/A"}},{"$f":"MATCH(BW$3,Millwall!$AA151:$AM151,0)","v":{"$error":"#N/A"}},{"$f":"MATCH(BX$3,Millwall!$AA151:$AM151,0)","v":{"$error":"#N/A"}},{"$f":"MATCH(BY$3,Millwall!$AA151:$AM151,0)","v":{"$error":"#N/A"}},{"$f":"MATCH(BZ$3,Millwall!$AA151:$AM151,0)","v":{"$error":"#N/A"}},{"$f":"MATCH(CA$3,Millwall!$AA151:$AM151,0)","v":{"$error":"#N/A"}},{"$f":"MATCH(CB$3,Millwall!$AA151:$AM151,0)","v":{"$error":"#N/A"}},{"$f":"MATCH(CC$3,Millwall!$AA151:$AM151,0)","v":{"$error":"#N/A"}},{"$f":"MATCH(CD$3,Millwall!$AA151:$AM151,0)","v":{"$error":"#N/A"}},{"$f":"MATCH(CE$3,Millwall!$AA151:$AM151,0)","v":{"$error":"#N/A"}},null,null,{"$f":"MATCH(CH$3,Millwall!$AN151:$AN151,0)","v":{"$error":"#N/A"}},{"$f":"MATCH(CI$3,Millwall!$AN151:$AN151,0)","v":{"$error":"#N/A"}},{"$f":"MATCH(CJ$3,Millwall!$AN151:$AN151,0)","v":{"$error":"#N/A"}},{"$f":"MATCH(CK$3,Millwall!$AN151:$AN151,0)","v":{"$error":"#N/A"}},{"$f":"MATCH(CL$3,Millwall!$AN151:$AN151,0)","v":{"$error":"#N/A"}},{"$f":"MATCH(CM$3,Millwall!$AN151:$AN151,0)","v":{"$error":"#N/A"}},{"$f":"MATCH(CN$3,Millwall!$AN151:$AN151,0)","v":{"$error":"#N/A"}},{"$f":"MATCH(CO$3,Millwall!$AN151:$AN151,0)","v":{"$error":"#N/A"}},{"$f":"MATCH(CP$3,Millwall!$AN151:$AN151,0)","v":{"$error":"#N/A"}},{"$f":"MATCH(CQ$3,Millwall!$AN151:$AN151,0)","v":{"$error":"#N/A"}},{"$f":"MATCH(CR$3,Millwall!$AN151:$AN151,0)","v":{"$error":"#N/A"}},{"$f":"MATCH(CS$3,Millwall!$AN151:$AN151,0)","v":{"$error":"#N/A"}},{"$f":"MATCH(CT$3,Millwall!$AN151:$AN151,0)","v":{"$error":"#N/A"}},{"$f":"MATCH(CU$3,Millwall!$AN151:$AN151,0)","v":{"$error":"#N/A"}},{"$f":"MATCH(CV$3,Millwall!$AN151:$AN151,0)","v":{"$error":"#N/A"}},{"$f":"MATCH(CW$3,Millwall!$AN151:$AN151,0)","v":{"$error":"#N/A"}},{"$f":"MATCH(CX$3,Millwall!$AN151:$AN151,0)","v":{"$error":"#N/A"}},{"$f":"MATCH(CY$3,Millwall!$AN151:$AN151,0)","v":{"$error":"#N/A"}},{"$f":"MATCH(CZ$3,Millwall!$AN151:$AN151,0)","v":{"$error":"#N/A"}},{"$f":"MATCH(DA$3,Millwall!$AN151:$AN151,0)","v":{"$error":"#N/A"}},{"$f":"MATCH(DB$3,Millwall!$AN151:$AN151,0)","v":{"$error":"#N/A"}},{"$f":"MATCH(DC$3,Millwall!$AN151:$AN151,0)","v":{"$error":"#N/A"}},{"$f":"MATCH(DD$3,Millwall!$AN151:$AN151,0)","v":{"$error":"#N/A"}},{"$f":"MATCH(DE$3,Millwall!$AN151:$AN151,0)","v":{"$error":"#N/A"}},{"$f":"MATCH(DF$3,Millwall!$AN151:$AN151,0)","v":{"$error":"#N/A"}},{"$f":"MATCH(DG$3,Millwall!$AN151:$AN151,0)","v":{"$error":"#N/A"}},{"$f":"MATCH(DH$3,Millwall!$AN151:$AN151,0)","v":{"$error":"#N/A"}},{"$f":"MATCH(DI$3,Millwall!$AN151:$AN151,0)","v":{"$error":"#N/A"}},{"$f":"MATCH(DJ$3,Millwall!$AN151:$AN151,0)","v":{"$error":"#N/A"}},{"$f":"MATCH(DK$3,Millwall!$AN151:$AN151,0)","v":{"$error":"#N/A"}},{"$f":"MATCH(DL$3,Millwall!$AN151:$AN151,0)","v":{"$error":"#N/A"}},{"$f":"MATCH(DM$3,Millwall!$AN151:$AN151,0)","v":{"$error":"#N/A"}},{"$f":"MATCH(DN$3,Millwall!$AN151:$AN151,0)","v":{"$error":"#N/A"}},{"$f":"MATCH(DO$3,Millwall!$AN151:$AN151,0)","v":{"$error":"#N/A"}}]
[null,null,1,null,null,{"$f":"Millwall!W152","v":"00:00:00"},null,{"$f":"Millwall!X152","v":"00:00:00"},{"$f":"Millwall!Y152","v":"00:00:00"},{"$f":"Millwall!Z152","v":0},{"$f":"MATCH(K$4,Millwall!$AA152:$AN152,0)","v":{"$error":"#N/A"}},{"$f":"MATCH(L$4,Millwall!$AA152:$AN152,0)","v":{"$error":"#N/A"}},{"$f":"MATCH(M$4,Millwall!$AA152:$AN152,0)","v":{"$error":"#N/A"}},{"$f":"MATCH(N$4,Millwall!$AA152:$AN152,0)","v":{"$error":"#N/A"}},{"$f":"MATCH(O$4,Millwall!$AA152:$AN152,0)","v":{"$error":"#N/A"}},{"$f":"MATCH(P$4,Millwall!$AA152:$AN152,0)","v":{"$error":"#N/A"}},{"$f":"MATCH(Q$4,Millwall!$AA152:$AN152,0)","v":{"$error":"#N/A"}},{"$f":"MATCH(R$4,Millwall!$AA152:$AN152,0)","v":{"$error":"#N/A"}},{"$f":"MATCH(S$4,Millwall!$AA152:$AN152,0)","v":{"$error":"#N/A"}},{"$f":"MATCH(T$4,Millwall!$AA152:$AN152,0)","v":{"$error":"#N/A"}},{"$f":"MATCH(U$4,Millwall!$AA152:$AN152,0)","v":{"$error":"#N/A"}},{"$f":"MATCH(V$4,Millwall!$AA152:$AN152,0)","v":{"$error":"#N/A"}},{"$f":"MATCH(W$4,Millwall!$AA152:$AN152,0)","v":{"$error":"#N/A"}},{"$f":"MATCH(X$4,Millwall!$AA152:$AN152,0)","v":{"$error":"#N/A"}},{"$f":"MATCH(Y$4,Millwall!$AA152:$AN152,0)","v":{"$error":"#N/A"}},{"$f":"MATCH(Z$4,Millwall!$AA152:$AN152,0)","v":{"$error":"#N/A"}},{"$f":"MATCH(AA$4,Millwall!$AA152:$AN152,0)","v":{"$error":"#N/A"}},{"$f":"MATCH(AB$4,Millwall!$AA152:$AN152,0)","v":{"$error":"#N/A"}},{"$f":"MATCH(AC$4,Millwall!$AA152:$AN152,0)","v":{"$error":"#N/A"}},{"$f":"MATCH(AD$4,Millwall!$AA152:$AN152,0)","v":{"$error":"#N/A"}},{"$f":"MATCH(AE$4,Millwall!$AA152:$AN152,0)","v":{"$error":"#N/A"}},{"$f":"MATCH(AF$4,Millwall!$AA152:$AN152,0)","v":{"$error":"#N/A"}},{"$f":"MATCH(AG$4,Millwall!$AA152:$AN152,0)","v":{"$error":"#N/A"}},{"$f":"MATCH(AH$4,Millwall!$AA152:$AN152,0)","v":{"$error":"#N/A"}},{"$f":"MATCH(AI$4,Millwall!$AA152:$AN152,0)","v":{"$error":"#N/A"}},{"$f":"MATCH(AJ$4,Millwall!$AA152:$AN152,0)","v":{"$error":"#N/A"}},{"$f":"MATCH(AK$4,Millwall!$AA152:$AN152,0)","v":{"$error":"#N/A"}},{"$f":"MATCH(AL$4,Millwall!$AA152:$AN152,0)","v":{"$error":"#N/A"}},{"$f":"MATCH(AM$4,Millwall!$AA152:$AN152,0)","v":{"$error":"#N/A"}},{"$f":"MATCH(AN$4,Millwall!$AA152:$AN152,0)","v":{"$error":"#N/A"}},{"$f":"MATCH(AO$4,Millwall!$AA152:$AN152,0)","v":{"$error":"#N/A"}},{"$f":"MATCH(AP$4,Millwall!$AA152:$AN152,0)","v":{"$error":"#N/A"}},{"$f":"MATCH(AQ$4,Millwall!$AA152:$AN152,0)","v":{"$error":"#N/A"}},{"$f":"MATCH(AR$4,Millwall!$AA152:$AN152,0)","v":{"$error":"#N/A"}},null,null,null,null,null,{"$f":"MATCH(AX$3,Millwall!$AA152:$AM152,0)","v":{"$error":"#N/A"}},{"$f":"MATCH(AY$3,Millwall!$AA152:$AM152,0)","v":{"$error":"#N/A"}},{"$f":"MATCH(AZ$3,Millwall!$AA152:$AM152,0)","v":{"$error":"#N/A"}},{"$f":"MATCH(BA$3,Millwall!$AA152:$AM152,0)","v":{"$error":"#N/A"}},{"$f":"MATCH(BB$3,Millwall!$AA152:$AM152,0)","v":{"$error":"#N/A"}},{"$f":"MATCH(BC$3,Millwall!$AA152:$AM152,0)","v":{"$error":"#N/A"}},{"$f":"MATCH(BD$3,Millwall!$AA152:$AM152,0)","v":{"$error":"#N/A"}},{"$f":"MATCH(BE$3,Millwall!$AA152:$AM152,0)","v":{"$error":"#N/A"}},{"$f":"MATCH(BF$3,Millwall!$AA152:$AM152,0)","v":{"$error":"#N/A"}},{"$f":"MATCH(BG$3,Millwall!$AA152:$AM152,0)","v":{"$error":"#N/A"}},{"$f":"MATCH(BH$3,Millwall!$AA152:$AM152,0)","v":{"$error":"#N/A"}},{"$f":"MATCH(BI$3,Millwall!$AA152:$AM152,0)","v":{"$error":"#N/A"}},{"$f":"MATCH(BJ$3,Millwall!$AA152:$AM152,0)","v":{"$error":"#N/A"}},{"$f":"MATCH(BK$3,Millwall!$AA152:$AM152,0)","v":{"$error":"#N/A"}},{"$f":"MATCH(BL$3,Millwall!$AA152:$AM152,0)","v":{"$error":"#N/A"}},{"$f":"MATCH(BM$3,Millwall!$AA152:$AM152,0)","v":{"$error":"#N/A"}},{"$f":"MATCH(BN$3,Millwall!$AA152:$AM152,0)","v":{"$error":"#N/A"}},{"$f":"MATCH(BO$3,Millwall!$AA152:$AM152,0)","v":{"$error":"#N/A"}},{"$f":"MATCH(BP$3,Millwall!$AA152:$AM152,0)","v":{"$error":"#N/A"}},{"$f":"MATCH(BQ$3,Millwall!$AA152:$AM152,0)","v":{"$error":"#N/A"}},{"$f":"MATCH(BR$3,Millwall!$AA152:$AM152,0)","v":{"$error":"#N/A"}},{"$f":"MATCH(BS$3,Millwall!$AA152:$AM152,0)","v":{"$error":"#N/A"}},{"$f":"MATCH(BT$3,Millwall!$AA152:$AM152,0)","v":{"$error":"#N/A"}},{"$f":"MATCH(BU$3,Millwall!$AA152:$AM152,0)","v":{"$error":"#N/A"}},{"$f":"MATCH(BV$3,Millwall!$AA152:$AM152,0)","v":{"$error":"#N/A"}},{"$f":"MATCH(BW$3,Millwall!$AA152:$AM152,0)","v":{"$error":"#N/A"}},{"$f":"MATCH(BX$3,Millwall!$AA152:$AM152,0)","v":{"$error":"#N/A"}},{"$f":"MATCH(BY$3,Millwall!$AA152:$AM152,0)","v":{"$error":"#N/A"}},{"$f":"MATCH(BZ$3,Millwall!$AA152:$AM152,0)","v":{"$error":"#N/A"}},{"$f":"MATCH(CA$3,Millwall!$AA152:$AM152,0)","v":{"$error":"#N/A"}},{"$f":"MATCH(CB$3,Millwall!$AA152:$AM152,0)","v":{"$error":"#N/A"}},{"$f":"MATCH(CC$3,Millwall!$AA152:$AM152,0)","v":{"$error":"#N/A"}},{"$f":"MATCH(CD$3,Millwall!$AA152:$AM152,0)","v":{"$error":"#N/A"}},{"$f":"MATCH(CE$3,Millwall!$AA152:$AM152,0)","v":{"$error":"#N/A"}},null,null,{"$f":"MATCH(CH$3,Millwall!$AN152:AP152,0)","v":{"$error":"#N/A"}},{"$f":"MATCH(CI$3,Millwall!$AN152:AP152,0)","v":{"$error":"#N/A"}},{"$f":"MATCH(CJ$3,Millwall!$AN152:AP152,0)","v":{"$error":"#N/A"}},{"$f":"MATCH(CK$3,Millwall!$AN152:AP152,0)","v":{"$error":"#N/A"}},{"$f":"MATCH(CL$3,Millwall!$AN152:AP152,0)","v":{"$error":"#N/A"}},{"$f":"MATCH(CM$3,Millwall!$AN152:AP152,0)","v":{"$error":"#N/A"}},{"$f":"MATCH(CN$3,Millwall!$AN152:AP152,0)","v":{"$error":"#N/A"}},{"$f":"MATCH(CO$3,Millwall!$AN152:AP152,0)","v":{"$error":"#N/A"}},{"$f":"MATCH(CP$3,Millwall!$AN152:AP152,0)","v":{"$error":"#N/A"}},{"$f":"MATCH(CQ$3,Millwall!$AN152:AP152,0)","v":{"$error":"#N/A"}},{"$f":"MATCH(CR$3,Millwall!$AN152:AP152,0)","v":{"$error":"#N/A"}},{"$f":"MATCH(CS$3,Millwall!$AN152:AP152,0)","v":{"$error":"#N/A"}},{"$f":"MATCH(CT$3,Millwall!$AN152:AP152,0)","v":{"$error":"#N/A"}},{"$f":"MATCH(CU$3,Millwall!$AN152:AP152,0)","v":{"$error":"#N/A"}},{"$f":"MATCH(CV$3,Millwall!$AN152:AP152,0)","v":{"$error":"#N/A"}},{"$f":"MATCH(CW$3,Millwall!$AN152:AP152,0)","v":{"$error":"#N/A"}},{"$f":"MATCH(CX$3,Millwall!$AN152:AP152,0)","v":{"$error":"#N/A"}},{"$f":"MATCH(CY$3,Millwall!$AN152:AP152,0)","v":{"$error":"#N/A"}},{"$f":"MATCH(CZ$3,Millwall!$AN152:AP152,0)","v":{"$error":"#N/A"}},{"$f":"MATCH(DA$3,Millwall!$AN152:AP152,0)","v":{"$error":"#N/A"}},{"$f":"MATCH(DB$3,Millwall!$AN152:AP152,0)","v":{"$error":"#N/A"}},{"$f":"MATCH(DC$3,Millwall!$AN152:AP152,0)","v":{"$error":"#N/A"}},{"$f":"MATCH(DD$3,Millwall!$AN152:AP152,0)","v":{"$error":"#N/A"}},{"$f":"MATCH(DE$3,Millwall!$AN152:AP152,0)","v":{"$error":"#N/A"}},{"$f":"MATCH(DF$3,Millwall!$AN152:AP152,0)","v":{"$error":"#N/A"}},{"$f":"MATCH(DG$3,Millwall!$AN152:AP152,0)","v":{"$error":"#N/A"}},{"$f":"MATCH(DH$3,Millwall!$AN152:AP152,0)","v":{"$error":"#N/A"}},{"$f":"MATCH(DI$3,Millwall!$AN152:AP152,0)","v":{"$error":"#N/A"}},{"$f":"MATCH(DJ$3,Millwall!$AN152:AP152,0)","v":{"$error":"#N/A"}},{"$f":"MATCH(DK$3,Millwall!$AN152:AP152,0)","v":{"$error":"#N/A"}},{"$f":"MATCH(DL$3,Millwall!$AN152:AP152,0)","v":{"$error":"#N/A"}},{"$f":"MATCH(DM$3,Millwall!$AN152:AP152,0)","v":{"$error":"#N/A"}},{"$f":"MATCH(DN$3,Millwall!$AN152:AP152,0)","v":{"$error":"#N/A"}},{"$f":"MATCH(DO$3,Millwall!$AN152:AP152,0)","v":{"$error":"#N/A"}}]
[null,null,1,null,null,{"$f":"Millwall!W153","v":"00:00:00"},null,{"$f":"Millwall!X153","v":"00:00:00"},{"$f":"Millwall!Y153","v":"00:00:00"},{"$f":"Millwall!Z153","v":0},{"$f":"MATCH(K$4,Millwall!$AA153:$AN153,0)","v":{"$error":"#N/A"}},{"$f":"MATCH(L$4,Millwall!$AA153:$AN153,0)","v":{"$error":"#N/A"}},{"$f":"MATCH(M$4,Millwall!$AA153:$AN153,0)","v":{"$error":"#N/A"}},{"$f":"MATCH(N$4,Millwall!$AA153:$AN153,0)","v":{"$error":"#N/A"}},{"$f":"MATCH(O$4,Millwall!$AA153:$AN153,0)","v":{"$error":"#N/A"}},{"$f":"MATCH(P$4,Millwall!$AA153:$AN153,0)","v":{"$error":"#N/A"}},{"$f":"MATCH(Q$4,Millwall!$AA153:$AN153,0)","v":{"$error":"#N/A"}},{"$f":"MATCH(R$4,Millwall!$AA153:$AN153,0)","v":{"$error":"#N/A"}},{"$f":"MATCH(S$4,Millwall!$AA153:$AN153,0)","v":{"$error":"#N/A"}},{"$f":"MATCH(T$4,Millwall!$AA153:$AN153,0)","v":{"$error":"#N/A"}},{"$f":"MATCH(U$4,Millwall!$AA153:$AN153,0)","v":{"$error":"#N/A"}},{"$f":"MATCH(V$4,Millwall!$AA153:$AN153,0)","v":{"$error":"#N/A"}},{"$f":"MATCH(W$4,Millwall!$AA153:$AN153,0)","v":{"$error":"#N/A"}},{"$f":"MATCH(X$4,Millwall!$AA153:$AN153,0)","v":{"$error":"#N/A"}},{"$f":"MATCH(Y$4,Millwall!$AA153:$AN153,0)","v":{"$error":"#N/A"}},{"$f":"MATCH(Z$4,Millwall!$AA153:$AN153,0)","v":{"$error":"#N/A"}},{"$f":"MATCH(AA$4,Millwall!$AA153:$AN153,0)","v":{"$error":"#N/A"}},{"$f":"MATCH(AB$4,Millwall!$AA153:$AN153,0)","v":{"$error":"#N/A"}},{"$f":"MATCH(AC$4,Millwall!$AA153:$AN153,0)","v":{"$error":"#N/A"}},{"$f":"MATCH(AD$4,Millwall!$AA153:$AN153,0)","v":{"$error":"#N/A"}},{"$f":"MATCH(AE$4,Millwall!$AA153:$AN153,0)","v":{"$error":"#N/A"}},{"$f":"MATCH(AF$4,Millwall!$AA153:$AN153,0)","v":{"$error":"#N/A"}},{"$f":"MATCH(AG$4,Millwall!$AA153:$AN153,0)","v":{"$error":"#N/A"}},{"$f":"MATCH(AH$4,Millwall!$AA153:$AN153,0)","v":{"$error":"#N/A"}},{"$f":"MATCH(AI$4,Millwall!$AA153:$AN153,0)","v":{"$error":"#N/A"}},{"$f":"MATCH(AJ$4,Millwall!$AA153:$AN153,0)","v":{"$error":"#N/A"}},{"$f":"MATCH(AK$4,Millwall!$AA153:$AN153,0)","v":{"$error":"#N/A"}},{"$f":"MATCH(AL$4,Millwall!$AA153:$AN153,0)","v":{"$error":"#N/A"}},{"$f":"MATCH(AM$4,Millwall!$AA153:$AN153,0)","v":{"$error":"#N/A"}},{"$f":"MATCH(AN$4,Millwall!$AA153:$AN153,0)","v":{"$error":"#N/A"}},{"$f":"MATCH(AO$4,Millwall!$AA153:$AN153,0)","v":{"$error":"#N/A"}},{"$f":"MATCH(AP$4,Millwall!$AA153:$AN153,0)","v":{"$error":"#N/A"}},{"$f":"MATCH(AQ$4,Millwall!$AA153:$AN153,0)","v":{"$error":"#N/A"}},{"$f":"MATCH(AR$4,Millwall!$AA153:$AN153,0)","v":{"$error":"#N/A"}},null,null,null,null,null,{"$f":"MATCH(AX$3,Millwall!$AA153:$AM153,0)","v":{"$error":"#N/A"}},{"$f":"MATCH(AY$3,Millwall!$AA153:$AM153,0)","v":{"$error":"#N/A"}},{"$f":"MATCH(AZ$3,Millwall!$AA153:$AM153,0)","v":{"$error":"#N/A"}},{"$f":"MATCH(BA$3,Millwall!$AA153:$AM153,0)","v":{"$error":"#N/A"}},{"$f":"MATCH(BB$3,Millwall!$AA153:$AM153,0)","v":{"$error":"#N/A"}},{"$f":"MATCH(BC$3,Millwall!$AA153:$AM153,0)","v":{"$error":"#N/A"}},{"$f":"MATCH(BD$3,Millwall!$AA153:$AM153,0)","v":{"$error":"#N/A"}},{"$f":"MATCH(BE$3,Millwall!$AA153:$AM153,0)","v":{"$error":"#N/A"}},{"$f":"MATCH(BF$3,Millwall!$AA153:$AM153,0)","v":{"$error":"#N/A"}},{"$f":"MATCH(BG$3,Millwall!$AA153:$AM153,0)","v":{"$error":"#N/A"}},{"$f":"MATCH(BH$3,Millwall!$AA153:$AM153,0)","v":{"$error":"#N/A"}},{"$f":"MATCH(BI$3,Millwall!$AA153:$AM153,0)","v":{"$error":"#N/A"}},{"$f":"MATCH(BJ$3,Millwall!$AA153:$AM153,0)","v":{"$error":"#N/A"}},{"$f":"MATCH(BK$3,Millwall!$AA153:$AM153,0)","v":{"$error":"#N/A"}},{"$f":"MATCH(BL$3,Millwall!$AA153:$AM153,0)","v":{"$error":"#N/A"}},{"$f":"MATCH(BM$3,Millwall!$AA153:$AM153,0)","v":{"$error":"#N/A"}},{"$f":"MATCH(BN$3,Millwall!$AA153:$AM153,0)","v":{"$error":"#N/A"}},{"$f":"MATCH(BO$3,Millwall!$AA153:$AM153,0)","v":{"$error":"#N/A"}},{"$f":"MATCH(BP$3,Millwall!$AA153:$AM153,0)","v":{"$error":"#N/A"}},{"$f":"MATCH(BQ$3,Millwall!$AA153:$AM153,0)","v":{"$error":"#N/A"}},{"$f":"MATCH(BR$3,Millwall!$AA153:$AM153,0)","v":{"$error":"#N/A"}},{"$f":"MATCH(BS$3,Millwall!$AA153:$AM153,0)","v":{"$error":"#N/A"}},{"$f":"MATCH(BT$3,Millwall!$AA153:$AM153,0)","v":{"$error":"#N/A"}},{"$f":"MATCH(BU$3,Millwall!$AA153:$AM153,0)","v":{"$error":"#N/A"}},{"$f":"MATCH(BV$3,Millwall!$AA153:$AM153,0)","v":{"$error":"#N/A"}},{"$f":"MATCH(BW$3,Millwall!$AA153:$AM153,0)","v":{"$error":"#N/A"}},{"$f":"MATCH(BX$3,Millwall!$AA153:$AM153,0)","v":{"$error":"#N/A"}},{"$f":"MATCH(BY$3,Millwall!$AA153:$AM153,0)","v":{"$error":"#N/A"}},{"$f":"MATCH(BZ$3,Millwall!$AA153:$AM153,0)","v":{"$error":"#N/A"}},{"$f":"MATCH(CA$3,Millwall!$AA153:$AM153,0)","v":{"$error":"#N/A"}},{"$f":"MATCH(CB$3,Millwall!$AA153:$AM153,0)","v":{"$error":"#N/A"}},{"$f":"MATCH(CC$3,Millwall!$AA153:$AM153,0)","v":{"$error":"#N/A"}},{"$f":"MATCH(CD$3,Millwall!$AA153:$AM153,0)","v":{"$error":"#N/A"}},{"$f":"MATCH(CE$3,Millwall!$AA153:$AM153,0)","v":{"$error":"#N/A"}},null,null,{"$f":"MATCH(CH$3,Millwall!$AN153:AP153,0)","v":{"$error":"#N/A"}},{"$f":"MATCH(CI$3,Millwall!$AN153:AP153,0)","v":{"$error":"#N/A"}},{"$f":"MATCH(CJ$3,Millwall!$AN153:AP153,0)","v":{"$error":"#N/A"}},{"$f":"MATCH(CK$3,Millwall!$AN153:AP153,0)","v":{"$error":"#N/A"}},{"$f":"MATCH(CL$3,Millwall!$AN153:AP153,0)","v":{"$error":"#N/A"}},{"$f":"MATCH(CM$3,Millwall!$AN153:AP153,0)","v":{"$error":"#N/A"}},{"$f":"MATCH(CN$3,Millwall!$AN153:AP153,0)","v":{"$error":"#N/A"}},{"$f":"MATCH(CO$3,Millwall!$AN153:AP153,0)","v":{"$error":"#N/A"}},{"$f":"MATCH(CP$3,Millwall!$AN153:AP153,0)","v":{"$error":"#N/A"}},{"$f":"MATCH(CQ$3,Millwall!$AN153:AP153,0)","v":{"$error":"#N/A"}},{"$f":"MATCH(CR$3,Millwall!$AN153:AP153,0)","v":{"$error":"#N/A"}},{"$f":"MATCH(CS$3,Millwall!$AN153:AP153,0)","v":{"$error":"#N/A"}},{"$f":"MATCH(CT$3,Millwall!$AN153:AP153,0)","v":{"$error":"#N/A"}},{"$f":"MATCH(CU$3,Millwall!$AN153:AP153,0)","v":{"$error":"#N/A"}},{"$f":"MATCH(CV$3,Millwall!$AN153:AP153,0)","v":{"$error":"#N/A"}},{"$f":"MATCH(CW$3,Millwall!$AN153:AP153,0)","v":{"$error":"#N/A"}},{"$f":"MATCH(CX$3,Millwall!$AN153:AP153,0)","v":{"$error":"#N/A"}},{"$f":"MATCH(CY$3,Millwall!$AN153:AP153,0)","v":{"$error":"#N/A"}},{"$f":"MATCH(CZ$3,Millwall!$AN153:AP153,0)","v":{"$error":"#N/A"}},{"$f":"MATCH(DA$3,Millwall!$AN153:AP153,0)","v":{"$error":"#N/A"}},{"$f":"MATCH(DB$3,Millwall!$AN153:AP153,0)","v":{"$error":"#N/A"}},{"$f":"MATCH(DC$3,Millwall!$AN153:AP153,0)","v":{"$error":"#N/A"}},{"$f":"MATCH(DD$3,Millwall!$AN153:AP153,0)","v":{"$error":"#N/A"}},{"$f":"MATCH(DE$3,Millwall!$AN153:AP153,0)","v":{"$error":"#N/A"}},{"$f":"MATCH(DF$3,Millwall!$AN153:AP153,0)","v":{"$error":"#N/A"}},{"$f":"MATCH(DG$3,Millwall!$AN153:AP153,0)","v":{"$error":"#N/A"}},{"$f":"MATCH(DH$3,Millwall!$AN153:AP153,0)","v":{"$error":"#N/A"}},{"$f":"MATCH(DI$3,Millwall!$AN153:AP153,0)","v":{"$error":"#N/A"}},{"$f":"MATCH(DJ$3,Millwall!$AN153:AP153,0)","v":{"$error":"#N/A"}},{"$f":"MATCH(DK$3,Millwall!$AN153:AP153,0)","v":{"$error":"#N/A"}},{"$f":"MATCH(DL$3,Millwall!$AN153:AP153,0)","v":{"$error":"#N/A"}},{"$f":"MATCH(DM$3,Millwall!$AN153:AP153,0)","v":{"$error":"#N/A"}},{"$f":"MATCH(DN$3,Millwall!$AN153:AP153,0)","v":{"$error":"#N/A"}},{"$f":"MATCH(DO$3,Millwall!$AN153:AP153,0)","v":{"$error":"#N/A"}}]
[null,null,1,null,null,{"$f":"Millwall!W154","v":"00:00:00"},null,{"$f":"Millwall!X154","v":"00:00:00"},{"$f":"Millwall!Y154","v":"00:00:00"},{"$f":"Millwall!Z154","v":0},{"$f":"MATCH(K$4,Millwall!$AA154:$AN154,0)","v":{"$error":"#N/A"}},{"$f":"MATCH(L$4,Millwall!$AA154:$AN154,0)","v":{"$error":"#N/A"}},{"$f":"MATCH(M$4,Millwall!$AA154:$AN154,0)","v":{"$error":"#N/A"}},{"$f":"MATCH(N$4,Millwall!$AA154:$AN154,0)","v":{"$error":"#N/A"}},{"$f":"MATCH(O$4,Millwall!$AA154:$AN154,0)","v":{"$error":"#N/A"}},{"$f":"MATCH(P$4,Millwall!$AA154:$AN154,0)","v":{"$error":"#N/A"}},{"$f":"MATCH(Q$4,Millwall!$AA154:$AN154,0)","v":{"$error":"#N/A"}},{"$f":"MATCH(R$4,Millwall!$AA154:$AN154,0)","v":{"$error":"#N/A"}},{"$f":"MATCH(S$4,Millwall!$AA154:$AN154,0)","v":{"$error":"#N/A"}},{"$f":"MATCH(T$4,Millwall!$AA154:$AN154,0)","v":{"$error":"#N/A"}},{"$f":"MATCH(U$4,Millwall!$AA154:$AN154,0)","v":{"$error":"#N/A"}},{"$f":"MATCH(V$4,Millwall!$AA154:$AN154,0)","v":{"$error":"#N/A"}},{"$f":"MATCH(W$4,Millwall!$AA154:$AN154,0)","v":{"$error":"#N/A"}},{"$f":"MATCH(X$4,Millwall!$AA154:$AN154,0)","v":{"$error":"#N/A"}},{"$f":"MATCH(Y$4,Millwall!$AA154:$AN154,0)","v":{"$error":"#N/A"}},{"$f":"MATCH(Z$4,Millwall!$AA154:$AN154,0)","v":{"$error":"#N/A"}},{"$f":"MATCH(AA$4,Millwall!$AA154:$AN154,0)","v":{"$error":"#N/A"}},{"$f":"MATCH(AB$4,Millwall!$AA154:$AN154,0)","v":{"$error":"#N/A"}},{"$f":"MATCH(AC$4,Millwall!$AA154:$AN154,0)","v":{"$error":"#N/A"}},{"$f":"MATCH(AD$4,Millwall!$AA154:$AN154,0)","v":{"$error":"#N/A"}},{"$f":"MATCH(AE$4,Millwall!$AA154:$AN154,0)","v":{"$error":"#N/A"}},{"$f":"MATCH(AF$4,Millwall!$AA154:$AN154,0)","v":{"$error":"#N/A"}},{"$f":"MATCH(AG$4,Millwall!$AA154:$AN154,0)","v":{"$error":"#N/A"}},{"$f":"MATCH(AH$4,Millwall!$AA154:$AN154,0)","v":{"$error":"#N/A"}},{"$f":"MATCH(AI$4,Millwall!$AA154:$AN154,0)","v":{"$error":"#N/A"}},{"$f":"MATCH(AJ$4,Millwall!$AA154:$AN154,0)","v":{"$error":"#N/A"}},{"$f":"MATCH(AK$4,Millwall!$AA154:$AN154,0)","v":{"$error":"#N/A"}},{"$f":"MATCH(AL$4,Millwall!$AA154:$AN154,0)","v":{"$error":"#N/A"}},{"$f":"MATCH(AM$4,Millwall!$AA154:$AN154,0)","v":{"$error":"#N/A"}},{"$f":"MATCH(AN$4,Millwall!$AA154:$AN154,0)","v":{"$error":"#N/A"}},{"$f":"MATCH(AO$4,Millwall!$AA154:$AN154,0)","v":{"$error":"#N/A"}},{"$f":"MATCH(AP$4,Millwall!$AA154:$AN154,0)","v":{"$error":"#N/A"}},{"$f":"MATCH(AQ$4,Millwall!$AA154:$AN154,0)","v":{"$error":"#N/A"}},{"$f":"MATCH(AR$4,Millwall!$AA154:$AN154,0)","v":{"$error":"#N/A"}},null,null,null,null,null,{"$f":"MATCH(AX$3,Millwall!$AA154:$AM154,0)","v":{"$error":"#N/A"}},{"$f":"MATCH(AY$3,Millwall!$AA154:$AM154,0)","v":{"$error":"#N/A"}},{"$f":"MATCH(AZ$3,Millwall!$AA154:$AM154,0)","v":{"$error":"#N/A"}},{"$f":"MATCH(BA$3,Millwall!$AA154:$AM154,0)","v":{"$error":"#N/A"}},{"$f":"MATCH(BB$3,Millwall!$AA154:$AM154,0)","v":{"$error":"#N/A"}},{"$f":"MATCH(BC$3,Millwall!$AA154:$AM154,0)","v":{"$error":"#N/A"}},{"$f":"MATCH(BD$3,Millwall!$AA154:$AM154,0)","v":{"$error":"#N/A"}},{"$f":"MATCH(BE$3,Millwall!$AA154:$AM154,0)","v":{"$error":"#N/A"}},{"$f":"MATCH(BF$3,Millwall!$AA154:$AM154,0)","v":{"$error":"#N/A"}},{"$f":"MATCH(BG$3,Millwall!$AA154:$AM154,0)","v":{"$error":"#N/A"}},{"$f":"MATCH(BH$3,Millwall!$AA154:$AM154,0)","v":{"$error":"#N/A"}},{"$f":"MATCH(BI$3,Millwall!$AA154:$AM154,0)","v":{"$error":"#N/A"}},{"$f":"MATCH(BJ$3,Millwall!$AA154:$AM154,0)","v":{"$error":"#N/A"}},{"$f":"MATCH(BK$3,Millwall!$AA154:$AM154,0)","v":{"$error":"#N/A"}},{"$f":"MATCH(BL$3,Millwall!$AA154:$AM154,0)","v":{"$error":"#N/A"}},{"$f":"MATCH(BM$3,Millwall!$AA154:$AM154,0)","v":{"$error":"#N/A"}},{"$f":"MATCH(BN$3,Millwall!$AA154:$AM154,0)","v":{"$error":"#N/A"}},{"$f":"MATCH(BO$3,Millwall!$AA154:$AM154,0)","v":{"$error":"#N/A"}},{"$f":"MATCH(BP$3,Millwall!$AA154:$AM154,0)","v":{"$error":"#N/A"}},{"$f":"MATCH(BQ$3,Millwall!$AA154:$AM154,0)","v":{"$error":"#N/A"}},{"$f":"MATCH(BR$3,Millwall!$AA154:$AM154,0)","v":{"$error":"#N/A"}},{"$f":"MATCH(BS$3,Millwall!$AA154:$AM154,0)","v":{"$error":"#N/A"}},{"$f":"MATCH(BT$3,Millwall!$AA154:$AM154,0)","v":{"$error":"#N/A"}},{"$f":"MATCH(BU$3,Millwall!$AA154:$AM154,0)","v":{"$error":"#N/A"}},{"$f":"MATCH(BV$3,Millwall!$AA154:$AM154,0)","v":{"$error":"#N/A"}},{"$f":"MATCH(BW$3,Millwall!$AA154:$AM154,0)","v":{"$error":"#N/A"}},{"$f":"MATCH(BX$3,Millwall!$AA154:$AM154,0)","v":{"$error":"#N/A"}},{"$f":"MATCH(BY$3,Millwall!$AA154:$AM154,0)","v":{"$error":"#N/A"}},{"$f":"MATCH(BZ$3,Millwall!$AA154:$AM154,0)","v":{"$error":"#N/A"}},{"$f":"MATCH(CA$3,Millwall!$AA154:$AM154,0)","v":{"$error":"#N/A"}},{"$f":"MATCH(CB$3,Millwall!$AA154:$AM154,0)","v":{"$error":"#N/A"}},{"$f":"MATCH(CC$3,Millwall!$AA154:$AM154,0)","v":{"$error":"#N/A"}},{"$f":"MATCH(CD$3,Millwall!$AA154:$AM154,0)","v":{"$error":"#N/A"}},{"$f":"MATCH(CE$3,Millwall!$AA154:$AM154,0)","v":{"$error":"#N/A"}},null,null,{"$f":"MATCH(CH$3,Millwall!$AN154:AP154,0)","v":{"$error":"#N/A"}},{"$f":"MATCH(CI$3,Millwall!$AN154:AP154,0)","v":{"$error":"#N/A"}},{"$f":"MATCH(CJ$3,Millwall!$AN154:AP154,0)","v":{"$error":"#N/A"}},{"$f":"MATCH(CK$3,Millwall!$AN154:AP154,0)","v":{"$error":"#N/A"}},{"$f":"MATCH(CL$3,Millwall!$AN154:AP154,0)","v":{"$error":"#N/A"}},{"$f":"MATCH(CM$3,Millwall!$AN154:AP154,0)","v":{"$error":"#N/A"}},{"$f":"MATCH(CN$3,Millwall!$AN154:AP154,0)","v":{"$error":"#N/A"}},{"$f":"MATCH(CO$3,Millwall!$AN154:AP154,0)","v":{"$error":"#N/A"}},{"$f":"MATCH(CP$3,Millwall!$AN154:AP154,0)","v":{"$error":"#N/A"}},{"$f":"MATCH(CQ$3,Millwall!$AN154:AP154,0)","v":{"$error":"#N/A"}},{"$f":"MATCH(CR$3,Millwall!$AN154:AP154,0)","v":{"$error":"#N/A"}},{"$f":"MATCH(CS$3,Millwall!$AN154:AP154,0)","v":{"$error":"#N/A"}},{"$f":"MATCH(CT$3,Millwall!$AN154:AP154,0)","v":{"$error":"#N/A"}},{"$f":"MATCH(CU$3,Millwall!$AN154:AP154,0)","v":{"$error":"#N/A"}},{"$f":"MATCH(CV$3,Millwall!$AN154:AP154,0)","v":{"$error":"#N/A"}},{"$f":"MATCH(CW$3,Millwall!$AN154:AP154,0)","v":{"$error":"#N/A"}},{"$f":"MATCH(CX$3,Millwall!$AN154:AP154,0)","v":{"$error":"#N/A"}},{"$f":"MATCH(CY$3,Millwall!$AN154:AP154,0)","v":{"$error":"#N/A"}},{"$f":"MATCH(CZ$3,Millwall!$AN154:AP154,0)","v":{"$error":"#N/A"}},{"$f":"MATCH(DA$3,Millwall!$AN154:AP154,0)","v":{"$error":"#N/A"}},{"$f":"MATCH(DB$3,Millwall!$AN154:AP154,0)","v":{"$error":"#N/A"}},{"$f":"MATCH(DC$3,Millwall!$AN154:AP154,0)","v":{"$error":"#N/A"}},{"$f":"MATCH(DD$3,Millwall!$AN154:AP154,0)","v":{"$error":"#N/A"}},{"$f":"MATCH(DE$3,Millwall!$AN154:AP154,0)","v":{"$error":"#N/A"}},{"$f":"MATCH(DF$3,Millwall!$AN154:AP154,0)","v":{"$error":"#N/A"}},{"$f":"MATCH(DG$3,Millwall!$AN154:AP154,0)","v":{"$error":"#N/A"}},{"$f":"MATCH(DH$3,Millwall!$AN154:AP154,0)","v":{"$error":"#N/A"}},{"$f":"MATCH(DI$3,Millwall!$AN154:AP154,0)","v":{"$error":"#N/A"}},{"$f":"MATCH(DJ$3,Millwall!$AN154:AP154,0)","v":{"$error":"#N/A"}},{"$f":"MATCH(DK$3,Millwall!$AN154:AP154,0)","v":{"$error":"#N/A"}},{"$f":"MATCH(DL$3,Millwall!$AN154:AP154,0)","v":{"$error":"#N/A"}},{"$f":"MATCH(DM$3,Millwall!$AN154:AP154,0)","v":{"$error":"#N/A"}},{"$f":"MATCH(DN$3,Millwall!$AN154:AP154,0)","v":{"$error":"#N/A"}},{"$f":"MATCH(DO$3,Millwall!$AN154:AP154,0)","v":{"$error":"#N/A"}}]
[]
[null,null,null,null,null,null,null,null,null,"Total Full Members Cup Apperances",{"$f":"COUNT($K$88:$K$96)-$K$99-$K$100","v":0},{"$f":"COUNT($L$88:$L$96)-$L$99-$L$100","v":0},{"$f":"COUNT($M$88:$M$96)-$M$99-$M$100","v":0},{"$f":"COUNT($N$88:$N$96)-$N$99-$N$100","v":2},{"$f":"COUNT($O$88:$O$96)-$O$99-$O$100","v":0},{"$f":"COUNT($P$88:$P$96)-$P$99-$P$100","v":0},{"$f":"COUNT($Q$88:$Q$96)-$Q$99-$Q$100","v":2},{"$f":"COUNT($R$88:$R$96)-$R$99-$R$100","v":1},{"$f":"COUNT($S$88:$S$96)-$S$99-$S$100","v":0},{"$f":"COUNT($T$88:$T$96)-$T$99-$T$100","v":0},{"$f":"COUNT($U$88:$U$96)-$U$99-$U$100","v":1},{"$f":"COUNT($V$88:$V$96)-$V$99-$V$100","v":0},{"$f":"COUNT($W$88:$W$96)-$W$99-$W$100","v":2},{"$f":"COUNT($X$88:$X$96)-$X$99-$X$100","v":0},{"$f":"COUNT($Y$88:$Y$96)-$Y$99-$Y$100","v":0},{"$f":"COUNT($Z$88:$Z$96)-$Z$99-$Z$100","v":2},{"$f":"COUNT($AA$88:$AA$96)-$AA$99-$AA$100","v":2},{"$f":"COUNT($AB$88:$AB$96)-$AB$99-$AB$100","v":1},{"$f":"COUNT($AC$88:$AC$96)-$AC$99-$AC$100","v":2},{"$f":"COUNT($AD$88:$AD$96)-$AD$99-$AD$100","v":0},{"$f":"COUNT($AE$88:$AE$96)-$AE$99-$AE$100","v":1},{"$f":"COUNT($AF$88:$AF$96)-$AF$99-$AF$100","v":1},{"$f":"COUNT($AG$88:$AG$96)-$AG$99-$AG$100","v":2},{"$f":"COUNT($AH$88:$AH$96)-$AH$99-$AH$100","v":0},{"$f":"COUNT($AI$88:$AI$96)-$AI$99-$AI$100","v":1},{"$f":"COUNT($AJ$88:$AJ$96)-$AJ$99-$AJ$100","v":2},{"$f":"COUNT($AK$88:$AK$96)-$AK$99-$AK$100","v":0},{"$f":"COUNT($AL$88:$AL$96)-$AL$99-$AL$100","v":0},{"$f":"COUNT($AM$88:$AM$96)-$AM$99-$AM$100","v":0},{"$f":"COUNT($AN$88:$AN$96)-$AN$99-$AN$100","v":0},{"$f":"COUNT($AO$88:$AO$96)-$AO$99-$AO$100","v":0},{"$f":"COUNT($AP$88:$AP$96)-$AP$99-$AP$100","v":0},{"$f":"COUNT($AQ$88:$AQ$96)-$AQ$99-$AQ$100","v":0},{"$f":"COUNT($AR$88:$AR$96)-$AR$99-$AR$100","v":0}]
[null,null,null,null,null,null,null,null,null,"Total Full Members Cup Sub Appearences ",{"$f":"$AX$99+$CH$99","v":0},{"$f":"$AY$99+$CI$99","v":0},{"$f":"$AZ$99+$CJ$99","v":0},{"$f":"$BA$99+$CK$99","v":0},{"$f":"$BB$99+$CL$99","v":0},{"$f":"$BC$99+$CM$99","v":0},{"$f":"$BD$99+$CN$99","v":0},{"$f":"$BE$99+$CO$99","v":0},{"$f":"$BF$99+$CP$99","v":0},{"$f":"$BG$99+$CQ$99","v":0},{"$f":"$BH$99+$CR$99","v":0},{"$f":"$BI$99+$CS$99","v":0},{"$f":"$BJ$99+$CT$99","v":0},{"$f":"$BK$99+$CU$99","v":0},{"$f":"$BL$99+$CV$99","v":0},{"$f":"$BM$99+$CW$99","v":0},{"$f":"$BN$99+$CX$99","v":0},{"$f":"$BO$99+$CY$99","v":0},{"$f":"$BP$99+$CZ$99","v":0},{"$f":"$BQ$99+$DA$99","v":0},{"$f":"$BR$99+$DB$99","v":0},{"$f":"$BS$99+$DC$99","v":0},{"$f":"$BT$99+$DD$99","v":0},{"$f":"$BU$99+$DE$99","v":0},{"$f":"$BV$99+$DF$99","v":0},{"$f":"$BW$99+$DG$99","v":0},{"$f":"$BX$99+$DH$99","v":0},{"$f":"$BY$99+$DI$99","v":0},{"$f":"$BZ$99+$DJ$99","v":0},{"$f":"$CA$99+$DK$99","v":0},{"$f":"$CB$99+$DL$99","v":0},{"$f":"$CC$99+$DM$99","v":0},{"$f":"$CD$99+$DN$99","v":0},{"$f":"$CE$99+$DO$99","v":0},null,null,null,null,null,{"$f":"COUNTIF(AX88:AX96,12)","v":0},{"$f":"COUNTIF(AY88:AY96,12)","v":0},0,0,0,0,0,0,0,0,0,0,0,0,0,0,0,0,0,0,0,0,0,0,0,0,0,0,0,0,0,0,0,0,null,null,{"$f":"COUNTIF(CH88:CH96,14)","v":0},{"$f":"COUNTIF(CI88:CI96,14)","v":0},0,0,0,0,0,0,0,0,0,0,0,0,0,0,0,0,0,0,0,0,0,0,0,0,0,0,0,0,0,0,0,0]
[null,null,null,null,null,null,null,null,null,"Non Playing Substitute",{"$f":"COUNTIF($K$88:$K$96,\">=12\")-$K$99","v":0},{"$f":"COUNTIF($L$88:$L$96,\">=12\")-$L$99","v":1},{"$f":"COUNTIF($M$88:$M$96,\">=12\")-$M$99","v":0},{"$f":"COUNTIF($N$88:$N$96,\">=12\")-$N$99","v":0},{"$f":"COUNTIF($O$88:$O$96,\">=12\")-$O$99","v":0},{"$f":"COUNTIF($P$88:$P$96,\">=12\")-$P$99","v":0},{"$f":"COUNTIF($Q$88:$Q$96,\">=12\")-$Q$99","v":0},{"$f":"COUNTIF($R$88:$R$96,\">=12\")-$R$99","v":0},{"$f":"COUNTIF($S$88:$S$96,\">=12\")-$S$99","v":0},{"$f":"COUNTIF($T$88:$T$96,\">=12\")-$T$99","v":0},{"$f":"COUNTIF($U$88:$U$96,\">=12\")-$U$99","v":0},{"$f":"COUNTIF($V$88:$V$96,\">=12\")-$V$99","v":0},{"$f":"COUNTIF($W$88:$W$96,\">=12\")-$W$99","v":0},{"$f":"COUNTIF($X$88:$X$96,\">=12\")-$X$99","v":0},{"$f":"COUNTIF($Y$88:$Y$96,\">=12\")-$Y$99","v":1},{"$f":"COUNTIF($Z$88:$Z$96,\">=12\")-$Z$99","v":0},{"$f":"COUNTIF($AA$88:$AA$96,\">=12\")-$AA$99","v":0},{"$f":"COUNTIF($AB$88:$AB$96,\">=12\")-$AB$99","v":0},{"$f":"COUNTIF($AC$88:$AC$96,\">=12\")-$AC$99","v":0},{"$f":"COUNTIF($AD$88:$AD$96,\">=12\")-$AD$99","v":1},{"$f":"COUNTIF($AE$88:$AE$96,\">=12\")-$AE$99","v":0},{"$f":"COUNTIF($AF$88:$AF$96,\">=12\")-$AF$99","v":0},{"$f":"COUNTIF($AG$88:$AG$96,\">=12\")-$AG$99","v":0},{"$f":"COUNTIF($AH$88:$AH$96,\">=12\")-$AH$99","v":1},{"$f":"COUNTIF($AI$88:$AI$96,\">=12\")-$AI$99","v":0},{"$f":"COUNTIF($AJ$88:$AJ$96,\">=12\")-$AJ$99","v":0},{"$f":"COUNTIF($AK$88:$AK$96,\">=12\")-$AK$99","v":0},{"$f":"COUNTIF($AL$88:$AL$96,\">=12\")-$AL$99","v":0},{"$f":"COUNTIF($AM$88:$AM$96,\">=12\")-$AM$99","v":0},{"$f":"COUNTIF($AN$88:$AN$96,\">=12\")-$AN$99","v":0},{"$f":"COUNTIF($AO$88:$AO$96,\">=12\")-$AO$99","v":0},{"$f":"COUNTIF($AP$88:$AP$96,\">=12\")-$AP$99","v":0},{"$f":"COUNTIF($AQ$88:$AQ$96,\">=12\")-$AQ$99","v":0},{"$f":"COUNTIF($AR$88:$AR$96,\">=12\")-$AR$99","v":0}]
[null,null,null,null,null,null,null,null,null,"Goals",{"$f":"Millwall!$CO$9","v":0},{"$f":"Millwall!$CO$10","v":0},{"$f":"Millwall!$CO$11","v":0},{"$f":"Millwall!$CO$12","v":0},{"$f":"Millwall!$CO$13","v":0},{"$f":"Millwall!$CO$14","v":0},{"$f":"Millwall!$CO$15","v":0},{"$f":"Millwall!$CO$16","v":0},{"$f":"Millwall!$CO$17","v":0},{"$f":"Millwall!$CO$18","v":0},{"$f":"Millwall!$CO$19","v":0},{"$f":"Millwall!$CO$20","v":0},{"$f":"Millwall!$CO$21","v":2},{"$f":"Millwall!$CO$22","v":0},{"$f":"Millwall!$CO$23","v":0},{"$f":"Millwall!$CO$24","v":1},{"$f":"Millwall!$CO$25","v":0},{"$f":"Millwall!$CO$26","v":0},{"$f":"Millwall!$CO$27","v":0},{"$f":"Millwall!$CO$28","v":0},{"$f":"Millwall!$CO$29","v":0},{"$f":"Millwall!$CO$30","v":0},{"$f":"Millwall!$CO$31","v":1},{"$f":"Millwall!$CO$32","v":0},{"$f":"Millwall!$CO$33","v":0},{"$f":"Millwall!$CO$34","v":0},{"$f":"Millwall!$CO$35","v":0},{"$f":"Millwall!$CO$36","v":0},{"$f":"Millwall!$CO$37","v":0},{"$f":"Millwall!$CO$38","v":4},{"$f":"Millwall!$CO$39","v":0},{"$f":"Millwall!$CO$40","v":0},{"$f":"Millwall!$CO$41","v":0},{"$f":"Millwall!$CO$42","v":0}]
[null,null,1]
[null,null,1]
[null,null,1]
[]
[]
[null,null,null,null,null,null,null,"Checks",null,null,null,null,null,null,null,null,null,null,1]
[]
["Manual Input",null,null,null,null,null,null,"Opponents","Venue/Result",null,{"$f":"K3","v":"Armstrong"},"Booker","Briley","Byrne","Carter","Cochrane","N Coleman","P Coleman","Fishenden","Hinshelwood","Horne","Hurlock","Leslie","Lovell","Malcolm","Marks","McLeary","Mehmet","Morgan","Nutton","Salman","Sansome","Sheringham","Sparham","Stevens","Walker",0,0,0,0,0,0,0,0]
[null,null,{"$f":"IF(J110=0,1,0)","v":0},1,null,{"$f":"F5","v":"1986-08-23"},null,{"$f":"H5","v":"Reading"},"(A)","W 1-0",null,null,4,7,null,null,3,null,null,11,null,null,12,null,null,10,8,null,null,null,6,1,9,null,2,5]
[null,null,0,2,null,"1986-08-26",null,"Hull City","(H)","L 0-1",null,null,4,7,null,null,3,null,null,11,null,null,12,null,null,10,8,null,null,null,6,1,9,null,2,5]
[null,null,0,3,null,"1986-08-30",null,"Barnsley","(H)","W 1-0",null,null,4,7,null,null,3,null,null,11,null,null,null,null,null,10,8,12,null,null,6,1,9,null,2,5]
[null,null,0,4,null,"1986-09-02",null,"Sheff Utd","(A)","L 1-2",null,null,4,7,null,null,3,null,null,11,1,null,null,null,null,10,8,12,null,null,6,null,9,null,2,5]
[null,null,0,5,null,"1986-09-06",null,"Stoke","(A)","L 0-2",null,null,4,7,null,null,3,null,null,null,1,null,null,null,null,10,8,11,12,null,6,null,9,null,2,5]
[null,null,0,6,null,"1986-09-13",null,"Bradford","(H)","L 1-2",null,null,4,7,null,null,3,null,null,null,null,null,12,null,null,10,8,null,11,null,6,1,9,null,2,5]
[null,null,0,7,null,"1986-09-20",null,"Derby","(A)","D 1-1",null,null,4,7,null,null,3,null,11,null,null,null,null,null,null,10,8,null,12,null,6,1,9,null,2,5]
[null,null,0,8,null,"1986-09-27",null,"Blackburn","(H)","D 2-2",null,null,4,7,null,null,3,null,11,null,null,null,null,null,null,10,8,null,12,null,6,1,9,null,2,5]
[null,null,0,9,null,"1986-10-04",null,"C Palace","(A)","L 1-2",null,null,4,7,null,null,3,null,11,null,null,null,null,null,null,10,8,null,12,null,6,1,9,null,2,5]
[null,null,0,10,null,"1986-10-11",null,"Shrewsbury","(H)","W 4-0",null,null,4,7,null,null,3,null,null,null,1,null,12,null,null,10,6,8,null,null,11,null,9,null,2,5]
[null,null,0,11,null,"1986-10-17",null,"Oldham","(A)","L 1-2",null,null,null,7,null,null,3,null,null,null,null,null,12,null,null,10,6,8,4,null,11,1,9,null,2,5]
[null,null,0,12,null,"1986-10-25",null,"Plymouth","(H)","W 3-1",null,null,4,7,null,null,3,null,null,null,null,null,12,null,null,10,6,null,8,null,11,1,9,null,2,5]
[null,null,0,13,null,"1986-11-01",null,"Grimsby","(A)","L 0-1",null,null,4,7,null,null,3,null,null,null,null,null,null,null,null,10,6,8,12,null,11,1,9,null,2,5]
[null,null,0,14,null,"1986-11-08",null,"Leeds","(H)","W 1-0",null,null,4,7,null,null,3,null,null,null,1,null,12,null,null,10,6,8,null,null,11,null,9,null,2,5]
[null,null,0,15,null,"1986-11-15",null,"Birmingham","(H)","L 0-2",null,null,4,7,null,null,3,2,null,null,1,null,11,null,null,10,6,8,12,null,null,null,9,null,5]
[null,null,0,16,null,"1986-11-22",null,"West Brom","(A)","W 1-0",null,null,4,7,null,11,3,null,null,null,1,null,null,null,null,10,6,8,12,null,null,null,9,null,2,5]
[null,null,0,17,null,"1986-11-29",null,{"$f":"H21","v":"Portsmouth"},"(H)","D 1-1",null,null,4,7,null,12,3,null,null,null,1,null,null,null,null,10,6,8,null,null,11,null,9,null,2,5]
[null,null,0,18,null,"1986-12-06",null,"Sunderland","(A)","D 1-1",null,null,4,7,null,null,3,null,null,null,1,null,null,null,null,10,6,8,12,null,11,null,9,null,2,5]
[null,null,0,19,null,"1986-12-13",null,"Huddersfield","(H)","W 4-0",null,null,4,7,null,null,3,null,null,null,1,null,null,null,null,10,6,8,12,null,11,null,9,null,2,5]
[null,null,0,20,null,"1986-12-26",null,"Ipswich","(H)","W 1-0",null,null,4,7,null,null,3,null,null,null,1,null,12,null,null,10,6,null,8,null,11,null,9,null,2,5]
[null,null,0,21,null,"1986-12-29",null,"Birmingham","(A)","D 1-1",null,null,4,7,null,null,3,2,null,null,1,null,12,null,null,10,6,null,8,null,11,null,9,null,null,5]
[null,null,0,22,null,"1987-01-01",null,"Brighton","(A)","W 1-0",null,null,4,7,null,null,3,2,null,null,1,null,12,null,null,10,6,null,8,null,11,null,9,null,null,5]
[null,null,0,23,null,"1987-01-03",null,"Stoke","(H)","D 1-1",null,12,4,7,null,null,3,2,null,null,1,null,10,null,null,null,6,null,8,null,11,null,9,null,null,5]
[null,null,0,24,null,"1987-01-17",null,"Bradford","(A)","L 0-4",null,null,4,7,null,null,3,12,null,null,1,null,11,null,null,10,6,null,8,null,null,null,9,null,2,5]
[null,null,0,25,null,"1987-01-24",null,"Reading","(H)","W 2-1",10,null,4,7,null,null,3,null,null,null,1,null,12,null,null,11,6,null,8,null,null,null,9,null,2,5]
[null,null,0,26,null,"1987-02-07",null,"Barnsley","(A)","L 0-1",10,null,4,7,null,null,3,12,null,null,1,null,null,null,null,11,6,null,8,null,null,null,9,null,2,5]
[null,null,0,27,null,"1987-02-14",null,"Sheff Utd","(H)","W 1-0",10,null,null,7,null,null,3,12,null,null,1,4,null,null,null,11,6,null,8,null,null,null,9,null,2,5]
[null,null,0,28,null,"1987-02-21",null,"Blackburn","(A)","L 0-1",10,null,null,7,null,null,3,null,null,null,1,4,null,null,null,11,6,12,8,null,null,null,9,null,2,5]
[null,null,0,29,null,"1987-02-28",null,"Derby","(H)","L 0-1",10,12,null,7,null,null,3,2,null,null,1,4,null,null,null,null,6,11,8,null,null,null,9,null,null,5]
[null,null,0,30,null,"1987-03-07",null,"Plymouth","(A)","L 0-1",10,11,null,7,null,null,3,5,null,null,1,4,null,null,null,null,6,8,2,null,null,null,9,12]
[null,null,0,31,null,"1987-03-14",null,"Oldham","(H)","D 0-0",10,null,null,7,11,null,3,12,null,null,1,null,null,null,null,null,6,8,4,null,null,null,9,null,2,5]
[null,null,0,32,null,"1987-03-21",null,"Shrewsbury","(A)","W 2-1",null,null,null,12,11,null,3,7,null,null,1,4,null,null,null,null,6,8,null,null,10,null,9,null,2,5,null,null,null,null,null,null,null,null,null,null,null,"Error with Sub Total in League Cup for "]
[null,null,0,33,null,"1987-03-28",null,{"$f":"H37","v":"C Palace"},"(H)","L 0-1",null,null,null,12,11,null,3,7,null,null,1,4,null,null,null,null,6,8,null,null,10,null,9,null,2,5,null,null,null,null,null,null,null,null,null,null,null,"Darren Morgan"]
[null,null,0,34,null,"1987-04-04",null,"Leeds","(A)","L 0-2",null,null,null,12,11,null,3,null,null,null,1,4,null,null,null,7,6,8,null,null,10,null,9,null,2,5]
[null,null,0,35,null,"1987-04-11",null,"Grimsby","(H)","W 1-0",null,null,8,12,11,null,3,null,null,null,1,4,null,null,null,7,6,null,null,null,10,null,9,null,2,5,null,null,null,null,null,null,null,null,null,null,null,"McLeary in Nr 6 shirt for opening game "]
[null,null,0,36,null,"1987-04-14",null,"Hull City","(A)","L 1-2",null,null,8,12,11,null,3,null,null,null,1,4,null,null,null,7,6,null,null,null,10,null,9,null,2,5,null,null,null,null,null,null,null,null,null,null,null,"v Reading (A) See Photo in Barnsley"]
[null,null,0,37,null,"1987-04-18",null,"Brighton","(H)","W 3-1",null,null,8,12,11,null,3,null,null,null,1,4,null,null,null,7,6,null,null,null,10,null,9,null,2,5,null,null,null,null,null,null,null,null,null,null,null,"Programme"]
[null,null,0,38,null,"1987-04-21",null,"Ipswich","(A)","D 0-0",null,null,8,10,11,null,3,null,null,null,1,4,null,null,null,7,6,null,12,null,null,null,9,null,2,5]
[null,null,0,39,null,"1987-04-25",null,"West Brom","(H)","L 0-1",null,null,8,12,11,null,3,null,null,null,1,null,null,null,null,7,6,null,4,null,10,null,9,null,2,5,null,null,null,null,null,null,null,null,null,null,null,"Shirt Numbers different from Newspaper "]
[null,null,0,40,null,"1987-05-02",null,"Portsmouth","(A)","L 0-2",null,12,8,10,11,null,3,null,null,null,1,null,null,null,null,7,6,null,4,null,2,null,9,null,null,5,null,null,null,null,null,null,null,null,null,null,null,"line ups last 3 league games"]
[null,null,0,41,null,"1987-05-05",null,"Sunderland","(H)","D 1-1",null,null,8,10,11,null,3,null,null,null,1,4,null,null,null,7,6,null,null,null,2,null,9,null,12,5]
[null,null,0,42,null,"1987-05-09",null,"Huddersfield","(A)","L 0-3",null,null,8,10,11,null,3,null,null,null,1,4,null,null,null,7,6,null,null,null,2,null,9,null,12,5]
[null,null,1,43,null,"00:00:00",null,"00:00:00","00:00:00",0]
[null,null,1,44,null,"00:00:00",null,"00:00:00","00:00:00",0]
[null,null,{"$f":"IF(J154=0,1,0)","v":1},45,null,"00:00:00",null,"00:00:00","00:00:00",0]
[null,null,{"$f":"IF(J155=0,1,0)","v":1},46,null,"00:00:00",null,"00:00:00","00:00:00",0]
[]
[null,null,null,null,null,null,null,null,null,"Total League Apperances",{"$f":"COUNT($K$110:$K$155)-$K$158-$K$159","v":7},{"$f":"COUNT($L$110:$L$155)-$L$158-$L$159","v":1},{"$f":"COUNT($M$110:$M$155)-$M$158-$M$159","v":33},{"$f":"COUNT($N$110:$N$155)-$N$158-$N$159","v":35},{"$f":"COUNT($O$110:$O$155)-$O$158-$O$159","v":12},{"$f":"COUNT($P$110:$P$155)-$P$158-$P$159","v":1},{"$f":"COUNT($Q$110:$Q$155)-$Q$158-$Q$159","v":42},{"$f":"COUNT($R$110:$R$155)-$R$158-$R$159","v":8},{"$f":"COUNT($S$110:$S$155)-$S$158-$S$159","v":3},{"$f":"COUNT($T$110:$T$155)-$T$158-$T$159","v":4},{"$f":"COUNT($U$110:$U$155)-$U$158-$U$159","v":32},{"$f":"COUNT($V$110:$V$155)-$V$158-$V$159","v":13},{"$f":"COUNT($W$110:$W$155)-$W$158-$W$159","v":3},{"$f":"COUNT($X$110:$X$155)-$X$158-$X$159","v":0},{"$f":"COUNT($Y$110:$Y$155)-$Y$158-$Y$159","v":0},{"$f":"COUNT($Z$110:$Z$155)-$Z$158-$Z$159","v":36},{"$f":"COUNT($AA$110:$AA$155)-$AA$158-$AA$159","v":42},{"$f":"COUNT($AB$110:$AB$155)-$AB$158-$AB$159","v":16},{"$f":"COUNT($AC$110:$AC$155)-$AC$158-$AC$159","v":17},{"$f":"COUNT($AD$110:$AD$155)-$AD$158-$AD$159","v":0},{"$f":"COUNT($AE$110:$AE$155)-$AE$158-$AE$159","v":31},{"$f":"COUNT($AF$110:$AF$155)-$AF$158-$AF$159","v":10},{"$f":"COUNT($AG$110:$AG$155)-$AG$158-$AG$159","v":42},{"$f":"COUNT($AH$110:$AH$155)-$AH$158-$AH$159","v":0},{"$f":"COUNT($AI$110:$AI$155)-$AI$158","v":35},{"$f":"COUNT($AJ$110:$AJ$155)-$AJ$158","v":40},{"$f":"COUNT($AK$110:$AK$155)-$AK$158","v":0},{"$f":"COUNT($AL$110:$AL$155)-$AL$158","v":0},{"$f":"COUNT($AM$110:$AM$155)-$AM$158","v":0},{"$f":"COUNT($AN$110:$AN$155)-$AN$158","v":0},{"$f":"COUNT($AO$110:$AO$155)-$AO$158","v":0},{"$f":"COUNT($AP$110:$AP$155)-$AP$158","v":0},{"$f":"COUNT($AQ$110:$AQ$155)-$AQ$158","v":0},{"$f":"COUNT($AR$110:$AR$155)-$AR$158","v":0}]
[null,null,null,null,null,null,null,null,null,"Total League Substitute Appearences ",{"$f":"$AX$53","v":0},{"$f":"$AY$53","v":2},{"$f":"$AZ$53","v":0},{"$f":"$BA$53","v":5},{"$f":"$BB$53","v":0},{"$f":"$BC$53","v":0},{"$f":"$BD$53","v":0},{"$f":"$BE$53","v":2},{"$f":"$BF$53","v":0},{"$f":"$BG$53","v":0},{"$f":"$BH$53","v":0},{"$f":"$BI$53","v":0},{"$f":"$BJ$53","v":1},{"$f":"$BK$53","v":0},{"$f":"$BL$53","v":0},{"$f":"$BM$53","v":0},{"$f":"$BN$53","v":0},{"$f":"$BO$53","v":2},{"$f":"$BP$53","v":4},{"$f":"$BQ$53","v":0},{"$f":"$BR$53","v":0},{"$f":"$BS$53","v":0},{"$f":"$BT$53","v":0},{"$f":"$BU$53","v":0},{"$f":"$BV$53","v":1},{"$f":"$BW$53","v":0},{"$f":"$BX$53","v":0},{"$f":"$BY$53","v":0},{"$f":"$BZ$53","v":0},{"$f":"$CA$53","v":0},{"$f":"$CB$53","v":0},{"$f":"$CC$53","v":0},{"$f":"$CD$53","v":0},{"$f":"$CE$53","v":0}]
[null,null,null,null,null,null,null,null,null,"Non Playing Substitute",{"$f":"COUNTIF($K$110:$K$155,12)-$K$158","v":0},{"$f":"COUNTIF($L$110:$L$155,12)-$L$158","v":1},{"$f":"COUNTIF($M$110:$M$155,12)-$M$158","v":0},{"$f":"COUNTIF($N$110:$N$155,12)-$N$158","v":2},{"$f":"COUNTIF($O$110:$O$155,12)-$O$158","v":0},{"$f":"COUNTIF($P$110:$P$155,12)-$P$158","v":1},{"$f":"COUNTIF($Q$110:$Q$155,12)-$Q$158","v":0},{"$f":"COUNTIF($R$110:$R$155,12)-$R$158","v":2},{"$f":"COUNTIF($S$110:$S$155,12)-$S$158","v":0},{"$f":"COUNTIF($T$110:$T$155,12)-$T$158","v":0},{"$f":"COUNTIF($U$110:$U$155,12)-$U$158","v":0},{"$f":"COUNTIF($V$110:$V$155,12)-$V$158","v":0},{"$f":"COUNTIF($W$110:$W$155,12)-$W$158","v":10},{"$f":"COUNTIF($X$110:$X$155,12)-$X$158","v":0},{"$f":"COUNTIF($Y$110:$Y$155,12)-$Y$158","v":0},{"$f":"COUNTIF($Z$110:$Z$155,12)-$Z$158","v":0},{"$f":"COUNTIF($AA$110:$AA$155,12)-$AA$158","v":0},{"$f":"COUNTIF($AB$110:$AB$155,12)-$AB$158","v":1},{"$f":"COUNTIF($AC$110:$AC$155,12)-$AC$158","v":6},{"$f":"COUNTIF($AD$110:$AD$155,12)-$AD$158","v":0},{"$f":"COUNTIF($AE$110:$AE$155,12)-$AE$158","v":0},{"$f":"COUNTIF($AF$110:$AF$155,12)-$AF$158","v":0},{"$f":"COUNTIF($AG$110:$AG$155,12)-$AG$158","v":0},{"$f":"COUNTIF($AH$110:$AH$155,12)-$AH$158","v":1},{"$f":"COUNTIF($AI$110:$AI$155,12)-$AI$158","v":1},{"$f":"COUNTIF($AJ$110:$AJ$155,12)-$AJ$158","v":0},{"$f":"COUNTIF($AK$110:$AK$155,12)-$AK$158","v":0},{"$f":"COUNTIF($AL$110:$AL$155,12)-$AL$158","v":0},{"$f":"COUNTIF($AM$110:$AM$155,12)-$AM$158","v":0},{"$f":"COUNTIF($AN$110:$AN$155,12)-$AN$158","v":0},{"$f":"COUNTIF($AO$110:$AO$155,12)-$AO$158","v":0},{"$f":"COUNTIF($AP$110:$AP$155,12)-$AP$158","v":0},{"$f":"COUNTIF($AQ$110:$AQ$155,12)-$AQ$158","v":0},{"$f":"COUNTIF($AR$110:$AR$155,12)-$AR$158","v":0}]
[null,null,null,null,null,null,null,null,null,"Goals",0,0,3,4,1,0,0,0,0,0,0,1,1,0,0,10,0,1,1,0,2,0,13,0,1,1,0,0,0,39,0,0,0,0]
[]
[null,null,null,null,null,null,null,"FA Cup"]
[null,null,{"$f":"IF(J163=0,1,0)","v":0},{"$f":"D58","v":3},null,{"$f":"F58","v":"1987-01-10"},null,{"$f":"H58","v":"Cardiff"},"(H)","D 0-0",null,null,4,7,null,null,3,14,null,null,1,null,12,null,null,10,6,null,8,null,11,null,9,null,2,5]
[null,null,0,{"$f":"D59","v":"3R"},null,"1987-01-20",null,"Cardiff","(A)","D 2-2",null,14,4,7,null,null,3,12,null,null,1,null,11,null,null,10,6,null,8,null,null,null,9,null,2,5]
[null,null,0,"3 2R",null,"1987-01-26",null,"Cardiff","(A)","L 0-1",null,null,4,7,null,null,3,14,null,null,1,null,11,12,null,10,6,null,8,null,null,null,9,null,2,5]
[null,null,1,0,null,"00:00:00",null,"00:00:00","00:00:00",0]
[null,null,1,0,null,"00:00:00",null,"00:00:00","00:00:00",0]
[null,null,1,0,null,"00:00:00",null,"00:00:00","00:00:00",0]
[null,null,1,0,null,"00:00:00",null,"00:00:00","00:00:00",0]
[]
[null,null,null,null,null,null,null,null,null,"Total FA Cup Apperances",{"$f":"COUNT($K$163:$K$169)-$K$172-$K$173","v":0},{"$f":"COUNT($L$163:$L$169)-$L$172-$L$173","v":0},{"$f":"COUNT($M$163:$M$169)-$M$172-$M$173","v":3},{"$f":"COUNT($N$163:$N$169)-$N$172-$N$173","v":3},{"$f":"COUNT($O$163:$O$169)-$O$172-$O$173","v":0},{"$f":"COUNT($P$163:$P$169)-$P$172-$P$173","v":0},{"$f":"COUNT($Q$163:$Q$169)-$Q$172-$Q$173","v":3},{"$f":"COUNT($R$163:$R$169)-$R$172-$R$173","v":0},{"$f":"COUNT($S$163:$S$169)-$S$172-$S$173","v":0},{"$f":"COUNT($T$163:$T$169)-$T$172-$T$173","v":0},{"$f":"COUNT($U$163:$U$169)-$U$172-$U$173","v":3},{"$f":"COUNT($V$163:$V$169)-$V$172-$V$173","v":0},2,{"$f":"COUNT($X$163:$X$169)-$X$172-$X$173","v":0},{"$f":"COUNT($Y$163:$Y$169)-$Y$172-$Y$173","v":0},{"$f":"COUNT($Z$163:$Z$169)-$Z$172-$Z$173","v":3},{"$f":"COUNT($AA$163:$AA$169)-$AA$172-$AA$173","v":3},{"$f":"COUNT($AB$163:$AB$169)-$AB$172-$AB$173","v":0},{"$f":"COUNT($AC$163:$AC$169)-$AC$172-$AC$173","v":3},{"$f":"COUNT($AD$163:$AD$169)-$AD$172-$AD$173","v":0},{"$f":"COUNT($AE$163:$AE$169)-$AE$172-$AE$173","v":1},{"$f":"COUNT($AF$163:$AF$169)-$AF$172-$AF$173","v":0},{"$f":"COUNT($AG$163:$AG$169)-$AG$172-$AG$173","v":3},{"$f":"COUNT($AH$163:$AH$169)-$AH$172-$AH$173","v":0},{"$f":"COUNT($AI$163:$AI$169)-$AI$172-$AI$173","v":3},{"$f":"COUNT($AJ$163:$AJ$169)-$AJ$172-$AJ$173","v":3},{"$f":"COUNT($AK$163:$AK$169)-$AK$172-$AK$173","v":0},{"$f":"COUNT($AL$163:$AL$169)-$AL$172-$AL$173","v":0},{"$f":"COUNT($AM$163:$AM$169)-$AM$172-$AM$173","v":0},{"$f":"COUNT($AN$163:$AN$169)-$AN$172-$AN$173","v":0},{"$f":"COUNT($AO$163:$AO$169)-$AO$172-$AO$173","v":0},{"$f":"COUNT($AP$163:$AP$169)-$AP$172-$AP$173","v":0},{"$f":"COUNT($AQ$163:$AQ$169)-$AQ$172-$AQ$173","v":0},{"$f":"COUNT($AR$163:$AR$169)-$AR$172-$AR$173","v":0}]
[null,null,null,null,null,null,null,null,null,"Total FA Cup Substitute Appearences ",{"$f":"$AX$67+$CH$67","v":0},{"$f":"$AY$67+$CI$67","v":0},{"$f":"$AZ$67+$CJ$67","v":0},{"$f":"$BA$67+$CK$67","v":0},{"$f":"$BB$67+$CL$67","v":0},{"$f":"$BC$67+$CM$67","v":0},{"$f":"$BD$67+$CN$67","v":0},{"$f":"$BE$67+$CO$67","v":0},{"$f":"$BF$67+$CP$67","v":0},{"$f":"$BG$67+$CQ$67","v":0},{"$f":"$BH$67+$CR$67","v":0},{"$f":"$BI$67+$CS$67","v":0},{"$f":"$BJ$67+$CT$67","v":1},{"$f":"$BK$67+$CU$67","v":1},{"$f":"$BL$67+$CV$67","v":0},{"$f":"$BM$67+$CW$67","v":0},{"$f":"$BN$67+$CX$67","v":0},{"$f":"$BO$67+$CY$67","v":0},{"$f":"$BP$67+$CZ$67","v":0},{"$f":"$BQ$67+$DA$67","v":0},{"$f":"$BR$67+$DB$67","v":0},{"$f":"$BS$67+$DC$67","v":0},{"$f":"$BT$67+$DD$67","v":0},{"$f":"$BU$67+$DE$67","v":0},{"$f":"$BV$67+$DF$67","v":0},{"$f":"$BW$67+$DG$67","v":0},{"$f":"$BX$67+$DH$67","v":0},{"$f":"$BY$67+$DI$67","v":0},{"$f":"$BZ$67+$DJ$67","v":0},{"$f":"$CA$67+$DK$67","v":0},{"$f":"$CB$67+$DL$67","v":0},{"$f":"$CC$67+$DM$67","v":0},{"$f":"$CD$67+$DN$67","v":0},{"$f":"$CE$67+$DO$67","v":0}]
[null,null,null,null,null,null,null,null,null,"Non Playing Substitute",{"$f":"COUNTIF($K$163:$K$169,\">=12\")-$K$172","v":0},{"$f":"COUNTIF($L$163:$L$169,\">=12\")-$L$172","v":1},{"$f":"COUNTIF($M$163:$M$169,\">=12\")-$M$172","v":0},{"$f":"COUNTIF($N$163:$N$169,\">=12\")-$N$172","v":0},{"$f":"COUNTIF($O$163:$O$169,\">=12\")-$O$172","v":0},{"$f":"COUNTIF($P$163:$P$169,\">=12\")-$P$172","v":0},{"$f":"COUNTIF($Q$163:$Q$169,\">=12\")-$Q$172","v":0},{"$f":"COUNTIF($R$163:$R$169,\">=12\")-$R$172","v":3},{"$f":"COUNTIF($S$163:$S$169,\">=12\")-$S$172","v":0},{"$f":"COUNTIF($T$163:$T$169,\">=12\")-$T$172","v":0},{"$f":"COUNTIF($U$163:$U$169,\">=12\")-$U$172","v":0},{"$f":"COUNTIF($V$163:$V$169,\">=12\")-$V$172","v":0},{"$f":"COUNTIF($W$163:$W$169,\">=12\")-$W$172","v":0},{"$f":"COUNTIF($X$163:$X$169,\">=12\")-$X$172","v":0},{"$f":"COUNTIF($Y$163:$Y$169,\">=12\")-$Y$172","v":0},{"$f":"COUNTIF($Z$163:$Z$169,\">=12\")-$Z$172","v":0},{"$f":"COUNTIF($AA$163:$AA$169,\">=12\")-$AA$172","v":0},{"$f":"COUNTIF($AB$163:$AB$169,\">=12\")-$AB$172","v":0},{"$f":"COUNTIF($AC$163:$AC$169,\">=12\")-$AC$172","v":0},{"$f":"COUNTIF($AD$163:$AD$169,\">=12\")-$AD$172","v":0},{"$f":"COUNTIF($AE$163:$AE$169,\">=12\")-$AE$172","v":0},{"$f":"COUNTIF($AF$163:$AF$169,\">=12\")-$AF$172","v":0},{"$f":"COUNTIF($AG$163:$AG$169,\">=12\")-$AG$172","v":0},{"$f":"COUNTIF($AH$163:$AH$169,\">=12\")-$AH$172","v":0},{"$f":"COUNTIF($AI$163:$AI$169,\">=12\")-$AI$172","v":0},{"$f":"COUNTIF($AJ$163:$AJ$169,\">=12\")-$AJ$172","v":0},{"$f":"COUNTIF($AK$163:$AK$169,\">=12\")-$AK$172","v":0},{"$f":"COUNTIF($AL$163:$AL$169,\">=12\")-$AL$172","v":0},{"$f":"COUNTIF($AM$163:$AM$169,\">=12\")-$AM$172","v":0},{"$f":"COUNTIF($AN$163:$AN$169,\">=12\")-$AN$172","v":0},{"$f":"COUNTIF($AO$163:$AO$169,\">=12\")-$AO$172","v":0},{"$f":"COUNTIF($AP$163:$AP$169,\">=12\")-$AP$172","v":0},{"$f":"COUNTIF($AQ$163:$AQ$169,\">=12\")-$AQ$172","v":0},{"$f":"COUNTIF($AR$163:$AR$169,\">=12\")-$AR$172","v":0}]
[null,null,null,null,null,null,null,null,null,"Goals",0,0,0,0,0,0,0,0,0,0,0,0,1,0,0,0,0,0,1,0,0,0,0,0,0,0,0,0,0,2,0,0,0,0]
[]
[null,null,null,null,null,null,null,"League Cup"]
[null,null,{"$f":"IF(J177=0,1,0)","v":0},{"$f":"D72","v":2},null,{"$f":"F72","v":"1986-10-07"},null,{"$f":"H72","v":"Walsall"},"(A)","W 1-0",null,11,4,7,null,null,14,null,12,null,1,null,null,null,null,10,6,8,null,null,3,null,9,null,2,5]
[null,null,0,{"$f":"D73","v":2},null,"1986-10-14",null,"Walsall","(H)","W 3-2",null,null,4,7,null,null,3,null,null,null,1,null,12,null,null,10,6,8,14,null,11,null,9,null,2,5]
[null,null,0,3,null,"1986-10-29",null,"Norwich","(A)","L 1-4",null,null,4,7,null,null,3,14,null,null,null,null,12,null,null,10,6,null,8,null,11,1,9,null,2,5]
[null,null,1,0,null,"00:00:00",null,"00:00:00","00:00:00",0]
[null,null,1,0,null,"00:00:00",null,"00:00:00","00:00:00",0]
[null,null,1,0,null,"00:00:00",null,"00:00:00","00:00:00",0]
[null,null,1,0,null,"00:00:00",null,"00:00:00","00:00:00",0]
[null,null,1,0,null,"00:00:00",null,"00:00:00","00:00:00",0]
[null,null,1,0,null,"00:00:00",null,"00:00:00","00:00:00",0]
[]
[null,null,null,null,null,null,null,null,null,"Total League Cup Apperances",{"$f":"COUNT($K$177:$K$185)-$K$189-$K$188","v":0},{"$f":"COUNT($L$177:$L$185)-$L$189-$L$188","v":1},{"$f":"COUNT($M$177:$M$185)-$M$189-$M$188","v":3},{"$f":"COUNT($N$177:$N$185)-$N$189-$N$188","v":3},{"$f":"COUNT($O$177:$O$185)-$O$189-$O$188","v":0},{"$f":"COUNT($P$177:$P$185)-$P$189-$P$188","v":0},{"$f":"COUNT($Q$177:$Q$185)-$Q$189-$Q$188","v":2},{"$f":"COUNT($R$177:$R$185)-$R$189-$R$188","v":0},{"$f":"COUNT($S$177:$S$185)-$S$189-$S$188","v":0},{"$f":"COUNT($T$177:$T$185)-$T$189-$T$188","v":0},{"$f":"COUNT($U$177:$U$185)-$U$189-$U$188","v":2},{"$f":"COUNT($V$177:$V$185)-$V$189-$V$188","v":0},{"$f":"COUNT($W$177:$W$185)-$W$189-$W$188","v":0},{"$f":"COUNT($X$177:$X$185)-$X$189-$X$188","v":0},{"$f":"COUNT($Y$177:$Y$185)-$Y$189-$Y$188","v":0},{"$f":"COUNT($Z$177:$Z$185)-$Z$189-$Z$188","v":3},{"$f":"COUNT($AA$177:$AA$185)-$AA$189-$AA$188","v":3},{"$f":"COUNT($AB$177:$AB$185)-$AB$189-$AB$188","v":2},1,{"$f":"COUNT($AD$177:$AD$185)-$AD$189-$AD$188","v":0},{"$f":"COUNT($AE$177:$AE$185)-$AE$189-$AE$188","v":3},{"$f":"COUNT($AF$177:$AF$185)-$AF$189-$AF$188","v":1},{"$f":"COUNT($AG$177:$AG$185)-$AG$189-$AG$188","v":3},{"$f":"COUNT($AH$177:$AH$185)-$AH$189-$AH$188","v":0},{"$f":"COUNT($AI$177:$AI$185)-$AI$189-$AI$188","v":3},{"$f":"COUNT($AJ$177:$AJ$185)-$AJ$189-$AJ$188","v":3},{"$f":"COUNT($AK$177:$AK$185)-$AK$189-$AK$188","v":0},{"$f":"COUNT($AL$177:$AL$185)-$AL$189-$AL$188","v":0},{"$f":"COUNT($AM$177:$AM$185)-$AM$189-$AM$188","v":0},{"$f":"COUNT($AN$177:$AN$185)-$AN$189-$AN$188","v":0},{"$f":"COUNT($AO$177:$AO$185)-$AO$189-$AO$188","v":0},{"$f":"COUNT($AP$177:$AP$185)-$AP$189-$AP$188","v":0},{"$f":"COUNT($AQ$177:$AQ$185)-$AQ$189-$AQ$188","v":0},{"$f":"COUNT($AR$177:$AR$185)-$AR$189-$AR$188","v":0}]
[null,null,null,null,null,null,null,null,null,"Total League Cup Substitute Appearences ",{"$f":"$AX$83+$CH$83","v":0},{"$f":"$AY$83+$CI$83","v":0},{"$f":"$AZ$83+$CJ$83","v":0},{"$f":"$BA$83+$CK$83","v":0},{"$f":"$BB$83+$CL$83","v":0},{"$f":"$BC$83+$CM$83","v":0},{"$f":"$BD$83+$CN$83","v":0},{"$f":"$BE$83+$CO$83","v":0},{"$f":"$BF$83+$CP$83","v":0},{"$f":"$BG$83+$CQ$83","v":0},{"$f":"$BH$83+$CR$83","v":0},{"$f":"$BI$83+$CS$83","v":0},{"$f":"$BJ$83+$CT$83","v":2},{"$f":"$BK$83+$CU$83","v":0},{"$f":"$BL$83+$CV$83","v":0},{"$f":"$BM$83+$CW$83","v":0},{"$f":"$BN$83+$CX$83","v":0},{"$f":"$BO$83+$CY$83","v":0},0,{"$f":"$BQ$83+$DA$83","v":0},{"$f":"$BR$83+$DB$83","v":0},{"$f":"$BS$83+$DC$83","v":0},{"$f":"$BT$83+$DD$83","v":0},{"$f":"$BU$83+$DE$83","v":0},{"$f":"$BV$83+$DF$83","v":0},{"$f":"$BW$83+$DG$83","v":0},{"$f":"$BX$83+$DH$83","v":0},{"$f":"$BY$83+$DI$83","v":0},{"$f":"$BZ$83+$DJ$83","v":0},{"$f":"$CA$83+$DK$83","v":0},{"$f":"$CB$83+$DL$83","v":0},{"$f":"$CC$83+$DM$83","v":0},{"$f":"$CD$83+$DN$83","v":0},{"$f":"$CE$83+$DO$83","v":0}]
[null,null,null,null,null,null,null,null,null,"Non Playing Substitute",{"$f":"COUNTIF($K$177:$K$185,\">=12\")-$K$188","v":0},{"$f":"COUNTIF($L$177:$L$185,\">=12\")-$L$188","v":0},{"$f":"COUNTIF($M$177:$M$185,\">=12\")-$M$188","v":0},{"$f":"COUNTIF($N$177:$N$185,\">=12\")-$N$188","v":0},{"$f":"COUNTIF($O$177:$O$185,\">=12\")-$O$188","v":0},{"$f":"COUNTIF($P$177:$P$185,\">=12\")-$P$188","v":0},{"$f":"COUNTIF($Q$177:$Q$185,\">=12\")-$Q$188","v":1},{"$f":"COUNTIF($R$177:$R$185,\">=12\")-$R$188","v":1},{"$f":"COUNTIF($S$177:$S$185,\">=12\")-$S$188","v":1},{"$f":"COUNTIF($T$177:$T$185,\">=12\")-$T$188","v":0},{"$f":"COUNTIF($U$177:$U$185,\">=12\")-$U$188","v":0},{"$f":"COUNTIF($V$177:$V$185,\">=12\")-$V$188","v":0},{"$f":"COUNTIF($W$177:$W$185,\">=12\")-$W$188","v":0},{"$f":"COUNTIF($X$177:$X$185,\">=12\")-$X$188","v":0},{"$f":"COUNTIF($Y$177:$Y$185,\">=12\")-$Y$188","v":0},{"$f":"COUNTIF($Z$177:$Z$185,\">=12\")-$Z$188","v":0},{"$f":"COUNTIF($AA$177:$AA$185,\">=12\")-$AA$188","v":0},{"$f":"COUNTIF($AB$177:$AB$185,\">=12\")-$AB$188","v":0},0,{"$f":"COUNTIF($AD$177:$AD$185,\">=12\")-$AD$188","v":0},{"$f":"COUNTIF($AE$177:$AE$185,\">=12\")-$AE$188","v":0},{"$f":"COUNTIF($AF$177:$AF$185,\">=12\")-$AF$188","v":0},{"$f":"COUNTIF($AG$177:$AG$185,\">=12\")-$AG$188","v":0},{"$f":"COUNTIF($AH$177:$AH$185,\">=12\")-$AH$188","v":0},{"$f":"COUNTIF($AI$177:$AI$185,\">=12\")-$AI$188","v":0},{"$f":"COUNTIF($AJ$177:$AJ$185,\">=12\")-$AJ$188","v":0},{"$f":"COUNTIF($AK$177:$AK$185,\">=12\")-$AK$188","v":0},{"$f":"COUNTIF($AL$177:$AL$185,\">=12\")-$AL$188","v":0},{"$f":"COUNTIF($AM$177:$AM$185,\">=12\")-$AM$188","v":0},{"$f":"COUNTIF($AN$177:$AN$185,\">=12\")-$AN$188","v":0},{"$f":"COUNTIF($AO$177:$AO$185,\">=12\")-$AO$188","v":0},{"$f":"COUNTIF($AP$177:$AP$185,\">=12\")-$AP$188","v":0},{"$f":"COUNTIF($AQ$177:$AQ$185,\">=12\")-$AQ$188","v":0},{"$f":"COUNTIF($AR$177:$AR$185,\">=12\")-$AR$188","v":0}]
[null,null,null,null,null,null,null,null,null,"Goals",0,0,0,1,0,0,0,0,0,0,0,0,0,0,0,0,0,0,0,0,0,0,2,0,0,2,0,0,0,5,0,0,0,0]
[null,null,1]
[null,null,null,null,null,null,null,"Full Members Cup"]
[null,null,{"$f":"IF(J193=0,1,0)","v":0},{"$f":"D88","v":"G"},null,{"$f":"F88","v":"1986-10-21"},null,{"$f":"H88","v":"West Brom"},"(H)","W 2-0",null,null,null,7,null,null,3,4,null,null,null,null,11,null,14,10,6,null,8,null,null,1,9,12,2,5]
[null,null,{"$f":"IF(J194=0,1,0)","v":0},{"$f":"D89","v":"G"},null,"1986-11-04",null,"Portsmouth","(A)","L 2-3",null,12,null,7,null,null,3,null,null,null,1,null,11,null,null,10,6,8,4,14,2,null,9,null,null,5]
[null,null,1,0,null,"00:00:00",null,"00:00:00","00:00:00",0]
[null,null,1,0,null,"00:00:00",null,"00:00:00","00:00:00",0]
[null,null,1,0,null,"00:00:00",null,"00:00:00","00:00:00",0]
[null,null,1,0,null,"00:00:00",null,"00:00:00","00:00:00",0]
[null,null,1,0,null,"00:00:00",null,"00:00:00","00:00:00",0]
[null,null,1,0,null,"00:00:00",null,"00:00:00","00:00:00",0]
[null,null,1,0,null,"00:00:00",null,"00:00:00","00:00:00",0]
[]
[null,null,null,null,null,null,null,null,null,"Total Full Members Cup Apperances",{"$f":"COUNT($K$193:$K$201)-$K$204-$K$205","v":0},{"$f":"COUNT($L$193:$L$201)-$L$204-$L$205","v":0},{"$f":"COUNT($M$193:$M$201)-$M$204-$M$205","v":0},{"$f":"COUNT($N$193:$N$201)-$N$204-$N$205","v":2},{"$f":"COUNT($O$193:$O$201)-$O$204-$O$205","v":0},{"$f":"COUNT($P$193:$P$201)-$P$204-$P$205","v":0},{"$f":"COUNT($Q$193:$Q$201)-$Q$204-$Q$205","v":2},{"$f":"COUNT($R$193:$R$201)-$R$204-$R$205","v":1},{"$f":"COUNT($S$193:$S$201)-$S$204-$S$205","v":0},{"$f":"COUNT($T$193:$T$201)-$T$204-$T$205","v":0},{"$f":"COUNT($U$193:$U$201)-$U$204-$U$205","v":1},{"$f":"COUNT($V$193:$V$201)-$V$204-$V$205","v":0},{"$f":"COUNT($W$193:$W$201)-$W$204-$W$205","v":2},{"$f":"COUNT($X$193:$X$201)-$X$204-$X$205","v":0},{"$f":"COUNT($Y$193:$Y$201)-$Y$204-$Y$205","v":0},{"$f":"COUNT($Z$193:$Z$201)-$Z$204-$Z$205","v":2},{"$f":"COUNT($AA$193:$AA$201)-$AA$204-$AA$205","v":2},{"$f":"COUNT($AB$193:$AB$201)-$AB$204-$AB$205","v":1},{"$f":"COUNT($AC$193:$AC$201)-$AC$204-$AC$205","v":2},{"$f":"COUNT($AD$193:$AD$201)-$AD$204-$AD$205","v":0},{"$f":"COUNT($AE$193:$AE$201)-$AE$204-$AE$205","v":1},{"$f":"COUNT($AF$193:$AF$201)-$AF$204-$AF$205","v":1},{"$f":"COUNT($AG$193:$AG$201)-$AG$204-$AG$205","v":2},{"$f":"COUNT($AH$193:$AH$201)-$AH$204-$AH$205","v":0},{"$f":"COUNT($AI$193:$AI$201)-$AI$204-$AI$205","v":1},{"$f":"COUNT($AJ$193:$AJ$201)-$AJ$204-$AJ$205","v":2},{"$f":"COUNT($AK$193:$AK$201)-$AK$204-$AK$205","v":0},{"$f":"COUNT($AL$193:$AL$201)-$AL$204-$AL$205","v":0},{"$f":"COUNT($AM$193:$AM$201)-$AM$204-$AM$205","v":0},{"$f":"COUNT($AN$193:$AN$201)-$AN$204-$AN$205","v":0},{"$f":"COUNT($AO$193:$AO$201)-$AO$204-$AO$205","v":0},{"$f":"COUNT($AP$193:$AP$201)-$AP$204-$AP$205","v":0},{"$f":"COUNT($AQ$193:$AQ$201)-$AQ$204-$AQ$205","v":0},{"$f":"COUNT($AR$193:$AR$201)-$AR$204-$AR$205","v":0}]
[null,null,null,null,null,null,null,null,null,"Total Full Members Cup Sub Appearences ",{"$f":"$AX$99+$CH$99","v":0},{"$f":"$AY$99+$CI$99","v":0},{"$f":"$AZ$99+$CJ$99","v":0},{"$f":"$BA$99+$CK$99","v":0},{"$f":"$BB$99+$CL$99","v":0},{"$f":"$BC$99+$CM$99","v":0},{"$f":"$BD$99+$CN$99","v":0},{"$f":"$BE$99+$CO$99","v":0},{"$f":"$BF$99+$CP$99","v":0},{"$f":"$BG$99+$CQ$99","v":0},{"$f":"$BH$99+$CR$99","v":0},{"$f":"$BI$99+$CS$99","v":0},{"$f":"$BJ$99+$CT$99","v":0},{"$f":"$BK$99+$CU$99","v":0},{"$f":"$BL$99+$CV$99","v":0},{"$f":"$BM$99+$CW$99","v":0},{"$f":"$BN$99+$CX$99","v":0},{"$f":"$BO$99+$CY$99","v":0},{"$f":"$BP$99+$CZ$99","v":0},{"$f":"$BQ$99+$DA$99","v":0},{"$f":"$BR$99+$DB$99","v":0},{"$f":"$BS$99+$DC$99","v":0},{"$f":"$BT$99+$DD$99","v":0},{"$f":"$BU$99+$DE$99","v":0},{"$f":"$BV$99+$DF$99","v":0},{"$f":"$BW$99+$DG$99","v":0},{"$f":"$BX$99+$DH$99","v":0},{"$f":"$BY$99+$DI$99","v":0},{"$f":"$BZ$99+$DJ$99","v":0},{"$f":"$CA$99+$DK$99","v":0},{"$f":"$CB$99+$DL$99","v":0},{"$f":"$CC$99+$DM$99","v":0},{"$f":"$CD$99+$DN$99","v":0},{"$f":"$CE$204+$DO$204","v":0}]
[null,null,null,null,null,null,null,null,null,"Non Playing Substitute",{"$f":"COUNTIF($K$193:$K$201,\">=12\")-$K$204","v":0},{"$f":"COUNTIF($L$193:$L$201,\">=12\")-$L$204","v":1},{"$f":"COUNTIF($M$193:$M$201,\">=12\")-$M$204","v":0},{"$f":"COUNTIF($N$193:$N$201,\">=12\")-$N$204","v":0},{"$f":"COUNTIF($O$193:$O$201,\">=12\")-$O$204","v":0},{"$f":"COUNTIF($P$193:$P$201,\">=12\")-$P$204","v":0},{"$f":"COUNTIF($Q$193:$Q$201,\">=12\")-$Q$204","v":0},{"$f":"COUNTIF($R$193:$R$201,\">=12\")-$R$204","v":0},{"$f":"COUNTIF($S$193:$S$201,\">=12\")-$S$204","v":0},{"$f":"COUNTIF($T$193:$T$201,\">=12\")-$T$204","v":0},{"$f":"COUNTIF($U$193:$U$201,\">=12\")-$U$204","v":0},{"$f":"COUNTIF($V$193:$V$201,\">=12\")-$V$204","v":0},{"$f":"COUNTIF($W$193:$W$201,\">=12\")-$W$204","v":0},{"$f":"COUNTIF($X$193:$X$201,\">=12\")-$X$204","v":0},{"$f":"COUNTIF($Y$193:$Y$201,\">=12\")-$Y$204","v":1},{"$f":"COUNTIF($Z$193:$Z$201,\">=12\")-$Z$204","v":0},{"$f":"COUNTIF($AA$193:$AA$201,\">=12\")-$AA$204","v":0},{"$f":"COUNTIF($AB$193:$AB$201,\">=12\")-$AB$204","v":0},{"$f":"COUNTIF($AC$193:$AC$201,\">=12\")-$AC$204","v":0},{"$f":"COUNTIF($AD$193:$AD$201,\">=12\")-$AD$204","v":1},{"$f":"COUNTIF($AE$193:$AE$201,\">=12\")-$AE$204","v":0},{"$f":"COUNTIF($AF$193:$AF$201,\">=12\")-$AF$204","v":0},{"$f":"COUNTIF($AG$193:$AG$201,\">=12\")-$AG$204","v":0},{"$f":"COUNTIF($AH$193:$AH$201,\">=12\")-$AH$204","v":1},{"$f":"COUNTIF($AI$193:$AI$201,\">=12\")-$AI$204","v":0},{"$f":"COUNTIF($AJ$193:$AJ$201,\">=12\")-$AJ$204","v":0},{"$f":"COUNTIF($AK$193:$AK$201,\">=12\")-$AK$204","v":0},{"$f":"COUNTIF($AL$193:$AL$201,\">=12\")-$AL$204","v":0},{"$f":"COUNTIF($AM$193:$AM$201,\">=12\")-$AM$204","v":0},{"$f":"COUNTIF($AN$193:$AN$201,\">=12\")-$AN$204","v":0},{"$f":"COUNTIF($AO$193:$AO$201,\">=12\")-$AO$204","v":0},{"$f":"COUNTIF($AP$193:$AP$201,\">=12\")-$AP$204","v":0},{"$f":"COUNTIF($AQ$193:$AQ$201,\">=12\")-$AQ$204","v":0},{"$f":"COUNTIF($AR$193:$AR$201,\">=12\")-$AR$204","v":0}]
[null,null,null,null,null,null,null,null,null,"Goals",0,0,0,0,0,0,0,0,0,0,0,0,2,0,0,1,0,0,0,0,0,0,1,0,0,0,0,0,0,4,0,0,0,0]
[null,null,1]
[null,null,1]
[]
[]
[]
[]
["Manual Input",null,null,null,null,null,null,"Opponents","Venue/Result",null,{"$f":"K3","v":"Armstrong"},{"$f":"L3","v":"Booker"},{"$f":"M3","v":"Briley"},"Byrne","Carter","Cochrane","N Coleman","P Coleman","Fishenden","Hinshelwood","Horne","Hurlock","Leslie","Lovell","Malcolm","Marks","McLeary","Mehmet","Morgan","Nutton","Salman","Sansome","Sheringham","Sparham","Stevens","Walker",0,0,0,0,0,0,0,0]
[null,null,{"$f":"IF(J214=0,1,0)","v":0},1,null,{"$f":"F5","v":"1986-08-23"},null,{"$f":"H5","v":"Reading"},"(A)","W 1-0",null,null,4,7,null,null,3,null,null,11,null,null,12,null,null,10,8,null,null,null,6,1,9,null,2,5]
[null,null,0,2,null,"1986-08-26",null,"Hull City","(H)","L 0-1",null,null,4,7,null,null,3,null,null,11,null,null,12,null,null,10,8,null,null,null,6,1,9,null,2,5]
[null,null,0,3,null,"1986-08-30",null,"Barnsley","(H)","W 1-0",null,null,4,7,null,null,3,null,null,11,null,null,null,null,null,10,8,12,null,null,6,1,9,null,2,5]
[null,null,0,4,null,"1986-09-02",null,"Sheff Utd","(A)","L 1-2",null,null,4,7,null,null,3,null,null,11,1,null,null,null,null,10,8,12,null,null,6,null,9,null,2,5]
[null,null,0,5,null,"1986-09-06",null,"Stoke","(A)","L 0-2",null,null,4,7,null,null,3,null,null,null,1,null,null,null,null,10,8,11,12,null,6,null,9,null,2,5]
[null,null,0,6,null,"1986-09-13",null,"Bradford","(H)","L 1-2",null,null,4,7,null,null,3,null,null,null,null,null,12,null,null,10,8,null,11,null,6,1,9,null,2,5]
[null,null,0,7,null,"1986-09-20",null,"Derby","(A)","D 1-1",null,null,4,7,null,null,3,null,11,null,null,null,null,null,null,10,8,null,12,null,6,1,9,null,2,5]
[null,null,0,8,null,"1986-09-27",null,"Blackburn","(H)","D 2-2",null,null,4,7,null,null,3,null,11,null,null,null,null,null,null,10,8,null,12,null,6,1,9,null,2,5]
[null,null,0,9,null,"1986-10-04",null,"C Palace","(A)","L 1-2",null,null,4,7,null,null,3,null,11,null,null,null,null,null,null,10,8,null,12,null,6,1,9,null,2,5]
[null,null,0,10,null,"1986-10-11",null,"Shrewsbury","(H)","W 4-0",null,null,4,7,null,null,3,null,null,null,1,null,12,null,null,10,6,8,null,null,11,null,9,null,2,5]
[null,null,0,11,null,"1986-10-17",null,"Oldham","(A)","L 1-2",null,null,null,7,null,null,3,null,null,null,null,null,12,null,null,10,6,8,4,null,11,1,9,null,2,5]
[null,null,0,12,null,"1986-10-25",null,"Plymouth","(H)","W 3-1",null,null,4,7,null,null,3,null,null,null,null,null,12,null,null,10,6,null,8,null,11,1,9,null,2,5]
[null,null,0,13,null,"1986-11-01",null,"Grimsby","(A)","L 0-1",null,null,4,7,null,null,3,null,null,null,null,null,null,null,null,10,6,8,12,null,11,1,9,null,2,5]
[null,null,0,14,null,"1986-11-08",null,"Leeds","(H)","W 1-0",null,null,4,7,null,null,3,null,null,null,1,null,12,null,null,10,6,8,null,null,11,null,9,null,2,5]
[null,null,0,15,null,"1986-11-15",null,"Birmingham","(H)","L 0-2",null,null,4,7,null,null,3,2,null,null,1,null,11,null,null,10,6,8,12,null,null,null,9,null,5]
[null,null,0,16,null,"1986-11-22",null,"West Brom","(A)","W 1-0",null,null,4,7,null,11,3,null,null,null,1,null,null,null,null,10,6,8,12,null,null,null,9,null,2,5]
[null,null,0,17,null,"1986-11-29",null,{"$f":"H21","v":"Portsmouth"},"(H)","D 1-1",null,null,4,7,null,12,3,null,null,null,1,null,null,null,null,10,6,8,null,null,11,null,9,null,2,5]
[null,null,0,18,null,"1986-12-06",null,"Sunderland","(A)","D 1-1",null,null,4,7,null,null,3,null,null,null,1,null,null,null,null,10,6,8,12,null,11,null,9,null,2,5]
[null,null,0,19,null,"1986-12-13",null,"Huddersfield","(H)","W 4-0",null,null,4,7,null,null,3,null,null,null,1,null,null,null,null,10,6,8,12,null,11,null,9,null,2,5]
[null,null,0,20,null,"1986-12-26",null,"Ipswich","(H)","W 1-0",null,null,4,7,null,null,3,null,null,null,1,null,12,null,null,10,6,null,8,null,11,null,9,null,2,5]
[null,null,0,21,null,"1986-12-29",null,"Birmingham","(A)","D 1-1",null,null,4,7,null,null,3,2,null,null,1,null,12,null,null,10,6,null,8,null,11,null,9,null,null,5]
[null,null,0,22,null,"1987-01-01",null,"Brighton","(A)","W 1-0",null,null,4,7,null,null,3,2,null,null,1,null,12,null,null,10,6,null,8,null,11,null,9,null,null,5]
[null,null,0,23,null,"1987-01-03",null,"Stoke","(H)","D 1-1",null,12,4,7,null,null,3,2,null,null,1,null,10,null,null,null,6,null,8,null,11,null,9,null,null,5]
[null,null,0,24,null,"1987-01-17",null,"Bradford","(A)","L 0-4",null,null,4,7,null,null,3,12,null,null,1,null,11,null,null,10,6,null,8,null,null,null,9,null,2,5]
[null,null,0,25,null,"1987-01-24",null,"Reading","(H)","W 2-1",10,null,4,7,null,null,3,null,null,null,1,null,12,null,null,11,6,null,8,null,null,null,9,null,2,5]
[null,null,0,26,null,"1987-02-07",null,"Barnsley","(A)","L 0-1",10,null,4,7,null,null,3,12,null,null,1,null,null,null,null,11,6,null,8,null,null,null,9,null,2,5]
[null,null,0,27,null,"1987-02-14",null,"Sheff Utd","(H)","W 1-0",10,null,null,7,null,null,3,12,null,null,1,4,null,null,null,11,6,null,8,null,null,null,9,null,2,5]
[null,null,0,28,null,"1987-02-21",null,"Blackburn","(A)","L 0-1",10,null,null,7,null,null,3,null,null,null,1,4,null,null,null,11,6,12,8,null,null,null,9,null,2,5]
[null,null,0,29,null,"1987-02-28",null,"Derby","(H)","L 0-1",10,12,null,7,null,null,3,2,null,null,1,4,null,null,null,null,6,11,8,null,null,null,9,null,null,5]
[null,null,0,30,null,"1987-03-07",null,"Plymouth","(A)","L 0-1",10,11,null,7,null,null,3,5,null,null,1,4,null,null,null,null,6,8,2,null,null,null,9,12]
[null,null,0,31,null,"1987-03-14",null,"Oldham","(H)","D 0-0",10,null,null,7,11,null,3,12,null,null,1,null,null,null,null,null,6,8,4,null,null,null,9,null,2,5]
[null,null,0,32,null,"1987-03-21",null,"Shrewsbury","(A)","W 2-1",null,null,null,12,11,null,3,7,null,null,1,4,null,null,null,null,6,8,null,null,10,null,9,null,2,5]
[null,null,0,33,null,"1987-03-28",null,{"$f":"H37","v":"C Palace"},"(H)","L 0-1",null,null,null,12,11,null,3,7,null,null,1,4,null,null,null,null,6,8,null,null,10,null,9,null,2,5]
[null,null,0,34,null,"1987-04-04",null,"Leeds","(A)","L 0-2",null,null,null,12,11,null,3,null,null,null,1,4,null,null,null,7,6,8,null,null,10,null,9,null,2,5]
[null,null,0,35,null,"1987-04-11",null,"Grimsby","(H)","W 1-0",null,null,8,12,11,null,3,null,null,null,1,4,null,null,null,7,6,null,null,null,10,null,9,null,2,5]
[null,null,0,36,null,"1987-04-14",null,"Hull City","(A)","L 1-2",null,null,8,12,11,null,3,null,null,null,1,4,null,null,null,7,6,null,null,null,10,null,9,null,2,5]
[null,null,0,37,null,"1987-04-18",null,"Brighton","(H)","W 3-1",null,null,8,12,11,null,3,null,null,null,1,4,null,null,null,7,6,null,null,null,10,null,9,null,2,5]
[null,null,0,38,null,"1987-04-21",null,"Ipswich","(A)","D 0-0",null,null,8,10,11,null,3,null,null,null,1,4,null,null,null,7,6,null,12,null,null,null,9,null,2,5]
[null,null,0,39,null,"1987-04-25",null,"West Brom","(H)","L 0-1",null,null,8,12,11,null,3,null,null,null,1,null,null,null,null,7,6,null,4,null,10,null,9,null,2,5]
[null,null,0,40,null,"1987-05-02",null,"Portsmouth","(A)","L 0-2",null,12,8,10,11,null,3,null,null,null,1,null,null,null,null,7,6,null,4,null,2,null,9,null,null,5]
[null,null,0,41,null,"1987-05-05",null,"Sunderland","(H)","D 1-1",null,null,8,10,11,null,3,null,null,null,1,4,null,null,null,7,6,null,null,null,2,null,9,null,12,5]
[null,null,0,42,null,"1987-05-09",null,"Huddersfield","(A)","L 0-3",null,null,8,10,11,null,3,null,null,null,1,4,null,null,null,7,6,null,null,null,2,null,9,null,12,5]
[null,null,1,43,null,"00:00:00",null,"00:00:00","00:00:00",0]
[null,null,1,44,null,"00:00:00",null,"00:00:00","00:00:00",0]
[null,null,{"$f":"IF(J258=0,1,0)","v":1},45,null,"00:00:00",null,"00:00:00","00:00:00",0]
[null,null,{"$f":"IF(J259=0,1,0)","v":1},46,null,"00:00:00",null,"00:00:00","00:00:00",0]
[]
[null,null,null,null,null,null,null,null,null,"Total League Apperances",{"$f":"COUNT($K$214:$K$259)-$K$262-$K$263","v":7},{"$f":"COUNT($L$214:$L$259)-$L$262-$L$263","v":1},{"$f":"COUNT($M$214:$M$259)-$M$262-$M$263","v":33},{"$f":"COUNT($N$214:$N$259)-$N$262-$N$263","v":35},{"$f":"COUNT($O$214:$O$259)-$O$262-$O$263","v":12},{"$f":"COUNT($P$214:$P$259)-$P$262-$P$263","v":1},{"$f":"COUNT($Q$214:$Q$259)-$Q$262-$Q$263","v":42},{"$f":"COUNT($R$214:$R$259)-$R$262-$R$263","v":8},{"$f":"COUNT($S$214:$S$259)-$S$262-$S$263","v":3},{"$f":"COUNT($T$214:$T$259)-$T$262-$T$263","v":4},{"$f":"COUNT($U$214:$U$259)-$U$262-$U$263","v":32},{"$f":"COUNT($V$214:$V$259)-$V$262-$V$263","v":13},{"$f":"COUNT($W$214:$W$259)-$W$262-$W$263","v":3},{"$f":"COUNT($X$214:$X$259)-$X$262-$X$263","v":0},{"$f":"COUNT($Y$214:$Y$259)-$Y$262-$Y$263","v":0},{"$f":"COUNT($Z$214:$Z$259)-$Z$262-$Z$263","v":36},{"$f":"COUNT($AA$214:$AA$259)-$AA$262-$AA$263","v":42},{"$f":"COUNT($AB$214:$AB$259)-$AB$262-$AB$263","v":16},{"$f":"COUNT($AC$214:$AC$259)-$AC$262-$AC$263","v":17},{"$f":"COUNT($AD$214:$AD$259)-$AD$262-$AD$263","v":0},{"$f":"COUNT($AE$214:$AE$259)-$AE$262-$AE$263","v":31},{"$f":"COUNT($AF$214:$AF$259)-$AF$262-$AF$263","v":10},{"$f":"COUNT($AG$214:$AG$259)-$AG$262-$AG$263","v":42},{"$f":"COUNT($AH$214:$AH$259)-$AH$262-$AH$263","v":0},{"$f":"COUNT($AI$214:$AI$259)-$AI$262","v":35},{"$f":"COUNT($AJ$214:$AJ$259)-$AJ$262","v":40},{"$f":"COUNT($AK$214:$AK$259)-$AK$262","v":0},{"$f":"COUNT($AL$214:$AL$259)-$AL$262","v":0},{"$f":"COUNT($AM$214:$AM$259)-$AM$262","v":0},{"$f":"COUNT($AN$214:$AN$259)-$AN$262","v":0},{"$f":"COUNT($AO$214:$AO$259)-$AO$262","v":0},{"$f":"COUNT($AP$214:$AP$259)-$AP$262","v":0},{"$f":"COUNT($AQ$214:$AQ$259)-$AQ$262","v":0},{"$f":"COUNT($AR$214:$AR$259)-$AR$262","v":0}]
[null,null,null,null,null,null,null,null,null,"Total League Substitute Appearences ",{"$f":"$AX$53","v":0},{"$f":"$AY$53","v":2},{"$f":"$AZ$53","v":0},{"$f":"$BA$53","v":5},{"$f":"$BB$53","v":0},{"$f":"$BC$53","v":0},{"$f":"$BD$53","v":0},{"$f":"$BE$53","v":2},{"$f":"$BF$53","v":0},{"$f":"$BG$53","v":0},{"$f":"$BH$53","v":0},{"$f":"$BI$53","v":0},{"$f":"$BJ$53","v":1},{"$f":"$BK$53","v":0},{"$f":"$BL$53","v":0},{"$f":"$BM$53","v":0},{"$f":"$BN$53","v":0},{"$f":"$BO$53","v":2},{"$f":"$BP$53","v":4},{"$f":"$BQ$53","v":0},{"$f":"$BR$53","v":0},{"$f":"$BS$53","v":0},{"$f":"$BT$53","v":0},{"$f":"$BU$53","v":0},{"$f":"$BV$53","v":1},{"$f":"$BW$53","v":0},{"$f":"$BX$53","v":0},{"$f":"$BY$53","v":0},{"$f":"$BZ$53","v":0},{"$f":"$CA$53","v":0},{"$f":"$CB$53","v":0},{"$f":"$CC$53","v":0},{"$f":"$CD$53","v":0},{"$f":"$CE$53","v":0}]
[null,null,null,null,null,null,null,null,null,"Non Playing Substitute",{"$f":"COUNTIF($K$214:$K$259,12)-$K$262","v":0},{"$f":"COUNTIF($L$214:$L$259,12)-$L$262","v":1},{"$f":"COUNTIF($M$214:$M$259,12)-$M$262","v":0},{"$f":"COUNTIF($N$214:$N$259,12)-$N$262","v":2},{"$f":"COUNTIF($O$214:$O$259,12)-$O$262","v":0},{"$f":"COUNTIF($P$214:$P$259,12)-$P$262","v":1},{"$f":"COUNTIF($Q$214:$Q$259,12)-$Q$262","v":0},{"$f":"COUNTIF($R$214:$R$259,12)-$R$262","v":2},{"$f":"COUNTIF($S$214:$S$259,12)-$S$262","v":0},{"$f":"COUNTIF($T$214:$T$259,12)-$T$262","v":0},{"$f":"COUNTIF($U$214:$U$259,12)-$U$262","v":0},{"$f":"COUNTIF($V$214:$V$259,12)-$V$262","v":0},{"$f":"COUNTIF($W$214:$W$259,12)-$W$262","v":10},{"$f":"COUNTIF($X$214:$X$259,12)-$X$262","v":0},{"$f":"COUNTIF($Y$214:$Y$259,12)-$Y$262","v":0},{"$f":"COUNTIF($Z$214:$Z$259,12)-$Z$262","v":0},{"$f":"COUNTIF($AA$214:$AA$259,12)-$AA$262","v":0},{"$f":"COUNTIF($AB$214:$AB$259,12)-$AB$262","v":1},{"$f":"COUNTIF($AC$214:$AC$259,12)-$AC$262","v":6},{"$f":"COUNTIF($AD$214:$AD$259,12)-$AD$262","v":0},{"$f":"COUNTIF($AE$214:$AE$259,12)-$AE$262","v":0},{"$f":"COUNTIF($AF$214:$AF$259,12)-$AF$262","v":0},{"$f":"COUNTIF($AG$214:$AG$259,12)-$AG$262","v":0},{"$f":"COUNTIF($AH$214:$AH$259,12)-$AH$262","v":1},{"$f":"COUNTIF($AI$214:$AI$259,12)-$AI$262","v":1},{"$f":"COUNTIF($AJ$214:$AJ$259,12)-$AJ$262","v":0},{"$f":"COUNTIF($AK$214:$AK$259,12)-$AK$262","v":0},{"$f":"COUNTIF($AL$214:$AL$259,12)-$AL$262","v":0},{"$f":"COUNTIF($AM$214:$AM$259,12)-$AM$262","v":0},{"$f":"COUNTIF($AN$214:$AN$259,12)-$AN$262","v":0},{"$f":"COUNTIF($AO$214:$AO$259,12)-$AO$262","v":0},{"$f":"COUNTIF($AP$214:$AP$259,12)-$AP$262","v":0},{"$f":"COUNTIF($AQ$214:$AQ$259,12)-$AQ$262","v":0},{"$f":"COUNTIF($AR$214:$AR$259,12)-$AR$262","v":0}]
[null,null,null,null,null,null,null,null,null,"Goals",0,0,3,4,1,0,0,0,0,0,0,1,1,0,0,10,0,1,1,0,2,0,13,0,1,1,0,0,0,39,0,0,0,0]
[]
[null,null,null,null,null,null,null,"FA Cup"]
[null,null,{"$f":"IF(J267=0,1,0)","v":0},{"$f":"D58","v":3},null,{"$f":"F58","v":"1987-01-10"},null,{"$f":"H58","v":"Cardiff"},"(H)","D 0-0",null,null,4,7,null,null,3,14,null,null,1,null,12,null,null,10,6,null,8,null,11,null,9,null,2,5]
[null,null,0,{"$f":"D59","v":"3R"},null,"1987-01-20",null,"Cardiff","(A)","D 2-2",null,14,4,7,null,null,3,12,null,null,1,null,11,null,null,10,6,null,8,null,null,null,9,null,2,5]
[null,null,0,"3 2R",null,"1987-01-26",null,"Cardiff","(A)","L 0-1",null,null,4,7,null,null,3,14,null,null,1,null,11,12,null,10,6,null,8,null,null,null,9,null,2,5]
[null,null,1,0,null,"00:00:00",null,"00:00:00","00:00:00",0]
[null,null,1,0,null,"00:00:00",null,"00:00:00","00:00:00",0]
[null,null,1,0,null,"00:00:00",null,"00:00:00","00:00:00",0]
[null,null,1,0,null,"00:00:00",null,"00:00:00","00:00:00",0]
[]
[null,null,null,null,null,null,null,null,null,"Total FA Cup Apperances",{"$f":"COUNT($K$267:$K$273)-$K$276-$K$277","v":0},{"$f":"COUNT($L$267:$L$273)-$L$276-$L$277","v":0},{"$f":"COUNT($M$267:$M$273)-$M$276-$M$277","v":3},{"$f":"COUNT($N$267:$N$273)-$N$276-$N$277","v":3},{"$f":"COUNT($O$267:$O$273)-$O$276-$O$277","v":0},{"$f":"COUNT($P$267:$P$273)-$P$276-$P$277","v":0},{"$f":"COUNT($Q$267:$Q$273)-$Q$276-$Q$277","v":3},{"$f":"COUNT($R$267:$R$273)-$R$276-$R$277","v":0},{"$f":"COUNT($S$267:$S$273)-$S$276-$S$277","v":0},{"$f":"COUNT($T$267:$T$273)-$T$276-$T$277","v":0},{"$f":"COUNT($U$267:$U$273)-$U$276-$U$277","v":3},{"$f":"COUNT($V$267:$V$273)-$V$276-$V$277","v":0},{"$f":"COUNT($W$267:$W$273)-$W$276-$W$277","v":2},{"$f":"COUNT($X$267:$X$273)-$X$276-$X$277","v":0},{"$f":"COUNT($Y$267:$Y$273)-$Y$276-$Y$277","v":0},{"$f":"COUNT($Z$267:$Z$273)-$Z$276-$Z$277","v":3},{"$f":"COUNT($AA$267:$AA$273)-$AA$276-$AA$277","v":3},{"$f":"COUNT($AB$267:$AB$273)-$AB$276-$AB$277","v":0},{"$f":"COUNT($AC$267:$AC$273)-$AC$276-$AC$277","v":3},{"$f":"COUNT($AD$267:$AD$273)-$AD$276-$AD$277","v":0},{"$f":"COUNT($AE$267:$AE$273)-$AE$276-$AE$277","v":1},{"$f":"COUNT($AF$267:$AF$273)-$AF$276-$AF$277","v":0},{"$f":"COUNT($AG$267:$AG$273)-$AG$276-$AG$277","v":3},{"$f":"COUNT($AH$267:$AH$273)-$AH$276-$AH$277","v":0},{"$f":"COUNT($AI$267:$AI$273)-$AI$276-$AI$277","v":3},{"$f":"COUNT($AJ$267:$AJ$273)-$AJ$276-$AJ$277","v":3},{"$f":"COUNT($AK$267:$AK$273)-$AK$276-$AK$277","v":0},{"$f":"COUNT($AL$267:$AL$273)-$AL$276-$AL$277","v":0},{"$f":"COUNT($AM$267:$AM$273)-$AM$276-$AM$277","v":0},{"$f":"COUNT($AN$267:$AN$273)-$AN$276-$AN$277","v":0},{"$f":"COUNT($AO$267:$AO$273)-$AO$276-$AO$277","v":0},{"$f":"COUNT($AP$267:$AP$273)-$AP$276-$AP$277","v":0},{"$f":"COUNT($AQ$267:$AQ$273)-$AQ$276-$AQ$277","v":0},{"$f":"COUNT($AR$267:$AR$273)-$AR$276-$AR$277","v":0}]
[null,null,null,null,null,null,null,null,null,"Total FA Cup Substitute Appearences ",{"$f":"$AX$67+$CH$67","v":0},{"$f":"$AY$67+$CI$67","v":0},{"$f":"$AZ$67+$CJ$67","v":0},{"$f":"$BA$67+$CK$67","v":0},{"$f":"$BB$67+$CL$67","v":0},{"$f":"$BC$67+$CM$67","v":0},{"$f":"$BD$67+$CN$67","v":0},{"$f":"$BE$67+$CO$67","v":0},{"$f":"$BF$67+$CP$67","v":0},{"$f":"$BG$67+$CQ$67","v":0},{"$f":"$BH$67+$CR$67","v":0},{"$f":"$BI$67+$CS$67","v":0},{"$f":"$BJ$67+$CT$67","v":1},{"$f":"$BK$67+$CU$67","v":1},{"$f":"$BL$67+$CV$67","v":0},{"$f":"$BM$67+$CW$67","v":0},{"$f":"$BN$67+$CX$67","v":0},{"$f":"$BO$67+$CY$67","v":0},{"$f":"$BP$67+$CZ$67","v":0},{"$f":"$BQ$67+$DA$67","v":0},{"$f":"$BR$67+$DB$67","v":0},{"$f":"$BS$67+$DC$67","v":0},{"$f":"$BT$67+$DD$67","v":0},{"$f":"$BU$67+$DE$67","v":0},{"$f":"$BV$67+$DF$67","v":0},{"$f":"$BW$67+$DG$67","v":0},{"$f":"$BX$67+$DH$67","v":0},{"$f":"$BY$67+$DI$67","v":0},{"$f":"$BZ$67+$DJ$67","v":0},{"$f":"$CA$67+$DK$67","v":0},{"$f":"$CB$67+$DL$67","v":0},{"$f":"$CC$67+$DM$67","v":0},{"$f":"$CD$67+$DN$67","v":0},{"$f":"$CE$67+$DO$67","v":0}]
[null,null,null,null,null,null,null,null,null,"Non Playing Substitute",{"$f":"COUNTIF($K$267:$K$273,\">=12\")-$K$276","v":0},{"$f":"COUNTIF($L$267:$L$273,\">=12\")-$L$276","v":1},{"$f":"COUNTIF($M$267:$M$273,\">=12\")-$M$276","v":0},{"$f":"COUNTIF($N$267:$N$273,\">=12\")-$N$276","v":0},{"$f":"COUNTIF($O$267:$O$273,\">=12\")-$O$276","v":0},{"$f":"COUNTIF($P$267:$P$273,\">=12\")-$P$276","v":0},{"$f":"COUNTIF($Q$267:$Q$273,\">=12\")-$Q$276","v":0},{"$f":"COUNTIF($R$267:$R$273,\">=12\")-$R$276","v":3},{"$f":"COUNTIF($S$267:$S$273,\">=12\")-$S$276","v":0},{"$f":"COUNTIF($T$267:$T$273,\">=12\")-$T$276","v":0},{"$f":"COUNTIF($U$267:$U$273,\">=12\")-$U$276","v":0},{"$f":"COUNTIF($V$267:$V$273,\">=12\")-$V$276","v":0},{"$f":"COUNTIF($W$267:$W$273,\">=12\")-$W$276","v":0},{"$f":"COUNTIF($X$267:$X$273,\">=12\")-$X$276","v":0},{"$f":"COUNTIF($Y$267:$Y$273,\">=12\")-$Y$276","v":0},{"$f":"COUNTIF($Z$267:$Z$273,\">=12\")-$Z$276","v":0},{"$f":"COUNTIF($AA$267:$AA$273,\">=12\")-$AA$276","v":0},{"$f":"COUNTIF($AB$267:$AB$273,\">=12\")-$AB$276","v":0},{"$f":"COUNTIF($AC$267:$AC$273,\">=12\")-$AC$276","v":0},{"$f":"COUNTIF($AD$267:$AD$273,\">=12\")-$AD$276","v":0},{"$f":"COUNTIF($AE$267:$AE$273,\">=12\")-$AE$276","v":0},{"$f":"COUNTIF($AF$267:$AF$273,\">=12\")-$AF$276","v":0},{"$f":"COUNTIF($AG$267:$AG$273,\">=12\")-$AG$276","v":0},{"$f":"COUNTIF($AH$267:$AH$273,\">=12\")-$AH$276","v":0},{"$f":"COUNTIF($AI$267:$AI$273,\">=12\")-$AI$276","v":0},{"$f":"COUNTIF($AJ$267:$AJ$273,\">=12\")-$AJ$276","v":0},{"$f":"COUNTIF($AK$267:$AK$273,\">=12\")-$AK$276","v":0},{"$f":"COUNTIF($AL$267:$AL$273,\">=12\")-$AL$276","v":0},{"$f":"COUNTIF($AM$267:$AM$273,\">=12\")-$AM$276","v":0},{"$f":"COUNTIF($AN$267:$AN$273,\">=12\")-$AN$276","v":0},{"$f":"COUNTIF($AO$267:$AO$273,\">=12\")-$AO$276","v":0},{"$f":"COUNTIF($AP$267:$AP$273,\">=12\")-$AP$276","v":0},{"$f":"COUNTIF($AQ$267:$AQ$273,\">=12\")-$AQ$276","v":0},{"$f":"COUNTIF($AR$267:$AR$273,\">=12\")-$AR$276","v":0}]
[null,null,null,null,null,null,null,null,null,"Goals",0,0,0,0,0,0,0,0,0,0,0,0,1,0,0,0,0,0,1,0,0,0,0,0,0,0,0,0,0,2,0,0,0,0]
[]
[null,null,null,null,null,null,null,"League Cup"]
[null,null,{"$f":"IF(J281=0,1,0)","v":0},{"$f":"D72","v":2},null,{"$f":"F72","v":"1986-10-07"},null,{"$f":"H72","v":"Walsall"},{"$f":"I72","v":"(A)"},{"$f":"J72","v":"W 1-0"},null,11,4,7,null,null,14,null,12,null,1,null,null,null,null,10,6,8,null,null,3,null,9,null,2,5]
[null,null,0,{"$f":"D73","v":2},null,{"$f":"F73","v":"1986-10-14"},null,{"$f":"H73","v":"Walsall"},"(H)","W 3-2",null,null,4,7,null,null,3,null,null,null,1,null,12,null,null,10,6,8,14,null,11,null,9,null,2,5]
[null,null,0,3,null,"1986-10-29",null,"Norwich","(A)","L 1-4",null,null,4,7,null,null,3,14,null,null,null,null,12,null,null,10,6,null,8,null,11,1,9,null,2,5]
[null,null,1,0,null,"00:00:00",null,"00:00:00","00:00:00",0]
[null,null,1,0,null,"00:00:00",null,"00:00:00","00:00:00",0]
[null,null,1,0,null,"00:00:00",null,"00:00:00","00:00:00",0]
[null,null,1,0,null,"00:00:00",null,"00:00:00","00:00:00",0]
[null,null,1,0,null,"00:00:00",null,"00:00:00","00:00:00",0]
[null,null,1,0,null,"00:00:00",null,"00:00:00","00:00:00",0]
[]
[null,null,null,null,null,null,null,null,null,"Total League Cup Apperances",{"$f":"COUNT($K$281:$K$289)-$K$293-$K$292","v":0},{"$f":"COUNT($L$281:$L$289)-$L$293-$L$292","v":1},{"$f":"COUNT($M$281:$M$289)-$M$293-$M$292","v":3},{"$f":"COUNT($N$281:$N$289)-$N$293-$N$292","v":3},{"$f":"COUNT($O$281:$O$289)-$O$293-$O$292","v":0},{"$f":"COUNT($P$281:$P$289)-$P$293-$P$292","v":0},{"$f":"COUNT($Q$281:$Q$289)-$Q$293-$Q$292","v":2},{"$f":"COUNT($R$281:$R$289)-$R$293-$R$292","v":0},{"$f":"COUNT($S$281:$S$289)-$S$293-$S$292","v":0},{"$f":"COUNT($T$281:$T$289)-$T$293-$T$292","v":0},{"$f":"COUNT($U$281:$U$289)-$U$293-$U$292","v":2},{"$f":"COUNT($V$281:$V$289)-$V$293-$V$292","v":0},{"$f":"COUNT($W$281:$W$289)-$W$293-$W$292","v":0},{"$f":"COUNT($X$281:$X$289)-$X$293-$X$292","v":0},{"$f":"COUNT($Y$281:$Y$289)-$Y$293-$Y$292","v":0},{"$f":"COUNT($Z$281:$Z$289)-$Z$293-$Z$292","v":3},{"$f":"COUNT($AA$281:$AA$289)-$AA$293-$AA$292","v":3},{"$f":"COUNT($AB$281:$AB$289)-$AB$293-$AB$292","v":2},{"$f":"COUNT($AC$281:$AC$289)-$AC$293-$AC$292","v":1},{"$f":"COUNT($AD$281:$AD$289)-$AD$293-$AD$292","v":0},{"$f":"COUNT($AE$281:$AE$289)-$AE$293-$AE$292","v":3},{"$f":"COUNT($AF$281:$AF$289)-$AF$293-$AF$292","v":1},{"$f":"COUNT($AG$281:$AG$289)-$AG$293-$AG$292","v":3},{"$f":"COUNT($AH$281:$AH$289)-$AH$293-$AH$292","v":0},{"$f":"COUNT($AI$281:$AI$289)-$AI$293-$AI$292","v":3},{"$f":"COUNT($AJ$281:$AJ$289)-$AJ$293-$AJ$292","v":3},{"$f":"COUNT($AK$281:$AK$289)-$AK$293-$AK$292","v":0},{"$f":"COUNT($AL$281:$AL$289)-$AL$293-$AL$292","v":0},{"$f":"COUNT($AM$281:$AM$289)-$AM$293-$AM$292","v":0},{"$f":"COUNT($AN$281:$AN$289)-$AN$293-$AN$292","v":0},{"$f":"COUNT($AO$281:$AO$289)-$AO$293-$AO$292","v":0},{"$f":"COUNT($AP$281:$AP$289)-$AP$293-$AP$292","v":0},{"$f":"COUNT($AQ$281:$AQ$289)-$AQ$293-$AQ$292","v":0},{"$f":"COUNT($AR$281:$AR$289)-$AR$293-$AR$292","v":0}]
[null,null,null,null,null,null,null,null,null,"Total League Cup Substitute Appearences ",{"$f":"$AX$83+$CH$83","v":0},{"$f":"$AY$83+$CI$83","v":0},{"$f":"$AZ$83+$CJ$83","v":0},{"$f":"$BA$83+$CK$83","v":0},{"$f":"$BB$83+$CL$83","v":0},{"$f":"$BC$83+$CM$83","v":0},{"$f":"$BD$83+$CN$83","v":0},{"$f":"$BE$83+$CO$83","v":0},{"$f":"$BF$83+$CP$83","v":0},{"$f":"$BG$83+$CQ$83","v":0},{"$f":"$BH$83+$CR$83","v":0},{"$f":"$BI$83+$CS$83","v":0},{"$f":"$BJ$83+$CT$83","v":2},{"$f":"$BK$83+$CU$83","v":0},{"$f":"$BL$83+$CV$83","v":0},{"$f":"$BM$83+$CW$83","v":0},{"$f":"$BN$83+$CX$83","v":0},{"$f":"$BO$83+$CY$83","v":0},{"$f":"$BP$83+$CZ$83","v":1},{"$f":"$BQ$83+$DA$83","v":0},{"$f":"$BR$83+$DB$83","v":0},{"$f":"$BS$83+$DC$83","v":0},{"$f":"$BT$83+$DD$83","v":0},{"$f":"$BU$83+$DE$83","v":0},{"$f":"$BV$83+$DF$83","v":0},{"$f":"$BW$83+$DG$83","v":0},{"$f":"$BX$83+$DH$83","v":0},{"$f":"$BY$83+$DI$83","v":0},{"$f":"$BZ$83+$DJ$83","v":0},{"$f":"$CA$83+$DK$83","v":0},{"$f":"$CB$83+$DL$83","v":0},{"$f":"$CC$83+$DM$83","v":0},{"$f":"$CD$83+$DN$83","v":0},{"$f":"$CE$83+$DO$83","v":0}]
[null,null,null,null,null,null,null,null,null,"Non Playing Substitute",{"$f":"COUNTIF($K$281:$K$289,\">=12\")-$K$292","v":0},{"$f":"COUNTIF($L$281:$L$289,\">=12\")-$L$292","v":0},{"$f":"COUNTIF($M$281:$M$289,\">=12\")-$M$292","v":0},{"$f":"COUNTIF($N$281:$N$289,\">=12\")-$N$292","v":0},{"$f":"COUNTIF($O$281:$O$289,\">=12\")-$O$292","v":0},{"$f":"COUNTIF($P$281:$P$289,\">=12\")-$P$292","v":0},{"$f":"COUNTIF($Q$281:$Q$289,\">=12\")-$Q$292","v":1},{"$f":"COUNTIF($R$281:$R$289,\">=12\")-$R$292","v":1},{"$f":"COUNTIF($S$281:$S$289,\">=12\")-$S$292","v":1},{"$f":"COUNTIF($T$281:$T$289,\">=12\")-$T$292","v":0},{"$f":"COUNTIF($U$281:$U$289,\">=12\")-$U$292","v":0},{"$f":"COUNTIF($V$281:$V$289,\">=12\")-$V$292","v":0},{"$f":"COUNTIF($W$281:$W$289,\">=12\")-$W$292","v":0},{"$f":"COUNTIF($X$281:$X$289,\">=12\")-$X$292","v":0},{"$f":"COUNTIF($Y$281:$Y$289,\">=12\")-$Y$292","v":0},{"$f":"COUNTIF($Z$281:$Z$289,\">=12\")-$Z$292","v":0},{"$f":"COUNTIF($AA$281:$AA$289,\">=12\")-$AA$292","v":0},{"$f":"COUNTIF($AB$281:$AB$289,\">=12\")-$AB$292","v":0},{"$f":"COUNTIF($AC$281:$AC$289,\">=12\")-$AC$292","v":0},{"$f":"COUNTIF($AD$281:$AD$289,\">=12\")-$AD$292","v":0},{"$f":"COUNTIF($AE$281:$AE$289,\">=12\")-$AE$292","v":0},{"$f":"COUNTIF($AF$281:$AF$289,\">=12\")-$AF$292","v":0},{"$f":"COUNTIF($AG$281:$AG$289,\">=12\")-$AG$292","v":0},{"$f":"COUNTIF($AH$281:$AH$289,\">=12\")-$AH$292","v":0},{"$f":"COUNTIF($AI$281:$AI$289,\">=12\")-$AI$292","v":0},{"$f":"COUNTIF($AJ$281:$AJ$289,\">=12\")-$AJ$292","v":0},{"$f":"COUNTIF($AK$281:$AK$289,\">=12\")-$AK$292","v":0},{"$f":"COUNTIF($AL$281:$AL$289,\">=12\")-$AL$292","v":0},{"$f":"COUNTIF($AM$281:$AM$289,\">=12\")-$AM$292","v":0},{"$f":"COUNTIF($AN$281:$AN$289,\">=12\")-$AN$292","v":0},{"$f":"COUNTIF($AO$281:$AO$289,\">=12\")-$AO$292","v":0},{"$f":"COUNTIF($AP$281:$AP$289,\">=12\")-$AP$292","v":0},{"$f":"COUNTIF($AQ$281:$AQ$289,\">=12\")-$AQ$292","v":0},{"$f":"COUNTIF($AR$281:$AR$289,\">=12\")-$AR$292","v":0}]
[null,null,null,null,null,null,null,null,null,"Goals",0,0,0,1,0,0,0,0,0,0,0,0,0,0,0,0,0,0,0,0,0,0,2,0,0,2,0,0,0,5,0,0,0,0]
[null,null,1]
[null,null,null,null,null,null,null,"Full Members Cup"]
[null,null,{"$f":"IF(J297=0,1,0)","v":0},{"$f":"D88","v":"G"},null,{"$f":"F88","v":"1986-10-21"},null,{"$f":"H88","v":"West Brom"},"(H)","W 2-0",null,null,null,7,null,null,3,4,null,null,null,null,11,null,14,10,6,null,8,null,null,1,9,12,2,5]
[null,null,{"$f":"IF(J298=0,1,0)","v":0},"G",null,"1986-11-04",null,"Portsmouth","(A)","L 2-3",null,12,null,7,null,null,3,null,null,null,1,null,11,null,null,10,6,8,4,14,2,null,9,null,null,5]
[null,null,1,0,null,"00:00:00",null,"00:00:00","00:00:00",0]
[null,null,1,0,null,"00:00:00",null,"00:00:00","00:00:00",0]
[null,null,1,0,null,"00:00:00",null,"00:00:00","00:00:00",0]
[null,null,1,0,null,"00:00:00",null,"00:00:00","00:00:00",0]
[null,null,1,0,null,"00:00:00",null,"00:00:00","00:00:00",0]
[null,null,1,0,null,"00:00:00",null,"00:00:00","00:00:00",0]
[null,null,1,0,null,"00:00:00",null,"00:00:00","00:00:00",0]
[]
[null,null,null,null,null,null,null,null,null,"Total Full Members Cup Apperances",{"$f":"COUNT($K$297:$K$305)-$K$308-$K$309","v":0},{"$f":"COUNT($L$297:$L$305)-$L$308-$L$309","v":0},{"$f":"COUNT($M$297:$M$305)-$M$308-$M$309","v":0},{"$f":"COUNT($N$297:$N$305)-$N$308-$N$309","v":2},{"$f":"COUNT($O$297:$O$305)-$O$308-$O$309","v":0},{"$f":"COUNT($P$297:$P$305)-$P$308-$P$309","v":0},{"$f":"COUNT($Q$297:$Q$305)-$Q$308-$Q$309","v":2},{"$f":"COUNT($R$297:$R$305)-$R$308-$R$309","v":1},{"$f":"COUNT($S$297:$S$305)-$S$308-$S$309","v":0},{"$f":"COUNT($T$297:$T$305)-$T$308-$T$309","v":0},{"$f":"COUNT($U$297:$U$305)-$U$308-$U$309","v":1},{"$f":"COUNT($V$297:$V$305)-$V$308-$V$309","v":0},{"$f":"COUNT($W$297:$W$305)-$W$308-$W$309","v":2},{"$f":"COUNT($X$297:$X$305)-$X$308-$X$309","v":0},{"$f":"COUNT($Y$297:$Y$305)-$Y$308-$Y$309","v":0},{"$f":"COUNT($Z$297:$Z$305)-$Z$308-$Z$309","v":2},{"$f":"COUNT($AA$297:$AA$305)-$AA$308-$AA$309","v":2},{"$f":"COUNT($AB$297:$AB$305)-$AB$308-$AB$309","v":1},{"$f":"COUNT($AC$297:$AC$305)-$AC$308-$AC$309","v":2},{"$f":"COUNT($AD$297:$AD$305)-$AD$308-$AD$309","v":0},{"$f":"COUNT($AE$297:$AE$305)-$AE$308-$AE$309","v":1},{"$f":"COUNT($AF$297:$AF$305)-$AF$308-$AF$309","v":1},{"$f":"COUNT($AG$297:$AG$305)-$AG$308-$AG$309","v":2},{"$f":"COUNT($AH$297:$AH$305)-$AH$308-$AH$309","v":0},{"$f":"COUNT($AI$297:$AI$305)-$AI$308-$AI$309","v":1},{"$f":"COUNT($AJ$297:$AJ$305)-$AJ$308-$AJ$309","v":2},{"$f":"COUNT($AK$297:$AK$305)-$AK$308-$AK$309","v":0},{"$f":"COUNT($AL$297:$AL$305)-$AL$308-$AL$309","v":0},{"$f":"COUNT($AM$297:$AM$305)-$AM$308-$AM$309","v":0},{"$f":"COUNT($AN$297:$AN$305)-$AN$308-$AN$309","v":0},{"$f":"COUNT($AO$297:$AO$305)-$AO$308-$AO$309","v":0},{"$f":"COUNT($AP$297:$AP$305)-$AP$308-$AP$309","v":0},{"$f":"COUNT($AQ$297:$AQ$305)-$AQ$308-$AQ$309","v":0},{"$f":"COUNT($AR$297:$AR$305)-$AR$308-$AR$309","v":0}]
[null,null,null,null,null,null,null,null,null,"Total Full Members Cup Sub Appearences ",{"$f":"$AX$99+$CH$99","v":0},{"$f":"$AY$99+$CI$99","v":0},{"$f":"$AZ$99+$CJ$99","v":0},{"$f":"$BA$99+$CK$99","v":0},{"$f":"$BB$99+$CL$99","v":0},{"$f":"$BC$99+$CM$99","v":0},{"$f":"$BD$99+$CN$99","v":0},{"$f":"$BE$99+$CO$99","v":0},{"$f":"$BF$99+$CP$99","v":0},{"$f":"$BG$99+$CQ$99","v":0},{"$f":"$BH$99+$CR$99","v":0},{"$f":"$BI$99+$CS$99","v":0},{"$f":"$BJ$99+$CT$99","v":0},{"$f":"$BK$99+$CU$99","v":0},{"$f":"$BL$99+$CV$99","v":0},{"$f":"$BM$99+$CW$99","v":0},{"$f":"$BN$99+$CX$99","v":0},{"$f":"$BO$99+$CY$99","v":0},{"$f":"$BP$99+$CZ$99","v":0},{"$f":"$BQ$99+$DA$99","v":0},{"$f":"$BR$99+$DB$99","v":0},{"$f":"$BS$99+$DC$99","v":0},{"$f":"$BT$99+$DD$99","v":0},{"$f":"$BU$99+$DE$99","v":0},{"$f":"$BV$99+$DF$99","v":0},{"$f":"$BW$99+$DG$99","v":0},{"$f":"$BX$99+$DH$99","v":0},{"$f":"$BY$99+$DI$99","v":0},{"$f":"$BZ$99+$DJ$99","v":0},{"$f":"$CA$99+$DK$99","v":0},{"$f":"$CB$99+$DL$99","v":0},{"$f":"$CC$99+$DM$99","v":0},{"$f":"$CD$99+$DN$99","v":0},{"$f":"$CE$308+$DO$308","v":0}]
[null,null,null,null,null,null,null,null,null,"Non Playing Substitute",{"$f":"COUNTIF($K$297:$K$305,\">=12\")-$K$308","v":0},{"$f":"COUNTIF($L$297:$L$305,\">=12\")-$L$308","v":1},{"$f":"COUNTIF($M$297:$M$305,\">=12\")-$M$308","v":0},{"$f":"COUNTIF($N$297:$N$305,\">=12\")-$N$308","v":0},{"$f":"COUNTIF($O$297:$O$305,\">=12\")-$O$308","v":0},{"$f":"COUNTIF($P$297:$P$305,\">=12\")-$P$308","v":0},{"$f":"COUNTIF($Q$297:$Q$305,\">=12\")-$Q$308","v":0},{"$f":"COUNTIF($R$297:$R$305,\">=12\")-$R$308","v":0},{"$f":"COUNTIF($S$297:$S$305,\">=12\")-$S$308","v":0},{"$f":"COUNTIF($T$297:$T$305,\">=12\")-$T$308","v":0},{"$f":"COUNTIF($U$297:$U$305,\">=12\")-$U$308","v":0},{"$f":"COUNTIF($V$297:$V$305,\">=12\")-$V$308","v":0},{"$f":"COUNTIF($W$297:$W$305,\">=12\")-$W$308","v":0},{"$f":"COUNTIF($X$297:$X$305,\">=12\")-$X$308","v":0},{"$f":"COUNTIF($Y$297:$Y$305,\">=12\")-$Y$308","v":1},{"$f":"COUNTIF($Z$297:$Z$305,\">=12\")-$Z$308","v":0},{"$f":"COUNTIF($AA$297:$AA$305,\">=12\")-$AA$308","v":0},{"$f":"COUNTIF($AB$297:$AB$305,\">=12\")-$AB$308","v":0},{"$f":"COUNTIF($AC$297:$AC$305,\">=12\")-$AC$308","v":0},{"$f":"COUNTIF($AD$297:$AD$305,\">=12\")-$AD$308","v":1},{"$f":"COUNTIF($AE$297:$AE$305,\">=12\")-$AE$308","v":0},{"$f":"COUNTIF($AF$297:$AF$305,\">=12\")-$AF$308","v":0},{"$f":"COUNTIF($AG$297:$AG$305,\">=12\")-$AG$308","v":0},{"$f":"COUNTIF($AH$297:$AH$305,\">=12\")-$AH$308","v":1},{"$f":"COUNTIF($AI$297:$AI$305,\">=12\")-$AI$308","v":0},{"$f":"COUNTIF($AJ$297:$AJ$305,\">=12\")-$AJ$308","v":0},{"$f":"COUNTIF($AK$297:$AK$305,\">=12\")-$AK$308","v":0},{"$f":"COUNTIF($AL$297:$AL$305,\">=12\")-$AL$308","v":0},{"$f":"COUNTIF($AM$297:$AM$305,\">=12\")-$AM$308","v":0},{"$f":"COUNTIF($AN$297:$AN$305,\">=12\")-$AN$308","v":0},{"$f":"COUNTIF($AO$297:$AO$305,\">=12\")-$AO$308","v":0},{"$f":"COUNTIF($AP$297:$AP$305,\">=12\")-$AP$308","v":0},{"$f":"COUNTIF($AQ$297:$AQ$305,\">=12\")-$AQ$308","v":0},{"$f":"COUNTIF($AR$297:$AR$305,\">=12\")-$AR$308","v":0}]
[null,null,null,null,null,null,null,null,null,"Goals",0,0,0,0,0,0,0,0,0,0,0,0,2,0,0,1,0,0,0,0,0,0,1,0,0,0,0,0,0,4,0,0,0,0]
[null,null,1]
[]
[]
[]
[]
["Manual Input",null,null,null,null,null,null,"Opponents","Venue/Result",null,{"$f":"K3","v":"Armstrong"},{"$f":"L3","v":"Booker"},"Briley","Byrne","Carter","Cochrane","N Coleman","P Coleman","Fishenden","Hinshelwood","Horne","Hurlock","Leslie","Lovell","Malcolm","Marks","McLeary","Mehmet","Morgan","Nutton","Salman","Sansome","Sheringham","Sparham","Stevens","Walker",0,0,0,0,0,0,0,0]
[null,null,{"$f":"IF(J317=0,1,0)","v":0},1,null,{"$f":"F5","v":"1986-08-23"},null,{"$f":"H5","v":"Reading"},{"$f":"I5","v":"(A)"},{"$f":"J5","v":"W 1-0"},null,null,4,7,null,null,3,null,null,11,null,null,12,null,null,10,6,null,null,null,8,1,9,null,2,5]
[null,null,0,2,null,{"$f":"F6","v":"1986-08-26"},null,{"$f":"H6","v":"Hull City"},"(H)","L 0-1",null,null,4,7,null,null,3,null,null,11,null,null,12,null,null,10,8,null,null,null,6,1,9,null,2,5]
[null,null,0,3,null,"1986-08-30",null,"Barnsley","(H)","W 1-0",null,null,4,7,null,null,3,null,null,11,null,null,null,null,null,10,8,12,null,null,6,1,9,null,2,5]
[null,null,0,4,null,"1986-09-02",null,"Sheff Utd","(A)","L 1-2",null,null,4,7,null,null,3,null,null,11,1,null,null,null,null,10,8,12,null,null,6,null,9,null,2,5]
[null,null,0,5,null,"1986-09-06",null,"Stoke","(A)","L 0-2",null,null,4,7,null,null,3,null,null,null,1,null,null,null,null,10,8,11,12,null,6,null,9,null,2,5]
[null,null,0,6,null,"1986-09-13",null,"Bradford","(H)","L 1-2",null,null,4,7,null,null,3,null,null,null,null,null,12,null,null,10,8,null,11,null,6,1,9,null,2,5]
[null,null,0,7,null,"1986-09-20",null,"Derby","(A)","D 1-1",null,null,4,7,null,null,3,null,11,null,null,null,null,null,null,10,8,null,12,null,6,1,9,null,2,5]
[null,null,0,8,null,"1986-09-27",null,"Blackburn","(H)","D 2-2",null,null,4,7,null,null,3,null,11,null,null,null,null,null,null,10,8,null,12,null,6,1,9,null,2,5]
[null,null,0,9,null,"1986-10-04",null,"C Palace","(A)","L 1-2",null,null,4,7,null,null,3,null,11,null,null,null,null,null,null,10,8,null,12,null,6,1,9,null,2,5]
[null,null,0,10,null,"1986-10-11",null,"Shrewsbury","(H)","W 4-0",null,null,4,7,null,null,3,null,null,null,1,null,12,null,null,10,6,8,null,null,11,null,9,null,2,5]
[null,null,0,11,null,"1986-10-17",null,"Oldham","(A)","L 1-2",null,null,null,7,null,null,3,null,null,null,null,null,12,null,null,10,6,8,4,null,11,1,9,null,2,5]
[null,null,0,12,null,"1986-10-25",null,"Plymouth","(H)","W 3-1",null,null,4,7,null,null,3,null,null,null,null,null,12,null,null,10,6,null,8,null,11,1,9,null,2,5]
[null,null,0,13,null,"1986-11-01",null,"Grimsby","(A)","L 0-1",null,null,4,7,null,null,3,null,null,null,null,null,null,null,null,10,6,8,12,null,11,1,9,null,2,5]
[null,null,0,14,null,"1986-11-08",null,"Leeds","(H)","W 1-0",null,null,4,7,null,null,3,null,null,null,1,null,12,null,null,10,6,8,null,null,11,null,9,null,2,5]
[null,null,0,15,null,"1986-11-15",null,"Birmingham","(H)","L 0-2",null,null,4,7,null,null,3,2,null,null,1,null,11,null,null,10,6,8,12,null,null,null,9,null,5]
[null,null,0,16,null,"1986-11-22",null,"West Brom","(A)","W 1-0",null,null,4,7,null,11,3,null,null,null,1,null,null,null,null,10,6,8,12,null,null,null,9,null,2,5]
[null,null,0,17,null,"1986-11-29",null,"Portsmouth","(H)","D 1-1",null,null,4,7,null,12,3,null,null,null,1,null,null,null,null,10,6,8,null,null,11,null,9,null,2,5]
[null,null,0,18,null,"1986-12-06",null,{"$f":"H22","v":"Sunderland"},"(A)","D 1-1",null,null,4,7,null,null,3,null,null,null,1,null,null,null,null,10,6,8,12,null,11,null,9,null,2,5]
[null,null,0,19,null,"1986-12-13",null,"Huddersfield","(H)","W 4-0",null,null,4,7,null,null,3,null,null,null,1,null,null,null,null,10,6,8,12,null,11,null,9,null,2,5]
[null,null,0,20,null,"1986-12-26",null,"Ipswich","(H)","W 1-0",null,null,4,7,null,null,3,null,null,null,1,null,12,null,null,10,6,null,8,null,11,null,9,null,2,5]
[null,null,0,21,null,"1986-12-29",null,"Birmingham","(A)","D 1-1",null,null,4,7,null,null,3,2,null,null,1,null,12,null,null,10,6,null,8,null,11,null,9,null,null,5]
[null,null,0,22,null,"1987-01-01",null,"Brighton","(A)","W 1-0",null,null,4,7,null,null,3,2,null,null,1,null,12,null,null,10,6,null,8,null,11,null,9,null,null,5]
[null,null,0,23,null,"1987-01-03",null,"Stoke","(H)","D 1-1",null,12,4,7,null,null,3,2,null,null,1,null,10,null,null,null,6,null,8,null,11,null,9,null,null,5]
[null,null,0,24,null,"1987-01-17",null,"Bradford","(A)","L 0-4",null,null,4,7,null,null,3,12,null,null,1,null,11,null,null,10,6,null,8,null,null,null,9,null,2,5]
[null,null,0,25,null,"1987-01-24",null,"Reading","(H)","W 2-1",10,null,4,7,null,null,3,null,null,null,1,null,12,null,null,11,6,null,8,null,null,null,9,null,2,5]
[null,null,0,26,null,"1987-02-07",null,"Barnsley","(A)","L 0-1",10,null,4,7,null,null,3,12,null,null,1,null,null,null,null,11,6,null,8,null,null,null,9,null,2,5]
[null,null,0,27,null,"1987-02-14",null,"Sheff Utd","(H)","W 1-0",10,null,null,7,null,null,3,12,null,null,1,4,null,null,null,11,6,null,8,null,null,null,9,null,2,5]
[null,null,0,28,null,"1987-02-21",null,"Blackburn","(A)","L 0-1",10,null,null,7,null,null,3,null,null,null,1,4,null,null,null,11,6,12,8,null,null,null,9,null,2,5]
[null,null,0,29,null,"1987-02-28",null,"Derby","(H)","L 0-1",10,12,null,7,null,null,3,2,null,null,1,4,null,null,null,null,6,11,8,null,null,null,9,null,null,5]
[null,null,0,30,null,"1987-03-07",null,"Plymouth","(A)","L 0-1",10,11,null,7,null,null,3,5,null,null,1,4,null,null,null,null,6,8,2,null,null,null,9,12]
[null,null,0,31,null,"1987-03-14",null,"Oldham","(H)","D 0-0",10,null,null,7,11,null,3,12,null,null,1,null,null,null,null,null,6,8,4,null,null,null,9,null,2,5]
[null,null,0,32,null,"1987-03-21",null,"Shrewsbury","(A)","W 2-1",null,null,null,12,11,null,3,7,null,null,1,4,null,null,null,null,6,8,null,null,10,null,9,null,2,5]
[null,null,0,33,null,"1987-03-28",null,"C Palace","(H)","L 0-1",null,null,null,12,11,null,3,7,null,null,1,4,null,null,null,null,6,8,null,null,10,null,9,null,2,5]
[null,null,0,34,null,"1987-04-04",null,{"$f":"H38","v":"Leeds"},"(A)","L 0-2",null,null,null,12,11,null,3,null,null,null,1,4,null,null,null,7,6,8,null,null,10,null,9,null,2,5]
[null,null,0,35,null,"1987-04-11",null,"Grimsby","(H)","W 1-0",null,null,8,12,11,null,3,null,null,null,1,4,null,null,null,7,6,null,null,null,10,null,9,null,2,5]
[null,null,0,36,null,"1987-04-14",null,"Hull City","(A)","L 1-2",null,null,8,12,11,null,3,null,null,null,1,4,null,null,null,7,6,null,null,null,10,null,9,null,2,5]
[null,null,0,37,null,"1987-04-18",null,"Brighton","(H)","W 3-1",null,null,8,12,11,null,3,null,null,null,1,4,null,null,null,7,6,null,null,null,10,null,9,null,2,5]
[null,null,0,38,null,"1987-04-21",null,"Ipswich","(A)","D 0-0",null,null,8,10,11,null,3,null,null,null,1,4,null,null,null,7,6,null,12,null,null,null,9,null,2,5]
[null,null,0,39,null,"1987-04-25",null,"West Brom","(H)","L 0-1",null,null,8,12,11,null,3,null,null,null,1,null,null,null,null,7,6,null,4,null,10,null,9,null,2,5]
[null,null,0,40,null,"1987-05-02",null,"Portsmouth","(A)","L 0-2",null,12,4,7,8,null,3,null,null,null,1,null,null,null,null,10,6,null,2,null,11,null,9,null,null,5]
[null,null,0,41,null,"1987-05-05",null,"Sunderland","(H)","D 1-1",null,null,8,7,11,null,3,null,null,null,1,4,null,null,null,10,6,null,null,null,2,null,9,null,12,5]
[null,null,0,42,null,"1987-05-09",null,"Huddersfield","(A)","L 0-3",null,null,8,7,11,null,3,null,null,null,1,4,null,null,null,10,6,null,null,null,2,null,9,null,12,5]
[null,null,1,43,null,"00:00:00",null,"00:00:00","00:00:00",0]
[null,null,1,44,null,"00:00:00",null,"00:00:00","00:00:00",0]
[null,null,{"$f":"IF(J361=0,1,0)","v":1},45,null,"00:00:00",null,"00:00:00","00:00:00",0]
[null,null,{"$f":"IF(J362=0,1,0)","v":1},46,null,"00:00:00",null,"00:00:00","00:00:00",0]
[]
[null,null,null,null,null,null,null,null,null,"Total League Apperances",{"$f":"COUNT($K$317:$K$362)-$K$365-$K$366","v":7},{"$f":"COUNT($L$317:$L$362)-$L$365-$L$366","v":1},{"$f":"COUNT($M$317:$M$362)-$M$365-$M$366","v":33},{"$f":"COUNT($N$317:$N$362)-$N$365-$N$366","v":35},{"$f":"COUNT($O$317:$O$362)-$O$365-$O$366","v":12},{"$f":"COUNT($P$317:$P$362)-$P$365-$P$366","v":1},{"$f":"COUNT($Q$317:$Q$362)-$Q$365-$Q$366","v":42},{"$f":"COUNT($R$317:$R$362)-$R$365-$R$366","v":8},{"$f":"COUNT($S$317:$S$362)-$S$365-$S$366","v":3},{"$f":"COUNT($T$317:$T$362)-$T$365-$T$366","v":4},{"$f":"COUNT($U$317:$U$362)-$U$365-$U$366","v":32},{"$f":"COUNT($V$317:$V$362)-$V$365-$V$366","v":13},{"$f":"COUNT($W$317:$W$362)-$W$365-$W$366","v":3},{"$f":"COUNT($X$317:$X$362)-$X$365-$X$366","v":0},{"$f":"COUNT($Y$317:$Y$362)-$Y$365-$Y$366","v":0},{"$f":"COUNT($Z$317:$Z$362)-$Z$365-$Z$366","v":36},{"$f":"COUNT($AA$317:$AA$362)-$AA$365-$AA$366","v":42},{"$f":"COUNT($AB$317:$AB$362)-$AB$365-$AB$366","v":16},{"$f":"COUNT($AC$317:$AC$362)-$AC$365-$AC$366","v":17},{"$f":"COUNT($AD$317:$AD$362)-$AD$365-$AD$366","v":0},{"$f":"COUNT($AE$317:$AE$362)-$AE$365-$AE$366","v":31},{"$f":"COUNT($AF$317:$AF$362)-$AF$365-$AF$366","v":10},{"$f":"COUNT($AG$317:$AG$362)-$AG$365-$AG$366","v":42},{"$f":"COUNT($AH$317:$AH$362)-$AH$365-$AH$366","v":0},{"$f":"COUNT($AI$317:$AI$362)-$AI$365","v":34},{"$f":"COUNT($AJ$317:$AJ$362)-$AJ$365","v":40},{"$f":"COUNT($AK$317:$AK$362)-$AK$365","v":0},{"$f":"COUNT($AL$317:$AL$362)-$AL$365","v":0},{"$f":"COUNT($AM$317:$AM$362)-$AM$365","v":0},{"$f":"COUNT($AN$317:$AN$362)-$AN$365","v":0},{"$f":"COUNT($AO$317:$AO$362)-$AO$365","v":0},{"$f":"COUNT($AP$317:$AP$362)-$AP$365","v":0},{"$f":"COUNT($AQ$317:$AQ$362)-$AQ$365","v":0},{"$f":"COUNT($AR$317:$AR$362)-$AR$365","v":0}]
[null,null,null,null,null,null,null,null,null,"Total League Substitute Appearences ",{"$f":"$AX$53","v":0},{"$f":"$AY$53","v":2},{"$f":"$AZ$53","v":0},{"$f":"$BA$53","v":5},{"$f":"$BB$53","v":0},{"$f":"$BC$53","v":0},{"$f":"$BD$53","v":0},{"$f":"$BE$53","v":2},{"$f":"$BF$53","v":0},{"$f":"$BG$53","v":0},{"$f":"$BH$53","v":0},{"$f":"$BI$53","v":0},{"$f":"$BJ$53","v":1},{"$f":"$BK$53","v":0},{"$f":"$BL$53","v":0},{"$f":"$BM$53","v":0},{"$f":"$BN$53","v":0},{"$f":"$BO$53","v":2},{"$f":"$BP$53","v":4},{"$f":"$BQ$53","v":0},{"$f":"$BR$53","v":0},{"$f":"$BS$53","v":0},{"$f":"$BT$53","v":0},{"$f":"$BU$53","v":0},{"$f":"COUNTIF($AI$317:$AI$362,\">=12\")","v":2},{"$f":"COUNTIF($AJ$317:$AJ$362,\">=12\")","v":0},{"$f":"COUNTIF($AK$317:$AK$362,\">=12\")","v":0},{"$f":"COUNTIF($AL$317:$AL$362,\">=12\")","v":0},{"$f":"COUNTIF($AM$317:$AM$362,\">=12\")","v":0},{"$f":"COUNTIF($AN$317:$AN$362,\">=12\")","v":0},{"$f":"COUNTIF($AO$317:$AO$362,\">=12\")","v":0},{"$f":"COUNTIF($AP$317:$AP$362,\">=12\")","v":0},{"$f":"COUNTIF($AQ$317:$AQ$362,\">=12\")","v":0},{"$f":"COUNTIF($AR$317:$AR$362,\">=12\")","v":0}]
[null,null,null,null,null,null,null,null,null,"Non Playing Substitute",{"$f":"COUNTIF($K$317:$K$362,12)-$K$365","v":0},{"$f":"COUNTIF($L$317:$L$362,12)-$L$365","v":1},{"$f":"COUNTIF($M$317:$M$362,12)-$M$365","v":0},{"$f":"COUNTIF($N$317:$N$362,12)-$N$365","v":2},{"$f":"COUNTIF($O$317:$O$362,12)-$O$365","v":0},{"$f":"COUNTIF($P$317:$P$362,12)-$P$365","v":1},{"$f":"COUNTIF($Q$317:$Q$362,12)-$Q$365","v":0},{"$f":"COUNTIF($R$317:$R$362,12)-$R$365","v":2},{"$f":"COUNTIF($S$317:$S$362,12)-$S$365","v":0},{"$f":"COUNTIF($T$317:$T$362,12)-$T$365","v":0},{"$f":"COUNTIF($U$317:$U$362,12)-$U$365","v":0},{"$f":"COUNTIF($V$317:$V$362,12)-$V$365","v":0},{"$f":"COUNTIF($W$317:$W$362,12)-$W$365","v":10},{"$f":"COUNTIF($X$317:$X$362,12)-$X$365","v":0},{"$f":"COUNTIF($Y$317:$Y$362,12)-$Y$365","v":0},{"$f":"COUNTIF($Z$317:$Z$362,12)-$Z$365","v":0},{"$f":"COUNTIF($AA$317:$AA$362,12)-$AA$365","v":0},{"$f":"COUNTIF($AB$317:$AB$362,12)-$AB$365","v":1},{"$f":"COUNTIF($AC$317:$AC$362,12)-$AC$365","v":6},{"$f":"COUNTIF($AD$317:$AD$362,12)-$AD$365","v":0},{"$f":"COUNTIF($AE$317:$AE$362,12)-$AE$365","v":0},{"$f":"COUNTIF($AF$317:$AF$362,12)-$AF$365","v":0},{"$f":"COUNTIF($AG$317:$AG$362,12)-$AG$365","v":0},{"$f":"COUNTIF($AH$317:$AH$362,12)-$AH$365","v":1}]
[null,null,null,null,null,null,null,null,null,"Goals",0,0,3,4,1,0,0,0,0,0,0,1,1,0,0,10,0,1,1,0,2,0,13,0,1,1,0,0,0,39,0,0,0,0]
[]
[null,null,null,null,null,null,null,"FA Cup"]
[null,null,{"$f":"IF(J370=0,1,0)","v":0},{"$f":"D58","v":3},null,{"$f":"F58","v":"1987-01-10"},null,{"$f":"H58","v":"Cardiff"},{"$f":"I58","v":"(H)"},{"$f":"J58","v":"D 0-0"},null,null,4,7,null,null,3,14,null,null,1,null,12,null,null,10,6,null,8,null,11,null,9,null,2,5]
[null,null,0,{"$f":"D59","v":"3R"},null,{"$f":"F59","v":"1987-01-20"},null,{"$f":"H59","v":"Cardiff"},"(A)","D 2-2",null,14,4,7,null,null,3,12,null,null,1,null,11,null,null,10,6,null,8,null,null,null,9,null,2,5]
[null,null,0,"3 2R",null,"1987-01-26",null,"Cardiff","(A)","L 0-1",null,null,4,7,null,null,3,14,null,null,1,null,11,12,null,10,6,null,8,null,null,null,9,null,2,5]
[null,null,1,0,null,"00:00:00",null,"00:00:00","00:00:00",0]
[null,null,1,0,null,"00:00:00",null,"00:00:00","00:00:00",0]
[null,null,1,0,null,"00:00:00",null,"00:00:00","00:00:00",0]
[null,null,1,0,null,"00:00:00",null,"00:00:00","00:00:00",0]
[]
[null,null,null,null,null,null,null,null,null,"Total FA Cup Apperances",{"$f":"COUNT($K$370:$K$376)-$K$379-$K$380","v":0},{"$f":"COUNT($L$370:$L$376)-$L$379-$L$380","v":0},{"$f":"COUNT($M$370:$M$376)-$M$379-$M$380","v":3},{"$f":"COUNT($N$370:$N$376)-$N$379-$N$380","v":3},{"$f":"COUNT($O$370:$O$376)-$O$379-$O$380","v":0},{"$f":"COUNT($P$370:$P$376)-$P$379-$P$380","v":0},{"$f":"COUNT($Q$370:$Q$376)-$Q$379-$Q$380","v":3},{"$f":"COUNT($R$370:$R$376)-$R$379-$R$380","v":0},{"$f":"COUNT($S$370:$S$376)-$S$379-$S$380","v":0},{"$f":"COUNT($T$370:$T$376)-$T$379-$T$380","v":0},{"$f":"COUNT($U$370:$U$376)-$U$379-$U$380","v":3},{"$f":"COUNT($V$370:$V$376)-$V$379-$V$380","v":0},{"$f":"COUNT($W$370:$W$376)-$W$379-$W$380","v":2},{"$f":"COUNT($X$370:$X$376)-$X$379-$X$380","v":0},{"$f":"COUNT($Y$370:$Y$376)-$Y$379-$Y$380","v":0},{"$f":"COUNT($Z$370:$Z$376)-$Z$379-$Z$380","v":3},{"$f":"COUNT($AA$370:$AA$376)-$AA$379-$AA$380","v":3},{"$f":"COUNT($AB$370:$AB$376)-$AB$379-$AB$380","v":0},{"$f":"COUNT($AC$370:$AC$376)-$AC$379-$AC$380","v":3},{"$f":"COUNT($AD$370:$AD$376)-$AD$379-$AD$380","v":0},{"$f":"COUNT($AE$370:$AE$376)-$AE$379-$AE$380","v":1},{"$f":"COUNT($AF$370:$AF$376)-$AF$379-$AF$380","v":0},{"$f":"COUNT($AG$370:$AG$376)-$AG$379-$AG$380","v":3},{"$f":"COUNT($AH$370:$AH$376)-$AH$379-$AH$380","v":0},{"$f":"COUNT($AI$370:$AI$376)-$AI$379-$AI$380","v":3},{"$f":"COUNT($AJ$370:$AJ$376)-$AJ$379-$AJ$380","v":3},{"$f":"COUNT($AK$370:$AK$376)-$AK$379-$AK$380","v":0},{"$f":"COUNT($AL$370:$AL$376)-$AL$379-$AL$380","v":0},{"$f":"COUNT($AM$370:$AM$376)-$AM$379-$AM$380","v":0},{"$f":"COUNT($AN$370:$AN$376)-$AN$379-$AN$380","v":0},{"$f":"COUNT($AO$370:$AO$376)-$AO$379-$AO$380","v":0},{"$f":"COUNT($AP$370:$AP$376)-$AP$379-$AP$380","v":0},{"$f":"COUNT($AQ$370:$AQ$376)-$AQ$379-$AQ$380","v":0},{"$f":"COUNT($AR$370:$AR$376)-$AR$379-$AR$380","v":0}]
[null,null,null,null,null,null,null,null,null,"Total FA Cup Substitute Appearences ",{"$f":"$AX$67+$CH$67","v":0},{"$f":"$AY$67+$CI$67","v":0},{"$f":"$AZ$67+$CJ$67","v":0},{"$f":"$BA$67+$CK$67","v":0},{"$f":"$BB$67+$CL$67","v":0},{"$f":"$BC$67+$CM$67","v":0},{"$f":"$BD$67+$CN$67","v":0},{"$f":"$BE$67+$CO$67","v":0},{"$f":"$BF$67+$CP$67","v":0},{"$f":"$BG$67+$CQ$67","v":0},{"$f":"$BH$67+$CR$67","v":0},{"$f":"$BI$67+$CS$67","v":0},{"$f":"$BJ$67+$CT$67","v":1},{"$f":"$BK$67+$CU$67","v":1},{"$f":"$BL$67+$CV$67","v":0},{"$f":"$BM$67+$CW$67","v":0},{"$f":"$BN$67+$CX$67","v":0},{"$f":"$BO$67+$CY$67","v":0},{"$f":"$BP$67+$CZ$67","v":0},{"$f":"$BQ$67+$DA$67","v":0},{"$f":"$BR$67+$DB$67","v":0},{"$f":"$BS$67+$DC$67","v":0},{"$f":"$BT$67+$DD$67","v":0},{"$f":"$BU$67+$DE$67","v":0},{"$f":"$BV$67+$DF$67","v":0},{"$f":"$BW$67+$DG$67","v":0},{"$f":"$BX$67+$DH$67","v":0},{"$f":"$BY$67+$DI$67","v":0},{"$f":"$BZ$67+$DJ$67","v":0},{"$f":"$CA$67+$DK$67","v":0},{"$f":"$CB$67+$DL$67","v":0},{"$f":"$CC$67+$DM$67","v":0},{"$f":"$CD$67+$DN$67","v":0},{"$f":"$CE$67+$DO$67","v":0}]
[null,null,null,null,null,null,null,null,null,"Non Playing Substitute",{"$f":"COUNTIF($K$370:$K$376,\">=12\")-$K$379","v":0},{"$f":"COUNTIF($L$370:$L$376,\">=12\")-$L$379","v":1},{"$f":"COUNTIF($M$370:$M$376,\">=12\")-$M$379","v":0},{"$f":"COUNTIF($N$370:$N$376,\">=12\")-$N$379","v":0},{"$f":"COUNTIF($O$370:$O$376,\">=12\")-$O$379","v":0},{"$f":"COUNTIF($P$370:$P$376,\">=12\")-$P$379","v":0},{"$f":"COUNTIF($Q$370:$Q$376,\">=12\")-$Q$379","v":0},{"$f":"COUNTIF($R$370:$R$376,\">=12\")-$R$379","v":3},{"$f":"COUNTIF($S$370:$S$376,\">=12\")-$S$379","v":0},{"$f":"COUNTIF($T$370:$T$376,\">=12\")-$T$379","v":0},{"$f":"COUNTIF($U$370:$U$376,\">=12\")-$U$379","v":0},{"$f":"COUNTIF($V$370:$V$376,\">=12\")-$V$379","v":0},{"$f":"COUNTIF($W$370:$W$376,\">=12\")-$W$379","v":0},{"$f":"COUNTIF($X$370:$X$376,\">=12\")-$X$379","v":0},{"$f":"COUNTIF($Y$370:$Y$376,\">=12\")-$Y$379","v":0},{"$f":"COUNTIF($Z$370:$Z$376,\">=12\")-$Z$379","v":0},{"$f":"COUNTIF($AA$370:$AA$376,\">=12\")-$AA$379","v":0},{"$f":"COUNTIF($AB$370:$AB$376,\">=12\")-$AB$379","v":0},{"$f":"COUNTIF($AC$370:$AC$376,\">=12\")-$AC$379","v":0},{"$f":"COUNTIF($AD$370:$AD$376,\">=12\")-$AD$379","v":0},{"$f":"COUNTIF($AE$370:$AE$376,\">=12\")-$AE$379","v":0},{"$f":"COUNTIF($AF$370:$AF$376,\">=12\")-$AF$379","v":0},{"$f":"COUNTIF($AG$370:$AG$376,\">=12\")-$AG$379","v":0},{"$f":"COUNTIF($AH$370:$AH$376,\">=12\")-$AH$379","v":0},{"$f":"COUNTIF($AI$370:$AI$376,\">=12\")-$AI$379","v":0},{"$f":"COUNTIF($AJ$370:$AJ$376,\">=12\")-$AJ$379","v":0},{"$f":"COUNTIF($AK$370:$AK$376,\">=12\")-$AK$379","v":0},{"$f":"COUNTIF($AL$370:$AL$376,\">=12\")-$AL$379","v":0},{"$f":"COUNTIF($AM$370:$AM$376,\">=12\")-$AM$379","v":0},{"$f":"COUNTIF($AN$370:$AN$376,\">=12\")-$AN$379","v":0},{"$f":"COUNTIF($AO$370:$AO$376,\">=12\")-$AO$379","v":0},{"$f":"COUNTIF($AP$370:$AP$376,\">=12\")-$AP$379","v":0},{"$f":"COUNTIF($AQ$370:$AQ$376,\">=12\")-$AQ$379","v":0},{"$f":"COUNTIF($AR$370:$AR$376,\">=12\")-$AR$379","v":0}]
[null,null,null,null,null,null,null,null,null,"Goals",0,0,0,0,0,0,0,0,0,0,0,0,1,0,0,0,0,0,1,0,0,0,0,0,0,0,0,0,0,2,0,0,0,0]
[]
[null,null,null,null,null,null,null,"League Cup"]
[null,null,{"$f":"IF(J384=0,1,0)","v":0},{"$f":"D72","v":2},null,{"$f":"F72","v":"1986-10-07"},null,{"$f":"H72","v":"Walsall"},{"$f":"I72","v":"(A)"},{"$f":"J72","v":"W 1-0"},null,11,4,7,null,null,14,null,12,null,1,null,null,null,null,10,6,8,null,null,3,null,9,null,2,5]
[null,null,0,{"$f":"D73","v":2},null,{"$f":"F73","v":"1986-10-14"},null,{"$f":"H73","v":"Walsall"},"(H)","W 3-2",null,null,4,7,null,null,3,null,null,null,1,null,12,null,null,10,6,8,14,null,11,null,9,null,2,5]
[null,null,0,3,null,"1986-10-29",null,"Norwich","(A)","L 1-4",null,null,4,7,null,null,3,14,null,null,null,null,12,null,null,10,6,null,8,null,11,1,9,null,2,5]
[null,null,1,0,null,"00:00:00",null,"00:00:00","00:00:00",0]
[null,null,1,0,null,"00:00:00",null,"00:00:00","00:00:00",0]
[null,null,1,0,null,"00:00:00",null,"00:00:00","00:00:00",0]
[null,null,1,0,null,"00:00:00",null,"00:00:00","00:00:00",0]
[null,null,1,0,null,"00:00:00",null,"00:00:00","00:00:00",0]
[null,null,1,0,null,"00:00:00",null,"00:00:00","00:00:00",0]
[]
[null,null,null,null,null,null,null,null,null,"Total League Cup Apperances",{"$f":"COUNT($K$384:$K$392)-$K$396-$K$395","v":0},{"$f":"COUNT($L$384:$L$392)-$L$396-$L$395","v":1},{"$f":"COUNT($M$384:$M$392)-$M$396-$M$395","v":3},{"$f":"COUNT($N$384:$N$392)-$N$396-$N$395","v":3},{"$f":"COUNT($O$384:$O$392)-$O$396-$O$395","v":0},{"$f":"COUNT($P$384:$P$392)-$P$396-$P$395","v":0},{"$f":"COUNT($Q$384:$Q$392)-$Q$396-$Q$395","v":2},{"$f":"COUNT($R$384:$R$392)-$R$396-$R$395","v":0},{"$f":"COUNT($S$384:$S$392)-$S$396-$S$395","v":0},{"$f":"COUNT($T$384:$T$392)-$T$396-$T$395","v":0},{"$f":"COUNT($U$384:$U$392)-$U$396-$U$395","v":2},{"$f":"COUNT($V$384:$V$392)-$V$396-$V$395","v":0},{"$f":"COUNT($W$384:$W$392)-$W$396-$W$395","v":0},{"$f":"COUNT($X$384:$X$392)-$X$396-$X$395","v":0},{"$f":"COUNT($Y$384:$Y$392)-$Y$396-$Y$395","v":0},{"$f":"COUNT($Z$384:$Z$392)-$Z$396-$Z$395","v":3},{"$f":"COUNT($AA$384:$AA$392)-$AA$396-$AA$395","v":3},{"$f":"COUNT($AB$384:$AB$392)-$AB$396-$AB$395","v":2},{"$f":"COUNT($AC$384:$AC$392)-$AC$396-$AC$395","v":1},{"$f":"COUNT($AD$384:$AD$392)-$AD$396-$AD$395","v":0},{"$f":"COUNT($AE$384:$AE$392)-$AE$396-$AE$395","v":3},{"$f":"COUNT($AF$384:$AF$392)-$AF$396-$AF$395","v":1},{"$f":"COUNT($AG$384:$AG$392)-$AG$396-$AG$395","v":3},{"$f":"COUNT($AH$384:$AH$392)-$AH$396-$AH$395","v":0},{"$f":"COUNT($AI$384:$AI$392)-$AI$396-$AI$395","v":3},{"$f":"COUNT($AJ$384:$AJ$392)-$AJ$396-$AJ$395","v":3},{"$f":"COUNT($AK$384:$AK$392)-$AK$396-$AK$395","v":0},{"$f":"COUNT($AL$384:$AL$392)-$AL$396-$AL$395","v":0},{"$f":"COUNT($AM$384:$AM$392)-$AM$396-$AM$395","v":0},{"$f":"COUNT($AN$384:$AN$392)-$AN$396-$AN$395","v":0},{"$f":"COUNT($AO$384:$AO$392)-$AO$396-$AO$395","v":0},{"$f":"COUNT($AP$384:$AP$392)-$AP$396-$AP$395","v":0},{"$f":"COUNT($AQ$384:$AQ$392)-$AQ$396-$AQ$395","v":0},{"$f":"COUNT($AR$384:$AR$392)-$AR$396-$AR$395","v":0}]
[null,null,null,null,null,null,null,null,null,"Total League Cup Substitute Appearences ",{"$f":"$AX$83+$CH$83","v":0},{"$f":"$AY$83+$CI$83","v":0},{"$f":"$AZ$83+$CJ$83","v":0},{"$f":"$BA$83+$CK$83","v":0},{"$f":"$BB$83+$CL$83","v":0},{"$f":"$BC$83+$CM$83","v":0},{"$f":"$BD$83+$CN$83","v":0},{"$f":"$BE$83+$CO$83","v":0},{"$f":"$BF$83+$CP$83","v":0},{"$f":"$BG$83+$CQ$83","v":0},{"$f":"$BH$83+$CR$83","v":0},{"$f":"$BI$83+$CS$83","v":0},{"$f":"$BJ$83+$CT$83","v":2},{"$f":"$BK$83+$CU$83","v":0},{"$f":"$BL$83+$CV$83","v":0},{"$f":"$BM$83+$CW$83","v":0},{"$f":"$BN$83+$CX$83","v":0},{"$f":"$BO$83+$CY$83","v":0},{"$f":"$BP$83+$CZ$83","v":1},{"$f":"$BQ$83+$DA$83","v":0},{"$f":"$BR$83+$DB$83","v":0},{"$f":"$BS$83+$DC$83","v":0},{"$f":"$BT$83+$DD$83","v":0},{"$f":"$BU$83+$DE$83","v":0},{"$f":"$BV$83+$DF$83","v":0},{"$f":"$BW$83+$DG$83","v":0},{"$f":"$BX$83+$DH$83","v":0},{"$f":"$BY$83+$DI$83","v":0},{"$f":"$BZ$83+$DJ$83","v":0},{"$f":"$CA$83+$DK$83","v":0},{"$f":"$CB$83+$DL$83","v":0},{"$f":"$CC$83+$DM$83","v":0},{"$f":"$CD$83+$DN$83","v":0},{"$f":"$CE$83+$DO$83","v":0}]
[null,null,null,null,null,null,null,null,null,"Non Playing Substitute",{"$f":"COUNTIF($K$384:$K$392,\">=12\")-$K$395","v":0},{"$f":"COUNTIF($L$384:$L$392,\">=12\")-$L$395","v":0},{"$f":"COUNTIF($M$384:$M$392,\">=12\")-$M$395","v":0},{"$f":"COUNTIF($N$384:$N$392,\">=12\")-$N$395","v":0},{"$f":"COUNTIF($O$384:$O$392,\">=12\")-$O$395","v":0},{"$f":"COUNTIF($P$384:$P$392,\">=12\")-$P$395","v":0},{"$f":"COUNTIF($Q$384:$Q$392,\">=12\")-$Q$395","v":1},{"$f":"COUNTIF($R$384:$R$392,\">=12\")-$R$395","v":1},{"$f":"COUNTIF($S$384:$S$392,\">=12\")-$S$395","v":1},{"$f":"COUNTIF($T$384:$T$392,\">=12\")-$T$395","v":0},{"$f":"COUNTIF($U$384:$U$392,\">=12\")-$U$395","v":0},{"$f":"COUNTIF($V$384:$V$392,\">=12\")-$V$395","v":0},{"$f":"COUNTIF($W$384:$W$392,\">=12\")-$W$395","v":0},{"$f":"COUNTIF($X$384:$X$392,\">=12\")-$X$395","v":0},{"$f":"COUNTIF($Y$384:$Y$392,\">=12\")-$Y$395","v":0},{"$f":"COUNTIF($Z$384:$Z$392,\">=12\")-$Z$395","v":0},{"$f":"COUNTIF($AA$384:$AA$392,\">=12\")-$AA$395","v":0},{"$f":"COUNTIF($AB$384:$AB$392,\">=12\")-$AB$395","v":0},{"$f":"COUNTIF($AC$384:$AC$392,\">=12\")-$AC$395","v":0},{"$f":"COUNTIF($AD$384:$AD$392,\">=12\")-$AD$395","v":0},{"$f":"COUNTIF($AE$384:$AE$392,\">=12\")-$AE$395","v":0},{"$f":"COUNTIF($AF$384:$AF$392,\">=12\")-$AF$395","v":0},{"$f":"COUNTIF($AG$384:$AG$392,\">=12\")-$AG$395","v":0},{"$f":"COUNTIF($AH$384:$AH$392,\">=12\")-$AH$395","v":0},{"$f":"COUNTIF($AI$384:$AI$392,\">=12\")-$AI$395","v":0},{"$f":"COUNTIF($AJ$384:$AJ$392,\">=12\")-$AJ$395","v":0},{"$f":"COUNTIF($AK$384:$AK$392,\">=12\")-$AK$395","v":0},{"$f":"COUNTIF($AL$384:$AL$392,\">=12\")-$AL$395","v":0},{"$f":"COUNTIF($AM$384:$AM$392,\">=12\")-$AM$395","v":0},{"$f":"COUNTIF($AN$384:$AN$392,\">=12\")-$AN$395","v":0},{"$f":"COUNTIF($AO$384:$AO$392,\">=12\")-$AO$395","v":0},{"$f":"COUNTIF($AP$384:$AP$392,\">=12\")-$AP$395","v":0},{"$f":"COUNTIF($AQ$384:$AQ$392,\">=12\")-$AQ$395","v":0},{"$f":"COUNTIF($AR$384:$AR$392,\">=12\")-$AR$395","v":0}]
[null,null,null,null,null,null,null,null,null,"Goals",0,0,0,1,0,0,0,0,0,0,0,0,0,0,0,0,0,0,0,0,0,0,2,0,0,2,0,0,0,5,0,0,0,0]
[null,null,1]
[null,null,null,null,null,null,null,"Full Members Cup"]
[null,null,{"$f":"IF(J400=0,1,0)","v":0},{"$f":"D88","v":"G"},null,{"$f":"F88","v":"1986-10-21"},null,{"$f":"H88","v":"West Brom"},"(H)","W 2-0",null,null,null,7,null,null,3,4,null,null,null,null,11,null,14,10,6,null,8,null,null,1,9,12,2,5]
[null,null,{"$f":"IF(J401=0,1,0)","v":0},"G",null,"1986-11-04",null,"Portsmouth","(A)","L 2-3",null,12,null,7,null,null,3,null,null,null,1,null,11,null,null,10,6,8,4,14,2,null,9,null,null,5]
[null,null,1,0,null,"00:00:00",null,"00:00:00","00:00:00",0]
[null,null,1,0,null,"00:00:00",null,"00:00:00","00:00:00",0]
[null,null,1,0,null,"00:00:00",null,"00:00:00","00:00:00",0]
[null,null,1,0,null,"00:00:00",null,"00:00:00","00:00:00",0]
[null,null,1,0,null,"00:00:00",null,"00:00:00","00:00:00",0]
[null,null,1,0,null,"00:00:00",null,"00:00:00","00:00:00",0]
[null,null,1,0,null,"00:00:00",null,"00:00:00","00:00:00",0]
[]
[null,null,null,null,null,null,null,null,null,"Total Full Members Cup Apperances",{"$f":"COUNT($K$400:$K$408)-$K$411-$K$412","v":0},{"$f":"COUNT($L$400:$L$408)-$L$411-$L$412","v":0},{"$f":"COUNT($M$400:$M$408)-$M$411-$M$412","v":0},{"$f":"COUNT($N$400:$N$408)-$N$411-$N$412","v":2},{"$f":"COUNT($O$400:$O$408)-$O$411-$O$412","v":0},{"$f":"COUNT($P$400:$P$408)-$P$411-$P$412","v":0},{"$f":"COUNT($Q$400:$Q$408)-$Q$411-$Q$412","v":2},{"$f":"COUNT($R$400:$R$408)-$R$411-$R$412","v":1},{"$f":"COUNT($S$400:$S$408)-$S$411-$S$412","v":0},{"$f":"COUNT($T$400:$T$408)-$T$411-$T$412","v":0},{"$f":"COUNT($U$400:$U$408)-$U$411-$U$412","v":1},{"$f":"COUNT($V$400:$V$408)-$V$411-$V$412","v":0},{"$f":"COUNT($W$400:$W$408)-$W$411-$W$412","v":2},{"$f":"COUNT($X$400:$X$408)-$X$411-$X$412","v":0},{"$f":"COUNT($Y$400:$Y$408)-$Y$411-$Y$412","v":0},{"$f":"COUNT($Z$400:$Z$408)-$Z$411-$Z$412","v":2},{"$f":"COUNT($AA$400:$AA$408)-$AA$411-$AA$412","v":2},{"$f":"COUNT($AB$400:$AB$408)-$AB$411-$AB$412","v":1},{"$f":"COUNT($AC$400:$AC$408)-$AC$411-$AC$412","v":2},{"$f":"COUNT($AD$400:$AD$408)-$AD$411-$AD$412","v":0},{"$f":"COUNT($AE$400:$AE$408)-$AE$411-$AE$412","v":1},{"$f":"COUNT($AF$400:$AF$408)-$AF$411-$AF$412","v":1},{"$f":"COUNT($AG$400:$AG$408)-$AG$411-$AG$412","v":2},{"$f":"COUNT($AH$400:$AH$408)-$AH$411-$AH$412","v":0},{"$f":"COUNT($AI$400:$AI$408)-$AI$411-$AI$412","v":1},{"$f":"COUNT($AJ$400:$AJ$408)-$AJ$411-$AJ$412","v":2},{"$f":"COUNT($AK$400:$AK$408)-$AK$411-$AK$412","v":0},{"$f":"COUNT($AL$400:$AL$408)-$AL$411-$AL$412","v":0},{"$f":"COUNT($AM$400:$AM$408)-$AM$411-$AM$412","v":0},{"$f":"COUNT($AN$400:$AN$408)-$AN$411-$AN$412","v":0},{"$f":"COUNT($AO$400:$AO$408)-$AO$411-$AO$412","v":0},{"$f":"COUNT($AP$400:$AP$408)-$AP$411-$AP$412","v":0},{"$f":"COUNT($AQ$400:$AQ$408)-$AQ$411-$AQ$412","v":0},{"$f":"COUNT($AR$400:$AR$408)-$AR$411-$AR$412","v":0}]
[null,null,null,null,null,null,null,null,null,"Total Full Members Cup Sub Appearences ",{"$f":"$AX$99+$CH$99","v":0},{"$f":"$AY$99+$CI$99","v":0},{"$f":"$AZ$99+$CJ$99","v":0},{"$f":"$BA$99+$CK$99","v":0},{"$f":"$BB$99+$CL$99","v":0},{"$f":"$BC$99+$CM$99","v":0},{"$f":"$BD$99+$CN$99","v":0},{"$f":"$BE$99+$CO$99","v":0},{"$f":"$BF$99+$CP$99","v":0},{"$f":"$BG$99+$CQ$99","v":0},{"$f":"$BH$99+$CR$99","v":0},{"$f":"$BI$99+$CS$99","v":0},{"$f":"$BJ$99+$CT$99","v":0},{"$f":"$BK$99+$CU$99","v":0},{"$f":"$BL$99+$CV$99","v":0},{"$f":"$BM$99+$CW$99","v":0},{"$f":"$BN$99+$CX$99","v":0},{"$f":"$BO$99+$CY$99","v":0},{"$f":"$BP$99+$CZ$99","v":0},{"$f":"$BQ$99+$DA$99","v":0},{"$f":"$BR$99+$DB$99","v":0},{"$f":"$BS$99+$DC$99","v":0},{"$f":"$BT$99+$DD$99","v":0},{"$f":"$BU$99+$DE$99","v":0},{"$f":"$BV$99+$DF$99","v":0},{"$f":"$BW$99+$DG$99","v":0},{"$f":"$BX$99+$DH$99","v":0},{"$f":"$BY$99+$DI$99","v":0},{"$f":"$BZ$99+$DJ$99","v":0},{"$f":"$CA$99+$DK$99","v":0},{"$f":"$CB$99+$DL$99","v":0},{"$f":"$CC$99+$DM$99","v":0},{"$f":"$CD$99+$DN$99","v":0},{"$f":"$CE$411+$DO$411","v":0}]
[null,null,null,null,null,null,null,null,null,"Non Playing Substitute",{"$f":"COUNTIF($K$400:$K$408,\">=12\")-$K$411","v":0},{"$f":"COUNTIF($L$400:$L$408,\">=12\")-$L$411","v":1},{"$f":"COUNTIF($M$400:$M$408,\">=12\")-$M$411","v":0},{"$f":"COUNTIF($N$400:$N$408,\">=12\")-$N$411","v":0},{"$f":"COUNTIF($O$400:$O$408,\">=12\")-$O$411","v":0},{"$f":"COUNTIF($P$400:$P$408,\">=12\")-$P$411","v":0},{"$f":"COUNTIF($Q$400:$Q$408,\">=12\")-$Q$411","v":0},{"$f":"COUNTIF($R$400:$R$408,\">=12\")-$R$411","v":0},{"$f":"COUNTIF($S$400:$S$408,\">=12\")-$S$411","v":0},{"$f":"COUNTIF($T$400:$T$408,\">=12\")-$T$411","v":0},{"$f":"COUNTIF($U$400:$U$408,\">=12\")-$U$411","v":0},{"$f":"COUNTIF($V$400:$V$408,\">=12\")-$V$411","v":0},{"$f":"COUNTIF($W$400:$W$408,\">=12\")-$W$411","v":0},{"$f":"COUNTIF($X$400:$X$408,\">=12\")-$X$411","v":0},{"$f":"COUNTIF($Y$400:$Y$408,\">=12\")-$Y$411","v":1},{"$f":"COUNTIF($Z$400:$Z$408,\">=12\")-$Z$411","v":0},{"$f":"COUNTIF($AA$400:$AA$408,\">=12\")-$AA$411","v":0},{"$f":"COUNTIF($AB$400:$AB$408,\">=12\")-$AB$411","v":0},{"$f":"COUNTIF($AC$400:$AC$408,\">=12\")-$AC$411","v":0},{"$f":"COUNTIF($AD$400:$AD$408,\">=12\")-$AD$411","v":1},{"$f":"COUNTIF($AE$400:$AE$408,\">=12\")-$AE$411","v":0},{"$f":"COUNTIF($AF$400:$AF$408,\">=12\")-$AF$411","v":0},{"$f":"COUNTIF($AG$400:$AG$408,\">=12\")-$AG$411","v":0},{"$f":"COUNTIF($AH$400:$AH$408,\">=12\")-$AH$411","v":1},{"$f":"COUNTIF($AI$400:$AI$408,\">=12\")-$AI$411","v":0},{"$f":"COUNTIF($AJ$400:$AJ$408,\">=12\")-$AJ$411","v":0},{"$f":"COUNTIF($AK$400:$AK$408,\">=12\")-$AK$411","v":0},{"$f":"COUNTIF($AL$400:$AL$408,\">=12\")-$AL$411","v":0},{"$f":"COUNTIF($AM$400:$AM$408,\">=12\")-$AM$411","v":0},{"$f":"COUNTIF($AN$400:$AN$408,\">=12\")-$AN$411","v":0},{"$f":"COUNTIF($AO$400:$AO$408,\">=12\")-$AO$411","v":0},{"$f":"COUNTIF($AP$400:$AP$408,\">=12\")-$AP$411","v":0},{"$f":"COUNTIF($AQ$400:$AQ$408,\">=12\")-$AQ$411","v":0},{"$f":"COUNTIF($AR$400:$AR$408,\">=12\")-$AR$411","v":0}]
[null,null,null,null,null,null,null,null,null,"Goals",0,0,0,0,0,0,0,0,0,0,0,0,2,0,0,1,0,0,0,0,0,0,1,0,0,0,0,0,0,4,0,0,0,0]

{"sheet":"Sheet1","index":2,"n_rows":274,"n_cols":63,"rows_kept":274,"cut":false,"hidden":false,"merged":[[224,1,228,1],[224,52,228,52],[278,13,278,14],[279,13,279,14],[194,1,199,1],[194,52,199,52],[204,1,209,1],[204,52,209,52],[214,1,219,1],[214,52,219,52],[164,1,169,1],[164,52,169,52],[174,1,179,1],[174,52,179,52],[184,1,189,1],[184,52,189,52],[134,1,139,1],[134,52,139,52],[144,1,149,1],[144,52,149,52],[154,1,159,1],[154,52,159,52],[104,1,109,1],[104,52,109,52],[114,1,119,1],[114,52,119,52],[124,1,129,1],[124,52,129,52],[94,1,99,1],[94,52,99,52],[54,1,59,1],[54,52,59,52],[56,53,59,53],[64,1,69,1],[64,52,69,52],[65,53,68,53],[74,1,79,1],[74,52,79,52],[75,53,77,53],[84,1,89,1],[84,52,89,52],[34,1,39,1],[34,52,39,52],[35,53,38,53],[44,1,49,1],[44,52,49,52],[45,53,48,53]]}
[]
[null,null,null,null,null,null,null,null,null,null,null,null,null,null,null,null,null,null,null,null,null,null,null,null,null,null,null,null,null,null,null,null,null,null,null,null,null,null,null,null,null,null,null,null,null,null,null,null,null,null,null,null,null,null,null,4,45,null,null,null,null,null,{"$f":"158-70","v":88}]
[]
[]
[]
[]
[]
[]
[]
[]
[]
[]
[]
[]
[]
[null,105,null,null,null,null,null,null,null,null,null,null,null,null,null,null,null,null,null,null,null,null,null,null,null,null,null,null,null,null,null,null,null,null,null,null,null,null,null,null,null,null,null,null,null,null,null,null,null,null,null,null,105]
[]
[]
[]
[]
[]
[]
[]
[]
[]
[]
[null,100,null,null,null,null,null,null,null,null,null,null,null,null,null,null,null,null,null,null,null,null,null,null,null,null,null,null,null,null,null,null,null,null,null,null,null,null,null,null,null,null,null,null,null,null,null,null,null,null,null,null,100]
[]
[]
[]
[]
[]
[]
[]
[null,95,null,null,null,null,null,null,null,null,null,null,null,null,null,null,null,null,null,null,null,null,null,null,null,null,null,null,null,null,null,null,null,null,null,null,null,null,null,null,null,null,null,null,null,null,null,null,null,null,null,null,95]
[]
[]
[]
[]
[]
[]
[]
[]
[]
[null,90,null,null,null,null,null,null,null,null,null,null,null,null,null,null,null,null,null,null,null,null,null,null,null,null,null,null,null,null,null,null,null,null,null,null,null,null,null,null,null,null,null,null,null,null,null,null,null,null,null,null,90]
[]
[]
[]
[]
[]
[]
[]
[]
[]
[null,85,null,null,null,null,null,null,null,null,null,null,null,null,null,null,null,null,null,null,null,null,null,null,null,null,null,null,null,null,null,null,null,null,null,null,null,null,null,null,null,null,null,null,null,null,null,null,null,null,null,null,85]
[]
[]
[]
[]
[]
[]
[]
[]
[]
[null,80,null,null,null,null,null,null,null,null,null,null,null,null,null,null,null,null,null,null,null,null,null,null,null,null,null,null,null,null,null,null,null,null,null,null,null,null,null,null,null,null,null,null,null,null,null,null,null,null,null,null,80]
[]
[]
[]
[]
[]
[]
[]
[]
[]
[null,75,null,null,null,null,null,null,null,null,null,null,null,null,null,null,null,null,null,null,null,null,null,null,null,null,null,null,null,null,null,null,null,null,null,null,null,null,null,null,null,null,null,null,null,null,null,null,null,null,null,null,75]
[]
[]
[]
[]
[]
[]
[]
[]
[]
[null,70,null,null,null,null,null,null,null,null,null,null,null,null,null,null,null,null,null,null,null,null,null,null,null,null,null,null,null,null,null,null,null,null,null,null,null,null,null,null,null,null,null,null,null,null,null,null,null,null,null,null,70]
[]
[]
[]
[]
[]
[]
[]
[]
[]
[null,65,null,null,null,null,null,null,null,null,null,null,null,null,null,null,null,null,null,null,null,null,null,null,null,null,null,null,null,null,null,null,null,null,null,null,null,null,null,null,null,null,null,null,null,null,null,null,null,null,null,null,65]
[]
[]
[]
[]
[]
[]
[]
[]
[]
[null,60,null,null,null,null,null,null,null,null,null,null,null,null,null,null,null,null,null,null,null,null,null,null,null,null,null,null,null,null,null,null,null,null,null,null,null,null,null,null,null,null,null,null,null,null,null,null,null,null,null,null,60]
[]
[]
[]
[]
[]
[]
[]
[]
[]
[null,55,null,null,null,null,null,null,null,null,null,null,null,null,null,null,null,null,null,null,null,null,null,null,null,null,null,null,null,null,null,null,null,null,null,null,null,null,null,null,null,null,null,null,null,null,null,null,null,null,null,null,55]
[]
[]
[]
[]
[]
[]
[]
[]
[]
[null,50,null,null,null,null,null,null,null,null,null,null,null,null,null,null,null,null,null,null,null,null,null,null,null,null,null,null,null,null,null,null,null,null,null,null,null,null,null,null,null,null,null,null,null,null,null,null,null,null,null,null,50]
[]
[]
[]
[]
[]
[]
[]
[]
[]
[null,45,null,null,null,null,null,null,null,null,null,null,null,null,null,null,null,null,null,null,null,null,null,null,null,null,null,null,null,null,null,null,null,null,null,null,null,null,null,null,null,null,null,null,null,null,null,null,null,null,null,null,45]
[]
[]
[]
[]
[]
[]
[]
[]
[]
[null,40,null,null,null,null,null,null,null,null,null,null,null,null,null,null,null,null,null,null,null,null,null,null,null,null,null,null,null,null,null,null,null,null,null,null,null,null,null,null,null,null,null,null,null,null,null,null,null,null,null,null,40]
[]
[]
[]
[]
[]
[]
[]
[]
[]
[null,35,null,null,null,null,null,null,null,null,null,null,null,null,null,null,null,null,null,null,null,null,null,null,null,null,null,null,null,null,null,null,null,null,null,null,null,null,null,null,null,null,null,null,null,null,null,null,null,null,null,null,35]
[]
[]
[]
[]
[]
[]
[]
[]
[]
[null,30,null,null,null,null,null,null,null,null,null,null,null,null,null,null,null,null,null,null,null,null,null,null,null,null,null,null,null,null,null,null,null,null,null,null,null,null,null,null,null,null,null,null,null,null,null,null,null,null,null,null,30]
[]
[]
[]
[]
[]
[]
[]
[]
[]
[null,25,null,null,null,null,null,null,null,null,null,null,null,null,null,null,null,null,null,null,null,null,null,null,null,null,null,null,null,null,null,null,null,null,null,null,null,null,null,null,null,null,null,null,null,null,null,null,null,null,null,null,25]
[]
[]
[]
[]
[]
[]
[]
[]
[]
[null,20,null,null,null,null,null,null,null,null,null,null,null,null,null,null,null,null,null,null,null,null,null,null,null,null,null,null,null,null,null,null,null,null,null,null,null,null,null,null,null,null,null,null,null,null,null,null,null,null,null,null,20]
[]
[]
[]
[]
[]
[]
[]
[]
[]
[null,15,null,null,null,null,null,null,null,null,null,null,null,null,null,null,null,null,null,null,null,null,null,null,null,null,null,null,null,null,null,null,null,null,null,null,null,null,null,null,null,null,null,null,null,null,null,null,null,null,null,null,15]
[]
[]
[]
[]
[]
[]
[]
[]
[]
[null,10,null,null,null,null,null,null,null,null,null,null,null,null,null,null,null,null,null,null,null,null,null,null,null,null,null,null,null,null,null,null,null,null,null,null,null,null,null,null,null,null,null,null,null,null,null,null,null,null,null,null,10]
[]
[]
[]
[]
[]
[]
[]
[]
[]
[null,5,null,null,null,null,null,null,null,null,null,null,null,null,null,null,null,null,null,null,null,null,null,null,null,null,null,null,null,null,null,null,null,null,null,null,null,null,null,null,null,null,null,null,null,null,null,null,null,null,null,null,5]
[]
[]
[]
[]
[]
[]
[]
[]
[]
[null,0,null,null,null,null,null,null,null,null,null,null,null,null,null,null,null,null,null,null,null,null,null,null,null,null,null,null,null,null,null,null,null,null,null,null,null,null,null,null,null,null,null,null,null,null,null,null,null,null,null,null,0]
[]
[]
[]
[]
[null,null,null,"Reading (A) W 1-0","Hull City (H) L 0-1","Barnsley (H) W 1-0","Sheff Utd (A) L 1-2","Stoke (A) L 0-2","Bradford (H) L 1-2","Derby (A) D 1-1","Blackburn (H) D 2-2","C Palace (A) L 1-2","Shrewsbury (H) W 4-0","Oldham (A) L 1-2","Plymouth (H) W 3-1","Grimsby (A) L 0-1","Leeds (H) W 1-0","Birmingham (H) L 0-2","West Brom (A) W 1-0","Portsmouth (H) D 1-1","Sunderland (A) D 1-1","Huddersfield (H) W 4-0","Ipswich (H) W 1-0","Birmingham (A) D 1-1","Brighton (A) W 1-0","Stoke (H) D 1-1","Bradford (A) L 0-4","Reading (H) W 2-1","Barnsley (A) L 0-1","Sheff Utd (H) W 1-0","Blackburn (A) L 0-1","Derby (H) L 0-1","Plymouth (A) L 0-1","Oldham (H) D 0-0","Shrewsbury (A) W 2-1","C Palace (H) L 0-1","Leeds (A) L 0-2","Grimsby (H) W 1-0","Hull City (A) L 1-2","Brighton (H) W 3-1","Ipswich (A) D 0-0","West Brom (H) L 0-1","Portsmouth (A) L 0-2","Sunderland (H) D 1-1","Huddersfield (A) L 0-3"]
[]
[]
[]
[]
[]
[]
[null,"Promotion",null,{"$f":"D242-D246","v":0},{"$f":"E242-E246","v":0},0,3,4,5,4,2,2,1,3,4,2,5,4,4,1,4,3,2,4,5,5,5,6,9,9,6,6,4,4,4,4,3,7,7,7,9,12,9,9,9,0]
[null,null,null,4,5,6,7,8,9,10,11,12,13,14,15,16,17,18,19,20,21,22,23,24,25,26,27,28,29,30,31,32,33,34,35,36,37,38,39,40,41,42,43,44,45,46]
[null,"Relegation",null,{"$f":"D254-D258-1","v":-1},-1,-1,-1,0,1,3,0,2,-1,-1,0,-1,2,2,2,1,2,0,1,2,1,-1,2,0,-1,0,0,1,2,4,5,5,5,5,6,8,5,6,5,8,8,-1,-1,-1,-1,-1,-1]
[]
[null,null,null,4,5,6,7,8,9,10,11,12,13,14,15,16,17,18,19,20,21,22,23,24,25,26,27,28,29,30,31,32,33,34,35,36,37,38,39,40,41,42,43,44,45,46,47,48,49,50,51]
[null,"Top Y",null,{"$f":"Sheet2!$I$6","v":3},{"$f":"Sheet2!$I$7","v":6},{"$f":"Sheet2!$I$8","v":7},{"$f":"Sheet2!$I$9","v":10},{"$f":"Sheet2!$I$10","v":13},{"$f":"Sheet2!$I$11","v":16},{"$f":"Sheet2!$I$12","v":16},{"$f":"Sheet2!$I$13","v":17},{"$f":"Sheet2!$I$14","v":18},{"$f":"Sheet2!$I$15","v":19},{"$f":"Sheet2!$I$16","v":21},{"$f":"Sheet2!$I$17","v":25},{"$f":"Sheet2!$I$18","v":26},{"$f":"Sheet2!$I$19","v":29},{"$f":"Sheet2!$I$20","v":31},{"$f":"Sheet2!$I$21","v":34},{"$f":"Sheet2!$I$22","v":34},{"$f":"Sheet2!$I$23","v":37},{"$f":"Sheet2!$I$24","v":37},{"$f":"Sheet2!$I$25","v":42},{"$f":"Sheet2!$I$26","v":45},{"$f":"Sheet2!$I$27","v":48},{"$f":"Sheet2!$I$28","v":48},{"$f":"Sheet2!$I$29","v":48},{"$f":"Sheet2!$I$30","v":51},{"$f":"Sheet2!$I$31","v":54},{"$f":"Sheet2!$I$32","v":57},{"$f":"Sheet2!$I$33","v":57},{"$f":"Sheet2!$I$34","v":60},{"$f":"Sheet2!$I$35","v":61},{"$f":"Sheet2!$I$36","v":62},{"$f":"Sheet2!$I$37","v":65},{"$f":"Sheet2!$I$38","v":68},{"$f":"Sheet2!$I$39","v":68},{"$f":"Sheet2!$I$40","v":72},{"$f":"Sheet2!$I$41","v":72},{"$f":"Sheet2!$I$42","v":72},{"$f":"Sheet2!$I$43","v":75},{"$f":"Sheet2!$I$44","v":78},{"$f":"Sheet2!$I$45","v":81},{"$f":"Sheet2!$I$46","v":81},{"$f":"Sheet2!$I$47","v":84},{"$f":"Sheet2!$I$48","v":0},{"$f":"Sheet2!$I$49","v":0},{"$f":"Sheet2!$I$50","v":0},null,null,null,null,null,null,"Top Y"]
[]
[null,"2nd e",null,{"$f":"(Sheet2!$T$6)","v":3},{"$f":"(Sheet2!$T$7)","v":6},{"$f":"(Sheet2!$T$8)","v":7},{"$f":"(Sheet2!$T$9)","v":7},{"$f":"(Sheet2!$T$10)","v":9},{"$f":"(Sheet2!$T$11)","v":12},{"$f":"(Sheet2!$T$12)","v":15},{"$f":"(Sheet2!$T$13)","v":15},{"$f":"(Sheet2!$T$14)","v":17},{"$f":"(Sheet2!$T$15)","v":18},{"$f":"(Sheet2!$T$16)","v":19},{"$f":"(Sheet2!$T$17)","v":24},{"$f":"(Sheet2!$T$18)","v":25},{"$f":"(Sheet2!$T$19)","v":28},{"$f":"(Sheet2!$T$20)","v":29},{"$f":"(Sheet2!$T$21)","v":32},{"$f":"(Sheet2!$T$22)","v":33},{"$f":"(Sheet2!$T$23)","v":36},{"$f":"(Sheet2!$T$24)","v":36},{"$f":"(Sheet2!$T$25)","v":41},{"$f":"(Sheet2!$T$26)","v":43},{"$f":"(Sheet2!$T$27)","v":44},{"$f":"(Sheet2!$T$28)","v":45},{"$f":"(Sheet2!$T$29)","v":45},{"$f":"(Sheet2!$T$30)","v":46},{"$f":"(Sheet2!$T$31)","v":47},{"$f":"(Sheet2!$T$32)","v":50},{"$f":"(Sheet2!$T$33)","v":51},{"$f":"(Sheet2!$T$34)","v":54},{"$f":"(Sheet2!$T$35)","v":58},{"$f":"(Sheet2!$T$36)","v":61},{"$f":"(Sheet2!$T$37)","v":65},{"$f":"(Sheet2!$T$38)","v":65},{"$f":"(Sheet2!$T$39)","v":68},{"$f":"(Sheet2!$T$40)","v":71},{"$f":"(Sheet2!$T$41)","v":71},{"$f":"(Sheet2!$T$42)","v":72},{"$f":"(Sheet2!$T$43)","v":72},{"$f":"(Sheet2!$T$44)","v":75},{"$f":"(Sheet2!$T$45)","v":78},{"$f":"(Sheet2!$T$46)","v":78},{"$f":"(Sheet2!$T$47)","v":78},{"$f":"(Sheet2!$T$48)","v":0},{"$f":"(Sheet2!$T$49)","v":0},{"$f":"(Sheet2!$T$50)","v":0},null,null,null,null,null,null,"2nd e"]
[]
[null,"3rd a",null,{"$f":"Sheet2!$K$6","v":3},{"$f":"Sheet2!$K$7","v":6},{"$f":"Sheet2!$K$8","v":7},{"$f":"Sheet2!$K$9","v":7},{"$f":"Sheet2!$K$10","v":9},{"$f":"Sheet2!$K$11","v":11},{"$f":"Sheet2!$K$12","v":12},{"$f":"Sheet2!$K$13","v":15},{"$f":"Sheet2!$K$14","v":16},{"$f":"Sheet2!$K$15","v":18},{"$f":"Sheet2!$K$16","v":18},{"$f":"Sheet2!$K$17","v":21},{"$f":"Sheet2!$K$18","v":24},{"$f":"Sheet2!$K$19","v":24},{"$f":"Sheet2!$K$20","v":27},{"$f":"Sheet2!$K$21","v":30},{"$f":"Sheet2!$K$22","v":33},{"$f":"Sheet2!$K$23","v":33},{"$f":"Sheet2!$K$24","v":34},{"$f":"Sheet2!$K$25","v":40},{"$f":"Sheet2!$K$26","v":41},{"$f":"Sheet2!$K$27","v":43},{"$f":"Sheet2!$K$28","v":43},{"$f":"Sheet2!$K$29","v":43},{"$f":"Sheet2!$K$30","v":45},{"$f":"Sheet2!$K$31","v":45},{"$f":"Sheet2!$K$32","v":48},{"$f":"Sheet2!$K$33","v":51},{"$f":"Sheet2!$K$34","v":54},{"$f":"Sheet2!$K$35","v":57},{"$f":"Sheet2!$K$36","v":58},{"$f":"Sheet2!$K$37","v":61},{"$f":"Sheet2!$K$38","v":64},{"$f":"Sheet2!$K$39","v":65},{"$f":"Sheet2!$K$40","v":65},{"$f":"Sheet2!$K$41","v":65},{"$f":"Sheet2!$K$42","v":65},{"$f":"Sheet2!$K$43","v":66},{"$f":"Sheet2!$K$44","v":66},{"$f":"Sheet2!$K$45","v":72},{"$f":"Sheet2!$K$46","v":72},{"$f":"Sheet2!$K$47","v":75},{"$f":"Sheet2!$K$48","v":0},{"$f":"Sheet2!$K$49","v":0},{"$f":"Sheet2!$K$50","v":0},null,null,null,null,null,null,"3rd a"]
[]
[null,"5th f",null,{"$f":"(Sheet2!$V$6)","v":3},{"$f":"(Sheet2!$V$7)","v":3},{"$f":"(Sheet2!$V$8)","v":6},{"$f":"(Sheet2!$V$9)","v":7},{"$f":"(Sheet2!$V$10)","v":8},{"$f":"(Sheet2!$V$11)","v":10},{"$f":"(Sheet2!$V$12)","v":10},{"$f":"(Sheet2!$V$13)","v":11},{"$f":"(Sheet2!$V$14)","v":14},{"$f":"(Sheet2!$V$15)","v":17},{"$f":"(Sheet2!$V$16)","v":17},{"$f":"(Sheet2!$V$17)","v":20},{"$f":"(Sheet2!$V$18)","v":22},{"$f":"(Sheet2!$V$19)","v":24},{"$f":"(Sheet2!$V$20)","v":24},{"$f":"(Sheet2!$V$21)","v":26},{"$f":"(Sheet2!$V$22)","v":27},{"$f":"(Sheet2!$V$23)","v":28},{"$f":"(Sheet2!$V$24)","v":31},{"$f":"(Sheet2!$V$25)","v":34},{"$f":"(Sheet2!$V$26)","v":35},{"$f":"(Sheet2!$V$27)","v":36},{"$f":"(Sheet2!$V$28)","v":38},{"$f":"(Sheet2!$V$29)","v":38},{"$f":"(Sheet2!$V$30)","v":41},{"$f":"(Sheet2!$V$31)","v":41},{"$f":"(Sheet2!$V$32)","v":41},{"$f":"(Sheet2!$V$33)","v":42},{"$f":"(Sheet2!$V$34)","v":44},{"$f":"(Sheet2!$V$35)","v":47},{"$f":"(Sheet2!$V$36)","v":48},{"$f":"(Sheet2!$V$37)","v":51},{"$f":"(Sheet2!$V$38)","v":51},{"$f":"(Sheet2!$V$39)","v":54},{"$f":"(Sheet2!$V$40)","v":56},{"$f":"(Sheet2!$V$41)","v":56},{"$f":"(Sheet2!$V$42)","v":58},{"$f":"(Sheet2!$V$43)","v":59},{"$f":"(Sheet2!$V$44)","v":61},{"$f":"(Sheet2!$V$45)","v":62},{"$f":"(Sheet2!$V$46)","v":63},{"$f":"(Sheet2!$V$47)","v":64},{"$f":"(Sheet2!$V$48)","v":0},{"$f":"(Sheet2!$V$49)","v":0},{"$f":"(Sheet2!$V$50)","v":0},null,null,null,null,null,null,"5th f"]
[]
[null,"6th b",null,{"$f":"Sheet2!$M$6","v":3},{"$f":"Sheet2!$M$7","v":3},{"$f":"Sheet2!$M$8","v":6},{"$f":"Sheet2!$M$9","v":6},{"$f":"Sheet2!$M$10","v":8},{"$f":"Sheet2!$M$11","v":9},{"$f":"Sheet2!$M$12","v":10},{"$f":"Sheet2!$M$13","v":11},{"$f":"Sheet2!$M$14","v":13},{"$f":"Sheet2!$M$15","v":14},{"$f":"Sheet2!$M$16","v":17},{"$f":"Sheet2!$M$17","v":19},{"$f":"Sheet2!$M$18","v":21},{"$f":"Sheet2!$M$19","v":24},{"$f":"Sheet2!$M$20","v":24},{"$f":"Sheet2!$M$21","v":24},{"$f":"Sheet2!$M$22","v":27},{"$f":"Sheet2!$M$23","v":28},{"$f":"Sheet2!$M$24","v":31},{"$f":"Sheet2!$M$25","v":31},{"$f":"Sheet2!$M$26","v":34},{"$f":"Sheet2!$M$27","v":35},{"$f":"Sheet2!$M$28","v":37},{"$f":"Sheet2!$M$29","v":37},{"$f":"Sheet2!$M$30","v":38},{"$f":"Sheet2!$M$31","v":41},{"$f":"Sheet2!$M$32","v":41},{"$f":"Sheet2!$M$33","v":41},{"$f":"Sheet2!$M$34","v":41},{"$f":"Sheet2!$M$35","v":44},{"$f":"Sheet2!$M$36","v":45},{"$f":"Sheet2!$M$37","v":47},{"$f":"Sheet2!$M$38","v":51},{"$f":"Sheet2!$M$39","v":54},{"$f":"Sheet2!$M$40","v":55},{"$f":"Sheet2!$M$41","v":55},{"$f":"Sheet2!$M$42","v":57},{"$f":"Sheet2!$M$43","v":59},{"$f":"Sheet2!$M$44","v":59},{"$f":"Sheet2!$M$45","v":61},{"$f":"Sheet2!$M$46","v":62},{"$f":"Sheet2!$M$47","v":62},{"$f":"Sheet2!$M$48","v":0},{"$f":"Sheet2!$M$49","v":0},{"$f":"Sheet2!$M$50","v":0},null,null,null,null,null,null,"6th b"]
[]
[null,"19th c",null,{"$f":"Sheet2!$O$6","v":0},{"$f":"Sheet2!$O$7","v":0},{"$f":"Sheet2!$O$8","v":0},{"$f":"Sheet2!$O$9","v":1},{"$f":"Sheet2!$O$10","v":1},{"$f":"Sheet2!$O$11","v":4},{"$f":"Sheet2!$O$12","v":5},{"$f":"Sheet2!$O$13","v":7},{"$f":"Sheet2!$O$14","v":8},{"$f":"Sheet2!$O$15","v":10},{"$f":"Sheet2!$O$16","v":10},{"$f":"Sheet2!$O$17","v":12},{"$f":"Sheet2!$O$18","v":12},{"$f":"Sheet2!$O$19","v":14},{"$f":"Sheet2!$O$20","v":15},{"$f":"Sheet2!$O$21","v":17},{"$f":"Sheet2!$O$22","v":18},{"$f":"Sheet2!$O$23","v":19},{"$f":"Sheet2!$O$24","v":19},{"$f":"Sheet2!$O$25","v":19},{"$f":"Sheet2!$O$26","v":21},{"$f":"Sheet2!$O$27","v":22},{"$f":"Sheet2!$O$28","v":23},{"$f":"Sheet2!$O$29","v":23},{"$f":"Sheet2!$O$30","v":23},{"$f":"Sheet2!$O$31","v":28},{"$f":"Sheet2!$O$32","v":29},{"$f":"Sheet2!$O$33","v":29},{"$f":"Sheet2!$O$34","v":30},{"$f":"Sheet2!$O$35","v":33},{"$f":"Sheet2!$O$36","v":35},{"$f":"Sheet2!$O$37","v":35},{"$f":"Sheet2!$O$38","v":36},{"$f":"Sheet2!$O$39","v":38},{"$f":"Sheet2!$O$40","v":39},{"$f":"Sheet2!$O$41","v":39},{"$f":"Sheet2!$O$42","v":42},{"$f":"Sheet2!$O$43","v":42},{"$f":"Sheet2!$O$44","v":43},{"$f":"Sheet2!$O$45","v":45},{"$f":"Sheet2!$O$46","v":48},{"$f":"Sheet2!$O$47","v":50},{"$f":"Sheet2!$O$48","v":0},{"$f":"Sheet2!$O$49","v":0},{"$f":"Sheet2!$O$50","v":0},null,null,null,null,null,null,"19th c"]
[]
[null,"20th g",null,{"$f":"(Sheet2!$X$6)","v":0},{"$f":"(Sheet2!$X$7)","v":0},{"$f":"(Sheet2!$X$8)","v":0},{"$f":"(Sheet2!$X$9)","v":0},{"$f":"(Sheet2!$X$10)","v":1},{"$f":"(Sheet2!$X$11)","v":2},{"$f":"(Sheet2!$X$12)","v":5},{"$f":"(Sheet2!$X$13)","v":5},{"$f":"(Sheet2!$X$14)","v":8},{"$f":"(Sheet2!$X$15)","v":8},{"$f":"(Sheet2!$X$16)","v":8},{"$f":"(Sheet2!$X$17)","v":11},{"$f":"(Sheet2!$X$18)","v":11},{"$f":"(Sheet2!$X$19)","v":14},{"$f":"(Sheet2!$X$20)","v":14},{"$f":"(Sheet2!$X$21)","v":15},{"$f":"(Sheet2!$X$22)","v":15},{"$f":"(Sheet2!$X$23)","v":16},{"$f":"(Sheet2!$X$24)","v":16},{"$f":"(Sheet2!$X$25)","v":18},{"$f":"(Sheet2!$X$26)","v":19},{"$f":"(Sheet2!$X$27)","v":19},{"$f":"(Sheet2!$X$28)","v":20},{"$f":"(Sheet2!$X$29)","v":23},{"$f":"(Sheet2!$X$30)","v":23},{"$f":"(Sheet2!$X$31)","v":26},{"$f":"(Sheet2!$X$32)","v":28},{"$f":"(Sheet2!$X$33)","v":28},{"$f":"(Sheet2!$X$34)","v":30},{"$f":"(Sheet2!$X$35)","v":32},{"$f":"(Sheet2!$X$36)","v":34},{"$f":"(Sheet2!$X$37)","v":35},{"$f":"(Sheet2!$X$38)","v":36},{"$f":"(Sheet2!$X$39)","v":37},{"$f":"(Sheet2!$X$40)","v":38},{"$f":"(Sheet2!$X$41)","v":39},{"$f":"(Sheet2!$X$42)","v":41},{"$f":"(Sheet2!$X$43)","v":41},{"$f":"(Sheet2!$X$44)","v":43},{"$f":"(Sheet2!$X$45)","v":45},{"$f":"(Sheet2!$X$46)","v":48},{"$f":"(Sheet2!$X$47)","v":48},{"$f":"(Sheet2!$X$48)","v":0},{"$f":"(Sheet2!$X$49)","v":0},{"$f":"(Sheet2!$X$50)","v":0},null,null,null,null,null,null,"20th g"]
[]
[null,"21st h",null,{"$f":"(Sheet2!$Z$6)","v":0},{"$f":"(Sheet2!$Z$7)","v":0},{"$f":"(Sheet2!$Z$8)","v":0},{"$f":"(Sheet2!$Z$9)","v":0},{"$f":"(Sheet2!$Z$10)","v":1},{"$f":"(Sheet2!$Z$11)","v":1},{"$f":"(Sheet2!$Z$12)","v":4},{"$f":"(Sheet2!$Z$13)","v":5},{"$f":"(Sheet2!$Z$14)","v":5},{"$f":"(Sheet2!$Z$15)","v":8},{"$f":"(Sheet2!$Z$16)","v":8},{"$f":"(Sheet2!$Z$17)","v":10},{"$f":"(Sheet2!$Z$18)","v":11},{"$f":"(Sheet2!$Z$19)","v":12},{"$f":"(Sheet2!$Z$20)","v":12},{"$f":"(Sheet2!$Z$21)","v":14},{"$f":"(Sheet2!$Z$22)","v":15},{"$f":"(Sheet2!$Z$23)","v":15},{"$f":"(Sheet2!$Z$24)","v":16},{"$f":"(Sheet2!$Z$25)","v":16},{"$f":"(Sheet2!$Z$26)","v":17},{"$f":"(Sheet2!$Z$27)","v":19},{"$f":"(Sheet2!$Z$28)","v":20},{"$f":"(Sheet2!$Z$29)","v":21},{"$f":"(Sheet2!$Z$30)","v":23},{"$f":"(Sheet2!$Z$31)","v":26},{"$f":"(Sheet2!$Z$32)","v":27},{"$f":"(Sheet2!$Z$33)","v":28},{"$f":"(Sheet2!$Z$34)","v":29},{"$f":"(Sheet2!$Z$35)","v":31},{"$f":"(Sheet2!$Z$36)","v":31},{"$f":"(Sheet2!$Z$37)","v":32},{"$f":"(Sheet2!$Z$38)","v":33},{"$f":"(Sheet2!$Z$39)","v":36},{"$f":"(Sheet2!$Z$40)","v":38},{"$f":"(Sheet2!$Z$41)","v":38},{"$f":"(Sheet2!$Z$42)","v":40},{"$f":"(Sheet2!$Z$43)","v":41},{"$f":"(Sheet2!$Z$44)","v":42},{"$f":"(Sheet2!$Z$45)","v":43},{"$f":"(Sheet2!$Z$46)","v":44},{"$f":"(Sheet2!$Z$47)","v":44},{"$f":"(Sheet2!$Z$48)","v":0},{"$f":"(Sheet2!$Z$49)","v":0},{"$f":"(Sheet2!$Z$50)","v":0},null,null,null,null,null,null,"21st h"]
[]
[null,"22nd d",null,{"$f":"Sheet2!$Q$6","v":0},{"$f":"Sheet2!$Q$7","v":0},{"$f":"Sheet2!$Q$8","v":0},{"$f":"Sheet2!$Q$9","v":0},{"$f":"Sheet2!$Q$10","v":0},{"$f":"Sheet2!$Q$11","v":0},{"$f":"Sheet2!$Q$12","v":1},{"$f":"Sheet2!$Q$13","v":4},{"$f":"Sheet2!$Q$14","v":5},{"$f":"Sheet2!$Q$15","v":8},{"$f":"Sheet2!$Q$16","v":8},{"$f":"Sheet2!$Q$17","v":10},{"$f":"Sheet2!$Q$18","v":11},{"$f":"Sheet2!$Q$19","v":11},{"$f":"Sheet2!$Q$20","v":11},{"$f":"Sheet2!$Q$21","v":12},{"$f":"Sheet2!$Q$22","v":13},{"$f":"Sheet2!$Q$23","v":13},{"$f":"Sheet2!$Q$24","v":15},{"$f":"Sheet2!$Q$25","v":16},{"$f":"Sheet2!$Q$26","v":16},{"$f":"Sheet2!$Q$27","v":17},{"$f":"Sheet2!$Q$28","v":20},{"$f":"Sheet2!$Q$29","v":20},{"$f":"Sheet2!$Q$30","v":22},{"$f":"Sheet2!$Q$31","v":26},{"$f":"Sheet2!$Q$32","v":27},{"$f":"Sheet2!$Q$33","v":27},{"$f":"Sheet2!$Q$34","v":28},{"$f":"Sheet2!$Q$35","v":29},{"$f":"Sheet2!$Q$36","v":29},{"$f":"Sheet2!$Q$37","v":29},{"$f":"Sheet2!$Q$38","v":30},{"$f":"Sheet2!$Q$39","v":31},{"$f":"Sheet2!$Q$40","v":32},{"$f":"Sheet2!$Q$41","v":32},{"$f":"Sheet2!$Q$42","v":32},{"$f":"Sheet2!$Q$43","v":35},{"$f":"Sheet2!$Q$44","v":36},{"$f":"Sheet2!$Q$45","v":39},{"$f":"Sheet2!$Q$46","v":39},{"$f":"Sheet2!$Q$47","v":39},{"$f":"Sheet2!$Q$48","v":0},{"$f":"Sheet2!$Q$49","v":0},{"$f":"Sheet2!$Q$50","v":0},null,null,null,null,null,null,"22nd d"]
[]
[null,"Millwall",null,{"$f":"Sheet2!$G$6","v":3},{"$f":"Sheet2!$G$7","v":3},{"$f":"Sheet2!$G$8","v":6},{"$f":"Sheet2!$G$9","v":6},{"$f":"Sheet2!$G$10","v":6},{"$f":"Sheet2!$G$11","v":6},{"$f":"Sheet2!$G$12","v":7},{"$f":"Sheet2!$G$13","v":8},{"$f":"Sheet2!$G$14","v":8},{"$f":"Sheet2!$G$15","v":11},{"$f":"Sheet2!$G$16","v":11},{"$f":"Sheet2!$G$17","v":14},{"$f":"Sheet2!$G$18","v":14},{"$f":"Sheet2!$G$19","v":17},{"$f":"Sheet2!$G$20","v":17},{"$f":"Sheet2!$G$21","v":20},{"$f":"Sheet2!$G$22","v":21},{"$f":"Sheet2!$G$23","v":22},{"$f":"Sheet2!$G$24","v":25},{"$f":"Sheet2!$G$25","v":28},{"$f":"Sheet2!$G$26","v":29},{"$f":"Sheet2!$G$27","v":32},{"$f":"Sheet2!$G$28","v":33},{"$f":"Sheet2!$G$29","v":33},{"$f":"Sheet2!$G$30","v":36},{"$f":"Sheet2!$G$31","v":36},{"$f":"Sheet2!$G$32","v":39},{"$f":"Sheet2!$G$33","v":39},{"$f":"Sheet2!$G$34","v":39},{"$f":"Sheet2!$G$35","v":39},{"$f":"Sheet2!$G$36","v":40},{"$f":"Sheet2!$G$37","v":43},{"$f":"Sheet2!$G$38","v":43},{"$f":"Sheet2!$G$39","v":43},{"$f":"Sheet2!$G$40","v":46},{"$f":"Sheet2!$G$41","v":46},{"$f":"Sheet2!$G$42","v":49},{"$f":"Sheet2!$G$43","v":50},{"$f":"Sheet2!$G$44","v":50},{"$f":"Sheet2!$G$45","v":50},{"$f":"Sheet2!$G$46","v":51},{"$f":"Sheet2!$G$47","v":51},{"$f":"Sheet2!$G$48","v":0},{"$f":"Sheet2!$G$49","v":0},{"$f":"Sheet2!$G$50","v":0},null,null,null,null,null,null,"Millwall"]
[]
[]
[]
[]
[]
[]
[]
[]
[]
[]
[]
[]
[]
[null,null,null,{"$f":"D256-D258","v":0},0,0,0,1,1,3,1,0,0,0,0,0,1,1,2,2,2,1,0,1,2,0,1,1,0,0,1,1,2,2,3,3,5,6,6,8,6,6,4,5,5,0,0,0]

{"sheet":"Sheet1A","index":3,"n_rows":144,"n_cols":51,"rows_kept":144,"cut":false,"hidden":false,"merged":[[15,1,17,1],[15,50,17,50],[3,47,3,49],[6,1,7,1],[6,50,7,50],[10,1,12,1],[10,50,12,50],[20,1,22,1],[20,50,22,50],[22,6,25,10],[22,13,27,18],[25,1,27,1],[25,50,27,50],[28,6,31,10],[28,13,33,18],[30,1,32,1],[30,50,32,50],[34,6,37,10],[34,13,38,18],[35,1,37,1],[35,50,37,50],[40,1,42,1],[40,6,43,10],[40,13,45,18],[40,50,42,50],[45,1,47,1],[45,50,47,50],[46,6,49,10],[50,1,52,1],[50,50,52,50],[55,1,57,1],[55,50,57,50],[60,1,62,1],[60,50,62,50],[65,1,67,1],[65,50,67,50],[70,1,72,1],[70,50,72,50],[75,1,77,1],[75,50,77,50],[80,1,82,1],[80,50,82,50],[85,1,87,1],[85,50,87,50],[90,1,92,1],[90,50,92,50],[110,1,111,1],[110,50,111,50],[148,13,148,14],[149,13,149,14],[95,1,97,1],[95,50,97,50],[100,1,102,1],[100,50,102,50],[105,1,107,1],[105,50,107,50]]}
[]
[]
[]
[null,null,"Points",null,null,null,null,null,null,null,null,null,null,null,null,null,null,null,null,null,null,null,null,null,null,null,null,null,null,null,null,null,null,null,null,null,null,null,null,null,null,null,null,null,null,null,null,"Points"]
[]
[]
[null,105,null,null,null,null,null,null,null,null,null,null,null,null,null,null,null,null,null,null,null,null,null,null,null,null,null,null,null,null,null,null,null,null,null,null,null,null,null,null,null,null,null,null,null,null,null,null,null,null,105]
[]
[]
[]
[null,100,null,null,null,null,null,null,null,null,null,null,null,null,null,null,null,null,null,null,null,null,null,null,null,null,null,null,null,null,null,null,null,null,null,null,null,null,null,null,null,null,null,null,null,null,null,null,null,null,100]
[]
[]
[]
[]
[null,95,null,null,null,null,null,null,null,null,null,null,null,null,null,null,null,null,null,null,null,null,null,null,null,null,null,null,null,null,null,null,null,null,null,null,null,null,null,null,null,null,null,null,null,null,null,null,null,null,95]
[]
[]
[]
[]
[null,90,null,null,null,null,null,null,null,null,null,null,null,null,null,null,null,null,null,null,null,null,null,null,null,null,null,null,null,null,null,null,null,null,null,null,null,null,null,null,null,null,null,null,null,null,null,null,null,null,90]
[]
[null,null,null,null,null,null,"Promotion Zone  ",null,null,null,null,null,null,"1st to 2nd and              gap to 3rd"]
[]
[]
[null,85,null,null,null,null,null,null,null,null,null,null,null,null,null,null,null,null,null,null,null,null,null,null,null,null,null,null,null,null,null,null,null,null,null,null,null,null,null,null,null,null,null,null,null,null,null,null,null,null,85]
[]
[]
[null,null,null,null,null,null,"Playoff Zone(s)",null,null,null,null,null,null,"3rd to 5th, 20th and              gap to 6th & 21st"]
[]
[null,80,null,null,null,null,null,null,null,null,null,null,null,null,null,null,null,null,null,null,null,null,null,null,null,null,null,null,null,null,null,null,null,null,null,null,null,null,null,null,null,null,null,null,null,null,null,null,null,null,80]
[]
[]
[]
[null,null,null,null,null,null,"Mid Table Zone  ",null,null,null,null,null,null,"6th to 20th"]
[null,75,null,null,null,null,null,null,null,null,null,null,null,null,null,null,null,null,null,null,null,null,null,null,null,null,null,null,null,null,null,null,null,null,null,null,null,null,null,null,null,null,null,null,null,null,null,null,null,null,75]
[]
[]
[]
[]
[null,70,null,null,null,null,"Relegation Zone  ",null,null,null,null,null,null,"Relegation Places ",null,null,null,null,null,null,null,null,null,null,null,null,null,null,null,null,null,null,null,null,null,null,null,null,null,null,null,null,null,null,null,null,null,null,null,null,70]
[]
[]
[]
[]
[null,65,null,null,null,null,null,null,null,null,null,null,null,null,null,null,null,null,null,null,null,null,null,null,null,null,null,null,null,null,null,null,null,null,null,null,null,null,null,null,null,null,null,null,null,null,null,null,null,null,65]
[null,null,null,null,null,null,"Millwall  "]
[]
[]
[]
[null,60,null,null,null,null,null,null,null,null,null,null,null,null,null,null,null,null,null,null,null,null,null,null,null,null,null,null,null,null,null,null,null,null,null,null,null,null,null,null,null,null,null,null,null,null,null,null,null,null,60]
[]
[]
[]
[]
[null,55,null,null,null,null,null,null,null,null,null,null,null,null,null,null,null,null,null,null,null,null,null,null,null,null,null,null,null,null,null,null,null,null,null,null,null,null,null,null,null,null,null,null,null,null,null,null,null,null,55]
[]
[]
[]
[]
[null,50,null,null,null,null,null,null,null,null,null,null,null,null,null,null,null,null,null,null,null,null,null,null,null,null,null,null,null,null,null,null,null,null,null,null,null,null,null,null,null,null,null,null,null,null,null,null,null,null,50]
[]
[]
[]
[]
[null,45,null,null,null,null,null,null,null,null,null,null,null,null,null,null,null,null,null,null,null,null,null,null,null,null,null,null,null,null,null,null,null,null,null,null,null,null,null,null,null,null,null,null,null,null,null,null,null,null,45]
[]
[]
[]
[]
[null,40,null,null,null,null,null,null,null,null,null,null,null,null,null,null,null,null,null,null,null,null,null,null,null,null,null,null,null,null,null,null,null,null,null,null,null,null,null,null,null,null,null,null,null,null,null,null,null,null,40]
[]
[]
[]
[]
[null,35,null,null,null,null,null,null,null,null,null,null,null,null,null,null,null,null,null,null,null,null,null,null,null,null,null,null,null,null,null,null,null,null,null,null,null,null,null,null,null,null,null,null,null,null,null,null,null,null,35]
[]
[]
[]
[]
[null,30,null,null,null,null,null,null,null,null,null,null,null,null,null,null,null,null,null,null,null,null,null,null,null,null,null,null,null,null,null,null,null,null,null,null,null,null,null,null,null,null,null,null,null,null,null,null,null,null,30]
[]
[]
[]
[]
[null,25,null,null,null,null,null,null,null,null,null,null,null,null,null,null,null,null,null,null,null,null,null,null,null,null,null,null,null,null,null,null,null,null,null,null,null,null,null,null,null,null,null,null,null,null,null,null,null,null,25]
[]
[]
[]
[]
[null,20,null,null,null,null,null,null,null,null,null,null,null,null,null,null,null,null,null,null,null,null,null,null,null,null,null,null,null,null,null,null,null,null,null,null,null,null,null,null,null,null,null,null,null,null,null,null,null,null,20]
[]
[]
[]
[]
[null,15,null,null,null,null,null,null,null,null,null,null,null,null,null,null,null,null,null,null,null,null,null,null,null,null,null,null,null,null,null,null,null,null,null,null,null,null,null,null,null,null,null,null,null,null,null,null,null,null,15]
[]
[]
[]
[]
[null,10,null,null,null,null,null,null,null,null,null,null,null,null,null,null,null,null,null,null,null,null,null,null,null,null,null,null,null,null,null,null,null,null,null,null,null,null,null,null,null,null,null,null,null,null,null,null,null,null,10]
[]
[]
[]
[]
[null,5,null,null,null,null,null,null,null,null,null,null,null,null,null,null,null,null,null,null,null,null,null,null,null,null,null,null,null,null,null,null,null,null,null,null,null,null,null,null,null,null,null,null,null,null,null,null,null,null,5]
[]
[]
[]
[]
[null,0,null,null,null,null,null,null,null,null,null,null,null,null,null,null,null,null,null,null,null,null,null,null,null,null,null,null,null,null,null,null,null,null,null,null,null,null,null,null,null,null,null,null,null,null,null,null,null,null,0]
[]
[]
[null,null,null,null,"Reading (A) W 1-0","Hull City (H) L 0-1","Barnsley (H) W 1-0","Sheff Utd (A) L 1-2","Stoke (A) L 0-2","Bradford (H) L 1-2","Derby (A) D 1-1","Blackburn (H) D 2-2","C Palace (A) L 1-2","Shrewsbury (H) W 4-0","Oldham (A) L 1-2","Plymouth (H) W 3-1","Grimsby (A) L 0-1","Leeds (H) W 1-0","Birmingham (H) L 0-2","West Brom (A) W 1-0","Portsmouth (H) D 1-1","Sunderland (A) D 1-1","Huddersfield (H) W 4-0","Ipswich (H) W 1-0","Birmingham (A) D 1-1","Brighton (A) W 1-0","Stoke (H) D 1-1","Bradford (A) L 0-4","Reading (H) W 2-1","Barnsley (A) L 0-1","Sheff Utd (H) W 1-0","Blackburn (A) L 0-1","Derby (H) L 0-1","Plymouth (A) L 0-1","Oldham (H) D 0-0","Shrewsbury (A) W 2-1","C Palace (H) L 0-1","Leeds (A) L 0-2","Grimsby (H) W 1-0","Hull City (A) L 1-2","Brighton (H) W 3-1","Ipswich (A) D 0-0","West Brom (H) L 0-1","Portsmouth (A) L 0-2","Sunderland (H) D 1-1","Huddersfield (A) L 0-3"]
[]
[]
[]
[]
[]
[null,"Top Y",null,null,{"$f":"Sheet2!$I$6","v":3},{"$f":"Sheet2!$I$7","v":6},{"$f":"Sheet2!$I$8","v":7},{"$f":"Sheet2!$I$9","v":10},{"$f":"Sheet2!$I$10","v":13},{"$f":"Sheet2!$I$11","v":16},{"$f":"Sheet2!$I$12","v":16},{"$f":"Sheet2!$I$13","v":17},{"$f":"Sheet2!$I$14","v":18},{"$f":"Sheet2!$I$15","v":19},{"$f":"Sheet2!$I$16","v":21},{"$f":"Sheet2!$I$17","v":25},{"$f":"Sheet2!$I$18","v":26},{"$f":"Sheet2!$I$19","v":29},{"$f":"Sheet2!$I$20","v":31},{"$f":"Sheet2!$I$21","v":34},{"$f":"Sheet2!$I$22","v":34},{"$f":"Sheet2!$I$23","v":37},{"$f":"Sheet2!$I$24","v":37},{"$f":"Sheet2!$I$25","v":42},{"$f":"Sheet2!$I$26","v":45},{"$f":"Sheet2!$I$27","v":48},{"$f":"Sheet2!$I$28","v":48},{"$f":"Sheet2!$I$29","v":48},{"$f":"Sheet2!$I$30","v":51},{"$f":"Sheet2!$I$31","v":54},{"$f":"Sheet2!$I$32","v":57},{"$f":"Sheet2!$I$33","v":57},{"$f":"Sheet2!$I$34","v":60},{"$f":"Sheet2!$I$35","v":61},{"$f":"Sheet2!$I$36","v":62},{"$f":"Sheet2!$I$37","v":65},{"$f":"Sheet2!$I$38","v":68},{"$f":"Sheet2!$I$39","v":68},{"$f":"Sheet2!$I$40","v":72},{"$f":"Sheet2!$I$41","v":72},{"$f":"Sheet2!$I$42","v":72},{"$f":"Sheet2!$I$43","v":75},{"$f":"Sheet2!$I$44","v":78},{"$f":"Sheet2!$I$45","v":81},{"$f":"Sheet2!$I$46","v":81},{"$f":"Sheet2!$I$47","v":84},{"$f":"Sheet2!$I$48","v":0},{"$f":"Sheet2!$I$49","v":0},{"$f":"Sheet2!$I$50","v":0}]
[]
[null,"3rd a",null,null,{"$f":"Sheet2!$K$6","v":3},{"$f":"Sheet2!$K$7","v":6},{"$f":"Sheet2!$K$8","v":7},{"$f":"Sheet2!$K$9","v":7},{"$f":"Sheet2!$K$10","v":9},{"$f":"Sheet2!$K$11","v":11},{"$f":"Sheet2!$K$12","v":12},{"$f":"Sheet2!$K$13","v":15},{"$f":"Sheet2!$K$14","v":16},{"$f":"Sheet2!$K$15","v":18},{"$f":"Sheet2!$K$16","v":18},{"$f":"Sheet2!$K$17","v":21},{"$f":"Sheet2!$K$18","v":24},{"$f":"Sheet2!$K$19","v":24},{"$f":"Sheet2!$K$20","v":27},{"$f":"Sheet2!$K$21","v":30},{"$f":"Sheet2!$K$22","v":33},{"$f":"Sheet2!$K$23","v":33},{"$f":"Sheet2!$K$24","v":34},{"$f":"Sheet2!$K$25","v":40},{"$f":"Sheet2!$K$26","v":41},{"$f":"Sheet2!$K$27","v":43},{"$f":"Sheet2!$K$28","v":43},{"$f":"Sheet2!$K$29","v":43},{"$f":"Sheet2!$K$30","v":45},{"$f":"Sheet2!$K$31","v":45},{"$f":"Sheet2!$K$32","v":48},{"$f":"Sheet2!$K$33","v":51},{"$f":"Sheet2!$K$34","v":54},{"$f":"Sheet2!$K$35","v":57},{"$f":"Sheet2!$K$36","v":58},{"$f":"Sheet2!$K$37","v":61},{"$f":"Sheet2!$K$38","v":64},{"$f":"Sheet2!$K$39","v":65},{"$f":"Sheet2!$K$40","v":65},{"$f":"Sheet2!$K$41","v":65},{"$f":"Sheet2!$K$42","v":65},{"$f":"Sheet2!$K$43","v":66},{"$f":"Sheet2!$K$44","v":66},{"$f":"Sheet2!$K$45","v":72},{"$f":"Sheet2!$K$46","v":72},{"$f":"Sheet2!$K$47","v":75},{"$f":"Sheet2!$K$48","v":0},{"$f":"Sheet2!$K$49","v":0},{"$f":"Sheet2!$K$50","v":0}]
[]
[null,"6th b",null,null,{"$f":"Sheet2!$M$6","v":3},{"$f":"Sheet2!$M$7","v":3},{"$f":"Sheet2!$M$8","v":6},{"$f":"Sheet2!$M$9","v":6},{"$f":"Sheet2!$M$10","v":8},{"$f":"Sheet2!$M$11","v":9},{"$f":"Sheet2!$M$12","v":10},{"$f":"Sheet2!$M$13","v":11},{"$f":"Sheet2!$M$14","v":13},{"$f":"Sheet2!$M$15","v":14},{"$f":"Sheet2!$M$16","v":17},{"$f":"Sheet2!$M$17","v":19},{"$f":"Sheet2!$M$18","v":21},{"$f":"Sheet2!$M$19","v":24},{"$f":"Sheet2!$M$20","v":24},{"$f":"Sheet2!$M$21","v":24},{"$f":"Sheet2!$M$22","v":27},{"$f":"Sheet2!$M$23","v":28},{"$f":"Sheet2!$M$24","v":31},{"$f":"Sheet2!$M$25","v":31},{"$f":"Sheet2!$M$26","v":34},{"$f":"Sheet2!$M$27","v":35},{"$f":"Sheet2!$M$28","v":37},{"$f":"Sheet2!$M$29","v":37},{"$f":"Sheet2!$M$30","v":38},{"$f":"Sheet2!$M$31","v":41},{"$f":"Sheet2!$M$32","v":41},{"$f":"Sheet2!$M$33","v":41},{"$f":"Sheet2!$M$34","v":41},{"$f":"Sheet2!$M$35","v":44},{"$f":"Sheet2!$M$36","v":45},{"$f":"Sheet2!$M$37","v":47},{"$f":"Sheet2!$M$38","v":51},{"$f":"Sheet2!$M$39","v":54},{"$f":"Sheet2!$M$40","v":55},{"$f":"Sheet2!$M$41","v":55},{"$f":"Sheet2!$M$42","v":57},{"$f":"Sheet2!$M$43","v":59},{"$f":"Sheet2!$M$44","v":59},{"$f":"Sheet2!$M$45","v":61},{"$f":"Sheet2!$M$46","v":62},{"$f":"Sheet2!$M$47","v":62},{"$f":"Sheet2!$M$48","v":0},{"$f":"Sheet2!$M$49","v":0},{"$f":"Sheet2!$M$50","v":0}]
[]
[null,"19th c",null,null,{"$f":"Sheet2!$O$6","v":0},{"$f":"Sheet2!$O$7","v":0},{"$f":"Sheet2!$O$8","v":0},{"$f":"Sheet2!$O$9","v":1},{"$f":"Sheet2!$O$10","v":1},{"$f":"Sheet2!$O$11","v":4},{"$f":"Sheet2!$O$12","v":5},{"$f":"Sheet2!$O$13","v":7},{"$f":"Sheet2!$O$14","v":8},{"$f":"Sheet2!$O$15","v":10},{"$f":"Sheet2!$O$16","v":10},{"$f":"Sheet2!$O$17","v":12},{"$f":"Sheet2!$O$18","v":12},{"$f":"Sheet2!$O$19","v":14},{"$f":"Sheet2!$O$20","v":15},{"$f":"Sheet2!$O$21","v":17},{"$f":"Sheet2!$O$22","v":18},{"$f":"Sheet2!$O$23","v":19},{"$f":"Sheet2!$O$24","v":19},{"$f":"Sheet2!$O$25","v":19},{"$f":"Sheet2!$O$26","v":21},{"$f":"Sheet2!$O$27","v":22},{"$f":"Sheet2!$O$28","v":23},{"$f":"Sheet2!$O$29","v":23},{"$f":"Sheet2!$O$30","v":23},{"$f":"Sheet2!$O$31","v":28},{"$f":"Sheet2!$O$32","v":29},{"$f":"Sheet2!$O$33","v":29},{"$f":"Sheet2!$O$34","v":30},{"$f":"Sheet2!$O$35","v":33},{"$f":"Sheet2!$O$36","v":35},{"$f":"Sheet2!$O$37","v":35},{"$f":"Sheet2!$O$38","v":36},{"$f":"Sheet2!$O$39","v":38},{"$f":"Sheet2!$O$40","v":39},{"$f":"Sheet2!$O$41","v":39},{"$f":"Sheet2!$O$42","v":42},{"$f":"Sheet2!$O$43","v":42},{"$f":"Sheet2!$O$44","v":43},{"$f":"Sheet2!$O$45","v":45},{"$f":"Sheet2!$O$46","v":48},{"$f":"Sheet2!$O$47","v":50},{"$f":"Sheet2!$O$48","v":0},{"$f":"Sheet2!$O$49","v":0},{"$f":"Sheet2!$O$50","v":0}]
[]
[null,"22nd d",null,null,{"$f":"Sheet2!$Q$6","v":0},{"$f":"Sheet2!$Q$7","v":0},{"$f":"Sheet2!$Q$8","v":0},{"$f":"Sheet2!$Q$9","v":0},{"$f":"Sheet2!$Q$10","v":0},{"$f":"Sheet2!$Q$11","v":0},{"$f":"Sheet2!$Q$12","v":1},{"$f":"Sheet2!$Q$13","v":4},{"$f":"Sheet2!$Q$14","v":5},{"$f":"Sheet2!$Q$15","v":8},{"$f":"Sheet2!$Q$16","v":8},{"$f":"Sheet2!$Q$17","v":10},{"$f":"Sheet2!$Q$18","v":11},{"$f":"Sheet2!$Q$19","v":11},{"$f":"Sheet2!$Q$20","v":11},{"$f":"Sheet2!$Q$21","v":12},{"$f":"Sheet2!$Q$22","v":13},{"$f":"Sheet2!$Q$23","v":13},{"$f":"Sheet2!$Q$24","v":15},{"$f":"Sheet2!$Q$25","v":16},{"$f":"Sheet2!$Q$26","v":16},{"$f":"Sheet2!$Q$27","v":17},{"$f":"Sheet2!$Q$28","v":20},{"$f":"Sheet2!$Q$29","v":20},{"$f":"Sheet2!$Q$30","v":22},{"$f":"Sheet2!$Q$31","v":26},{"$f":"Sheet2!$Q$32","v":27},{"$f":"Sheet2!$Q$33","v":27},{"$f":"Sheet2!$Q$34","v":28},{"$f":"Sheet2!$Q$35","v":29},{"$f":"Sheet2!$Q$36","v":29},{"$f":"Sheet2!$Q$37","v":29},{"$f":"Sheet2!$Q$38","v":30},{"$f":"Sheet2!$Q$39","v":31},{"$f":"Sheet2!$Q$40","v":32},{"$f":"Sheet2!$Q$41","v":32},{"$f":"Sheet2!$Q$42","v":32},{"$f":"Sheet2!$Q$43","v":35},{"$f":"Sheet2!$Q$44","v":36},{"$f":"Sheet2!$Q$45","v":39},{"$f":"Sheet2!$Q$46","v":39},{"$f":"Sheet2!$Q$47","v":39},{"$f":"Sheet2!$Q$48","v":0},{"$f":"Sheet2!$Q$49","v":0},{"$f":"Sheet2!$Q$50","v":0}]
[]
[null,"Millwall",null,null,{"$f":"Sheet2!$G$6","v":3},{"$f":"Sheet2!$G$7","v":3},{"$f":"Sheet2!$G$8","v":6},{"$f":"Sheet2!$G$9","v":6},{"$f":"Sheet2!$G$10","v":6},{"$f":"Sheet2!$G$11","v":6},{"$f":"Sheet2!$G$12","v":7},{"$f":"Sheet2!$G$13","v":8},{"$f":"Sheet2!$G$14","v":8},{"$f":"Sheet2!$G$15","v":11},{"$f":"Sheet2!$G$16","v":11},{"$f":"Sheet2!$G$17","v":14},{"$f":"Sheet2!$G$18","v":14},{"$f":"Sheet2!$G$19","v":17},{"$f":"Sheet2!$G$20","v":17},{"$f":"Sheet2!$G$21","v":20},{"$f":"Sheet2!$G$22","v":21},{"$f":"Sheet2!$G$23","v":22},{"$f":"Sheet2!$G$24","v":25},{"$f":"Sheet2!$G$25","v":28},{"$f":"Sheet2!$G$26","v":29},{"$f":"Sheet2!$G$27","v":32},{"$f":"Sheet2!$G$28","v":33},{"$f":"Sheet2!$G$29","v":33},{"$f":"Sheet2!$G$30","v":36},{"$f":"Sheet2!$G$31","v":36},{"$f":"Sheet2!$G$32","v":39},{"$f":"Sheet2!$G$33","v":39},{"$f":"Sheet2!$G$34","v":39},{"$f":"Sheet2!$G$35","v":39},{"$f":"Sheet2!$G$36","v":40},{"$f":"Sheet2!$G$37","v":43},{"$f":"Sheet2!$G$38","v":43},{"$f":"Sheet2!$G$39","v":43},{"$f":"Sheet2!$G$40","v":46},{"$f":"Sheet2!$G$41","v":46},{"$f":"Sheet2!$G$42","v":49},{"$f":"Sheet2!$G$43","v":50},{"$f":"Sheet2!$G$44","v":50},{"$f":"Sheet2!$G$45","v":50},{"$f":"Sheet2!$G$46","v":51},{"$f":"Sheet2!$G$47","v":51},{"$f":"Sheet2!$G$48","v":0},{"$f":"Sheet2!$G$49","v":0},{"$f":"Sheet2!$G$50","v":0}]
[]
[]
[]
[]
[null,"2nd e",null,null,{"$f":"(Sheet2!$T$6)","v":3},{"$f":"(Sheet2!$T$7)","v":6},{"$f":"(Sheet2!$T$8)","v":7},{"$f":"(Sheet2!$T$9)","v":7},{"$f":"(Sheet2!$T$10)","v":9},{"$f":"(Sheet2!$T$11)","v":12},{"$f":"(Sheet2!$T$12)","v":15},{"$f":"(Sheet2!$T$13)","v":15},{"$f":"(Sheet2!$T$14)","v":17},{"$f":"(Sheet2!$T$15)","v":18},{"$f":"(Sheet2!$T$16)","v":19},{"$f":"(Sheet2!$T$17)","v":24},{"$f":"(Sheet2!$T$18)","v":25},{"$f":"(Sheet2!$T$19)","v":28},{"$f":"(Sheet2!$T$20)","v":29},{"$f":"(Sheet2!$T$21)","v":32},{"$f":"(Sheet2!$T$22)","v":33},{"$f":"(Sheet2!$T$23)","v":36},{"$f":"(Sheet2!$T$24)","v":36},{"$f":"(Sheet2!$T$25)","v":41},{"$f":"(Sheet2!$T$26)","v":43},{"$f":"(Sheet2!$T$27)","v":44},{"$f":"(Sheet2!$T$28)","v":45},{"$f":"(Sheet2!$T$29)","v":45},{"$f":"(Sheet2!$T$30)","v":46},{"$f":"(Sheet2!$T$31)","v":47},{"$f":"(Sheet2!$T$32)","v":50},{"$f":"(Sheet2!$T$33)","v":51},{"$f":"(Sheet2!$T$34)","v":54},{"$f":"(Sheet2!$T$35)","v":58},{"$f":"(Sheet2!$T$36)","v":61},{"$f":"(Sheet2!$T$37)","v":65},{"$f":"(Sheet2!$T$38)","v":65},{"$f":"(Sheet2!$T$39)","v":68},{"$f":"(Sheet2!$T$40)","v":71},{"$f":"(Sheet2!$T$41)","v":71},{"$f":"(Sheet2!$T$42)","v":72},{"$f":"(Sheet2!$T$43)","v":72},{"$f":"(Sheet2!$T$44)","v":75},{"$f":"(Sheet2!$T$45)","v":78},{"$f":"(Sheet2!$T$46)","v":78},{"$f":"(Sheet2!$T$47)","v":78},{"$f":"(Sheet2!$T$48)","v":0},{"$f":"(Sheet2!$T$49)","v":0},{"$f":"(Sheet2!$T$50)","v":0}]
[]
[null,"5th f",null,null,{"$f":"(Sheet2!$V$6)","v":3},{"$f":"(Sheet2!$V$7)","v":3},{"$f":"(Sheet2!$V$8)","v":6},{"$f":"(Sheet2!$V$9)","v":7},{"$f":"(Sheet2!$V$10)","v":8},{"$f":"(Sheet2!$V$11)","v":10},{"$f":"(Sheet2!$V$12)","v":10},{"$f":"(Sheet2!$V$13)","v":11},{"$f":"(Sheet2!$V$14)","v":14},{"$f":"(Sheet2!$V$15)","v":17},{"$f":"(Sheet2!$V$16)","v":17},{"$f":"(Sheet2!$V$17)","v":20},{"$f":"(Sheet2!$V$18)","v":22},{"$f":"(Sheet2!$V$19)","v":24},{"$f":"(Sheet2!$V$20)","v":24},{"$f":"(Sheet2!$V$21)","v":26},{"$f":"(Sheet2!$V$22)","v":27},{"$f":"(Sheet2!$V$23)","v":28},{"$f":"(Sheet2!$V$24)","v":31},{"$f":"(Sheet2!$V$25)","v":34},{"$f":"(Sheet2!$V$26)","v":35},{"$f":"(Sheet2!$V$27)","v":36},{"$f":"(Sheet2!$V$28)","v":38},{"$f":"(Sheet2!$V$29)","v":38},{"$f":"(Sheet2!$V$30)","v":41},{"$f":"(Sheet2!$V$31)","v":41},{"$f":"(Sheet2!$V$32)","v":41},{"$f":"(Sheet2!$V$33)","v":42},{"$f":"(Sheet2!$V$34)","v":44},{"$f":"(Sheet2!$V$35)","v":47},{"$f":"(Sheet2!$V$36)","v":48},{"$f":"(Sheet2!$V$37)","v":51},{"$f":"(Sheet2!$V$38)","v":51},{"$f":"(Sheet2!$V$39)","v":54},{"$f":"(Sheet2!$V$40)","v":56},{"$f":"(Sheet2!$V$41)","v":56},{"$f":"(Sheet2!$V$42)","v":58},{"$f":"(Sheet2!$V$43)","v":59},{"$f":"(Sheet2!$V$44)","v":61},{"$f":"(Sheet2!$V$45)","v":62},{"$f":"(Sheet2!$V$46)","v":63},{"$f":"(Sheet2!$V$47)","v":64},{"$f":"(Sheet2!$V$48)","v":0},{"$f":"(Sheet2!$V$49)","v":0},{"$f":"(Sheet2!$V$50)","v":0}]
[]
[null,"20th g",null,null,{"$f":"(Sheet2!$X$6)","v":0},{"$f":"(Sheet2!$X$7)","v":0},{"$f":"(Sheet2!$X$8)","v":0},{"$f":"(Sheet2!$X$9)","v":0},{"$f":"(Sheet2!$X$10)","v":1},{"$f":"(Sheet2!$X$11)","v":2},{"$f":"(Sheet2!$X$12)","v":5},{"$f":"(Sheet2!$X$13)","v":5},{"$f":"(Sheet2!$X$14)","v":8},{"$f":"(Sheet2!$X$15)","v":8},{"$f":"(Sheet2!$X$16)","v":8},{"$f":"(Sheet2!$X$17)","v":11},{"$f":"(Sheet2!$X$18)","v":11},{"$f":"(Sheet2!$X$19)","v":14},{"$f":"(Sheet2!$X$20)","v":14},{"$f":"(Sheet2!$X$21)","v":15},{"$f":"(Sheet2!$X$22)","v":15},{"$f":"(Sheet2!$X$23)","v":16},{"$f":"(Sheet2!$X$24)","v":16},{"$f":"(Sheet2!$X$25)","v":18},{"$f":"(Sheet2!$X$26)","v":19},{"$f":"(Sheet2!$X$27)","v":19},{"$f":"(Sheet2!$X$28)","v":20},{"$f":"(Sheet2!$X$29)","v":23},{"$f":"(Sheet2!$X$30)","v":23},{"$f":"(Sheet2!$X$31)","v":26},{"$f":"(Sheet2!$X$32)","v":28},{"$f":"(Sheet2!$X$33)","v":28},{"$f":"(Sheet2!$X$34)","v":30},{"$f":"(Sheet2!$X$35)","v":32},{"$f":"(Sheet2!$X$36)","v":34},{"$f":"(Sheet2!$X$37)","v":35},{"$f":"(Sheet2!$X$38)","v":36},{"$f":"(Sheet2!$X$39)","v":37},{"$f":"(Sheet2!$X$40)","v":38},{"$f":"(Sheet2!$X$41)","v":39},{"$f":"(Sheet2!$X$42)","v":41},{"$f":"(Sheet2!$X$43)","v":41},{"$f":"(Sheet2!$X$44)","v":43},{"$f":"(Sheet2!$X$45)","v":45},{"$f":"(Sheet2!$X$46)","v":48},{"$f":"(Sheet2!$X$47)","v":48},{"$f":"(Sheet2!$X$48)","v":0},{"$f":"(Sheet2!$X$49)","v":0},{"$f":"(Sheet2!$X$50)","v":0}]
[]
[null,"21st h",null,null,{"$f":"(Sheet2!$Z$6)","v":0},{"$f":"(Sheet2!$Z$7)","v":0},{"$f":"(Sheet2!$Z$8)","v":0},{"$f":"(Sheet2!$Z$9)","v":0},{"$f":"(Sheet2!$Z$10)","v":1},{"$f":"(Sheet2!$Z$11)","v":1},{"$f":"(Sheet2!$Z$12)","v":4},{"$f":"(Sheet2!$Z$13)","v":5},{"$f":"(Sheet2!$Z$14)","v":5},{"$f":"(Sheet2!$Z$15)","v":8},{"$f":"(Sheet2!$Z$16)","v":8},{"$f":"(Sheet2!$Z$17)","v":10},{"$f":"(Sheet2!$Z$18)","v":11},{"$f":"(Sheet2!$Z$19)","v":12},{"$f":"(Sheet2!$Z$20)","v":12},{"$f":"(Sheet2!$Z$21)","v":14},{"$f":"(Sheet2!$Z$22)","v":15},{"$f":"(Sheet2!$Z$23)","v":15},{"$f":"(Sheet2!$Z$24)","v":16},{"$f":"(Sheet2!$Z$25)","v":16},{"$f":"(Sheet2!$Z$26)","v":17},{"$f":"(Sheet2!$Z$27)","v":19},{"$f":"(Sheet2!$Z$28)","v":20},{"$f":"(Sheet2!$Z$29)","v":21},{"$f":"(Sheet2!$Z$30)","v":23},{"$f":"(Sheet2!$Z$31)","v":26},{"$f":"(Sheet2!$Z$32)","v":27},{"$f":"(Sheet2!$Z$33)","v":28},{"$f":"(Sheet2!$Z$34)","v":29},{"$f":"(Sheet2!$Z$35)","v":31},{"$f":"(Sheet2!$Z$36)","v":31},{"$f":"(Sheet2!$Z$37)","v":32},{"$f":"(Sheet2!$Z$38)","v":33},{"$f":"(Sheet2!$Z$39)","v":36},{"$f":"(Sheet2!$Z$40)","v":38},{"$f":"(Sheet2!$Z$41)","v":38},{"$f":"(Sheet2!$Z$42)","v":40},{"$f":"(Sheet2!$Z$43)","v":41},{"$f":"(Sheet2!$Z$44)","v":42},{"$f":"(Sheet2!$Z$45)","v":43},{"$f":"(Sheet2!$Z$46)","v":44},{"$f":"(Sheet2!$Z$47)","v":44},{"$f":"(Sheet2!$Z$48)","v":0},{"$f":"(Sheet2!$Z$49)","v":0},{"$f":"(Sheet2!$Z$50)","v":0}]
[]
[]
[null,null,null,null,{"$f":"E141-E128","v":0},{"$f":"F141-F128","v":0},0,0,1,1,3,1,0,0,0,0,0,1,1,2,2,2,1,0,1,2,0,1,1,0,0,1,1,2,2,3,3,5,6,6,8,6,6,4,5,5,0,0,0]

{"sheet":"Sheet2","index":4,"n_rows":47,"n_cols":28,"rows_kept":47,"cut":false,"hidden":false,"merged":[]}
[null,null,"Millwall 1986/87 results and fixtures ",null,null,null,{"$f":"[5]Summary!$AP$67","v":51},{"$f":"[5]Summary!$Q$22","v":16},{"$f":"[5]Summary!$AP$10","v":84},1,{"$f":"[5]Summary!$AP$12","v":75},3,{"$f":"[5]Summary!$AP$15","v":62},6,{"$f":"[5]Summary!$AP$28","v":50},19,{"$f":"[5]Summary!$AP$31","v":39},22,{"$f":"[5]Summary!$T$5","v":81},{"$f":"[5]Summary!$AP$11","v":78},2,{"$f":"[5]Summary!$AP$14","v":64},5,{"$f":"[5]Summary!$AP$29","v":48},20,{"$f":"[5]Summary!$AP$30","v":44},21,{"$f":"[5]Summary!$U$7","v":"Huddersfield (A) L 0-3"}]
[]
[]
[null,null,null,null,null,null,"x"]
[null,"Game","Competition",null,"Pts","Pos","Millwall","Pos","Top","Pos","3rd","Pos","6th","Pos","19th","Pos","Bottom","Pos","Day","2nd","Pos","5th","Pos","20th","Pos","21st","Pos","Vesus"]
[null,1,"Division 2","Reading (A) W 1-0",null,null,3,6,3,1,3,3,3,6,0,19,0,22,1,3,2,3,5,0,20,0,21,"Reading (A) W 1-0"]
[null,2,"Division 2","Hull City (H) L 0-1",null,null,3,8,6,1,6,3,3,6,0,19,0,22,3,6,2,3,5,0,20,0,21,"Hull City (H) L 0-1"]
[null,3,"Division 2","Barnsley (H) W 1-0",null,null,6,6,7,1,7,3,6,6,0,19,0,22,4,7,2,6,5,0,20,0,21,"Barnsley (H) W 1-0"]
[null,4,"Division 2","Sheff Utd (A) L 1-2",null,null,6,9,10,1,7,3,6,6,1,19,0,22,5,7,2,7,5,0,20,0,21,"Sheff Utd (A) L 1-2"]
[null,5,"Division 2","Stoke (A) L 0-2",null,null,6,11,13,1,9,3,8,6,1,19,0,22,7,9,2,8,5,1,20,1,21,"Stoke (A) L 0-2"]
[null,6,"Division 2","Bradford (H) L 1-2",null,null,6,15,16,1,11,3,9,6,4,19,0,22,9,12,2,10,5,2,20,1,21,"Bradford (H) L 1-2"]
[null,7,"Division 2","Derby (A) D 1-1",null,null,7,18,16,1,12,3,10,6,5,19,1,22,11,15,2,10,5,5,20,4,21,"Derby (A) D 1-1"]
[null,8,"Division 2","Blackburn (H) D 2-2",null,null,8,17,17,1,15,3,11,6,7,19,4,22,12,15,2,11,5,5,20,5,21,"Blackburn (H) D 2-2"]
[null,9,"Division 2","C Palace (A) L 1-2",null,null,8,20,18,1,16,3,13,6,8,19,5,22,15,17,2,14,5,8,20,5,21,"C Palace (A) L 1-2"]
[null,10,"Division 2","Shrewsbury (H) W 4-0",null,null,11,16,19,1,18,3,14,6,10,19,8,22,16,18,2,17,5,8,20,8,21,"Shrewsbury (H) W 4-0"]
[null,11,"Division 2","Oldham (A) L 1-2",null,null,11,16,21,1,18,3,17,6,10,19,8,22,18,19,2,17,5,8,20,8,21,"Oldham (A) L 1-2"]
[null,12,"Division 2","Plymouth (H) W 3-1",null,null,14,13,25,1,21,3,19,6,12,19,10,22,21,24,2,20,5,11,20,10,21,"Plymouth (H) W 3-1"]
[null,13,"Division 2","Grimsby (A) L 0-1",null,null,14,16,26,1,24,3,21,6,12,19,11,22,22,25,2,22,5,11,20,11,21,"Grimsby (A) L 0-1"]
[null,14,"Division 2","Leeds (H) W 1-0",null,null,17,12,29,1,24,3,24,6,14,19,11,22,23,28,2,24,5,14,20,12,21,"Leeds (H) W 1-0"]
[null,15,"Division 2","Birmingham (H) L 0-2",null,null,17,15,31,1,27,3,24,6,15,19,11,22,24,29,2,24,5,14,20,12,21,"Birmingham (H) L 0-2"]
[null,16,"Division 2","West Brom (A) W 1-0",null,null,20,12,34,1,30,3,24,6,17,19,12,22,26,32,2,26,5,15,20,14,21,"West Brom (A) W 1-0"]
[null,17,"Division 2","Portsmouth (H) D 1-1",null,null,21,13,34,1,33,3,27,6,18,19,13,22,27,33,2,27,5,15,20,15,21,"Portsmouth (H) D 1-1"]
[null,18,"Division 2","Sunderland (A) D 1-1",null,null,22,14,37,1,33,3,28,6,19,19,13,22,29,36,2,28,5,16,20,15,21,"Sunderland (A) D 1-1"]
[null,19,"Division 2","Huddersfield (H) W 4-0",null,null,25,10,37,1,34,3,31,6,19,19,15,22,31,36,2,31,5,16,20,16,21,"Huddersfield (H) W 4-0"]
[null,20,"Division 2","Ipswich (H) W 1-0",null,null,28,11,42,1,40,3,31,6,19,19,16,22,35,41,2,34,5,18,20,16,21,"Ipswich (H) W 1-0"]
[null,21,"Division 2","Birmingham (A) D 1-1",null,null,29,12,45,1,41,3,34,6,21,19,16,22,37,43,2,35,5,19,20,17,21,"Birmingham (A) D 1-1"]
[null,22,"Division 2","Brighton (A) W 1-0",null,null,32,9,48,1,43,3,35,6,22,19,17,22,38,44,2,36,5,19,20,19,21,"Brighton (A) W 1-0"]
[null,23,"Division 2","Stoke (H) D 1-1",null,null,33,9,48,1,43,3,37,6,23,19,20,22,39,45,2,38,5,20,20,20,21,"Stoke (H) D 1-1"]
[null,24,"Division 2","Bradford (A) L 0-4",null,null,33,10,48,1,43,3,37,6,23,19,20,22,40,45,2,38,5,23,20,21,21,"Bradford (A) L 0-4"]
[null,25,"Division 2","Reading (H) W 2-1",null,null,36,8,51,1,45,3,38,6,23,19,22,22,41,46,2,41,5,23,20,23,21,"Reading (H) W 2-1"]
[null,26,"Division 2","Barnsley (A) L 0-1",null,null,36,9,54,1,45,3,41,6,28,19,26,22,43,47,2,41,5,26,20,26,21,"Barnsley (A) L 0-1"]
[null,27,"Division 2","Sheff Utd (H) W 1-0",null,null,39,7,57,1,48,3,41,6,29,19,27,22,44,50,2,41,5,28,20,27,21,"Sheff Utd (H) W 1-0"]
[null,28,"Division 2","Blackburn (A) L 0-1",null,null,39,7,57,1,51,3,41,6,29,19,27,22,46,51,2,42,5,28,20,28,21,"Blackburn (A) L 0-1"]
[null,29,"Division 2","Derby (H) L 0-1",null,null,39,10,60,1,54,3,41,6,30,19,28,22,48,54,2,44,5,30,20,29,21,"Derby (H) L 0-1"]
[null,30,"Division 2","Plymouth (A) L 0-1",null,null,39,11,61,1,57,3,44,6,33,19,29,22,52,58,2,47,5,32,20,31,21,"Plymouth (A) L 0-1"]
[null,31,"Division 2","Oldham (H) D 0-0",null,null,40,10,62,1,58,3,45,6,35,19,29,22,54,61,2,48,5,34,20,31,21,"Oldham (H) D 0-0"]
[null,32,"Division 2","Shrewsbury (A) W 2-1",null,null,43,9,65,1,61,3,47,6,35,19,29,22,57,65,2,51,5,35,20,32,21,"Shrewsbury (A) W 2-1"]
[null,33,"Division 2","C Palace (H) L 0-1",null,null,43,10,68,1,64,3,51,6,36,19,30,22,60,65,2,51,5,36,20,33,21,"C Palace (H) L 0-1"]
[null,34,"Division 2","Leeds (A) L 0-2",null,null,43,11,68,1,65,3,54,6,38,19,31,22,63,68,2,54,5,37,20,36,21,"Leeds (A) L 0-2"]
[null,35,"Division 2","Grimsby (H) W 1-0",null,null,46,10,72,1,65,3,55,6,39,19,32,22,66,71,2,56,5,38,20,38,21,"Grimsby (H) W 1-0"]
[null,36,"Division 2","Hull City (A) L 1-2",null,null,46,10,72,1,65,3,55,6,39,19,32,22,68,71,2,56,5,39,20,38,21,"Hull City (A) L 1-2"]
[null,37,"Division 2","Brighton (H) W 3-1",null,null,49,10,72,1,65,3,57,6,42,19,32,22,70,72,2,58,5,41,20,40,21,"Brighton (H) W 3-1"]
[null,38,"Division 2","Ipswich (A) D 0-0",null,null,50,10,75,1,66,3,59,6,42,19,35,22,72,72,2,59,5,41,20,41,21,"Ipswich (A) D 0-0"]
[null,39,"Division 2","West Brom (H) L 0-1",null,null,50,11,78,1,66,3,59,6,43,19,36,22,74,75,2,61,5,43,20,42,21,"West Brom (H) L 0-1"]
[null,40,"Division 2","Portsmouth (A) L 0-2",null,null,50,14,81,1,72,3,61,6,45,19,39,22,77,78,2,62,5,45,20,43,21,"Portsmouth (A) L 0-2"]
[null,41,"Division 2","Sunderland (H) D 1-1",null,null,51,14,81,1,72,3,62,6,48,19,39,22,79,78,2,63,5,48,20,44,21,"Sunderland (H) D 1-1"]
[null,42,"Division 2","Huddersfield (A) L 0-3",null,null,51,16,84,1,75,3,62,6,50,19,39,22,80,78,2,64,5,48,20,44,21,"Huddersfield (A) L 0-3"]

{"sheet":"Sheet3","index":5,"n_rows":121,"n_cols":57,"rows_kept":121,"cut":false,"hidden":false,"merged":[[5,1,8,1],[5,49,7,51],[9,50,10,50],[11,1,12,1],[13,50,15,50],[15,1,17,1],[17,50,19,50],[20,1,22,1],[21,50,23,50],[25,1,27,1],[25,50,27,50],[29,50,31,50],[30,1,32,1],[60,1,62,1],[61,50,63,50],[33,50,35,50],[35,1,37,1],[37,50,39,50],[40,1,42,1],[41,50,43,50],[45,1,47,1],[45,50,47,50],[49,50,51,50],[50,1,52,1],[53,50,55,50],[55,1,57,1],[57,50,59,50],[65,1,67,1],[65,50,67,50],[69,50,71,50],[70,1,72,1],[73,50,75,50],[75,1,77,1],[77,50,79,50],[105,1,106,1],[80,1,82,1],[81,50,83,50],[85,1,87,1],[85,50,87,50],[89,50,91,50],[90,1,92,1],[93,50,95,50],[95,1,97,1],[97,50,99,50],[100,1,102,1],[101,50,103,50]]}
[]
[null,null,null,null,null,null,null,null,null,null,null,null,null,null,null,null,null,null,null,null,null,null,null,null,null,null,null,null,null,null,null,null,null,null,null,null,null,null,null,null,null,null,null,null,null,null,null,null,null,null,null,null,null,null,null,4,{"$f":"COUNT(D115:AW115)+3","v":49}]
[]
[]
[null,null,"Points"]
[null,100,null,null,null,null,null,null,null,null,null,null,null,null,null,null,null,null,null,null,null,null,null,null,null,null,null,null,null,null,null,null,null,null,null,null,null,null,null,null,null,null,null,null,null,null,null,null,null,"Position"]
[]
[]
[]
[null,null,null,null,null,null,null,null,null,null,null,null,null,null,null,null,null,null,null,null,null,null,null,null,null,null,null,null,null,null,null,null,null,null,null,null,null,null,null,null,null,null,null,null,null,null,null,null,null,null,1]
[]
[null,95]
[]
[null,null,null,null,null,null,null,null,null,null,null,null,null,null,null,null,null,null,null,null,null,null,null,null,null,null,null,null,null,null,null,null,null,null,null,null,null,null,null,null,null,null,null,null,null,null,null,null,null,null,2]
[]
[null,90]
[]
[null,null,null,null,null,null,null,null,null,null,null,null,null,null,null,null,null,null,null,null,null,null,null,null,null,null,null,null,null,null,null,null,null,null,null,null,null,null,null,null,null,null,null,null,null,null,null,null,null,null,3]
[]
[]
[null,85]
[null,null,null,null,null,null,null,null,null,null,null,null,null,null,null,null,null,null,null,null,null,null,null,null,null,null,null,null,null,null,null,null,null,null,null,null,null,null,null,null,null,null,null,null,null,null,null,null,null,null,4]
[]
[]
[]
[null,80,null,null,null,null,null,null,null,null,null,null,null,null,null,null,null,null,null,null,null,null,null,null,null,null,null,null,null,null,null,null,null,null,null,null,null,null,null,null,null,null,null,null,null,null,null,null,null,null,5]
[]
[]
[]
[null,null,null,null,null,null,null,null,null,null,null,null,null,null,null,null,null,null,null,null,null,null,null,null,null,null,null,null,null,null,null,null,null,null,null,null,null,null,null,null,null,null,null,null,null,null,null,null,null,null,6]
[null,75]
[]
[]
[null,null,null,null,null,null,null,null,null,null,null,null,null,null,null,null,null,null,null,null,null,null,null,null,null,null,null,null,null,null,null,null,null,null,null,null,null,null,null,null,null,null,null,null,null,null,null,null,null,null,7]
[]
[null,70]
[]
[null,null,null,null,null,null,null,null,null,null,null,null,null,null,null,null,null,null,null,null,null,null,null,null,null,null,null,null,null,null,null,null,null,null,null,null,null,null,null,null,null,null,null,null,null,null,null,null,null,null,8]
[]
[]
[null,65]
[null,null,null,null,null,null,null,null,null,null,null,null,null,null,null,null,null,null,null,null,null,null,null,null,null,null,null,null,null,null,null,null,null,null,null,null,null,null,null,null,null,null,null,null,null,null,null,null,null,null,9]
[]
[]
[]
[null,60,null,null,null,null,null,null,null,null,null,null,null,null,null,null,null,null,null,null,null,null,null,null,null,null,null,null,null,null,null,null,null,null,null,null,null,null,null,null,null,null,null,null,null,null,null,null,null,null,10]
[]
[]
[]
[null,null,null,null,null,null,null,null,null,null,null,null,null,null,null,null,null,null,null,null,null,null,null,null,null,null,null,null,null,null,null,null,null,null,null,null,null,null,null,null,null,null,null,null,null,null,null,null,null,null,11]
[null,55]
[]
[]
[null,null,null,null,null,null,null,null,null,null,null,null,null,null,null,null,null,null,null,null,null,null,null,null,null,null,null,null,null,null,null,null,null,null,null,null,null,null,null,null,null,null,null,null,null,null,null,null,null,null,12]
[]
[null,50]
[]
[null,null,null,null,null,null,null,null,null,null,null,null,null,null,null,null,null,null,null,null,null,null,null,null,null,null,null,null,null,null,null,null,null,null,null,null,null,null,null,null,null,null,null,null,null,null,null,null,null,null,13]
[]
[]
[null,45]
[null,null,null,null,null,null,null,null,null,null,null,null,null,null,null,null,null,null,null,null,null,null,null,null,null,null,null,null,null,null,null,null,null,null,null,null,null,null,null,null,null,null,null,null,null,null,null,null,null,null,14]
[]
[]
[]
[null,40,null,null,null,null,null,null,null,null,null,null,null,null,null,null,null,null,null,null,null,null,null,null,null,null,null,null,null,null,null,null,null,null,null,null,null,null,null,null,null,null,null,null,null,null,null,null,null,null,15]
[]
[]
[]
[null,null,null,null,null,null,null,null,null,null,null,null,null,null,null,null,null,null,null,null,null,null,null,null,null,null,null,null,null,null,null,null,null,null,null,null,null,null,null,null,null,null,null,null,null,null,null,null,null,null,16]
[null,35]
[]
[]
[null,null,null,null,null,null,null,null,null,null,null,null,null,null,null,null,null,null,null,null,null,null,null,null,null,null,null,null,null,null,null,null,null,null,null,null,null,null,null,null,null,null,null,null,null,null,null,null,null,null,17]
[]
[null,30]
[]
[null,null,null,null,null,null,null,null,null,null,null,null,null,null,null,null,null,null,null,null,null,null,null,null,null,null,null,null,null,null,null,null,null,null,null,null,null,null,null,null,null,null,null,null,null,null,null,null,null,null,18]
[]
[]
[null,25]
[null,null,null,null,null,null,null,null,null,null,null,null,null,null,null,null,null,null,null,null,null,null,null,null,null,null,null,null,null,null,null,null,null,null,null,null,null,null,null,null,null,null,null,null,null,null,null,null,null,null,19]
[]
[]
[]
[null,20,null,null,null,null,null,null,null,null,null,null,null,null,null,null,null,null,null,null,null,null,null,null,null,null,null,null,null,null,null,null,null,null,null,null,null,null,null,null,null,null,null,null,null,null,null,null,null,null,20]
[]
[]
[]
[null,null,null,null,null,null,null,null,null,null,null,null,null,null,null,null,null,null,null,null,null,null,null,null,null,null,null,null,null,null,null,null,null,null,null,null,null,null,null,null,null,null,null,null,null,null,null,null,null,null,21]
[null,15]
[]
[]
[null,null,null,null,null,null,null,null,null,null,null,null,null,null,null,null,null,null,null,null,null,null,null,null,null,null,null,null,null,null,null,null,null,null,null,null,null,null,null,null,null,null,null,null,null,null,null,null,null,null,22]
[]
[null,10]
[]
[]
[]
[]
[null,5]
[null,null,null,null,null,null,null,null,null,null,null,null,null,null,null,null,null,null,null,null,null,null,null,null,null,null,null,null,null,null,null,null,null,null,null,null,null,null,null,null,null,null,null,null,null,null,null,null,null,null,24]
[]
[]
[]
[null,0]
[]
[]
[null,null,null,{"$f":"Sheet1A!E114","v":"Reading (A) W 1-0"},{"$f":"Sheet1A!F114","v":"Hull City (H) L 0-1"},{"$f":"Sheet1A!G114","v":"Barnsley (H) W 1-0"},{"$f":"Sheet1A!H114","v":"Sheff Utd (A) L 1-2"},{"$f":"Sheet1A!I114","v":"Stoke (A) L 0-2"},{"$f":"Sheet1A!J114","v":"Bradford (H) L 1-2"},{"$f":"Sheet1A!K114","v":"Derby (A) D 1-1"},{"$f":"Sheet1A!L114","v":"Blackburn (H) D 2-2"},{"$f":"Sheet1A!M114","v":"C Palace (A) L 1-2"},{"$f":"Sheet1A!N114","v":"Shrewsbury (H) W 4-0"},{"$f":"Sheet1A!O114","v":"Oldham (A) L 1-2"},{"$f":"Sheet1A!P114","v":"Plymouth (H) W 3-1"},{"$f":"Sheet1A!Q114","v":"Grimsby (A) L 0-1"},{"$f":"Sheet1A!R114","v":"Leeds (H) W 1-0"},{"$f":"Sheet1A!S114","v":"Birmingham (H) L 0-2"},{"$f":"Sheet1A!T114","v":"West Brom (A) W 1-0"},{"$f":"Sheet1A!U114","v":"Portsmouth (H) D 1-1"},{"$f":"Sheet1A!V114","v":"Sunderland (A) D 1-1"},{"$f":"Sheet1A!W114","v":"Huddersfield (H) W 4-0"},{"$f":"Sheet1A!X114","v":"Ipswich (H) W 1-0"},{"$f":"Sheet1A!Y114","v":"Birmingham (A) D 1-1"},{"$f":"Sheet1A!Z114","v":"Brighton (A) W 1-0"},{"$f":"Sheet1A!AA114","v":"Stoke (H) D 1-1"},{"$f":"Sheet1A!AB114","v":"Bradford (A) L 0-4"},{"$f":"Sheet1A!AC114","v":"Reading (H) W 2-1"},{"$f":"Sheet1A!AD114","v":"Barnsley (A) L 0-1"},{"$f":"Sheet1A!AE114","v":"Sheff Utd (H) W 1-0"},{"$f":"Sheet1A!AF114","v":"Blackburn (A) L 0-1"},{"$f":"Sheet1A!AG114","v":"Derby (H) L 0-1"},{"$f":"Sheet1A!AH114","v":"Plymouth (A) L 0-1"},{"$f":"Sheet1A!AI114","v":"Oldham (H) D 0-0"},{"$f":"Sheet1A!AJ114","v":"Shrewsbury (A) W 2-1"},{"$f":"Sheet1A!AK114","v":"C Palace (H) L 0-1"},{"$f":"Sheet1A!AL114","v":"Leeds (A) L 0-2"},{"$f":"Sheet1A!AM114","v":"Grimsby (H) W 1-0"},{"$f":"Sheet1A!AN114","v":"Hull City (A) L 1-2"},{"$f":"Sheet1A!AO114","v":"Brighton (H) W 3-1"},{"$f":"Sheet1A!AP114","v":"Ipswich (A) D 0-0"},{"$f":"Sheet1A!AQ114","v":"West Brom (H) L 0-1"},{"$f":"Sheet1A!AR114","v":"Portsmouth (A) L 0-2"},{"$f":"Sheet1A!AS114","v":"Sunderland (H) D 1-1"},{"$f":"Sheet1A!AT114","v":"Huddersfield (A) L 0-3"},{"$f":"Sheet1A!AU114","v":0},{"$f":"Sheet1A!AV114","v":0},{"$f":"Sheet1A!AV114","v":0},{"$f":"Sheet1A!AW114","v":0}]
[]
[]
[]
[]
[]
[null,"Millwall",null,{"$f":"Sheet2!$G$6","v":3},{"$f":"Sheet2!$G$7","v":3},{"$f":"Sheet2!$G$8","v":6},{"$f":"Sheet2!$G$9","v":6},{"$f":"Sheet2!$G$10","v":6},{"$f":"Sheet2!$G$11","v":6},{"$f":"Sheet2!$G$12","v":7},{"$f":"Sheet2!$G$13","v":8},{"$f":"Sheet2!$G$14","v":8},{"$f":"Sheet2!$G$15","v":11},{"$f":"Sheet2!$G$16","v":11},{"$f":"Sheet2!$G$17","v":14},{"$f":"Sheet2!$G$18","v":14},{"$f":"Sheet2!$G$19","v":17},{"$f":"Sheet2!$G$20","v":17},{"$f":"Sheet2!$G$21","v":20},{"$f":"Sheet2!$G$22","v":21},{"$f":"Sheet2!$G$23","v":22},{"$f":"Sheet2!$G$24","v":25},{"$f":"Sheet2!$G$25","v":28},{"$f":"Sheet2!$G$26","v":29},{"$f":"Sheet2!$G$27","v":32},{"$f":"Sheet2!$G$28","v":33},{"$f":"Sheet2!$G$29","v":33},{"$f":"Sheet2!$G$30","v":36},{"$f":"Sheet2!$G$31","v":36},{"$f":"Sheet2!$G$32","v":39},{"$f":"Sheet2!$G$33","v":39},{"$f":"Sheet2!$G$34","v":39},{"$f":"Sheet2!$G$35","v":39},{"$f":"Sheet2!$G$36","v":40},{"$f":"Sheet2!$G$37","v":43},{"$f":"Sheet2!$G$38","v":43},{"$f":"Sheet2!$G$39","v":43},{"$f":"Sheet2!$G$40","v":46},{"$f":"Sheet2!$G$41","v":46},{"$f":"Sheet2!$G$42","v":49},{"$f":"Sheet2!$G$43","v":50},{"$f":"Sheet2!$G$44","v":50},{"$f":"Sheet2!$G$45","v":50},{"$f":"Sheet2!$G$46","v":51},{"$f":"Sheet2!$G$47","v":51},{"$f":"Sheet2!$G$48","v":0},{"$f":"Sheet2!$G$49","v":0},{"$f":"Sheet2!$G$50","v":0},{"$f":"Sheet2!$G$51","v":0}]
[]
[null,"Position",null,{"$f":"100-(D121*4)","v":76},68,76,64,56,40,28,32,20,36,36,48,36,52,40,52,48,44,60,56,52,64,64,60,68,64,72,72,60,56,60,64,60,56,60,60,60,60,56,44,44,36,100,100,100,100]
[]
[]
[]
[null,null,null,{"$f":"Sheet2!$H$6","v":6},{"$f":"Sheet2!$H$7","v":8},{"$f":"Sheet2!$H$8","v":6},{"$f":"Sheet2!$H$9","v":9},{"$f":"Sheet2!$H$10","v":11},{"$f":"Sheet2!$H$11","v":15},{"$f":"Sheet2!$H$12","v":18},{"$f":"Sheet2!$H$13","v":17},{"$f":"Sheet2!$H$14","v":20},{"$f":"Sheet2!$H$15","v":16},{"$f":"Sheet2!$H$16","v":16},{"$f":"Sheet2!$H$17","v":13},{"$f":"Sheet2!$H$18","v":16},{"$f":"Sheet2!$H$19","v":12},{"$f":"Sheet2!$H$20","v":15},{"$f":"Sheet2!$H$21","v":12},{"$f":"Sheet2!$H$22","v":13},{"$f":"Sheet2!$H$23","v":14},{"$f":"Sheet2!$H$24","v":10},{"$f":"Sheet2!$H$25","v":11},{"$f":"Sheet2!$H$26","v":12},{"$f":"Sheet2!$H$27","v":9},{"$f":"Sheet2!$H$28","v":9},{"$f":"Sheet2!$H$29","v":10},{"$f":"Sheet2!$H$30","v":8},{"$f":"Sheet2!$H$31","v":9},{"$f":"Sheet2!$H$32","v":7},{"$f":"Sheet2!$H$33","v":7},{"$f":"Sheet2!$H$34","v":10},{"$f":"Sheet2!$H$35","v":11},{"$f":"Sheet2!$H$36","v":10},{"$f":"Sheet2!$H$37","v":9},{"$f":"Sheet2!$H$38","v":10},{"$f":"Sheet2!$H$39","v":11},{"$f":"Sheet2!$H$40","v":10},{"$f":"Sheet2!$H$41","v":10},{"$f":"Sheet2!$H$42","v":10},{"$f":"Sheet2!$H$43","v":10},{"$f":"Sheet2!$H$44","v":11},{"$f":"Sheet2!$H$45","v":14},{"$f":"Sheet2!$H$46","v":14},{"$f":"Sheet2!$H$47","v":16},{"$f":"Sheet2!$H$48","v":0},{"$f":"Sheet2!$H$49","v":0},{"$f":"Sheet2!$H$50","v":0},{"$f":"Sheet2!$H$51","v":0}]