{"text_format":"1","workbook":"xlsx","n_sheets":5,"sheets":["Millwall","Comparisons","Sheet1","Sheet2","Sheet3"],"not_rendered":{"charts":1,"images":3,"macros":1,"external_links":5,"defined_names":45,"comments":0,"pivot_tables":0},"unopened":[],"bounds":{"document_bytes":16777216,"sheet_cells":100000,"rows_first":2000,"rows_last":500,"rows_between":2000,"halvings":0,"cell_chars":16384,"cell_head_chars":4096},"cells_cut":0,"cells_raw":0,"read":"whole","date_system":"1900"}

{"sheet":"Millwall","index":0,"n_rows":189,"n_cols":151,"rows_kept":189,"cut":false,"hidden":false,"merged":[[3,150,4,162],[5,89,5,92],[6,69,6,72],[6,74,6,77],[6,79,6,82],[6,84,6,87],[6,89,6,92],[5,69,5,72],[5,74,5,77],[5,79,5,82],[5,84,5,87]]}
[null,null,1,null,null,null,null,null,null,null,null,null,null,null,null,null,null,null,null,null,null,null,null,null,null,null,null,null,null,null,null,null,null,null,null,null,null,null,null,null,null,null,null,null,null,null,null,null,null,null,null,null,null,null,null,null,null,null,null,null,null,null,null,null,null,null,null,null,null,{"$f":"42+5+4+2","v":53}]
[]
[]
[null,null,"Game","Competition","Date","Us & Them","Opponents",null,"Score","HT","Att","Pts","Pos","Ref","Pens","Goal Scorers",null,null,null,"Game","Competition","Date","Opponents",null,"Score",1,2,3,4,5,6,7,8,9,10,11,12,14,null,null,null,null,null,null,null,null,null,null,null,null,null,null,"League","FA Cup","League Cup","Full Members",null,null,null,null,null,null,null,null,null,null,null,null,null,null,null,null,null,null,null,null,null,null,null,null,null,null,null,null,null,null,null,null,null,null,null,null,null,null,null,null,null,null,null,null,null,null,null,null,null,null,null,null,null,null,null,null,null,null,null,null,null,null,null,null,null,null,null,null,null,null,null,null,null,null,null,null,null,null,null,null,null,null,null,null,null,null,"Opposition","Pts","Pos",null,null,null,null,null,"Millwall Progress Season 1985/86"]
[null,null,1,"Division 2","1985-08-17","-","Huddersfield","(A)","L 3-4","2-0",6603,0,15,"G Tyson",null,"Fashanu (35) Lovell (37) Lowndes (87) / Tempest (48 pen) (51) & (89) Webster (72)","a",null,null,1,"Division 2","1985-08-17","Huddersfield","(A)","L 3-4","Sansome","Hinshelwood","Roffey","Briley","Smith (--)","Nutton","Lowndes¹","Wilson","Fashanu¹","Lovell¹","Kinsella","McLeary (--)",null,null,null,null,null,null,null,null,null,null,null,null,null,null,null,null,null,null,null,null,null,null,null,null,null,null,null,null,null,null,null,null,null,null,null,null,null,null,null,null,null,null,null,null,null,null,null,null,null,null,null,null,null,null,null,null,null,null,null,null,null,null,null,null,null,null,null,null,null,null,null,null,null,null,null,null,null,null,null,null,null,null,null,null,null,null,null,null,null,null,null,null,null,null,null,null,null,null,null,null,null,null,null,null,null,{"$f":"EM63&\" \"&EN63&\" \"&EO63","v":"Huddersfield (A) L 3-4"},0,15]
[null,null,2,"League Cup","1985-08-21","-","Colchester","(A)","W 3-2","3-1",1430,"-",null,"J Borrett",null,"Lovell (7 pen) & (10 pen) Fashanu (14) / Bowen (12) & (89)",2,null,null,2,"League Cup","1985-08-21","Colchester","(A)","W 3-2","Sansome","Hinshelwood","Roffey","Briley","McLeary","Nutton","Lowndes","Wilson","Fashanu","Lovell","Kinsella","Chatterton",null,null,null,null,"Huddersfield","(A)","L 3-4","Fashanu","Lovell","Lowndes",null,null,null,{"$f":"SUM(BA6:BD6)","v":1},"Briley",{"$f":"COUNTIF($AS$6:$AW$47,AZ6)","v":1},{"$f":"COUNTIF($AS$49:$AW$53,AZ6)","v":0},{"$f":"COUNTIF($AS$56:$AW$59,AZ6)","v":0},{"$f":"COUNTIF($AS$54:$AW$55,AZ6)","v":0},null,null,"Check with 2010 complete record",null,null,null,null,null,null,null,null,null,null,"All",null,null,null,null,"League",null,null,null,null,"FA Cup",null,null,null,null,"League Cup",null,null,null,null,"Full Members",null,null,null,null,null,null,null,null,null,null,null,null,null,null,null,null,null,null,null,null,null,null,null,null,null,null,null,null,null,null,null,null,null,null,null,null,null,null,null,null,null,null,null,null,null,null,null,null,null,null,null,null,{"$f":"EM64&\" \"&EN64&\" \"&EO64","v":"Norwich (H) W 4-2"},3,11]
[null,null,3,"Division 2","1985-08-24","17th v 12th","Norwich","(H)","W 4-2","1-1",7100,3,11,"A Robinson",null,"Kinsella (5) Lovell (47 pen) Wilson (68) Hinshelwood (77) / Brooke (22) Deehan (89 pen)",1,null,null,3,"Division 2","1985-08-24","Norwich","(H)","W 4-2","Sansome","Hinshelwood","Roffey","Briley","McLeary","Nutton","Lowndes","Wilson","Fashanu¹","Lovell²","Kinsella","Chatterton",null,null,null,null,"Norwich","(H)","W 4-2","Kinsella","Lovell","Wilson","Hinshelwood",null,null,{"$f":"SUM(BA7:BD7)","v":5},"Chatterton",4,0,0,1,null,null,null,null,null,null,null,null,null,null,null,null,null,"Max (53)",null,null,null,null,"Max (42)",null,null,null,null,"Max (5)",null,null,null,null,"Max (4)",null,null,null,null,"Max (2)",null,null,null,null,null,null,null,null,null,null,null,null,null,null,null,null,null,null,null,null,null,null,null,null,null,null,null,null,null,null,null,null,null,null,null,null,null,null,null,null,null,null,null,null,null,null,null,null,null,null,null,null,"Shrewsbury (A) D 1-1",4,13]
[null,null,4,"Division 2","1985-08-27","14th v 20th","Shrewsbury","(A)","D 1-1","0-0",3008,4,13,"J Ball",null,"Roffey (76)  / Tester (53)","a",null,null,4,"Division 2","1985-08-27","Shrewsbury","(A)","D 1-1","Sansome","Hinshelwood","Roffey¹","Briley","McLeary","Nutton","Lowndes","Wilson","Fashanu","Lovell","Kinsella","Chatterton",null,null,null,null,"Shrewsbury","(A)","D 1-1","Roffey",null,null,null,null,null,0,"Coleman",0,0,0,0,null,null,"Apps","Sub","Apps","Sub","Apps","Sub","Apps","Sub",null,null,"Player ","Apps","Sub","Nps","Goals",null,"Apps","Sub","Nps","Goals",null,"Apps","Sub","Nps","Goals",null,"Apps","Sub","Nps","Goals",null,"Apps","Sub","Nps","Goals",null,null,null,null,null,null,null,null,null,null,null,null,null,null,null,null,null,null,null,null,null,null,null,null,null,null,null,null,null,null,null,null,null,null,null,null,null,null,null,null,null,null,null,null,null,null,null,null,null,"Sunderland (H) W 1-0",7,10]
[null,null,5,"Division 2","1985-08-31","13th v 22nd","Sunderland","(H)","W 1-0","1-0",7910,7,10,"V Callow",null,"Fashanu (30)",null,null,null,5,"Division 2","1985-08-31","Sunderland","(H)","W 1-0","Sansome","Hinshelwood","Roffey","Briley","McLeary","Nutton","Lowndes","Wilson","Fashanu¹","Lovell","Kinsella","Leslie",null,null,null,null,"Sunderland","(H)","W 1-0","Fashanu",null,null,null,null,null,13,"Fashanu",8,2,2,1,null,null,39,0,2,0,4,0,2,0,null,null,"Les Briley",{"$f":"BW9+CB9+CG9+CL9","v":47},{"$f":"BX9+CC9+CH9+CM9","v":0},0,1,null,{"$f":"AA169","v":39},{"$f":"AB169","v":0},{"$f":"AC169","v":0},{"$f":"BA6","v":1},null,{"$f":"AD169","v":2},{"$f":"AE169","v":0},{"$f":"AF169","v":0},{"$f":"BB6","v":0},null,{"$f":"AG169","v":4},{"$f":"AH169","v":0},{"$f":"AI169","v":0},{"$f":"BC6","v":0},null,{"$f":"AJ169","v":2},{"$f":"AK169","v":0},{"$f":"AL169","v":0},{"$f":"BD6","v":0},null,47,0,0,null,{"$f":"IF(BR9=CQ9,\"OK\",\"Error\")","v":"OK"},{"$f":"IF(BS9=CR9,\"OK\",\"Error\")","v":"OK"},{"$f":"IF(BT9=CS9,\"OK\",\"Error\")","v":"OK"},null,null,null,null,null,null,null,null,null,null,null,null,null,null,null,null,null,null,null,null,null,null,null,null,null,null,null,null,null,null,null,null,null,null,null,null,null,null,null,null,null,"Stoke (A) D 0-0",8,9]
[null,null,6,"League Cup","1985-09-03","-","Colchester","(H)","W 4-1","2-0",3330,"-","-","J Bray",null,"Lovell (8) Lowndes (35) Fashanu (72) Leslie (89) / Bowen (78 pen)","a",null,null,6,"League Cup","1985-09-03","Colchester","(H)","W 4-1","Sansome","Hinshelwood","Roffey","Briley","McLeary","Nutton","Lowndes¹","Wilson","Fashanu¹","Lovell (--)¹","Kinsella","Leslie (--)¹",null,null,null,null,"Stoke","(A)","D 0-0",null,null,null,null,null,null,0,"Granville",0,0,0,0,null,null,15,2,1,1,1,0,2,0,null,null,"Nicky Chatterton",19,3,5,5,null,{"$f":"AA170","v":15},2,4,{"$f":"BA7","v":4},null,{"$f":"AD170","v":1},1,0,{"$f":"BB7","v":0},null,{"$f":"AG170","v":1},0,1,{"$f":"BC7","v":0},null,{"$f":"AJ170","v":2},0,0,{"$f":"BD7","v":1},null,19,3,4,null,{"$f":"IF(BR10=CQ10,\"OK\",\"Error\")","v":"OK"},{"$f":"IF(BS10=CR10,\"OK\",\"Error\")","v":"OK"},{"$f":"IF(BT10=CS10,\"OK\",\"Error\")","v":"Error"},null,null,null,null,null,null,null,null,null,null,null,null,null,null,null,null,null,null,null,null,null,null,null,null,null,null,null,null,null,null,null,null,null,null,null,null,null,null,null,null,null,"Brighton (H) L 0-1",8,12]
[null,null,7,"Division 2","1985-09-07","10th v 14th","Stoke","(A)","D 0-0","0-0",7187,8,9,"J Key",null,null,null,null,null,7,"Division 2","1985-09-07","Stoke","(A)","D 0-0","Sansome","Hinshelwood","Roffey","Brileyn","McLearyn","Nutton","Lowndes","Wilson","Fashanun","Lovell","Kinsella","Chatterton",null,null,null,null,"Brighton","(H)","L 0-1",null,null,null,null,null,null,2,"Hinshelwood",2,0,0,0,null,null,6,0,0,0,0,0,0,0,null,null,"Nicky Coleman",6,0,0,0,null,{"$f":"AA171","v":6},0,0,0,null,{"$f":"AD171","v":0},0,0,0,null,{"$f":"AG171","v":0},0,0,0,null,{"$f":"AJ171","v":0},0,0,0,null,6,0,0,null,"OK","OK","OK",null,null,null,null,null,null,null,null,null,null,null,null,null,null,null,null,null,null,null,null,null,null,null,null,null,null,null,null,null,null,null,null,null,null,null,null,null,null,null,null,null,"Hull City (A) L 0-3",8,15]
[null,null,8,"Division 2","1985-09-14","9th v 7th","Brighton","(H)","L 0-1","0-0",8013,8,12,"R Milford",null,"Ferguson (68)",null,null,null,8,"Division 2","1985-09-14","Brighton","(H)","L 0-1","Sansome","Hinshelwood","Roffeyn","Briley","McLeary","Nutton","Lowndes","Wilsonn","Fashanun","Lovell","Kinsella (80)","Leslie (80)",null,null,null,null,"Hull City","(A)","L 0-3",null,null,null,null,null,null,1,"Kinsella",1,0,0,0,null,null,25,0,5,0,4,0,2,0,null,null,"John Fashanu",36,0,0,13,null,{"$f":"AA172","v":25},0,0,8,null,{"$f":"AD172","v":5},0,0,2,null,{"$f":"AG172","v":4},0,0,2,null,{"$f":"AJ172","v":2},0,0,1,null,36,0,0,null,"OK","OK","OK",null,null,null,null,null,null,null,null,null,null,null,null,null,null,null,null,null,null,null,null,null,null,null,null,null,null,null,null,null,null,null,null,null,null,null,null,null,null,null,null,null,"C Palace (A) L 1-2",8,17]
[null,null,9,"Division 2","1985-09-17","12th v 19th","Hull City","(A)","L 0-3","0-1",6021,8,15,"A Robinson",null,"Bunn (7) & (83) McEwan (90 pen)","a",null,null,9,"Division 2","1985-09-17","Hull City","(A)","L 0-3","Sansome","Hinshelwoodn (77)","Roffey","Briley","McLeary","Nutton","Lowndes","Wilson","Fashanu","Lovell","Kinsella (--)","Chatterton (--)",null,null,null,null,"C Palace","(A)","L 1-2","Nutton",null,null,null,null,null,2,"Leslie",1,0,1,0,null,null,6,0,0,0,0,0,0,0,null,null,"John Granville",6,0,0,0,null,{"$f":"AA173","v":6},0,0,0,null,{"$f":"AD173","v":0},0,0,0,null,{"$f":"AG173","v":0},0,0,0,null,{"$f":"AJ173","v":0},0,0,0,null,6,0,0,null,"OK","OK","OK",null,null,null,null,null,null,null,null,null,null,null,null,null,null,null,null,null,null,null,null,null,null,null,null,null,null,null,null,null,null,null,null,null,null,null,null,null,null,null,null,null,"Oldham (H) L 0-1",8,18]
[null,null,10,"Division 2","1985-09-21","15th v 13th","C Palace","(A)","L 1-2","1-0",8713,8,17,"J Martin",null,"Nutton (32) / Barber (66) Gray (85)",null,null,null,10,"Division 2","1985-09-21","C Palace","(A)","L 1-2","Sansome","Stevens","Hinshelwoodn","Briley","McLeary","Nutton¹","Lowndes","Wilsonn","Fashanun","Lovelln","Leslie (76)","Chatterton (76)",null,null,null,null,"Oldham","(H)","L 0-1",null,null,null,null,null,null,19,"Lovell",14,1,3,1,null,null,34,2,5,0,3,0,1,0,null,null,"Paul Hinshelwood",43,2,0,2,null,{"$f":"AA174","v":34},2,0,2,null,{"$f":"AD174","v":5},0,0,0,null,{"$f":"AG174","v":3},0,0,0,null,{"$f":"AJ174","v":1},0,0,0,null,43,2,0,null,"OK","OK","OK",null,null,null,null,null,null,null,null,null,null,null,null,null,null,null,null,null,null,null,null,null,null,null,null,null,null,null,null,null,null,null,null,null,null,null,null,null,null,null,null,null,"Sheff Utd (A) W 3-1",11,16]
[null,null,11,"League Cup","1985-09-25","-","Southampton","(H)","D 0-0","0-0",7958,"-","-","D Axcell","PS",null,null,null,null,11,"League Cup","1985-09-25","Southampton","(H)","D 0-0","Sansome","Stevens","Hinshelwood","Briley","Smith","Nutton","Lowndes","Wilson","Fashanu","Lovell","Leslie (--)","Kinsella (--)",null,null,null,null,"Sheff Utd","(A)","W 3-1","Lovell","Fashanu","Fashanu",null,null,null,7,"Lowndes",6,0,1,0,null,null,13,1,0,0,3,1,2,0,null,null,"Tony Kinsella",18,2,0,1,null,{"$f":"AA175","v":13},1,0,1,null,{"$f":"AD175","v":0},0,0,0,null,{"$f":"AG175","v":3},1,0,0,null,{"$f":"AJ175","v":2},0,0,0,null,18,2,0,null,"OK","OK","OK",null,null,null,null,null,null,null,null,null,null,null,null,null,null,null,null,null,null,null,null,null,null,null,null,null,null,null,null,null,null,null,null,null,null,null,null,null,null,null,null,null,"Blackburn (H) L 0-1",11,18]
[null,null,12,"Division 2","1985-09-28","17th v 3rd","Oldham","(H)","L 0-1","0-1",5700,8,18,"B Stevens",null,"Futcher (10)",null,null,null,12,"Division 2","1985-09-28","Oldham","(H)","L 0-1","Sansome","Stevens","Hinshelwood","Briley","Smithn","Nutton","Lowndesn","Wilson","Fashanu","Lovell (45)","Leslie","Kinsella (45)",null,null,null,null,"Blackburn","(H)","L 0-1",null,null,null,null,null,null,0,"Malcolm",0,0,0,0,null,null,9,6,0,0,1,2,1,0,null,null,"John Leslie",11,8,10,2,null,{"$f":"AA176","v":9},6,5,1,null,{"$f":"AD176","v":0},0,4,0,null,{"$f":"AG176","v":1},2,0,1,null,{"$f":"AJ176","v":1},0,1,0,null,11,8,10,null,"OK","OK","OK",null,null,null,null,null,null,null,null,null,null,null,null,null,null,null,null,null,null,null,null,null,null,null,null,null,null,null,null,null,null,null,null,null,null,null,null,null,null,null,null,null,"Wimbledon (A) D 1-1",12,17]
[null,null,13,"Full Members","1985-10-02","-","Stoke","(H)","D 2-2","1-0",1741,"-","-","D Hedges",null,"Fashanu (28) Lovell (54) / Berschin (54 pen) Maskery (82)","a",null,null,13,"Full Members","1985-10-02","Stoke","(H)","D 2-2","Sansome","Stevens","Roffey","Briley","Smith","Nutton","Lowndes","Chatterton","Fashanu¹","Lovell¹","Kinsella","Leslie","McLeary",null,null,null,"Wimbledon","(A)","D 1-1","Lovell",null,null,null,null,null,4,"McLeary",3,1,0,0,null,null,42,0,5,0,4,0,1,0,null,null,"Steve Lovell",52,0,0,19,null,{"$f":"AA177","v":42},0,0,14,null,{"$f":"AD177","v":5},0,0,1,null,{"$f":"AG177","v":4},0,0,3,null,{"$f":"AJ177","v":1},0,0,1,null,52,0,0,null,"OK","OK","OK",null,null,null,null,null,null,null,null,null,null,null,null,null,null,null,null,null,null,null,null,null,null,null,null,null,null,null,null,null,null,null,null,null,null,null,null,null,null,null,null,null,"Carlisle (H) W 3-1",15,15]
[null,null,14,"Division 2","1985-10-05","18th v 9th","Sheff Utd","(A)","W 3-1","2-0",9159,11,16,"I Hendrick","PM","Lovell (4) Fashanu (20) & (67) / Eckhardt (82)",null,null,null,14,"Division 2","1985-10-05","Sheff Utd","(A)","W 3-1","Sansome","Stevens","Roffey","Briley","Smith","Nutton","Lowndes","Chatterton","Fashanu²","Lovell¹","Kinsella","McLeary",null,null,null,null,"Carlisle","(H)","W 3-1","Lovell","Chatterton","Chatterton",null,null,null,1,"Nutton",1,0,0,0,null,null,39,0,5,0,4,0,2,0,null,null,"Steve Lowndes",50,0,0,7,null,{"$f":"AA178","v":39},0,0,6,null,{"$f":"AD178","v":5},0,0,0,null,{"$f":"AG178","v":4},0,0,1,null,{"$f":"AJ178","v":2},0,0,0,null,50,0,0,null,"OK","OK","OK",null,null,null,null,null,null,null,null,null,null,null,null,null,null,null,null,null,null,null,null,null,null,null,null,null,null,null,null,null,null,null,null,null,null,null,null,null,null,null,null,null,"Portsmouth (H) L 0-4",15,16]
[null,null,15,"League Cup","1985-10-08","-","Southampton","(A)","D 0-0 aet 0-0",null,9480,"-","-","R Gifford",null,null,null,null,null,15,"League Cup","1985-10-08","Southampton","(A)","D 0-0","Sansome","Stevensn","Roffey","Briley","McLeary","Nutton","Lowndes","Chatterton","Fashanunn (98)","Lovell (--)n","Kinsellan","Leslie (--)",null,null,null,null,"Portsmouth","(H)","L 0-4",null,null,null,null,null,null,0,"Otulakowski",0,0,0,0,null,null,0,0,0,0,0,0,0,0,null,null,"Paul Malcolm",0,0,1,0,null,{"$f":"AA179","v":0},0,0,0,null,{"$f":"AD179","v":0},0,0,0,null,{"$f":"AG179","v":0},0,0,0,null,{"$f":"AJ179","v":0},0,1,0,null,0,0,0,null,"OK","OK","Error",null,null,null,null,null,null,null,null,null,null,null,null,null,null,null,null,null,null,null,null,null,null,null,null,null,null,null,null,null,null,null,null,null,null,null,null,null,null,null,null,null,"Grimsby (A) L 1-5",15,19]
[null,null,null,null,null,null,"(0-0 after 90 mins Millwall Lose 5-4 on Pens Takers: Chattertonü, Brileyü, Lowndesû, Kinsellaü, Roffeyü.)",null,null,null,null,null,null,null,null,null,null,null,null,16,"Division 2","1985-10-12","Blackburn","(H)","L 0-1","Sansome","Stevens","Roffey","Briley","McLeary","Nutton","Lowndes (65)","Chatterton","Fashanu","Lovell","Kinsella","Hinshelwood (65)",null,null,null,null,"Grimsby","(A)","L 1-5","Chatterton",null,null,null,null,null,1,"Roffey",1,0,0,0,null,null,32,3,3,0,3,0,0,1,null,null,"Alan McLeary",39,4,5,4,null,{"$f":"AA180","v":32},3,4,3,null,{"$f":"AD180","v":4},0,0,1,null,{"$f":"AG180","v":3},0,0,0,null,{"$f":"AJ180","v":0},1,1,0,null,39,4,4,null,"OK","OK","Error",null,null,null,null,null,null,null,null,null,null,null,null,null,null,null,null,null,null,null,null,null,null,null,null,null,null,null,null,null,null,null,null,null,null,null,null,null,null,null,null,null,"Leeds (H) W 3-1",18,17]
[null,null,16,"Division 2","1985-10-12","16th v 3rd","Blackburn","(H)","L 0-1","0-1",6050,11,18,"B Hill","PS","Garner (12)",null,null,null,17,"Full Members","1985-10-15","Coventry","(A)","D 1-1","Sansome","Stevens","Hinshelwood","Briley","Walker","Nutton","Lowndes (--)","Chatterton¹","Fashanu","Leslie","Kinsella","McLeary (--)","Malcolm",null,null,null,"Leeds","(H)","W 3-1","Lovell","Lowndes","Own Goal",null,null,null,0,"Sansome",0,0,0,0,null,null,22,0,2,0,4,0,2,0,null,null,"Micky Nutton",31,0,0,1,null,{"$f":"AA181","v":22},0,0,1,null,{"$f":"AD181","v":3},0,0,0,null,{"$f":"AG181","v":4},0,0,0,null,{"$f":"AJ181","v":2},0,0,0,null,31,0,0,null,"OK","OK","OK",null,null,null,null,null,null,null,null,null,null,null,null,null,null,null,null,null,null,null,null,null,null,null,null,null,null,null,null,null,null,null,null,null,null,null,null,null,null,null,null,null,"Middlesbrough (H) W 3-0",21,15]
[null,null,17,"Full Members","1985-10-15","-","Coventry","(A)","D 1-1","0-1",1086,"-","-","P Tyldesley",null,"Chatterton (85) / Gibson (42)",null,null,null,18,"Division 2","1985-10-19","Wimbledon","(A)","D 1-1","Sansome","Stevens","Hinshelwood","Briley","Walker","Nutton","Lowndesn","Chatterton (45)","Fashanun","Lovell¹","Kinsella","Leslie (45)",null,null,null,null,"Middlesbrough","(H)","W 3-0","Chatterton","Briley","Lovell",null,null,null,4,"Sheringham",4,0,0,0,null,null,23,0,5,0,0,0,0,0,null,null,"Anton Otulakowski",28,0,0,0,null,{"$f":"AA182","v":23},0,0,0,null,{"$f":"AD182","v":5},0,0,0,null,{"$f":"AG182","v":0},0,0,0,null,{"$f":"AJ182","v":0},0,0,0,null,28,0,0,null,"OK","OK","OK",null,null,null,null,null,null,null,null,null,null,null,null,null,null,null,null,null,null,null,null,null,null,null,null,null,null,null,null,null,null,null,null,null,null,null,null,null,null,null,null,null,"Barnsley (A) L 1-2",21,16]
[null,null,18,"Division 2","1985-10-19","18th v 4th","Wimbledon","(A)","D 1-1","1-1",4644,12,17,"A Gunn",null,"Lovell (21) / Winterburn (37)",null,null,null,19,"Division 2","1985-10-22","Carlisle","(H)","W 3-1","Sansome","Stevens","Hinshelwood","Briley","Walker","Nutton","Lowndes","Chatterton²","Leslie","Lovell¹","Kinsella","McLeary",null,null,null,null,"Barnsley","(A)","L 1-2","Leslie",null,null,null,null,null,0,"Smith",0,0,0,0,null,null,11,1,0,0,3,0,1,0,null,null,"Bill Roffey",15,1,1,1,null,{"$f":"AA183","v":11},1,1,1,null,{"$f":"AD183","v":0},0,0,0,null,{"$f":"AG183","v":3},0,0,0,null,{"$f":"AJ183","v":1},0,0,0,null,15,1,1,null,"OK","OK","OK",null,null,null,null,null,null,null,null,null,null,null,null,null,null,null,null,null,null,null,null,null,null,null,null,null,null,null,null,null,null,null,null,null,null,null,null,null,null,null,null,null,"Carlisle (A) L 0-1",21,17]
[null,null,19,"Division 2","1985-10-22","17th v 22nd","Carlisle","(H)","W 3-1","1-0",4870,15,15,"J Deakin","PS","Lovell (5) Chatterton (53 pen) & (90 pen) / Walker o.g. (82) ",2,null,null,20,"Division 2","1985-10-26","Portsmouth","(H)","L 0-4","Sansome","Stevens","Hinshelwood","Briley","Walker","Nutton","Lowndes","Chatterton","Leslie","Lovell","Kinsella","McLeary",null,null,null,null,"Carlisle","(A)","L 0-1",null,null,null,null,null,null,1,"Stevens",1,0,0,0,null,null,36,0,5,0,4,0,2,0,null,null,"Paul Sansome",47,0,0,0,null,{"$f":"AA184","v":36},0,0,0,null,{"$f":"AD184","v":5},0,0,0,null,{"$f":"AG184","v":4},0,0,0,null,{"$f":"AJ184","v":2},0,0,0,null,47,0,0,null,"OK","OK","OK",null,null,null,null,null,null,null,null,null,null,null,null,null,null,null,null,null,null,null,null,null,null,null,null,null,null,null,null,null,null,null,null,null,null,null,null,null,null,null,null,null,"Huddersfield (H) W 2-1",24,16]
[null,null,20,"Division 2","1985-10-26","15th v 1st","Portsmouth","(H)","L 0-4","0-2",6810,15,16,"P Vanes","PS","O'Callaghan (10) & (21) Morgan (48) & (88)",null,null,null,21,"Division 2","1985-11-02","Grimsby","(A)","L 1-5","Sansome","Stevens","Hinshelwood","Brileyn","Walker","Nutton","Leslie","Chatterton¹","Fashanunn (59)","Lovell","Kinsella (--)","McLeary (--)",null,null,null,null,"Huddersfield","(H)","W 2-1","Lovell","Lovell",null,null,null,null,4,"Walker",3,1,0,0,null,null,9,9,0,0,0,0,0,0,null,null,"Teddy Sheringham",9,{"$f":"BX25+CC25+CH25+CM25","v":9},3,4,null,{"$f":"AA185","v":9},9,3,4,null,{"$f":"AD185","v":0},0,0,0,null,{"$f":"AG185","v":0},0,0,0,null,{"$f":"AJ185","v":0},0,0,0,null,9,9,4,null,"OK","OK","Error",null,null,null,null,null,null,null,null,null,null,null,null,null,null,null,null,null,null,null,null,null,null,null,null,null,null,null,null,null,null,null,null,null,null,null,null,null,null,null,null,null,"Norwich (A) L 1-6",24,19]
[null,null,21,"Division 2","1985-11-02","16th v 15th","Grimsby","(A)","L 1-5","0-2",3658,15,19,"N Glover",null,"Chatterton (84) / Bonnyman (37) Hobson (40) (65) & (69) A Moore (60) ",null,null,null,22,"Division 2","1985-11-09","Leeds","(H)","W 3-1","Granville","Stevens","Hinshelwood","Brileyn","Smith","Nutton","Lowndes¹","Leslie","Fashanu","Lovell¹","McLeary","Sheringham",null,null,null,null,"Norwich","(A)","L 1-6","Sheringham",null,null,null,null,null,12,"Wilson",12,0,0,0,null,null,14,0,0,0,1,0,1,0,null,null,"Lindsay Smith",16,0,0,0,null,{"$f":"AA186","v":14},0,0,0,null,{"$f":"AD186","v":0},0,0,0,null,{"$f":"AG186","v":1},0,0,0,null,{"$f":"AJ186","v":1},0,0,0,null,16,0,0,null,"OK","OK","OK",null,null,null,null,null,null,null,null,null,null,null,null,null,null,null,null,null,null,null,null,null,null,null,null,null,null,null,null,null,null,null,null,null,null,null,null,null,null,null,null,null,"Hull City (H) W 5-0",27,17]
[null,null,22,"Division 2","1985-11-09","19th v 11th","Leeds","(H)","W 3-1","1-0",9158,18,17,"M Bodenham",null,"Lovell (41 pen) Lowndes (54) Baird o.g. (65) / Ritchie (85) ",1,null,null,23,"Division 2","1985-11-23","Middlesbrough","(H)","W 3-0","Granville","Stevens","Hinshelwood","Briley¹","Walker","Nutton (45)","Lowndes","Chatterton¹","Leslie","Lovell¹","McLeary","Sheringham (45)",null,null,null,null,"Hull City","(H)","W 5-0","Lowndes","Walker","Wilson","Wilson","Fashanu",null,2,"Own Goal",2,0,0,0,null,null,33,0,5,0,2,0,2,0,null,null,"Keith Stevens",42,0,0,1,null,{"$f":"AA187","v":33},0,0,1,null,{"$f":"AD187","v":5},0,0,0,null,{"$f":"AG187","v":2},0,0,0,null,{"$f":"AJ187","v":2},0,0,0,null,42,0,0,null,"OK","OK","OK",null,null,null,null,null,null,null,null,null,null,null,null,null,null,null,null,null,null,null,null,null,null,null,null,null,null,null,null,null,null,null,null,null,null,null,null,null,null,null,null,null,"Stoke (H) L 2-3",27,19]
[null,null,23,"Division 2","1985-11-23","17th v 20th","Middlesbrough","(H)","W 3-0","2-0",3188,21,15,"M Robinson",null,"Chatterton (17) Briley (21) Lovell (72)",null,null,null,24,"Division 2","1985-11-30","Barnsley","(A)","L 1-2","Granville","Stevens","Hinshelwood","Briley","Walker","Smith (--)","Lowndes","Chatterton","Leslie¹","Lovell","McLeary","Roffey (--)",null,null,null,null,"Stoke","(H)","L 2-3","Wilson","Lovell",null,null,null,null,null,null,null,null,null,null,null,null,26,0,5,0,0,0,1,0,null,null,"Alan Walker",32,0,1,4,null,{"$f":"AA188","v":26},0,1,3,null,{"$f":"AD188","v":5},0,0,1,null,{"$f":"AG188","v":0},0,0,0,null,{"$f":"AJ188","v":1},0,0,0,null,32,0,1,null,"OK","OK","OK",null,null,null,null,null,null,null,null,null,null,null,null,null,null,null,null,null,null,null,null,null,null,null,null,null,null,null,null,null,null,null,null,null,null,null,null,null,null,null,null,null,"Sunderland (A) W 2-1",30,19]
[null,null,24,"Division 2","1985-11-30","15th v 9th","Barnsley","(A)","L 1-2","0-1",4340,21,16,"J Lloyd",null,"Leslie (89) / Owen (32 pen) Gray (61)","a",null,null,25,"Division 2","1985-12-07","Carlisle","(A)","L 0-1","Granville","Stevens","Hinshelwood","Briley","Smith (--)","Nutton","Lowndes","Chatterton","Leslie","Lovell","McLeary","Sheringham (--)",null,null,null,null,"Sunderland","(A)","W 2-1","Own Goal","Fashanu",null,null,null,null,null,null,null,null,null,null,null,null,28,0,5,0,3,0,0,0,null,null,"Robert Wilson",36,0,0,12,null,{"$f":"AA189","v":28},0,0,12,null,{"$f":"AD189","v":5},0,0,0,null,{"$f":"AG189","v":3},0,0,0,null,{"$f":"AJ189","v":0},0,0,0,null,36,0,0,null,"OK","OK","OK",null,null,null,null,null,null,null,null,null,null,null,null,null,null,null,null,null,null,null,null,null,null,null,null,null,null,null,null,null,null,null,null,null,null,null,null,null,null,null,null,null,"Shrewsbury (H) W 2-0",33,15]
[null,null,25,"Division 2","1985-12-07","16th v 22nd","Carlisle","(A)","L 0-1","0-0",2497,21,17,"R Guy",null,"Bishop (83)",null,null,null,26,"Division 2","1985-12-14","Huddersfield","(H)","W 2-1","Granville","Stevens","Hinshelwood","Brileyn","Walker","Nuttonn","McLeary","Chatterton (88)","Sheringham","Lovell²","Otulakowski","Leslie (88)",null,null,null,null,"Shrewsbury","(H)","W 2-0","Wilson","Walker",null,null,null,null,null,null,{"$f":"SUM(BA6:BA29)","v":64},{"$f":"SUM(BB6:BB29)","v":5},{"$f":"SUM(BC6:BC29)","v":7},{"$f":"SUM(BD6:BD29)","v":3},null,null,null,null,null,null,null,null,null,null,null,null,null,null,null,null,null,null,null,null,null,null,null,null,null,null,null,null,null,null,null,null,null,null,null,null,null,null,null,null,null,null,null,null,null,null,null,null,null,null,null,null,null,null,null,null,null,null,null,null,null,null,null,null,null,null,null,null,null,null,null,null,null,null,null,null,null,null,null,null,null,null,null,null,null,null,"Oldham (A) D 0-0",34,17]
[null,null,26,"Division 2","1985-12-14","18th v 20th","Huddersfield","(H)","W 2-1","2-0",3645,24,16,"A Seville",null,"Lovell (9 pen) (29) / Tempest (83) ",1,null,null,27,"Division 2","1985-12-21","Norwich","(A)","L 1-6","Granville","Stevens","Hinshelwood","Briley","Walker","Lowndes","McLeary","Chatterton (--)","Sheringham¹","Lovell","Otulakowski","Leslie (--)",null,null,null,null,"Oldham","(A)","D 0-0",null,null,null,null,null,null,null,null,null,null,null,null,null,null,null,null,null,null,null,null,null,null,null,null,"Own Goals",null,null,null,{"$f":"BZ31+CE31+CJ31+CO31","v":2},null,null,null,null,{"$f":"BA27","v":2},null,null,null,null,{"$f":"BB27","v":0},null,null,null,null,{"$f":"BC27","v":0},null,null,null,null,{"$f":"BD27","v":0},null,null,null,null,null,null,null,null,null,null,null,null,null,null,null,null,null,null,null,null,null,null,null,null,null,null,null,null,null,null,null,null,null,null,null,null,null,null,null,null,null,null,null,null,null,null,null,null,null,"Sheff Utd (H) W 3-0",37,17]
[null,null,27,"Division 2","1985-12-21","18th v 1st","Norwich","(A)","L 1-6","0-4",12349,24,19,"V Callow",null,"Sheringham (83) / Mendham (4) Williams (8) & (33) Barham (30) Drinkell (58) Phelan (76)",null,null,null,28,"Division 2","1985-12-28","Hull City","(H)","W 5-0","Sansome","Stevens","Hinshelwood","Briley","Walker¹","Nutton","Lowndes¹","Wilson²","Fashanu¹","Lovell","Otulakowski","Roffey",null,null,null,null,"Sheff Utd","(H)","W 3-0","Hinshelwood","Lowndes","Walker",null,null,null,null,"Check",64,5,7,3,null,null,null,null,null,null,null,null,null,null,null,null,null,null,null,null,null,null,null,null,null,null,null,null,null,null,null,null,null,null,null,null,null,null,null,null,null,null,null,null,null,null,null,null,null,null,null,null,null,null,null,null,null,null,null,null,null,null,null,null,null,null,null,null,null,null,null,null,null,null,null,null,null,null,null,null,null,null,null,null,null,null,null,null,null,null,"Wimbledon (H) L 0-1",37,17]
[null,null,28,"Division 2","1985-12-28","20th v 10th","Hull City","(H)","W 5-0","1-0",3783,27,17,"I Hemley","PM","Lowndes (15) Walker (49) Wilson (79) & (83) Fashanu (89)",null,null,null,29,"FA Cup","1986-01-04","Wimbledon","(H)","W 3-1","Sansome","Stevens","Hinshelwood","Briley","Walker¹","Nutton","Lowndes","Wilson","Fashanu¹","Lovell¹","Otulakowski (--)","Chatterton (--)",null,null,null,null,"Wimbledon","(H)","L 0-1",null,null,null,null,null,null,null,null,null,null,null,null,null,null,null,"Error in Totals in Complete Record 2010",null,null,null,null,null,null,null,null,"Goals",null,null,null,{"$f":"SUM(BU9:BU31)","v":79},null,null,null,null,{"$f":"SUM(BZ9:BZ31)","v":64},null,null,null,null,{"$f":"SUM(CE9:CE31)","v":5},null,null,null,null,{"$f":"SUM(CJ9:CJ31)","v":7},null,null,null,null,{"$f":"SUM(CO9:CO31)","v":3},null,null,null,null,null,null,null,null,null,null,null,null,null,null,null,null,null,null,null,null,null,null,null,null,null,null,null,null,null,null,null,null,null,null,null,null,null,null,null,null,null,null,null,null,null,null,null,null,null,"Blackburn (A) W 2-1",40,13]
[null,null,29,"FA Cup","1986-01-04","-","Wimbledon","(H)","W 3-1","2-0",5840,"-",null,"H King",null,"Lovell (11) Fashanu (35) Walker (77) / Gage (87)",null,null,null,30,"Division 2","1986-01-11","Stoke","(H)","L 2-3","Sansome","Roffey","Hinshelwood","Briley","Walker","Nutton","Lowndes","Wilson¹","Fashanu","Lovell¹","Otulakowski","McLeary",null,null,null,null,"Blackburn","(A)","W 2-1","Fashanu","Lovell",null,null,null,null,null,null,null,null,null,null,null,null,null,null,null,null,null,null,null,null,null,null,null,null,null,null,null,null,null,null,null,null,null,null,null,null,null,null,null,null,null,null,null,null,null,null,null,null,null,null,null,null,null,null,null,null,null,null,null,null,null,null,null,null,null,null,null,null,null,null,null,null,null,null,null,null,null,null,null,null,null,null,null,null,null,null,null,null,null,null,null,null,null,null,null,null,"Fulham (H) D 1-1",41,13]
[null,null,30,"Division 2","1986-01-11","18th v 13th","Stoke","(H)","L 2-3","1-2",4611,27,19,"J Ball",null,"Wilson (31) Lovell (55) / Donowa (15) Painter (17) Bertschin (71)",null,null,null,31,"Division 2","1986-01-18","Sunderland","(A)","W 2-1","Sansome","Roffey (30)","Hinshelwood","Briley","Walker","Nutton","Lowndes","Wilson","Fashanu¹","Lovell","Otulakowski","McLeary (30)",null,null,null,null,"Fulham","(H)","D 1-1","Fashanu",null,null,null,null,null,null,null,null,null,null,null,null,null,null,null,null,null,null,null,null,null,null,null,null,null,null,null,null,null,null,null,null,null,null,null,null,null,null,null,null,null,null,null,null,null,null,null,null,null,null,null,null,null,null,null,null,null,null,null,null,null,null,null,null,null,null,null,null,null,null,null,null,null,null,null,null,null,null,null,null,null,null,null,null,null,null,null,null,null,null,null,null,null,null,null,null,null,"Brighton (A) L 0-1",41,14]
[null,null,31,"Division 2","1986-01-18","19th v 15th","Sunderland","(A)","W 2-1","0-0",14294,30,19,"D Phillips",null,"Agboola o.g. (55) Fashanu (88) / Gray (89) ",null,null,null,32,"FA Cup","1986-01-25","Aston Villa","(A)","D 1-1","Sansome","Stevens","Hinshelwood","McLeary¹","Walker","Nutton","Lowndes","Wilson","Fashanu","Lovell","Otulakowski","Leslie",null,null,null,null,"Brighton","(A)","L 0-1",null,null,null,null,null,null,null,null,null,null,null,null,null,null,null,null,null,null,null,null,null,null,null,null,null,null,"Check",null,null,null,{"$f":"SUM(BW9:BW29)","v":462},{"$f":"SUM(BX9:BY29)","v":42},null,null,null,{"$f":"SUM(CB9:CB29)","v":55},{"$f":"SUM(CC9:CD29)","v":5},null,null,null,{"$f":"SUM(CG9:CG29)","v":44},{"$f":"SUM(CH9:CI29)","v":4},null,null,null,{"$f":"SUM(CL9:CL29)","v":22},{"$f":"SUM(CM9:CN29)","v":4},null,null,null,null,null,null,null,null,null,null,null,null,null,null,null,null,null,null,null,null,null,null,null,null,null,null,null,null,null,null,null,null,null,null,null,null,null,null,null,null,null,null,null,null,null,null,null,null,null,null,null,"Portsmouth (A) L 1-2",41,14]
[null,null,32,"FA Cup","1986-01-25","-","Aston Villa","(A)","D 1-1","1-1",12205,"-","-","K Hackett",null,"McLeary (7) / Hodge (25)",null,null,null,33,"FA Cup","1986-01-29","Aston Villa","(H)","W 1-0","Sansome","Stevens","Hinshelwood","McLeary","Walker","Nutton","Lowndes","Wilson","Fashanu¹","Lovell","Otulakowski","Leslie",null,null,null,null,"Portsmouth","(A)","L 1-2","Lovell",null,null,null,null,null,null,null,null,null,null,null,null,null,null,null,null,null,null,null,null,null,null,null,null,null,null,null,null,null,null,null,null,null,null,null,null,null,null,null,null,null,null,null,null,null,null,null,null,null,null,null,null,null,null,null,null,null,null,null,null,null,null,null,null,null,null,null,null,null,null,null,null,null,null,null,null,null,null,null,null,null,null,null,null,null,null,null,null,null,null,null,null,null,null,null,null,null,"Charlton (H) D 2-2",42,14]
[null,null,33,"FA Cup","1986-01-29","-","Aston Villa","(H)","W 1-0","0-0",10273,"-","-","K Hackett","PS","Fashanu (56)",null,null,null,34,"Division 2","1986-02-01","Shrewsbury","(H)","W 2-0","Sansome","Stevens","Hinshelwood","Briley","Walker¹","McLeary","Lowndes","Wilson¹","Fashanu (84)","Lovell","Otulakowski","Leslie (84)",null,null,null,null,"Charlton","(H)","D 2-2","Lowndes","Wilson",null,null,null,null,null,null,null,null,null,null,null,null,null,null,null,null,null,null,null,null,null,null,null,null,null,null,null,null,{"$f":"BW36/11","v":42},{"$f":"BX36/1","v":42},null,null,null,{"$f":"CB36/11","v":5},{"$f":"CC36/1","v":5},null,null,null,{"$f":"CG36/11","v":4},{"$f":"CH36/2","v":2},null,null,null,{"$f":"CL36/11","v":2},{"$f":"CM36/1","v":4},null,null,null,null,null,null,null,null,null,null,null,null,null,null,null,null,null,null,null,null,null,null,null,null,null,null,null,null,null,null,null,null,null,null,null,null,null,null,null,null,null,null,null,null,null,null,null,null,null,null,null,{"$f":"EM96&\" \"&EN96&\" \"&EO96","v":"Fulham (A) W 2-1"},45,13]
[null,null,34,"Division 2","1986-02-01","19th v 12th","Shrewsbury","(H)","W 2-0","0-0",4487,33,15,"L Shapter",null,"Wilson (55 pen) Walker (65)",1,null,null,35,"FA Cup","1986-02-15","Southampton","(A)","D 0-0","Sansome","Stevens","Hinshelwood","Brileyn","Walkern","McLeary","Lowndes","Wilson","Fashanu","Lovell","Otulakowski","Leslie",null,null,null,null,"Fulham","(A)","W 2-1","Stevens","Lovell",null,null,null,null,null,null,null,null,null,null,null,null,null,null,null,null,null,null,null,null,null,null,null,null,null,null,null,null,null,null,null,null,null,null,null,null,null,null,null,null,null,null,null,null,null,null,null,null,null,null,null,null,null,null,null,null,null,null,null,null,null,null,null,null,null,null,null,null,null,null,null,null,null,null,null,null,null,null,null,null,null,null,null,null,null,null,null,null,null,null,null,null,null,null,null,null,{"$f":"EM97&\" \"&EN97&\" \"&EO97","v":"Grimsby (H) W 1-0"},48,11]
[null,null,35,"FA Cup","1986-02-15","-","Southampton","(A)","D 0-0","0-0",16356,"-","-","B Hill",null,null,null,null,null,36,"Division 2","1986-03-01","Oldham","(A)","D 0-0","Sansome","Stevens","Hinshelwood","Chatterton","Walker","McLeary","Lowndes","Wilson","Fashanu","Lovell","Otulakowski","Leslie",null,null,null,null,"Grimsby","(H)","W 1-0","Wilson",null,null,null,null,null,null,null,null,null,null,null,null,null,null,null,null,null,null,null,null,null,null,null,null,null,null,null,null,null,null,null,null,null,null,null,null,null,null,null,null,null,null,null,null,null,null,null,null,null,null,null,null,null,null,null,null,null,null,null,null,null,null,null,null,null,null,null,null,null,null,null,null,null,null,null,null,null,null,null,null,null,null,null,null,null,null,null,null,null,null,null,null,null,null,null,null,null,"Leeds (A) L 1-3",48,14]
[null,null,36,"Division 2","1986-03-01","18th v 12th","Oldham","(A)","D 0-0","0-0",3483,34,17,"A Saunders",null,null,null,null,null,37,"FA Cup","1986-03-05","Southampton","(H)","L 0-1","Sansome","Stevens","Hinshelwood","Chatterton","Walker","McLeary","Lowndes","Wilson","Fashanu","Lovell","Otulakowski","Leslie",null,null,null,null,"Leeds","(A)","L 1-3","Wilson",null,null,null,null,null,null,null,null,null,null,null,null,null,null,null,null,null,null,null,null,null,null,null,null,null,null,null,null,null,null,null,null,null,null,null,null,null,null,null,null,null,null,null,null,null,null,null,null,null,null,null,null,null,null,null,null,null,null,null,null,null,null,null,null,null,null,null,null,null,null,null,null,null,null,null,null,null,null,null,null,null,null,null,null,null,null,null,null,null,null,null,null,null,null,null,null,null,"Charlton (A) D 3-3",49,14]
[null,null,37,"FA Cup","1986-03-05","-","Southampton","(H)","L 0-1","0-1",10625,"-","-","B Hill",null,"Wallace (15)",null,null,null,38,"Division 2","1986-03-08","Sheff Utd","(H)","W 3-0","Sansome","Stevens","Hinshelwood¹","Briley","Walker¹","McLeary","Lowndes¹","Wilson","Fashanu","Lovell","Otulakowski (--)","Sheringham (--)",null,null,null,null,"Charlton","(A)","D 3-3","McLeary","Wilson","Wilson",null,null,null,null,null,null,null,null,null,null,null,null,null,null,null,null,null,null,null,null,null,null,null,null,null,null,null,null,null,null,null,null,null,null,null,null,null,null,null,null,null,null,null,null,null,null,null,null,null,null,null,null,null,null,null,null,null,null,null,null,null,null,null,null,null,null,null,null,null,null,null,null,null,null,null,null,null,null,null,null,null,null,null,null,null,null,null,null,null,null,null,null,null,null,null,"Bradford (H) W 2-1",52,10]
[null,null,38,"Division 2","1986-03-08","18th v 6th","Sheff Utd","(H)","W 3-0","1-0",4270,37,17,"H Taylor",null,"Hinshelwood (43) Lowndes (73) Walker (77)",null,null,null,39,"Division 2","1986-03-11","Wimbledon","(H)","L 0-1","Sansome","Stevens","Hinshelwood","Briley","Walker","McLeary","Lowndes","Wilson","Fashanu","Lovell","Otulakowski","Sheringham",null,null,null,null,"Bradford","(H)","W 2-1","Sheringham","Sheringham",null,null,null,null,null,null,null,null,null,null,null,null,null,null,null,null,null,null,null,null,null,null,null,null,null,null,null,null,null,null,null,null,null,null,null,null,null,null,null,null,null,null,null,null,null,null,null,null,null,null,null,null,null,null,null,null,null,null,null,null,null,null,null,null,null,null,null,null,null,null,null,null,null,null,null,null,null,null,null,null,null,null,null,null,null,null,null,null,null,null,null,null,null,null,null,null,"C Palace (H) W 3-2",55,8]
[null,null,39,"Division 2","1986-03-11","17th v 4th","Wimbledon","(H)","L 0-1","0-0",4643,37,17,"E Scales",null,"Fairweather (74)",null,null,null,40,"Division 2","1986-03-15","Blackburn","(A)","W 2-1","Sansome","Stevens","Hinshelwood","Briley (53)","Walker","McLeary","Lowndes","Wilson","Fashanu¹","Lovell¹","Otulakowski","Sheringham (53)",null,null,null,null,"C Palace","(H)","W 3-2","Lowndes","Sheringham","Lovell",null,null,null,null,null,null,null,null,null,null,null,null,null,null,null,null,null,null,null,null,null,null,null,null,null,null,null,null,null,null,null,null,null,null,null,null,null,null,null,null,null,null,null,null,null,null,null,null,null,null,null,null,null,null,null,null,null,null,null,null,null,null,null,null,null,null,null,null,null,null,null,null,null,null,null,null,null,null,null,null,null,null,null,null,null,null,null,null,null,null,null,null,null,null,null,"Middlesbrough (A) L 0-3",55,10]
[null,null,40,"Division 2","1986-03-15","17th v 13th","Blackburn","(A)","W 2-1","1-0",4336,40,13,"R Bridges",null,"Fashanu (11) Lovell (89) / Barker (66) ",null,null,null,41,"Division 2","1986-03-18","Fulham","(H)","D 1-1","Sansome","Stevens","Hinshelwood (--)","Briley","Walker","McLeary","Lowndes","Wilson","Fashanu¹","Lovell","Otulakowski","Sheringham (--)",null,null,null,null,"Middlesbrough","(A)","L 0-3",null,null,null,null,null,null,null,null,null,null,null,null,null,null,null,null,null,null,null,null,null,null,null,null,null,null,null,null,null,null,null,null,null,null,null,null,null,null,null,null,null,null,null,null,null,null,null,null,null,null,null,null,null,null,null,null,null,null,null,null,null,null,null,null,null,null,null,null,null,null,null,null,null,null,null,null,null,null,null,null,null,null,null,null,null,null,null,null,null,null,null,null,null,null,null,null,null,null,"Bradford (A) W 2-0",58,8]
[null,null,41,"Division 2","1986-03-18","13th v 21st","Fulham","(H)","D 1-1","0-0",5645,41,13,"K Baker",null,"Fashanu (79) / Achampong (47)",null,null,null,42,"Division 2","1986-03-22","Brighton","(A)","L 0-1","Sansome","Stevens","Hinshelwood","Briley","Walker","McLeary","Lowndes (--)n","Chatterton","Fashanun","Lovell","Otulakowski","Sheringham (--)",null,null,null,null,"Bradford","(A)","W 2-0","Wilson","Wilson",null,null,null,null,null,null,null,null,null,null,null,null,null,null,null,null,null,null,null,null,null,null,null,null,null,null,null,null,null,null,null,null,null,null,null,null,null,null,null,null,null,null,null,null,null,null,null,null,null,null,null,null,null,null,null,null,null,null,null,null,null,null,null,null,null,null,null,null,null,null,null,null,null,null,null,null,null,null,null,null,null,null,null,null,null,null,null,null,null,null,null,null,null,null,null,null,"Barnsley (H) D 2-2",59,8]
[null,null,42,"Division 2","1986-03-22","13th v 6th","Brighton","(A)","L 0-1","0-0",9370,41,14,"R Groves",null,"Young (62)",null,null,null,43,"Division 2","1986-03-25","Portsmouth","(A)","L 1-2","Sansome","Stevens","Hinshelwood","Brileyn","Walker","McLeary","Chatterton (--)","Smith","Fashanu","Lovell¹","Otulakowski","Sheringham (--)",null,null,null,null,"Barnsley","(H)","D 2-2","McLeary","McLeary"]
[null,null,43,"Division 2","1986-03-25","14th v 2nd","Portsmouth","(A)","L 1-2","1-1",9570,41,14,"G Napthine",null,"Lovell (25) / O'Callaghan (37) Quinn (45)",null,null,null,44,"Division 2","1986-03-29","Charlton","(H)","D 2-2","Sansome","Stevens","Hinshelwoodn","Briley","Walker","McLeary","Lowndes¹n","Wilson¹","Smithn","Lovell","Otulakowskin","Sheringham"]
[null,null,44,"Division 2","1986-03-29","14th v 4th","Charlton","(H)","D 2-2","1-1",7846,42,14,"J Moules",null,"Lowndes (2) Wilson (50 pen) / Melrose (42) Shipley (44)",1,null,null,45,"Division 2","1986-03-31","Fulham","(A)","W 2-1","Sansome","Stevens¹n","Hinshelwood","Briley","Walker","McLeary","Lowndes","Wilsonn","Smith (--)","Lovell¹","Otulakowskin","Sheringham (--)",null,null,null,null,"Wimbledon","(H)","W 3-1","Lovell","Fashanu","Walker"]
[null,null,45,"Division 2","1986-03-31","14th v 22nd","Fulham","(A)","W 2-1","1-0",4581,45,13,"D Vickers",null,"Stevens (15) Lovell (85) / Pike (79) ",null,null,null,46,"Division 2","1986-04-05","Grimsby","(H)","W 1-0","Sansome","Stevens","Hinshelwood","Brileyn","Walkern","McLeary","Lowndes","Wilson¹n","Chatterton (69)","Lovell","Otulakowski","Sheringham (69)",null,null,null,null,"Aston Villa","(A)","D 1-1","McLeary"]
[null,null,46,"Division 2","1986-04-05","14th v 13th","Grimsby","(H)","W 1-0","1-0",3612,48,11,"T Holbrook",null,"Wilson (40 pen)","a",null,null,47,"Division 2","1986-04-12","Leeds","(A)","L 1-3","Sansome","Stevens","Coleman","Briley","Walkern","McLeary","Lowndes","Wilson¹n","Sheringham","Lovell","Otulakowskin","Leslie",null,null,null,null,"Aston Villa","(H)","W 1-0","Fashanu"]
[null,null,47,"Division 2","1986-04-12","12th v 14th","Leeds","(A)","L 1-3","1-2",15067,48,14,"R Gifford",null,"Wilson (12) / Sellars (9) Swan (14) Ritchie (63)",null,null,null,48,"Division 2","1986-04-15","Charlton","(A)","D 3-3","Sansome","Stevens","Hinshelwood","Briley","Walker","McLeary¹","Lowndes","Wilson²","Sheringham","Lovell","Otulakowski (--)","Leslie (--)",null,null,null,null,"Southampton","(A)","D 0-0"]
[null,null,48,"Division 2","1986-04-15","14th v 4th","Charlton","(A)","D 3-3","3-2",7861,49,14,"D Reeves",null,"McLeary (3) Wilson (9) & (18) / Stuart (24) & (44) Melrose (65)",null,null,null,49,"Division 2","1986-04-19","Bradford","(H)","W 2-1","Sansome","Stevens","Coleman","Briley","Smith","McLeary","Lowndes","Wilson","Sheringham²","Lovell","Otulakowski","Leslie",null,null,null,null,"Southampton","(H)","L 0-1"]
[null,null,49,"Division 2","1986-04-19","14th v 16th","Bradford","(H)","W 2-1","1-0",3763,52,10,"M James",null,"Sheringham (24) & (73) / Ormondroyd (59) ",null,null,null,50,"Division 2","1986-04-22","C Palace","(H)","W 3-2","Sansome","Stevens","Coleman","Briley","Smith","McLeary","Lowndes¹","Wilson","Sheringham¹","Lovell¹","Otulakowski","Leslie",null,null,null,null,"Stoke","(H)","D 2-2","Fashanu","Lovell"]
[null,null,50,"Division 2","1986-04-22","10th v 5th","C Palace","(H)","W 3-2","2-0",5618,55,8,"B Stevens",null,"Lowndes (17) Sheringham (34) Lovell (71) / Higginbotham (58) Ketteridge (82)",null,null,null,51,"Division 2","1986-04-26","Middlesbrough","(A)","L 0-3","Sansome","Stevens","Coleman","Briley","Smith","McLeary","Lowndes","Wilson","Sheringham","Lovell","Otulakowski","Walker",null,null,null,null,"Coventry","(A)","D 1-1","Chatterton"]
[null,null,51,"Division 2","1986-04-26","8th v 21st","Middlesbrough","(A)","L 0-3","0-1",5494,55,10,"N Wilson",null,"Beagrie (35) Slaven (47 pen) Laws (79) ","a",null,null,52,"Division 2","1986-04-30","Bradford","(A)","W 2-0","Sansome","Stevensn","Coleman","Walker","Smith","McLeary","Lowndes","Wilson²","Sheringham","Lovelln","Otulakowski","Chatterton",null,null,null,null,"Colchester","(A)","W 3-2","Lovell","Lovell","Fashanu"]
[null,null,52,"Division 2","1986-04-30","10th v 13th","Bradford","(A)","W 2-0","1-0",3826,58,8,"T Jones",null,"Wilson (38) & (73)",null,null,null,53,"Division 2","1986-05-03","Barnsley","(H)","D 2-2","Sansome","Stevens","Coleman","McLeary²","Smith (83)","Walker","Lowndes","Wilson","Sheringham","Lovell","Otulakowski","Hinshelwood (83)",null,null,null,null,"Colchester","(H)","W 4-1","Lovell","Lowndes","Fashanu","Leslie"]
[null,null,53,"Division 2","1986-05-03","8th v 11th","Barnsley","(H)","D 2-2","0-1",4230,59,8,"T Holbrook",null,"McLeary (49) & (54) / Plummer (44) Owen (80 pen)","a",null,null,null,null,null,null,null,null,null,null,null,null,null,null,null,null,null,null,null,null,null,null,null,null,"Southampton","(H)","D 0-0"]
[null,null,null,null,null,null,null,null,null,null,null,"Final Position 9th",null,null,null,null,null,null,null,null,null,null,null,null,null,"Note: Information on bookings is not comprehensive but shown where known",null,null,null,null,null,null,null,null,null,null,null,null,null,null,null,"Southampton","(A)","D 0-0"]
[null,null,null,null,null,"PS = Penalty Saved, PM = Penalty Missed, Green Millwall Penalty Missed or Saved, Red Opposition Penalty Missed or Saved"]
[]
[]
[null,null,null,null,null,null,null,null,null,null,null,null,null,null,null,null,{"$f":"COUNTIF(Q5:Q58,\"a\")","v":9},null,null,null,null,null,null,null,null,null,null,null,null,null,null,null,null,null,null,null,null,null,null,null,null,null,null,null,null,null,null,null,null,null,null,null,null,null,null,null,null,null,null,null,null,null,null,null,null,null,null,null,null,null,null,null,null,null,null,null,null,null,null,null,null,null,null,null,null,null,null,null,null,null,null,null,null,null,null,null,null,null,null,null,null,null,null,null,null,null,null,null,null,null,null,null,null,null,null,null,null,null,null,null,null,null,null,null,null,null,null,null,null,null,null,null,null,null,null,null,null,null,null,null,null,null,"Huddersfield","(A)","L 3-4",0,15]
[null,null,null,null,null,null,null,null,null,null,null,null,null,null,null,null,null,null,null,null,null,null,null,null,null,null,null,null,null,null,null,null,null,null,null,null,null,null,null,null,null,null,null,null,null,null,null,null,null,null,null,null,null,null,null,null,null,null,null,null,null,null,null,null,null,null,null,null,null,null,null,null,null,null,null,null,null,null,null,null,null,null,null,null,null,null,null,null,null,null,null,null,null,null,null,null,null,null,null,null,null,null,null,null,null,null,null,null,null,null,null,null,null,null,null,null,null,null,null,null,null,null,null,null,null,null,null,null,null,null,null,null,null,null,null,null,null,null,null,null,null,null,"Norwich","(H)","W 4-2",3,11]
[null,null,null,null,null,null,null,null,null,null,null,null,null,null,null,"Pens F 15 A 10",null,null,null,null,null,null,null,null,null,null,null,null,null,null,null,null,null,null,null,null,null,null,null,null,null,null,null,null,null,null,null,null,null,null,null,null,null,null,null,null,null,null,null,null,null,null,null,null,null,null,null,null,null,null,null,null,null,null,null,null,null,null,null,null,null,null,null,null,null,null,null,null,null,null,null,null,null,null,null,null,null,null,null,null,null,null,null,null,null,null,null,null,null,null,null,null,null,null,null,null,null,null,null,null,null,null,null,null,null,null,null,null,null,null,null,null,null,null,null,null,null,null,null,null,null,null,"Shrewsbury","(A)","D 1-1",4,13]
[null,null,null,null,null,null,"1985-08-24",null,null,null,7100,"w",null,null,null,null,null,null,null,null,null,null,null,null,null,null,null,null,null,null,null,null,null,null,null,null,null,null,null,null,null,null,null,null,null,null,null,null,null,null,null,null,null,null,null,null,null,null,null,null,null,null,null,null,null,null,null,null,null,null,null,null,null,null,null,null,null,null,null,null,null,null,null,null,null,null,null,null,null,null,null,null,null,null,null,null,null,null,null,null,null,null,null,null,null,null,null,null,null,null,null,null,null,null,null,null,null,null,null,null,null,null,null,null,null,null,null,null,null,null,null,null,null,null,null,null,null,null,null,null,null,null,"Sunderland","(H)","W 1-0",7,10]
[null,null,null,null,null,null,"1985-08-31",null,null,null,7910,"w",null,null,null,null,null,null,null,null,null,null,null,null,null,null,null,null,null,null,null,null,null,null,null,null,null,null,null,null,null,null,null,null,null,null,null,null,null,null,null,null,null,null,null,null,null,null,null,null,null,null,null,null,null,null,null,null,null,null,null,null,null,null,null,null,null,null,null,null,null,null,null,null,null,null,null,null,null,null,null,null,null,null,null,null,null,null,null,null,null,null,null,null,null,null,null,null,null,null,null,null,null,null,null,null,null,null,null,null,null,null,null,null,null,null,null,null,null,null,null,null,null,null,null,null,null,null,null,null,null,null,"Stoke","(A)","D 0-0",8,9]
[null,null,null,null,null,null,"1985-09-14",null,null,null,8013,"w",null,null,null,null,null,null,null,null,null,null,null,null,null,null,null,null,null,null,null,null,null,null,null,null,null,null,null,null,null,null,null,null,null,null,null,null,null,null,null,null,null,null,null,null,null,null,null,null,null,null,null,null,null,null,null,null,null,null,null,null,null,null,null,null,null,null,null,null,null,null,null,null,null,null,null,null,null,null,null,null,null,null,null,null,null,null,null,null,null,null,null,null,null,null,null,null,null,null,null,null,null,null,null,null,null,null,null,null,null,null,null,null,null,null,null,null,null,null,null,null,null,null,null,null,null,null,null,null,null,null,"Brighton","(H)","L 0-1",8,12]
[null,null,null,null,null,null,"1985-09-28",null,null,null,5700,"w",null,null,null,null,null,null,null,null,null,null,null,null,null,null,null,null,null,null,null,null,null,null,null,null,null,null,null,null,null,null,null,null,null,null,null,null,null,null,null,null,null,null,null,null,null,null,null,null,null,null,null,null,null,null,null,null,null,null,null,null,null,null,null,null,null,null,null,null,null,null,null,null,null,null,null,null,null,null,null,null,null,null,null,null,null,null,null,null,null,null,null,null,null,null,null,null,null,null,null,null,null,null,null,null,null,null,null,null,null,null,null,null,null,null,null,null,null,null,null,null,null,null,null,null,null,null,null,null,null,null,"Hull City","(A)","L 0-3",8,15]
[null,null,null,null,null,null,"1985-10-12",null,null,null,6050,"w",null,null,null,null,null,null,null,null,null,null,null,null,null,null,null,null,null,null,null,null,null,null,null,null,null,null,null,null,null,null,null,null,null,null,null,null,null,null,null,null,null,null,null,null,null,null,null,null,null,null,null,null,null,null,null,null,null,null,null,null,null,null,null,null,null,null,null,null,null,null,null,null,null,null,null,null,null,null,null,null,null,null,null,null,null,null,null,null,null,null,null,null,null,null,null,null,null,null,null,null,null,null,null,null,null,null,null,null,null,null,null,null,null,null,null,null,null,null,null,null,null,null,null,null,null,null,null,null,null,null,"C Palace","(A)","L 1-2",8,17]
[null,null,null,null,null,null,"1985-10-22",null,null,null,4870,"m",null,null,null,null,null,null,null,null,null,null,null,null,null,null,null,null,null,null,null,null,null,null,null,null,null,null,null,null,null,null,null,null,null,null,null,null,null,null,null,null,null,null,null,null,null,null,null,null,null,null,null,null,null,null,null,null,null,null,null,null,null,null,null,null,null,null,null,null,null,null,null,null,null,null,null,null,null,null,null,null,null,null,null,null,null,null,null,null,null,null,null,null,null,null,null,null,null,null,null,null,null,null,null,null,null,null,null,null,null,null,null,null,null,null,null,null,null,null,null,null,null,null,null,null,null,null,null,null,null,null,"Oldham","(H)","L 0-1",8,18]
[null,null,null,null,null,null,"1985-10-26",null,null,null,6810,"w",null,null,null,null,null,null,null,null,null,null,null,null,null,null,null,null,null,null,null,null,null,null,null,null,null,null,null,null,null,null,null,null,null,null,null,null,null,null,null,null,null,null,null,null,null,null,null,null,null,null,null,null,null,null,null,null,null,null,null,null,null,null,null,null,null,null,null,null,null,null,null,null,null,null,null,null,null,null,null,null,null,null,null,null,null,null,null,null,null,null,null,null,null,null,null,null,null,null,null,null,null,null,null,null,null,null,null,null,null,null,null,null,null,null,null,null,null,null,null,null,null,null,null,null,null,null,null,null,null,null,"Sheff Utd","(A)","W 3-1",11,16]
[null,null,null,null,null,null,"1985-11-09",null,null,null,9158,"w",null,null,null,null,null,null,null,null,null,null,null,null,null,null,null,null,null,null,null,null,null,null,null,null,null,null,null,null,null,null,null,null,null,null,null,null,null,null,null,null,null,null,null,null,null,null,null,null,null,null,null,null,null,null,null,null,null,null,null,null,null,null,null,null,null,null,null,null,null,null,null,null,null,null,null,null,null,null,null,null,null,null,null,null,null,null,null,null,null,null,null,null,null,null,null,null,null,null,null,null,null,null,null,null,null,null,null,null,null,null,null,null,null,null,null,null,null,null,null,null,null,null,null,null,null,null,null,null,null,null,"Blackburn","(H)","L 0-1",11,18]
[null,null,null,null,null,null,"1985-11-23",null,null,null,3188,"w",null,null,null,null,null,null,null,"Game","Competition","Date","Opponents",null,"Score",1,2,3,4,5,6,7,8,9,10,11,12,14,null,null,null,null,null,null,null,null,null,null,null,null,null,null,null,null,null,null,null,null,null,null,null,null,null,null,null,null,null,null,null,null,null,null,null,null,null,null,null,null,null,null,null,null,null,null,null,null,null,null,null,null,null,null,null,null,null,null,null,null,null,null,null,null,null,null,null,null,null,null,null,null,null,null,null,null,null,null,null,null,null,null,null,null,null,null,null,null,null,null,null,null,null,null,null,null,null,null,null,null,null,null,null,null,"Wimbledon","(A)","D 1-1",12,17]
[null,null,null,null,null,null,"1985-12-14",null,null,null,3645,"w",null,null,null,null,null,null,null,1,"Division 2","1985-08-17","Huddersfield","(A)","L 3-4","Sansome","Hinshelwood","Roffey","Briley","Smith (--)","Nutton","Lowndes","Wilson","Fashanu","Lovell","Kinsella","McLeary (--)",null,null,null,null,null,null,null,null,null,null,null,null,null,null,null,null,null,null,null,null,null,null,null,null,null,null,null,null,null,null,null,null,null,null,null,null,null,null,null,null,null,null,null,null,null,null,null,null,null,null,null,null,null,null,null,null,null,null,null,null,null,null,null,null,null,null,null,null,null,null,null,null,null,null,null,null,null,null,null,null,null,null,null,null,null,null,null,null,null,null,null,null,null,null,null,null,null,null,null,null,null,null,null,null,null,"Carlisle","(H)","W 3-1",15,15]
[null,null,null,null,null,null,"1985-12-28",null,null,null,3783,"w",null,null,null,null,null,null,null,3,"Division 2","1985-08-24","Norwich","(H)","W 4-2","Sansome","Hinshelwood","Roffey","Briley","McLeary","Nutton","Lowndes","Wilson","Fashanu","Lovell","Kinsella","Chatterton",null,null,null,null,null,null,null,null,null,null,null,null,null,null,null,null,null,null,null,null,null,null,null,null,null,null,null,null,null,null,null,null,null,null,null,null,null,null,null,null,null,null,null,null,null,null,null,null,null,null,null,null,null,null,null,null,null,null,null,null,null,null,null,null,null,null,null,null,null,null,null,null,null,null,null,null,null,null,null,null,null,null,null,null,null,null,null,null,null,null,null,null,null,null,null,null,null,null,null,null,null,null,null,null,null,"Portsmouth","(H)","L 0-4",15,16]
[null,null,null,null,null,null,"1986-01-11",null,null,null,4611,"w",null,null,null,null,null,null,null,4,"Division 2","1985-08-27","Shrewsbury","(A)","D 1-1","Sansome","Hinshelwood","Roffey","Briley","McLeary","Nutton","Lowndes","Wilson","Fashanu","Lovell","Kinsella","Chatterton",null,null,null,null,null,null,null,null,null,null,null,null,null,null,null,null,null,null,null,null,null,null,null,null,null,null,null,null,null,null,null,null,null,null,null,null,null,null,null,null,null,null,null,null,null,null,null,null,null,null,null,null,null,null,null,null,null,null,null,null,null,null,null,null,null,null,null,null,null,null,null,null,null,null,null,null,null,null,null,null,null,null,null,null,null,null,null,null,null,null,null,null,null,null,null,null,null,null,null,null,null,null,null,null,null,"Grimsby","(A)","L 1-5",15,19]
[null,null,null,null,null,null,"1986-02-01",null,null,null,4487,"w",null,null,null,null,null,null,null,5,"Division 2","1985-08-31","Sunderland","(H)","W 1-0","Sansome","Hinshelwood","Roffey","Briley","McLeary","Nutton","Lowndes","Wilson","Fashanu","Lovell","Kinsella","Leslie",null,null,null,null,null,null,null,null,null,null,null,null,null,null,null,null,null,null,null,null,null,null,null,null,null,null,null,null,null,null,null,null,null,null,null,null,null,null,null,null,null,null,null,null,null,null,null,null,null,null,null,null,null,null,null,null,null,null,null,null,null,null,null,null,null,null,null,null,null,null,null,null,null,null,null,null,null,null,null,null,null,null,null,null,null,null,null,null,null,null,null,null,null,null,null,null,null,null,null,null,null,null,null,null,null,"Leeds","(H)","W 3-1",18,17]
[null,null,null,null,null,null,"1986-03-08",null,null,null,4270,"w",null,null,null,null,null,null,null,7,"Division 2","1985-09-07","Stoke","(A)","D 0-0","Sansome","Hinshelwood","Roffey","Briley","McLeary","Nutton","Lowndes","Wilson","Fashanu","Lovell","Kinsella","Chatterton",null,null,null,null,null,null,null,null,null,null,null,null,null,null,null,null,null,null,null,null,null,null,null,null,null,null,null,null,null,null,null,null,null,null,null,null,null,null,null,null,null,null,null,null,null,null,null,null,null,null,null,null,null,null,null,null,null,null,null,null,null,null,null,null,null,null,null,null,null,null,null,null,null,null,null,null,null,null,null,null,null,null,null,null,null,null,null,null,null,null,null,null,null,null,null,null,null,null,null,null,null,null,null,null,null,"Middlesbrough","(H)","W 3-0",21,15]
[null,null,null,null,null,null,"1986-03-11",null,null,null,4643,"m",null,null,null,null,null,null,null,8,"Division 2","1985-09-14","Brighton","(H)","L 0-1","Sansome","Hinshelwood","Roffey","Briley","McLeary","Nutton","Lowndes","Wilson","Fashanu","Lovell","Kinsella (--)","Leslie (--)",null,null,null,null,null,null,null,null,null,null,null,null,null,null,null,null,null,null,null,null,null,null,null,null,null,null,null,null,null,null,null,null,null,null,null,null,null,null,null,null,null,null,null,null,null,null,null,null,null,null,null,null,null,null,null,null,null,null,null,null,null,null,null,null,null,null,null,null,null,null,null,null,null,null,null,null,null,null,null,null,null,null,null,null,null,null,null,null,null,null,null,null,null,null,null,null,null,null,null,null,null,null,null,null,null,"Barnsley","(A)","L 1-2",21,16]
[null,null,null,null,null,null,"1986-03-18",null,null,null,5645,"w",null,null,null,null,null,null,null,9,"Division 2","1985-09-17","Hull City","(A)","L 0-3","Sansome","Hinshelwood","Roffey","Briley","McLeary","Nutton","Lowndes","Wilson","Fashanu","Lovell","Kinsella (--)","Chatterton (--)",null,null,null,null,null,null,null,null,null,null,null,null,null,null,null,null,null,null,null,null,null,null,null,null,null,null,null,null,null,null,null,null,null,null,null,null,null,null,null,null,null,null,null,null,null,null,null,null,null,null,null,null,null,null,null,null,null,null,null,null,null,null,null,null,null,null,null,null,null,null,null,null,null,null,null,null,null,null,null,null,null,null,null,null,null,null,null,null,null,null,null,null,null,null,null,null,null,null,null,null,null,null,null,null,null,"Carlisle","(A)","L 0-1",21,17]
[null,null,null,null,null,null,"1986-03-29",null,null,null,7846,"w",null,null,null,null,null,null,null,10,"Division 2","1985-09-21","C Palace","(A)","L 1-2","Sansome","Stevens","Hinshelwood","Briley","McLeary","Nutton","Lowndes","Wilson","Fashanu","Lovell","Leslie","Chatterton (--)",null,null,null,null,null,null,null,null,null,null,null,null,null,null,null,null,null,null,null,null,null,null,null,null,null,null,null,null,null,null,null,null,null,null,null,null,null,null,null,null,null,null,null,null,null,null,null,null,null,null,null,null,null,null,null,null,null,null,null,null,null,null,null,null,null,null,null,null,null,null,null,null,null,null,null,null,null,null,null,null,null,null,null,null,null,null,null,null,null,null,null,null,null,null,null,null,null,null,null,null,null,null,null,null,null,"Huddersfield","(H)","W 2-1",24,16]
[null,null,null,null,null,null,"1986-04-05",null,null,null,3612,"w",null,null,null,null,null,null,null,12,"Division 2","1985-09-28","Oldham","(H)","L 0-1","Sansome","Stevens","Hinshelwood","Briley","Smith","Nutton","Lowndes","Wilson","Fashanu","Lovell (--)","Leslie","Kinsella (--)",null,null,null,null,null,null,null,null,null,null,null,null,null,null,null,null,null,null,null,null,null,null,null,null,null,null,null,null,null,null,null,null,null,null,null,null,null,null,null,null,null,null,null,null,null,null,null,null,null,null,null,null,null,null,null,null,null,null,null,null,null,null,null,null,null,null,null,null,null,null,null,null,null,null,null,null,null,null,null,null,null,null,null,null,null,null,null,null,null,null,null,null,null,null,null,null,null,null,null,null,null,null,null,null,null,"Norwich","(A)","L 1-6",24,19]
[null,null,null,null,null,null,"1986-04-19",null,null,null,3763,"w",null,null,null,null,null,null,null,14,"Division 2","1985-10-05","Sheff Utd","(A)","W 3-1","Sansome","Stevens","Roffey","Briley","Smith","Nutton","Lowndes","Chatterton","Fashanu","Lovell","Kinsella","McLeary",null,null,null,null,null,null,null,null,null,null,null,null,null,null,null,null,null,null,null,null,null,null,null,null,null,null,null,null,null,null,null,null,null,null,null,null,null,null,null,null,null,null,null,null,null,null,null,null,null,null,null,null,null,null,null,null,null,null,null,null,null,null,null,null,null,null,null,null,null,null,null,null,null,null,null,null,null,null,null,null,null,null,null,null,null,null,null,null,null,null,null,null,null,null,null,null,null,null,null,null,null,null,null,null,null,"Hull City","(H)","W 5-0",27,17]
[null,null,null,null,null,null,"1986-04-22",null,null,null,5618,"m",null,null,null,null,null,null,null,16,"Division 2","1985-10-12","Blackburn","(H)","L 0-1","Sansome","Stevens","Roffey","Briley","McLeary","Nutton","Lowndes (--)","Chatterton","Fashanu","Lovell","Kinsella","Hinshelwood (--)",null,null,null,null,null,null,null,null,null,null,null,null,null,null,null,null,null,null,null,null,null,null,null,null,null,null,null,null,null,null,null,null,null,null,null,null,null,null,null,null,null,null,null,null,null,null,null,null,null,null,null,null,null,null,null,null,null,null,null,null,null,null,null,null,null,null,null,null,null,null,null,null,null,null,null,null,null,null,null,null,null,null,null,null,null,null,null,null,null,null,null,null,null,null,null,null,null,null,null,null,null,null,null,null,null,"Stoke","(H)","L 2-3",27,19]
[null,null,null,null,null,null,"1986-05-03",null,null,null,4230,"w",null,null,null,null,null,null,null,18,"Division 2","1985-10-19","Wimbledon","(A)","D 1-1","Sansome","Stevens","Hinshelwood","Briley","Walker","Nutton","Lowndes","Chatterton (--)","Fashanu","Lovell","Kinsella","Leslie (--)",null,null,null,null,null,null,null,null,null,null,null,null,null,null,null,null,null,null,null,null,null,null,null,null,null,null,null,null,null,null,null,null,null,null,null,null,null,null,null,null,null,null,null,null,null,null,null,null,null,null,null,null,null,null,null,null,null,null,null,null,null,null,null,null,null,null,null,null,null,null,null,null,null,null,null,null,null,null,null,null,null,null,null,null,null,null,null,null,null,null,null,null,null,null,null,null,null,null,null,null,null,null,null,null,null,"Sunderland","(A)","W 2-1",30,19]
[null,null,null,null,null,null,null,null,null,null,null,null,null,null,null,null,null,null,null,19,"Division 2","1985-10-22","Carlisle","(H)","W 3-1","Sansome","Stevens","Hinshelwood","Briley","Walker","Nutton","Lowndes","Chatterton","Leslie","Lovell","Kinsella","McLeary",null,null,null,null,null,null,null,null,null,null,null,null,null,null,null,null,null,null,null,null,null,null,null,null,null,null,null,null,null,null,null,null,null,null,null,null,null,null,null,null,null,null,null,null,null,null,null,null,null,null,null,null,null,null,null,null,null,null,null,null,null,null,null,null,null,null,null,null,null,null,null,null,null,null,null,null,null,null,null,null,null,null,null,null,null,null,null,null,null,null,null,null,null,null,null,null,null,null,null,null,null,null,null,null,null,"Shrewsbury","(H)","W 2-0",33,15]
[null,null,null,null,null,null,null,null,null,null,null,null,null,null,null,null,null,null,null,20,"Division 2","1985-10-26","Portsmouth","(H)","L 0-4","Sansome","Stevens","Hinshelwood","Briley","Walker","Nutton","Lowndes","Chatterton","Leslie","Lovell","Kinsella","McLeary",null,null,null,null,null,null,null,null,null,null,null,null,null,null,null,null,null,null,null,null,null,null,null,null,null,null,null,null,null,null,null,null,null,null,null,null,null,null,null,null,null,null,null,null,null,null,null,null,null,null,null,null,null,null,null,null,null,null,null,null,null,null,null,null,null,null,null,null,null,null,null,null,null,null,null,null,null,null,null,null,null,null,null,null,null,null,null,null,null,null,null,null,null,null,null,null,null,null,null,null,null,null,null,null,null,"Oldham","(A)","D 0-0",34,17]
[null,null,null,null,null,null,null,null,null,null,null,null,null,null,null,null,null,null,null,21,"Division 2","1985-11-02","Grimsby","(A)","L 1-5","Sansome","Stevens","Hinshelwood","Briley","Walker","Nutton","Leslie","Chatterton","Fashanu","Lovell","Kinsella (--)","McLeary (--)",null,null,null,null,null,null,null,null,null,null,null,null,null,null,null,null,null,null,null,null,null,null,null,null,null,null,null,null,null,null,null,null,null,null,null,null,null,null,null,null,null,null,null,null,null,null,null,null,null,null,null,null,null,null,null,null,null,null,null,null,null,null,null,null,null,null,null,null,null,null,null,null,null,null,null,null,null,null,null,null,null,null,null,null,null,null,null,null,null,null,null,null,null,null,null,null,null,null,null,null,null,null,null,null,null,"Sheff Utd","(H)","W 3-0",37,17]
[null,null,null,null,null,null,null,null,"Agg",null,{"$f":"SUBTOTAL(9,K65:K87)","v":114952},null,null,null,null,null,null,null,null,22,"Division 2","1985-11-09","Leeds","(H)","W 3-1","Granville","Stevens","Hinshelwood","Briley","Smith","Nutton","Lowndes","Leslie","Fashanu","Lovell","McLeary","Sheringham",null,null,null,null,null,null,null,null,null,null,null,null,null,null,null,null,null,null,null,null,null,null,null,null,null,null,null,null,null,null,null,null,null,null,null,null,null,null,null,null,null,null,null,null,null,null,null,null,null,null,null,null,null,null,null,null,null,null,null,null,null,null,null,null,null,null,null,null,null,null,null,null,null,null,null,null,null,null,null,null,null,null,null,null,null,null,null,null,null,null,null,null,null,null,null,null,null,null,null,null,null,null,null,null,null,"Wimbledon","(H)","L 0-1",37,17]
[null,null,null,null,null,null,null,null,"Max",null,{"$f":"MAX(K64:K87)","v":9158},null,null,null,null,null,null,null,null,23,"Division 2","1985-11-23","Middlesbrough","(H)","W 3-0","Granville","Stevens","Hinshelwood","Briley","Walker","Nutton (--)","Lowndes","Chatterton","Leslie","Lovell","McLeary","Sheringham (--)",null,null,null,null,null,null,null,null,null,null,null,null,null,null,null,null,null,null,null,null,null,null,null,null,null,null,null,null,null,null,null,null,null,null,null,null,null,null,null,null,null,null,null,null,null,null,null,null,null,null,null,null,null,null,null,null,null,null,null,null,null,null,null,null,null,null,null,null,null,null,null,null,null,null,null,null,null,null,null,null,null,null,null,null,null,null,null,null,null,null,null,null,null,null,null,null,null,null,null,null,null,null,null,null,null,"Blackburn","(A)","W 2-1",40,13]
[null,null,null,null,null,null,null,null,"Min",null,{"$f":"MIN(K64:K87)","v":3188},null,null,null,null,null,null,null,null,24,"Division 2","1985-11-30","Barnsley","(A)","L 1-2","Granville","Stevens","Hinshelwood","Briley","Walker","Smith (--)","Lowndes","Chatterton","Leslie","Lovell","McLeary","Roffey (--)",null,null,null,null,null,null,null,null,null,null,null,null,null,null,null,null,null,null,null,null,null,null,null,null,null,null,null,null,null,null,null,null,null,null,null,null,null,null,null,null,null,null,null,null,null,null,null,null,null,null,null,null,null,null,null,null,null,null,null,null,null,null,null,null,null,null,null,null,null,null,null,null,null,null,null,null,null,null,null,null,null,null,null,null,null,null,null,null,null,null,null,null,null,null,null,null,null,null,null,null,null,null,null,null,null,"Fulham","(H)","D 1-1",41,13]
[null,null,null,null,null,null,null,null,null,null,null,null,null,null,null,null,null,null,null,25,"Division 2","1985-12-07","Carlisle","(A)","L 0-1","Granville","Stevens","Hinshelwood","Briley","Smith (--)","Nutton","Lowndes","Chatterton","Leslie","Lovell","McLeary","Sheringham (--)",null,null,null,null,null,null,null,null,null,null,null,null,null,null,null,null,null,null,null,null,null,null,null,null,null,null,null,null,null,null,null,null,null,null,null,null,null,null,null,null,null,null,null,null,null,null,null,null,null,null,null,null,null,null,null,null,null,null,null,null,null,null,null,null,null,null,null,null,null,null,null,null,null,null,null,null,null,null,null,null,null,null,null,null,null,null,null,null,null,null,null,null,null,null,null,null,null,null,null,null,null,null,null,null,null,"Brighton","(A)","L 0-1",41,14]
[null,null,null,null,null,null,null,null,"Av",null,{"$f":"AVERAGE(K64:K86)","v":5473.9047619047615},null,null,null,null,null,null,null,null,26,"Division 2","1985-12-14","Huddersfield","(H)","W 2-1","Granville","Stevens","Hinshelwood","Briley","Walker","Nutton","McLeary","Chatterton (--)","Sheringham","Lovell","Otulakowski","Leslie (--)",null,null,null,null,null,null,null,null,null,null,null,null,null,null,null,null,null,null,null,null,null,null,null,null,null,null,null,null,null,null,null,null,null,null,null,null,null,null,null,null,null,null,null,null,null,null,null,null,null,null,null,null,null,null,null,null,null,null,null,null,null,null,null,null,null,null,null,null,null,null,null,null,null,null,null,null,null,null,null,null,null,null,null,null,null,null,null,null,null,null,null,null,null,null,null,null,null,null,null,null,null,null,null,null,null,"Portsmouth","(A)","L 1-2",41,14]
[null,null,null,null,null,null,null,null,null,null,null,null,null,null,null,null,null,null,null,27,"Division 2","1985-12-21","Norwich","(A)","L 1-6","Granville","Stevens","Hinshelwood","Briley","Walker","Lowndes","McLeary","Chatterton (--)","Sheringham","Lovell","Otulakowski","Leslie (--)",null,null,null,null,null,null,null,null,null,null,null,null,null,null,null,null,null,null,null,null,null,null,null,null,null,null,null,null,null,null,null,null,null,null,null,null,null,null,null,null,null,null,null,null,null,null,null,null,null,null,null,null,null,null,null,null,null,null,null,null,null,null,null,null,null,null,null,null,null,null,null,null,null,null,null,null,null,null,null,null,null,null,null,null,null,null,null,null,null,null,null,null,null,null,null,null,null,null,null,null,null,null,null,null,null,"Charlton","(H)","D 2-2",42,14]
[null,null,null,null,null,null,null,null,"Weekend",null,{"$f":"SUMIF(L64:L87,\"w\",K64:K87)","v":99821},{"$f":"COUNTIF(L64:L89,\"w\")","v":18},null,null,null,null,null,null,null,28,"Division 2","1985-12-28","Hull City","(H)","W 5-0","Sansome","Stevens","Hinshelwood","Briley","Walker","Nutton","Lowndes","Wilson","Fashanu","Lovell","Otulakowski","Roffey",null,null,null,null,null,null,null,null,null,null,null,null,null,null,null,null,null,null,null,null,null,null,null,null,null,null,null,null,null,null,null,null,null,null,null,null,null,null,null,null,null,null,null,null,null,null,null,null,null,null,null,null,null,null,null,null,null,null,null,null,null,null,null,null,null,null,null,null,null,null,null,null,null,null,null,null,null,null,null,null,null,null,null,null,null,null,null,null,null,null,null,null,null,null,null,null,null,null,null,null,null,null,null,null,null,"Fulham","(A)","W 2-1",45,13]
[null,null,null,null,null,null,null,null,"Midweek",null,{"$f":"SUMIF(L64:L87,\"m\",K64:K87)","v":15131},{"$f":"COUNTIF(L64:L89,\"m\")","v":3},null,null,null,null,null,null,null,30,"Division 2","1986-01-11","Stoke","(H)","L 2-3","Sansome","Roffey","Hinshelwood","Briley","Walker","Nutton","Lowndes","Wilson","Fashanu","Lovell","Otulakowski","McLeary",null,null,null,null,null,null,null,null,null,null,null,null,null,null,null,null,null,null,null,null,null,null,null,null,null,null,null,null,null,null,null,null,null,null,null,null,null,null,null,null,null,null,null,null,null,null,null,null,null,null,null,null,null,null,null,null,null,null,null,null,null,null,null,null,null,null,null,null,null,null,null,null,null,null,null,null,null,null,null,null,null,null,null,null,null,null,null,null,null,null,null,null,null,null,null,null,null,null,null,null,null,null,null,null,null,"Grimsby","(H)","W 1-0",48,11]
[null,null,null,null,null,null,null,null,null,null,null,null,null,null,null,null,null,null,null,31,"Division 2","1986-01-18","Sunderland","(A)","W 2-1","Sansome","Roffey (--)","Hinshelwood","Briley","Walker","Nutton","Lowndes","Wilson","Fashanu","Lovell","Otulakowski","McLeary (--)",null,null,null,null,null,null,null,null,null,null,null,null,null,null,null,null,null,null,null,null,null,null,null,null,null,null,null,null,null,null,null,null,null,null,null,null,null,null,null,null,null,null,null,null,null,null,null,null,null,null,null,null,null,null,null,null,null,null,null,null,null,null,null,null,null,null,null,null,null,null,null,null,null,null,null,null,null,null,null,null,null,null,null,null,null,null,null,null,null,null,null,null,null,null,null,null,null,null,null,null,null,null,null,null,null,"Leeds","(A)","L 1-3",48,14]
[null,null,null,null,null,null,null,null,"Weekend",null,{"$f":"K96/L96","v":5545.6111111111113},null,null,null,null,null,null,null,null,34,"Division 2","1986-02-01","Shrewsbury","(H)","W 2-0","Sansome","Stevens","Hinshelwood","Briley","Walker","McLeary","Lowndes","Wilson","Fashanu (--)","Lovell","Otulakowski","Leslie (--)",null,null,null,null,null,null,null,null,null,null,null,null,null,null,null,null,null,null,null,null,null,null,null,null,null,null,null,null,null,null,null,null,null,null,null,null,null,null,null,null,null,null,null,null,null,null,null,null,null,null,null,null,null,null,null,null,null,null,null,null,null,null,null,null,null,null,null,null,null,null,null,null,null,null,null,null,null,null,null,null,null,null,null,null,null,null,null,null,null,null,null,null,null,null,null,null,null,null,null,null,null,null,null,null,null,"Charlton","(A)","D 3-3",49,14]
[null,null,null,null,null,null,null,null,"Midweek",null,{"$f":"K97/L97","v":5043.666666666667},null,null,null,null,null,null,null,null,36,"Division 2","1986-03-01","Oldham","(A)","D 0-0","Sansome","Stevens","Hinshelwood","Chatterton","Walker","McLeary","Lowndes","Wilson","Fashanu","Lovell","Otulakowski","Leslie",null,null,null,null,null,null,null,null,null,null,null,null,null,null,null,null,null,null,null,null,null,null,null,null,null,null,null,null,null,null,null,null,null,null,null,null,null,null,null,null,null,null,null,null,null,null,null,null,null,null,null,null,null,null,null,null,null,null,null,null,null,null,null,null,null,null,null,null,null,null,null,null,null,null,null,null,null,null,null,null,null,null,null,null,null,null,null,null,null,null,null,null,null,null,null,null,null,null,null,null,null,null,null,null,null,"Bradford","(H)","W 2-1",52,10]
[null,null,null,null,null,null,null,null,null,null,null,null,null,null,null,null,null,null,null,38,"Division 2","1986-03-08","Sheff Utd","(H)","W 3-0","Sansome","Stevens","Hinshelwood","Briley","Walker","McLeary","Lowndes","Wilson","Fashanu","Lovell","Otulakowski (--)","Sheringham (--)",null,null,null,null,null,null,null,null,null,null,null,null,null,null,null,null,null,null,null,null,null,null,null,null,null,null,null,null,null,null,null,null,null,null,null,null,null,null,null,null,null,null,null,null,null,null,null,null,null,null,null,null,null,null,null,null,null,null,null,null,null,null,null,null,null,null,null,null,null,null,null,null,null,null,null,null,null,null,null,null,null,null,null,null,null,null,null,null,null,null,null,null,null,null,null,null,null,null,null,null,null,null,null,null,null,"C Palace","(H)","W 3-2",55,8]
[null,null,null,null,null,null,null,null,null,null,null,null,null,null,null,null,null,null,null,39,"Division 2","1986-03-11","Wimbledon","(H)","L 0-1","Sansome","Stevens","Hinshelwood","Briley","Walker","McLeary","Lowndes","Wilson","Fashanu","Lovell","Otulakowski","Sheringham",null,null,null,null,null,null,null,null,null,null,null,null,null,null,null,null,null,null,null,null,null,null,null,null,null,null,null,null,null,null,null,null,null,null,null,null,null,null,null,null,null,null,null,null,null,null,null,null,null,null,null,null,null,null,null,null,null,null,null,null,null,null,null,null,null,null,null,null,null,null,null,null,null,null,null,null,null,null,null,null,null,null,null,null,null,null,null,null,null,null,null,null,null,null,null,null,null,null,null,null,null,null,null,null,null,"Middlesbrough","(A)","L 0-3",55,10]
[null,null,null,null,null,null,null,null,null,null,null,null,null,null,null,null,null,null,null,40,"Division 2","1986-03-15","Blackburn","(A)","W 2-1","Sansome","Stevens","Hinshelwood","Briley (--)","Walker","McLeary","Lowndes","Wilson","Fashanu","Lovell","Otulakowski","Sheringham (--)",null,null,null,null,null,null,null,null,null,null,null,null,null,null,null,null,null,null,null,null,null,null,null,null,null,null,null,null,null,null,null,null,null,null,null,null,null,null,null,null,null,null,null,null,null,null,null,null,null,null,null,null,null,null,null,null,null,null,null,null,null,null,null,null,null,null,null,null,null,null,null,null,null,null,null,null,null,null,null,null,null,null,null,null,null,null,null,null,null,null,null,null,null,null,null,null,null,null,null,null,null,null,null,null,null,"Bradford","(A)","W 2-0",58,8]
[null,null,null,null,null,null,null,null,null,null,null,null,null,null,null,null,null,null,null,41,"Division 2","1986-03-18","Fulham","(H)","D 1-1","Sansome","Stevens","Hinshelwood (--)","Briley","Walker","McLeary","Lowndes","Wilson","Fashanu","Lovell","Otulakowski","Sheringham (--)",null,null,null,null,null,null,null,null,null,null,null,null,null,null,null,null,null,null,null,null,null,null,null,null,null,null,null,null,null,null,null,null,null,null,null,null,null,null,null,null,null,null,null,null,null,null,null,null,null,null,null,null,null,null,null,null,null,null,null,null,null,null,null,null,null,null,null,null,null,null,null,null,null,null,null,null,null,null,null,null,null,null,null,null,null,null,null,null,null,null,null,null,null,null,null,null,null,null,null,null,null,null,null,null,null,"Barnsley","(H)","D 2-2",59,8]
[null,null,null,null,null,null,null,null,null,null,null,null,null,null,null,null,null,null,null,42,"Division 2","1986-03-22","Brighton","(A)","L 0-1","Sansome","Stevens","Hinshelwood","Briley","Walker","McLeary","Lowndes (--)","Chatterton","Fashanu","Lovell","Otulakowski","Sheringham (--)"]
[null,null,null,null,null,null,null,null,null,null,null,null,null,null,null,null,null,null,null,43,"Division 2","1986-03-25","Portsmouth","(A)","L 1-2","Sansome","Stevens","Hinshelwood","Briley","Walker","McLeary","Chatterton (--)","Smith","Fashanu","Lovell","Otulakowski","Sheringham (--)"]
[null,null,null,null,null,null,null,null,null,null,null,null,null,null,null,null,null,null,null,44,"Division 2","1986-03-29","Charlton","(H)","D 2-2","Sansome","Stevens","Hinshelwood","Briley","Walker","McLeary","Lowndes","Wilson","Smith","Lovell","Otulakowski","Sheringham"]
[null,null,null,null,null,null,null,null,null,null,null,null,null,null,null,null,null,null,null,45,"Division 2","1986-03-31","Fulham","(A)","W 2-1","Sansome","Stevens","Hinshelwood","Briley","Walker","McLeary","Lowndes","Wilson","Smith (--)","Lovell","Otulakowski","Sheringham (--)"]
[null,null,null,null,null,null,null,null,null,null,null,null,null,null,null,null,null,null,null,46,"Division 2","1986-04-05","Grimsby","(H)","W 1-0","Sansome","Stevens","Hinshelwood","Briley","Walker","McLeary","Lowndes","Wilson","Chatterton (--)","Lovell","Otulakowski","Sheringham (--)"]
[null,null,null,null,null,null,null,null,null,null,null,null,null,null,null,null,null,null,null,47,"Division 2","1986-04-12","Leeds","(A)","L 1-3","Sansome","Stevens","Coleman","Briley","Walker","McLeary","Lowndes","Wilson","Sheringham","Lovell","Otulakowski","Leslie"]
[null,null,null,null,null,null,null,null,null,null,null,null,null,null,null,null,null,null,null,48,"Division 2","1986-04-15","Charlton","(A)","D 3-3","Sansome","Stevens","Hinshelwood","Briley","Walker","McLeary","Lowndes","Wilson","Sheringham","Lovell","Otulakowski (--)","Leslie (--)"]
[null,null,null,null,null,null,null,null,null,null,null,null,null,null,null,null,null,null,null,49,"Division 2","1986-04-19","Bradford","(H)","W 2-1","Sansome","Stevens","Coleman","Briley","Smith","McLeary","Lowndes","Wilson","Sheringham","Lovell","Otulakowski","Leslie"]
[null,null,null,null,null,null,null,null,null,null,null,null,null,null,null,null,null,null,null,50,"Division 2","1986-04-22","C Palace","(H)","W 3-2","Sansome","Stevens","Coleman","Briley","Smith","McLeary","Lowndes","Wilson","Sheringham","Lovell","Otulakowski","Leslie"]
[null,null,null,null,null,null,null,null,null,null,null,null,null,null,null,null,null,null,null,51,"Division 2","1986-04-26","Middlesbrough","(A)","L 0-3","Sansome","Stevens","Coleman","Briley","Smith","McLeary","Lowndes","Wilson","Sheringham","Lovell","Otulakowski","Walker"]
[null,null,null,null,null,null,null,null,null,null,null,null,null,null,null,null,null,null,null,52,"Division 2","1986-04-30","Bradford","(A)","W 2-0","Sansome","Stevens","Coleman","Walker","Smith","McLeary","Lowndes","Wilson","Sheringham","Lovell","Otulakowski","Chatterton"]
[null,null,null,null,null,null,null,null,null,null,null,null,null,null,null,null,null,null,null,53,"Division 2","1986-05-03","Barnsley","(H)","D 2-2","Sansome","Stevens","Coleman","McLeary","Smith (--)","Walker","Lowndes","Wilson","Sheringham","Lovell","Otulakowski","Hinshelwood (--)"]
[]
[]
[]
[]
[]
[]
[]
[]
[]
[null,null,null,null,null,null,null,null,null,null,null,null,null,null,null,null,null,null,null,29,"FA Cup","1986-01-04","Wimbledon","(H)","W 3-1","Sansome","Stevens","Hinshelwood","Briley","Walker","Nutton","Lowndes","Wilson","Fashanu","Lovell","Otulakowski (--)","Chatterton (--)"]
[null,null,null,null,null,null,null,null,null,null,null,null,null,null,null,null,null,null,null,32,"FA Cup","1986-01-25","Aston Villa","(A)","D 1-1","Sansome","Stevens","Hinshelwood","McLeary","Walker","Nutton","Lowndes","Wilson","Fashanu","Lovell","Otulakowski","Leslie"]
[null,null,null,null,null,null,null,null,null,null,null,null,null,null,null,null,null,null,null,33,"FA Cup","1986-01-29","Aston Villa","(H)","W 1-0","Sansome","Stevens","Hinshelwood","McLeary","Walker","Nutton","Lowndes","Wilson","Fashanu","Lovell","Otulakowski","Leslie"]
[null,null,null,null,null,null,null,null,null,null,null,null,null,null,null,null,null,null,null,35,"FA Cup","1986-02-15","Southampton","(A)","D 0-0","Sansome","Stevens","Hinshelwood","Briley","Walker","McLeary","Lowndes","Wilson","Fashanu","Lovell","Otulakowski","Leslie"]
[null,null,null,null,null,null,null,null,null,null,null,null,null,null,null,null,null,null,null,37,"FA Cup","1986-03-05","Southampton","(H)","L 0-1","Sansome","Stevens","Hinshelwood","Chatterton","Walker","McLeary","Lowndes","Wilson","Fashanu","Lovell","Otulakowski","Leslie"]
[]
[]
[]
[]
[]
[null,null,null,null,null,null,null,null,null,null,null,null,null,null,null,null,null,null,null,2,"League Cup","1985-08-21","Colchester","(A)","W 3-2","Sansome","Hinshelwood","Roffey","Briley","McLeary","Nutton","Lowndes","Wilson","Fashanu","Lovell","Kinsella","Chatterton"]
[null,null,null,null,null,null,null,null,null,null,null,null,null,null,null,null,null,null,null,6,"League Cup","1985-09-03","Colchester","(H)","W 4-1","Sansome","Hinshelwood","Roffey","Briley","McLeary","Nutton","Lowndes","Wilson","Fashanu","Lovell (--)","Kinsella","Leslie (--)"]
[null,null,null,null,null,null,null,null,null,null,null,null,null,null,null,null,null,null,null,11,"League Cup","1985-09-25","Southampton","(H)","D 0-0","Sansome","Stevens","Hinshelwood","Briley","Smith","Nutton","Lowndes","Wilson","Fashanu","Lovell","Leslie (--)","Kinsella (--)"]
[null,null,null,null,null,null,null,null,null,null,null,null,null,null,null,null,null,null,null,15,"League Cup","1985-10-08","Southampton","(A)","D 0-0","Sansome","Stevens","Roffey","Briley","McLeary","Nutton","Lowndes","Chatterton","Fashanu","Lovell (--)","Kinsella","Leslie (--)"]
[]
[]
[]
[]
[]
[]
[null,null,null,null,null,null,null,null,null,null,null,null,null,null,null,null,null,null,null,13,"Full Members","1985-10-02","Stoke","(H)","D 2-2","Sansome","Stevens","Roffey","Briley","Smith","Nutton","Lowndes","Chatterton","Fashanu","Lovell","Kinsella","Leslie",null,"McLeary"]
[null,null,null,null,null,null,null,null,null,null,null,null,null,null,null,null,null,null,null,17,"Full Members","1985-10-15","Coventry","(A)","D 1-1","Sansome","Stevens","Hinshelwood","Briley","Walker","Nutton","Lowndes (--)","Chatterton","Fashanu","Leslie","Kinsella","McLeary (--)",null,"Malcolm"]
[]
[]
[]
[]
[]
[]
[]
[]
[]
[]
[]
[]
[]
[]
[]
[]
[]
[]
[]
[]
[]
[null,null,null,null,null,null,null,null,null,null,null,null,null,null,null,null,null,null,null,null,null,{"$f":"Z169&\" (**\"","v":"Briley (**"},{"$f":"Z169&Y169","v":"Briley**"},null,"**","Briley",{"$f":"COUNTIF($Z$75:$AJ$116,$W169)","v":39},{"$f":"COUNTIF($AK$75:$AK$116,$V169)","v":0},{"$f":"COUNTIF($AK$75:$AK$116,$Z169)","v":0},{"$f":"COUNTIF($Z$126:$AJ$130,$W169)","v":2},{"$f":"COUNTIF($AK$126:$AK$130,$V169)","v":0},{"$f":"COUNTIF($AK$126:$AK$130,$Z169)","v":0},{"$f":"COUNTIF($Z$136:$AJ$139,$W169)","v":4},{"$f":"COUNTIF($AK$136:$AK$139,$V169)","v":0},{"$f":"COUNTIF($AK$136:$AK$139,$Z169)","v":0},{"$f":"COUNTIF($Z$146:$AJ$147,$W169)","v":2},{"$f":"COUNTIF($AK$146:$AM$147,$V169)","v":0},{"$f":"COUNTIF($AK$146:$AM$148,$Z169)","v":0}]
[null,null,null,null,null,null,null,null,null,null,null,null,null,null,null,null,null,null,null,null,null,{"$f":"Z170&\" (**\"","v":"Chatterton (**"},{"$f":"Z170&Y170","v":"Chatterton**"},null,"**","Chatterton",15,{"$f":"COUNTIF($AK$75:$AK$116,$V170)","v":2},{"$f":"COUNTIF($AK$75:$AK$116,$Z170)","v":4},1,{"$f":"COUNTIF($AK$126:$AK$130,$V170)","v":1},{"$f":"COUNTIF($AK$126:$AK$130,$Z170)","v":0},1,{"$f":"COUNTIF($AK$136:$AK$139,$V170)","v":0},{"$f":"COUNTIF($AK$136:$AK$139,$Z170)","v":1},2,{"$f":"COUNTIF($AK$146:$AM$147,$V170)","v":0},{"$f":"COUNTIF($AK$146:$AM$148,$Z170)","v":0}]
[null,null,null,null,null,null,null,null,null,null,null,null,null,null,null,null,null,null,null,null,null,"Coleman (**","Coleman**",null,"**","Coleman",6,0,0,0,0,0,0,0,0,0,0,0]
[null,null,null,null,null,null,null,null,null,null,null,null,null,null,null,null,null,null,null,null,null,"Fashanu (**","Fashanu**",null,"**","Fashanu",25,0,0,5,0,0,4,0,0,2,0,0]
[null,null,null,null,null,null,null,null,null,null,null,null,null,null,null,null,null,null,null,null,null,"Granville (**","Granville**",null,"**","Granville",6,0,0,0,0,0,0,0,0,0,0,0]
[null,null,null,null,null,null,null,null,null,null,null,null,null,null,null,null,null,null,null,null,null,"Hinshelwood (**","Hinshelwood**",null,"**","Hinshelwood",34,2,0,5,0,0,3,0,0,1,0,0]
[null,null,null,null,null,null,null,null,null,null,null,null,null,null,null,null,null,null,null,null,null,"Kinsella (**","Kinsella**",null,"**","Kinsella",13,1,0,0,0,0,3,1,0,2,0,0]
[null,null,null,null,null,null,null,null,null,null,null,null,null,null,null,null,null,null,null,null,null,"Leslie (**","Leslie**",null,"**","Leslie",9,6,5,0,0,4,1,2,0,1,0,1]
[null,null,null,null,null,null,null,null,null,null,null,null,null,null,null,null,null,null,null,null,null,"Lovell (**","Lovell**",null,"**","Lovell",42,0,0,5,0,0,4,0,0,1,0,0]
[null,null,null,null,null,null,null,null,null,null,null,null,null,null,null,null,null,null,null,null,null,"Lowndes (**","Lowndes**",null,"**","Lowndes",39,0,0,5,0,0,4,0,0,2,0,0]
[null,null,null,null,null,null,null,null,null,null,null,null,null,null,null,null,null,null,null,null,null,"Malcolm (**","Malcolm**",null,"**","Malcolm",0,0,0,0,0,0,0,0,0,0,0,1]
[null,null,null,null,null,null,null,null,null,null,null,null,null,null,null,null,null,null,null,null,null,"McLeary (**","McLeary**",null,"**","McLeary",32,3,4,4,0,0,3,0,0,0,1,1]
[null,null,null,null,null,null,null,null,null,null,null,null,null,null,null,null,null,null,null,null,null,"Nutton (**","Nutton**",null,"**","Nutton",22,0,0,3,0,0,4,0,0,2,0,0]
[null,null,null,null,null,null,null,null,null,null,null,null,null,null,null,null,null,null,null,null,null,"Otulakowski (**","Otulakowski**",null,"**","Otulakowski",23,0,0,5,0,0,0,0,0,0,0,0]
[null,null,null,null,null,null,null,null,null,null,null,null,null,null,null,null,null,null,null,null,null,"Roffey (**","Roffey**",null,"**","Roffey",11,1,1,0,0,0,3,0,0,1,0,0]
[null,null,null,null,null,null,null,null,null,null,null,null,null,null,null,null,null,null,null,null,null,"Sansome (**","Sansome**",null,"**","Sansome",36,0,0,5,0,0,4,0,0,2,0,0]
[null,null,null,null,null,null,null,null,null,null,null,null,null,null,null,null,null,null,null,null,null,"Sheringham (**","Sheringham**",null,"**","Sheringham",9,9,3,0,0,0,0,0,0,0,0,0]
[null,null,null,null,null,null,null,null,null,null,null,null,null,null,null,null,null,null,null,null,null,"Smith (**","Smith**",null,"**","Smith",14,0,0,0,0,0,1,0,0,1,0,0]
[null,null,null,null,null,null,null,null,null,null,null,null,null,null,null,null,null,null,null,null,null,"Stevens (**","Stevens**",null,"**","Stevens",33,0,0,5,0,0,2,0,0,2,0,0]
[null,null,null,null,null,null,null,null,null,null,null,null,null,null,null,null,null,null,null,null,null,"Walker (**","Walker**",null,"**","Walker",26,0,1,5,0,0,0,0,0,1,0,0]
[null,null,null,null,null,null,null,null,null,null,null,null,null,null,null,null,null,null,null,null,null,"Wilson (**","Wilson**",null,"**","Wilson",28,0,0,5,0,0,3,0,0,0,0,0]

{"sheet":"Comparisons","index":1,"n_rows":413,"n_cols":119,"rows_kept":413,"cut":false,"hidden":false,"merged":[]}
[]
[null,null,null,null,null,null,null,null,null,null,{"$f":"IF(K3=0,0,1)","v":1},{"$f":"IF(L3=0,0,1)","v":1},1,1,1,1,1,1,1,1,1,1,1,1,1,1,1,1,1,1,1,0,0,0,0,0,0,0,0,0,0,0,0,0,null,null,null,null,null,null,null,null,null,null,null,null,null,null,null,null,null,null,null,null,null,null,null,null,null,null,null,{"$f":"IF(BT3=0,0,1)","v":1},1,1,1,1,1,1,1,1,1,1,1]
["Formulas",null,null,null,null,"Date",null,"Opponents","Venue / Result",null,{"$f":"$CM$5","v":"Briley"},{"$f":"$CM$6","v":"Chatterton"},{"$f":"$CM$7","v":"Coleman"},{"$f":"$CM$8","v":"Fashanu"},{"$f":"$CM$9","v":"Granville"},{"$f":"$CM$10","v":"Hinshelwood"},{"$f":"$CM$11","v":"Kinsella"},{"$f":"$CM$12","v":"Leslie"},{"$f":"$CM$13","v":"Lovell"},{"$f":"$CM$14","v":"Lowndes"},{"$f":"$CM$15","v":"Malcolm"},{"$f":"$CM$16","v":"McLeary"},{"$f":"$CM$17","v":"Nutton"},{"$f":"$CM$18","v":"Otulakowski"},{"$f":"$CM$19","v":"Roffey"},{"$f":"$CM$20","v":"Sansome"},{"$f":"$CM$21","v":"Sheringham"},{"$f":"$CM$22","v":"Smith"},{"$f":"$CM$23","v":"Stevens"},{"$f":"$CM$24","v":"Walker"},{"$f":"$CM$25","v":"Wilson"},{"$f":"$CM$26","v":0},{"$f":"$CM$27","v":0},{"$f":"$CM$28","v":0},{"$f":"$CM$29","v":0},{"$f":"$CM$30","v":0},{"$f":"$CM$31","v":0},{"$f":"$CM$32","v":0},{"$f":"$CM$33","v":0},{"$f":"$CM$34","v":0},{"$f":"$CM$35","v":0},{"$f":"$CM$36","v":0},{"$f":"$CM$37","v":0},{"$f":"$CM$38","v":0},null,null,null,null,null,{"$f":"$CN$5","v":"Briley (**"},{"$f":"$CN$6","v":"Chatterton (**"},{"$f":"$CN$7","v":"Coleman (**"},{"$f":"$CN$8","v":"Fashanu (**"},{"$f":"$CN$9","v":"Granville (**"},{"$f":"$CN$10","v":"Hinshelwood (**"},{"$f":"$CN$11","v":"Kinsella (**"},{"$f":"$CN$12","v":"Leslie (**"},{"$f":"$CN$13","v":"Lovell (**"},{"$f":"$CN$14","v":"Lowndes (**"},{"$f":"$CN$15","v":"Malcolm (**"},{"$f":"$CN$16","v":"McLeary (**"},{"$f":"$CN$17","v":"Nutton (**"},{"$f":"$CN$18","v":"Otulakowski (**"},{"$f":"$CN$19","v":"Roffey (**"},{"$f":"$CN$20","v":"Sansome (**"},{"$f":"$CN$21","v":"Sheringham (**"},{"$f":"$CN$22","v":"Smith (**"},{"$f":"$CN$23","v":"Stevens (**"},{"$f":"$CN$24","v":"Walker (**"},{"$f":"$CN$25","v":"Wilson (**"},{"$f":"$CN$26","v":"0 (**"},{"$f":"$CN$27","v":"0 (**"},{"$f":"$CN$28","v":"0 (**"},{"$f":"$CN$29","v":"0 (**"},{"$f":"$CN$30","v":"0 (**"},{"$f":"$CN$31","v":"0 (**"},{"$f":"$CN$32","v":"0 (**"},{"$f":"$CN$33","v":"0 (**"},{"$f":"$CN$34","v":"0 (**"},{"$f":"$CN$35","v":"0 (**"},{"$f":"$CN$36","v":"0 (**"},{"$f":"$CN$37","v":"0 (**"},{"$f":"$CN$38","v":"0 (**"},null,null,{"$f":"$CL$5","v":"Briley [**"},{"$f":"$CL$6","v":"Chatterton [**"},{"$f":"$CL$7","v":"Coleman [**"},{"$f":"$CL$8","v":"Fashanu [**"},{"$f":"$CL$9","v":"Granville [**"},{"$f":"$CL$10","v":"Hinshelwood [**"},{"$f":"$CL$11","v":"Kinsella [**"},{"$f":"$CL$12","v":"Leslie [**"},{"$f":"$CL$13","v":"Lovell [**"},{"$f":"$CL$14","v":"Lowndes [**"},{"$f":"$CL$15","v":"Malcolm [**"},{"$f":"$CL$16","v":"McLeary [**"},{"$f":"$CL$17","v":"Nutton [**"},{"$f":"$CL$18","v":"Otulakowski [**"},{"$f":"$CL$19","v":"Roffey [**"},{"$f":"$CL$20","v":"Sansome [**"},{"$f":"$CL$21","v":"Sheringham [**"},{"$f":"$CL$22","v":"Smith [**"},{"$f":"$CL$23","v":"Stevens [**"},{"$f":"$CL$24","v":"Walker [**"},{"$f":"$CL$25","v":"Wilson [**"},{"$f":"$CL$26","v":"0 [**"},{"$f":"$CL$27","v":"0 [**"},{"$f":"$CL$28","v":"0 [**"},{"$f":"$CL$29","v":"0 [**"},{"$f":"$CL$30","v":"0 [**"},{"$f":"$CL$31","v":"0 [**"},{"$f":"$CL$32","v":"0 [**"},{"$f":"$CL$33","v":"0 [**"},{"$f":"$CL$34","v":"0 [**"},{"$f":"$CL$35","v":"0 [**"},{"$f":"$CL$36","v":"0 [**"},{"$f":"$CL$37","v":"0 [**"},{"$f":"$CL$38","v":"0 [**"}]
[null,null,1,null,null,null,null,null,null,null,{"$f":"$CM$5&\"**\"","v":"Briley**"},{"$f":"$CM$6&\"**\"","v":"Chatterton**"},{"$f":"$CM$7&\"**\"","v":"Coleman**"},{"$f":"$CM$8&\"**\"","v":"Fashanu**"},{"$f":"$CM$9&\"**\"","v":"Granville**"},{"$f":"$CM$10&\"**\"","v":"Hinshelwood**"},{"$f":"$CM$11&\"**\"","v":"Kinsella**"},{"$f":"$CM$12&\"**\"","v":"Leslie**"},{"$f":"$CM$13&\"**\"","v":"Lovell**"},{"$f":"$CM$14&\"**\"","v":"Lowndes**"},{"$f":"$CM$15&\"**\"","v":"Malcolm**"},{"$f":"$CM$16&\"**\"","v":"McLeary**"},{"$f":"$CM$17&\"**\"","v":"Nutton**"},{"$f":"$CM$18&\"**\"","v":"Otulakowski**"},{"$f":"$CM$19&\"**\"","v":"Roffey**"},{"$f":"$CM$20&\"**\"","v":"Sansome**"},{"$f":"$CM$21&\"**\"","v":"Sheringham**"},{"$f":"$CM$22&\"**\"","v":"Smith**"},{"$f":"$CM$23&\"**\"","v":"Stevens**"},{"$f":"$CM$24&\"**\"","v":"Walker**"},{"$f":"$CM$25&\"**\"","v":"Wilson**"},{"$f":"$CM$26&\"**\"","v":"0**"},{"$f":"$CM$27&\"**\"","v":"0**"},{"$f":"$CM$28&\"**\"","v":"0**"},{"$f":"$CM$29&\"**\"","v":"0**"},{"$f":"$CM$30&\"**\"","v":"0**"},{"$f":"$CM$31&\"**\"","v":"0**"},{"$f":"$CM$32&\"**\"","v":"0**"},{"$f":"$CM$33&\"**\"","v":"0**"},{"$f":"$CM$34&\"**\"","v":"0**"},{"$f":"$CM$35&\"**\"","v":"0**"},{"$f":"$CM$36&\"**\"","v":"0**"},{"$f":"$CM$37&\"**\"","v":"0**"},null,null,null,null,null,null,{"$f":"$CO$5","v":"Briley**"},{"$f":"$CO$6","v":"Chatterton**"},{"$f":"$CO$7","v":"Coleman**"},{"$f":"$CO$8","v":"Fashanu**"},{"$f":"$CO$9","v":"Granville**"},{"$f":"$CO$10","v":"Hinshelwood**"},{"$f":"$CO$11","v":"Kinsella**"},{"$f":"$CO$12","v":"Leslie**"},{"$f":"$CO$13","v":"Lovell**"},{"$f":"$CO$14","v":"Lowndes**"},{"$f":"$CO$15","v":"Malcolm**"},{"$f":"$CO$16","v":"McLeary**"},{"$f":"$CO$17","v":"Nutton**"},{"$f":"$CO$18","v":"Otulakowski**"},{"$f":"$CO$19","v":"Roffey**"},{"$f":"$CO$20","v":"Sansome**"},{"$f":"$CO$21","v":"Sheringham**"},{"$f":"$CO$22","v":"Smith**"},{"$f":"$CO$23","v":"Stevens**"},{"$f":"$CO$24","v":"Walker**"},{"$f":"$CO$25","v":"Wilson**"},{"$f":"$CO$26","v":"0**"},{"$f":"$CO$27","v":"0**"},{"$f":"$CO$28","v":"0**"},{"$f":"$CO$29","v":"0**"},{"$f":"$CO$30","v":"0**"},{"$f":"$CO$31","v":"0**"},{"$f":"$CO$32","v":"0**"},{"$f":"$CO$33","v":"0**"},{"$f":"$CO$34","v":"0**"},{"$f":"$CO$35","v":"0**"},{"$f":"$CO$36","v":"0**"},{"$f":"$CO$37","v":"0**"},{"$f":"$CO$38","v":"0**"}]
[null,null,{"$f":"IF(J5=0,1,0)","v":0},1,null,{"$f":"Millwall!V75","v":"1985-08-17"},null,{"$f":"Millwall!W75","v":"Huddersfield"},{"$f":"Millwall!X75","v":"(A)"},{"$f":"Millwall!Y75","v":"L 3-4"},{"$f":"MATCH(K$4,Millwall!$Z75:$AK75,0)","v":4},{"$f":"MATCH(L$4,Millwall!$Z75:$AK75,0)","v":{"$error":"#N/A"}},{"$f":"MATCH(M$4,Millwall!$Z75:$AK75,0)","v":{"$error":"#N/A"}},{"$f":"MATCH(N$4,Millwall!$Z75:$AK75,0)","v":9},{"$f":"MATCH(O$4,Millwall!$Z75:$AK75,0)","v":{"$error":"#N/A"}},{"$f":"MATCH(P$4,Millwall!$Z75:$AK75,0)","v":2},{"$f":"MATCH(Q$4,Millwall!$Z75:$AK75,0)","v":11},{"$f":"MATCH(R$4,Millwall!$Z75:$AK75,0)","v":{"$error":"#N/A"}},{"$f":"MATCH(S$4,Millwall!$Z75:$AK75,0)","v":10},{"$f":"MATCH(T$4,Millwall!$Z75:$AK75,0)","v":7},{"$f":"MATCH(U$4,Millwall!$Z75:$AK75,0)","v":{"$error":"#N/A"}},{"$f":"MATCH(V$4,Millwall!$Z75:$AK75,0)","v":12},{"$f":"MATCH(W$4,Millwall!$Z75:$AK75,0)","v":6},{"$f":"MATCH(X$4,Millwall!$Z75:$AK75,0)","v":{"$error":"#N/A"}},{"$f":"MATCH(Y$4,Millwall!$Z75:$AK75,0)","v":3},{"$f":"MATCH(Z$4,Millwall!$Z75:$AK75,0)","v":1},{"$f":"MATCH(AA$4,Millwall!$Z75:$AK75,0)","v":{"$error":"#N/A"}},{"$f":"MATCH(AB$4,Millwall!$Z75:$AK75,0)","v":5},{"$f":"MATCH(AC$4,Millwall!$Z75:$AK75,0)","v":{"$error":"#N/A"}},{"$f":"MATCH(AD$4,Millwall!$Z75:$AK75,0)","v":{"$error":"#N/A"}},{"$f":"MATCH(AE$4,Millwall!$Z75:$AK75,0)","v":8},{"$f":"MATCH(AF$4,Millwall!$Z75:$AK75,0)","v":{"$error":"#N/A"}},{"$f":"MATCH(AG$4,Millwall!$Z75:$AK75,0)","v":{"$error":"#N/A"}},{"$f":"MATCH(AH$4,Millwall!$Z75:$AK75,0)","v":{"$error":"#N/A"}},{"$f":"MATCH(AI$4,Millwall!$Z75:$AK75,0)","v":{"$error":"#N/A"}},{"$f":"MATCH(AJ$4,Millwall!$Z75:$AK75,0)","v":{"$error":"#N/A"}},{"$f":"MATCH(AK$4,Millwall!$Z75:$AK75,0)","v":{"$error":"#N/A"}},{"$f":"MATCH(AL$4,Millwall!$Z75:$AK75,0)","v":{"$error":"#N/A"}},{"$f":"MATCH(AM$4,Millwall!$Z75:$AK75,0)","v":{"$error":"#N/A"}},{"$f":"MATCH(AN$4,Millwall!$Z75:$AK75,0)","v":{"$error":"#N/A"}},{"$f":"MATCH(AO$4,Millwall!$Z75:$AK75,0)","v":{"$error":"#N/A"}},{"$f":"MATCH(AP$4,Millwall!$Z75:$AK75,0)","v":{"$error":"#N/A"}},{"$f":"MATCH(AQ$4,Millwall!$Z75:$AK75,0)","v":{"$error":"#N/A"}},{"$f":"MATCH(AR$4,Millwall!$AD75:$AO75,0)","v":{"$error":"#N/A"}},null,null,null,null,null,{"$f":"MATCH(AX$3,Millwall!$Z75:$AK75,0)","v":{"$error":"#N/A"}},{"$f":"MATCH(AY$3,Millwall!$Z75:$AK75,0)","v":{"$error":"#N/A"}},{"$f":"MATCH(AZ$3,Millwall!$Z75:$AK75,0)","v":{"$error":"#N/A"}},{"$f":"MATCH(BA$3,Millwall!$Z75:$AK75,0)","v":{"$error":"#N/A"}},{"$f":"MATCH(BB$3,Millwall!$Z75:$AK75,0)","v":{"$error":"#N/A"}},{"$f":"MATCH(BC$3,Millwall!$Z75:$AK75,0)","v":{"$error":"#N/A"}},{"$f":"MATCH(BD$3,Millwall!$Z75:$AK75,0)","v":{"$error":"#N/A"}},{"$f":"MATCH(BE$3,Millwall!$Z75:$AK75,0)","v":{"$error":"#N/A"}},{"$f":"MATCH(BF$3,Millwall!$Z75:$AK75,0)","v":{"$error":"#N/A"}},{"$f":"MATCH(BG$3,Millwall!$Z75:$AK75,0)","v":{"$error":"#N/A"}},{"$f":"MATCH(BH$3,Millwall!$Z75:$AK75,0)","v":{"$error":"#N/A"}},{"$f":"MATCH(BI$3,Millwall!$Z75:$AK75,0)","v":12},{"$f":"MATCH(BJ$3,Millwall!$Z75:$AK75,0)","v":{"$error":"#N/A"}},{"$f":"MATCH(BK$3,Millwall!$Z75:$AK75,0)","v":{"$error":"#N/A"}},{"$f":"MATCH(BL$3,Millwall!$Z75:$AK75,0)","v":{"$error":"#N/A"}},{"$f":"MATCH(BM$3,Millwall!$Z75:$AK75,0)","v":{"$error":"#N/A"}},{"$f":"MATCH(BN$3,Millwall!$Z75:$AK75,0)","v":{"$error":"#N/A"}},{"$f":"MATCH(BO$3,Millwall!$Z75:$AK75,0)","v":5},{"$f":"MATCH(BP$3,Millwall!$Z75:$AK75,0)","v":{"$error":"#N/A"}},{"$f":"MATCH(BQ$3,Millwall!$Z75:$AK75,0)","v":{"$error":"#N/A"}},{"$f":"MATCH(BR$3,Millwall!$Z75:$AK75,0)","v":{"$error":"#N/A"}},{"$f":"MATCH(BS$3,Millwall!$Z75:$AK75,0)","v":{"$error":"#N/A"}},{"$f":"MATCH(BT$3,Millwall!$Z75:$AK75,0)","v":{"$error":"#N/A"}},{"$f":"MATCH(BU$3,Millwall!$Z75:$AK75,0)","v":{"$error":"#N/A"}},{"$f":"MATCH(BV$3,Millwall!$Z75:$AK75,0)","v":{"$error":"#N/A"}},{"$f":"MATCH(BW$3,Millwall!$Z75:$AK75,0)","v":{"$error":"#N/A"}},{"$f":"MATCH(BX$3,Millwall!$Z75:$AK75,0)","v":{"$error":"#N/A"}},{"$f":"MATCH(BY$3,Millwall!$Z75:$AK75,0)","v":{"$error":"#N/A"}},{"$f":"MATCH(BZ$3,Millwall!$Z75:$AK75,0)","v":{"$error":"#N/A"}},{"$f":"MATCH(CA$3,Millwall!$Z75:$AK75,0)","v":{"$error":"#N/A"}},{"$f":"MATCH(CB$3,Millwall!$Z75:$AK75,0)","v":{"$error":"#N/A"}},{"$f":"MATCH(CC$3,Millwall!$Z75:$AK75,0)","v":{"$error":"#N/A"}},{"$f":"MATCH(CD$3,Millwall!$Z75:$AK75,0)","v":{"$error":"#N/A"}},{"$f":"MATCH(CE$3,Millwall!$Z75:$AK75,0)","v":{"$error":"#N/A"}},null,null,null,null,null,null,{"$f":"$CM$5&\" [**\"","v":"Briley [**"},{"$f":"Millwall!$Z169","v":"Briley"},{"$f":"CM5&\" (**\"","v":"Briley (**"},{"$f":"$CM$5&\"**\"","v":"Briley**"},null,{"$f":"$CM$5","v":"Briley"},{"$f":"$CN$5","v":"Briley (**"},{"$f":"$CO$5","v":"Briley**"},null,{"$f":"Millwall!$BZ9","v":1},{"$f":"Millwall!$CE9","v":0},{"$f":"Millwall!$CJ9","v":0},{"$f":"Millwall!$CO9","v":0}]
[null,null,0,2,null,{"$f":"Millwall!V76","v":"1985-08-24"},null,{"$f":"Millwall!W76","v":"Norwich"},{"$f":"Millwall!X76","v":"(H)"},{"$f":"Millwall!Y76","v":"W 4-2"},{"$f":"MATCH(K$4,Millwall!$Z76:$AK76,0)","v":4},{"$f":"MATCH(L$4,Millwall!$Z76:$AK76,0)","v":12},{"$f":"MATCH(M$4,Millwall!$Z76:$AK76,0)","v":{"$error":"#N/A"}},{"$f":"MATCH(N$4,Millwall!$Z76:$AK76,0)","v":9},{"$f":"MATCH(O$4,Millwall!$Z76:$AK76,0)","v":{"$error":"#N/A"}},{"$f":"MATCH(P$4,Millwall!$Z76:$AK76,0)","v":2},{"$f":"MATCH(Q$4,Millwall!$Z76:$AK76,0)","v":11},{"$f":"MATCH(R$4,Millwall!$Z76:$AK76,0)","v":{"$error":"#N/A"}},{"$f":"MATCH(S$4,Millwall!$Z76:$AK76,0)","v":10},{"$f":"MATCH(T$4,Millwall!$Z76:$AK76,0)","v":7},{"$f":"MATCH(U$4,Millwall!$Z76:$AK76,0)","v":{"$error":"#N/A"}},{"$f":"MATCH(V$4,Millwall!$Z76:$AK76,0)","v":5},{"$f":"MATCH(W$4,Millwall!$Z76:$AK76,0)","v":6},{"$f":"MATCH(X$4,Millwall!$Z76:$AK76,0)","v":{"$error":"#N/A"}},{"$f":"MATCH(Y$4,Millwall!$Z76:$AK76,0)","v":3},{"$f":"MATCH(Z$4,Millwall!$Z76:$AK76,0)","v":1},{"$f":"MATCH(AA$4,Millwall!$Z76:$AK76,0)","v":{"$error":"#N/A"}},{"$f":"MATCH(AB$4,Millwall!$Z76:$AK76,0)","v":{"$error":"#N/A"}},{"$f":"MATCH(AC$4,Millwall!$Z76:$AK76,0)","v":{"$error":"#N/A"}},{"$f":"MATCH(AD$4,Millwall!$Z76:$AK76,0)","v":{"$error":"#N/A"}},{"$f":"MATCH(AE$4,Millwall!$Z76:$AK76,0)","v":8},{"$f":"MATCH(AF$4,Millwall!$Z76:$AK76,0)","v":{"$error":"#N/A"}},{"$f":"MATCH(AG$4,Millwall!$Z76:$AK76,0)","v":{"$error":"#N/A"}},{"$f":"MATCH(AH$4,Millwall!$Z76:$AK76,0)","v":{"$error":"#N/A"}},{"$f":"MATCH(AI$4,Millwall!$Z76:$AK76,0)","v":{"$error":"#N/A"}},{"$f":"MATCH(AJ$4,Millwall!$Z76:$AK76,0)","v":{"$error":"#N/A"}},{"$f":"MATCH(AK$4,Millwall!$Z76:$AK76,0)","v":{"$error":"#N/A"}},{"$f":"MATCH(AL$4,Millwall!$Z76:$AK76,0)","v":{"$error":"#N/A"}},{"$f":"MATCH(AM$4,Millwall!$Z76:$AK76,0)","v":{"$error":"#N/A"}},{"$f":"MATCH(AN$4,Millwall!$Z76:$AK76,0)","v":{"$error":"#N/A"}},{"$f":"MATCH(AO$4,Millwall!$Z76:$AK76,0)","v":{"$error":"#N/A"}},{"$f":"MATCH(AP$4,Millwall!$Z76:$AK76,0)","v":{"$error":"#N/A"}},{"$f":"MATCH(AQ$4,Millwall!$Z76:$AK76,0)","v":{"$error":"#N/A"}},{"$f":"MATCH(AR$4,Millwall!$AD76:$AO76,0)","v":{"$error":"#N/A"}},null,null,null,null,null,{"$f":"MATCH(AX$3,Millwall!$Z76:$AK76,0)","v":{"$error":"#N/A"}},{"$f":"MATCH(AY$3,Millwall!$Z76:$AK76,0)","v":{"$error":"#N/A"}},{"$f":"MATCH(AZ$3,Millwall!$Z76:$AK76,0)","v":{"$error":"#N/A"}},{"$f":"MATCH(BA$3,Millwall!$Z76:$AK76,0)","v":{"$error":"#N/A"}},{"$f":"MATCH(BB$3,Millwall!$Z76:$AK76,0)","v":{"$error":"#N/A"}},{"$f":"MATCH(BC$3,Millwall!$Z76:$AK76,0)","v":{"$error":"#N/A"}},{"$f":"MATCH(BD$3,Millwall!$Z76:$AK76,0)","v":{"$error":"#N/A"}},{"$f":"MATCH(BE$3,Millwall!$Z76:$AK76,0)","v":{"$error":"#N/A"}},{"$f":"MATCH(BF$3,Millwall!$Z76:$AK76,0)","v":{"$error":"#N/A"}},{"$f":"MATCH(BG$3,Millwall!$Z76:$AK76,0)","v":{"$error":"#N/A"}},{"$f":"MATCH(BH$3,Millwall!$Z76:$AK76,0)","v":{"$error":"#N/A"}},{"$f":"MATCH(BI$3,Millwall!$Z76:$AK76,0)","v":{"$error":"#N/A"}},{"$f":"MATCH(BJ$3,Millwall!$Z76:$AK76,0)","v":{"$error":"#N/A"}},{"$f":"MATCH(BK$3,Millwall!$Z76:$AK76,0)","v":{"$error":"#N/A"}},{"$f":"MATCH(BL$3,Millwall!$Z76:$AK76,0)","v":{"$error":"#N/A"}},{"$f":"MATCH(BM$3,Millwall!$Z76:$AK76,0)","v":{"$error":"#N/A"}},{"$f":"MATCH(BN$3,Millwall!$Z76:$AK76,0)","v":{"$error":"#N/A"}},{"$f":"MATCH(BO$3,Millwall!$Z76:$AK76,0)","v":{"$error":"#N/A"}},{"$f":"MATCH(BP$3,Millwall!$Z76:$AK76,0)","v":{"$error":"#N/A"}},{"$f":"MATCH(BQ$3,Millwall!$Z76:$AK76,0)","v":{"$error":"#N/A"}},{"$f":"MATCH(BR$3,Millwall!$Z76:$AK76,0)","v":{"$error":"#N/A"}},{"$f":"MATCH(BS$3,Millwall!$Z76:$AK76,0)","v":{"$error":"#N/A"}},{"$f":"MATCH(BT$3,Millwall!$Z76:$AK76,0)","v":{"$error":"#N/A"}},{"$f":"MATCH(BU$3,Millwall!$Z76:$AK76,0)","v":{"$error":"#N/A"}},{"$f":"MATCH(BV$3,Millwall!$Z76:$AK76,0)","v":{"$error":"#N/A"}},{"$f":"MATCH(BW$3,Millwall!$Z76:$AK76,0)","v":{"$error":"#N/A"}},{"$f":"MATCH(BX$3,Millwall!$Z76:$AK76,0)","v":{"$error":"#N/A"}},{"$f":"MATCH(BY$3,Millwall!$Z76:$AK76,0)","v":{"$error":"#N/A"}},{"$f":"MATCH(BZ$3,Millwall!$Z76:$AK76,0)","v":{"$error":"#N/A"}},{"$f":"MATCH(CA$3,Millwall!$Z76:$AK76,0)","v":{"$error":"#N/A"}},{"$f":"MATCH(CB$3,Millwall!$Z76:$AK76,0)","v":{"$error":"#N/A"}},{"$f":"MATCH(CC$3,Millwall!$Z76:$AK76,0)","v":{"$error":"#N/A"}},{"$f":"MATCH(CD$3,Millwall!$Z76:$AK76,0)","v":{"$error":"#N/A"}},{"$f":"MATCH(CE$3,Millwall!$Z76:$AK76,0)","v":{"$error":"#N/A"}},null,null,null,null,null,null,{"$f":"$CM$6&\" [**\"","v":"Chatterton [**"},{"$f":"Millwall!$Z170","v":"Chatterton"},{"$f":"CM6&\" (**\"","v":"Chatterton (**"},{"$f":"$CM$6&\"**\"","v":"Chatterton**"},null,{"$f":"$CM$6","v":"Chatterton"},{"$f":"$CN$6","v":"Chatterton (**"},{"$f":"$CO$6","v":"Chatterton**"},null,{"$f":"Millwall!$BZ10","v":4},{"$f":"Millwall!$CE10","v":0},{"$f":"Millwall!$CJ10","v":0},{"$f":"Millwall!$CO10","v":1}]
[null,null,0,3,null,{"$f":"Millwall!V77","v":"1985-08-27"},null,{"$f":"Millwall!W77","v":"Shrewsbury"},{"$f":"Millwall!X77","v":"(A)"},{"$f":"Millwall!Y77","v":"D 1-1"},{"$f":"MATCH(K$4,Millwall!$Z77:$AK77,0)","v":4},{"$f":"MATCH(L$4,Millwall!$Z77:$AK77,0)","v":12},{"$f":"MATCH(M$4,Millwall!$Z77:$AK77,0)","v":{"$error":"#N/A"}},{"$f":"MATCH(N$4,Millwall!$Z77:$AK77,0)","v":9},{"$f":"MATCH(O$4,Millwall!$Z77:$AK77,0)","v":{"$error":"#N/A"}},{"$f":"MATCH(P$4,Millwall!$Z77:$AK77,0)","v":2},{"$f":"MATCH(Q$4,Millwall!$Z77:$AK77,0)","v":11},{"$f":"MATCH(R$4,Millwall!$Z77:$AK77,0)","v":{"$error":"#N/A"}},{"$f":"MATCH(S$4,Millwall!$Z77:$AK77,0)","v":10},{"$f":"MATCH(T$4,Millwall!$Z77:$AK77,0)","v":7},{"$f":"MATCH(U$4,Millwall!$Z77:$AK77,0)","v":{"$error":"#N/A"}},{"$f":"MATCH(V$4,Millwall!$Z77:$AK77,0)","v":5},{"$f":"MATCH(W$4,Millwall!$Z77:$AK77,0)","v":6},{"$f":"MATCH(X$4,Millwall!$Z77:$AK77,0)","v":{"$error":"#N/A"}},{"$f":"MATCH(Y$4,Millwall!$Z77:$AK77,0)","v":3},{"$f":"MATCH(Z$4,Millwall!$Z77:$AK77,0)","v":1},{"$f":"MATCH(AA$4,Millwall!$Z77:$AK77,0)","v":{"$error":"#N/A"}},{"$f":"MATCH(AB$4,Millwall!$Z77:$AK77,0)","v":{"$error":"#N/A"}},{"$f":"MATCH(AC$4,Millwall!$Z77:$AK77,0)","v":{"$error":"#N/A"}},{"$f":"MATCH(AD$4,Millwall!$Z77:$AK77,0)","v":{"$error":"#N/A"}},{"$f":"MATCH(AE$4,Millwall!$Z77:$AK77,0)","v":8},{"$f":"MATCH(AF$4,Millwall!$Z77:$AK77,0)","v":{"$error":"#N/A"}},{"$f":"MATCH(AG$4,Millwall!$Z77:$AK77,0)","v":{"$error":"#N/A"}},{"$f":"MATCH(AH$4,Millwall!$Z77:$AK77,0)","v":{"$error":"#N/A"}},{"$f":"MATCH(AI$4,Millwall!$Z77:$AK77,0)","v":{"$error":"#N/A"}},{"$f":"MATCH(AJ$4,Millwall!$Z77:$AK77,0)","v":{"$error":"#N/A"}},{"$f":"MATCH(AK$4,Millwall!$Z77:$AK77,0)","v":{"$error":"#N/A"}},{"$f":"MATCH(AL$4,Millwall!$Z77:$AK77,0)","v":{"$error":"#N/A"}},{"$f":"MATCH(AM$4,Millwall!$Z77:$AK77,0)","v":{"$error":"#N/A"}},{"$f":"MATCH(AN$4,Millwall!$Z77:$AK77,0)","v":{"$error":"#N/A"}},{"$f":"MATCH(AO$4,Millwall!$Z77:$AK77,0)","v":{"$error":"#N/A"}},{"$f":"MATCH(AP$4,Millwall!$Z77:$AK77,0)","v":{"$error":"#N/A"}},{"$f":"MATCH(AQ$4,Millwall!$Z77:$AK77,0)","v":{"$error":"#N/A"}},{"$f":"MATCH(AR$4,Millwall!$AD77:$AO77,0)","v":{"$error":"#N/A"}},null,null,null,null,null,{"$f":"MATCH(AX$3,Millwall!$Z77:$AK77,0)","v":{"$error":"#N/A"}},{"$f":"MATCH(AY$3,Millwall!$Z77:$AK77,0)","v":{"$error":"#N/A"}},{"$f":"MATCH(AZ$3,Millwall!$Z77:$AK77,0)","v":{"$error":"#N/A"}},{"$f":"MATCH(BA$3,Millwall!$Z77:$AK77,0)","v":{"$error":"#N/A"}},{"$f":"MATCH(BB$3,Millwall!$Z77:$AK77,0)","v":{"$error":"#N/A"}},{"$f":"MATCH(BC$3,Millwall!$Z77:$AK77,0)","v":{"$error":"#N/A"}},{"$f":"MATCH(BD$3,Millwall!$Z77:$AK77,0)","v":{"$error":"#N/A"}},{"$f":"MATCH(BE$3,Millwall!$Z77:$AK77,0)","v":{"$error":"#N/A"}},{"$f":"MATCH(BF$3,Millwall!$Z77:$AK77,0)","v":{"$error":"#N/A"}},{"$f":"MATCH(BG$3,Millwall!$Z77:$AK77,0)","v":{"$error":"#N/A"}},{"$f":"MATCH(BH$3,Millwall!$Z77:$AK77,0)","v":{"$error":"#N/A"}},{"$f":"MATCH(BI$3,Millwall!$Z77:$AK77,0)","v":{"$error":"#N/A"}},{"$f":"MATCH(BJ$3,Millwall!$Z77:$AK77,0)","v":{"$error":"#N/A"}},{"$f":"MATCH(BK$3,Millwall!$Z77:$AK77,0)","v":{"$error":"#N/A"}},{"$f":"MATCH(BL$3,Millwall!$Z77:$AK77,0)","v":{"$error":"#N/A"}},{"$f":"MATCH(BM$3,Millwall!$Z77:$AK77,0)","v":{"$error":"#N/A"}},{"$f":"MATCH(BN$3,Millwall!$Z77:$AK77,0)","v":{"$error":"#N/A"}},{"$f":"MATCH(BO$3,Millwall!$Z77:$AK77,0)","v":{"$error":"#N/A"}},{"$f":"MATCH(BP$3,Millwall!$Z77:$AK77,0)","v":{"$error":"#N/A"}},{"$f":"MATCH(BQ$3,Millwall!$Z77:$AK77,0)","v":{"$error":"#N/A"}},{"$f":"MATCH(BR$3,Millwall!$Z77:$AK77,0)","v":{"$error":"#N/A"}},{"$f":"MATCH(BS$3,Millwall!$Z77:$AK77,0)","v":{"$error":"#N/A"}},{"$f":"MATCH(BT$3,Millwall!$Z77:$AK77,0)","v":{"$error":"#N/A"}},{"$f":"MATCH(BU$3,Millwall!$Z77:$AK77,0)","v":{"$error":"#N/A"}},{"$f":"MATCH(BV$3,Millwall!$Z77:$AK77,0)","v":{"$error":"#N/A"}},{"$f":"MATCH(BW$3,Millwall!$Z77:$AK77,0)","v":{"$error":"#N/A"}},{"$f":"MATCH(BX$3,Millwall!$Z77:$AK77,0)","v":{"$error":"#N/A"}},{"$f":"MATCH(BY$3,Millwall!$Z77:$AK77,0)","v":{"$error":"#N/A"}},{"$f":"MATCH(BZ$3,Millwall!$Z77:$AK77,0)","v":{"$error":"#N/A"}},{"$f":"MATCH(CA$3,Millwall!$Z77:$AK77,0)","v":{"$error":"#N/A"}},{"$f":"MATCH(CB$3,Millwall!$Z77:$AK77,0)","v":{"$error":"#N/A"}},{"$f":"MATCH(CC$3,Millwall!$Z77:$AK77,0)","v":{"$error":"#N/A"}},{"$f":"MATCH(CD$3,Millwall!$Z77:$AK77,0)","v":{"$error":"#N/A"}},{"$f":"MATCH(CE$3,Millwall!$Z77:$AK77,0)","v":{"$error":"#N/A"}},null,null,null,null,null,null,{"$f":"$CM$7&\" [**\"","v":"Coleman [**"},{"$f":"Millwall!$Z171","v":"Coleman"},"Coleman (**",{"$f":"$CM$7&\"**\"","v":"Coleman**"},null,{"$f":"$CM$7","v":"Coleman"},{"$f":"$CN$7","v":"Coleman (**"},{"$f":"$CO$7","v":"Coleman**"},null,{"$f":"Millwall!$BZ11","v":0},{"$f":"Millwall!$CE11","v":0},{"$f":"Millwall!$CJ11","v":0},{"$f":"Millwall!$CO11","v":0}]
[null,null,0,4,null,{"$f":"Millwall!V78","v":"1985-08-31"},null,{"$f":"Millwall!W78","v":"Sunderland"},{"$f":"Millwall!X78","v":"(H)"},{"$f":"Millwall!Y78","v":"W 1-0"},{"$f":"MATCH(K$4,Millwall!$Z78:$AK78,0)","v":4},{"$f":"MATCH(L$4,Millwall!$Z78:$AK78,0)","v":{"$error":"#N/A"}},{"$f":"MATCH(M$4,Millwall!$Z78:$AK78,0)","v":{"$error":"#N/A"}},{"$f":"MATCH(N$4,Millwall!$Z78:$AK78,0)","v":9},{"$f":"MATCH(O$4,Millwall!$Z78:$AK78,0)","v":{"$error":"#N/A"}},{"$f":"MATCH(P$4,Millwall!$Z78:$AK78,0)","v":2},{"$f":"MATCH(Q$4,Millwall!$Z78:$AK78,0)","v":11},{"$f":"MATCH(R$4,Millwall!$Z78:$AK78,0)","v":12},{"$f":"MATCH(S$4,Millwall!$Z78:$AK78,0)","v":10},{"$f":"MATCH(T$4,Millwall!$Z78:$AK78,0)","v":7},{"$f":"MATCH(U$4,Millwall!$Z78:$AK78,0)","v":{"$error":"#N/A"}},{"$f":"MATCH(V$4,Millwall!$Z78:$AK78,0)","v":5},{"$f":"MATCH(W$4,Millwall!$Z78:$AK78,0)","v":6},{"$f":"MATCH(X$4,Millwall!$Z78:$AK78,0)","v":{"$error":"#N/A"}},{"$f":"MATCH(Y$4,Millwall!$Z78:$AK78,0)","v":3},{"$f":"MATCH(Z$4,Millwall!$Z78:$AK78,0)","v":1},{"$f":"MATCH(AA$4,Millwall!$Z78:$AK78,0)","v":{"$error":"#N/A"}},{"$f":"MATCH(AB$4,Millwall!$Z78:$AK78,0)","v":{"$error":"#N/A"}},{"$f":"MATCH(AC$4,Millwall!$Z78:$AK78,0)","v":{"$error":"#N/A"}},{"$f":"MATCH(AD$4,Millwall!$Z78:$AK78,0)","v":{"$error":"#N/A"}},{"$f":"MATCH(AE$4,Millwall!$Z78:$AK78,0)","v":8},{"$f":"MATCH(AF$4,Millwall!$Z78:$AK78,0)","v":{"$error":"#N/A"}},{"$f":"MATCH(AG$4,Millwall!$Z78:$AK78,0)","v":{"$error":"#N/A"}},{"$f":"MATCH(AH$4,Millwall!$Z78:$AK78,0)","v":{"$error":"#N/A"}},{"$f":"MATCH(AI$4,Millwall!$Z78:$AK78,0)","v":{"$error":"#N/A"}},{"$f":"MATCH(AJ$4,Millwall!$Z78:$AK78,0)","v":{"$error":"#N/A"}},{"$f":"MATCH(AK$4,Millwall!$Z78:$AK78,0)","v":{"$error":"#N/A"}},{"$f":"MATCH(AL$4,Millwall!$Z78:$AK78,0)","v":{"$error":"#N/A"}},{"$f":"MATCH(AM$4,Millwall!$Z78:$AK78,0)","v":{"$error":"#N/A"}},{"$f":"MATCH(AN$4,Millwall!$Z78:$AK78,0)","v":{"$error":"#N/A"}},{"$f":"MATCH(AO$4,Millwall!$Z78:$AK78,0)","v":{"$error":"#N/A"}},{"$f":"MATCH(AP$4,Millwall!$Z78:$AK78,0)","v":{"$error":"#N/A"}},{"$f":"MATCH(AQ$4,Millwall!$Z78:$AK78,0)","v":{"$error":"#N/A"}},{"$f":"MATCH(AR$4,Millwall!$AD78:$AO78,0)","v":{"$error":"#N/A"}},null,null,null,null,null,{"$f":"MATCH(AX$3,Millwall!$Z78:$AK78,0)","v":{"$error":"#N/A"}},{"$f":"MATCH(AY$3,Millwall!$Z78:$AK78,0)","v":{"$error":"#N/A"}},{"$f":"MATCH(AZ$3,Millwall!$Z78:$AK78,0)","v":{"$error":"#N/A"}},{"$f":"MATCH(BA$3,Millwall!$Z78:$AK78,0)","v":{"$error":"#N/A"}},{"$f":"MATCH(BB$3,Millwall!$Z78:$AK78,0)","v":{"$error":"#N/A"}},{"$f":"MATCH(BC$3,Millwall!$Z78:$AK78,0)","v":{"$error":"#N/A"}},{"$f":"MATCH(BD$3,Millwall!$Z78:$AK78,0)","v":{"$error":"#N/A"}},{"$f":"MATCH(BE$3,Millwall!$Z78:$AK78,0)","v":{"$error":"#N/A"}},{"$f":"MATCH(BF$3,Millwall!$Z78:$AK78,0)","v":{"$error":"#N/A"}},{"$f":"MATCH(BG$3,Millwall!$Z78:$AK78,0)","v":{"$error":"#N/A"}},{"$f":"MATCH(BH$3,Millwall!$Z78:$AK78,0)","v":{"$error":"#N/A"}},{"$f":"MATCH(BI$3,Millwall!$Z78:$AK78,0)","v":{"$error":"#N/A"}},{"$f":"MATCH(BJ$3,Millwall!$Z78:$AK78,0)","v":{"$error":"#N/A"}},{"$f":"MATCH(BK$3,Millwall!$Z78:$AK78,0)","v":{"$error":"#N/A"}},{"$f":"MATCH(BL$3,Millwall!$Z78:$AK78,0)","v":{"$error":"#N/A"}},{"$f":"MATCH(BM$3,Millwall!$Z78:$AK78,0)","v":{"$error":"#N/A"}},{"$f":"MATCH(BN$3,Millwall!$Z78:$AK78,0)","v":{"$error":"#N/A"}},{"$f":"MATCH(BO$3,Millwall!$Z78:$AK78,0)","v":{"$error":"#N/A"}},{"$f":"MATCH(BP$3,Millwall!$Z78:$AK78,0)","v":{"$error":"#N/A"}},{"$f":"MATCH(BQ$3,Millwall!$Z78:$AK78,0)","v":{"$error":"#N/A"}},{"$f":"MATCH(BR$3,Millwall!$Z78:$AK78,0)","v":{"$error":"#N/A"}},{"$f":"MATCH(BS$3,Millwall!$Z78:$AK78,0)","v":{"$error":"#N/A"}},{"$f":"MATCH(BT$3,Millwall!$Z78:$AK78,0)","v":{"$error":"#N/A"}},{"$f":"MATCH(BU$3,Millwall!$Z78:$AK78,0)","v":{"$error":"#N/A"}},{"$f":"MATCH(BV$3,Millwall!$Z78:$AK78,0)","v":{"$error":"#N/A"}},{"$f":"MATCH(BW$3,Millwall!$Z78:$AK78,0)","v":{"$error":"#N/A"}},{"$f":"MATCH(BX$3,Millwall!$Z78:$AK78,0)","v":{"$error":"#N/A"}},{"$f":"MATCH(BY$3,Millwall!$Z78:$AK78,0)","v":{"$error":"#N/A"}},{"$f":"MATCH(BZ$3,Millwall!$Z78:$AK78,0)","v":{"$error":"#N/A"}},{"$f":"MATCH(CA$3,Millwall!$Z78:$AK78,0)","v":{"$error":"#N/A"}},{"$f":"MATCH(CB$3,Millwall!$Z78:$AK78,0)","v":{"$error":"#N/A"}},{"$f":"MATCH(CC$3,Millwall!$Z78:$AK78,0)","v":{"$error":"#N/A"}},{"$f":"MATCH(CD$3,Millwall!$Z78:$AK78,0)","v":{"$error":"#N/A"}},{"$f":"MATCH(CE$3,Millwall!$Z78:$AK78,0)","v":{"$error":"#N/A"}},null,null,null,null,null,null,{"$f":"$CM$8&\" [**\"","v":"Fashanu [**"},{"$f":"Millwall!$Z172","v":"Fashanu"},"Fashanu (**",{"$f":"$CM$8&\"**\"","v":"Fashanu**"},null,{"$f":"$CM$8","v":"Fashanu"},{"$f":"$CN$8","v":"Fashanu (**"},{"$f":"$CO$8","v":"Fashanu**"},null,{"$f":"Millwall!$BZ12","v":8},{"$f":"Millwall!$CE12","v":2},{"$f":"Millwall!$CJ12","v":2},{"$f":"Millwall!$CO12","v":1}]
[null,null,0,5,null,{"$f":"Millwall!V79","v":"1985-09-07"},null,{"$f":"Millwall!W79","v":"Stoke"},{"$f":"Millwall!X79","v":"(A)"},{"$f":"Millwall!Y79","v":"D 0-0"},{"$f":"MATCH(K$4,Millwall!$Z79:$AK79,0)","v":4},{"$f":"MATCH(L$4,Millwall!$Z79:$AK79,0)","v":12},{"$f":"MATCH(M$4,Millwall!$Z79:$AK79,0)","v":{"$error":"#N/A"}},{"$f":"MATCH(N$4,Millwall!$Z79:$AK79,0)","v":9},{"$f":"MATCH(O$4,Millwall!$Z79:$AK79,0)","v":{"$error":"#N/A"}},{"$f":"MATCH(P$4,Millwall!$Z79:$AK79,0)","v":2},{"$f":"MATCH(Q$4,Millwall!$Z79:$AK79,0)","v":11},{"$f":"MATCH(R$4,Millwall!$Z79:$AK79,0)","v":{"$error":"#N/A"}},{"$f":"MATCH(S$4,Millwall!$Z79:$AK79,0)","v":10},{"$f":"MATCH(T$4,Millwall!$Z79:$AK79,0)","v":7},{"$f":"MATCH(U$4,Millwall!$Z79:$AK79,0)","v":{"$error":"#N/A"}},{"$f":"MATCH(V$4,Millwall!$Z79:$AK79,0)","v":5},{"$f":"MATCH(W$4,Millwall!$Z79:$AK79,0)","v":6},{"$f":"MATCH(X$4,Millwall!$Z79:$AK79,0)","v":{"$error":"#N/A"}},{"$f":"MATCH(Y$4,Millwall!$Z79:$AK79,0)","v":3},{"$f":"MATCH(Z$4,Millwall!$Z79:$AK79,0)","v":1},{"$f":"MATCH(AA$4,Millwall!$Z79:$AK79,0)","v":{"$error":"#N/A"}},{"$f":"MATCH(AB$4,Millwall!$Z79:$AK79,0)","v":{"$error":"#N/A"}},{"$f":"MATCH(AC$4,Millwall!$Z79:$AK79,0)","v":{"$error":"#N/A"}},{"$f":"MATCH(AD$4,Millwall!$Z79:$AK79,0)","v":{"$error":"#N/A"}},{"$f":"MATCH(AE$4,Millwall!$Z79:$AK79,0)","v":8},{"$f":"MATCH(AF$4,Millwall!$Z79:$AK79,0)","v":{"$error":"#N/A"}},{"$f":"MATCH(AG$4,Millwall!$Z79:$AK79,0)","v":{"$error":"#N/A"}},{"$f":"MATCH(AH$4,Millwall!$Z79:$AK79,0)","v":{"$error":"#N/A"}},{"$f":"MATCH(AI$4,Millwall!$Z79:$AK79,0)","v":{"$error":"#N/A"}},{"$f":"MATCH(AJ$4,Millwall!$Z79:$AK79,0)","v":{"$error":"#N/A"}},{"$f":"MATCH(AK$4,Millwall!$Z79:$AK79,0)","v":{"$error":"#N/A"}},{"$f":"MATCH(AL$4,Millwall!$Z79:$AK79,0)","v":{"$error":"#N/A"}},{"$f":"MATCH(AM$4,Millwall!$Z79:$AK79,0)","v":{"$error":"#N/A"}},{"$f":"MATCH(AN$4,Millwall!$Z79:$AK79,0)","v":{"$error":"#N/A"}},{"$f":"MATCH(AO$4,Millwall!$Z79:$AK79,0)","v":{"$error":"#N/A"}},{"$f":"MATCH(AP$4,Millwall!$Z79:$AK79,0)","v":{"$error":"#N/A"}},{"$f":"MATCH(AQ$4,Millwall!$Z79:$AK79,0)","v":{"$error":"#N/A"}},{"$f":"MATCH(AR$4,Millwall!$AD79:$AO79,0)","v":{"$error":"#N/A"}},null,null,null,null,null,{"$f":"MATCH(AX$3,Millwall!$Z79:$AK79,0)","v":{"$error":"#N/A"}},{"$f":"MATCH(AY$3,Millwall!$Z79:$AK79,0)","v":{"$error":"#N/A"}},{"$f":"MATCH(AZ$3,Millwall!$Z79:$AK79,0)","v":{"$error":"#N/A"}},{"$f":"MATCH(BA$3,Millwall!$Z79:$AK79,0)","v":{"$error":"#N/A"}},{"$f":"MATCH(BB$3,Millwall!$Z79:$AK79,0)","v":{"$error":"#N/A"}},{"$f":"MATCH(BC$3,Millwall!$Z79:$AK79,0)","v":{"$error":"#N/A"}},{"$f":"MATCH(BD$3,Millwall!$Z79:$AK79,0)","v":{"$error":"#N/A"}},{"$f":"MATCH(BE$3,Millwall!$Z79:$AK79,0)","v":{"$error":"#N/A"}},{"$f":"MATCH(BF$3,Millwall!$Z79:$AK79,0)","v":{"$error":"#N/A"}},{"$f":"MATCH(BG$3,Millwall!$Z79:$AK79,0)","v":{"$error":"#N/A"}},{"$f":"MATCH(BH$3,Millwall!$Z79:$AK79,0)","v":{"$error":"#N/A"}},{"$f":"MATCH(BI$3,Millwall!$Z79:$AK79,0)","v":{"$error":"#N/A"}},{"$f":"MATCH(BJ$3,Millwall!$Z79:$AK79,0)","v":{"$error":"#N/A"}},{"$f":"MATCH(BK$3,Millwall!$Z79:$AK79,0)","v":{"$error":"#N/A"}},{"$f":"MATCH(BL$3,Millwall!$Z79:$AK79,0)","v":{"$error":"#N/A"}},{"$f":"MATCH(BM$3,Millwall!$Z79:$AK79,0)","v":{"$error":"#N/A"}},{"$f":"MATCH(BN$3,Millwall!$Z79:$AK79,0)","v":{"$error":"#N/A"}},{"$f":"MATCH(BO$3,Millwall!$Z79:$AK79,0)","v":{"$error":"#N/A"}},{"$f":"MATCH(BP$3,Millwall!$Z79:$AK79,0)","v":{"$error":"#N/A"}},{"$f":"MATCH(BQ$3,Millwall!$Z79:$AK79,0)","v":{"$error":"#N/A"}},{"$f":"MATCH(BR$3,Millwall!$Z79:$AK79,0)","v":{"$error":"#N/A"}},{"$f":"MATCH(BS$3,Millwall!$Z79:$AK79,0)","v":{"$error":"#N/A"}},{"$f":"MATCH(BT$3,Millwall!$Z79:$AK79,0)","v":{"$error":"#N/A"}},{"$f":"MATCH(BU$3,Millwall!$Z79:$AK79,0)","v":{"$error":"#N/A"}},{"$f":"MATCH(BV$3,Millwall!$Z79:$AK79,0)","v":{"$error":"#N/A"}},{"$f":"MATCH(BW$3,Millwall!$Z79:$AK79,0)","v":{"$error":"#N/A"}},{"$f":"MATCH(BX$3,Millwall!$Z79:$AK79,0)","v":{"$error":"#N/A"}},{"$f":"MATCH(BY$3,Millwall!$Z79:$AK79,0)","v":{"$error":"#N/A"}},{"$f":"MATCH(BZ$3,Millwall!$Z79:$AK79,0)","v":{"$error":"#N/A"}},{"$f":"MATCH(CA$3,Millwall!$Z79:$AK79,0)","v":{"$error":"#N/A"}},{"$f":"MATCH(CB$3,Millwall!$Z79:$AK79,0)","v":{"$error":"#N/A"}},{"$f":"MATCH(CC$3,Millwall!$Z79:$AK79,0)","v":{"$error":"#N/A"}},{"$f":"MATCH(CD$3,Millwall!$Z79:$AK79,0)","v":{"$error":"#N/A"}},{"$f":"MATCH(CE$3,Millwall!$Z79:$AK79,0)","v":{"$error":"#N/A"}},null,null,null,null,null,null,{"$f":"$CM$9&\" [**\"","v":"Granville [**"},{"$f":"Millwall!$Z173","v":"Granville"},"Granville (**",{"$f":"$CM$9&\"**\"","v":"Granville**"},null,{"$f":"$CM$9","v":"Granville"},{"$f":"$CN$9","v":"Granville (**"},{"$f":"$CO$9","v":"Granville**"},null,{"$f":"Millwall!$BZ13","v":0},{"$f":"Millwall!$CE13","v":0},{"$f":"Millwall!$CJ13","v":0},{"$f":"Millwall!$CO13","v":0}]
[null,null,0,6,null,{"$f":"Millwall!V80","v":"1985-09-14"},null,{"$f":"Millwall!W80","v":"Brighton"},{"$f":"Millwall!X80","v":"(H)"},{"$f":"Millwall!Y80","v":"L 0-1"},{"$f":"MATCH(K$4,Millwall!$Z80:$AK80,0)","v":4},{"$f":"MATCH(L$4,Millwall!$Z80:$AK80,0)","v":{"$error":"#N/A"}},{"$f":"MATCH(M$4,Millwall!$Z80:$AK80,0)","v":{"$error":"#N/A"}},{"$f":"MATCH(N$4,Millwall!$Z80:$AK80,0)","v":9},{"$f":"MATCH(O$4,Millwall!$Z80:$AK80,0)","v":{"$error":"#N/A"}},{"$f":"MATCH(P$4,Millwall!$Z80:$AK80,0)","v":2},{"$f":"MATCH(Q$4,Millwall!$Z80:$AK80,0)","v":11},{"$f":"MATCH(R$4,Millwall!$Z80:$AK80,0)","v":12},{"$f":"MATCH(S$4,Millwall!$Z80:$AK80,0)","v":10},{"$f":"MATCH(T$4,Millwall!$Z80:$AK80,0)","v":7},{"$f":"MATCH(U$4,Millwall!$Z80:$AK80,0)","v":{"$error":"#N/A"}},{"$f":"MATCH(V$4,Millwall!$Z80:$AK80,0)","v":5},{"$f":"MATCH(W$4,Millwall!$Z80:$AK80,0)","v":6},{"$f":"MATCH(X$4,Millwall!$Z80:$AK80,0)","v":{"$error":"#N/A"}},{"$f":"MATCH(Y$4,Millwall!$Z80:$AK80,0)","v":3},{"$f":"MATCH(Z$4,Millwall!$Z80:$AK80,0)","v":1},{"$f":"MATCH(AA$4,Millwall!$Z80:$AK80,0)","v":{"$error":"#N/A"}},{"$f":"MATCH(AB$4,Millwall!$Z80:$AK80,0)","v":{"$error":"#N/A"}},{"$f":"MATCH(AC$4,Millwall!$Z80:$AK80,0)","v":{"$error":"#N/A"}},{"$f":"MATCH(AD$4,Millwall!$Z80:$AK80,0)","v":{"$error":"#N/A"}},{"$f":"MATCH(AE$4,Millwall!$Z80:$AK80,0)","v":8},{"$f":"MATCH(AF$4,Millwall!$Z80:$AK80,0)","v":{"$error":"#N/A"}},{"$f":"MATCH(AG$4,Millwall!$Z80:$AK80,0)","v":{"$error":"#N/A"}},{"$f":"MATCH(AH$4,Millwall!$Z80:$AK80,0)","v":{"$error":"#N/A"}},{"$f":"MATCH(AI$4,Millwall!$Z80:$AK80,0)","v":{"$error":"#N/A"}},{"$f":"MATCH(AJ$4,Millwall!$Z80:$AK80,0)","v":{"$error":"#N/A"}},{"$f":"MATCH(AK$4,Millwall!$Z80:$AK80,0)","v":{"$error":"#N/A"}},{"$f":"MATCH(AL$4,Millwall!$Z80:$AK80,0)","v":{"$error":"#N/A"}},{"$f":"MATCH(AM$4,Millwall!$Z80:$AK80,0)","v":{"$error":"#N/A"}},{"$f":"MATCH(AN$4,Millwall!$Z80:$AK80,0)","v":{"$error":"#N/A"}},{"$f":"MATCH(AO$4,Millwall!$Z80:$AK80,0)","v":{"$error":"#N/A"}},{"$f":"MATCH(AP$4,Millwall!$Z80:$AK80,0)","v":{"$error":"#N/A"}},{"$f":"MATCH(AQ$4,Millwall!$Z80:$AK80,0)","v":{"$error":"#N/A"}},{"$f":"MATCH(AR$4,Millwall!$AD80:$AO80,0)","v":{"$error":"#N/A"}},null,null,null,null,null,{"$f":"MATCH(AX$3,Millwall!$Z80:$AK80,0)","v":{"$error":"#N/A"}},{"$f":"MATCH(AY$3,Millwall!$Z80:$AK80,0)","v":{"$error":"#N/A"}},{"$f":"MATCH(AZ$3,Millwall!$Z80:$AK80,0)","v":{"$error":"#N/A"}},{"$f":"MATCH(BA$3,Millwall!$Z80:$AK80,0)","v":{"$error":"#N/A"}},{"$f":"MATCH(BB$3,Millwall!$Z80:$AK80,0)","v":{"$error":"#N/A"}},{"$f":"MATCH(BC$3,Millwall!$Z80:$AK80,0)","v":{"$error":"#N/A"}},{"$f":"MATCH(BD$3,Millwall!$Z80:$AK80,0)","v":11},{"$f":"MATCH(BE$3,Millwall!$Z80:$AK80,0)","v":12},{"$f":"MATCH(BF$3,Millwall!$Z80:$AK80,0)","v":{"$error":"#N/A"}},{"$f":"MATCH(BG$3,Millwall!$Z80:$AK80,0)","v":{"$error":"#N/A"}},{"$f":"MATCH(BH$3,Millwall!$Z80:$AK80,0)","v":{"$error":"#N/A"}},{"$f":"MATCH(BI$3,Millwall!$Z80:$AK80,0)","v":{"$error":"#N/A"}},{"$f":"MATCH(BJ$3,Millwall!$Z80:$AK80,0)","v":{"$error":"#N/A"}},{"$f":"MATCH(BK$3,Millwall!$Z80:$AK80,0)","v":{"$error":"#N/A"}},{"$f":"MATCH(BL$3,Millwall!$Z80:$AK80,0)","v":{"$error":"#N/A"}},{"$f":"MATCH(BM$3,Millwall!$Z80:$AK80,0)","v":{"$error":"#N/A"}},{"$f":"MATCH(BN$3,Millwall!$Z80:$AK80,0)","v":{"$error":"#N/A"}},{"$f":"MATCH(BO$3,Millwall!$Z80:$AK80,0)","v":{"$error":"#N/A"}},{"$f":"MATCH(BP$3,Millwall!$Z80:$AK80,0)","v":{"$error":"#N/A"}},{"$f":"MATCH(BQ$3,Millwall!$Z80:$AK80,0)","v":{"$error":"#N/A"}},{"$f":"MATCH(BR$3,Millwall!$Z80:$AK80,0)","v":{"$error":"#N/A"}},{"$f":"MATCH(BS$3,Millwall!$Z80:$AK80,0)","v":{"$error":"#N/A"}},{"$f":"MATCH(BT$3,Millwall!$Z80:$AK80,0)","v":{"$error":"#N/A"}},{"$f":"MATCH(BU$3,Millwall!$Z80:$AK80,0)","v":{"$error":"#N/A"}},{"$f":"MATCH(BV$3,Millwall!$Z80:$AK80,0)","v":{"$error":"#N/A"}},{"$f":"MATCH(BW$3,Millwall!$Z80:$AK80,0)","v":{"$error":"#N/A"}},{"$f":"MATCH(BX$3,Millwall!$Z80:$AK80,0)","v":{"$error":"#N/A"}},{"$f":"MATCH(BY$3,Millwall!$Z80:$AK80,0)","v":{"$error":"#N/A"}},{"$f":"MATCH(BZ$3,Millwall!$Z80:$AK80,0)","v":{"$error":"#N/A"}},{"$f":"MATCH(CA$3,Millwall!$Z80:$AK80,0)","v":{"$error":"#N/A"}},{"$f":"MATCH(CB$3,Millwall!$Z80:$AK80,0)","v":{"$error":"#N/A"}},{"$f":"MATCH(CC$3,Millwall!$Z80:$AK80,0)","v":{"$error":"#N/A"}},{"$f":"MATCH(CD$3,Millwall!$Z80:$AK80,0)","v":{"$error":"#N/A"}},{"$f":"MATCH(CE$3,Millwall!$Z80:$AK80,0)","v":{"$error":"#N/A"}},null,null,null,null,null,null,{"$f":"$CM$10&\" [**\"","v":"Hinshelwood [**"},{"$f":"Millwall!$Z174","v":"Hinshelwood"},"Hinshelwood (**",{"$f":"$CM$10&\"**\"","v":"Hinshelwood**"},null,{"$f":"$CM$10","v":"Hinshelwood"},{"$f":"$CN$10","v":"Hinshelwood (**"},{"$f":"$CO$10","v":"Hinshelwood**"},null,{"$f":"Millwall!$BZ14","v":2},{"$f":"Millwall!$CE14","v":0},{"$f":"Millwall!$CJ14","v":0},{"$f":"Millwall!$CO14","v":0}]
[null,null,0,7,null,{"$f":"Millwall!V81","v":"1985-09-17"},null,{"$f":"Millwall!W81","v":"Hull City"},{"$f":"Millwall!X81","v":"(A)"},{"$f":"Millwall!Y81","v":"L 0-3"},{"$f":"MATCH(K$4,Millwall!$Z81:$AK81,0)","v":4},{"$f":"MATCH(L$4,Millwall!$Z81:$AK81,0)","v":12},{"$f":"MATCH(M$4,Millwall!$Z81:$AK81,0)","v":{"$error":"#N/A"}},{"$f":"MATCH(N$4,Millwall!$Z81:$AK81,0)","v":9},{"$f":"MATCH(O$4,Millwall!$Z81:$AK81,0)","v":{"$error":"#N/A"}},{"$f":"MATCH(P$4,Millwall!$Z81:$AK81,0)","v":2},{"$f":"MATCH(Q$4,Millwall!$Z81:$AK81,0)","v":11},{"$f":"MATCH(R$4,Millwall!$Z81:$AK81,0)","v":{"$error":"#N/A"}},{"$f":"MATCH(S$4,Millwall!$Z81:$AK81,0)","v":10},{"$f":"MATCH(T$4,Millwall!$Z81:$AK81,0)","v":7},{"$f":"MATCH(U$4,Millwall!$Z81:$AK81,0)","v":{"$error":"#N/A"}},{"$f":"MATCH(V$4,Millwall!$Z81:$AK81,0)","v":5},{"$f":"MATCH(W$4,Millwall!$Z81:$AK81,0)","v":6},{"$f":"MATCH(X$4,Millwall!$Z81:$AK81,0)","v":{"$error":"#N/A"}},{"$f":"MATCH(Y$4,Millwall!$Z81:$AK81,0)","v":3},{"$f":"MATCH(Z$4,Millwall!$Z81:$AK81,0)","v":1},{"$f":"MATCH(AA$4,Millwall!$Z81:$AK81,0)","v":{"$error":"#N/A"}},{"$f":"MATCH(AB$4,Millwall!$Z81:$AK81,0)","v":{"$error":"#N/A"}},{"$f":"MATCH(AC$4,Millwall!$Z81:$AK81,0)","v":{"$error":"#N/A"}},{"$f":"MATCH(AD$4,Millwall!$Z81:$AK81,0)","v":{"$error":"#N/A"}},{"$f":"MATCH(AE$4,Millwall!$Z81:$AK81,0)","v":8},{"$f":"MATCH(AF$4,Millwall!$Z81:$AK81,0)","v":{"$error":"#N/A"}},{"$f":"MATCH(AG$4,Millwall!$Z81:$AK81,0)","v":{"$error":"#N/A"}},{"$f":"MATCH(AH$4,Millwall!$Z81:$AK81,0)","v":{"$error":"#N/A"}},{"$f":"MATCH(AI$4,Millwall!$Z81:$AK81,0)","v":{"$error":"#N/A"}},{"$f":"MATCH(AJ$4,Millwall!$Z81:$AK81,0)","v":{"$error":"#N/A"}},{"$f":"MATCH(AK$4,Millwall!$Z81:$AK81,0)","v":{"$error":"#N/A"}},{"$f":"MATCH(AL$4,Millwall!$Z81:$AK81,0)","v":{"$error":"#N/A"}},{"$f":"MATCH(AM$4,Millwall!$Z81:$AK81,0)","v":{"$error":"#N/A"}},{"$f":"MATCH(AN$4,Millwall!$Z81:$AK81,0)","v":{"$error":"#N/A"}},{"$f":"MATCH(AO$4,Millwall!$Z81:$AK81,0)","v":{"$error":"#N/A"}},{"$f":"MATCH(AP$4,Millwall!$Z81:$AK81,0)","v":{"$error":"#N/A"}},{"$f":"MATCH(AQ$4,Millwall!$Z81:$AK81,0)","v":{"$error":"#N/A"}},{"$f":"MATCH(AR$4,Millwall!$AD81:$AO81,0)","v":{"$error":"#N/A"}},null,null,null,null,null,{"$f":"MATCH(AX$3,Millwall!$Z81:$AK81,0)","v":{"$error":"#N/A"}},{"$f":"MATCH(AY$3,Millwall!$Z81:$AK81,0)","v":12},{"$f":"MATCH(AZ$3,Millwall!$Z81:$AK81,0)","v":{"$error":"#N/A"}},{"$f":"MATCH(BA$3,Millwall!$Z81:$AK81,0)","v":{"$error":"#N/A"}},{"$f":"MATCH(BB$3,Millwall!$Z81:$AK81,0)","v":{"$error":"#N/A"}},{"$f":"MATCH(BC$3,Millwall!$Z81:$AK81,0)","v":{"$error":"#N/A"}},{"$f":"MATCH(BD$3,Millwall!$Z81:$AK81,0)","v":11},{"$f":"MATCH(BE$3,Millwall!$Z81:$AK81,0)","v":{"$error":"#N/A"}},{"$f":"MATCH(BF$3,Millwall!$Z81:$AK81,0)","v":{"$error":"#N/A"}},{"$f":"MATCH(BG$3,Millwall!$Z81:$AK81,0)","v":{"$error":"#N/A"}},{"$f":"MATCH(BH$3,Millwall!$Z81:$AK81,0)","v":{"$error":"#N/A"}},{"$f":"MATCH(BI$3,Millwall!$Z81:$AK81,0)","v":{"$error":"#N/A"}},{"$f":"MATCH(BJ$3,Millwall!$Z81:$AK81,0)","v":{"$error":"#N/A"}},{"$f":"MATCH(BK$3,Millwall!$Z81:$AK81,0)","v":{"$error":"#N/A"}},{"$f":"MATCH(BL$3,Millwall!$Z81:$AK81,0)","v":{"$error":"#N/A"}},{"$f":"MATCH(BM$3,Millwall!$Z81:$AK81,0)","v":{"$error":"#N/A"}},{"$f":"MATCH(BN$3,Millwall!$Z81:$AK81,0)","v":{"$error":"#N/A"}},{"$f":"MATCH(BO$3,Millwall!$Z81:$AK81,0)","v":{"$error":"#N/A"}},{"$f":"MATCH(BP$3,Millwall!$Z81:$AK81,0)","v":{"$error":"#N/A"}},{"$f":"MATCH(BQ$3,Millwall!$Z81:$AK81,0)","v":{"$error":"#N/A"}},{"$f":"MATCH(BR$3,Millwall!$Z81:$AK81,0)","v":{"$error":"#N/A"}},{"$f":"MATCH(BS$3,Millwall!$Z81:$AK81,0)","v":{"$error":"#N/A"}},{"$f":"MATCH(BT$3,Millwall!$Z81:$AK81,0)","v":{"$error":"#N/A"}},{"$f":"MATCH(BU$3,Millwall!$Z81:$AK81,0)","v":{"$error":"#N/A"}},{"$f":"MATCH(BV$3,Millwall!$Z81:$AK81,0)","v":{"$error":"#N/A"}},{"$f":"MATCH(BW$3,Millwall!$Z81:$AK81,0)","v":{"$error":"#N/A"}},{"$f":"MATCH(BX$3,Millwall!$Z81:$AK81,0)","v":{"$error":"#N/A"}},{"$f":"MATCH(BY$3,Millwall!$Z81:$AK81,0)","v":{"$error":"#N/A"}},{"$f":"MATCH(BZ$3,Millwall!$Z81:$AK81,0)","v":{"$error":"#N/A"}},{"$f":"MATCH(CA$3,Millwall!$Z81:$AK81,0)","v":{"$error":"#N/A"}},{"$f":"MATCH(CB$3,Millwall!$Z81:$AK81,0)","v":{"$error":"#N/A"}},{"$f":"MATCH(CC$3,Millwall!$Z81:$AK81,0)","v":{"$error":"#N/A"}},{"$f":"MATCH(CD$3,Millwall!$Z81:$AK81,0)","v":{"$error":"#N/A"}},{"$f":"MATCH(CE$3,Millwall!$Z81:$AK81,0)","v":{"$error":"#N/A"}},null,null,null,null,null,null,{"$f":"$CM$11&\" [**\"","v":"Kinsella [**"},{"$f":"Millwall!$Z175","v":"Kinsella"},"Kinsella (**",{"$f":"$CM$11&\"**\"","v":"Kinsella**"},null,{"$f":"$CM$11","v":"Kinsella"},{"$f":"$CN$11","v":"Kinsella (**"},{"$f":"$CO$11","v":"Kinsella**"},null,{"$f":"Millwall!$BZ15","v":1},{"$f":"Millwall!$CE15","v":0},{"$f":"Millwall!$CJ15","v":0},{"$f":"Millwall!$CO15","v":0}]
[null,null,0,8,null,{"$f":"Millwall!V82","v":"1985-09-21"},null,{"$f":"Millwall!W82","v":"C Palace"},{"$f":"Millwall!X82","v":"(A)"},{"$f":"Millwall!Y82","v":"L 1-2"},{"$f":"MATCH(K$4,Millwall!$Z82:$AK82,0)","v":4},{"$f":"MATCH(L$4,Millwall!$Z82:$AK82,0)","v":12},{"$f":"MATCH(M$4,Millwall!$Z82:$AK82,0)","v":{"$error":"#N/A"}},{"$f":"MATCH(N$4,Millwall!$Z82:$AK82,0)","v":9},{"$f":"MATCH(O$4,Millwall!$Z82:$AK82,0)","v":{"$error":"#N/A"}},{"$f":"MATCH(P$4,Millwall!$Z82:$AK82,0)","v":3},{"$f":"MATCH(Q$4,Millwall!$Z82:$AK82,0)","v":{"$error":"#N/A"}},{"$f":"MATCH(R$4,Millwall!$Z82:$AK82,0)","v":11},{"$f":"MATCH(S$4,Millwall!$Z82:$AK82,0)","v":10},{"$f":"MATCH(T$4,Millwall!$Z82:$AK82,0)","v":7},{"$f":"MATCH(U$4,Millwall!$Z82:$AK82,0)","v":{"$error":"#N/A"}},{"$f":"MATCH(V$4,Millwall!$Z82:$AK82,0)","v":5},{"$f":"MATCH(W$4,Millwall!$Z82:$AK82,0)","v":6},{"$f":"MATCH(X$4,Millwall!$Z82:$AK82,0)","v":{"$error":"#N/A"}},{"$f":"MATCH(Y$4,Millwall!$Z82:$AK82,0)","v":{"$error":"#N/A"}},{"$f":"MATCH(Z$4,Millwall!$Z82:$AK82,0)","v":1},{"$f":"MATCH(AA$4,Millwall!$Z82:$AK82,0)","v":{"$error":"#N/A"}},{"$f":"MATCH(AB$4,Millwall!$Z82:$AK82,0)","v":{"$error":"#N/A"}},{"$f":"MATCH(AC$4,Millwall!$Z82:$AK82,0)","v":2},{"$f":"MATCH(AD$4,Millwall!$Z82:$AK82,0)","v":{"$error":"#N/A"}},{"$f":"MATCH(AE$4,Millwall!$Z82:$AK82,0)","v":8},{"$f":"MATCH(AF$4,Millwall!$Z82:$AK82,0)","v":{"$error":"#N/A"}},{"$f":"MATCH(AG$4,Millwall!$Z82:$AK82,0)","v":{"$error":"#N/A"}},{"$f":"MATCH(AH$4,Millwall!$Z82:$AK82,0)","v":{"$error":"#N/A"}},{"$f":"MATCH(AI$4,Millwall!$Z82:$AK82,0)","v":{"$error":"#N/A"}},{"$f":"MATCH(AJ$4,Millwall!$Z82:$AK82,0)","v":{"$error":"#N/A"}},{"$f":"MATCH(AK$4,Millwall!$Z82:$AK82,0)","v":{"$error":"#N/A"}},{"$f":"MATCH(AL$4,Millwall!$Z82:$AK82,0)","v":{"$error":"#N/A"}},{"$f":"MATCH(AM$4,Millwall!$Z82:$AK82,0)","v":{"$error":"#N/A"}},{"$f":"MATCH(AN$4,Millwall!$Z82:$AK82,0)","v":{"$error":"#N/A"}},{"$f":"MATCH(AO$4,Millwall!$Z82:$AK82,0)","v":{"$error":"#N/A"}},{"$f":"MATCH(AP$4,Millwall!$Z82:$AK82,0)","v":{"$error":"#N/A"}},{"$f":"MATCH(AQ$4,Millwall!$Z82:$AK82,0)","v":{"$error":"#N/A"}},{"$f":"MATCH(AR$4,Millwall!$AD82:$AO82,0)","v":{"$error":"#N/A"}},null,null,null,null,null,{"$f":"MATCH(AX$3,Millwall!$Z82:$AK82,0)","v":{"$error":"#N/A"}},{"$f":"MATCH(AY$3,Millwall!$Z82:$AK82,0)","v":12},{"$f":"MATCH(AZ$3,Millwall!$Z82:$AK82,0)","v":{"$error":"#N/A"}},{"$f":"MATCH(BA$3,Millwall!$Z82:$AK82,0)","v":{"$error":"#N/A"}},{"$f":"MATCH(BB$3,Millwall!$Z82:$AK82,0)","v":{"$error":"#N/A"}},{"$f":"MATCH(BC$3,Millwall!$Z82:$AK82,0)","v":{"$error":"#N/A"}},{"$f":"MATCH(BD$3,Millwall!$Z82:$AK82,0)","v":{"$error":"#N/A"}},{"$f":"MATCH(BE$3,Millwall!$Z82:$AK82,0)","v":{"$error":"#N/A"}},{"$f":"MATCH(BF$3,Millwall!$Z82:$AK82,0)","v":{"$error":"#N/A"}},{"$f":"MATCH(BG$3,Millwall!$Z82:$AK82,0)","v":{"$error":"#N/A"}},{"$f":"MATCH(BH$3,Millwall!$Z82:$AK82,0)","v":{"$error":"#N/A"}},{"$f":"MATCH(BI$3,Millwall!$Z82:$AK82,0)","v":{"$error":"#N/A"}},{"$f":"MATCH(BJ$3,Millwall!$Z82:$AK82,0)","v":{"$error":"#N/A"}},{"$f":"MATCH(BK$3,Millwall!$Z82:$AK82,0)","v":{"$error":"#N/A"}},{"$f":"MATCH(BL$3,Millwall!$Z82:$AK82,0)","v":{"$error":"#N/A"}},{"$f":"MATCH(BM$3,Millwall!$Z82:$AK82,0)","v":{"$error":"#N/A"}},{"$f":"MATCH(BN$3,Millwall!$Z82:$AK82,0)","v":{"$error":"#N/A"}},{"$f":"MATCH(BO$3,Millwall!$Z82:$AK82,0)","v":{"$error":"#N/A"}},{"$f":"MATCH(BP$3,Millwall!$Z82:$AK82,0)","v":{"$error":"#N/A"}},{"$f":"MATCH(BQ$3,Millwall!$Z82:$AK82,0)","v":{"$error":"#N/A"}},{"$f":"MATCH(BR$3,Millwall!$Z82:$AK82,0)","v":{"$error":"#N/A"}},{"$f":"MATCH(BS$3,Millwall!$Z82:$AK82,0)","v":{"$error":"#N/A"}},{"$f":"MATCH(BT$3,Millwall!$Z82:$AK82,0)","v":{"$error":"#N/A"}},{"$f":"MATCH(BU$3,Millwall!$Z82:$AK82,0)","v":{"$error":"#N/A"}},{"$f":"MATCH(BV$3,Millwall!$Z82:$AK82,0)","v":{"$error":"#N/A"}},{"$f":"MATCH(BW$3,Millwall!$Z82:$AK82,0)","v":{"$error":"#N/A"}},{"$f":"MATCH(BX$3,Millwall!$Z82:$AK82,0)","v":{"$error":"#N/A"}},{"$f":"MATCH(BY$3,Millwall!$Z82:$AK82,0)","v":{"$error":"#N/A"}},{"$f":"MATCH(BZ$3,Millwall!$Z82:$AK82,0)","v":{"$error":"#N/A"}},{"$f":"MATCH(CA$3,Millwall!$Z82:$AK82,0)","v":{"$error":"#N/A"}},{"$f":"MATCH(CB$3,Millwall!$Z82:$AK82,0)","v":{"$error":"#N/A"}},{"$f":"MATCH(CC$3,Millwall!$Z82:$AK82,0)","v":{"$error":"#N/A"}},{"$f":"MATCH(CD$3,Millwall!$Z82:$AK82,0)","v":{"$error":"#N/A"}},{"$f":"MATCH(CE$3,Millwall!$Z82:$AK82,0)","v":{"$error":"#N/A"}},null,null,null,null,null,null,{"$f":"$CM$12&\" [**\"","v":"Leslie [**"},{"$f":"Millwall!$Z176","v":"Leslie"},"Leslie (**",{"$f":"$CM$12&\"**\"","v":"Leslie**"},null,{"$f":"$CM$12","v":"Leslie"},{"$f":"$CN$12","v":"Leslie (**"},{"$f":"$CO$12","v":"Leslie**"},null,{"$f":"Millwall!$BZ16","v":1},{"$f":"Millwall!$CE16","v":0},{"$f":"Millwall!$CJ16","v":1},{"$f":"Millwall!$CO16","v":0}]
[null,null,0,9,null,{"$f":"Millwall!V83","v":"1985-09-28"},null,{"$f":"Millwall!W83","v":"Oldham"},{"$f":"Millwall!X83","v":"(H)"},{"$f":"Millwall!Y83","v":"L 0-1"},{"$f":"MATCH(K$4,Millwall!$Z83:$AK83,0)","v":4},{"$f":"MATCH(L$4,Millwall!$Z83:$AK83,0)","v":{"$error":"#N/A"}},{"$f":"MATCH(M$4,Millwall!$Z83:$AK83,0)","v":{"$error":"#N/A"}},{"$f":"MATCH(N$4,Millwall!$Z83:$AK83,0)","v":9},{"$f":"MATCH(O$4,Millwall!$Z83:$AK83,0)","v":{"$error":"#N/A"}},{"$f":"MATCH(P$4,Millwall!$Z83:$AK83,0)","v":3},{"$f":"MATCH(Q$4,Millwall!$Z83:$AK83,0)","v":12},{"$f":"MATCH(R$4,Millwall!$Z83:$AK83,0)","v":11},{"$f":"MATCH(S$4,Millwall!$Z83:$AK83,0)","v":10},{"$f":"MATCH(T$4,Millwall!$Z83:$AK83,0)","v":7},{"$f":"MATCH(U$4,Millwall!$Z83:$AK83,0)","v":{"$error":"#N/A"}},{"$f":"MATCH(V$4,Millwall!$Z83:$AK83,0)","v":{"$error":"#N/A"}},{"$f":"MATCH(W$4,Millwall!$Z83:$AK83,0)","v":6},{"$f":"MATCH(X$4,Millwall!$Z83:$AK83,0)","v":{"$error":"#N/A"}},{"$f":"MATCH(Y$4,Millwall!$Z83:$AK83,0)","v":{"$error":"#N/A"}},{"$f":"MATCH(Z$4,Millwall!$Z83:$AK83,0)","v":1},{"$f":"MATCH(AA$4,Millwall!$Z83:$AK83,0)","v":{"$error":"#N/A"}},{"$f":"MATCH(AB$4,Millwall!$Z83:$AK83,0)","v":5},{"$f":"MATCH(AC$4,Millwall!$Z83:$AK83,0)","v":2},{"$f":"MATCH(AD$4,Millwall!$Z83:$AK83,0)","v":{"$error":"#N/A"}},{"$f":"MATCH(AE$4,Millwall!$Z83:$AK83,0)","v":8},{"$f":"MATCH(AF$4,Millwall!$Z83:$AK83,0)","v":{"$error":"#N/A"}},{"$f":"MATCH(AG$4,Millwall!$Z83:$AK83,0)","v":{"$error":"#N/A"}},{"$f":"MATCH(AH$4,Millwall!$Z83:$AK83,0)","v":{"$error":"#N/A"}},{"$f":"MATCH(AI$4,Millwall!$Z83:$AK83,0)","v":{"$error":"#N/A"}},{"$f":"MATCH(AJ$4,Millwall!$Z83:$AK83,0)","v":{"$error":"#N/A"}},{"$f":"MATCH(AK$4,Millwall!$Z83:$AK83,0)","v":{"$error":"#N/A"}},{"$f":"MATCH(AL$4,Millwall!$Z83:$AK83,0)","v":{"$error":"#N/A"}},{"$f":"MATCH(AM$4,Millwall!$Z83:$AK83,0)","v":{"$error":"#N/A"}},{"$f":"MATCH(AN$4,Millwall!$Z83:$AK83,0)","v":{"$error":"#N/A"}},{"$f":"MATCH(AO$4,Millwall!$Z83:$AK83,0)","v":{"$error":"#N/A"}},{"$f":"MATCH(AP$4,Millwall!$Z83:$AK83,0)","v":{"$error":"#N/A"}},{"$f":"MATCH(AQ$4,Millwall!$Z83:$AK83,0)","v":{"$error":"#N/A"}},{"$f":"MATCH(AR$4,Millwall!$AD83:$AO83,0)","v":{"$error":"#N/A"}},null,null,null,null,null,{"$f":"MATCH(AX$3,Millwall!$Z83:$AK83,0)","v":{"$error":"#N/A"}},{"$f":"MATCH(AY$3,Millwall!$Z83:$AK83,0)","v":{"$error":"#N/A"}},{"$f":"MATCH(AZ$3,Millwall!$Z83:$AK83,0)","v":{"$error":"#N/A"}},{"$f":"MATCH(BA$3,Millwall!$Z83:$AK83,0)","v":{"$error":"#N/A"}},{"$f":"MATCH(BB$3,Millwall!$Z83:$AK83,0)","v":{"$error":"#N/A"}},{"$f":"MATCH(BC$3,Millwall!$Z83:$AK83,0)","v":{"$error":"#N/A"}},{"$f":"MATCH(BD$3,Millwall!$Z83:$AK83,0)","v":12},{"$f":"MATCH(BE$3,Millwall!$Z83:$AK83,0)","v":{"$error":"#N/A"}},{"$f":"MATCH(BF$3,Millwall!$Z83:$AK83,0)","v":10},{"$f":"MATCH(BG$3,Millwall!$Z83:$AK83,0)","v":{"$error":"#N/A"}},{"$f":"MATCH(BH$3,Millwall!$Z83:$AK83,0)","v":{"$error":"#N/A"}},{"$f":"MATCH(BI$3,Millwall!$Z83:$AK83,0)","v":{"$error":"#N/A"}},{"$f":"MATCH(BJ$3,Millwall!$Z83:$AK83,0)","v":{"$error":"#N/A"}},{"$f":"MATCH(BK$3,Millwall!$Z83:$AK83,0)","v":{"$error":"#N/A"}},{"$f":"MATCH(BL$3,Millwall!$Z83:$AK83,0)","v":{"$error":"#N/A"}},{"$f":"MATCH(BM$3,Millwall!$Z83:$AK83,0)","v":{"$error":"#N/A"}},{"$f":"MATCH(BN$3,Millwall!$Z83:$AK83,0)","v":{"$error":"#N/A"}},{"$f":"MATCH(BO$3,Millwall!$Z83:$AK83,0)","v":{"$error":"#N/A"}},{"$f":"MATCH(BP$3,Millwall!$Z83:$AK83,0)","v":{"$error":"#N/A"}},{"$f":"MATCH(BQ$3,Millwall!$Z83:$AK83,0)","v":{"$error":"#N/A"}},{"$f":"MATCH(BR$3,Millwall!$Z83:$AK83,0)","v":{"$error":"#N/A"}},{"$f":"MATCH(BS$3,Millwall!$Z83:$AK83,0)","v":{"$error":"#N/A"}},{"$f":"MATCH(BT$3,Millwall!$Z83:$AK83,0)","v":{"$error":"#N/A"}},{"$f":"MATCH(BU$3,Millwall!$Z83:$AK83,0)","v":{"$error":"#N/A"}},{"$f":"MATCH(BV$3,Millwall!$Z83:$AK83,0)","v":{"$error":"#N/A"}},{"$f":"MATCH(BW$3,Millwall!$Z83:$AK83,0)","v":{"$error":"#N/A"}},{"$f":"MATCH(BX$3,Millwall!$Z83:$AK83,0)","v":{"$error":"#N/A"}},{"$f":"MATCH(BY$3,Millwall!$Z83:$AK83,0)","v":{"$error":"#N/A"}},{"$f":"MATCH(BZ$3,Millwall!$Z83:$AK83,0)","v":{"$error":"#N/A"}},{"$f":"MATCH(CA$3,Millwall!$Z83:$AK83,0)","v":{"$error":"#N/A"}},{"$f":"MATCH(CB$3,Millwall!$Z83:$AK83,0)","v":{"$error":"#N/A"}},{"$f":"MATCH(CC$3,Millwall!$Z83:$AK83,0)","v":{"$error":"#N/A"}},{"$f":"MATCH(CD$3,Millwall!$Z83:$AK83,0)","v":{"$error":"#N/A"}},{"$f":"MATCH(CE$3,Millwall!$Z83:$AK83,0)","v":{"$error":"#N/A"}},null,null,null,null,null,null,{"$f":"$CM$13&\" [**\"","v":"Lovell [**"},{"$f":"Millwall!$Z177","v":"Lovell"},"Lovell (**",{"$f":"$CM$13&\"**\"","v":"Lovell**"},null,{"$f":"$CM$13","v":"Lovell"},{"$f":"$CN$13","v":"Lovell (**"},{"$f":"$CO$13","v":"Lovell**"},null,{"$f":"Millwall!$BZ17","v":14},{"$f":"Millwall!$CE17","v":1},{"$f":"Millwall!$CJ17","v":3},{"$f":"Millwall!$CO17","v":1}]
[null,null,0,10,null,{"$f":"Millwall!V84","v":"1985-10-05"},null,{"$f":"Millwall!W84","v":"Sheff Utd"},{"$f":"Millwall!X84","v":"(A)"},{"$f":"Millwall!Y84","v":"W 3-1"},{"$f":"MATCH(K$4,Millwall!$Z84:$AK84,0)","v":4},{"$f":"MATCH(L$4,Millwall!$Z84:$AK84,0)","v":8},{"$f":"MATCH(M$4,Millwall!$Z84:$AK84,0)","v":{"$error":"#N/A"}},{"$f":"MATCH(N$4,Millwall!$Z84:$AK84,0)","v":9},{"$f":"MATCH(O$4,Millwall!$Z84:$AK84,0)","v":{"$error":"#N/A"}},{"$f":"MATCH(P$4,Millwall!$Z84:$AK84,0)","v":{"$error":"#N/A"}},{"$f":"MATCH(Q$4,Millwall!$Z84:$AK84,0)","v":11},{"$f":"MATCH(R$4,Millwall!$Z84:$AK84,0)","v":{"$error":"#N/A"}},{"$f":"MATCH(S$4,Millwall!$Z84:$AK84,0)","v":10},{"$f":"MATCH(T$4,Millwall!$Z84:$AK84,0)","v":7},{"$f":"MATCH(U$4,Millwall!$Z84:$AK84,0)","v":{"$error":"#N/A"}},{"$f":"MATCH(V$4,Millwall!$Z84:$AK84,0)","v":12},{"$f":"MATCH(W$4,Millwall!$Z84:$AK84,0)","v":6},{"$f":"MATCH(X$4,Millwall!$Z84:$AK84,0)","v":{"$error":"#N/A"}},{"$f":"MATCH(Y$4,Millwall!$Z84:$AK84,0)","v":3},{"$f":"MATCH(Z$4,Millwall!$Z84:$AK84,0)","v":1},{"$f":"MATCH(AA$4,Millwall!$Z84:$AK84,0)","v":{"$error":"#N/A"}},{"$f":"MATCH(AB$4,Millwall!$Z84:$AK84,0)","v":5},{"$f":"MATCH(AC$4,Millwall!$Z84:$AK84,0)","v":2},{"$f":"MATCH(AD$4,Millwall!$Z84:$AK84,0)","v":{"$error":"#N/A"}},{"$f":"MATCH(AE$4,Millwall!$Z84:$AK84,0)","v":{"$error":"#N/A"}},{"$f":"MATCH(AF$4,Millwall!$Z84:$AK84,0)","v":{"$error":"#N/A"}},{"$f":"MATCH(AG$4,Millwall!$Z84:$AK84,0)","v":{"$error":"#N/A"}},{"$f":"MATCH(AH$4,Millwall!$Z84:$AK84,0)","v":{"$error":"#N/A"}},{"$f":"MATCH(AI$4,Millwall!$Z84:$AK84,0)","v":{"$error":"#N/A"}},{"$f":"MATCH(AJ$4,Millwall!$Z84:$AK84,0)","v":{"$error":"#N/A"}},{"$f":"MATCH(AK$4,Millwall!$Z84:$AK84,0)","v":{"$error":"#N/A"}},{"$f":"MATCH(AL$4,Millwall!$Z84:$AK84,0)","v":{"$error":"#N/A"}},{"$f":"MATCH(AM$4,Millwall!$Z84:$AK84,0)","v":{"$error":"#N/A"}},{"$f":"MATCH(AN$4,Millwall!$Z84:$AK84,0)","v":{"$error":"#N/A"}},{"$f":"MATCH(AO$4,Millwall!$Z84:$AK84,0)","v":{"$error":"#N/A"}},{"$f":"MATCH(AP$4,Millwall!$Z84:$AK84,0)","v":{"$error":"#N/A"}},{"$f":"MATCH(AQ$4,Millwall!$Z84:$AK84,0)","v":{"$error":"#N/A"}},{"$f":"MATCH(AR$4,Millwall!$AD84:$AO84,0)","v":{"$error":"#N/A"}},null,null,null,null,null,{"$f":"MATCH(AX$3,Millwall!$Z84:$AK84,0)","v":{"$error":"#N/A"}},{"$f":"MATCH(AY$3,Millwall!$Z84:$AK84,0)","v":{"$error":"#N/A"}},{"$f":"MATCH(AZ$3,Millwall!$Z84:$AK84,0)","v":{"$error":"#N/A"}},{"$f":"MATCH(BA$3,Millwall!$Z84:$AK84,0)","v":{"$error":"#N/A"}},{"$f":"MATCH(BB$3,Millwall!$Z84:$AK84,0)","v":{"$error":"#N/A"}},{"$f":"MATCH(BC$3,Millwall!$Z84:$AK84,0)","v":{"$error":"#N/A"}},{"$f":"MATCH(BD$3,Millwall!$Z84:$AK84,0)","v":{"$error":"#N/A"}},{"$f":"MATCH(BE$3,Millwall!$Z84:$AK84,0)","v":{"$error":"#N/A"}},{"$f":"MATCH(BF$3,Millwall!$Z84:$AK84,0)","v":{"$error":"#N/A"}},{"$f":"MATCH(BG$3,Millwall!$Z84:$AK84,0)","v":{"$error":"#N/A"}},{"$f":"MATCH(BH$3,Millwall!$Z84:$AK84,0)","v":{"$error":"#N/A"}},{"$f":"MATCH(BI$3,Millwall!$Z84:$AK84,0)","v":{"$error":"#N/A"}},{"$f":"MATCH(BJ$3,Millwall!$Z84:$AK84,0)","v":{"$error":"#N/A"}},{"$f":"MATCH(BK$3,Millwall!$Z84:$AK84,0)","v":{"$error":"#N/A"}},{"$f":"MATCH(BL$3,Millwall!$Z84:$AK84,0)","v":{"$error":"#N/A"}},{"$f":"MATCH(BM$3,Millwall!$Z84:$AK84,0)","v":{"$error":"#N/A"}},{"$f":"MATCH(BN$3,Millwall!$Z84:$AK84,0)","v":{"$error":"#N/A"}},{"$f":"MATCH(BO$3,Millwall!$Z84:$AK84,0)","v":{"$error":"#N/A"}},{"$f":"MATCH(BP$3,Millwall!$Z84:$AK84,0)","v":{"$error":"#N/A"}},{"$f":"MATCH(BQ$3,Millwall!$Z84:$AK84,0)","v":{"$error":"#N/A"}},{"$f":"MATCH(BR$3,Millwall!$Z84:$AK84,0)","v":{"$error":"#N/A"}},{"$f":"MATCH(BS$3,Millwall!$Z84:$AK84,0)","v":{"$error":"#N/A"}},{"$f":"MATCH(BT$3,Millwall!$Z84:$AK84,0)","v":{"$error":"#N/A"}},{"$f":"MATCH(BU$3,Millwall!$Z84:$AK84,0)","v":{"$error":"#N/A"}},{"$f":"MATCH(BV$3,Millwall!$Z84:$AK84,0)","v":{"$error":"#N/A"}},{"$f":"MATCH(BW$3,Millwall!$Z84:$AK84,0)","v":{"$error":"#N/A"}},{"$f":"MATCH(BX$3,Millwall!$Z84:$AK84,0)","v":{"$error":"#N/A"}},{"$f":"MATCH(BY$3,Millwall!$Z84:$AK84,0)","v":{"$error":"#N/A"}},{"$f":"MATCH(BZ$3,Millwall!$Z84:$AK84,0)","v":{"$error":"#N/A"}},{"$f":"MATCH(CA$3,Millwall!$Z84:$AK84,0)","v":{"$error":"#N/A"}},{"$f":"MATCH(CB$3,Millwall!$Z84:$AK84,0)","v":{"$error":"#N/A"}},{"$f":"MATCH(CC$3,Millwall!$Z84:$AK84,0)","v":{"$error":"#N/A"}},{"$f":"MATCH(CD$3,Millwall!$Z84:$AK84,0)","v":{"$error":"#N/A"}},{"$f":"MATCH(CE$3,Millwall!$Z84:$AK84,0)","v":{"$error":"#N/A"}},null,null,null,null,null,null,{"$f":"$CM$14&\" [**\"","v":"Lowndes [**"},{"$f":"Millwall!$Z178","v":"Lowndes"},"Lowndes (**",{"$f":"$CM$14&\"**\"","v":"Lowndes**"},null,{"$f":"$CM$14","v":"Lowndes"},{"$f":"$CN$14","v":"Lowndes (**"},{"$f":"$CO$14","v":"Lowndes**"},null,{"$f":"Millwall!$BZ18","v":6},{"$f":"Millwall!$CE18","v":0},{"$f":"Millwall!$CJ18","v":1},{"$f":"Millwall!$CO18","v":0}]
[null,null,0,11,null,{"$f":"Millwall!V85","v":"1985-10-12"},null,{"$f":"Millwall!W85","v":"Blackburn"},{"$f":"Millwall!X85","v":"(H)"},{"$f":"Millwall!Y85","v":"L 0-1"},{"$f":"MATCH(K$4,Millwall!$Z85:$AK85,0)","v":4},{"$f":"MATCH(L$4,Millwall!$Z85:$AK85,0)","v":8},{"$f":"MATCH(M$4,Millwall!$Z85:$AK85,0)","v":{"$error":"#N/A"}},{"$f":"MATCH(N$4,Millwall!$Z85:$AK85,0)","v":9},{"$f":"MATCH(O$4,Millwall!$Z85:$AK85,0)","v":{"$error":"#N/A"}},{"$f":"MATCH(P$4,Millwall!$Z85:$AK85,0)","v":12},{"$f":"MATCH(Q$4,Millwall!$Z85:$AK85,0)","v":11},{"$f":"MATCH(R$4,Millwall!$Z85:$AK85,0)","v":{"$error":"#N/A"}},{"$f":"MATCH(S$4,Millwall!$Z85:$AK85,0)","v":10},{"$f":"MATCH(T$4,Millwall!$Z85:$AK85,0)","v":7},{"$f":"MATCH(U$4,Millwall!$Z85:$AK85,0)","v":{"$error":"#N/A"}},{"$f":"MATCH(V$4,Millwall!$Z85:$AK85,0)","v":5},{"$f":"MATCH(W$4,Millwall!$Z85:$AK85,0)","v":6},{"$f":"MATCH(X$4,Millwall!$Z85:$AK85,0)","v":{"$error":"#N/A"}},{"$f":"MATCH(Y$4,Millwall!$Z85:$AK85,0)","v":3},{"$f":"MATCH(Z$4,Millwall!$Z85:$AK85,0)","v":1},{"$f":"MATCH(AA$4,Millwall!$Z85:$AK85,0)","v":{"$error":"#N/A"}},{"$f":"MATCH(AB$4,Millwall!$Z85:$AK85,0)","v":{"$error":"#N/A"}},{"$f":"MATCH(AC$4,Millwall!$Z85:$AK85,0)","v":2},{"$f":"MATCH(AD$4,Millwall!$Z85:$AK85,0)","v":{"$error":"#N/A"}},{"$f":"MATCH(AE$4,Millwall!$Z85:$AK85,0)","v":{"$error":"#N/A"}},{"$f":"MATCH(AF$4,Millwall!$Z85:$AK85,0)","v":{"$error":"#N/A"}},{"$f":"MATCH(AG$4,Millwall!$Z85:$AK85,0)","v":{"$error":"#N/A"}},{"$f":"MATCH(AH$4,Millwall!$Z85:$AK85,0)","v":{"$error":"#N/A"}},{"$f":"MATCH(AI$4,Millwall!$Z85:$AK85,0)","v":{"$error":"#N/A"}},{"$f":"MATCH(AJ$4,Millwall!$Z85:$AK85,0)","v":{"$error":"#N/A"}},{"$f":"MATCH(AK$4,Millwall!$Z85:$AK85,0)","v":{"$error":"#N/A"}},{"$f":"MATCH(AL$4,Millwall!$Z85:$AK85,0)","v":{"$error":"#N/A"}},{"$f":"MATCH(AM$4,Millwall!$Z85:$AK85,0)","v":{"$error":"#N/A"}},{"$f":"MATCH(AN$4,Millwall!$Z85:$AK85,0)","v":{"$error":"#N/A"}},{"$f":"MATCH(AO$4,Millwall!$Z85:$AK85,0)","v":{"$error":"#N/A"}},{"$f":"MATCH(AP$4,Millwall!$Z85:$AK85,0)","v":{"$error":"#N/A"}},{"$f":"MATCH(AQ$4,Millwall!$Z85:$AK85,0)","v":{"$error":"#N/A"}},{"$f":"MATCH(AR$4,Millwall!$AD85:$AO85,0)","v":{"$error":"#N/A"}},null,null,null,null,null,{"$f":"MATCH(AX$3,Millwall!$Z85:$AK85,0)","v":{"$error":"#N/A"}},{"$f":"MATCH(AY$3,Millwall!$Z85:$AK85,0)","v":{"$error":"#N/A"}},{"$f":"MATCH(AZ$3,Millwall!$Z85:$AK85,0)","v":{"$error":"#N/A"}},{"$f":"MATCH(BA$3,Millwall!$Z85:$AK85,0)","v":{"$error":"#N/A"}},{"$f":"MATCH(BB$3,Millwall!$Z85:$AK85,0)","v":{"$error":"#N/A"}},{"$f":"MATCH(BC$3,Millwall!$Z85:$AK85,0)","v":12},{"$f":"MATCH(BD$3,Millwall!$Z85:$AK85,0)","v":{"$error":"#N/A"}},{"$f":"MATCH(BE$3,Millwall!$Z85:$AK85,0)","v":{"$error":"#N/A"}},{"$f":"MATCH(BF$3,Millwall!$Z85:$AK85,0)","v":{"$error":"#N/A"}},{"$f":"MATCH(BG$3,Millwall!$Z85:$AK85,0)","v":7},{"$f":"MATCH(BH$3,Millwall!$Z85:$AK85,0)","v":{"$error":"#N/A"}},{"$f":"MATCH(BI$3,Millwall!$Z85:$AK85,0)","v":{"$error":"#N/A"}},{"$f":"MATCH(BJ$3,Millwall!$Z85:$AK85,0)","v":{"$error":"#N/A"}},{"$f":"MATCH(BK$3,Millwall!$Z85:$AK85,0)","v":{"$error":"#N/A"}},{"$f":"MATCH(BL$3,Millwall!$Z85:$AK85,0)","v":{"$error":"#N/A"}},{"$f":"MATCH(BM$3,Millwall!$Z85:$AK85,0)","v":{"$error":"#N/A"}},{"$f":"MATCH(BN$3,Millwall!$Z85:$AK85,0)","v":{"$error":"#N/A"}},{"$f":"MATCH(BO$3,Millwall!$Z85:$AK85,0)","v":{"$error":"#N/A"}},{"$f":"MATCH(BP$3,Millwall!$Z85:$AK85,0)","v":{"$error":"#N/A"}},{"$f":"MATCH(BQ$3,Millwall!$Z85:$AK85,0)","v":{"$error":"#N/A"}},{"$f":"MATCH(BR$3,Millwall!$Z85:$AK85,0)","v":{"$error":"#N/A"}},{"$f":"MATCH(BS$3,Millwall!$Z85:$AK85,0)","v":{"$error":"#N/A"}},{"$f":"MATCH(BT$3,Millwall!$Z85:$AK85,0)","v":{"$error":"#N/A"}},{"$f":"MATCH(BU$3,Millwall!$Z85:$AK85,0)","v":{"$error":"#N/A"}},{"$f":"MATCH(BV$3,Millwall!$Z85:$AK85,0)","v":{"$error":"#N/A"}},{"$f":"MATCH(BW$3,Millwall!$Z85:$AK85,0)","v":{"$error":"#N/A"}},{"$f":"MATCH(BX$3,Millwall!$Z85:$AK85,0)","v":{"$error":"#N/A"}},{"$f":"MATCH(BY$3,Millwall!$Z85:$AK85,0)","v":{"$error":"#N/A"}},{"$f":"MATCH(BZ$3,Millwall!$Z85:$AK85,0)","v":{"$error":"#N/A"}},{"$f":"MATCH(CA$3,Millwall!$Z85:$AK85,0)","v":{"$error":"#N/A"}},{"$f":"MATCH(CB$3,Millwall!$Z85:$AK85,0)","v":{"$error":"#N/A"}},{"$f":"MATCH(CC$3,Millwall!$Z85:$AK85,0)","v":{"$error":"#N/A"}},{"$f":"MATCH(CD$3,Millwall!$Z85:$AK85,0)","v":{"$error":"#N/A"}},{"$f":"MATCH(CE$3,Millwall!$Z85:$AK85,0)","v":{"$error":"#N/A"}},null,null,null,null,null,null,{"$f":"$CM$15&\" [**\"","v":"Malcolm [**"},{"$f":"Millwall!$Z179","v":"Malcolm"},"Malcolm (**",{"$f":"$CM$15&\"**\"","v":"Malcolm**"},null,{"$f":"$CM$15","v":"Malcolm"},{"$f":"$CN$15","v":"Malcolm (**"},{"$f":"$CO$15","v":"Malcolm**"},null,{"$f":"Millwall!$BZ19","v":0},{"$f":"Millwall!$CE19","v":0},{"$f":"Millwall!$CJ19","v":0},{"$f":"Millwall!$CO19","v":0}]
[null,null,0,12,null,{"$f":"Millwall!V86","v":"1985-10-19"},null,{"$f":"Millwall!W86","v":"Wimbledon"},{"$f":"Millwall!X86","v":"(A)"},{"$f":"Millwall!Y86","v":"D 1-1"},{"$f":"MATCH(K$4,Millwall!$Z86:$AK86,0)","v":4},{"$f":"MATCH(L$4,Millwall!$Z86:$AK86,0)","v":8},{"$f":"MATCH(M$4,Millwall!$Z86:$AK86,0)","v":{"$error":"#N/A"}},{"$f":"MATCH(N$4,Millwall!$Z86:$AK86,0)","v":9},{"$f":"MATCH(O$4,Millwall!$Z86:$AK86,0)","v":{"$error":"#N/A"}},{"$f":"MATCH(P$4,Millwall!$Z86:$AK86,0)","v":3},{"$f":"MATCH(Q$4,Millwall!$Z86:$AK86,0)","v":11},{"$f":"MATCH(R$4,Millwall!$Z86:$AK86,0)","v":12},{"$f":"MATCH(S$4,Millwall!$Z86:$AK86,0)","v":10},{"$f":"MATCH(T$4,Millwall!$Z86:$AK86,0)","v":7},{"$f":"MATCH(U$4,Millwall!$Z86:$AK86,0)","v":{"$error":"#N/A"}},{"$f":"MATCH(V$4,Millwall!$Z86:$AK86,0)","v":{"$error":"#N/A"}},{"$f":"MATCH(W$4,Millwall!$Z86:$AK86,0)","v":6},{"$f":"MATCH(X$4,Millwall!$Z86:$AK86,0)","v":{"$error":"#N/A"}},{"$f":"MATCH(Y$4,Millwall!$Z86:$AK86,0)","v":{"$error":"#N/A"}},{"$f":"MATCH(Z$4,Millwall!$Z86:$AK86,0)","v":1},{"$f":"MATCH(AA$4,Millwall!$Z86:$AK86,0)","v":{"$error":"#N/A"}},{"$f":"MATCH(AB$4,Millwall!$Z86:$AK86,0)","v":{"$error":"#N/A"}},{"$f":"MATCH(AC$4,Millwall!$Z86:$AK86,0)","v":2},{"$f":"MATCH(AD$4,Millwall!$Z86:$AK86,0)","v":5},{"$f":"MATCH(AE$4,Millwall!$Z86:$AK86,0)","v":{"$error":"#N/A"}},{"$f":"MATCH(AF$4,Millwall!$Z86:$AK86,0)","v":{"$error":"#N/A"}},{"$f":"MATCH(AG$4,Millwall!$Z86:$AK86,0)","v":{"$error":"#N/A"}},{"$f":"MATCH(AH$4,Millwall!$Z86:$AK86,0)","v":{"$error":"#N/A"}},{"$f":"MATCH(AI$4,Millwall!$Z86:$AK86,0)","v":{"$error":"#N/A"}},{"$f":"MATCH(AJ$4,Millwall!$Z86:$AK86,0)","v":{"$error":"#N/A"}},{"$f":"MATCH(AK$4,Millwall!$Z86:$AK86,0)","v":{"$error":"#N/A"}},{"$f":"MATCH(AL$4,Millwall!$Z86:$AK86,0)","v":{"$error":"#N/A"}},{"$f":"MATCH(AM$4,Millwall!$Z86:$AK86,0)","v":{"$error":"#N/A"}},{"$f":"MATCH(AN$4,Millwall!$Z86:$AK86,0)","v":{"$error":"#N/A"}},{"$f":"MATCH(AO$4,Millwall!$Z86:$AK86,0)","v":{"$error":"#N/A"}},{"$f":"MATCH(AP$4,Millwall!$Z86:$AK86,0)","v":{"$error":"#N/A"}},{"$f":"MATCH(AQ$4,Millwall!$Z86:$AK86,0)","v":{"$error":"#N/A"}},{"$f":"MATCH(AR$4,Millwall!$AD86:$AO86,0)","v":{"$error":"#N/A"}},null,null,null,null,null,{"$f":"MATCH(AX$3,Millwall!$Z86:$AK86,0)","v":{"$error":"#N/A"}},{"$f":"MATCH(AY$3,Millwall!$Z86:$AK86,0)","v":8},{"$f":"MATCH(AZ$3,Millwall!$Z86:$AK86,0)","v":{"$error":"#N/A"}},{"$f":"MATCH(BA$3,Millwall!$Z86:$AK86,0)","v":{"$error":"#N/A"}},{"$f":"MATCH(BB$3,Millwall!$Z86:$AK86,0)","v":{"$error":"#N/A"}},{"$f":"MATCH(BC$3,Millwall!$Z86:$AK86,0)","v":{"$error":"#N/A"}},{"$f":"MATCH(BD$3,Millwall!$Z86:$AK86,0)","v":{"$error":"#N/A"}},{"$f":"MATCH(BE$3,Millwall!$Z86:$AK86,0)","v":12},{"$f":"MATCH(BF$3,Millwall!$Z86:$AK86,0)","v":{"$error":"#N/A"}},{"$f":"MATCH(BG$3,Millwall!$Z86:$AK86,0)","v":{"$error":"#N/A"}},{"$f":"MATCH(BH$3,Millwall!$Z86:$AK86,0)","v":{"$error":"#N/A"}},{"$f":"MATCH(BI$3,Millwall!$Z86:$AK86,0)","v":{"$error":"#N/A"}},{"$f":"MATCH(BJ$3,Millwall!$Z86:$AK86,0)","v":{"$error":"#N/A"}},{"$f":"MATCH(BK$3,Millwall!$Z86:$AK86,0)","v":{"$error":"#N/A"}},{"$f":"MATCH(BL$3,Millwall!$Z86:$AK86,0)","v":{"$error":"#N/A"}},{"$f":"MATCH(BM$3,Millwall!$Z86:$AK86,0)","v":{"$error":"#N/A"}},{"$f":"MATCH(BN$3,Millwall!$Z86:$AK86,0)","v":{"$error":"#N/A"}},{"$f":"MATCH(BO$3,Millwall!$Z86:$AK86,0)","v":{"$error":"#N/A"}},{"$f":"MATCH(BP$3,Millwall!$Z86:$AK86,0)","v":{"$error":"#N/A"}},{"$f":"MATCH(BQ$3,Millwall!$Z86:$AK86,0)","v":{"$error":"#N/A"}},{"$f":"MATCH(BR$3,Millwall!$Z86:$AK86,0)","v":{"$error":"#N/A"}},{"$f":"MATCH(BS$3,Millwall!$Z86:$AK86,0)","v":{"$error":"#N/A"}},{"$f":"MATCH(BT$3,Millwall!$Z86:$AK86,0)","v":{"$error":"#N/A"}},{"$f":"MATCH(BU$3,Millwall!$Z86:$AK86,0)","v":{"$error":"#N/A"}},{"$f":"MATCH(BV$3,Millwall!$Z86:$AK86,0)","v":{"$error":"#N/A"}},{"$f":"MATCH(BW$3,Millwall!$Z86:$AK86,0)","v":{"$error":"#N/A"}},{"$f":"MATCH(BX$3,Millwall!$Z86:$AK86,0)","v":{"$error":"#N/A"}},{"$f":"MATCH(BY$3,Millwall!$Z86:$AK86,0)","v":{"$error":"#N/A"}},{"$f":"MATCH(BZ$3,Millwall!$Z86:$AK86,0)","v":{"$error":"#N/A"}},{"$f":"MATCH(CA$3,Millwall!$Z86:$AK86,0)","v":{"$error":"#N/A"}},{"$f":"MATCH(CB$3,Millwall!$Z86:$AK86,0)","v":{"$error":"#N/A"}},{"$f":"MATCH(CC$3,Millwall!$Z86:$AK86,0)","v":{"$error":"#N/A"}},{"$f":"MATCH(CD$3,Millwall!$Z86:$AK86,0)","v":{"$error":"#N/A"}},{"$f":"MATCH(CE$3,Millwall!$Z86:$AK86,0)","v":{"$error":"#N/A"}},null,null,null,null,null,null,{"$f":"$CM$16&\" [**\"","v":"McLeary [**"},{"$f":"Millwall!$Z180","v":"McLeary"},"McLeary (**",{"$f":"$CM$16&\"**\"","v":"McLeary**"},null,{"$f":"$CM$16","v":"McLeary"},{"$f":"$CN$16","v":"McLeary (**"},{"$f":"$CO$16","v":"McLeary**"},null,{"$f":"Millwall!$BZ20","v":3},{"$f":"Millwall!$CE20","v":1},{"$f":"Millwall!$CJ20","v":0},{"$f":"Millwall!$CO20","v":0}]
[null,null,0,13,null,{"$f":"Millwall!V87","v":"1985-10-22"},null,{"$f":"Millwall!W87","v":"Carlisle"},{"$f":"Millwall!X87","v":"(H)"},{"$f":"Millwall!Y87","v":"W 3-1"},{"$f":"MATCH(K$4,Millwall!$Z87:$AK87,0)","v":4},{"$f":"MATCH(L$4,Millwall!$Z87:$AK87,0)","v":8},{"$f":"MATCH(M$4,Millwall!$Z87:$AK87,0)","v":{"$error":"#N/A"}},{"$f":"MATCH(N$4,Millwall!$Z87:$AK87,0)","v":{"$error":"#N/A"}},{"$f":"MATCH(O$4,Millwall!$Z87:$AK87,0)","v":{"$error":"#N/A"}},{"$f":"MATCH(P$4,Millwall!$Z87:$AK87,0)","v":3},{"$f":"MATCH(Q$4,Millwall!$Z87:$AK87,0)","v":11},{"$f":"MATCH(R$4,Millwall!$Z87:$AK87,0)","v":9},{"$f":"MATCH(S$4,Millwall!$Z87:$AK87,0)","v":10},{"$f":"MATCH(T$4,Millwall!$Z87:$AK87,0)","v":7},{"$f":"MATCH(U$4,Millwall!$Z87:$AK87,0)","v":{"$error":"#N/A"}},{"$f":"MATCH(V$4,Millwall!$Z87:$AK87,0)","v":12},{"$f":"MATCH(W$4,Millwall!$Z87:$AK87,0)","v":6},{"$f":"MATCH(X$4,Millwall!$Z87:$AK87,0)","v":{"$error":"#N/A"}},{"$f":"MATCH(Y$4,Millwall!$Z87:$AK87,0)","v":{"$error":"#N/A"}},{"$f":"MATCH(Z$4,Millwall!$Z87:$AK87,0)","v":1},{"$f":"MATCH(AA$4,Millwall!$Z87:$AK87,0)","v":{"$error":"#N/A"}},{"$f":"MATCH(AB$4,Millwall!$Z87:$AK87,0)","v":{"$error":"#N/A"}},{"$f":"MATCH(AC$4,Millwall!$Z87:$AK87,0)","v":2},{"$f":"MATCH(AD$4,Millwall!$Z87:$AK87,0)","v":5},{"$f":"MATCH(AE$4,Millwall!$Z87:$AK87,0)","v":{"$error":"#N/A"}},{"$f":"MATCH(AF$4,Millwall!$Z87:$AK87,0)","v":{"$error":"#N/A"}},{"$f":"MATCH(AG$4,Millwall!$Z87:$AK87,0)","v":{"$error":"#N/A"}},{"$f":"MATCH(AH$4,Millwall!$Z87:$AK87,0)","v":{"$error":"#N/A"}},{"$f":"MATCH(AI$4,Millwall!$Z87:$AK87,0)","v":{"$error":"#N/A"}},{"$f":"MATCH(AJ$4,Millwall!$Z87:$AK87,0)","v":{"$error":"#N/A"}},{"$f":"MATCH(AK$4,Millwall!$Z87:$AK87,0)","v":{"$error":"#N/A"}},{"$f":"MATCH(AL$4,Millwall!$Z87:$AK87,0)","v":{"$error":"#N/A"}},{"$f":"MATCH(AM$4,Millwall!$Z87:$AK87,0)","v":{"$error":"#N/A"}},{"$f":"MATCH(AN$4,Millwall!$Z87:$AK87,0)","v":{"$error":"#N/A"}},{"$f":"MATCH(AO$4,Millwall!$Z87:$AK87,0)","v":{"$error":"#N/A"}},{"$f":"MATCH(AP$4,Millwall!$Z87:$AK87,0)","v":{"$error":"#N/A"}},{"$f":"MATCH(AQ$4,Millwall!$Z87:$AK87,0)","v":{"$error":"#N/A"}},{"$f":"MATCH(AR$4,Millwall!$AD87:$AO87,0)","v":{"$error":"#N/A"}},null,null,null,null,null,{"$f":"MATCH(AX$3,Millwall!$Z87:$AK87,0)","v":{"$error":"#N/A"}},{"$f":"MATCH(AY$3,Millwall!$Z87:$AK87,0)","v":{"$error":"#N/A"}},{"$f":"MATCH(AZ$3,Millwall!$Z87:$AK87,0)","v":{"$error":"#N/A"}},{"$f":"MATCH(BA$3,Millwall!$Z87:$AK87,0)","v":{"$error":"#N/A"}},{"$f":"MATCH(BB$3,Millwall!$Z87:$AK87,0)","v":{"$error":"#N/A"}},{"$f":"MATCH(BC$3,Millwall!$Z87:$AK87,0)","v":{"$error":"#N/A"}},{"$f":"MATCH(BD$3,Millwall!$Z87:$AK87,0)","v":{"$error":"#N/A"}},{"$f":"MATCH(BE$3,Millwall!$Z87:$AK87,0)","v":{"$error":"#N/A"}},{"$f":"MATCH(BF$3,Millwall!$Z87:$AK87,0)","v":{"$error":"#N/A"}},{"$f":"MATCH(BG$3,Millwall!$Z87:$AK87,0)","v":{"$error":"#N/A"}},{"$f":"MATCH(BH$3,Millwall!$Z87:$AK87,0)","v":{"$error":"#N/A"}},{"$f":"MATCH(BI$3,Millwall!$Z87:$AK87,0)","v":{"$error":"#N/A"}},{"$f":"MATCH(BJ$3,Millwall!$Z87:$AK87,0)","v":{"$error":"#N/A"}},{"$f":"MATCH(BK$3,Millwall!$Z87:$AK87,0)","v":{"$error":"#N/A"}},{"$f":"MATCH(BL$3,Millwall!$Z87:$AK87,0)","v":{"$error":"#N/A"}},{"$f":"MATCH(BM$3,Millwall!$Z87:$AK87,0)","v":{"$error":"#N/A"}},{"$f":"MATCH(BN$3,Millwall!$Z87:$AK87,0)","v":{"$error":"#N/A"}},{"$f":"MATCH(BO$3,Millwall!$Z87:$AK87,0)","v":{"$error":"#N/A"}},{"$f":"MATCH(BP$3,Millwall!$Z87:$AK87,0)","v":{"$error":"#N/A"}},{"$f":"MATCH(BQ$3,Millwall!$Z87:$AK87,0)","v":{"$error":"#N/A"}},{"$f":"MATCH(BR$3,Millwall!$Z87:$AK87,0)","v":{"$error":"#N/A"}},{"$f":"MATCH(BS$3,Millwall!$Z87:$AK87,0)","v":{"$error":"#N/A"}},{"$f":"MATCH(BT$3,Millwall!$Z87:$AK87,0)","v":{"$error":"#N/A"}},{"$f":"MATCH(BU$3,Millwall!$Z87:$AK87,0)","v":{"$error":"#N/A"}},{"$f":"MATCH(BV$3,Millwall!$Z87:$AK87,0)","v":{"$error":"#N/A"}},{"$f":"MATCH(BW$3,Millwall!$Z87:$AK87,0)","v":{"$error":"#N/A"}},{"$f":"MATCH(BX$3,Millwall!$Z87:$AK87,0)","v":{"$error":"#N/A"}},{"$f":"MATCH(BY$3,Millwall!$Z87:$AK87,0)","v":{"$error":"#N/A"}},{"$f":"MATCH(BZ$3,Millwall!$Z87:$AK87,0)","v":{"$error":"#N/A"}},{"$f":"MATCH(CA$3,Millwall!$Z87:$AK87,0)","v":{"$error":"#N/A"}},{"$f":"MATCH(CB$3,Millwall!$Z87:$AK87,0)","v":{"$error":"#N/A"}},{"$f":"MATCH(CC$3,Millwall!$Z87:$AK87,0)","v":{"$error":"#N/A"}},{"$f":"MATCH(CD$3,Millwall!$Z87:$AK87,0)","v":{"$error":"#N/A"}},{"$f":"MATCH(CE$3,Millwall!$Z87:$AK87,0)","v":{"$error":"#N/A"}},null,null,null,null,null,null,{"$f":"$CM$17&\" [**\"","v":"Nutton [**"},{"$f":"Millwall!$Z181","v":"Nutton"},"Nutton (**",{"$f":"$CM$17&\"**\"","v":"Nutton**"},null,{"$f":"$CM$17","v":"Nutton"},{"$f":"$CN$17","v":"Nutton (**"},{"$f":"$CO$17","v":"Nutton**"},null,{"$f":"Millwall!$BZ21","v":1},{"$f":"Millwall!$CE21","v":0},{"$f":"Millwall!$CJ21","v":0},{"$f":"Millwall!$CO21","v":0}]
[null,null,0,14,null,{"$f":"Millwall!V88","v":"1985-10-26"},null,{"$f":"Millwall!W88","v":"Portsmouth"},{"$f":"Millwall!X88","v":"(H)"},{"$f":"Millwall!Y88","v":"L 0-4"},{"$f":"MATCH(K$4,Millwall!$Z88:$AK88,0)","v":4},{"$f":"MATCH(L$4,Millwall!$Z88:$AK88,0)","v":8},{"$f":"MATCH(M$4,Millwall!$Z88:$AK88,0)","v":{"$error":"#N/A"}},{"$f":"MATCH(N$4,Millwall!$Z88:$AK88,0)","v":{"$error":"#N/A"}},{"$f":"MATCH(O$4,Millwall!$Z88:$AK88,0)","v":{"$error":"#N/A"}},{"$f":"MATCH(P$4,Millwall!$Z88:$AK88,0)","v":3},{"$f":"MATCH(Q$4,Millwall!$Z88:$AK88,0)","v":11},{"$f":"MATCH(R$4,Millwall!$Z88:$AK88,0)","v":9},{"$f":"MATCH(S$4,Millwall!$Z88:$AK88,0)","v":10},{"$f":"MATCH(T$4,Millwall!$Z88:$AK88,0)","v":7},{"$f":"MATCH(U$4,Millwall!$Z88:$AK88,0)","v":{"$error":"#N/A"}},{"$f":"MATCH(V$4,Millwall!$Z88:$AK88,0)","v":12},{"$f":"MATCH(W$4,Millwall!$Z88:$AK88,0)","v":6},{"$f":"MATCH(X$4,Millwall!$Z88:$AK88,0)","v":{"$error":"#N/A"}},{"$f":"MATCH(Y$4,Millwall!$Z88:$AK88,0)","v":{"$error":"#N/A"}},{"$f":"MATCH(Z$4,Millwall!$Z88:$AK88,0)","v":1},{"$f":"MATCH(AA$4,Millwall!$Z88:$AK88,0)","v":{"$error":"#N/A"}},{"$f":"MATCH(AB$4,Millwall!$Z88:$AK88,0)","v":{"$error":"#N/A"}},{"$f":"MATCH(AC$4,Millwall!$Z88:$AK88,0)","v":2},{"$f":"MATCH(AD$4,Millwall!$Z88:$AK88,0)","v":5},{"$f":"MATCH(AE$4,Millwall!$Z88:$AK88,0)","v":{"$error":"#N/A"}},{"$f":"MATCH(AF$4,Millwall!$Z88:$AK88,0)","v":{"$error":"#N/A"}},{"$f":"MATCH(AG$4,Millwall!$Z88:$AK88,0)","v":{"$error":"#N/A"}},{"$f":"MATCH(AH$4,Millwall!$Z88:$AK88,0)","v":{"$error":"#N/A"}},{"$f":"MATCH(AI$4,Millwall!$Z88:$AK88,0)","v":{"$error":"#N/A"}},{"$f":"MATCH(AJ$4,Millwall!$Z88:$AK88,0)","v":{"$error":"#N/A"}},{"$f":"MATCH(AK$4,Millwall!$Z88:$AK88,0)","v":{"$error":"#N/A"}},{"$f":"MATCH(AL$4,Millwall!$Z88:$AK88,0)","v":{"$error":"#N/A"}},{"$f":"MATCH(AM$4,Millwall!$Z88:$AK88,0)","v":{"$error":"#N/A"}},{"$f":"MATCH(AN$4,Millwall!$Z88:$AK88,0)","v":{"$error":"#N/A"}},{"$f":"MATCH(AO$4,Millwall!$Z88:$AK88,0)","v":{"$error":"#N/A"}},{"$f":"MATCH(AP$4,Millwall!$Z88:$AK88,0)","v":{"$error":"#N/A"}},{"$f":"MATCH(AQ$4,Millwall!$Z88:$AK88,0)","v":{"$error":"#N/A"}},{"$f":"MATCH(AR$4,Millwall!$AD88:$AO88,0)","v":{"$error":"#N/A"}},null,null,null,null,null,{"$f":"MATCH(AX$3,Millwall!$Z88:$AK88,0)","v":{"$error":"#N/A"}},{"$f":"MATCH(AY$3,Millwall!$Z88:$AK88,0)","v":{"$error":"#N/A"}},{"$f":"MATCH(AZ$3,Millwall!$Z88:$AK88,0)","v":{"$error":"#N/A"}},{"$f":"MATCH(BA$3,Millwall!$Z88:$AK88,0)","v":{"$error":"#N/A"}},{"$f":"MATCH(BB$3,Millwall!$Z88:$AK88,0)","v":{"$error":"#N/A"}},{"$f":"MATCH(BC$3,Millwall!$Z88:$AK88,0)","v":{"$error":"#N/A"}},{"$f":"MATCH(BD$3,Millwall!$Z88:$AK88,0)","v":{"$error":"#N/A"}},{"$f":"MATCH(BE$3,Millwall!$Z88:$AK88,0)","v":{"$error":"#N/A"}},{"$f":"MATCH(BF$3,Millwall!$Z88:$AK88,0)","v":{"$error":"#N/A"}},{"$f":"MATCH(BG$3,Millwall!$Z88:$AK88,0)","v":{"$error":"#N/A"}},{"$f":"MATCH(BH$3,Millwall!$Z88:$AK88,0)","v":{"$error":"#N/A"}},{"$f":"MATCH(BI$3,Millwall!$Z88:$AK88,0)","v":{"$error":"#N/A"}},{"$f":"MATCH(BJ$3,Millwall!$Z88:$AK88,0)","v":{"$error":"#N/A"}},{"$f":"MATCH(BK$3,Millwall!$Z88:$AK88,0)","v":{"$error":"#N/A"}},{"$f":"MATCH(BL$3,Millwall!$Z88:$AK88,0)","v":{"$error":"#N/A"}},{"$f":"MATCH(BM$3,Millwall!$Z88:$AK88,0)","v":{"$error":"#N/A"}},{"$f":"MATCH(BN$3,Millwall!$Z88:$AK88,0)","v":{"$error":"#N/A"}},{"$f":"MATCH(BO$3,Millwall!$Z88:$AK88,0)","v":{"$error":"#N/A"}},{"$f":"MATCH(BP$3,Millwall!$Z88:$AK88,0)","v":{"$error":"#N/A"}},{"$f":"MATCH(BQ$3,Millwall!$Z88:$AK88,0)","v":{"$error":"#N/A"}},{"$f":"MATCH(BR$3,Millwall!$Z88:$AK88,0)","v":{"$error":"#N/A"}},{"$f":"MATCH(BS$3,Millwall!$Z88:$AK88,0)","v":{"$error":"#N/A"}},{"$f":"MATCH(BT$3,Millwall!$Z88:$AK88,0)","v":{"$error":"#N/A"}},{"$f":"MATCH(BU$3,Millwall!$Z88:$AK88,0)","v":{"$error":"#N/A"}},{"$f":"MATCH(BV$3,Millwall!$Z88:$AK88,0)","v":{"$error":"#N/A"}},{"$f":"MATCH(BW$3,Millwall!$Z88:$AK88,0)","v":{"$error":"#N/A"}},{"$f":"MATCH(BX$3,Millwall!$Z88:$AK88,0)","v":{"$error":"#N/A"}},{"$f":"MATCH(BY$3,Millwall!$Z88:$AK88,0)","v":{"$error":"#N/A"}},{"$f":"MATCH(BZ$3,Millwall!$Z88:$AK88,0)","v":{"$error":"#N/A"}},{"$f":"MATCH(CA$3,Millwall!$Z88:$AK88,0)","v":{"$error":"#N/A"}},{"$f":"MATCH(CB$3,Millwall!$Z88:$AK88,0)","v":{"$error":"#N/A"}},{"$f":"MATCH(CC$3,Millwall!$Z88:$AK88,0)","v":{"$error":"#N/A"}},{"$f":"MATCH(CD$3,Millwall!$Z88:$AK88,0)","v":{"$error":"#N/A"}},{"$f":"MATCH(CE$3,Millwall!$Z88:$AK88,0)","v":{"$error":"#N/A"}},null,null,null,null,null,null,{"$f":"$CM$18&\" [**\"","v":"Otulakowski [**"},{"$f":"Millwall!$Z182","v":"Otulakowski"},"Otulakowski (**",{"$f":"$CM$18&\"**\"","v":"Otulakowski**"},null,{"$f":"$CM$18","v":"Otulakowski"},{"$f":"$CN$18","v":"Otulakowski (**"},{"$f":"$CO$18","v":"Otulakowski**"},null,{"$f":"Millwall!$BZ22","v":0},{"$f":"Millwall!$CE22","v":0},{"$f":"Millwall!$CJ22","v":0},{"$f":"Millwall!$CO22","v":0}]
[null,null,0,15,null,{"$f":"Millwall!V89","v":"1985-11-02"},null,{"$f":"Millwall!W89","v":"Grimsby"},{"$f":"Millwall!X89","v":"(A)"},{"$f":"Millwall!Y89","v":"L 1-5"},{"$f":"MATCH(K$4,Millwall!$Z89:$AK89,0)","v":4},{"$f":"MATCH(L$4,Millwall!$Z89:$AK89,0)","v":8},{"$f":"MATCH(M$4,Millwall!$Z89:$AK89,0)","v":{"$error":"#N/A"}},{"$f":"MATCH(N$4,Millwall!$Z89:$AK89,0)","v":9},{"$f":"MATCH(O$4,Millwall!$Z89:$AK89,0)","v":{"$error":"#N/A"}},{"$f":"MATCH(P$4,Millwall!$Z89:$AK89,0)","v":3},{"$f":"MATCH(Q$4,Millwall!$Z89:$AK89,0)","v":11},{"$f":"MATCH(R$4,Millwall!$Z89:$AK89,0)","v":7},{"$f":"MATCH(S$4,Millwall!$Z89:$AK89,0)","v":10},{"$f":"MATCH(T$4,Millwall!$Z89:$AK89,0)","v":{"$error":"#N/A"}},{"$f":"MATCH(U$4,Millwall!$Z89:$AK89,0)","v":{"$error":"#N/A"}},{"$f":"MATCH(V$4,Millwall!$Z89:$AK89,0)","v":12},{"$f":"MATCH(W$4,Millwall!$Z89:$AK89,0)","v":6},{"$f":"MATCH(X$4,Millwall!$Z89:$AK89,0)","v":{"$error":"#N/A"}},{"$f":"MATCH(Y$4,Millwall!$Z89:$AK89,0)","v":{"$error":"#N/A"}},{"$f":"MATCH(Z$4,Millwall!$Z89:$AK89,0)","v":1},{"$f":"MATCH(AA$4,Millwall!$Z89:$AK89,0)","v":{"$error":"#N/A"}},{"$f":"MATCH(AB$4,Millwall!$Z89:$AK89,0)","v":{"$error":"#N/A"}},{"$f":"MATCH(AC$4,Millwall!$Z89:$AK89,0)","v":2},{"$f":"MATCH(AD$4,Millwall!$Z89:$AK89,0)","v":5},{"$f":"MATCH(AE$4,Millwall!$Z89:$AK89,0)","v":{"$error":"#N/A"}},{"$f":"MATCH(AF$4,Millwall!$Z89:$AK89,0)","v":{"$error":"#N/A"}},{"$f":"MATCH(AG$4,Millwall!$Z89:$AK89,0)","v":{"$error":"#N/A"}},{"$f":"MATCH(AH$4,Millwall!$Z89:$AK89,0)","v":{"$error":"#N/A"}},{"$f":"MATCH(AI$4,Millwall!$Z89:$AK89,0)","v":{"$error":"#N/A"}},{"$f":"MATCH(AJ$4,Millwall!$Z89:$AK89,0)","v":{"$error":"#N/A"}},{"$f":"MATCH(AK$4,Millwall!$Z89:$AK89,0)","v":{"$error":"#N/A"}},{"$f":"MATCH(AL$4,Millwall!$Z89:$AK89,0)","v":{"$error":"#N/A"}},{"$f":"MATCH(AM$4,Millwall!$Z89:$AK89,0)","v":{"$error":"#N/A"}},{"$f":"MATCH(AN$4,Millwall!$Z89:$AK89,0)","v":{"$error":"#N/A"}},{"$f":"MATCH(AO$4,Millwall!$Z89:$AK89,0)","v":{"$error":"#N/A"}},{"$f":"MATCH(AP$4,Millwall!$Z89:$AK89,0)","v":{"$error":"#N/A"}},{"$f":"MATCH(AQ$4,Millwall!$Z89:$AK89,0)","v":{"$error":"#N/A"}},{"$f":"MATCH(AR$4,Millwall!$AD89:$AO89,0)","v":{"$error":"#N/A"}},null,null,null,null,null,{"$f":"MATCH(AX$3,Millwall!$Z89:$AK89,0)","v":{"$error":"#N/A"}},{"$f":"MATCH(AY$3,Millwall!$Z89:$AK89,0)","v":{"$error":"#N/A"}},{"$f":"MATCH(AZ$3,Millwall!$Z89:$AK89,0)","v":{"$error":"#N/A"}},{"$f":"MATCH(BA$3,Millwall!$Z89:$AK89,0)","v":{"$error":"#N/A"}},{"$f":"MATCH(BB$3,Millwall!$Z89:$AK89,0)","v":{"$error":"#N/A"}},{"$f":"MATCH(BC$3,Millwall!$Z89:$AK89,0)","v":{"$error":"#N/A"}},{"$f":"MATCH(BD$3,Millwall!$Z89:$AK89,0)","v":11},{"$f":"MATCH(BE$3,Millwall!$Z89:$AK89,0)","v":{"$error":"#N/A"}},{"$f":"MATCH(BF$3,Millwall!$Z89:$AK89,0)","v":{"$error":"#N/A"}},{"$f":"MATCH(BG$3,Millwall!$Z89:$AK89,0)","v":{"$error":"#N/A"}},{"$f":"MATCH(BH$3,Millwall!$Z89:$AK89,0)","v":{"$error":"#N/A"}},{"$f":"MATCH(BI$3,Millwall!$Z89:$AK89,0)","v":12},{"$f":"MATCH(BJ$3,Millwall!$Z89:$AK89,0)","v":{"$error":"#N/A"}},{"$f":"MATCH(BK$3,Millwall!$Z89:$AK89,0)","v":{"$error":"#N/A"}},{"$f":"MATCH(BL$3,Millwall!$Z89:$AK89,0)","v":{"$error":"#N/A"}},{"$f":"MATCH(BM$3,Millwall!$Z89:$AK89,0)","v":{"$error":"#N/A"}},{"$f":"MATCH(BN$3,Millwall!$Z89:$AK89,0)","v":{"$error":"#N/A"}},{"$f":"MATCH(BO$3,Millwall!$Z89:$AK89,0)","v":{"$error":"#N/A"}},{"$f":"MATCH(BP$3,Millwall!$Z89:$AK89,0)","v":{"$error":"#N/A"}},{"$f":"MATCH(BQ$3,Millwall!$Z89:$AK89,0)","v":{"$error":"#N/A"}},{"$f":"MATCH(BR$3,Millwall!$Z89:$AK89,0)","v":{"$error":"#N/A"}},{"$f":"MATCH(BS$3,Millwall!$Z89:$AK89,0)","v":{"$error":"#N/A"}},{"$f":"MATCH(BT$3,Millwall!$Z89:$AK89,0)","v":{"$error":"#N/A"}},{"$f":"MATCH(BU$3,Millwall!$Z89:$AK89,0)","v":{"$error":"#N/A"}},{"$f":"MATCH(BV$3,Millwall!$Z89:$AK89,0)","v":{"$error":"#N/A"}},{"$f":"MATCH(BW$3,Millwall!$Z89:$AK89,0)","v":{"$error":"#N/A"}},{"$f":"MATCH(BX$3,Millwall!$Z89:$AK89,0)","v":{"$error":"#N/A"}},{"$f":"MATCH(BY$3,Millwall!$Z89:$AK89,0)","v":{"$error":"#N/A"}},{"$f":"MATCH(BZ$3,Millwall!$Z89:$AK89,0)","v":{"$error":"#N/A"}},{"$f":"MATCH(CA$3,Millwall!$Z89:$AK89,0)","v":{"$error":"#N/A"}},{"$f":"MATCH(CB$3,Millwall!$Z89:$AK89,0)","v":{"$error":"#N/A"}},{"$f":"MATCH(CC$3,Millwall!$Z89:$AK89,0)","v":{"$error":"#N/A"}},{"$f":"MATCH(CD$3,Millwall!$Z89:$AK89,0)","v":{"$error":"#N/A"}},{"$f":"MATCH(CE$3,Millwall!$Z89:$AK89,0)","v":{"$error":"#N/A"}},null,null,null,null,null,null,{"$f":"$CM$19&\" [**\"","v":"Roffey [**"},{"$f":"Millwall!$Z183","v":"Roffey"},"Roffey (**",{"$f":"$CM$19&\"**\"","v":"Roffey**"},null,{"$f":"$CM$19","v":"Roffey"},{"$f":"$CN$19","v":"Roffey (**"},{"$f":"$CO$19","v":"Roffey**"},null,{"$f":"Millwall!$BZ23","v":1},{"$f":"Millwall!$CE23","v":0},{"$f":"Millwall!$CJ23","v":0},{"$f":"Millwall!$CO23","v":0}]
[null,null,0,16,null,{"$f":"Millwall!V90","v":"1985-11-09"},null,{"$f":"Millwall!W90","v":"Leeds"},{"$f":"Millwall!X90","v":"(H)"},{"$f":"Millwall!Y90","v":"W 3-1"},{"$f":"MATCH(K$4,Millwall!$Z90:$AK90,0)","v":4},{"$f":"MATCH(L$4,Millwall!$Z90:$AK90,0)","v":{"$error":"#N/A"}},{"$f":"MATCH(M$4,Millwall!$Z90:$AK90,0)","v":{"$error":"#N/A"}},{"$f":"MATCH(N$4,Millwall!$Z90:$AK90,0)","v":9},{"$f":"MATCH(O$4,Millwall!$Z90:$AK90,0)","v":1},{"$f":"MATCH(P$4,Millwall!$Z90:$AK90,0)","v":3},{"$f":"MATCH(Q$4,Millwall!$Z90:$AK90,0)","v":{"$error":"#N/A"}},{"$f":"MATCH(R$4,Millwall!$Z90:$AK90,0)","v":8},{"$f":"MATCH(S$4,Millwall!$Z90:$AK90,0)","v":10},{"$f":"MATCH(T$4,Millwall!$Z90:$AK90,0)","v":7},{"$f":"MATCH(U$4,Millwall!$Z90:$AK90,0)","v":{"$error":"#N/A"}},{"$f":"MATCH(V$4,Millwall!$Z90:$AK90,0)","v":11},{"$f":"MATCH(W$4,Millwall!$Z90:$AK90,0)","v":6},{"$f":"MATCH(X$4,Millwall!$Z90:$AK90,0)","v":{"$error":"#N/A"}},{"$f":"MATCH(Y$4,Millwall!$Z90:$AK90,0)","v":{"$error":"#N/A"}},{"$f":"MATCH(Z$4,Millwall!$Z90:$AK90,0)","v":{"$error":"#N/A"}},{"$f":"MATCH(AA$4,Millwall!$Z90:$AK90,0)","v":12},{"$f":"MATCH(AB$4,Millwall!$Z90:$AK90,0)","v":5},{"$f":"MATCH(AC$4,Millwall!$Z90:$AK90,0)","v":2},{"$f":"MATCH(AD$4,Millwall!$Z90:$AK90,0)","v":{"$error":"#N/A"}},{"$f":"MATCH(AE$4,Millwall!$Z90:$AK90,0)","v":{"$error":"#N/A"}},{"$f":"MATCH(AF$4,Millwall!$Z90:$AK90,0)","v":{"$error":"#N/A"}},{"$f":"MATCH(AG$4,Millwall!$Z90:$AK90,0)","v":{"$error":"#N/A"}},{"$f":"MATCH(AH$4,Millwall!$Z90:$AK90,0)","v":{"$error":"#N/A"}},{"$f":"MATCH(AI$4,Millwall!$Z90:$AK90,0)","v":{"$error":"#N/A"}},{"$f":"MATCH(AJ$4,Millwall!$Z90:$AK90,0)","v":{"$error":"#N/A"}},{"$f":"MATCH(AK$4,Millwall!$Z90:$AK90,0)","v":{"$error":"#N/A"}},{"$f":"MATCH(AL$4,Millwall!$Z90:$AK90,0)","v":{"$error":"#N/A"}},{"$f":"MATCH(AM$4,Millwall!$Z90:$AK90,0)","v":{"$error":"#N/A"}},{"$f":"MATCH(AN$4,Millwall!$Z90:$AK90,0)","v":{"$error":"#N/A"}},{"$f":"MATCH(AO$4,Millwall!$Z90:$AK90,0)","v":{"$error":"#N/A"}},{"$f":"MATCH(AP$4,Millwall!$Z90:$AK90,0)","v":{"$error":"#N/A"}},{"$f":"MATCH(AQ$4,Millwall!$Z90:$AK90,0)","v":{"$error":"#N/A"}},{"$f":"MATCH(AR$4,Millwall!$AD90:$AO90,0)","v":{"$error":"#N/A"}},null,null,null,null,null,{"$f":"MATCH(AX$3,Millwall!$Z90:$AK90,0)","v":{"$error":"#N/A"}},{"$f":"MATCH(AY$3,Millwall!$Z90:$AK90,0)","v":{"$error":"#N/A"}},{"$f":"MATCH(AZ$3,Millwall!$Z90:$AK90,0)","v":{"$error":"#N/A"}},{"$f":"MATCH(BA$3,Millwall!$Z90:$AK90,0)","v":{"$error":"#N/A"}},{"$f":"MATCH(BB$3,Millwall!$Z90:$AK90,0)","v":{"$error":"#N/A"}},{"$f":"MATCH(BC$3,Millwall!$Z90:$AK90,0)","v":{"$error":"#N/A"}},{"$f":"MATCH(BD$3,Millwall!$Z90:$AK90,0)","v":{"$error":"#N/A"}},{"$f":"MATCH(BE$3,Millwall!$Z90:$AK90,0)","v":{"$error":"#N/A"}},{"$f":"MATCH(BF$3,Millwall!$Z90:$AK90,0)","v":{"$error":"#N/A"}},{"$f":"MATCH(BG$3,Millwall!$Z90:$AK90,0)","v":{"$error":"#N/A"}},{"$f":"MATCH(BH$3,Millwall!$Z90:$AK90,0)","v":{"$error":"#N/A"}},{"$f":"MATCH(BI$3,Millwall!$Z90:$AK90,0)","v":{"$error":"#N/A"}},{"$f":"MATCH(BJ$3,Millwall!$Z90:$AK90,0)","v":{"$error":"#N/A"}},{"$f":"MATCH(BK$3,Millwall!$Z90:$AK90,0)","v":{"$error":"#N/A"}},{"$f":"MATCH(BL$3,Millwall!$Z90:$AK90,0)","v":{"$error":"#N/A"}},{"$f":"MATCH(BM$3,Millwall!$Z90:$AK90,0)","v":{"$error":"#N/A"}},{"$f":"MATCH(BN$3,Millwall!$Z90:$AK90,0)","v":{"$error":"#N/A"}},{"$f":"MATCH(BO$3,Millwall!$Z90:$AK90,0)","v":{"$error":"#N/A"}},{"$f":"MATCH(BP$3,Millwall!$Z90:$AK90,0)","v":{"$error":"#N/A"}},{"$f":"MATCH(BQ$3,Millwall!$Z90:$AK90,0)","v":{"$error":"#N/A"}},{"$f":"MATCH(BR$3,Millwall!$Z90:$AK90,0)","v":{"$error":"#N/A"}},{"$f":"MATCH(BS$3,Millwall!$Z90:$AK90,0)","v":{"$error":"#N/A"}},{"$f":"MATCH(BT$3,Millwall!$Z90:$AK90,0)","v":{"$error":"#N/A"}},{"$f":"MATCH(BU$3,Millwall!$Z90:$AK90,0)","v":{"$error":"#N/A"}},{"$f":"MATCH(BV$3,Millwall!$Z90:$AK90,0)","v":{"$error":"#N/A"}},{"$f":"MATCH(BW$3,Millwall!$Z90:$AK90,0)","v":{"$error":"#N/A"}},{"$f":"MATCH(BX$3,Millwall!$Z90:$AK90,0)","v":{"$error":"#N/A"}},{"$f":"MATCH(BY$3,Millwall!$Z90:$AK90,0)","v":{"$error":"#N/A"}},{"$f":"MATCH(BZ$3,Millwall!$Z90:$AK90,0)","v":{"$error":"#N/A"}},{"$f":"MATCH(CA$3,Millwall!$Z90:$AK90,0)","v":{"$error":"#N/A"}},{"$f":"MATCH(CB$3,Millwall!$Z90:$AK90,0)","v":{"$error":"#N/A"}},{"$f":"MATCH(CC$3,Millwall!$Z90:$AK90,0)","v":{"$error":"#N/A"}},{"$f":"MATCH(CD$3,Millwall!$Z90:$AK90,0)","v":{"$error":"#N/A"}},{"$f":"MATCH(CE$3,Millwall!$Z90:$AK90,0)","v":{"$error":"#N/A"}},null,null,null,null,null,null,{"$f":"$CM$20&\" [**\"","v":"Sansome [**"},{"$f":"Millwall!$Z184","v":"Sansome"},"Sansome (**",{"$f":"$CM$20&\"**\"","v":"Sansome**"},null,{"$f":"$CM$20","v":"Sansome"},{"$f":"$CN$20","v":"Sansome (**"},{"$f":"$CO$20","v":"Sansome**"},null,{"$f":"Millwall!$BZ24","v":0},{"$f":"Millwall!$CE24","v":0},{"$f":"Millwall!$CJ24","v":0},{"$f":"Millwall!$CO24","v":0}]
[null,null,0,17,null,{"$f":"Millwall!V91","v":"1985-11-23"},null,{"$f":"Millwall!W91","v":"Middlesbrough"},{"$f":"Millwall!X91","v":"(H)"},{"$f":"Millwall!Y91","v":"W 3-0"},{"$f":"MATCH(K$4,Millwall!$Z91:$AK91,0)","v":4},{"$f":"MATCH(L$4,Millwall!$Z91:$AK91,0)","v":8},{"$f":"MATCH(M$4,Millwall!$Z91:$AK91,0)","v":{"$error":"#N/A"}},{"$f":"MATCH(N$4,Millwall!$Z91:$AK91,0)","v":{"$error":"#N/A"}},{"$f":"MATCH(O$4,Millwall!$Z91:$AK91,0)","v":1},{"$f":"MATCH(P$4,Millwall!$Z91:$AK91,0)","v":3},{"$f":"MATCH(Q$4,Millwall!$Z91:$AK91,0)","v":{"$error":"#N/A"}},{"$f":"MATCH(R$4,Millwall!$Z91:$AK91,0)","v":9},{"$f":"MATCH(S$4,Millwall!$Z91:$AK91,0)","v":10},{"$f":"MATCH(T$4,Millwall!$Z91:$AK91,0)","v":7},{"$f":"MATCH(U$4,Millwall!$Z91:$AK91,0)","v":{"$error":"#N/A"}},{"$f":"MATCH(V$4,Millwall!$Z91:$AK91,0)","v":11},{"$f":"MATCH(W$4,Millwall!$Z91:$AK91,0)","v":6},{"$f":"MATCH(X$4,Millwall!$Z91:$AK91,0)","v":{"$error":"#N/A"}},{"$f":"MATCH(Y$4,Millwall!$Z91:$AK91,0)","v":{"$error":"#N/A"}},{"$f":"MATCH(Z$4,Millwall!$Z91:$AK91,0)","v":{"$error":"#N/A"}},{"$f":"MATCH(AA$4,Millwall!$Z91:$AK91,0)","v":12},{"$f":"MATCH(AB$4,Millwall!$Z91:$AK91,0)","v":{"$error":"#N/A"}},{"$f":"MATCH(AC$4,Millwall!$Z91:$AK91,0)","v":2},{"$f":"MATCH(AD$4,Millwall!$Z91:$AK91,0)","v":5},{"$f":"MATCH(AE$4,Millwall!$Z91:$AK91,0)","v":{"$error":"#N/A"}},{"$f":"MATCH(AF$4,Millwall!$Z91:$AK91,0)","v":{"$error":"#N/A"}},{"$f":"MATCH(AG$4,Millwall!$Z91:$AK91,0)","v":{"$error":"#N/A"}},{"$f":"MATCH(AH$4,Millwall!$Z91:$AK91,0)","v":{"$error":"#N/A"}},{"$f":"MATCH(AI$4,Millwall!$Z91:$AK91,0)","v":{"$error":"#N/A"}},{"$f":"MATCH(AJ$4,Millwall!$Z91:$AK91,0)","v":{"$error":"#N/A"}},{"$f":"MATCH(AK$4,Millwall!$Z91:$AK91,0)","v":{"$error":"#N/A"}},{"$f":"MATCH(AL$4,Millwall!$Z91:$AK91,0)","v":{"$error":"#N/A"}},{"$f":"MATCH(AM$4,Millwall!$Z91:$AK91,0)","v":{"$error":"#N/A"}},{"$f":"MATCH(AN$4,Millwall!$Z91:$AK91,0)","v":{"$error":"#N/A"}},{"$f":"MATCH(AO$4,Millwall!$Z91:$AK91,0)","v":{"$error":"#N/A"}},{"$f":"MATCH(AP$4,Millwall!$Z91:$AK91,0)","v":{"$error":"#N/A"}},{"$f":"MATCH(AQ$4,Millwall!$Z91:$AK91,0)","v":{"$error":"#N/A"}},{"$f":"MATCH(AR$4,Millwall!$AD91:$AO91,0)","v":{"$error":"#N/A"}},null,null,null,null,null,{"$f":"MATCH(AX$3,Millwall!$Z91:$AK91,0)","v":{"$error":"#N/A"}},{"$f":"MATCH(AY$3,Millwall!$Z91:$AK91,0)","v":{"$error":"#N/A"}},{"$f":"MATCH(AZ$3,Millwall!$Z91:$AK91,0)","v":{"$error":"#N/A"}},{"$f":"MATCH(BA$3,Millwall!$Z91:$AK91,0)","v":{"$error":"#N/A"}},{"$f":"MATCH(BB$3,Millwall!$Z91:$AK91,0)","v":{"$error":"#N/A"}},{"$f":"MATCH(BC$3,Millwall!$Z91:$AK91,0)","v":{"$error":"#N/A"}},{"$f":"MATCH(BD$3,Millwall!$Z91:$AK91,0)","v":{"$error":"#N/A"}},{"$f":"MATCH(BE$3,Millwall!$Z91:$AK91,0)","v":{"$error":"#N/A"}},{"$f":"MATCH(BF$3,Millwall!$Z91:$AK91,0)","v":{"$error":"#N/A"}},{"$f":"MATCH(BG$3,Millwall!$Z91:$AK91,0)","v":{"$error":"#N/A"}},{"$f":"MATCH(BH$3,Millwall!$Z91:$AK91,0)","v":{"$error":"#N/A"}},{"$f":"MATCH(BI$3,Millwall!$Z91:$AK91,0)","v":{"$error":"#N/A"}},{"$f":"MATCH(BJ$3,Millwall!$Z91:$AK91,0)","v":6},{"$f":"MATCH(BK$3,Millwall!$Z91:$AK91,0)","v":{"$error":"#N/A"}},{"$f":"MATCH(BL$3,Millwall!$Z91:$AK91,0)","v":{"$error":"#N/A"}},{"$f":"MATCH(BM$3,Millwall!$Z91:$AK91,0)","v":{"$error":"#N/A"}},{"$f":"MATCH(BN$3,Millwall!$Z91:$AK91,0)","v":12},{"$f":"MATCH(BO$3,Millwall!$Z91:$AK91,0)","v":{"$error":"#N/A"}},{"$f":"MATCH(BP$3,Millwall!$Z91:$AK91,0)","v":{"$error":"#N/A"}},{"$f":"MATCH(BQ$3,Millwall!$Z91:$AK91,0)","v":{"$error":"#N/A"}},{"$f":"MATCH(BR$3,Millwall!$Z91:$AK91,0)","v":{"$error":"#N/A"}},{"$f":"MATCH(BS$3,Millwall!$Z91:$AK91,0)","v":{"$error":"#N/A"}},{"$f":"MATCH(BT$3,Millwall!$Z91:$AK91,0)","v":{"$error":"#N/A"}},{"$f":"MATCH(BU$3,Millwall!$Z91:$AK91,0)","v":{"$error":"#N/A"}},{"$f":"MATCH(BV$3,Millwall!$Z91:$AK91,0)","v":{"$error":"#N/A"}},{"$f":"MATCH(BW$3,Millwall!$Z91:$AK91,0)","v":{"$error":"#N/A"}},{"$f":"MATCH(BX$3,Millwall!$Z91:$AK91,0)","v":{"$error":"#N/A"}},{"$f":"MATCH(BY$3,Millwall!$Z91:$AK91,0)","v":{"$error":"#N/A"}},{"$f":"MATCH(BZ$3,Millwall!$Z91:$AK91,0)","v":{"$error":"#N/A"}},{"$f":"MATCH(CA$3,Millwall!$Z91:$AK91,0)","v":{"$error":"#N/A"}},{"$f":"MATCH(CB$3,Millwall!$Z91:$AK91,0)","v":{"$error":"#N/A"}},{"$f":"MATCH(CC$3,Millwall!$Z91:$AK91,0)","v":{"$error":"#N/A"}},{"$f":"MATCH(CD$3,Millwall!$Z91:$AK91,0)","v":{"$error":"#N/A"}},{"$f":"MATCH(CE$3,Millwall!$Z91:$AK91,0)","v":{"$error":"#N/A"}},null,null,null,null,null,null,{"$f":"$CM$21&\" [**\"","v":"Sheringham [**"},{"$f":"Millwall!$Z185","v":"Sheringham"},"Sheringham (**",{"$f":"$CM$21&\"**\"","v":"Sheringham**"},null,{"$f":"$CM$21","v":"Sheringham"},{"$f":"$CN$21","v":"Sheringham (**"},{"$f":"$CO$21","v":"Sheringham**"},null,{"$f":"Millwall!$BZ25","v":4},{"$f":"Millwall!$CE25","v":0},{"$f":"Millwall!$CJ25","v":0},{"$f":"Millwall!$CO25","v":0}]
[null,null,0,18,null,{"$f":"Millwall!V92","v":"1985-11-30"},null,{"$f":"Millwall!W92","v":"Barnsley"},{"$f":"Millwall!X92","v":"(A)"},{"$f":"Millwall!Y92","v":"L 1-2"},{"$f":"MATCH(K$4,Millwall!$Z92:$AK92,0)","v":4},{"$f":"MATCH(L$4,Millwall!$Z92:$AK92,0)","v":8},{"$f":"MATCH(M$4,Millwall!$Z92:$AK92,0)","v":{"$error":"#N/A"}},{"$f":"MATCH(N$4,Millwall!$Z92:$AK92,0)","v":{"$error":"#N/A"}},{"$f":"MATCH(O$4,Millwall!$Z92:$AK92,0)","v":1},{"$f":"MATCH(P$4,Millwall!$Z92:$AK92,0)","v":3},{"$f":"MATCH(Q$4,Millwall!$Z92:$AK92,0)","v":{"$error":"#N/A"}},{"$f":"MATCH(R$4,Millwall!$Z92:$AK92,0)","v":9},{"$f":"MATCH(S$4,Millwall!$Z92:$AK92,0)","v":10},{"$f":"MATCH(T$4,Millwall!$Z92:$AK92,0)","v":7},{"$f":"MATCH(U$4,Millwall!$Z92:$AK92,0)","v":{"$error":"#N/A"}},{"$f":"MATCH(V$4,Millwall!$Z92:$AK92,0)","v":11},{"$f":"MATCH(W$4,Millwall!$Z92:$AK92,0)","v":{"$error":"#N/A"}},{"$f":"MATCH(X$4,Millwall!$Z92:$AK92,0)","v":{"$error":"#N/A"}},{"$f":"MATCH(Y$4,Millwall!$Z92:$AK92,0)","v":12},{"$f":"MATCH(Z$4,Millwall!$Z92:$AK92,0)","v":{"$error":"#N/A"}},{"$f":"MATCH(AA$4,Millwall!$Z92:$AK92,0)","v":{"$error":"#N/A"}},{"$f":"MATCH(AB$4,Millwall!$Z92:$AK92,0)","v":6},{"$f":"MATCH(AC$4,Millwall!$Z92:$AK92,0)","v":2},{"$f":"MATCH(AD$4,Millwall!$Z92:$AK92,0)","v":5},{"$f":"MATCH(AE$4,Millwall!$Z92:$AK92,0)","v":{"$error":"#N/A"}},{"$f":"MATCH(AF$4,Millwall!$Z92:$AK92,0)","v":{"$error":"#N/A"}},{"$f":"MATCH(AG$4,Millwall!$Z92:$AK92,0)","v":{"$error":"#N/A"}},{"$f":"MATCH(AH$4,Millwall!$Z92:$AK92,0)","v":{"$error":"#N/A"}},{"$f":"MATCH(AI$4,Millwall!$Z92:$AK92,0)","v":{"$error":"#N/A"}},{"$f":"MATCH(AJ$4,Millwall!$Z92:$AK92,0)","v":{"$error":"#N/A"}},{"$f":"MATCH(AK$4,Millwall!$Z92:$AK92,0)","v":{"$error":"#N/A"}},{"$f":"MATCH(AL$4,Millwall!$Z92:$AK92,0)","v":{"$error":"#N/A"}},{"$f":"MATCH(AM$4,Millwall!$Z92:$AK92,0)","v":{"$error":"#N/A"}},{"$f":"MATCH(AN$4,Millwall!$Z92:$AK92,0)","v":{"$error":"#N/A"}},{"$f":"MATCH(AO$4,Millwall!$Z92:$AK92,0)","v":{"$error":"#N/A"}},{"$f":"MATCH(AP$4,Millwall!$Z92:$AK92,0)","v":{"$error":"#N/A"}},{"$f":"MATCH(AQ$4,Millwall!$Z92:$AK92,0)","v":{"$error":"#N/A"}},{"$f":"MATCH(AR$4,Millwall!$AD92:$AO92,0)","v":{"$error":"#N/A"}},null,null,null,null,null,{"$f":"MATCH(AX$3,Millwall!$Z92:$AK92,0)","v":{"$error":"#N/A"}},{"$f":"MATCH(AY$3,Millwall!$Z92:$AK92,0)","v":{"$error":"#N/A"}},{"$f":"MATCH(AZ$3,Millwall!$Z92:$AK92,0)","v":{"$error":"#N/A"}},{"$f":"MATCH(BA$3,Millwall!$Z92:$AK92,0)","v":{"$error":"#N/A"}},{"$f":"MATCH(BB$3,Millwall!$Z92:$AK92,0)","v":{"$error":"#N/A"}},{"$f":"MATCH(BC$3,Millwall!$Z92:$AK92,0)","v":{"$error":"#N/A"}},{"$f":"MATCH(BD$3,Millwall!$Z92:$AK92,0)","v":{"$error":"#N/A"}},{"$f":"MATCH(BE$3,Millwall!$Z92:$AK92,0)","v":{"$error":"#N/A"}},{"$f":"MATCH(BF$3,Millwall!$Z92:$AK92,0)","v":{"$error":"#N/A"}},{"$f":"MATCH(BG$3,Millwall!$Z92:$AK92,0)","v":{"$error":"#N/A"}},{"$f":"MATCH(BH$3,Millwall!$Z92:$AK92,0)","v":{"$error":"#N/A"}},{"$f":"MATCH(BI$3,Millwall!$Z92:$AK92,0)","v":{"$error":"#N/A"}},{"$f":"MATCH(BJ$3,Millwall!$Z92:$AK92,0)","v":{"$error":"#N/A"}},{"$f":"MATCH(BK$3,Millwall!$Z92:$AK92,0)","v":{"$error":"#N/A"}},{"$f":"MATCH(BL$3,Millwall!$Z92:$AK92,0)","v":12},{"$f":"MATCH(BM$3,Millwall!$Z92:$AK92,0)","v":{"$error":"#N/A"}},{"$f":"MATCH(BN$3,Millwall!$Z92:$AK92,0)","v":{"$error":"#N/A"}},{"$f":"MATCH(BO$3,Millwall!$Z92:$AK92,0)","v":6},{"$f":"MATCH(BP$3,Millwall!$Z92:$AK92,0)","v":{"$error":"#N/A"}},{"$f":"MATCH(BQ$3,Millwall!$Z92:$AK92,0)","v":{"$error":"#N/A"}},{"$f":"MATCH(BR$3,Millwall!$Z92:$AK92,0)","v":{"$error":"#N/A"}},{"$f":"MATCH(BS$3,Millwall!$Z92:$AK92,0)","v":{"$error":"#N/A"}},{"$f":"MATCH(BT$3,Millwall!$Z92:$AK92,0)","v":{"$error":"#N/A"}},{"$f":"MATCH(BU$3,Millwall!$Z92:$AK92,0)","v":{"$error":"#N/A"}},{"$f":"MATCH(BV$3,Millwall!$Z92:$AK92,0)","v":{"$error":"#N/A"}},{"$f":"MATCH(BW$3,Millwall!$Z92:$AK92,0)","v":{"$error":"#N/A"}},{"$f":"MATCH(BX$3,Millwall!$Z92:$AK92,0)","v":{"$error":"#N/A"}},{"$f":"MATCH(BY$3,Millwall!$Z92:$AK92,0)","v":{"$error":"#N/A"}},{"$f":"MATCH(BZ$3,Millwall!$Z92:$AK92,0)","v":{"$error":"#N/A"}},{"$f":"MATCH(CA$3,Millwall!$Z92:$AK92,0)","v":{"$error":"#N/A"}},{"$f":"MATCH(CB$3,Millwall!$Z92:$AK92,0)","v":{"$error":"#N/A"}},{"$f":"MATCH(CC$3,Millwall!$Z92:$AK92,0)","v":{"$error":"#N/A"}},{"$f":"MATCH(CD$3,Millwall!$Z92:$AK92,0)","v":{"$error":"#N/A"}},{"$f":"MATCH(CE$3,Millwall!$Z92:$AK92,0)","v":{"$error":"#N/A"}},null,null,null,null,null,null,{"$f":"$CM$22&\" [**\"","v":"Smith [**"},{"$f":"Millwall!$Z186","v":"Smith"},"Smith (**",{"$f":"$CM$22&\"**\"","v":"Smith**"},null,{"$f":"$CM$22","v":"Smith"},{"$f":"$CN$22","v":"Smith (**"},{"$f":"$CO$22","v":"Smith**"},null,{"$f":"Millwall!$BZ26","v":0},{"$f":"Millwall!$CE26","v":0},{"$f":"Millwall!$CJ26","v":0},{"$f":"Millwall!$CO26","v":0}]
[null,null,0,19,null,{"$f":"Millwall!V93","v":"1985-12-07"},null,{"$f":"Millwall!W93","v":"Carlisle"},{"$f":"Millwall!X93","v":"(A)"},{"$f":"Millwall!Y93","v":"L 0-1"},{"$f":"MATCH(K$4,Millwall!$Z93:$AK93,0)","v":4},{"$f":"MATCH(L$4,Millwall!$Z93:$AK93,0)","v":8},{"$f":"MATCH(M$4,Millwall!$Z93:$AK93,0)","v":{"$error":"#N/A"}},{"$f":"MATCH(N$4,Millwall!$Z93:$AK93,0)","v":{"$error":"#N/A"}},{"$f":"MATCH(O$4,Millwall!$Z93:$AK93,0)","v":1},{"$f":"MATCH(P$4,Millwall!$Z93:$AK93,0)","v":3},{"$f":"MATCH(Q$4,Millwall!$Z93:$AK93,0)","v":{"$error":"#N/A"}},{"$f":"MATCH(R$4,Millwall!$Z93:$AK93,0)","v":9},{"$f":"MATCH(S$4,Millwall!$Z93:$AK93,0)","v":10},{"$f":"MATCH(T$4,Millwall!$Z93:$AK93,0)","v":7},{"$f":"MATCH(U$4,Millwall!$Z93:$AK93,0)","v":{"$error":"#N/A"}},{"$f":"MATCH(V$4,Millwall!$Z93:$AK93,0)","v":11},{"$f":"MATCH(W$4,Millwall!$Z93:$AK93,0)","v":6},{"$f":"MATCH(X$4,Millwall!$Z93:$AK93,0)","v":{"$error":"#N/A"}},{"$f":"MATCH(Y$4,Millwall!$Z93:$AK93,0)","v":{"$error":"#N/A"}},{"$f":"MATCH(Z$4,Millwall!$Z93:$AK93,0)","v":{"$error":"#N/A"}},{"$f":"MATCH(AA$4,Millwall!$Z93:$AK93,0)","v":12},{"$f":"MATCH(AB$4,Millwall!$Z93:$AK93,0)","v":5},{"$f":"MATCH(AC$4,Millwall!$Z93:$AK93,0)","v":2},{"$f":"MATCH(AD$4,Millwall!$Z93:$AK93,0)","v":{"$error":"#N/A"}},{"$f":"MATCH(AE$4,Millwall!$Z93:$AK93,0)","v":{"$error":"#N/A"}},{"$f":"MATCH(AF$4,Millwall!$Z93:$AK93,0)","v":{"$error":"#N/A"}},{"$f":"MATCH(AG$4,Millwall!$Z93:$AK93,0)","v":{"$error":"#N/A"}},{"$f":"MATCH(AH$4,Millwall!$Z93:$AK93,0)","v":{"$error":"#N/A"}},{"$f":"MATCH(AI$4,Millwall!$Z93:$AK93,0)","v":{"$error":"#N/A"}},{"$f":"MATCH(AJ$4,Millwall!$Z93:$AK93,0)","v":{"$error":"#N/A"}},{"$f":"MATCH(AK$4,Millwall!$Z93:$AK93,0)","v":{"$error":"#N/A"}},{"$f":"MATCH(AL$4,Millwall!$Z93:$AK93,0)","v":{"$error":"#N/A"}},{"$f":"MATCH(AM$4,Millwall!$Z93:$AK93,0)","v":{"$error":"#N/A"}},{"$f":"MATCH(AN$4,Millwall!$Z93:$AK93,0)","v":{"$error":"#N/A"}},{"$f":"MATCH(AO$4,Millwall!$Z93:$AK93,0)","v":{"$error":"#N/A"}},{"$f":"MATCH(AP$4,Millwall!$Z93:$AK93,0)","v":{"$error":"#N/A"}},{"$f":"MATCH(AQ$4,Millwall!$Z93:$AK93,0)","v":{"$error":"#N/A"}},{"$f":"MATCH(AR$4,Millwall!$AD93:$AO93,0)","v":{"$error":"#N/A"}},null,null,null,null,null,{"$f":"MATCH(AX$3,Millwall!$Z93:$AK93,0)","v":{"$error":"#N/A"}},{"$f":"MATCH(AY$3,Millwall!$Z93:$AK93,0)","v":{"$error":"#N/A"}},{"$f":"MATCH(AZ$3,Millwall!$Z93:$AK93,0)","v":{"$error":"#N/A"}},{"$f":"MATCH(BA$3,Millwall!$Z93:$AK93,0)","v":{"$error":"#N/A"}},{"$f":"MATCH(BB$3,Millwall!$Z93:$AK93,0)","v":{"$error":"#N/A"}},{"$f":"MATCH(BC$3,Millwall!$Z93:$AK93,0)","v":{"$error":"#N/A"}},{"$f":"MATCH(BD$3,Millwall!$Z93:$AK93,0)","v":{"$error":"#N/A"}},{"$f":"MATCH(BE$3,Millwall!$Z93:$AK93,0)","v":{"$error":"#N/A"}},{"$f":"MATCH(BF$3,Millwall!$Z93:$AK93,0)","v":{"$error":"#N/A"}},{"$f":"MATCH(BG$3,Millwall!$Z93:$AK93,0)","v":{"$error":"#N/A"}},{"$f":"MATCH(BH$3,Millwall!$Z93:$AK93,0)","v":{"$error":"#N/A"}},{"$f":"MATCH(BI$3,Millwall!$Z93:$AK93,0)","v":{"$error":"#N/A"}},{"$f":"MATCH(BJ$3,Millwall!$Z93:$AK93,0)","v":{"$error":"#N/A"}},{"$f":"MATCH(BK$3,Millwall!$Z93:$AK93,0)","v":{"$error":"#N/A"}},{"$f":"MATCH(BL$3,Millwall!$Z93:$AK93,0)","v":{"$error":"#N/A"}},{"$f":"MATCH(BM$3,Millwall!$Z93:$AK93,0)","v":{"$error":"#N/A"}},{"$f":"MATCH(BN$3,Millwall!$Z93:$AK93,0)","v":12},{"$f":"MATCH(BO$3,Millwall!$Z93:$AK93,0)","v":5},{"$f":"MATCH(BP$3,Millwall!$Z93:$AK93,0)","v":{"$error":"#N/A"}},{"$f":"MATCH(BQ$3,Millwall!$Z93:$AK93,0)","v":{"$error":"#N/A"}},{"$f":"MATCH(BR$3,Millwall!$Z93:$AK93,0)","v":{"$error":"#N/A"}},{"$f":"MATCH(BS$3,Millwall!$Z93:$AK93,0)","v":{"$error":"#N/A"}},{"$f":"MATCH(BT$3,Millwall!$Z93:$AK93,0)","v":{"$error":"#N/A"}},{"$f":"MATCH(BU$3,Millwall!$Z93:$AK93,0)","v":{"$error":"#N/A"}},{"$f":"MATCH(BV$3,Millwall!$Z93:$AK93,0)","v":{"$error":"#N/A"}},{"$f":"MATCH(BW$3,Millwall!$Z93:$AK93,0)","v":{"$error":"#N/A"}},{"$f":"MATCH(BX$3,Millwall!$Z93:$AK93,0)","v":{"$error":"#N/A"}},{"$f":"MATCH(BY$3,Millwall!$Z93:$AK93,0)","v":{"$error":"#N/A"}},{"$f":"MATCH(BZ$3,Millwall!$Z93:$AK93,0)","v":{"$error":"#N/A"}},{"$f":"MATCH(CA$3,Millwall!$Z93:$AK93,0)","v":{"$error":"#N/A"}},{"$f":"MATCH(CB$3,Millwall!$Z93:$AK93,0)","v":{"$error":"#N/A"}},{"$f":"MATCH(CC$3,Millwall!$Z93:$AK93,0)","v":{"$error":"#N/A"}},{"$f":"MATCH(CD$3,Millwall!$Z93:$AK93,0)","v":{"$error":"#N/A"}},{"$f":"MATCH(CE$3,Millwall!$Z93:$AK93,0)","v":{"$error":"#N/A"}},null,null,null,null,null,null,{"$f":"$CM$23&\" [**\"","v":"Stevens [**"},{"$f":"Millwall!$Z187","v":"Stevens"},"Stevens (**",{"$f":"$CM$23&\"**\"","v":"Stevens**"},null,{"$f":"$CM$23","v":"Stevens"},{"$f":"$CN$23","v":"Stevens (**"},{"$f":"$CO$23","v":"Stevens**"},null,{"$f":"Millwall!$BZ27","v":1},{"$f":"Millwall!$CE27","v":0},{"$f":"Millwall!$CJ27","v":0},{"$f":"Millwall!$CO27","v":0}]
[null,null,0,20,null,{"$f":"Millwall!V94","v":"1985-12-14"},null,{"$f":"Millwall!W94","v":"Huddersfield"},{"$f":"Millwall!X94","v":"(H)"},{"$f":"Millwall!Y94","v":"W 2-1"},{"$f":"MATCH(K$4,Millwall!$Z94:$AK94,0)","v":4},{"$f":"MATCH(L$4,Millwall!$Z94:$AK94,0)","v":8},{"$f":"MATCH(M$4,Millwall!$Z94:$AK94,0)","v":{"$error":"#N/A"}},{"$f":"MATCH(N$4,Millwall!$Z94:$AK94,0)","v":{"$error":"#N/A"}},{"$f":"MATCH(O$4,Millwall!$Z94:$AK94,0)","v":1},{"$f":"MATCH(P$4,Millwall!$Z94:$AK94,0)","v":3},{"$f":"MATCH(Q$4,Millwall!$Z94:$AK94,0)","v":{"$error":"#N/A"}},{"$f":"MATCH(R$4,Millwall!$Z94:$AK94,0)","v":12},{"$f":"MATCH(S$4,Millwall!$Z94:$AK94,0)","v":10},{"$f":"MATCH(T$4,Millwall!$Z94:$AK94,0)","v":{"$error":"#N/A"}},{"$f":"MATCH(U$4,Millwall!$Z94:$AK94,0)","v":{"$error":"#N/A"}},{"$f":"MATCH(V$4,Millwall!$Z94:$AK94,0)","v":7},{"$f":"MATCH(W$4,Millwall!$Z94:$AK94,0)","v":6},{"$f":"MATCH(X$4,Millwall!$Z94:$AK94,0)","v":11},{"$f":"MATCH(Y$4,Millwall!$Z94:$AK94,0)","v":{"$error":"#N/A"}},{"$f":"MATCH(Z$4,Millwall!$Z94:$AK94,0)","v":{"$error":"#N/A"}},{"$f":"MATCH(AA$4,Millwall!$Z94:$AK94,0)","v":9},{"$f":"MATCH(AB$4,Millwall!$Z94:$AK94,0)","v":{"$error":"#N/A"}},{"$f":"MATCH(AC$4,Millwall!$Z94:$AK94,0)","v":2},{"$f":"MATCH(AD$4,Millwall!$Z94:$AK94,0)","v":5},{"$f":"MATCH(AE$4,Millwall!$Z94:$AK94,0)","v":{"$error":"#N/A"}},{"$f":"MATCH(AF$4,Millwall!$Z94:$AK94,0)","v":{"$error":"#N/A"}},{"$f":"MATCH(AG$4,Millwall!$Z94:$AK94,0)","v":{"$error":"#N/A"}},{"$f":"MATCH(AH$4,Millwall!$Z94:$AK94,0)","v":{"$error":"#N/A"}},{"$f":"MATCH(AI$4,Millwall!$Z94:$AK94,0)","v":{"$error":"#N/A"}},{"$f":"MATCH(AJ$4,Millwall!$Z94:$AK94,0)","v":{"$error":"#N/A"}},{"$f":"MATCH(AK$4,Millwall!$Z94:$AK94,0)","v":{"$error":"#N/A"}},{"$f":"MATCH(AL$4,Millwall!$Z94:$AK94,0)","v":{"$error":"#N/A"}},{"$f":"MATCH(AM$4,Millwall!$Z94:$AK94,0)","v":{"$error":"#N/A"}},{"$f":"MATCH(AN$4,Millwall!$Z94:$AK94,0)","v":{"$error":"#N/A"}},{"$f":"MATCH(AO$4,Millwall!$Z94:$AK94,0)","v":{"$error":"#N/A"}},{"$f":"MATCH(AP$4,Millwall!$Z94:$AK94,0)","v":{"$error":"#N/A"}},{"$f":"MATCH(AQ$4,Millwall!$Z94:$AK94,0)","v":{"$error":"#N/A"}},{"$f":"MATCH(AR$4,Millwall!$AD94:$AO94,0)","v":{"$error":"#N/A"}},null,null,null,null,null,{"$f":"MATCH(AX$3,Millwall!$Z94:$AK94,0)","v":{"$error":"#N/A"}},{"$f":"MATCH(AY$3,Millwall!$Z94:$AK94,0)","v":8},{"$f":"MATCH(AZ$3,Millwall!$Z94:$AK94,0)","v":{"$error":"#N/A"}},{"$f":"MATCH(BA$3,Millwall!$Z94:$AK94,0)","v":{"$error":"#N/A"}},{"$f":"MATCH(BB$3,Millwall!$Z94:$AK94,0)","v":{"$error":"#N/A"}},{"$f":"MATCH(BC$3,Millwall!$Z94:$AK94,0)","v":{"$error":"#N/A"}},{"$f":"MATCH(BD$3,Millwall!$Z94:$AK94,0)","v":{"$error":"#N/A"}},{"$f":"MATCH(BE$3,Millwall!$Z94:$AK94,0)","v":12},{"$f":"MATCH(BF$3,Millwall!$Z94:$AK94,0)","v":{"$error":"#N/A"}},{"$f":"MATCH(BG$3,Millwall!$Z94:$AK94,0)","v":{"$error":"#N/A"}},{"$f":"MATCH(BH$3,Millwall!$Z94:$AK94,0)","v":{"$error":"#N/A"}},{"$f":"MATCH(BI$3,Millwall!$Z94:$AK94,0)","v":{"$error":"#N/A"}},{"$f":"MATCH(BJ$3,Millwall!$Z94:$AK94,0)","v":{"$error":"#N/A"}},{"$f":"MATCH(BK$3,Millwall!$Z94:$AK94,0)","v":{"$error":"#N/A"}},{"$f":"MATCH(BL$3,Millwall!$Z94:$AK94,0)","v":{"$error":"#N/A"}},{"$f":"MATCH(BM$3,Millwall!$Z94:$AK94,0)","v":{"$error":"#N/A"}},{"$f":"MATCH(BN$3,Millwall!$Z94:$AK94,0)","v":{"$error":"#N/A"}},{"$f":"MATCH(BO$3,Millwall!$Z94:$AK94,0)","v":{"$error":"#N/A"}},{"$f":"MATCH(BP$3,Millwall!$Z94:$AK94,0)","v":{"$error":"#N/A"}},{"$f":"MATCH(BQ$3,Millwall!$Z94:$AK94,0)","v":{"$error":"#N/A"}},{"$f":"MATCH(BR$3,Millwall!$Z94:$AK94,0)","v":{"$error":"#N/A"}},{"$f":"MATCH(BS$3,Millwall!$Z94:$AK94,0)","v":{"$error":"#N/A"}},{"$f":"MATCH(BT$3,Millwall!$Z94:$AK94,0)","v":{"$error":"#N/A"}},{"$f":"MATCH(BU$3,Millwall!$Z94:$AK94,0)","v":{"$error":"#N/A"}},{"$f":"MATCH(BV$3,Millwall!$Z94:$AK94,0)","v":{"$error":"#N/A"}},{"$f":"MATCH(BW$3,Millwall!$Z94:$AK94,0)","v":{"$error":"#N/A"}},{"$f":"MATCH(BX$3,Millwall!$Z94:$AK94,0)","v":{"$error":"#N/A"}},{"$f":"MATCH(BY$3,Millwall!$Z94:$AK94,0)","v":{"$error":"#N/A"}},{"$f":"MATCH(BZ$3,Millwall!$Z94:$AK94,0)","v":{"$error":"#N/A"}},{"$f":"MATCH(CA$3,Millwall!$Z94:$AK94,0)","v":{"$error":"#N/A"}},{"$f":"MATCH(CB$3,Millwall!$Z94:$AK94,0)","v":{"$error":"#N/A"}},{"$f":"MATCH(CC$3,Millwall!$Z94:$AK94,0)","v":{"$error":"#N/A"}},{"$f":"MATCH(CD$3,Millwall!$Z94:$AK94,0)","v":{"$error":"#N/A"}},{"$f":"MATCH(CE$3,Millwall!$Z94:$AK94,0)","v":{"$error":"#N/A"}},null,null,null,null,null,null,{"$f":"$CM$24&\" [**\"","v":"Walker [**"},{"$f":"Millwall!$Z188","v":"Walker"},"Walker (**",{"$f":"$CM$24&\"**\"","v":"Walker**"},null,{"$f":"$CM$24","v":"Walker"},{"$f":"$CN$24","v":"Walker (**"},{"$f":"$CO$24","v":"Walker**"},null,{"$f":"Millwall!$BZ28","v":3},{"$f":"Millwall!$CE28","v":1},{"$f":"Millwall!$CJ28","v":0},{"$f":"Millwall!$CO28","v":0}]
[null,null,0,21,null,{"$f":"Millwall!V95","v":"1985-12-21"},null,{"$f":"Millwall!W95","v":"Norwich"},{"$f":"Millwall!X95","v":"(A)"},{"$f":"Millwall!Y95","v":"L 1-6"},{"$f":"MATCH(K$4,Millwall!$Z95:$AK95,0)","v":4},{"$f":"MATCH(L$4,Millwall!$Z95:$AK95,0)","v":8},{"$f":"MATCH(M$4,Millwall!$Z95:$AK95,0)","v":{"$error":"#N/A"}},{"$f":"MATCH(N$4,Millwall!$Z95:$AK95,0)","v":{"$error":"#N/A"}},{"$f":"MATCH(O$4,Millwall!$Z95:$AK95,0)","v":1},{"$f":"MATCH(P$4,Millwall!$Z95:$AK95,0)","v":3},{"$f":"MATCH(Q$4,Millwall!$Z95:$AK95,0)","v":{"$error":"#N/A"}},{"$f":"MATCH(R$4,Millwall!$Z95:$AK95,0)","v":12},{"$f":"MATCH(S$4,Millwall!$Z95:$AK95,0)","v":10},{"$f":"MATCH(T$4,Millwall!$Z95:$AK95,0)","v":6},{"$f":"MATCH(U$4,Millwall!$Z95:$AK95,0)","v":{"$error":"#N/A"}},{"$f":"MATCH(V$4,Millwall!$Z95:$AK95,0)","v":7},{"$f":"MATCH(W$4,Millwall!$Z95:$AK95,0)","v":{"$error":"#N/A"}},{"$f":"MATCH(X$4,Millwall!$Z95:$AK95,0)","v":11},{"$f":"MATCH(Y$4,Millwall!$Z95:$AK95,0)","v":{"$error":"#N/A"}},{"$f":"MATCH(Z$4,Millwall!$Z95:$AK95,0)","v":{"$error":"#N/A"}},{"$f":"MATCH(AA$4,Millwall!$Z95:$AK95,0)","v":9},{"$f":"MATCH(AB$4,Millwall!$Z95:$AK95,0)","v":{"$error":"#N/A"}},{"$f":"MATCH(AC$4,Millwall!$Z95:$AK95,0)","v":2},{"$f":"MATCH(AD$4,Millwall!$Z95:$AK95,0)","v":5},{"$f":"MATCH(AE$4,Millwall!$Z95:$AK95,0)","v":{"$error":"#N/A"}},{"$f":"MATCH(AF$4,Millwall!$Z95:$AK95,0)","v":{"$error":"#N/A"}},{"$f":"MATCH(AG$4,Millwall!$Z95:$AK95,0)","v":{"$error":"#N/A"}},{"$f":"MATCH(AH$4,Millwall!$Z95:$AK95,0)","v":{"$error":"#N/A"}},{"$f":"MATCH(AI$4,Millwall!$Z95:$AK95,0)","v":{"$error":"#N/A"}},{"$f":"MATCH(AJ$4,Millwall!$Z95:$AK95,0)","v":{"$error":"#N/A"}},{"$f":"MATCH(AK$4,Millwall!$Z95:$AK95,0)","v":{"$error":"#N/A"}},{"$f":"MATCH(AL$4,Millwall!$Z95:$AK95,0)","v":{"$error":"#N/A"}},{"$f":"MATCH(AM$4,Millwall!$Z95:$AK95,0)","v":{"$error":"#N/A"}},{"$f":"MATCH(AN$4,Millwall!$Z95:$AK95,0)","v":{"$error":"#N/A"}},{"$f":"MATCH(AO$4,Millwall!$Z95:$AK95,0)","v":{"$error":"#N/A"}},{"$f":"MATCH(AP$4,Millwall!$Z95:$AK95,0)","v":{"$error":"#N/A"}},{"$f":"MATCH(AQ$4,Millwall!$Z95:$AK95,0)","v":{"$error":"#N/A"}},{"$f":"MATCH(AR$4,Millwall!$AD95:$AO95,0)","v":{"$error":"#N/A"}},null,null,null,null,null,{"$f":"MATCH(AX$3,Millwall!$Z95:$AK95,0)","v":{"$error":"#N/A"}},{"$f":"MATCH(AY$3,Millwall!$Z95:$AK95,0)","v":8},{"$f":"MATCH(AZ$3,Millwall!$Z95:$AK95,0)","v":{"$error":"#N/A"}},{"$f":"MATCH(BA$3,Millwall!$Z95:$AK95,0)","v":{"$error":"#N/A"}},{"$f":"MATCH(BB$3,Millwall!$Z95:$AK95,0)","v":{"$error":"#N/A"}},{"$f":"MATCH(BC$3,Millwall!$Z95:$AK95,0)","v":{"$error":"#N/A"}},{"$f":"MATCH(BD$3,Millwall!$Z95:$AK95,0)","v":{"$error":"#N/A"}},{"$f":"MATCH(BE$3,Millwall!$Z95:$AK95,0)","v":12},{"$f":"MATCH(BF$3,Millwall!$Z95:$AK95,0)","v":{"$error":"#N/A"}},{"$f":"MATCH(BG$3,Millwall!$Z95:$AK95,0)","v":{"$error":"#N/A"}},{"$f":"MATCH(BH$3,Millwall!$Z95:$AK95,0)","v":{"$error":"#N/A"}},{"$f":"MATCH(BI$3,Millwall!$Z95:$AK95,0)","v":{"$error":"#N/A"}},{"$f":"MATCH(BJ$3,Millwall!$Z95:$AK95,0)","v":{"$error":"#N/A"}},{"$f":"MATCH(BK$3,Millwall!$Z95:$AK95,0)","v":{"$error":"#N/A"}},{"$f":"MATCH(BL$3,Millwall!$Z95:$AK95,0)","v":{"$error":"#N/A"}},{"$f":"MATCH(BM$3,Millwall!$Z95:$AK95,0)","v":{"$error":"#N/A"}},{"$f":"MATCH(BN$3,Millwall!$Z95:$AK95,0)","v":{"$error":"#N/A"}},{"$f":"MATCH(BO$3,Millwall!$Z95:$AK95,0)","v":{"$error":"#N/A"}},{"$f":"MATCH(BP$3,Millwall!$Z95:$AK95,0)","v":{"$error":"#N/A"}},{"$f":"MATCH(BQ$3,Millwall!$Z95:$AK95,0)","v":{"$error":"#N/A"}},{"$f":"MATCH(BR$3,Millwall!$Z95:$AK95,0)","v":{"$error":"#N/A"}},{"$f":"MATCH(BS$3,Millwall!$Z95:$AK95,0)","v":{"$error":"#N/A"}},{"$f":"MATCH(BT$3,Millwall!$Z95:$AK95,0)","v":{"$error":"#N/A"}},{"$f":"MATCH(BU$3,Millwall!$Z95:$AK95,0)","v":{"$error":"#N/A"}},{"$f":"MATCH(BV$3,Millwall!$Z95:$AK95,0)","v":{"$error":"#N/A"}},{"$f":"MATCH(BW$3,Millwall!$Z95:$AK95,0)","v":{"$error":"#N/A"}},{"$f":"MATCH(BX$3,Millwall!$Z95:$AK95,0)","v":{"$error":"#N/A"}},{"$f":"MATCH(BY$3,Millwall!$Z95:$AK95,0)","v":{"$error":"#N/A"}},{"$f":"MATCH(BZ$3,Millwall!$Z95:$AK95,0)","v":{"$error":"#N/A"}},{"$f":"MATCH(CA$3,Millwall!$Z95:$AK95,0)","v":{"$error":"#N/A"}},{"$f":"MATCH(CB$3,Millwall!$Z95:$AK95,0)","v":{"$error":"#N/A"}},{"$f":"MATCH(CC$3,Millwall!$Z95:$AK95,0)","v":{"$error":"#N/A"}},{"$f":"MATCH(CD$3,Millwall!$Z95:$AK95,0)","v":{"$error":"#N/A"}},{"$f":"MATCH(CE$3,Millwall!$Z95:$AK95,0)","v":{"$error":"#N/A"}},null,null,null,null,null,null,{"$f":"$CM$25&\" [**\"","v":"Wilson [**"},{"$f":"Millwall!$Z189","v":"Wilson"},"Wilson (**",{"$f":"$CM$25&\"**\"","v":"Wilson**"},null,{"$f":"$CM$25","v":"Wilson"},{"$f":"$CN$25","v":"Wilson (**"},{"$f":"$CO$25","v":"Wilson**"},null,{"$f":"Millwall!$BZ29","v":12},{"$f":"Millwall!$CE29","v":0},{"$f":"Millwall!$CJ29","v":0},{"$f":"Millwall!$CO29","v":0}]
[null,null,0,22,null,{"$f":"Millwall!V96","v":"1985-12-28"},null,{"$f":"Millwall!W96","v":"Hull City"},{"$f":"Millwall!X96","v":"(H)"},{"$f":"Millwall!Y96","v":"W 5-0"},{"$f":"MATCH(K$4,Millwall!$Z96:$AK96,0)","v":4},{"$f":"MATCH(L$4,Millwall!$Z96:$AK96,0)","v":{"$error":"#N/A"}},{"$f":"MATCH(M$4,Millwall!$Z96:$AK96,0)","v":{"$error":"#N/A"}},{"$f":"MATCH(N$4,Millwall!$Z96:$AK96,0)","v":9},{"$f":"MATCH(O$4,Millwall!$Z96:$AK96,0)","v":{"$error":"#N/A"}},{"$f":"MATCH(P$4,Millwall!$Z96:$AK96,0)","v":3},{"$f":"MATCH(Q$4,Millwall!$Z96:$AK96,0)","v":{"$error":"#N/A"}},{"$f":"MATCH(R$4,Millwall!$Z96:$AK96,0)","v":{"$error":"#N/A"}},{"$f":"MATCH(S$4,Millwall!$Z96:$AK96,0)","v":10},{"$f":"MATCH(T$4,Millwall!$Z96:$AK96,0)","v":7},{"$f":"MATCH(U$4,Millwall!$Z96:$AK96,0)","v":{"$error":"#N/A"}},{"$f":"MATCH(V$4,Millwall!$Z96:$AK96,0)","v":{"$error":"#N/A"}},{"$f":"MATCH(W$4,Millwall!$Z96:$AK96,0)","v":6},{"$f":"MATCH(X$4,Millwall!$Z96:$AK96,0)","v":11},{"$f":"MATCH(Y$4,Millwall!$Z96:$AK96,0)","v":12},{"$f":"MATCH(Z$4,Millwall!$Z96:$AK96,0)","v":1},{"$f":"MATCH(AA$4,Millwall!$Z96:$AK96,0)","v":{"$error":"#N/A"}},{"$f":"MATCH(AB$4,Millwall!$Z96:$AK96,0)","v":{"$error":"#N/A"}},{"$f":"MATCH(AC$4,Millwall!$Z96:$AK96,0)","v":2},{"$f":"MATCH(AD$4,Millwall!$Z96:$AK96,0)","v":5},{"$f":"MATCH(AE$4,Millwall!$Z96:$AK96,0)","v":8},{"$f":"MATCH(AF$4,Millwall!$Z96:$AK96,0)","v":{"$error":"#N/A"}},{"$f":"MATCH(AG$4,Millwall!$Z96:$AK96,0)","v":{"$error":"#N/A"}},{"$f":"MATCH(AH$4,Millwall!$Z96:$AK96,0)","v":{"$error":"#N/A"}},{"$f":"MATCH(AI$4,Millwall!$Z96:$AK96,0)","v":{"$error":"#N/A"}},{"$f":"MATCH(AJ$4,Millwall!$Z96:$AK96,0)","v":{"$error":"#N/A"}},{"$f":"MATCH(AK$4,Millwall!$Z96:$AK96,0)","v":{"$error":"#N/A"}},{"$f":"MATCH(AL$4,Millwall!$Z96:$AK96,0)","v":{"$error":"#N/A"}},{"$f":"MATCH(AM$4,Millwall!$Z96:$AK96,0)","v":{"$error":"#N/A"}},{"$f":"MATCH(AN$4,Millwall!$Z96:$AK96,0)","v":{"$error":"#N/A"}},{"$f":"MATCH(AO$4,Millwall!$Z96:$AK96,0)","v":{"$error":"#N/A"}},{"$f":"MATCH(AP$4,Millwall!$Z96:$AK96,0)","v":{"$error":"#N/A"}},{"$f":"MATCH(AQ$4,Millwall!$Z96:$AK96,0)","v":{"$error":"#N/A"}},{"$f":"MATCH(AR$4,Millwall!$AD96:$AO96,0)","v":{"$error":"#N/A"}},null,null,null,null,null,{"$f":"MATCH(AX$3,Millwall!$Z96:$AK96,0)","v":{"$error":"#N/A"}},{"$f":"MATCH(AY$3,Millwall!$Z96:$AK96,0)","v":{"$error":"#N/A"}},{"$f":"MATCH(AZ$3,Millwall!$Z96:$AK96,0)","v":{"$error":"#N/A"}},{"$f":"MATCH(BA$3,Millwall!$Z96:$AK96,0)","v":{"$error":"#N/A"}},{"$f":"MATCH(BB$3,Millwall!$Z96:$AK96,0)","v":{"$error":"#N/A"}},{"$f":"MATCH(BC$3,Millwall!$Z96:$AK96,0)","v":{"$error":"#N/A"}},{"$f":"MATCH(BD$3,Millwall!$Z96:$AK96,0)","v":{"$error":"#N/A"}},{"$f":"MATCH(BE$3,Millwall!$Z96:$AK96,0)","v":{"$error":"#N/A"}},{"$f":"MATCH(BF$3,Millwall!$Z96:$AK96,0)","v":{"$error":"#N/A"}},{"$f":"MATCH(BG$3,Millwall!$Z96:$AK96,0)","v":{"$error":"#N/A"}},{"$f":"MATCH(BH$3,Millwall!$Z96:$AK96,0)","v":{"$error":"#N/A"}},{"$f":"MATCH(BI$3,Millwall!$Z96:$AK96,0)","v":{"$error":"#N/A"}},{"$f":"MATCH(BJ$3,Millwall!$Z96:$AK96,0)","v":{"$error":"#N/A"}},{"$f":"MATCH(BK$3,Millwall!$Z96:$AK96,0)","v":{"$error":"#N/A"}},{"$f":"MATCH(BL$3,Millwall!$Z96:$AK96,0)","v":{"$error":"#N/A"}},{"$f":"MATCH(BM$3,Millwall!$Z96:$AK96,0)","v":{"$error":"#N/A"}},{"$f":"MATCH(BN$3,Millwall!$Z96:$AK96,0)","v":{"$error":"#N/A"}},{"$f":"MATCH(BO$3,Millwall!$Z96:$AK96,0)","v":{"$error":"#N/A"}},{"$f":"MATCH(BP$3,Millwall!$Z96:$AK96,0)","v":{"$error":"#N/A"}},{"$f":"MATCH(BQ$3,Millwall!$Z96:$AK96,0)","v":{"$error":"#N/A"}},{"$f":"MATCH(BR$3,Millwall!$Z96:$AK96,0)","v":{"$error":"#N/A"}},{"$f":"MATCH(BS$3,Millwall!$Z96:$AK96,0)","v":{"$error":"#N/A"}},{"$f":"MATCH(BT$3,Millwall!$Z96:$AK96,0)","v":{"$error":"#N/A"}},{"$f":"MATCH(BU$3,Millwall!$Z96:$AK96,0)","v":{"$error":"#N/A"}},{"$f":"MATCH(BV$3,Millwall!$Z96:$AK96,0)","v":{"$error":"#N/A"}},{"$f":"MATCH(BW$3,Millwall!$Z96:$AK96,0)","v":{"$error":"#N/A"}},{"$f":"MATCH(BX$3,Millwall!$Z96:$AK96,0)","v":{"$error":"#N/A"}},{"$f":"MATCH(BY$3,Millwall!$Z96:$AK96,0)","v":{"$error":"#N/A"}},{"$f":"MATCH(BZ$3,Millwall!$Z96:$AK96,0)","v":{"$error":"#N/A"}},{"$f":"MATCH(CA$3,Millwall!$Z96:$AK96,0)","v":{"$error":"#N/A"}},{"$f":"MATCH(CB$3,Millwall!$Z96:$AK96,0)","v":{"$error":"#N/A"}},{"$f":"MATCH(CC$3,Millwall!$Z96:$AK96,0)","v":{"$error":"#N/A"}},{"$f":"MATCH(CD$3,Millwall!$Z96:$AK96,0)","v":{"$error":"#N/A"}},{"$f":"MATCH(CE$3,Millwall!$Z96:$AK96,0)","v":{"$error":"#N/A"}},null,null,null,null,null,null,{"$f":"$CM$26&\" [**\"","v":"0 [**"},{"$f":"Millwall!$Z190","v":0},"0 (**",{"$f":"$CM$26&\"**\"","v":"0**"},null,{"$f":"$CM$26","v":0},{"$f":"$CN$26","v":"0 (**"},{"$f":"$CO$26","v":"0**"},null,{"$f":"Millwall!$BZ30","v":0},{"$f":"Millwall!$CE30","v":0},{"$f":"Millwall!$CJ30","v":0},{"$f":"Millwall!$CO30","v":0}]
[null,null,0,23,null,{"$f":"Millwall!V97","v":"1986-01-11"},null,{"$f":"Millwall!W97","v":"Stoke"},{"$f":"Millwall!X97","v":"(H)"},{"$f":"Millwall!Y97","v":"L 2-3"},{"$f":"MATCH(K$4,Millwall!$Z97:$AK97,0)","v":4},{"$f":"MATCH(L$4,Millwall!$Z97:$AK97,0)","v":{"$error":"#N/A"}},{"$f":"MATCH(M$4,Millwall!$Z97:$AK97,0)","v":{"$error":"#N/A"}},{"$f":"MATCH(N$4,Millwall!$Z97:$AK97,0)","v":9},{"$f":"MATCH(O$4,Millwall!$Z97:$AK97,0)","v":{"$error":"#N/A"}},{"$f":"MATCH(P$4,Millwall!$Z97:$AK97,0)","v":3},{"$f":"MATCH(Q$4,Millwall!$Z97:$AK97,0)","v":{"$error":"#N/A"}},{"$f":"MATCH(R$4,Millwall!$Z97:$AK97,0)","v":{"$error":"#N/A"}},{"$f":"MATCH(S$4,Millwall!$Z97:$AK97,0)","v":10},{"$f":"MATCH(T$4,Millwall!$Z97:$AK97,0)","v":7},{"$f":"MATCH(U$4,Millwall!$Z97:$AK97,0)","v":{"$error":"#N/A"}},{"$f":"MATCH(V$4,Millwall!$Z97:$AK97,0)","v":12},{"$f":"MATCH(W$4,Millwall!$Z97:$AK97,0)","v":6},{"$f":"MATCH(X$4,Millwall!$Z97:$AK97,0)","v":11},{"$f":"MATCH(Y$4,Millwall!$Z97:$AK97,0)","v":2},{"$f":"MATCH(Z$4,Millwall!$Z97:$AK97,0)","v":1},{"$f":"MATCH(AA$4,Millwall!$Z97:$AK97,0)","v":{"$error":"#N/A"}},{"$f":"MATCH(AB$4,Millwall!$Z97:$AK97,0)","v":{"$error":"#N/A"}},{"$f":"MATCH(AC$4,Millwall!$Z97:$AK97,0)","v":{"$error":"#N/A"}},{"$f":"MATCH(AD$4,Millwall!$Z97:$AK97,0)","v":5},{"$f":"MATCH(AE$4,Millwall!$Z97:$AK97,0)","v":8},{"$f":"MATCH(AF$4,Millwall!$Z97:$AK97,0)","v":{"$error":"#N/A"}},{"$f":"MATCH(AG$4,Millwall!$Z97:$AK97,0)","v":{"$error":"#N/A"}},{"$f":"MATCH(AH$4,Millwall!$Z97:$AK97,0)","v":{"$error":"#N/A"}},{"$f":"MATCH(AI$4,Millwall!$Z97:$AK97,0)","v":{"$error":"#N/A"}},{"$f":"MATCH(AJ$4,Millwall!$Z97:$AK97,0)","v":{"$error":"#N/A"}},{"$f":"MATCH(AK$4,Millwall!$Z97:$AK97,0)","v":{"$error":"#N/A"}},{"$f":"MATCH(AL$4,Millwall!$Z97:$AK97,0)","v":{"$error":"#N/A"}},{"$f":"MATCH(AM$4,Millwall!$Z97:$AK97,0)","v":{"$error":"#N/A"}},{"$f":"MATCH(AN$4,Millwall!$Z97:$AK97,0)","v":{"$error":"#N/A"}},{"$f":"MATCH(AO$4,Millwall!$Z97:$AK97,0)","v":{"$error":"#N/A"}},{"$f":"MATCH(AP$4,Millwall!$Z97:$AK97,0)","v":{"$error":"#N/A"}},{"$f":"MATCH(AQ$4,Millwall!$Z97:$AK97,0)","v":{"$error":"#N/A"}},{"$f":"MATCH(AR$4,Millwall!$AD97:$AO97,0)","v":{"$error":"#N/A"}},null,null,null,null,null,{"$f":"MATCH(AX$3,Millwall!$Z97:$AK97,0)","v":{"$error":"#N/A"}},{"$f":"MATCH(AY$3,Millwall!$Z97:$AK97,0)","v":{"$error":"#N/A"}},{"$f":"MATCH(AZ$3,Millwall!$Z97:$AK97,0)","v":{"$error":"#N/A"}},{"$f":"MATCH(BA$3,Millwall!$Z97:$AK97,0)","v":{"$error":"#N/A"}},{"$f":"MATCH(BB$3,Millwall!$Z97:$AK97,0)","v":{"$error":"#N/A"}},{"$f":"MATCH(BC$3,Millwall!$Z97:$AK97,0)","v":{"$error":"#N/A"}},{"$f":"MATCH(BD$3,Millwall!$Z97:$AK97,0)","v":{"$error":"#N/A"}},{"$f":"MATCH(BE$3,Millwall!$Z97:$AK97,0)","v":{"$error":"#N/A"}},{"$f":"MATCH(BF$3,Millwall!$Z97:$AK97,0)","v":{"$error":"#N/A"}},{"$f":"MATCH(BG$3,Millwall!$Z97:$AK97,0)","v":{"$error":"#N/A"}},{"$f":"MATCH(BH$3,Millwall!$Z97:$AK97,0)","v":{"$error":"#N/A"}},{"$f":"MATCH(BI$3,Millwall!$Z97:$AK97,0)","v":{"$error":"#N/A"}},{"$f":"MATCH(BJ$3,Millwall!$Z97:$AK97,0)","v":{"$error":"#N/A"}},{"$f":"MATCH(BK$3,Millwall!$Z97:$AK97,0)","v":{"$error":"#N/A"}},{"$f":"MATCH(BL$3,Millwall!$Z97:$AK97,0)","v":{"$error":"#N/A"}},{"$f":"MATCH(BM$3,Millwall!$Z97:$AK97,0)","v":{"$error":"#N/A"}},{"$f":"MATCH(BN$3,Millwall!$Z97:$AK97,0)","v":{"$error":"#N/A"}},{"$f":"MATCH(BO$3,Millwall!$Z97:$AK97,0)","v":{"$error":"#N/A"}},{"$f":"MATCH(BP$3,Millwall!$Z97:$AK97,0)","v":{"$error":"#N/A"}},{"$f":"MATCH(BQ$3,Millwall!$Z97:$AK97,0)","v":{"$error":"#N/A"}},{"$f":"MATCH(BR$3,Millwall!$Z97:$AK97,0)","v":{"$error":"#N/A"}},{"$f":"MATCH(BS$3,Millwall!$Z97:$AK97,0)","v":{"$error":"#N/A"}},{"$f":"MATCH(BT$3,Millwall!$Z97:$AK97,0)","v":{"$error":"#N/A"}},{"$f":"MATCH(BU$3,Millwall!$Z97:$AK97,0)","v":{"$error":"#N/A"}},{"$f":"MATCH(BV$3,Millwall!$Z97:$AK97,0)","v":{"$error":"#N/A"}},{"$f":"MATCH(BW$3,Millwall!$Z97:$AK97,0)","v":{"$error":"#N/A"}},{"$f":"MATCH(BX$3,Millwall!$Z97:$AK97,0)","v":{"$error":"#N/A"}},{"$f":"MATCH(BY$3,Millwall!$Z97:$AK97,0)","v":{"$error":"#N/A"}},{"$f":"MATCH(BZ$3,Millwall!$Z97:$AK97,0)","v":{"$error":"#N/A"}},{"$f":"MATCH(CA$3,Millwall!$Z97:$AK97,0)","v":{"$error":"#N/A"}},{"$f":"MATCH(CB$3,Millwall!$Z97:$AK97,0)","v":{"$error":"#N/A"}},{"$f":"MATCH(CC$3,Millwall!$Z97:$AK97,0)","v":{"$error":"#N/A"}},{"$f":"MATCH(CD$3,Millwall!$Z97:$AK97,0)","v":{"$error":"#N/A"}},{"$f":"MATCH(CE$3,Millwall!$Z97:$AK97,0)","v":{"$error":"#N/A"}},null,null,null,null,null,null,{"$f":"$CM$27&\" [**\"","v":"0 [**"},{"$f":"Millwall!$Z191","v":0},"0 (**",{"$f":"$CM$27&\"**\"","v":"0**"},null,{"$f":"$CM$27","v":0},{"$f":"$CN$27","v":"0 (**"},{"$f":"$CO$27","v":"0**"},null,{"$f":"Millwall!$BZ31","v":2},{"$f":"Millwall!$CE31","v":0},{"$f":"Millwall!$CJ31","v":0},{"$f":"Millwall!$CO31","v":0}]
[null,null,0,24,null,{"$f":"Millwall!V98","v":"1986-01-18"},null,{"$f":"Millwall!W98","v":"Sunderland"},{"$f":"Millwall!X98","v":"(A)"},{"$f":"Millwall!Y98","v":"W 2-1"},{"$f":"MATCH(K$4,Millwall!$Z98:$AK98,0)","v":4},{"$f":"MATCH(L$4,Millwall!$Z98:$AK98,0)","v":{"$error":"#N/A"}},{"$f":"MATCH(M$4,Millwall!$Z98:$AK98,0)","v":{"$error":"#N/A"}},{"$f":"MATCH(N$4,Millwall!$Z98:$AK98,0)","v":9},{"$f":"MATCH(O$4,Millwall!$Z98:$AK98,0)","v":{"$error":"#N/A"}},{"$f":"MATCH(P$4,Millwall!$Z98:$AK98,0)","v":3},{"$f":"MATCH(Q$4,Millwall!$Z98:$AK98,0)","v":{"$error":"#N/A"}},{"$f":"MATCH(R$4,Millwall!$Z98:$AK98,0)","v":{"$error":"#N/A"}},{"$f":"MATCH(S$4,Millwall!$Z98:$AK98,0)","v":10},{"$f":"MATCH(T$4,Millwall!$Z98:$AK98,0)","v":7},{"$f":"MATCH(U$4,Millwall!$Z98:$AK98,0)","v":{"$error":"#N/A"}},{"$f":"MATCH(V$4,Millwall!$Z98:$AK98,0)","v":12},{"$f":"MATCH(W$4,Millwall!$Z98:$AK98,0)","v":6},{"$f":"MATCH(X$4,Millwall!$Z98:$AK98,0)","v":11},{"$f":"MATCH(Y$4,Millwall!$Z98:$AK98,0)","v":2},{"$f":"MATCH(Z$4,Millwall!$Z98:$AK98,0)","v":1},{"$f":"MATCH(AA$4,Millwall!$Z98:$AK98,0)","v":{"$error":"#N/A"}},{"$f":"MATCH(AB$4,Millwall!$Z98:$AK98,0)","v":{"$error":"#N/A"}},{"$f":"MATCH(AC$4,Millwall!$Z98:$AK98,0)","v":{"$error":"#N/A"}},{"$f":"MATCH(AD$4,Millwall!$Z98:$AK98,0)","v":5},{"$f":"MATCH(AE$4,Millwall!$Z98:$AK98,0)","v":8},{"$f":"MATCH(AF$4,Millwall!$Z98:$AK98,0)","v":{"$error":"#N/A"}},{"$f":"MATCH(AG$4,Millwall!$Z98:$AK98,0)","v":{"$error":"#N/A"}},{"$f":"MATCH(AH$4,Millwall!$Z98:$AK98,0)","v":{"$error":"#N/A"}},{"$f":"MATCH(AI$4,Millwall!$Z98:$AK98,0)","v":{"$error":"#N/A"}},{"$f":"MATCH(AJ$4,Millwall!$Z98:$AK98,0)","v":{"$error":"#N/A"}},{"$f":"MATCH(AK$4,Millwall!$Z98:$AK98,0)","v":{"$error":"#N/A"}},{"$f":"MATCH(AL$4,Millwall!$Z98:$AK98,0)","v":{"$error":"#N/A"}},{"$f":"MATCH(AM$4,Millwall!$Z98:$AK98,0)","v":{"$error":"#N/A"}},{"$f":"MATCH(AN$4,Millwall!$Z98:$AK98,0)","v":{"$error":"#N/A"}},{"$f":"MATCH(AO$4,Millwall!$Z98:$AK98,0)","v":{"$error":"#N/A"}},{"$f":"MATCH(AP$4,Millwall!$Z98:$AK98,0)","v":{"$error":"#N/A"}},{"$f":"MATCH(AQ$4,Millwall!$Z98:$AK98,0)","v":{"$error":"#N/A"}},{"$f":"MATCH(AR$4,Millwall!$AD98:$AO98,0)","v":{"$error":"#N/A"}},null,null,null,null,null,{"$f":"MATCH(AX$3,Millwall!$Z98:$AK98,0)","v":{"$error":"#N/A"}},{"$f":"MATCH(AY$3,Millwall!$Z98:$AK98,0)","v":{"$error":"#N/A"}},{"$f":"MATCH(AZ$3,Millwall!$Z98:$AK98,0)","v":{"$error":"#N/A"}},{"$f":"MATCH(BA$3,Millwall!$Z98:$AK98,0)","v":{"$error":"#N/A"}},{"$f":"MATCH(BB$3,Millwall!$Z98:$AK98,0)","v":{"$error":"#N/A"}},{"$f":"MATCH(BC$3,Millwall!$Z98:$AK98,0)","v":{"$error":"#N/A"}},{"$f":"MATCH(BD$3,Millwall!$Z98:$AK98,0)","v":{"$error":"#N/A"}},{"$f":"MATCH(BE$3,Millwall!$Z98:$AK98,0)","v":{"$error":"#N/A"}},{"$f":"MATCH(BF$3,Millwall!$Z98:$AK98,0)","v":{"$error":"#N/A"}},{"$f":"MATCH(BG$3,Millwall!$Z98:$AK98,0)","v":{"$error":"#N/A"}},{"$f":"MATCH(BH$3,Millwall!$Z98:$AK98,0)","v":{"$error":"#N/A"}},{"$f":"MATCH(BI$3,Millwall!$Z98:$AK98,0)","v":12},{"$f":"MATCH(BJ$3,Millwall!$Z98:$AK98,0)","v":{"$error":"#N/A"}},{"$f":"MATCH(BK$3,Millwall!$Z98:$AK98,0)","v":{"$error":"#N/A"}},{"$f":"MATCH(BL$3,Millwall!$Z98:$AK98,0)","v":2},{"$f":"MATCH(BM$3,Millwall!$Z98:$AK98,0)","v":{"$error":"#N/A"}},{"$f":"MATCH(BN$3,Millwall!$Z98:$AK98,0)","v":{"$error":"#N/A"}},{"$f":"MATCH(BO$3,Millwall!$Z98:$AK98,0)","v":{"$error":"#N/A"}},{"$f":"MATCH(BP$3,Millwall!$Z98:$AK98,0)","v":{"$error":"#N/A"}},{"$f":"MATCH(BQ$3,Millwall!$Z98:$AK98,0)","v":{"$error":"#N/A"}},{"$f":"MATCH(BR$3,Millwall!$Z98:$AK98,0)","v":{"$error":"#N/A"}},{"$f":"MATCH(BS$3,Millwall!$Z98:$AK98,0)","v":{"$error":"#N/A"}},{"$f":"MATCH(BT$3,Millwall!$Z98:$AK98,0)","v":{"$error":"#N/A"}},{"$f":"MATCH(BU$3,Millwall!$Z98:$AK98,0)","v":{"$error":"#N/A"}},{"$f":"MATCH(BV$3,Millwall!$Z98:$AK98,0)","v":{"$error":"#N/A"}},{"$f":"MATCH(BW$3,Millwall!$Z98:$AK98,0)","v":{"$error":"#N/A"}},{"$f":"MATCH(BX$3,Millwall!$Z98:$AK98,0)","v":{"$error":"#N/A"}},{"$f":"MATCH(BY$3,Millwall!$Z98:$AK98,0)","v":{"$error":"#N/A"}},{"$f":"MATCH(BZ$3,Millwall!$Z98:$AK98,0)","v":{"$error":"#N/A"}},{"$f":"MATCH(CA$3,Millwall!$Z98:$AK98,0)","v":{"$error":"#N/A"}},{"$f":"MATCH(CB$3,Millwall!$Z98:$AK98,0)","v":{"$error":"#N/A"}},{"$f":"MATCH(CC$3,Millwall!$Z98:$AK98,0)","v":{"$error":"#N/A"}},{"$f":"MATCH(CD$3,Millwall!$Z98:$AK98,0)","v":{"$error":"#N/A"}},{"$f":"MATCH(CE$3,Millwall!$Z98:$AK98,0)","v":{"$error":"#N/A"}},null,null,null,null,null,null,{"$f":"$CM$28&\" [**\"","v":"0 [**"},{"$f":"Millwall!$Z192","v":0},"0 (**",{"$f":"$CM$28&\"**\"","v":"0**"},null,{"$f":"$CM$28","v":0},{"$f":"$CN$28","v":"0 (**"},{"$f":"$CO$28","v":"0**"},null,{"$f":"Millwall!$BZ32","v":0},{"$f":"Millwall!$CE32","v":0},{"$f":"Millwall!$CJ32","v":0},{"$f":"Millwall!$CO32","v":0}]
[null,null,0,25,null,{"$f":"Millwall!V99","v":"1986-02-01"},null,{"$f":"Millwall!W99","v":"Shrewsbury"},{"$f":"Millwall!X99","v":"(H)"},{"$f":"Millwall!Y99","v":"W 2-0"},{"$f":"MATCH(K$4,Millwall!$Z99:$AK99,0)","v":4},{"$f":"MATCH(L$4,Millwall!$Z99:$AK99,0)","v":{"$error":"#N/A"}},{"$f":"MATCH(M$4,Millwall!$Z99:$AK99,0)","v":{"$error":"#N/A"}},{"$f":"MATCH(N$4,Millwall!$Z99:$AK99,0)","v":9},{"$f":"MATCH(O$4,Millwall!$Z99:$AK99,0)","v":{"$error":"#N/A"}},{"$f":"MATCH(P$4,Millwall!$Z99:$AK99,0)","v":3},{"$f":"MATCH(Q$4,Millwall!$Z99:$AK99,0)","v":{"$error":"#N/A"}},{"$f":"MATCH(R$4,Millwall!$Z99:$AK99,0)","v":12},{"$f":"MATCH(S$4,Millwall!$Z99:$AK99,0)","v":10},{"$f":"MATCH(T$4,Millwall!$Z99:$AK99,0)","v":7},{"$f":"MATCH(U$4,Millwall!$Z99:$AK99,0)","v":{"$error":"#N/A"}},{"$f":"MATCH(V$4,Millwall!$Z99:$AK99,0)","v":6},{"$f":"MATCH(W$4,Millwall!$Z99:$AK99,0)","v":{"$error":"#N/A"}},{"$f":"MATCH(X$4,Millwall!$Z99:$AK99,0)","v":11},{"$f":"MATCH(Y$4,Millwall!$Z99:$AK99,0)","v":{"$error":"#N/A"}},{"$f":"MATCH(Z$4,Millwall!$Z99:$AK99,0)","v":1},{"$f":"MATCH(AA$4,Millwall!$Z99:$AK99,0)","v":{"$error":"#N/A"}},{"$f":"MATCH(AB$4,Millwall!$Z99:$AK99,0)","v":{"$error":"#N/A"}},{"$f":"MATCH(AC$4,Millwall!$Z99:$AK99,0)","v":2},{"$f":"MATCH(AD$4,Millwall!$Z99:$AK99,0)","v":5},{"$f":"MATCH(AE$4,Millwall!$Z99:$AK99,0)","v":8},{"$f":"MATCH(AF$4,Millwall!$Z99:$AK99,0)","v":{"$error":"#N/A"}},{"$f":"MATCH(AG$4,Millwall!$Z99:$AK99,0)","v":{"$error":"#N/A"}},{"$f":"MATCH(AH$4,Millwall!$Z99:$AK99,0)","v":{"$error":"#N/A"}},{"$f":"MATCH(AI$4,Millwall!$Z99:$AK99,0)","v":{"$error":"#N/A"}},{"$f":"MATCH(AJ$4,Millwall!$Z99:$AK99,0)","v":{"$error":"#N/A"}},{"$f":"MATCH(AK$4,Millwall!$Z99:$AK99,0)","v":{"$error":"#N/A"}},{"$f":"MATCH(AL$4,Millwall!$Z99:$AK99,0)","v":{"$error":"#N/A"}},{"$f":"MATCH(AM$4,Millwall!$Z99:$AK99,0)","v":{"$error":"#N/A"}},{"$f":"MATCH(AN$4,Millwall!$Z99:$AK99,0)","v":{"$error":"#N/A"}},{"$f":"MATCH(AO$4,Millwall!$Z99:$AK99,0)","v":{"$error":"#N/A"}},{"$f":"MATCH(AP$4,Millwall!$Z99:$AK99,0)","v":{"$error":"#N/A"}},{"$f":"MATCH(AQ$4,Millwall!$Z99:$AK99,0)","v":{"$error":"#N/A"}},{"$f":"MATCH(AR$4,Millwall!$AD99:$AO99,0)","v":{"$error":"#N/A"}},null,null,null,null,null,{"$f":"MATCH(AX$3,Millwall!$Z99:$AK99,0)","v":{"$error":"#N/A"}},{"$f":"MATCH(AY$3,Millwall!$Z99:$AK99,0)","v":{"$error":"#N/A"}},{"$f":"MATCH(AZ$3,Millwall!$Z99:$AK99,0)","v":{"$error":"#N/A"}},{"$f":"MATCH(BA$3,Millwall!$Z99:$AK99,0)","v":9},{"$f":"MATCH(BB$3,Millwall!$Z99:$AK99,0)","v":{"$error":"#N/A"}},{"$f":"MATCH(BC$3,Millwall!$Z99:$AK99,0)","v":{"$error":"#N/A"}},{"$f":"MATCH(BD$3,Millwall!$Z99:$AK99,0)","v":{"$error":"#N/A"}},{"$f":"MATCH(BE$3,Millwall!$Z99:$AK99,0)","v":12},{"$f":"MATCH(BF$3,Millwall!$Z99:$AK99,0)","v":{"$error":"#N/A"}},{"$f":"MATCH(BG$3,Millwall!$Z99:$AK99,0)","v":{"$error":"#N/A"}},{"$f":"MATCH(BH$3,Millwall!$Z99:$AK99,0)","v":{"$error":"#N/A"}},{"$f":"MATCH(BI$3,Millwall!$Z99:$AK99,0)","v":{"$error":"#N/A"}},{"$f":"MATCH(BJ$3,Millwall!$Z99:$AK99,0)","v":{"$error":"#N/A"}},{"$f":"MATCH(BK$3,Millwall!$Z99:$AK99,0)","v":{"$error":"#N/A"}},{"$f":"MATCH(BL$3,Millwall!$Z99:$AK99,0)","v":{"$error":"#N/A"}},{"$f":"MATCH(BM$3,Millwall!$Z99:$AK99,0)","v":{"$error":"#N/A"}},{"$f":"MATCH(BN$3,Millwall!$Z99:$AK99,0)","v":{"$error":"#N/A"}},{"$f":"MATCH(BO$3,Millwall!$Z99:$AK99,0)","v":{"$error":"#N/A"}},{"$f":"MATCH(BP$3,Millwall!$Z99:$AK99,0)","v":{"$error":"#N/A"}},{"$f":"MATCH(BQ$3,Millwall!$Z99:$AK99,0)","v":{"$error":"#N/A"}},{"$f":"MATCH(BR$3,Millwall!$Z99:$AK99,0)","v":{"$error":"#N/A"}},{"$f":"MATCH(BS$3,Millwall!$Z99:$AK99,0)","v":{"$error":"#N/A"}},{"$f":"MATCH(BT$3,Millwall!$Z99:$AK99,0)","v":{"$error":"#N/A"}},{"$f":"MATCH(BU$3,Millwall!$Z99:$AK99,0)","v":{"$error":"#N/A"}},{"$f":"MATCH(BV$3,Millwall!$Z99:$AK99,0)","v":{"$error":"#N/A"}},{"$f":"MATCH(BW$3,Millwall!$Z99:$AK99,0)","v":{"$error":"#N/A"}},{"$f":"MATCH(BX$3,Millwall!$Z99:$AK99,0)","v":{"$error":"#N/A"}},{"$f":"MATCH(BY$3,Millwall!$Z99:$AK99,0)","v":{"$error":"#N/A"}},{"$f":"MATCH(BZ$3,Millwall!$Z99:$AK99,0)","v":{"$error":"#N/A"}},{"$f":"MATCH(CA$3,Millwall!$Z99:$AK99,0)","v":{"$error":"#N/A"}},{"$f":"MATCH(CB$3,Millwall!$Z99:$AK99,0)","v":{"$error":"#N/A"}},{"$f":"MATCH(CC$3,Millwall!$Z99:$AK99,0)","v":{"$error":"#N/A"}},{"$f":"MATCH(CD$3,Millwall!$Z99:$AK99,0)","v":{"$error":"#N/A"}},{"$f":"MATCH(CE$3,Millwall!$Z99:$AK99,0)","v":{"$error":"#N/A"}},null,null,null,null,null,null,{"$f":"$CM$29&\" [**\"","v":"0 [**"},{"$f":"Millwall!$Z193","v":0},"0 (**",{"$f":"$CM$29&\"**\"","v":"0**"},null,{"$f":"$CM$29","v":0},{"$f":"$CN$29","v":"0 (**"},{"$f":"$CO$29","v":"0**"},null,{"$f":"Millwall!$BZ33","v":64},{"$f":"Millwall!$CE33","v":5},{"$f":"Millwall!$CJ33","v":7},{"$f":"Millwall!$CO33","v":3}]
[null,null,0,26,null,{"$f":"Millwall!V100","v":"1986-03-01"},null,{"$f":"Millwall!W100","v":"Oldham"},{"$f":"Millwall!X100","v":"(A)"},{"$f":"Millwall!Y100","v":"D 0-0"},{"$f":"MATCH(K$4,Millwall!$Z100:$AK100,0)","v":{"$error":"#N/A"}},{"$f":"MATCH(L$4,Millwall!$Z100:$AK100,0)","v":4},{"$f":"MATCH(M$4,Millwall!$Z100:$AK100,0)","v":{"$error":"#N/A"}},{"$f":"MATCH(N$4,Millwall!$Z100:$AK100,0)","v":9},{"$f":"MATCH(O$4,Millwall!$Z100:$AK100,0)","v":{"$error":"#N/A"}},{"$f":"MATCH(P$4,Millwall!$Z100:$AK100,0)","v":3},{"$f":"MATCH(Q$4,Millwall!$Z100:$AK100,0)","v":{"$error":"#N/A"}},{"$f":"MATCH(R$4,Millwall!$Z100:$AK100,0)","v":12},{"$f":"MATCH(S$4,Millwall!$Z100:$AK100,0)","v":10},{"$f":"MATCH(T$4,Millwall!$Z100:$AK100,0)","v":7},{"$f":"MATCH(U$4,Millwall!$Z100:$AK100,0)","v":{"$error":"#N/A"}},{"$f":"MATCH(V$4,Millwall!$Z100:$AK100,0)","v":6},{"$f":"MATCH(W$4,Millwall!$Z100:$AK100,0)","v":{"$error":"#N/A"}},{"$f":"MATCH(X$4,Millwall!$Z100:$AK100,0)","v":11},{"$f":"MATCH(Y$4,Millwall!$Z100:$AK100,0)","v":{"$error":"#N/A"}},{"$f":"MATCH(Z$4,Millwall!$Z100:$AK100,0)","v":1},{"$f":"MATCH(AA$4,Millwall!$Z100:$AK100,0)","v":{"$error":"#N/A"}},{"$f":"MATCH(AB$4,Millwall!$Z100:$AK100,0)","v":{"$error":"#N/A"}},{"$f":"MATCH(AC$4,Millwall!$Z100:$AK100,0)","v":2},{"$f":"MATCH(AD$4,Millwall!$Z100:$AK100,0)","v":5},{"$f":"MATCH(AE$4,Millwall!$Z100:$AK100,0)","v":8},{"$f":"MATCH(AF$4,Millwall!$Z100:$AK100,0)","v":{"$error":"#N/A"}},{"$f":"MATCH(AG$4,Millwall!$Z100:$AK100,0)","v":{"$error":"#N/A"}},{"$f":"MATCH(AH$4,Millwall!$Z100:$AK100,0)","v":{"$error":"#N/A"}},{"$f":"MATCH(AI$4,Millwall!$Z100:$AK100,0)","v":{"$error":"#N/A"}},{"$f":"MATCH(AJ$4,Millwall!$Z100:$AK100,0)","v":{"$error":"#N/A"}},{"$f":"MATCH(AK$4,Millwall!$Z100:$AK100,0)","v":{"$error":"#N/A"}},{"$f":"MATCH(AL$4,Millwall!$Z100:$AK100,0)","v":{"$error":"#N/A"}},{"$f":"MATCH(AM$4,Millwall!$Z100:$AK100,0)","v":{"$error":"#N/A"}},{"$f":"MATCH(AN$4,Millwall!$Z100:$AK100,0)","v":{"$error":"#N/A"}},{"$f":"MATCH(AO$4,Millwall!$Z100:$AK100,0)","v":{"$error":"#N/A"}},{"$f":"MATCH(AP$4,Millwall!$Z100:$AK100,0)","v":{"$error":"#N/A"}},{"$f":"MATCH(AQ$4,Millwall!$Z100:$AK100,0)","v":{"$error":"#N/A"}},{"$f":"MATCH(AR$4,Millwall!$AD100:$AO100,0)","v":{"$error":"#N/A"}},null,null,null,null,null,{"$f":"MATCH(AX$3,Millwall!$Z100:$AK100,0)","v":{"$error":"#N/A"}},{"$f":"MATCH(AY$3,Millwall!$Z100:$AK100,0)","v":{"$error":"#N/A"}},{"$f":"MATCH(AZ$3,Millwall!$Z100:$AK100,0)","v":{"$error":"#N/A"}},{"$f":"MATCH(BA$3,Millwall!$Z100:$AK100,0)","v":{"$error":"#N/A"}},{"$f":"MATCH(BB$3,Millwall!$Z100:$AK100,0)","v":{"$error":"#N/A"}},{"$f":"MATCH(BC$3,Millwall!$Z100:$AK100,0)","v":{"$error":"#N/A"}},{"$f":"MATCH(BD$3,Millwall!$Z100:$AK100,0)","v":{"$error":"#N/A"}},{"$f":"MATCH(BE$3,Millwall!$Z100:$AK100,0)","v":{"$error":"#N/A"}},{"$f":"MATCH(BF$3,Millwall!$Z100:$AK100,0)","v":{"$error":"#N/A"}},{"$f":"MATCH(BG$3,Millwall!$Z100:$AK100,0)","v":{"$error":"#N/A"}},{"$f":"MATCH(BH$3,Millwall!$Z100:$AK100,0)","v":{"$error":"#N/A"}},{"$f":"MATCH(BI$3,Millwall!$Z100:$AK100,0)","v":{"$error":"#N/A"}},{"$f":"MATCH(BJ$3,Millwall!$Z100:$AK100,0)","v":{"$error":"#N/A"}},{"$f":"MATCH(BK$3,Millwall!$Z100:$AK100,0)","v":{"$error":"#N/A"}},{"$f":"MATCH(BL$3,Millwall!$Z100:$AK100,0)","v":{"$error":"#N/A"}},{"$f":"MATCH(BM$3,Millwall!$Z100:$AK100,0)","v":{"$error":"#N/A"}},{"$f":"MATCH(BN$3,Millwall!$Z100:$AK100,0)","v":{"$error":"#N/A"}},{"$f":"MATCH(BO$3,Millwall!$Z100:$AK100,0)","v":{"$error":"#N/A"}},{"$f":"MATCH(BP$3,Millwall!$Z100:$AK100,0)","v":{"$error":"#N/A"}},{"$f":"MATCH(BQ$3,Millwall!$Z100:$AK100,0)","v":{"$error":"#N/A"}},{"$f":"MATCH(BR$3,Millwall!$Z100:$AK100,0)","v":{"$error":"#N/A"}},{"$f":"MATCH(BS$3,Millwall!$Z100:$AK100,0)","v":{"$error":"#N/A"}},{"$f":"MATCH(BT$3,Millwall!$Z100:$AK100,0)","v":{"$error":"#N/A"}},{"$f":"MATCH(BU$3,Millwall!$Z100:$AK100,0)","v":{"$error":"#N/A"}},{"$f":"MATCH(BV$3,Millwall!$Z100:$AK100,0)","v":{"$error":"#N/A"}},{"$f":"MATCH(BW$3,Millwall!$Z100:$AK100,0)","v":{"$error":"#N/A"}},{"$f":"MATCH(BX$3,Millwall!$Z100:$AK100,0)","v":{"$error":"#N/A"}},{"$f":"MATCH(BY$3,Millwall!$Z100:$AK100,0)","v":{"$error":"#N/A"}},{"$f":"MATCH(BZ$3,Millwall!$Z100:$AK100,0)","v":{"$error":"#N/A"}},{"$f":"MATCH(CA$3,Millwall!$Z100:$AK100,0)","v":{"$error":"#N/A"}},{"$f":"MATCH(CB$3,Millwall!$Z100:$AK100,0)","v":{"$error":"#N/A"}},{"$f":"MATCH(CC$3,Millwall!$Z100:$AK100,0)","v":{"$error":"#N/A"}},{"$f":"MATCH(CD$3,Millwall!$Z100:$AK100,0)","v":{"$error":"#N/A"}},{"$f":"MATCH(CE$3,Millwall!$Z100:$AK100,0)","v":{"$error":"#N/A"}},null,null,null,null,null,null,{"$f":"$CM$30&\" [**\"","v":"0 [**"},{"$f":"Millwall!$Z194","v":0},"0 (**",{"$f":"$CM$30&\"**\"","v":"0**"},null,{"$f":"$CM$30","v":0},{"$f":"$CN$30","v":"0 (**"},{"$f":"$CO$30","v":"0**"},null,{"$f":"Millwall!$BZ34","v":0},{"$f":"Millwall!$CE34","v":0},{"$f":"Millwall!$CJ34","v":0},{"$f":"Millwall!$CO34","v":0}]
[null,null,0,27,null,{"$f":"Millwall!V101","v":"1986-03-08"},null,{"$f":"Millwall!W101","v":"Sheff Utd"},{"$f":"Millwall!X101","v":"(H)"},{"$f":"Millwall!Y101","v":"W 3-0"},{"$f":"MATCH(K$4,Millwall!$Z101:$AK101,0)","v":4},{"$f":"MATCH(L$4,Millwall!$Z101:$AK101,0)","v":{"$error":"#N/A"}},{"$f":"MATCH(M$4,Millwall!$Z101:$AK101,0)","v":{"$error":"#N/A"}},{"$f":"MATCH(N$4,Millwall!$Z101:$AK101,0)","v":9},{"$f":"MATCH(O$4,Millwall!$Z101:$AK101,0)","v":{"$error":"#N/A"}},{"$f":"MATCH(P$4,Millwall!$Z101:$AK101,0)","v":3},{"$f":"MATCH(Q$4,Millwall!$Z101:$AK101,0)","v":{"$error":"#N/A"}},{"$f":"MATCH(R$4,Millwall!$Z101:$AK101,0)","v":{"$error":"#N/A"}},{"$f":"MATCH(S$4,Millwall!$Z101:$AK101,0)","v":10},{"$f":"MATCH(T$4,Millwall!$Z101:$AK101,0)","v":7},{"$f":"MATCH(U$4,Millwall!$Z101:$AK101,0)","v":{"$error":"#N/A"}},{"$f":"MATCH(V$4,Millwall!$Z101:$AK101,0)","v":6},{"$f":"MATCH(W$4,Millwall!$Z101:$AK101,0)","v":{"$error":"#N/A"}},{"$f":"MATCH(X$4,Millwall!$Z101:$AK101,0)","v":11},{"$f":"MATCH(Y$4,Millwall!$Z101:$AK101,0)","v":{"$error":"#N/A"}},{"$f":"MATCH(Z$4,Millwall!$Z101:$AK101,0)","v":1},{"$f":"MATCH(AA$4,Millwall!$Z101:$AK101,0)","v":12},{"$f":"MATCH(AB$4,Millwall!$Z101:$AK101,0)","v":{"$error":"#N/A"}},{"$f":"MATCH(AC$4,Millwall!$Z101:$AK101,0)","v":2},{"$f":"MATCH(AD$4,Millwall!$Z101:$AK101,0)","v":5},{"$f":"MATCH(AE$4,Millwall!$Z101:$AK101,0)","v":8},{"$f":"MATCH(AF$4,Millwall!$Z101:$AK101,0)","v":{"$error":"#N/A"}},{"$f":"MATCH(AG$4,Millwall!$Z101:$AK101,0)","v":{"$error":"#N/A"}},{"$f":"MATCH(AH$4,Millwall!$Z101:$AK101,0)","v":{"$error":"#N/A"}},{"$f":"MATCH(AI$4,Millwall!$Z101:$AK101,0)","v":{"$error":"#N/A"}},{"$f":"MATCH(AJ$4,Millwall!$Z101:$AK101,0)","v":{"$error":"#N/A"}},{"$f":"MATCH(AK$4,Millwall!$Z101:$AK101,0)","v":{"$error":"#N/A"}},{"$f":"MATCH(AL$4,Millwall!$Z101:$AK101,0)","v":{"$error":"#N/A"}},{"$f":"MATCH(AM$4,Millwall!$Z101:$AK101,0)","v":{"$error":"#N/A"}},{"$f":"MATCH(AN$4,Millwall!$Z101:$AK101,0)","v":{"$error":"#N/A"}},{"$f":"MATCH(AO$4,Millwall!$Z101:$AK101,0)","v":{"$error":"#N/A"}},{"$f":"MATCH(AP$4,Millwall!$Z101:$AK101,0)","v":{"$error":"#N/A"}},{"$f":"MATCH(AQ$4,Millwall!$Z101:$AK101,0)","v":{"$error":"#N/A"}},{"$f":"MATCH(AR$4,Millwall!$AD101:$AO101,0)","v":{"$error":"#N/A"}},null,null,null,null,null,{"$f":"MATCH(AX$3,Millwall!$Z101:$AK101,0)","v":{"$error":"#N/A"}},{"$f":"MATCH(AY$3,Millwall!$Z101:$AK101,0)","v":{"$error":"#N/A"}},{"$f":"MATCH(AZ$3,Millwall!$Z101:$AK101,0)","v":{"$error":"#N/A"}},{"$f":"MATCH(BA$3,Millwall!$Z101:$AK101,0)","v":{"$error":"#N/A"}},{"$f":"MATCH(BB$3,Millwall!$Z101:$AK101,0)","v":{"$error":"#N/A"}},{"$f":"MATCH(BC$3,Millwall!$Z101:$AK101,0)","v":{"$error":"#N/A"}},{"$f":"MATCH(BD$3,Millwall!$Z101:$AK101,0)","v":{"$error":"#N/A"}},{"$f":"MATCH(BE$3,Millwall!$Z101:$AK101,0)","v":{"$error":"#N/A"}},{"$f":"MATCH(BF$3,Millwall!$Z101:$AK101,0)","v":{"$error":"#N/A"}},{"$f":"MATCH(BG$3,Millwall!$Z101:$AK101,0)","v":{"$error":"#N/A"}},{"$f":"MATCH(BH$3,Millwall!$Z101:$AK101,0)","v":{"$error":"#N/A"}},{"$f":"MATCH(BI$3,Millwall!$Z101:$AK101,0)","v":{"$error":"#N/A"}},{"$f":"MATCH(BJ$3,Millwall!$Z101:$AK101,0)","v":{"$error":"#N/A"}},{"$f":"MATCH(BK$3,Millwall!$Z101:$AK101,0)","v":11},{"$f":"MATCH(BL$3,Millwall!$Z101:$AK101,0)","v":{"$error":"#N/A"}},{"$f":"MATCH(BM$3,Millwall!$Z101:$AK101,0)","v":{"$error":"#N/A"}},{"$f":"MATCH(BN$3,Millwall!$Z101:$AK101,0)","v":12},{"$f":"MATCH(BO$3,Millwall!$Z101:$AK101,0)","v":{"$error":"#N/A"}},{"$f":"MATCH(BP$3,Millwall!$Z101:$AK101,0)","v":{"$error":"#N/A"}},{"$f":"MATCH(BQ$3,Millwall!$Z101:$AK101,0)","v":{"$error":"#N/A"}},{"$f":"MATCH(BR$3,Millwall!$Z101:$AK101,0)","v":{"$error":"#N/A"}},{"$f":"MATCH(BS$3,Millwall!$Z101:$AK101,0)","v":{"$error":"#N/A"}},{"$f":"MATCH(BT$3,Millwall!$Z101:$AK101,0)","v":{"$error":"#N/A"}},{"$f":"MATCH(BU$3,Millwall!$Z101:$AK101,0)","v":{"$error":"#N/A"}},{"$f":"MATCH(BV$3,Millwall!$Z101:$AK101,0)","v":{"$error":"#N/A"}},{"$f":"MATCH(BW$3,Millwall!$Z101:$AK101,0)","v":{"$error":"#N/A"}},{"$f":"MATCH(BX$3,Millwall!$Z101:$AK101,0)","v":{"$error":"#N/A"}},{"$f":"MATCH(BY$3,Millwall!$Z101:$AK101,0)","v":{"$error":"#N/A"}},{"$f":"MATCH(BZ$3,Millwall!$Z101:$AK101,0)","v":{"$error":"#N/A"}},{"$f":"MATCH(CA$3,Millwall!$Z101:$AK101,0)","v":{"$error":"#N/A"}},{"$f":"MATCH(CB$3,Millwall!$Z101:$AK101,0)","v":{"$error":"#N/A"}},{"$f":"MATCH(CC$3,Millwall!$Z101:$AK101,0)","v":{"$error":"#N/A"}},{"$f":"MATCH(CD$3,Millwall!$Z101:$AK101,0)","v":{"$error":"#N/A"}},{"$f":"MATCH(CE$3,Millwall!$Z101:$AK101,0)","v":{"$error":"#N/A"}},null,null,null,null,null,null,{"$f":"$CM$31&\" [**\"","v":"0 [**"},{"$f":"Millwall!$Z195","v":0},"0 (**",{"$f":"$CM$31&\"**\"","v":"0**"},null,{"$f":"$CM$31","v":0},{"$f":"$CN$31","v":"0 (**"},{"$f":"$CO$31","v":"0**"},null,{"$f":"Millwall!$BZ35","v":0},{"$f":"Millwall!$CE35","v":0},{"$f":"Millwall!$CJ35","v":0},{"$f":"Millwall!$CO35","v":0}]
[null,null,0,28,null,{"$f":"Millwall!V102","v":"1986-03-11"},null,{"$f":"Millwall!W102","v":"Wimbledon"},{"$f":"Millwall!X102","v":"(H)"},{"$f":"Millwall!Y102","v":"L 0-1"},{"$f":"MATCH(K$4,Millwall!$Z102:$AK102,0)","v":4},{"$f":"MATCH(L$4,Millwall!$Z102:$AK102,0)","v":{"$error":"#N/A"}},{"$f":"MATCH(M$4,Millwall!$Z102:$AK102,0)","v":{"$error":"#N/A"}},{"$f":"MATCH(N$4,Millwall!$Z102:$AK102,0)","v":9},{"$f":"MATCH(O$4,Millwall!$Z102:$AK102,0)","v":{"$error":"#N/A"}},{"$f":"MATCH(P$4,Millwall!$Z102:$AK102,0)","v":3},{"$f":"MATCH(Q$4,Millwall!$Z102:$AK102,0)","v":{"$error":"#N/A"}},{"$f":"MATCH(R$4,Millwall!$Z102:$AK102,0)","v":{"$error":"#N/A"}},{"$f":"MATCH(S$4,Millwall!$Z102:$AK102,0)","v":10},{"$f":"MATCH(T$4,Millwall!$Z102:$AK102,0)","v":7},{"$f":"MATCH(U$4,Millwall!$Z102:$AK102,0)","v":{"$error":"#N/A"}},{"$f":"MATCH(V$4,Millwall!$Z102:$AK102,0)","v":6},{"$f":"MATCH(W$4,Millwall!$Z102:$AK102,0)","v":{"$error":"#N/A"}},{"$f":"MATCH(X$4,Millwall!$Z102:$AK102,0)","v":11},{"$f":"MATCH(Y$4,Millwall!$Z102:$AK102,0)","v":{"$error":"#N/A"}},{"$f":"MATCH(Z$4,Millwall!$Z102:$AK102,0)","v":1},{"$f":"MATCH(AA$4,Millwall!$Z102:$AK102,0)","v":12},{"$f":"MATCH(AB$4,Millwall!$Z102:$AK102,0)","v":{"$error":"#N/A"}},{"$f":"MATCH(AC$4,Millwall!$Z102:$AK102,0)","v":2},{"$f":"MATCH(AD$4,Millwall!$Z102:$AK102,0)","v":5},{"$f":"MATCH(AE$4,Millwall!$Z102:$AK102,0)","v":8},{"$f":"MATCH(AF$4,Millwall!$Z102:$AK102,0)","v":{"$error":"#N/A"}},{"$f":"MATCH(AG$4,Millwall!$Z102:$AK102,0)","v":{"$error":"#N/A"}},{"$f":"MATCH(AH$4,Millwall!$Z102:$AK102,0)","v":{"$error":"#N/A"}},{"$f":"MATCH(AI$4,Millwall!$Z102:$AK102,0)","v":{"$error":"#N/A"}},{"$f":"MATCH(AJ$4,Millwall!$Z102:$AK102,0)","v":{"$error":"#N/A"}},{"$f":"MATCH(AK$4,Millwall!$Z102:$AK102,0)","v":{"$error":"#N/A"}},{"$f":"MATCH(AL$4,Millwall!$Z102:$AK102,0)","v":{"$error":"#N/A"}},{"$f":"MATCH(AM$4,Millwall!$Z102:$AK102,0)","v":{"$error":"#N/A"}},{"$f":"MATCH(AN$4,Millwall!$Z102:$AK102,0)","v":{"$error":"#N/A"}},{"$f":"MATCH(AO$4,Millwall!$Z102:$AK102,0)","v":{"$error":"#N/A"}},{"$f":"MATCH(AP$4,Millwall!$Z102:$AK102,0)","v":{"$error":"#N/A"}},{"$f":"MATCH(AQ$4,Millwall!$Z102:$AK102,0)","v":{"$error":"#N/A"}},{"$f":"MATCH(AR$4,Millwall!$AD102:$AO102,0)","v":{"$error":"#N/A"}},null,null,null,null,null,{"$f":"MATCH(AX$3,Millwall!$Z102:$AK102,0)","v":{"$error":"#N/A"}},{"$f":"MATCH(AY$3,Millwall!$Z102:$AK102,0)","v":{"$error":"#N/A"}},{"$f":"MATCH(AZ$3,Millwall!$Z102:$AK102,0)","v":{"$error":"#N/A"}},{"$f":"MATCH(BA$3,Millwall!$Z102:$AK102,0)","v":{"$error":"#N/A"}},{"$f":"MATCH(BB$3,Millwall!$Z102:$AK102,0)","v":{"$error":"#N/A"}},{"$f":"MATCH(BC$3,Millwall!$Z102:$AK102,0)","v":{"$error":"#N/A"}},{"$f":"MATCH(BD$3,Millwall!$Z102:$AK102,0)","v":{"$error":"#N/A"}},{"$f":"MATCH(BE$3,Millwall!$Z102:$AK102,0)","v":{"$error":"#N/A"}},{"$f":"MATCH(BF$3,Millwall!$Z102:$AK102,0)","v":{"$error":"#N/A"}},{"$f":"MATCH(BG$3,Millwall!$Z102:$AK102,0)","v":{"$error":"#N/A"}},{"$f":"MATCH(BH$3,Millwall!$Z102:$AK102,0)","v":{"$error":"#N/A"}},{"$f":"MATCH(BI$3,Millwall!$Z102:$AK102,0)","v":{"$error":"#N/A"}},{"$f":"MATCH(BJ$3,Millwall!$Z102:$AK102,0)","v":{"$error":"#N/A"}},{"$f":"MATCH(BK$3,Millwall!$Z102:$AK102,0)","v":{"$error":"#N/A"}},{"$f":"MATCH(BL$3,Millwall!$Z102:$AK102,0)","v":{"$error":"#N/A"}},{"$f":"MATCH(BM$3,Millwall!$Z102:$AK102,0)","v":{"$error":"#N/A"}},{"$f":"MATCH(BN$3,Millwall!$Z102:$AK102,0)","v":{"$error":"#N/A"}},{"$f":"MATCH(BO$3,Millwall!$Z102:$AK102,0)","v":{"$error":"#N/A"}},{"$f":"MATCH(BP$3,Millwall!$Z102:$AK102,0)","v":{"$error":"#N/A"}},{"$f":"MATCH(BQ$3,Millwall!$Z102:$AK102,0)","v":{"$error":"#N/A"}},{"$f":"MATCH(BR$3,Millwall!$Z102:$AK102,0)","v":{"$error":"#N/A"}},{"$f":"MATCH(BS$3,Millwall!$Z102:$AK102,0)","v":{"$error":"#N/A"}},{"$f":"MATCH(BT$3,Millwall!$Z102:$AK102,0)","v":{"$error":"#N/A"}},{"$f":"MATCH(BU$3,Millwall!$Z102:$AK102,0)","v":{"$error":"#N/A"}},{"$f":"MATCH(BV$3,Millwall!$Z102:$AK102,0)","v":{"$error":"#N/A"}},{"$f":"MATCH(BW$3,Millwall!$Z102:$AK102,0)","v":{"$error":"#N/A"}},{"$f":"MATCH(BX$3,Millwall!$Z102:$AK102,0)","v":{"$error":"#N/A"}},{"$f":"MATCH(BY$3,Millwall!$Z102:$AK102,0)","v":{"$error":"#N/A"}},{"$f":"MATCH(BZ$3,Millwall!$Z102:$AK102,0)","v":{"$error":"#N/A"}},{"$f":"MATCH(CA$3,Millwall!$Z102:$AK102,0)","v":{"$error":"#N/A"}},{"$f":"MATCH(CB$3,Millwall!$Z102:$AK102,0)","v":{"$error":"#N/A"}},{"$f":"MATCH(CC$3,Millwall!$Z102:$AK102,0)","v":{"$error":"#N/A"}},{"$f":"MATCH(CD$3,Millwall!$Z102:$AK102,0)","v":{"$error":"#N/A"}},{"$f":"MATCH(CE$3,Millwall!$Z102:$AK102,0)","v":{"$error":"#N/A"}},null,null,null,null,null,null,{"$f":"$CM$32&\" [**\"","v":"0 [**"},{"$f":"Millwall!$Z196","v":0},"0 (**",{"$f":"$CM$32&\"**\"","v":"0**"},null,{"$f":"$CM$32","v":0},{"$f":"$CN$32","v":"0 (**"},{"$f":"$CO$32","v":"0**"},null,{"$f":"Millwall!$BZ36","v":0},{"$f":"Millwall!$CE36","v":0},{"$f":"Millwall!$CJ36","v":0},{"$f":"Millwall!$CO36","v":0}]
[null,null,0,29,null,{"$f":"Millwall!V103","v":"1986-03-15"},null,{"$f":"Millwall!W103","v":"Blackburn"},{"$f":"Millwall!X103","v":"(A)"},{"$f":"Millwall!Y103","v":"W 2-1"},{"$f":"MATCH(K$4,Millwall!$Z103:$AK103,0)","v":4},{"$f":"MATCH(L$4,Millwall!$Z103:$AK103,0)","v":{"$error":"#N/A"}},{"$f":"MATCH(M$4,Millwall!$Z103:$AK103,0)","v":{"$error":"#N/A"}},{"$f":"MATCH(N$4,Millwall!$Z103:$AK103,0)","v":9},{"$f":"MATCH(O$4,Millwall!$Z103:$AK103,0)","v":{"$error":"#N/A"}},{"$f":"MATCH(P$4,Millwall!$Z103:$AK103,0)","v":3},{"$f":"MATCH(Q$4,Millwall!$Z103:$AK103,0)","v":{"$error":"#N/A"}},{"$f":"MATCH(R$4,Millwall!$Z103:$AK103,0)","v":{"$error":"#N/A"}},{"$f":"MATCH(S$4,Millwall!$Z103:$AK103,0)","v":10},{"$f":"MATCH(T$4,Millwall!$Z103:$AK103,0)","v":7},{"$f":"MATCH(U$4,Millwall!$Z103:$AK103,0)","v":{"$error":"#N/A"}},{"$f":"MATCH(V$4,Millwall!$Z103:$AK103,0)","v":6},{"$f":"MATCH(W$4,Millwall!$Z103:$AK103,0)","v":{"$error":"#N/A"}},{"$f":"MATCH(X$4,Millwall!$Z103:$AK103,0)","v":11},{"$f":"MATCH(Y$4,Millwall!$Z103:$AK103,0)","v":{"$error":"#N/A"}},{"$f":"MATCH(Z$4,Millwall!$Z103:$AK103,0)","v":1},{"$f":"MATCH(AA$4,Millwall!$Z103:$AK103,0)","v":12},{"$f":"MATCH(AB$4,Millwall!$Z103:$AK103,0)","v":{"$error":"#N/A"}},{"$f":"MATCH(AC$4,Millwall!$Z103:$AK103,0)","v":2},{"$f":"MATCH(AD$4,Millwall!$Z103:$AK103,0)","v":5},{"$f":"MATCH(AE$4,Millwall!$Z103:$AK103,0)","v":8},{"$f":"MATCH(AF$4,Millwall!$Z103:$AK103,0)","v":{"$error":"#N/A"}},{"$f":"MATCH(AG$4,Millwall!$Z103:$AK103,0)","v":{"$error":"#N/A"}},{"$f":"MATCH(AH$4,Millwall!$Z103:$AK103,0)","v":{"$error":"#N/A"}},{"$f":"MATCH(AI$4,Millwall!$Z103:$AK103,0)","v":{"$error":"#N/A"}},{"$f":"MATCH(AJ$4,Millwall!$Z103:$AK103,0)","v":{"$error":"#N/A"}},{"$f":"MATCH(AK$4,Millwall!$Z103:$AK103,0)","v":{"$error":"#N/A"}},{"$f":"MATCH(AL$4,Millwall!$Z103:$AK103,0)","v":{"$error":"#N/A"}},{"$f":"MATCH(AM$4,Millwall!$Z103:$AK103,0)","v":{"$error":"#N/A"}},{"$f":"MATCH(AN$4,Millwall!$Z103:$AK103,0)","v":{"$error":"#N/A"}},{"$f":"MATCH(AO$4,Millwall!$Z103:$AK103,0)","v":{"$error":"#N/A"}},{"$f":"MATCH(AP$4,Millwall!$Z103:$AK103,0)","v":{"$error":"#N/A"}},{"$f":"MATCH(AQ$4,Millwall!$Z103:$AK103,0)","v":{"$error":"#N/A"}},{"$f":"MATCH(AR$4,Millwall!$AD103:$AO103,0)","v":{"$error":"#N/A"}},null,null,null,null,null,{"$f":"MATCH(AX$3,Millwall!$Z103:$AK103,0)","v":4},{"$f":"MATCH(AY$3,Millwall!$Z103:$AK103,0)","v":{"$error":"#N/A"}},{"$f":"MATCH(AZ$3,Millwall!$Z103:$AK103,0)","v":{"$error":"#N/A"}},{"$f":"MATCH(BA$3,Millwall!$Z103:$AK103,0)","v":{"$error":"#N/A"}},{"$f":"MATCH(BB$3,Millwall!$Z103:$AK103,0)","v":{"$error":"#N/A"}},{"$f":"MATCH(BC$3,Millwall!$Z103:$AK103,0)","v":{"$error":"#N/A"}},{"$f":"MATCH(BD$3,Millwall!$Z103:$AK103,0)","v":{"$error":"#N/A"}},{"$f":"MATCH(BE$3,Millwall!$Z103:$AK103,0)","v":{"$error":"#N/A"}},{"$f":"MATCH(BF$3,Millwall!$Z103:$AK103,0)","v":{"$error":"#N/A"}},{"$f":"MATCH(BG$3,Millwall!$Z103:$AK103,0)","v":{"$error":"#N/A"}},{"$f":"MATCH(BH$3,Millwall!$Z103:$AK103,0)","v":{"$error":"#N/A"}},{"$f":"MATCH(BI$3,Millwall!$Z103:$AK103,0)","v":{"$error":"#N/A"}},{"$f":"MATCH(BJ$3,Millwall!$Z103:$AK103,0)","v":{"$error":"#N/A"}},{"$f":"MATCH(BK$3,Millwall!$Z103:$AK103,0)","v":{"$error":"#N/A"}},{"$f":"MATCH(BL$3,Millwall!$Z103:$AK103,0)","v":{"$error":"#N/A"}},{"$f":"MATCH(BM$3,Millwall!$Z103:$AK103,0)","v":{"$error":"#N/A"}},{"$f":"MATCH(BN$3,Millwall!$Z103:$AK103,0)","v":12},{"$f":"MATCH(BO$3,Millwall!$Z103:$AK103,0)","v":{"$error":"#N/A"}},{"$f":"MATCH(BP$3,Millwall!$Z103:$AK103,0)","v":{"$error":"#N/A"}},{"$f":"MATCH(BQ$3,Millwall!$Z103:$AK103,0)","v":{"$error":"#N/A"}},{"$f":"MATCH(BR$3,Millwall!$Z103:$AK103,0)","v":{"$error":"#N/A"}},{"$f":"MATCH(BS$3,Millwall!$Z103:$AK103,0)","v":{"$error":"#N/A"}},{"$f":"MATCH(BT$3,Millwall!$Z103:$AK103,0)","v":{"$error":"#N/A"}},{"$f":"MATCH(BU$3,Millwall!$Z103:$AK103,0)","v":{"$error":"#N/A"}},{"$f":"MATCH(BV$3,Millwall!$Z103:$AK103,0)","v":{"$error":"#N/A"}},{"$f":"MATCH(BW$3,Millwall!$Z103:$AK103,0)","v":{"$error":"#N/A"}},{"$f":"MATCH(BX$3,Millwall!$Z103:$AK103,0)","v":{"$error":"#N/A"}},{"$f":"MATCH(BY$3,Millwall!$Z103:$AK103,0)","v":{"$error":"#N/A"}},{"$f":"MATCH(BZ$3,Millwall!$Z103:$AK103,0)","v":{"$error":"#N/A"}},{"$f":"MATCH(CA$3,Millwall!$Z103:$AK103,0)","v":{"$error":"#N/A"}},{"$f":"MATCH(CB$3,Millwall!$Z103:$AK103,0)","v":{"$error":"#N/A"}},{"$f":"MATCH(CC$3,Millwall!$Z103:$AK103,0)","v":{"$error":"#N/A"}},{"$f":"MATCH(CD$3,Millwall!$Z103:$AK103,0)","v":{"$error":"#N/A"}},{"$f":"MATCH(CE$3,Millwall!$Z103:$AK103,0)","v":{"$error":"#N/A"}},null,null,null,null,null,null,{"$f":"$CM$33&\" [**\"","v":"0 [**"},{"$f":"Millwall!$Z197","v":0},"0 (**",{"$f":"$CM$33&\"**\"","v":"0**"},null,{"$f":"$CM$33","v":0},{"$f":"$CN$33","v":"0 (**"},{"$f":"$CO$33","v":"0**"},null,{"$f":"Millwall!$BZ37","v":0},{"$f":"Millwall!$CE37","v":0},{"$f":"Millwall!$CJ37","v":0},{"$f":"Millwall!$CO37","v":0}]
[null,null,0,30,null,{"$f":"Millwall!V104","v":"1986-03-18"},null,{"$f":"Millwall!W104","v":"Fulham"},{"$f":"Millwall!X104","v":"(H)"},{"$f":"Millwall!Y104","v":"D 1-1"},{"$f":"MATCH(K$4,Millwall!$Z104:$AK104,0)","v":4},{"$f":"MATCH(L$4,Millwall!$Z104:$AK104,0)","v":{"$error":"#N/A"}},{"$f":"MATCH(M$4,Millwall!$Z104:$AK104,0)","v":{"$error":"#N/A"}},{"$f":"MATCH(N$4,Millwall!$Z104:$AK104,0)","v":9},{"$f":"MATCH(O$4,Millwall!$Z104:$AK104,0)","v":{"$error":"#N/A"}},{"$f":"MATCH(P$4,Millwall!$Z104:$AK104,0)","v":3},{"$f":"MATCH(Q$4,Millwall!$Z104:$AK104,0)","v":{"$error":"#N/A"}},{"$f":"MATCH(R$4,Millwall!$Z104:$AK104,0)","v":{"$error":"#N/A"}},{"$f":"MATCH(S$4,Millwall!$Z104:$AK104,0)","v":10},{"$f":"MATCH(T$4,Millwall!$Z104:$AK104,0)","v":7},{"$f":"MATCH(U$4,Millwall!$Z104:$AK104,0)","v":{"$error":"#N/A"}},{"$f":"MATCH(V$4,Millwall!$Z104:$AK104,0)","v":6},{"$f":"MATCH(W$4,Millwall!$Z104:$AK104,0)","v":{"$error":"#N/A"}},{"$f":"MATCH(X$4,Millwall!$Z104:$AK104,0)","v":11},{"$f":"MATCH(Y$4,Millwall!$Z104:$AK104,0)","v":{"$error":"#N/A"}},{"$f":"MATCH(Z$4,Millwall!$Z104:$AK104,0)","v":1},{"$f":"MATCH(AA$4,Millwall!$Z104:$AK104,0)","v":12},{"$f":"MATCH(AB$4,Millwall!$Z104:$AK104,0)","v":{"$error":"#N/A"}},{"$f":"MATCH(AC$4,Millwall!$Z104:$AK104,0)","v":2},{"$f":"MATCH(AD$4,Millwall!$Z104:$AK104,0)","v":5},{"$f":"MATCH(AE$4,Millwall!$Z104:$AK104,0)","v":8},{"$f":"MATCH(AF$4,Millwall!$Z104:$AK104,0)","v":{"$error":"#N/A"}},{"$f":"MATCH(AG$4,Millwall!$Z104:$AK104,0)","v":{"$error":"#N/A"}},{"$f":"MATCH(AH$4,Millwall!$Z104:$AK104,0)","v":{"$error":"#N/A"}},{"$f":"MATCH(AI$4,Millwall!$Z104:$AK104,0)","v":{"$error":"#N/A"}},{"$f":"MATCH(AJ$4,Millwall!$Z104:$AK104,0)","v":{"$error":"#N/A"}},{"$f":"MATCH(AK$4,Millwall!$Z104:$AK104,0)","v":{"$error":"#N/A"}},{"$f":"MATCH(AL$4,Millwall!$Z104:$AK104,0)","v":{"$error":"#N/A"}},{"$f":"MATCH(AM$4,Millwall!$Z104:$AK104,0)","v":{"$error":"#N/A"}},{"$f":"MATCH(AN$4,Millwall!$Z104:$AK104,0)","v":{"$error":"#N/A"}},{"$f":"MATCH(AO$4,Millwall!$Z104:$AK104,0)","v":{"$error":"#N/A"}},{"$f":"MATCH(AP$4,Millwall!$Z104:$AK104,0)","v":{"$error":"#N/A"}},{"$f":"MATCH(AQ$4,Millwall!$Z104:$AK104,0)","v":{"$error":"#N/A"}},{"$f":"MATCH(AR$4,Millwall!$AD104:$AO104,0)","v":{"$error":"#N/A"}},null,null,null,null,null,{"$f":"MATCH(AX$3,Millwall!$Z104:$AK104,0)","v":{"$error":"#N/A"}},{"$f":"MATCH(AY$3,Millwall!$Z104:$AK104,0)","v":{"$error":"#N/A"}},{"$f":"MATCH(AZ$3,Millwall!$Z104:$AK104,0)","v":{"$error":"#N/A"}},{"$f":"MATCH(BA$3,Millwall!$Z104:$AK104,0)","v":{"$error":"#N/A"}},{"$f":"MATCH(BB$3,Millwall!$Z104:$AK104,0)","v":{"$error":"#N/A"}},{"$f":"MATCH(BC$3,Millwall!$Z104:$AK104,0)","v":3},{"$f":"MATCH(BD$3,Millwall!$Z104:$AK104,0)","v":{"$error":"#N/A"}},{"$f":"MATCH(BE$3,Millwall!$Z104:$AK104,0)","v":{"$error":"#N/A"}},{"$f":"MATCH(BF$3,Millwall!$Z104:$AK104,0)","v":{"$error":"#N/A"}},{"$f":"MATCH(BG$3,Millwall!$Z104:$AK104,0)","v":{"$error":"#N/A"}},{"$f":"MATCH(BH$3,Millwall!$Z104:$AK104,0)","v":{"$error":"#N/A"}},{"$f":"MATCH(BI$3,Millwall!$Z104:$AK104,0)","v":{"$error":"#N/A"}},{"$f":"MATCH(BJ$3,Millwall!$Z104:$AK104,0)","v":{"$error":"#N/A"}},{"$f":"MATCH(BK$3,Millwall!$Z104:$AK104,0)","v":{"$error":"#N/A"}},{"$f":"MATCH(BL$3,Millwall!$Z104:$AK104,0)","v":{"$error":"#N/A"}},{"$f":"MATCH(BM$3,Millwall!$Z104:$AK104,0)","v":{"$error":"#N/A"}},{"$f":"MATCH(BN$3,Millwall!$Z104:$AK104,0)","v":12},{"$f":"MATCH(BO$3,Millwall!$Z104:$AK104,0)","v":{"$error":"#N/A"}},{"$f":"MATCH(BP$3,Millwall!$Z104:$AK104,0)","v":{"$error":"#N/A"}},{"$f":"MATCH(BQ$3,Millwall!$Z104:$AK104,0)","v":{"$error":"#N/A"}},{"$f":"MATCH(BR$3,Millwall!$Z104:$AK104,0)","v":{"$error":"#N/A"}},{"$f":"MATCH(BS$3,Millwall!$Z104:$AK104,0)","v":{"$error":"#N/A"}},{"$f":"MATCH(BT$3,Millwall!$Z104:$AK104,0)","v":{"$error":"#N/A"}},{"$f":"MATCH(BU$3,Millwall!$Z104:$AK104,0)","v":{"$error":"#N/A"}},{"$f":"MATCH(BV$3,Millwall!$Z104:$AK104,0)","v":{"$error":"#N/A"}},{"$f":"MATCH(BW$3,Millwall!$Z104:$AK104,0)","v":{"$error":"#N/A"}},{"$f":"MATCH(BX$3,Millwall!$Z104:$AK104,0)","v":{"$error":"#N/A"}},{"$f":"MATCH(BY$3,Millwall!$Z104:$AK104,0)","v":{"$error":"#N/A"}},{"$f":"MATCH(BZ$3,Millwall!$Z104:$AK104,0)","v":{"$error":"#N/A"}},{"$f":"MATCH(CA$3,Millwall!$Z104:$AK104,0)","v":{"$error":"#N/A"}},{"$f":"MATCH(CB$3,Millwall!$Z104:$AK104,0)","v":{"$error":"#N/A"}},{"$f":"MATCH(CC$3,Millwall!$Z104:$AK104,0)","v":{"$error":"#N/A"}},{"$f":"MATCH(CD$3,Millwall!$Z104:$AK104,0)","v":{"$error":"#N/A"}},{"$f":"MATCH(CE$3,Millwall!$Z104:$AK104,0)","v":{"$error":"#N/A"}},null,null,null,null,null,null,{"$f":"$CM$34&\" [**\"","v":"0 [**"},{"$f":"Millwall!$Z198","v":0},"0 (**",{"$f":"$CM$34&\"**\"","v":"0**"},null,{"$f":"$CM$34","v":0},{"$f":"$CN$34","v":"0 (**"},{"$f":"$CO$34","v":"0**"},null,{"$f":"Millwall!$BZ38","v":0},{"$f":"Millwall!$CE38","v":0},{"$f":"Millwall!$CJ38","v":0},{"$f":"Millwall!$CO38","v":0}]
[null,null,0,31,null,{"$f":"Millwall!V105","v":"1986-03-22"},null,{"$f":"Millwall!W105","v":"Brighton"},{"$f":"Millwall!X105","v":"(A)"},{"$f":"Millwall!Y105","v":"L 0-1"},{"$f":"MATCH(K$4,Millwall!$Z105:$AK105,0)","v":4},{"$f":"MATCH(L$4,Millwall!$Z105:$AK105,0)","v":8},{"$f":"MATCH(M$4,Millwall!$Z105:$AK105,0)","v":{"$error":"#N/A"}},{"$f":"MATCH(N$4,Millwall!$Z105:$AK105,0)","v":9},{"$f":"MATCH(O$4,Millwall!$Z105:$AK105,0)","v":{"$error":"#N/A"}},{"$f":"MATCH(P$4,Millwall!$Z105:$AK105,0)","v":3},{"$f":"MATCH(Q$4,Millwall!$Z105:$AK105,0)","v":{"$error":"#N/A"}},{"$f":"MATCH(R$4,Millwall!$Z105:$AK105,0)","v":{"$error":"#N/A"}},{"$f":"MATCH(S$4,Millwall!$Z105:$AK105,0)","v":10},{"$f":"MATCH(T$4,Millwall!$Z105:$AK105,0)","v":7},{"$f":"MATCH(U$4,Millwall!$Z105:$AK105,0)","v":{"$error":"#N/A"}},{"$f":"MATCH(V$4,Millwall!$Z105:$AK105,0)","v":6},{"$f":"MATCH(W$4,Millwall!$Z105:$AK105,0)","v":{"$error":"#N/A"}},{"$f":"MATCH(X$4,Millwall!$Z105:$AK105,0)","v":11},{"$f":"MATCH(Y$4,Millwall!$Z105:$AK105,0)","v":{"$error":"#N/A"}},{"$f":"MATCH(Z$4,Millwall!$Z105:$AK105,0)","v":1},{"$f":"MATCH(AA$4,Millwall!$Z105:$AK105,0)","v":12},{"$f":"MATCH(AB$4,Millwall!$Z105:$AK105,0)","v":{"$error":"#N/A"}},{"$f":"MATCH(AC$4,Millwall!$Z105:$AK105,0)","v":2},{"$f":"MATCH(AD$4,Millwall!$Z105:$AK105,0)","v":5},{"$f":"MATCH(AE$4,Millwall!$Z105:$AK105,0)","v":{"$error":"#N/A"}},{"$f":"MATCH(AF$4,Millwall!$Z105:$AK105,0)","v":{"$error":"#N/A"}},{"$f":"MATCH(AG$4,Millwall!$Z105:$AK105,0)","v":{"$error":"#N/A"}},{"$f":"MATCH(AH$4,Millwall!$Z105:$AK105,0)","v":{"$error":"#N/A"}},{"$f":"MATCH(AI$4,Millwall!$Z105:$AK105,0)","v":{"$error":"#N/A"}},{"$f":"MATCH(AJ$4,Millwall!$Z105:$AK105,0)","v":{"$error":"#N/A"}},{"$f":"MATCH(AK$4,Millwall!$Z105:$AK105,0)","v":{"$error":"#N/A"}},{"$f":"MATCH(AL$4,Millwall!$Z105:$AK105,0)","v":{"$error":"#N/A"}},{"$f":"MATCH(AM$4,Millwall!$Z105:$AK105,0)","v":{"$error":"#N/A"}},{"$f":"MATCH(AN$4,Millwall!$Z105:$AK105,0)","v":{"$error":"#N/A"}},{"$f":"MATCH(AO$4,Millwall!$Z105:$AK105,0)","v":{"$error":"#N/A"}},{"$f":"MATCH(AP$4,Millwall!$Z105:$AK105,0)","v":{"$error":"#N/A"}},{"$f":"MATCH(AQ$4,Millwall!$Z105:$AK105,0)","v":{"$error":"#N/A"}},{"$f":"MATCH(AR$4,Millwall!$AD105:$AO105,0)","v":{"$error":"#N/A"}},null,null,null,null,null,{"$f":"MATCH(AX$3,Millwall!$Z105:$AK105,0)","v":{"$error":"#N/A"}},{"$f":"MATCH(AY$3,Millwall!$Z105:$AK105,0)","v":{"$error":"#N/A"}},{"$f":"MATCH(AZ$3,Millwall!$Z105:$AK105,0)","v":{"$error":"#N/A"}},{"$f":"MATCH(BA$3,Millwall!$Z105:$AK105,0)","v":{"$error":"#N/A"}},{"$f":"MATCH(BB$3,Millwall!$Z105:$AK105,0)","v":{"$error":"#N/A"}},{"$f":"MATCH(BC$3,Millwall!$Z105:$AK105,0)","v":{"$error":"#N/A"}},{"$f":"MATCH(BD$3,Millwall!$Z105:$AK105,0)","v":{"$error":"#N/A"}},{"$f":"MATCH(BE$3,Millwall!$Z105:$AK105,0)","v":{"$error":"#N/A"}},{"$f":"MATCH(BF$3,Millwall!$Z105:$AK105,0)","v":{"$error":"#N/A"}},{"$f":"MATCH(BG$3,Millwall!$Z105:$AK105,0)","v":7},{"$f":"MATCH(BH$3,Millwall!$Z105:$AK105,0)","v":{"$error":"#N/A"}},{"$f":"MATCH(BI$3,Millwall!$Z105:$AK105,0)","v":{"$error":"#N/A"}},{"$f":"MATCH(BJ$3,Millwall!$Z105:$AK105,0)","v":{"$error":"#N/A"}},{"$f":"MATCH(BK$3,Millwall!$Z105:$AK105,0)","v":{"$error":"#N/A"}},{"$f":"MATCH(BL$3,Millwall!$Z105:$AK105,0)","v":{"$error":"#N/A"}},{"$f":"MATCH(BM$3,Millwall!$Z105:$AK105,0)","v":{"$error":"#N/A"}},{"$f":"MATCH(BN$3,Millwall!$Z105:$AK105,0)","v":12},{"$f":"MATCH(BO$3,Millwall!$Z105:$AK105,0)","v":{"$error":"#N/A"}},{"$f":"MATCH(BP$3,Millwall!$Z105:$AK105,0)","v":{"$error":"#N/A"}},{"$f":"MATCH(BQ$3,Millwall!$Z105:$AK105,0)","v":{"$error":"#N/A"}},{"$f":"MATCH(BR$3,Millwall!$Z105:$AK105,0)","v":{"$error":"#N/A"}},{"$f":"MATCH(BS$3,Millwall!$Z105:$AK105,0)","v":{"$error":"#N/A"}},{"$f":"MATCH(BT$3,Millwall!$Z105:$AK105,0)","v":{"$error":"#N/A"}},{"$f":"MATCH(BU$3,Millwall!$Z105:$AK105,0)","v":{"$error":"#N/A"}},{"$f":"MATCH(BV$3,Millwall!$Z105:$AK105,0)","v":{"$error":"#N/A"}},{"$f":"MATCH(BW$3,Millwall!$Z105:$AK105,0)","v":{"$error":"#N/A"}},{"$f":"MATCH(BX$3,Millwall!$Z105:$AK105,0)","v":{"$error":"#N/A"}},{"$f":"MATCH(BY$3,Millwall!$Z105:$AK105,0)","v":{"$error":"#N/A"}},{"$f":"MATCH(BZ$3,Millwall!$Z105:$AK105,0)","v":{"$error":"#N/A"}},{"$f":"MATCH(CA$3,Millwall!$Z105:$AK105,0)","v":{"$error":"#N/A"}},{"$f":"MATCH(CB$3,Millwall!$Z105:$AK105,0)","v":{"$error":"#N/A"}},{"$f":"MATCH(CC$3,Millwall!$Z105:$AK105,0)","v":{"$error":"#N/A"}},{"$f":"MATCH(CD$3,Millwall!$Z105:$AK105,0)","v":{"$error":"#N/A"}},{"$f":"MATCH(CE$3,Millwall!$Z105:$AK105,0)","v":{"$error":"#N/A"}},null,null,null,null,null,null,{"$f":"$CM$35&\" [**\"","v":"0 [**"},{"$f":"Millwall!$Z199","v":0},"0 (**",{"$f":"$CM$35&\"**\"","v":"0**"},null,{"$f":"$CM$35","v":0},{"$f":"$CN$35","v":"0 (**"},{"$f":"$CO$35","v":"0**"},null,{"$f":"Millwall!$BZ39","v":0},{"$f":"Millwall!$CE39","v":0},{"$f":"Millwall!$CJ39","v":0},{"$f":"Millwall!$CO39","v":0}]
[null,null,0,32,null,{"$f":"Millwall!V106","v":"1986-03-25"},null,{"$f":"Millwall!W106","v":"Portsmouth"},{"$f":"Millwall!X106","v":"(A)"},{"$f":"Millwall!Y106","v":"L 1-2"},{"$f":"MATCH(K$4,Millwall!$Z106:$AK106,0)","v":4},{"$f":"MATCH(L$4,Millwall!$Z106:$AK106,0)","v":7},{"$f":"MATCH(M$4,Millwall!$Z106:$AK106,0)","v":{"$error":"#N/A"}},{"$f":"MATCH(N$4,Millwall!$Z106:$AK106,0)","v":9},{"$f":"MATCH(O$4,Millwall!$Z106:$AK106,0)","v":{"$error":"#N/A"}},{"$f":"MATCH(P$4,Millwall!$Z106:$AK106,0)","v":3},{"$f":"MATCH(Q$4,Millwall!$Z106:$AK106,0)","v":{"$error":"#N/A"}},{"$f":"MATCH(R$4,Millwall!$Z106:$AK106,0)","v":{"$error":"#N/A"}},{"$f":"MATCH(S$4,Millwall!$Z106:$AK106,0)","v":10},{"$f":"MATCH(T$4,Millwall!$Z106:$AK106,0)","v":{"$error":"#N/A"}},{"$f":"MATCH(U$4,Millwall!$Z106:$AK106,0)","v":{"$error":"#N/A"}},{"$f":"MATCH(V$4,Millwall!$Z106:$AK106,0)","v":6},{"$f":"MATCH(W$4,Millwall!$Z106:$AK106,0)","v":{"$error":"#N/A"}},{"$f":"MATCH(X$4,Millwall!$Z106:$AK106,0)","v":11},{"$f":"MATCH(Y$4,Millwall!$Z106:$AK106,0)","v":{"$error":"#N/A"}},{"$f":"MATCH(Z$4,Millwall!$Z106:$AK106,0)","v":1},{"$f":"MATCH(AA$4,Millwall!$Z106:$AK106,0)","v":12},{"$f":"MATCH(AB$4,Millwall!$Z106:$AK106,0)","v":8},{"$f":"MATCH(AC$4,Millwall!$Z106:$AK106,0)","v":2},{"$f":"MATCH(AD$4,Millwall!$Z106:$AK106,0)","v":5},{"$f":"MATCH(AE$4,Millwall!$Z106:$AK106,0)","v":{"$error":"#N/A"}},{"$f":"MATCH(AF$4,Millwall!$Z106:$AK106,0)","v":{"$error":"#N/A"}},{"$f":"MATCH(AG$4,Millwall!$Z106:$AK106,0)","v":{"$error":"#N/A"}},{"$f":"MATCH(AH$4,Millwall!$Z106:$AK106,0)","v":{"$error":"#N/A"}},{"$f":"MATCH(AI$4,Millwall!$Z106:$AK106,0)","v":{"$error":"#N/A"}},{"$f":"MATCH(AJ$4,Millwall!$Z106:$AK106,0)","v":{"$error":"#N/A"}},{"$f":"MATCH(AK$4,Millwall!$Z106:$AK106,0)","v":{"$error":"#N/A"}},{"$f":"MATCH(AL$4,Millwall!$Z106:$AK106,0)","v":{"$error":"#N/A"}},{"$f":"MATCH(AM$4,Millwall!$Z106:$AK106,0)","v":{"$error":"#N/A"}},{"$f":"MATCH(AN$4,Millwall!$Z106:$AK106,0)","v":{"$error":"#N/A"}},{"$f":"MATCH(AO$4,Millwall!$Z106:$AK106,0)","v":{"$error":"#N/A"}},{"$f":"MATCH(AP$4,Millwall!$Z106:$AK106,0)","v":{"$error":"#N/A"}},{"$f":"MATCH(AQ$4,Millwall!$Z106:$AK106,0)","v":{"$error":"#N/A"}},{"$f":"MATCH(AR$4,Millwall!$AD106:$AO106,0)","v":{"$error":"#N/A"}},null,null,null,null,null,{"$f":"MATCH(AX$3,Millwall!$Z106:$AK106,0)","v":{"$error":"#N/A"}},{"$f":"MATCH(AY$3,Millwall!$Z106:$AK106,0)","v":7},{"$f":"MATCH(AZ$3,Millwall!$Z106:$AK106,0)","v":{"$error":"#N/A"}},{"$f":"MATCH(BA$3,Millwall!$Z106:$AK106,0)","v":{"$error":"#N/A"}},{"$f":"MATCH(BB$3,Millwall!$Z106:$AK106,0)","v":{"$error":"#N/A"}},{"$f":"MATCH(BC$3,Millwall!$Z106:$AK106,0)","v":{"$error":"#N/A"}},{"$f":"MATCH(BD$3,Millwall!$Z106:$AK106,0)","v":{"$error":"#N/A"}},{"$f":"MATCH(BE$3,Millwall!$Z106:$AK106,0)","v":{"$error":"#N/A"}},{"$f":"MATCH(BF$3,Millwall!$Z106:$AK106,0)","v":{"$error":"#N/A"}},{"$f":"MATCH(BG$3,Millwall!$Z106:$AK106,0)","v":{"$error":"#N/A"}},{"$f":"MATCH(BH$3,Millwall!$Z106:$AK106,0)","v":{"$error":"#N/A"}},{"$f":"MATCH(BI$3,Millwall!$Z106:$AK106,0)","v":{"$error":"#N/A"}},{"$f":"MATCH(BJ$3,Millwall!$Z106:$AK106,0)","v":{"$error":"#N/A"}},{"$f":"MATCH(BK$3,Millwall!$Z106:$AK106,0)","v":{"$error":"#N/A"}},{"$f":"MATCH(BL$3,Millwall!$Z106:$AK106,0)","v":{"$error":"#N/A"}},{"$f":"MATCH(BM$3,Millwall!$Z106:$AK106,0)","v":{"$error":"#N/A"}},{"$f":"MATCH(BN$3,Millwall!$Z106:$AK106,0)","v":12},{"$f":"MATCH(BO$3,Millwall!$Z106:$AK106,0)","v":{"$error":"#N/A"}},{"$f":"MATCH(BP$3,Millwall!$Z106:$AK106,0)","v":{"$error":"#N/A"}},{"$f":"MATCH(BQ$3,Millwall!$Z106:$AK106,0)","v":{"$error":"#N/A"}},{"$f":"MATCH(BR$3,Millwall!$Z106:$AK106,0)","v":{"$error":"#N/A"}},{"$f":"MATCH(BS$3,Millwall!$Z106:$AK106,0)","v":{"$error":"#N/A"}},{"$f":"MATCH(BT$3,Millwall!$Z106:$AK106,0)","v":{"$error":"#N/A"}},{"$f":"MATCH(BU$3,Millwall!$Z106:$AK106,0)","v":{"$error":"#N/A"}},{"$f":"MATCH(BV$3,Millwall!$Z106:$AK106,0)","v":{"$error":"#N/A"}},{"$f":"MATCH(BW$3,Millwall!$Z106:$AK106,0)","v":{"$error":"#N/A"}},{"$f":"MATCH(BX$3,Millwall!$Z106:$AK106,0)","v":{"$error":"#N/A"}},{"$f":"MATCH(BY$3,Millwall!$Z106:$AK106,0)","v":{"$error":"#N/A"}},{"$f":"MATCH(BZ$3,Millwall!$Z106:$AK106,0)","v":{"$error":"#N/A"}},{"$f":"MATCH(CA$3,Millwall!$Z106:$AK106,0)","v":{"$error":"#N/A"}},{"$f":"MATCH(CB$3,Millwall!$Z106:$AK106,0)","v":{"$error":"#N/A"}},{"$f":"MATCH(CC$3,Millwall!$Z106:$AK106,0)","v":{"$error":"#N/A"}},{"$f":"MATCH(CD$3,Millwall!$Z106:$AK106,0)","v":{"$error":"#N/A"}},{"$f":"MATCH(CE$3,Millwall!$Z106:$AK106,0)","v":{"$error":"#N/A"}},null,null,null,null,null,null,{"$f":"$CM$36&\" [**\"","v":"0 [**"},{"$f":"Millwall!$Z200","v":0},"0 (**",{"$f":"$CM$36&\"**\"","v":"0**"},null,{"$f":"$CM$36","v":0},{"$f":"$CN$36","v":"0 (**"},{"$f":"$CO$36","v":"0**"},null,{"$f":"Millwall!$BZ40","v":0},{"$f":"Millwall!$CE40","v":0},{"$f":"Millwall!$CJ40","v":0},{"$f":"Millwall!$CO40","v":0}]
[null,null,0,33,null,{"$f":"Millwall!V107","v":"1986-03-29"},null,{"$f":"Millwall!W107","v":"Charlton"},{"$f":"Millwall!X107","v":"(H)"},{"$f":"Millwall!Y107","v":"D 2-2"},{"$f":"MATCH(K$4,Millwall!$Z107:$AK107,0)","v":4},{"$f":"MATCH(L$4,Millwall!$Z107:$AK107,0)","v":{"$error":"#N/A"}},{"$f":"MATCH(M$4,Millwall!$Z107:$AK107,0)","v":{"$error":"#N/A"}},{"$f":"MATCH(N$4,Millwall!$Z107:$AK107,0)","v":{"$error":"#N/A"}},{"$f":"MATCH(O$4,Millwall!$Z107:$AK107,0)","v":{"$error":"#N/A"}},{"$f":"MATCH(P$4,Millwall!$Z107:$AK107,0)","v":3},{"$f":"MATCH(Q$4,Millwall!$Z107:$AK107,0)","v":{"$error":"#N/A"}},{"$f":"MATCH(R$4,Millwall!$Z107:$AK107,0)","v":{"$error":"#N/A"}},{"$f":"MATCH(S$4,Millwall!$Z107:$AK107,0)","v":10},{"$f":"MATCH(T$4,Millwall!$Z107:$AK107,0)","v":7},{"$f":"MATCH(U$4,Millwall!$Z107:$AK107,0)","v":{"$error":"#N/A"}},{"$f":"MATCH(V$4,Millwall!$Z107:$AK107,0)","v":6},{"$f":"MATCH(W$4,Millwall!$Z107:$AK107,0)","v":{"$error":"#N/A"}},{"$f":"MATCH(X$4,Millwall!$Z107:$AK107,0)","v":11},{"$f":"MATCH(Y$4,Millwall!$Z107:$AK107,0)","v":{"$error":"#N/A"}},{"$f":"MATCH(Z$4,Millwall!$Z107:$AK107,0)","v":1},{"$f":"MATCH(AA$4,Millwall!$Z107:$AK107,0)","v":12},{"$f":"MATCH(AB$4,Millwall!$Z107:$AK107,0)","v":9},{"$f":"MATCH(AC$4,Millwall!$Z107:$AK107,0)","v":2},{"$f":"MATCH(AD$4,Millwall!$Z107:$AK107,0)","v":5},{"$f":"MATCH(AE$4,Millwall!$Z107:$AK107,0)","v":8},{"$f":"MATCH(AF$4,Millwall!$Z107:$AK107,0)","v":{"$error":"#N/A"}},{"$f":"MATCH(AG$4,Millwall!$Z107:$AK107,0)","v":{"$error":"#N/A"}},{"$f":"MATCH(AH$4,Millwall!$Z107:$AK107,0)","v":{"$error":"#N/A"}},{"$f":"MATCH(AI$4,Millwall!$Z107:$AK107,0)","v":{"$error":"#N/A"}},{"$f":"MATCH(AJ$4,Millwall!$Z107:$AK107,0)","v":{"$error":"#N/A"}},{"$f":"MATCH(AK$4,Millwall!$Z107:$AK107,0)","v":{"$error":"#N/A"}},{"$f":"MATCH(AL$4,Millwall!$Z107:$AK107,0)","v":{"$error":"#N/A"}},{"$f":"MATCH(AM$4,Millwall!$Z107:$AK107,0)","v":{"$error":"#N/A"}},{"$f":"MATCH(AN$4,Millwall!$Z107:$AK107,0)","v":{"$error":"#N/A"}},{"$f":"MATCH(AO$4,Millwall!$Z107:$AK107,0)","v":{"$error":"#N/A"}},{"$f":"MATCH(AP$4,Millwall!$Z107:$AK107,0)","v":{"$error":"#N/A"}},{"$f":"MATCH(AQ$4,Millwall!$Z107:$AK107,0)","v":{"$error":"#N/A"}},{"$f":"MATCH(AR$4,Millwall!$AD107:$AO107,0)","v":{"$error":"#N/A"}},null,null,null,null,null,{"$f":"MATCH(AX$3,Millwall!$Z107:$AK107,0)","v":{"$error":"#N/A"}},{"$f":"MATCH(AY$3,Millwall!$Z107:$AK107,0)","v":{"$error":"#N/A"}},{"$f":"MATCH(AZ$3,Millwall!$Z107:$AK107,0)","v":{"$error":"#N/A"}},{"$f":"MATCH(BA$3,Millwall!$Z107:$AK107,0)","v":{"$error":"#N/A"}},{"$f":"MATCH(BB$3,Millwall!$Z107:$AK107,0)","v":{"$error":"#N/A"}},{"$f":"MATCH(BC$3,Millwall!$Z107:$AK107,0)","v":{"$error":"#N/A"}},{"$f":"MATCH(BD$3,Millwall!$Z107:$AK107,0)","v":{"$error":"#N/A"}},{"$f":"MATCH(BE$3,Millwall!$Z107:$AK107,0)","v":{"$error":"#N/A"}},{"$f":"MATCH(BF$3,Millwall!$Z107:$AK107,0)","v":{"$error":"#N/A"}},{"$f":"MATCH(BG$3,Millwall!$Z107:$AK107,0)","v":{"$error":"#N/A"}},{"$f":"MATCH(BH$3,Millwall!$Z107:$AK107,0)","v":{"$error":"#N/A"}},{"$f":"MATCH(BI$3,Millwall!$Z107:$AK107,0)","v":{"$error":"#N/A"}},{"$f":"MATCH(BJ$3,Millwall!$Z107:$AK107,0)","v":{"$error":"#N/A"}},{"$f":"MATCH(BK$3,Millwall!$Z107:$AK107,0)","v":{"$error":"#N/A"}},{"$f":"MATCH(BL$3,Millwall!$Z107:$AK107,0)","v":{"$error":"#N/A"}},{"$f":"MATCH(BM$3,Millwall!$Z107:$AK107,0)","v":{"$error":"#N/A"}},{"$f":"MATCH(BN$3,Millwall!$Z107:$AK107,0)","v":{"$error":"#N/A"}},{"$f":"MATCH(BO$3,Millwall!$Z107:$AK107,0)","v":{"$error":"#N/A"}},{"$f":"MATCH(BP$3,Millwall!$Z107:$AK107,0)","v":{"$error":"#N/A"}},{"$f":"MATCH(BQ$3,Millwall!$Z107:$AK107,0)","v":{"$error":"#N/A"}},{"$f":"MATCH(BR$3,Millwall!$Z107:$AK107,0)","v":{"$error":"#N/A"}},{"$f":"MATCH(BS$3,Millwall!$Z107:$AK107,0)","v":{"$error":"#N/A"}},{"$f":"MATCH(BT$3,Millwall!$Z107:$AK107,0)","v":{"$error":"#N/A"}},{"$f":"MATCH(BU$3,Millwall!$Z107:$AK107,0)","v":{"$error":"#N/A"}},{"$f":"MATCH(BV$3,Millwall!$Z107:$AK107,0)","v":{"$error":"#N/A"}},{"$f":"MATCH(BW$3,Millwall!$Z107:$AK107,0)","v":{"$error":"#N/A"}},{"$f":"MATCH(BX$3,Millwall!$Z107:$AK107,0)","v":{"$error":"#N/A"}},{"$f":"MATCH(BY$3,Millwall!$Z107:$AK107,0)","v":{"$error":"#N/A"}},{"$f":"MATCH(BZ$3,Millwall!$Z107:$AK107,0)","v":{"$error":"#N/A"}},{"$f":"MATCH(CA$3,Millwall!$Z107:$AK107,0)","v":{"$error":"#N/A"}},{"$f":"MATCH(CB$3,Millwall!$Z107:$AK107,0)","v":{"$error":"#N/A"}},{"$f":"MATCH(CC$3,Millwall!$Z107:$AK107,0)","v":{"$error":"#N/A"}},{"$f":"MATCH(CD$3,Millwall!$Z107:$AK107,0)","v":{"$error":"#N/A"}},{"$f":"MATCH(CE$3,Millwall!$Z107:$AK107,0)","v":{"$error":"#N/A"}},null,null,null,null,null,null,{"$f":"$CM$37&\" [**\"","v":"0 [**"},{"$f":"Millwall!$Z201","v":0},"0 (**",{"$f":"$CM$37&\"**\"","v":"0**"},null,{"$f":"$CM$37","v":0},{"$f":"$CN$37","v":"0 (**"},{"$f":"$CO$37","v":"0**"},null,{"$f":"Millwall!$BZ41","v":0},{"$f":"Millwall!$CE41","v":0},{"$f":"Millwall!$CJ41","v":0},{"$f":"Millwall!$CO41","v":0}]
[null,null,0,34,null,{"$f":"Millwall!V108","v":"1986-03-31"},null,{"$f":"Millwall!W108","v":"Fulham"},{"$f":"Millwall!X108","v":"(A)"},{"$f":"Millwall!Y108","v":"W 2-1"},{"$f":"MATCH(K$4,Millwall!$Z108:$AK108,0)","v":4},{"$f":"MATCH(L$4,Millwall!$Z108:$AK108,0)","v":{"$error":"#N/A"}},{"$f":"MATCH(M$4,Millwall!$Z108:$AK108,0)","v":{"$error":"#N/A"}},{"$f":"MATCH(N$4,Millwall!$Z108:$AK108,0)","v":{"$error":"#N/A"}},{"$f":"MATCH(O$4,Millwall!$Z108:$AK108,0)","v":{"$error":"#N/A"}},{"$f":"MATCH(P$4,Millwall!$Z108:$AK108,0)","v":3},{"$f":"MATCH(Q$4,Millwall!$Z108:$AK108,0)","v":{"$error":"#N/A"}},{"$f":"MATCH(R$4,Millwall!$Z108:$AK108,0)","v":{"$error":"#N/A"}},{"$f":"MATCH(S$4,Millwall!$Z108:$AK108,0)","v":10},{"$f":"MATCH(T$4,Millwall!$Z108:$AK108,0)","v":7},{"$f":"MATCH(U$4,Millwall!$Z108:$AK108,0)","v":{"$error":"#N/A"}},{"$f":"MATCH(V$4,Millwall!$Z108:$AK108,0)","v":6},{"$f":"MATCH(W$4,Millwall!$Z108:$AK108,0)","v":{"$error":"#N/A"}},{"$f":"MATCH(X$4,Millwall!$Z108:$AK108,0)","v":11},{"$f":"MATCH(Y$4,Millwall!$Z108:$AK108,0)","v":{"$error":"#N/A"}},{"$f":"MATCH(Z$4,Millwall!$Z108:$AK108,0)","v":1},{"$f":"MATCH(AA$4,Millwall!$Z108:$AK108,0)","v":12},{"$f":"MATCH(AB$4,Millwall!$Z108:$AK108,0)","v":9},{"$f":"MATCH(AC$4,Millwall!$Z108:$AK108,0)","v":2},{"$f":"MATCH(AD$4,Millwall!$Z108:$AK108,0)","v":5},{"$f":"MATCH(AE$4,Millwall!$Z108:$AK108,0)","v":8},{"$f":"MATCH(AF$4,Millwall!$Z108:$AK108,0)","v":{"$error":"#N/A"}},{"$f":"MATCH(AG$4,Millwall!$Z108:$AK108,0)","v":{"$error":"#N/A"}},{"$f":"MATCH(AH$4,Millwall!$Z108:$AK108,0)","v":{"$error":"#N/A"}},{"$f":"MATCH(AI$4,Millwall!$Z108:$AK108,0)","v":{"$error":"#N/A"}},{"$f":"MATCH(AJ$4,Millwall!$Z108:$AK108,0)","v":{"$error":"#N/A"}},{"$f":"MATCH(AK$4,Millwall!$Z108:$AK108,0)","v":{"$error":"#N/A"}},{"$f":"MATCH(AL$4,Millwall!$Z108:$AK108,0)","v":{"$error":"#N/A"}},{"$f":"MATCH(AM$4,Millwall!$Z108:$AK108,0)","v":{"$error":"#N/A"}},{"$f":"MATCH(AN$4,Millwall!$Z108:$AK108,0)","v":{"$error":"#N/A"}},{"$f":"MATCH(AO$4,Millwall!$Z108:$AK108,0)","v":{"$error":"#N/A"}},{"$f":"MATCH(AP$4,Millwall!$Z108:$AK108,0)","v":{"$error":"#N/A"}},{"$f":"MATCH(AQ$4,Millwall!$Z108:$AK108,0)","v":{"$error":"#N/A"}},{"$f":"MATCH(AR$4,Millwall!$AD108:$AO108,0)","v":{"$error":"#N/A"}},null,null,null,null,null,{"$f":"MATCH(AX$3,Millwall!$Z108:$AK108,0)","v":{"$error":"#N/A"}},{"$f":"MATCH(AY$3,Millwall!$Z108:$AK108,0)","v":{"$error":"#N/A"}},{"$f":"MATCH(AZ$3,Millwall!$Z108:$AK108,0)","v":{"$error":"#N/A"}},{"$f":"MATCH(BA$3,Millwall!$Z108:$AK108,0)","v":{"$error":"#N/A"}},{"$f":"MATCH(BB$3,Millwall!$Z108:$AK108,0)","v":{"$error":"#N/A"}},{"$f":"MATCH(BC$3,Millwall!$Z108:$AK108,0)","v":{"$error":"#N/A"}},{"$f":"MATCH(BD$3,Millwall!$Z108:$AK108,0)","v":{"$error":"#N/A"}},{"$f":"MATCH(BE$3,Millwall!$Z108:$AK108,0)","v":{"$error":"#N/A"}},{"$f":"MATCH(BF$3,Millwall!$Z108:$AK108,0)","v":{"$error":"#N/A"}},{"$f":"MATCH(BG$3,Millwall!$Z108:$AK108,0)","v":{"$error":"#N/A"}},{"$f":"MATCH(BH$3,Millwall!$Z108:$AK108,0)","v":{"$error":"#N/A"}},{"$f":"MATCH(BI$3,Millwall!$Z108:$AK108,0)","v":{"$error":"#N/A"}},{"$f":"MATCH(BJ$3,Millwall!$Z108:$AK108,0)","v":{"$error":"#N/A"}},{"$f":"MATCH(BK$3,Millwall!$Z108:$AK108,0)","v":{"$error":"#N/A"}},{"$f":"MATCH(BL$3,Millwall!$Z108:$AK108,0)","v":{"$error":"#N/A"}},{"$f":"MATCH(BM$3,Millwall!$Z108:$AK108,0)","v":{"$error":"#N/A"}},{"$f":"MATCH(BN$3,Millwall!$Z108:$AK108,0)","v":12},{"$f":"MATCH(BO$3,Millwall!$Z108:$AK108,0)","v":9},{"$f":"MATCH(BP$3,Millwall!$Z108:$AK108,0)","v":{"$error":"#N/A"}},{"$f":"MATCH(BQ$3,Millwall!$Z108:$AK108,0)","v":{"$error":"#N/A"}},{"$f":"MATCH(BR$3,Millwall!$Z108:$AK108,0)","v":{"$error":"#N/A"}},{"$f":"MATCH(BS$3,Millwall!$Z108:$AK108,0)","v":{"$error":"#N/A"}},{"$f":"MATCH(BT$3,Millwall!$Z108:$AK108,0)","v":{"$error":"#N/A"}},{"$f":"MATCH(BU$3,Millwall!$Z108:$AK108,0)","v":{"$error":"#N/A"}},{"$f":"MATCH(BV$3,Millwall!$Z108:$AK108,0)","v":{"$error":"#N/A"}},{"$f":"MATCH(BW$3,Millwall!$Z108:$AK108,0)","v":{"$error":"#N/A"}},{"$f":"MATCH(BX$3,Millwall!$Z108:$AK108,0)","v":{"$error":"#N/A"}},{"$f":"MATCH(BY$3,Millwall!$Z108:$AK108,0)","v":{"$error":"#N/A"}},{"$f":"MATCH(BZ$3,Millwall!$Z108:$AK108,0)","v":{"$error":"#N/A"}},{"$f":"MATCH(CA$3,Millwall!$Z108:$AK108,0)","v":{"$error":"#N/A"}},{"$f":"MATCH(CB$3,Millwall!$Z108:$AK108,0)","v":{"$error":"#N/A"}},{"$f":"MATCH(CC$3,Millwall!$Z108:$AK108,0)","v":{"$error":"#N/A"}},{"$f":"MATCH(CD$3,Millwall!$Z108:$AK108,0)","v":{"$error":"#N/A"}},{"$f":"MATCH(CE$3,Millwall!$Z108:$AK108,0)","v":{"$error":"#N/A"}},null,null,null,null,null,null,{"$f":"$CM$38&\" [**\"","v":"0 [**"},{"$f":"Millwall!$Z202","v":0},"0 (**",{"$f":"$CM$38&\"**\"","v":"0**"},null,{"$f":"$CM$38","v":0},{"$f":"$CN$38","v":"0 (**"},{"$f":"$CO$38","v":"0**"},null,{"$f":"Millwall!$BZ42","v":0},{"$f":"Millwall!$CE42","v":0},{"$f":"Millwall!$CJ42","v":0},{"$f":"Millwall!$CO42","v":0}]
[null,null,0,35,null,{"$f":"Millwall!V109","v":"1986-04-05"},null,{"$f":"Millwall!W109","v":"Grimsby"},{"$f":"Millwall!X109","v":"(H)"},{"$f":"Millwall!Y109","v":"W 1-0"},{"$f":"MATCH(K$4,Millwall!$Z109:$AK109,0)","v":4},{"$f":"MATCH(L$4,Millwall!$Z109:$AK109,0)","v":9},{"$f":"MATCH(M$4,Millwall!$Z109:$AK109,0)","v":{"$error":"#N/A"}},{"$f":"MATCH(N$4,Millwall!$Z109:$AK109,0)","v":{"$error":"#N/A"}},{"$f":"MATCH(O$4,Millwall!$Z109:$AK109,0)","v":{"$error":"#N/A"}},{"$f":"MATCH(P$4,Millwall!$Z109:$AK109,0)","v":3},{"$f":"MATCH(Q$4,Millwall!$Z109:$AK109,0)","v":{"$error":"#N/A"}},{"$f":"MATCH(R$4,Millwall!$Z109:$AK109,0)","v":{"$error":"#N/A"}},{"$f":"MATCH(S$4,Millwall!$Z109:$AK109,0)","v":10},{"$f":"MATCH(T$4,Millwall!$Z109:$AK109,0)","v":7},{"$f":"MATCH(U$4,Millwall!$Z109:$AK109,0)","v":{"$error":"#N/A"}},{"$f":"MATCH(V$4,Millwall!$Z109:$AK109,0)","v":6},{"$f":"MATCH(W$4,Millwall!$Z109:$AK109,0)","v":{"$error":"#N/A"}},{"$f":"MATCH(X$4,Millwall!$Z109:$AK109,0)","v":11},{"$f":"MATCH(Y$4,Millwall!$Z109:$AK109,0)","v":{"$error":"#N/A"}},{"$f":"MATCH(Z$4,Millwall!$Z109:$AK109,0)","v":1},{"$f":"MATCH(AA$4,Millwall!$Z109:$AK109,0)","v":12},{"$f":"MATCH(AB$4,Millwall!$Z109:$AK109,0)","v":{"$error":"#N/A"}},{"$f":"MATCH(AC$4,Millwall!$Z109:$AK109,0)","v":2},{"$f":"MATCH(AD$4,Millwall!$Z109:$AK109,0)","v":5},{"$f":"MATCH(AE$4,Millwall!$Z109:$AK109,0)","v":8},{"$f":"MATCH(AF$4,Millwall!$Z109:$AK109,0)","v":{"$error":"#N/A"}},{"$f":"MATCH(AG$4,Millwall!$Z109:$AK109,0)","v":{"$error":"#N/A"}},{"$f":"MATCH(AH$4,Millwall!$Z109:$AK109,0)","v":{"$error":"#N/A"}},{"$f":"MATCH(AI$4,Millwall!$Z109:$AK109,0)","v":{"$error":"#N/A"}},{"$f":"MATCH(AJ$4,Millwall!$Z109:$AK109,0)","v":{"$error":"#N/A"}},{"$f":"MATCH(AK$4,Millwall!$Z109:$AK109,0)","v":{"$error":"#N/A"}},{"$f":"MATCH(AL$4,Millwall!$Z109:$AK109,0)","v":{"$error":"#N/A"}},{"$f":"MATCH(AM$4,Millwall!$Z109:$AK109,0)","v":{"$error":"#N/A"}},{"$f":"MATCH(AN$4,Millwall!$Z109:$AK109,0)","v":{"$error":"#N/A"}},{"$f":"MATCH(AO$4,Millwall!$Z109:$AK109,0)","v":{"$error":"#N/A"}},{"$f":"MATCH(AP$4,Millwall!$Z109:$AK109,0)","v":{"$error":"#N/A"}},{"$f":"MATCH(AQ$4,Millwall!$Z109:$AK109,0)","v":{"$error":"#N/A"}},{"$f":"MATCH(AR$4,Millwall!$AD109:$AO109,0)","v":{"$error":"#N/A"}},null,null,null,null,null,{"$f":"MATCH(AX$3,Millwall!$Z109:$AK109,0)","v":{"$error":"#N/A"}},{"$f":"MATCH(AY$3,Millwall!$Z109:$AK109,0)","v":9},{"$f":"MATCH(AZ$3,Millwall!$Z109:$AK109,0)","v":{"$error":"#N/A"}},{"$f":"MATCH(BA$3,Millwall!$Z109:$AK109,0)","v":{"$error":"#N/A"}},{"$f":"MATCH(BB$3,Millwall!$Z109:$AK109,0)","v":{"$error":"#N/A"}},{"$f":"MATCH(BC$3,Millwall!$Z109:$AK109,0)","v":{"$error":"#N/A"}},{"$f":"MATCH(BD$3,Millwall!$Z109:$AK109,0)","v":{"$error":"#N/A"}},{"$f":"MATCH(BE$3,Millwall!$Z109:$AK109,0)","v":{"$error":"#N/A"}},{"$f":"MATCH(BF$3,Millwall!$Z109:$AK109,0)","v":{"$error":"#N/A"}},{"$f":"MATCH(BG$3,Millwall!$Z109:$AK109,0)","v":{"$error":"#N/A"}},{"$f":"MATCH(BH$3,Millwall!$Z109:$AK109,0)","v":{"$error":"#N/A"}},{"$f":"MATCH(BI$3,Millwall!$Z109:$AK109,0)","v":{"$error":"#N/A"}},{"$f":"MATCH(BJ$3,Millwall!$Z109:$AK109,0)","v":{"$error":"#N/A"}},{"$f":"MATCH(BK$3,Millwall!$Z109:$AK109,0)","v":{"$error":"#N/A"}},{"$f":"MATCH(BL$3,Millwall!$Z109:$AK109,0)","v":{"$error":"#N/A"}},{"$f":"MATCH(BM$3,Millwall!$Z109:$AK109,0)","v":{"$error":"#N/A"}},{"$f":"MATCH(BN$3,Millwall!$Z109:$AK109,0)","v":12},{"$f":"MATCH(BO$3,Millwall!$Z109:$AK109,0)","v":{"$error":"#N/A"}},{"$f":"MATCH(BP$3,Millwall!$Z109:$AK109,0)","v":{"$error":"#N/A"}},{"$f":"MATCH(BQ$3,Millwall!$Z109:$AK109,0)","v":{"$error":"#N/A"}},{"$f":"MATCH(BR$3,Millwall!$Z109:$AK109,0)","v":{"$error":"#N/A"}},{"$f":"MATCH(BS$3,Millwall!$Z109:$AK109,0)","v":{"$error":"#N/A"}},{"$f":"MATCH(BT$3,Millwall!$Z109:$AK109,0)","v":{"$error":"#N/A"}},{"$f":"MATCH(BU$3,Millwall!$Z109:$AK109,0)","v":{"$error":"#N/A"}},{"$f":"MATCH(BV$3,Millwall!$Z109:$AK109,0)","v":{"$error":"#N/A"}},{"$f":"MATCH(BW$3,Millwall!$Z109:$AK109,0)","v":{"$error":"#N/A"}},{"$f":"MATCH(BX$3,Millwall!$Z109:$AK109,0)","v":{"$error":"#N/A"}},{"$f":"MATCH(BY$3,Millwall!$Z109:$AK109,0)","v":{"$error":"#N/A"}},{"$f":"MATCH(BZ$3,Millwall!$Z109:$AK109,0)","v":{"$error":"#N/A"}},{"$f":"MATCH(CA$3,Millwall!$Z109:$AK109,0)","v":{"$error":"#N/A"}},{"$f":"MATCH(CB$3,Millwall!$Z109:$AK109,0)","v":{"$error":"#N/A"}},{"$f":"MATCH(CC$3,Millwall!$Z109:$AK109,0)","v":{"$error":"#N/A"}},{"$f":"MATCH(CD$3,Millwall!$Z109:$AK109,0)","v":{"$error":"#N/A"}},{"$f":"MATCH(CE$3,Millwall!$Z109:$AK109,0)","v":{"$error":"#N/A"}}]
[null,null,0,36,null,{"$f":"Millwall!V110","v":"1986-04-12"},null,{"$f":"Millwall!W110","v":"Leeds"},{"$f":"Millwall!X110","v":"(A)"},{"$f":"Millwall!Y110","v":"L 1-3"},{"$f":"MATCH(K$4,Millwall!$Z110:$AK110,0)","v":4},{"$f":"MATCH(L$4,Millwall!$Z110:$AK110,0)","v":{"$error":"#N/A"}},{"$f":"MATCH(M$4,Millwall!$Z110:$AK110,0)","v":3},{"$f":"MATCH(N$4,Millwall!$Z110:$AK110,0)","v":{"$error":"#N/A"}},{"$f":"MATCH(O$4,Millwall!$Z110:$AK110,0)","v":{"$error":"#N/A"}},{"$f":"MATCH(P$4,Millwall!$Z110:$AK110,0)","v":{"$error":"#N/A"}},{"$f":"MATCH(Q$4,Millwall!$Z110:$AK110,0)","v":{"$error":"#N/A"}},{"$f":"MATCH(R$4,Millwall!$Z110:$AK110,0)","v":12},{"$f":"MATCH(S$4,Millwall!$Z110:$AK110,0)","v":10},{"$f":"MATCH(T$4,Millwall!$Z110:$AK110,0)","v":7},{"$f":"MATCH(U$4,Millwall!$Z110:$AK110,0)","v":{"$error":"#N/A"}},{"$f":"MATCH(V$4,Millwall!$Z110:$AK110,0)","v":6},{"$f":"MATCH(W$4,Millwall!$Z110:$AK110,0)","v":{"$error":"#N/A"}},{"$f":"MATCH(X$4,Millwall!$Z110:$AK110,0)","v":11},{"$f":"MATCH(Y$4,Millwall!$Z110:$AK110,0)","v":{"$error":"#N/A"}},{"$f":"MATCH(Z$4,Millwall!$Z110:$AK110,0)","v":1},{"$f":"MATCH(AA$4,Millwall!$Z110:$AK110,0)","v":9},{"$f":"MATCH(AB$4,Millwall!$Z110:$AK110,0)","v":{"$error":"#N/A"}},{"$f":"MATCH(AC$4,Millwall!$Z110:$AK110,0)","v":2},{"$f":"MATCH(AD$4,Millwall!$Z110:$AK110,0)","v":5},{"$f":"MATCH(AE$4,Millwall!$Z110:$AK110,0)","v":8},{"$f":"MATCH(AF$4,Millwall!$Z110:$AK110,0)","v":{"$error":"#N/A"}},{"$f":"MATCH(AG$4,Millwall!$Z110:$AK110,0)","v":{"$error":"#N/A"}},{"$f":"MATCH(AH$4,Millwall!$Z110:$AK110,0)","v":{"$error":"#N/A"}},{"$f":"MATCH(AI$4,Millwall!$Z110:$AK110,0)","v":{"$error":"#N/A"}},{"$f":"MATCH(AJ$4,Millwall!$Z110:$AK110,0)","v":{"$error":"#N/A"}},{"$f":"MATCH(AK$4,Millwall!$Z110:$AK110,0)","v":{"$error":"#N/A"}},{"$f":"MATCH(AL$4,Millwall!$Z110:$AK110,0)","v":{"$error":"#N/A"}},{"$f":"MATCH(AM$4,Millwall!$Z110:$AK110,0)","v":{"$error":"#N/A"}},{"$f":"MATCH(AN$4,Millwall!$Z110:$AK110,0)","v":{"$error":"#N/A"}},{"$f":"MATCH(AO$4,Millwall!$Z110:$AK110,0)","v":{"$error":"#N/A"}},{"$f":"MATCH(AP$4,Millwall!$Z110:$AK110,0)","v":{"$error":"#N/A"}},{"$f":"MATCH(AQ$4,Millwall!$Z110:$AK110,0)","v":{"$error":"#N/A"}},{"$f":"MATCH(AR$4,Millwall!$AD110:$AO110,0)","v":{"$error":"#N/A"}},null,null,null,null,null,{"$f":"MATCH(AX$3,Millwall!$Z110:$AK110,0)","v":{"$error":"#N/A"}},{"$f":"MATCH(AY$3,Millwall!$Z110:$AK110,0)","v":{"$error":"#N/A"}},{"$f":"MATCH(AZ$3,Millwall!$Z110:$AK110,0)","v":{"$error":"#N/A"}},{"$f":"MATCH(BA$3,Millwall!$Z110:$AK110,0)","v":{"$error":"#N/A"}},{"$f":"MATCH(BB$3,Millwall!$Z110:$AK110,0)","v":{"$error":"#N/A"}},{"$f":"MATCH(BC$3,Millwall!$Z110:$AK110,0)","v":{"$error":"#N/A"}},{"$f":"MATCH(BD$3,Millwall!$Z110:$AK110,0)","v":{"$error":"#N/A"}},{"$f":"MATCH(BE$3,Millwall!$Z110:$AK110,0)","v":{"$error":"#N/A"}},{"$f":"MATCH(BF$3,Millwall!$Z110:$AK110,0)","v":{"$error":"#N/A"}},{"$f":"MATCH(BG$3,Millwall!$Z110:$AK110,0)","v":{"$error":"#N/A"}},{"$f":"MATCH(BH$3,Millwall!$Z110:$AK110,0)","v":{"$error":"#N/A"}},{"$f":"MATCH(BI$3,Millwall!$Z110:$AK110,0)","v":{"$error":"#N/A"}},{"$f":"MATCH(BJ$3,Millwall!$Z110:$AK110,0)","v":{"$error":"#N/A"}},{"$f":"MATCH(BK$3,Millwall!$Z110:$AK110,0)","v":{"$error":"#N/A"}},{"$f":"MATCH(BL$3,Millwall!$Z110:$AK110,0)","v":{"$error":"#N/A"}},{"$f":"MATCH(BM$3,Millwall!$Z110:$AK110,0)","v":{"$error":"#N/A"}},{"$f":"MATCH(BN$3,Millwall!$Z110:$AK110,0)","v":{"$error":"#N/A"}},{"$f":"MATCH(BO$3,Millwall!$Z110:$AK110,0)","v":{"$error":"#N/A"}},{"$f":"MATCH(BP$3,Millwall!$Z110:$AK110,0)","v":{"$error":"#N/A"}},{"$f":"MATCH(BQ$3,Millwall!$Z110:$AK110,0)","v":{"$error":"#N/A"}},{"$f":"MATCH(BR$3,Millwall!$Z110:$AK110,0)","v":{"$error":"#N/A"}},{"$f":"MATCH(BS$3,Millwall!$Z110:$AK110,0)","v":{"$error":"#N/A"}},{"$f":"MATCH(BT$3,Millwall!$Z110:$AK110,0)","v":{"$error":"#N/A"}},{"$f":"MATCH(BU$3,Millwall!$Z110:$AK110,0)","v":{"$error":"#N/A"}},{"$f":"MATCH(BV$3,Millwall!$Z110:$AK110,0)","v":{"$error":"#N/A"}},{"$f":"MATCH(BW$3,Millwall!$Z110:$AK110,0)","v":{"$error":"#N/A"}},{"$f":"MATCH(BX$3,Millwall!$Z110:$AK110,0)","v":{"$error":"#N/A"}},{"$f":"MATCH(BY$3,Millwall!$Z110:$AK110,0)","v":{"$error":"#N/A"}},{"$f":"MATCH(BZ$3,Millwall!$Z110:$AK110,0)","v":{"$error":"#N/A"}},{"$f":"MATCH(CA$3,Millwall!$Z110:$AK110,0)","v":{"$error":"#N/A"}},{"$f":"MATCH(CB$3,Millwall!$Z110:$AK110,0)","v":{"$error":"#N/A"}},{"$f":"MATCH(CC$3,Millwall!$Z110:$AK110,0)","v":{"$error":"#N/A"}},{"$f":"MATCH(CD$3,Millwall!$Z110:$AK110,0)","v":{"$error":"#N/A"}},{"$f":"MATCH(CE$3,Millwall!$Z110:$AK110,0)","v":{"$error":"#N/A"}}]
[null,null,0,37,null,{"$f":"Millwall!V111","v":"1986-04-15"},null,{"$f":"Millwall!W111","v":"Charlton"},{"$f":"Millwall!X111","v":"(A)"},{"$f":"Millwall!Y111","v":"D 3-3"},{"$f":"MATCH(K$4,Millwall!$Z111:$AK111,0)","v":4},{"$f":"MATCH(L$4,Millwall!$Z111:$AK111,0)","v":{"$error":"#N/A"}},{"$f":"MATCH(M$4,Millwall!$Z111:$AK111,0)","v":{"$error":"#N/A"}},{"$f":"MATCH(N$4,Millwall!$Z111:$AK111,0)","v":{"$error":"#N/A"}},{"$f":"MATCH(O$4,Millwall!$Z111:$AK111,0)","v":{"$error":"#N/A"}},{"$f":"MATCH(P$4,Millwall!$Z111:$AK111,0)","v":3},{"$f":"MATCH(Q$4,Millwall!$Z111:$AK111,0)","v":{"$error":"#N/A"}},{"$f":"MATCH(R$4,Millwall!$Z111:$AK111,0)","v":12},{"$f":"MATCH(S$4,Millwall!$Z111:$AK111,0)","v":10},{"$f":"MATCH(T$4,Millwall!$Z111:$AK111,0)","v":7},{"$f":"MATCH(U$4,Millwall!$Z111:$AK111,0)","v":{"$error":"#N/A"}},{"$f":"MATCH(V$4,Millwall!$Z111:$AK111,0)","v":6},{"$f":"MATCH(W$4,Millwall!$Z111:$AK111,0)","v":{"$error":"#N/A"}},{"$f":"MATCH(X$4,Millwall!$Z111:$AK111,0)","v":11},{"$f":"MATCH(Y$4,Millwall!$Z111:$AK111,0)","v":{"$error":"#N/A"}},{"$f":"MATCH(Z$4,Millwall!$Z111:$AK111,0)","v":1},{"$f":"MATCH(AA$4,Millwall!$Z111:$AK111,0)","v":9},{"$f":"MATCH(AB$4,Millwall!$Z111:$AK111,0)","v":{"$error":"#N/A"}},{"$f":"MATCH(AC$4,Millwall!$Z111:$AK111,0)","v":2},{"$f":"MATCH(AD$4,Millwall!$Z111:$AK111,0)","v":5},{"$f":"MATCH(AE$4,Millwall!$Z111:$AK111,0)","v":8},{"$f":"MATCH(AF$4,Millwall!$Z111:$AK111,0)","v":{"$error":"#N/A"}},{"$f":"MATCH(AG$4,Millwall!$Z111:$AK111,0)","v":{"$error":"#N/A"}},{"$f":"MATCH(AH$4,Millwall!$Z111:$AK111,0)","v":{"$error":"#N/A"}},{"$f":"MATCH(AI$4,Millwall!$Z111:$AK111,0)","v":{"$error":"#N/A"}},{"$f":"MATCH(AJ$4,Millwall!$Z111:$AK111,0)","v":{"$error":"#N/A"}},{"$f":"MATCH(AK$4,Millwall!$Z111:$AK111,0)","v":{"$error":"#N/A"}},{"$f":"MATCH(AL$4,Millwall!$Z111:$AK111,0)","v":{"$error":"#N/A"}},{"$f":"MATCH(AM$4,Millwall!$Z111:$AK111,0)","v":{"$error":"#N/A"}},{"$f":"MATCH(AN$4,Millwall!$Z111:$AK111,0)","v":{"$error":"#N/A"}},{"$f":"MATCH(AO$4,Millwall!$Z111:$AK111,0)","v":{"$error":"#N/A"}},{"$f":"MATCH(AP$4,Millwall!$Z111:$AK111,0)","v":{"$error":"#N/A"}},{"$f":"MATCH(AQ$4,Millwall!$Z111:$AK111,0)","v":{"$error":"#N/A"}},{"$f":"MATCH(AR$4,Millwall!$AD111:$AO111,0)","v":{"$error":"#N/A"}},null,null,null,null,null,{"$f":"MATCH(AX$3,Millwall!$Z111:$AK111,0)","v":{"$error":"#N/A"}},{"$f":"MATCH(AY$3,Millwall!$Z111:$AK111,0)","v":{"$error":"#N/A"}},{"$f":"MATCH(AZ$3,Millwall!$Z111:$AK111,0)","v":{"$error":"#N/A"}},{"$f":"MATCH(BA$3,Millwall!$Z111:$AK111,0)","v":{"$error":"#N/A"}},{"$f":"MATCH(BB$3,Millwall!$Z111:$AK111,0)","v":{"$error":"#N/A"}},{"$f":"MATCH(BC$3,Millwall!$Z111:$AK111,0)","v":{"$error":"#N/A"}},{"$f":"MATCH(BD$3,Millwall!$Z111:$AK111,0)","v":{"$error":"#N/A"}},{"$f":"MATCH(BE$3,Millwall!$Z111:$AK111,0)","v":12},{"$f":"MATCH(BF$3,Millwall!$Z111:$AK111,0)","v":{"$error":"#N/A"}},{"$f":"MATCH(BG$3,Millwall!$Z111:$AK111,0)","v":{"$error":"#N/A"}},{"$f":"MATCH(BH$3,Millwall!$Z111:$AK111,0)","v":{"$error":"#N/A"}},{"$f":"MATCH(BI$3,Millwall!$Z111:$AK111,0)","v":{"$error":"#N/A"}},{"$f":"MATCH(BJ$3,Millwall!$Z111:$AK111,0)","v":{"$error":"#N/A"}},{"$f":"MATCH(BK$3,Millwall!$Z111:$AK111,0)","v":11},{"$f":"MATCH(BL$3,Millwall!$Z111:$AK111,0)","v":{"$error":"#N/A"}},{"$f":"MATCH(BM$3,Millwall!$Z111:$AK111,0)","v":{"$error":"#N/A"}},{"$f":"MATCH(BN$3,Millwall!$Z111:$AK111,0)","v":{"$error":"#N/A"}},{"$f":"MATCH(BO$3,Millwall!$Z111:$AK111,0)","v":{"$error":"#N/A"}},{"$f":"MATCH(BP$3,Millwall!$Z111:$AK111,0)","v":{"$error":"#N/A"}},{"$f":"MATCH(BQ$3,Millwall!$Z111:$AK111,0)","v":{"$error":"#N/A"}},{"$f":"MATCH(BR$3,Millwall!$Z111:$AK111,0)","v":{"$error":"#N/A"}},{"$f":"MATCH(BS$3,Millwall!$Z111:$AK111,0)","v":{"$error":"#N/A"}},{"$f":"MATCH(BT$3,Millwall!$Z111:$AK111,0)","v":{"$error":"#N/A"}},{"$f":"MATCH(BU$3,Millwall!$Z111:$AK111,0)","v":{"$error":"#N/A"}},{"$f":"MATCH(BV$3,Millwall!$Z111:$AK111,0)","v":{"$error":"#N/A"}},{"$f":"MATCH(BW$3,Millwall!$Z111:$AK111,0)","v":{"$error":"#N/A"}},{"$f":"MATCH(BX$3,Millwall!$Z111:$AK111,0)","v":{"$error":"#N/A"}},{"$f":"MATCH(BY$3,Millwall!$Z111:$AK111,0)","v":{"$error":"#N/A"}},{"$f":"MATCH(BZ$3,Millwall!$Z111:$AK111,0)","v":{"$error":"#N/A"}},{"$f":"MATCH(CA$3,Millwall!$Z111:$AK111,0)","v":{"$error":"#N/A"}},{"$f":"MATCH(CB$3,Millwall!$Z111:$AK111,0)","v":{"$error":"#N/A"}},{"$f":"MATCH(CC$3,Millwall!$Z111:$AK111,0)","v":{"$error":"#N/A"}},{"$f":"MATCH(CD$3,Millwall!$Z111:$AK111,0)","v":{"$error":"#N/A"}},{"$f":"MATCH(CE$3,Millwall!$Z111:$AK111,0)","v":{"$error":"#N/A"}}]
[null,null,0,38,null,{"$f":"Millwall!V112","v":"1986-04-19"},null,{"$f":"Millwall!W112","v":"Bradford"},{"$f":"Millwall!X112","v":"(H)"},{"$f":"Millwall!Y112","v":"W 2-1"},{"$f":"MATCH(K$4,Millwall!$Z112:$AK112,0)","v":4},{"$f":"MATCH(L$4,Millwall!$Z112:$AK112,0)","v":{"$error":"#N/A"}},{"$f":"MATCH(M$4,Millwall!$Z112:$AK112,0)","v":3},{"$f":"MATCH(N$4,Millwall!$Z112:$AK112,0)","v":{"$error":"#N/A"}},{"$f":"MATCH(O$4,Millwall!$Z112:$AK112,0)","v":{"$error":"#N/A"}},{"$f":"MATCH(P$4,Millwall!$Z112:$AK112,0)","v":{"$error":"#N/A"}},{"$f":"MATCH(Q$4,Millwall!$Z112:$AK112,0)","v":{"$error":"#N/A"}},{"$f":"MATCH(R$4,Millwall!$Z112:$AK112,0)","v":12},{"$f":"MATCH(S$4,Millwall!$Z112:$AK112,0)","v":10},{"$f":"MATCH(T$4,Millwall!$Z112:$AK112,0)","v":7},{"$f":"MATCH(U$4,Millwall!$Z112:$AK112,0)","v":{"$error":"#N/A"}},{"$f":"MATCH(V$4,Millwall!$Z112:$AK112,0)","v":6},{"$f":"MATCH(W$4,Millwall!$Z112:$AK112,0)","v":{"$error":"#N/A"}},{"$f":"MATCH(X$4,Millwall!$Z112:$AK112,0)","v":11},{"$f":"MATCH(Y$4,Millwall!$Z112:$AK112,0)","v":{"$error":"#N/A"}},{"$f":"MATCH(Z$4,Millwall!$Z112:$AK112,0)","v":1},{"$f":"MATCH(AA$4,Millwall!$Z112:$AK112,0)","v":9},{"$f":"MATCH(AB$4,Millwall!$Z112:$AK112,0)","v":5},{"$f":"MATCH(AC$4,Millwall!$Z112:$AK112,0)","v":2},{"$f":"MATCH(AD$4,Millwall!$Z112:$AK112,0)","v":{"$error":"#N/A"}},{"$f":"MATCH(AE$4,Millwall!$Z112:$AK112,0)","v":8},{"$f":"MATCH(AF$4,Millwall!$Z112:$AK112,0)","v":{"$error":"#N/A"}},{"$f":"MATCH(AG$4,Millwall!$Z112:$AK112,0)","v":{"$error":"#N/A"}},{"$f":"MATCH(AH$4,Millwall!$Z112:$AK112,0)","v":{"$error":"#N/A"}},{"$f":"MATCH(AI$4,Millwall!$Z112:$AK112,0)","v":{"$error":"#N/A"}},{"$f":"MATCH(AJ$4,Millwall!$Z112:$AK112,0)","v":{"$error":"#N/A"}},{"$f":"MATCH(AK$4,Millwall!$Z112:$AK112,0)","v":{"$error":"#N/A"}},{"$f":"MATCH(AL$4,Millwall!$Z112:$AK112,0)","v":{"$error":"#N/A"}},{"$f":"MATCH(AM$4,Millwall!$Z112:$AK112,0)","v":{"$error":"#N/A"}},{"$f":"MATCH(AN$4,Millwall!$Z112:$AK112,0)","v":{"$error":"#N/A"}},{"$f":"MATCH(AO$4,Millwall!$Z112:$AK112,0)","v":{"$error":"#N/A"}},{"$f":"MATCH(AP$4,Millwall!$Z112:$AK112,0)","v":{"$error":"#N/A"}},{"$f":"MATCH(AQ$4,Millwall!$Z112:$AK112,0)","v":{"$error":"#N/A"}},{"$f":"MATCH(AR$4,Millwall!$AD112:$AO112,0)","v":{"$error":"#N/A"}},null,null,null,null,null,{"$f":"MATCH(AX$3,Millwall!$Z112:$AK112,0)","v":{"$error":"#N/A"}},{"$f":"MATCH(AY$3,Millwall!$Z112:$AK112,0)","v":{"$error":"#N/A"}},{"$f":"MATCH(AZ$3,Millwall!$Z112:$AK112,0)","v":{"$error":"#N/A"}},{"$f":"MATCH(BA$3,Millwall!$Z112:$AK112,0)","v":{"$error":"#N/A"}},{"$f":"MATCH(BB$3,Millwall!$Z112:$AK112,0)","v":{"$error":"#N/A"}},{"$f":"MATCH(BC$3,Millwall!$Z112:$AK112,0)","v":{"$error":"#N/A"}},{"$f":"MATCH(BD$3,Millwall!$Z112:$AK112,0)","v":{"$error":"#N/A"}},{"$f":"MATCH(BE$3,Millwall!$Z112:$AK112,0)","v":{"$error":"#N/A"}},{"$f":"MATCH(BF$3,Millwall!$Z112:$AK112,0)","v":{"$error":"#N/A"}},{"$f":"MATCH(BG$3,Millwall!$Z112:$AK112,0)","v":{"$error":"#N/A"}},{"$f":"MATCH(BH$3,Millwall!$Z112:$AK112,0)","v":{"$error":"#N/A"}},{"$f":"MATCH(BI$3,Millwall!$Z112:$AK112,0)","v":{"$error":"#N/A"}},{"$f":"MATCH(BJ$3,Millwall!$Z112:$AK112,0)","v":{"$error":"#N/A"}},{"$f":"MATCH(BK$3,Millwall!$Z112:$AK112,0)","v":{"$error":"#N/A"}},{"$f":"MATCH(BL$3,Millwall!$Z112:$AK112,0)","v":{"$error":"#N/A"}},{"$f":"MATCH(BM$3,Millwall!$Z112:$AK112,0)","v":{"$error":"#N/A"}},{"$f":"MATCH(BN$3,Millwall!$Z112:$AK112,0)","v":{"$error":"#N/A"}},{"$f":"MATCH(BO$3,Millwall!$Z112:$AK112,0)","v":{"$error":"#N/A"}},{"$f":"MATCH(BP$3,Millwall!$Z112:$AK112,0)","v":{"$error":"#N/A"}},{"$f":"MATCH(BQ$3,Millwall!$Z112:$AK112,0)","v":{"$error":"#N/A"}},{"$f":"MATCH(BR$3,Millwall!$Z112:$AK112,0)","v":{"$error":"#N/A"}},{"$f":"MATCH(BS$3,Millwall!$Z112:$AK112,0)","v":{"$error":"#N/A"}},{"$f":"MATCH(BT$3,Millwall!$Z112:$AK112,0)","v":{"$error":"#N/A"}},{"$f":"MATCH(BU$3,Millwall!$Z112:$AK112,0)","v":{"$error":"#N/A"}},{"$f":"MATCH(BV$3,Millwall!$Z112:$AK112,0)","v":{"$error":"#N/A"}},{"$f":"MATCH(BW$3,Millwall!$Z112:$AK112,0)","v":{"$error":"#N/A"}},{"$f":"MATCH(BX$3,Millwall!$Z112:$AK112,0)","v":{"$error":"#N/A"}},{"$f":"MATCH(BY$3,Millwall!$Z112:$AK112,0)","v":{"$error":"#N/A"}},{"$f":"MATCH(BZ$3,Millwall!$Z112:$AK112,0)","v":{"$error":"#N/A"}},{"$f":"MATCH(CA$3,Millwall!$Z112:$AK112,0)","v":{"$error":"#N/A"}},{"$f":"MATCH(CB$3,Millwall!$Z112:$AK112,0)","v":{"$error":"#N/A"}},{"$f":"MATCH(CC$3,Millwall!$Z112:$AK112,0)","v":{"$error":"#N/A"}},{"$f":"MATCH(CD$3,Millwall!$Z112:$AK112,0)","v":{"$error":"#N/A"}},{"$f":"MATCH(CE$3,Millwall!$Z112:$AK112,0)","v":{"$error":"#N/A"}}]
[null,null,0,39,null,{"$f":"Millwall!V113","v":"1986-04-22"},null,{"$f":"Millwall!W113","v":"C Palace"},{"$f":"Millwall!X113","v":"(H)"},{"$f":"Millwall!Y113","v":"W 3-2"},{"$f":"MATCH(K$4,Millwall!$Z113:$AK113,0)","v":4},{"$f":"MATCH(L$4,Millwall!$Z113:$AK113,0)","v":{"$error":"#N/A"}},{"$f":"MATCH(M$4,Millwall!$Z113:$AK113,0)","v":3},{"$f":"MATCH(N$4,Millwall!$Z113:$AK113,0)","v":{"$error":"#N/A"}},{"$f":"MATCH(O$4,Millwall!$Z113:$AK113,0)","v":{"$error":"#N/A"}},{"$f":"MATCH(P$4,Millwall!$Z113:$AK113,0)","v":{"$error":"#N/A"}},{"$f":"MATCH(Q$4,Millwall!$Z113:$AK113,0)","v":{"$error":"#N/A"}},{"$f":"MATCH(R$4,Millwall!$Z113:$AK113,0)","v":12},{"$f":"MATCH(S$4,Millwall!$Z113:$AK113,0)","v":10},{"$f":"MATCH(T$4,Millwall!$Z113:$AK113,0)","v":7},{"$f":"MATCH(U$4,Millwall!$Z113:$AK113,0)","v":{"$error":"#N/A"}},{"$f":"MATCH(V$4,Millwall!$Z113:$AK113,0)","v":6},{"$f":"MATCH(W$4,Millwall!$Z113:$AK113,0)","v":{"$error":"#N/A"}},{"$f":"MATCH(X$4,Millwall!$Z113:$AK113,0)","v":11},{"$f":"MATCH(Y$4,Millwall!$Z113:$AK113,0)","v":{"$error":"#N/A"}},{"$f":"MATCH(Z$4,Millwall!$Z113:$AK113,0)","v":1},{"$f":"MATCH(AA$4,Millwall!$Z113:$AK113,0)","v":9},{"$f":"MATCH(AB$4,Millwall!$Z113:$AK113,0)","v":5},{"$f":"MATCH(AC$4,Millwall!$Z113:$AK113,0)","v":2},{"$f":"MATCH(AD$4,Millwall!$Z113:$AK113,0)","v":{"$error":"#N/A"}},{"$f":"MATCH(AE$4,Millwall!$Z113:$AK113,0)","v":8},{"$f":"MATCH(AF$4,Millwall!$Z113:$AK113,0)","v":{"$error":"#N/A"}},{"$f":"MATCH(AG$4,Millwall!$Z113:$AK113,0)","v":{"$error":"#N/A"}},{"$f":"MATCH(AH$4,Millwall!$Z113:$AK113,0)","v":{"$error":"#N/A"}},{"$f":"MATCH(AI$4,Millwall!$Z113:$AK113,0)","v":{"$error":"#N/A"}},{"$f":"MATCH(AJ$4,Millwall!$Z113:$AK113,0)","v":{"$error":"#N/A"}},{"$f":"MATCH(AK$4,Millwall!$Z113:$AK113,0)","v":{"$error":"#N/A"}},{"$f":"MATCH(AL$4,Millwall!$Z113:$AK113,0)","v":{"$error":"#N/A"}},{"$f":"MATCH(AM$4,Millwall!$Z113:$AK113,0)","v":{"$error":"#N/A"}},{"$f":"MATCH(AN$4,Millwall!$Z113:$AK113,0)","v":{"$error":"#N/A"}},{"$f":"MATCH(AO$4,Millwall!$Z113:$AK113,0)","v":{"$error":"#N/A"}},{"$f":"MATCH(AP$4,Millwall!$Z113:$AK113,0)","v":{"$error":"#N/A"}},{"$f":"MATCH(AQ$4,Millwall!$Z113:$AK113,0)","v":{"$error":"#N/A"}},{"$f":"MATCH(AR$4,Millwall!$AD113:$AO113,0)","v":{"$error":"#N/A"}},null,null,null,null,null,{"$f":"MATCH(AX$3,Millwall!$Z113:$AK113,0)","v":{"$error":"#N/A"}},{"$f":"MATCH(AY$3,Millwall!$Z113:$AK113,0)","v":{"$error":"#N/A"}},{"$f":"MATCH(AZ$3,Millwall!$Z113:$AK113,0)","v":{"$error":"#N/A"}},{"$f":"MATCH(BA$3,Millwall!$Z113:$AK113,0)","v":{"$error":"#N/A"}},{"$f":"MATCH(BB$3,Millwall!$Z113:$AK113,0)","v":{"$error":"#N/A"}},{"$f":"MATCH(BC$3,Millwall!$Z113:$AK113,0)","v":{"$error":"#N/A"}},{"$f":"MATCH(BD$3,Millwall!$Z113:$AK113,0)","v":{"$error":"#N/A"}},{"$f":"MATCH(BE$3,Millwall!$Z113:$AK113,0)","v":{"$error":"#N/A"}},{"$f":"MATCH(BF$3,Millwall!$Z113:$AK113,0)","v":{"$error":"#N/A"}},{"$f":"MATCH(BG$3,Millwall!$Z113:$AK113,0)","v":{"$error":"#N/A"}},{"$f":"MATCH(BH$3,Millwall!$Z113:$AK113,0)","v":{"$error":"#N/A"}},{"$f":"MATCH(BI$3,Millwall!$Z113:$AK113,0)","v":{"$error":"#N/A"}},{"$f":"MATCH(BJ$3,Millwall!$Z113:$AK113,0)","v":{"$error":"#N/A"}},{"$f":"MATCH(BK$3,Millwall!$Z113:$AK113,0)","v":{"$error":"#N/A"}},{"$f":"MATCH(BL$3,Millwall!$Z113:$AK113,0)","v":{"$error":"#N/A"}},{"$f":"MATCH(BM$3,Millwall!$Z113:$AK113,0)","v":{"$error":"#N/A"}},{"$f":"MATCH(BN$3,Millwall!$Z113:$AK113,0)","v":{"$error":"#N/A"}},{"$f":"MATCH(BO$3,Millwall!$Z113:$AK113,0)","v":{"$error":"#N/A"}},{"$f":"MATCH(BP$3,Millwall!$Z113:$AK113,0)","v":{"$error":"#N/A"}},{"$f":"MATCH(BQ$3,Millwall!$Z113:$AK113,0)","v":{"$error":"#N/A"}},{"$f":"MATCH(BR$3,Millwall!$Z113:$AK113,0)","v":{"$error":"#N/A"}},{"$f":"MATCH(BS$3,Millwall!$Z113:$AK113,0)","v":{"$error":"#N/A"}},{"$f":"MATCH(BT$3,Millwall!$Z113:$AK113,0)","v":{"$error":"#N/A"}},{"$f":"MATCH(BU$3,Millwall!$Z113:$AK113,0)","v":{"$error":"#N/A"}},{"$f":"MATCH(BV$3,Millwall!$Z113:$AK113,0)","v":{"$error":"#N/A"}},{"$f":"MATCH(BW$3,Millwall!$Z113:$AK113,0)","v":{"$error":"#N/A"}},{"$f":"MATCH(BX$3,Millwall!$Z113:$AK113,0)","v":{"$error":"#N/A"}},{"$f":"MATCH(BY$3,Millwall!$Z113:$AK113,0)","v":{"$error":"#N/A"}},{"$f":"MATCH(BZ$3,Millwall!$Z113:$AK113,0)","v":{"$error":"#N/A"}},{"$f":"MATCH(CA$3,Millwall!$Z113:$AK113,0)","v":{"$error":"#N/A"}},{"$f":"MATCH(CB$3,Millwall!$Z113:$AK113,0)","v":{"$error":"#N/A"}},{"$f":"MATCH(CC$3,Millwall!$Z113:$AK113,0)","v":{"$error":"#N/A"}},{"$f":"MATCH(CD$3,Millwall!$Z113:$AK113,0)","v":{"$error":"#N/A"}},{"$f":"MATCH(CE$3,Millwall!$Z113:$AK113,0)","v":{"$error":"#N/A"}}]
[null,null,0,40,null,{"$f":"Millwall!V114","v":"1986-04-26"},null,{"$f":"Millwall!W114","v":"Middlesbrough"},{"$f":"Millwall!X114","v":"(A)"},{"$f":"Millwall!Y114","v":"L 0-3"},{"$f":"MATCH(K$4,Millwall!$Z114:$AK114,0)","v":4},{"$f":"MATCH(L$4,Millwall!$Z114:$AK114,0)","v":{"$error":"#N/A"}},{"$f":"MATCH(M$4,Millwall!$Z114:$AK114,0)","v":3},{"$f":"MATCH(N$4,Millwall!$Z114:$AK114,0)","v":{"$error":"#N/A"}},{"$f":"MATCH(O$4,Millwall!$Z114:$AK114,0)","v":{"$error":"#N/A"}},{"$f":"MATCH(P$4,Millwall!$Z114:$AK114,0)","v":{"$error":"#N/A"}},{"$f":"MATCH(Q$4,Millwall!$Z114:$AK114,0)","v":{"$error":"#N/A"}},{"$f":"MATCH(R$4,Millwall!$Z114:$AK114,0)","v":{"$error":"#N/A"}},{"$f":"MATCH(S$4,Millwall!$Z114:$AK114,0)","v":10},{"$f":"MATCH(T$4,Millwall!$Z114:$AK114,0)","v":7},{"$f":"MATCH(U$4,Millwall!$Z114:$AK114,0)","v":{"$error":"#N/A"}},{"$f":"MATCH(V$4,Millwall!$Z114:$AK114,0)","v":6},{"$f":"MATCH(W$4,Millwall!$Z114:$AK114,0)","v":{"$error":"#N/A"}},{"$f":"MATCH(X$4,Millwall!$Z114:$AK114,0)","v":11},{"$f":"MATCH(Y$4,Millwall!$Z114:$AK114,0)","v":{"$error":"#N/A"}},{"$f":"MATCH(Z$4,Millwall!$Z114:$AK114,0)","v":1},{"$f":"MATCH(AA$4,Millwall!$Z114:$AK114,0)","v":9},{"$f":"MATCH(AB$4,Millwall!$Z114:$AK114,0)","v":5},{"$f":"MATCH(AC$4,Millwall!$Z114:$AK114,0)","v":2},{"$f":"MATCH(AD$4,Millwall!$Z114:$AK114,0)","v":12},{"$f":"MATCH(AE$4,Millwall!$Z114:$AK114,0)","v":8},{"$f":"MATCH(AF$4,Millwall!$Z114:$AK114,0)","v":{"$error":"#N/A"}},{"$f":"MATCH(AG$4,Millwall!$Z114:$AK114,0)","v":{"$error":"#N/A"}},{"$f":"MATCH(AH$4,Millwall!$Z114:$AK114,0)","v":{"$error":"#N/A"}},{"$f":"MATCH(AI$4,Millwall!$Z114:$AK114,0)","v":{"$error":"#N/A"}},{"$f":"MATCH(AJ$4,Millwall!$Z114:$AK114,0)","v":{"$error":"#N/A"}},{"$f":"MATCH(AK$4,Millwall!$Z114:$AK114,0)","v":{"$error":"#N/A"}},{"$f":"MATCH(AL$4,Millwall!$Z114:$AK114,0)","v":{"$error":"#N/A"}},{"$f":"MATCH(AM$4,Millwall!$Z114:$AK114,0)","v":{"$error":"#N/A"}},{"$f":"MATCH(AN$4,Millwall!$Z114:$AK114,0)","v":{"$error":"#N/A"}},{"$f":"MATCH(AO$4,Millwall!$Z114:$AK114,0)","v":{"$error":"#N/A"}},{"$f":"MATCH(AP$4,Millwall!$Z114:$AK114,0)","v":{"$error":"#N/A"}},{"$f":"MATCH(AQ$4,Millwall!$Z114:$AK114,0)","v":{"$error":"#N/A"}},{"$f":"MATCH(AR$4,Millwall!$AD114:$AO114,0)","v":{"$error":"#N/A"}},null,null,null,null,null,{"$f":"MATCH(AX$3,Millwall!$Z114:$AK114,0)","v":{"$error":"#N/A"}},{"$f":"MATCH(AY$3,Millwall!$Z114:$AK114,0)","v":{"$error":"#N/A"}},{"$f":"MATCH(AZ$3,Millwall!$Z114:$AK114,0)","v":{"$error":"#N/A"}},{"$f":"MATCH(BA$3,Millwall!$Z114:$AK114,0)","v":{"$error":"#N/A"}},{"$f":"MATCH(BB$3,Millwall!$Z114:$AK114,0)","v":{"$error":"#N/A"}},{"$f":"MATCH(BC$3,Millwall!$Z114:$AK114,0)","v":{"$error":"#N/A"}},{"$f":"MATCH(BD$3,Millwall!$Z114:$AK114,0)","v":{"$error":"#N/A"}},{"$f":"MATCH(BE$3,Millwall!$Z114:$AK114,0)","v":{"$error":"#N/A"}},{"$f":"MATCH(BF$3,Millwall!$Z114:$AK114,0)","v":{"$error":"#N/A"}},{"$f":"MATCH(BG$3,Millwall!$Z114:$AK114,0)","v":{"$error":"#N/A"}},{"$f":"MATCH(BH$3,Millwall!$Z114:$AK114,0)","v":{"$error":"#N/A"}},{"$f":"MATCH(BI$3,Millwall!$Z114:$AK114,0)","v":{"$error":"#N/A"}},{"$f":"MATCH(BJ$3,Millwall!$Z114:$AK114,0)","v":{"$error":"#N/A"}},{"$f":"MATCH(BK$3,Millwall!$Z114:$AK114,0)","v":{"$error":"#N/A"}},{"$f":"MATCH(BL$3,Millwall!$Z114:$AK114,0)","v":{"$error":"#N/A"}},{"$f":"MATCH(BM$3,Millwall!$Z114:$AK114,0)","v":{"$error":"#N/A"}},{"$f":"MATCH(BN$3,Millwall!$Z114:$AK114,0)","v":{"$error":"#N/A"}},{"$f":"MATCH(BO$3,Millwall!$Z114:$AK114,0)","v":{"$error":"#N/A"}},{"$f":"MATCH(BP$3,Millwall!$Z114:$AK114,0)","v":{"$error":"#N/A"}},{"$f":"MATCH(BQ$3,Millwall!$Z114:$AK114,0)","v":{"$error":"#N/A"}},{"$f":"MATCH(BR$3,Millwall!$Z114:$AK114,0)","v":{"$error":"#N/A"}},{"$f":"MATCH(BS$3,Millwall!$Z114:$AK114,0)","v":{"$error":"#N/A"}},{"$f":"MATCH(BT$3,Millwall!$Z114:$AK114,0)","v":{"$error":"#N/A"}},{"$f":"MATCH(BU$3,Millwall!$Z114:$AK114,0)","v":{"$error":"#N/A"}},{"$f":"MATCH(BV$3,Millwall!$Z114:$AK114,0)","v":{"$error":"#N/A"}},{"$f":"MATCH(BW$3,Millwall!$Z114:$AK114,0)","v":{"$error":"#N/A"}},{"$f":"MATCH(BX$3,Millwall!$Z114:$AK114,0)","v":{"$error":"#N/A"}},{"$f":"MATCH(BY$3,Millwall!$Z114:$AK114,0)","v":{"$error":"#N/A"}},{"$f":"MATCH(BZ$3,Millwall!$Z114:$AK114,0)","v":{"$error":"#N/A"}},{"$f":"MATCH(CA$3,Millwall!$Z114:$AK114,0)","v":{"$error":"#N/A"}},{"$f":"MATCH(CB$3,Millwall!$Z114:$AK114,0)","v":{"$error":"#N/A"}},{"$f":"MATCH(CC$3,Millwall!$Z114:$AK114,0)","v":{"$error":"#N/A"}},{"$f":"MATCH(CD$3,Millwall!$Z114:$AK114,0)","v":{"$error":"#N/A"}},{"$f":"MATCH(CE$3,Millwall!$Z114:$AK114,0)","v":{"$error":"#N/A"}}]
[null,null,0,41,null,{"$f":"Millwall!V115","v":"1986-04-30"},null,{"$f":"Millwall!W115","v":"Bradford"},{"$f":"Millwall!X115","v":"(A)"},{"$f":"Millwall!Y115","v":"W 2-0"},{"$f":"MATCH(K$4,Millwall!$Z115:$AK115,0)","v":{"$error":"#N/A"}},{"$f":"MATCH(L$4,Millwall!$Z115:$AK115,0)","v":12},{"$f":"MATCH(M$4,Millwall!$Z115:$AK115,0)","v":3},{"$f":"MATCH(N$4,Millwall!$Z115:$AK115,0)","v":{"$error":"#N/A"}},{"$f":"MATCH(O$4,Millwall!$Z115:$AK115,0)","v":{"$error":"#N/A"}},{"$f":"MATCH(P$4,Millwall!$Z115:$AK115,0)","v":{"$error":"#N/A"}},{"$f":"MATCH(Q$4,Millwall!$Z115:$AK115,0)","v":{"$error":"#N/A"}},{"$f":"MATCH(R$4,Millwall!$Z115:$AK115,0)","v":{"$error":"#N/A"}},{"$f":"MATCH(S$4,Millwall!$Z115:$AK115,0)","v":10},{"$f":"MATCH(T$4,Millwall!$Z115:$AK115,0)","v":7},{"$f":"MATCH(U$4,Millwall!$Z115:$AK115,0)","v":{"$error":"#N/A"}},{"$f":"MATCH(V$4,Millwall!$Z115:$AK115,0)","v":6},{"$f":"MATCH(W$4,Millwall!$Z115:$AK115,0)","v":{"$error":"#N/A"}},{"$f":"MATCH(X$4,Millwall!$Z115:$AK115,0)","v":11},{"$f":"MATCH(Y$4,Millwall!$Z115:$AK115,0)","v":{"$error":"#N/A"}},{"$f":"MATCH(Z$4,Millwall!$Z115:$AK115,0)","v":1},{"$f":"MATCH(AA$4,Millwall!$Z115:$AK115,0)","v":9},{"$f":"MATCH(AB$4,Millwall!$Z115:$AK115,0)","v":5},{"$f":"MATCH(AC$4,Millwall!$Z115:$AK115,0)","v":2},{"$f":"MATCH(AD$4,Millwall!$Z115:$AK115,0)","v":4},{"$f":"MATCH(AE$4,Millwall!$Z115:$AK115,0)","v":8},{"$f":"MATCH(AF$4,Millwall!$Z115:$AK115,0)","v":{"$error":"#N/A"}},{"$f":"MATCH(AG$4,Millwall!$Z115:$AK115,0)","v":{"$error":"#N/A"}},{"$f":"MATCH(AH$4,Millwall!$Z115:$AK115,0)","v":{"$error":"#N/A"}},{"$f":"MATCH(AI$4,Millwall!$Z115:$AK115,0)","v":{"$error":"#N/A"}},{"$f":"MATCH(AJ$4,Millwall!$Z115:$AK115,0)","v":{"$error":"#N/A"}},{"$f":"MATCH(AK$4,Millwall!$Z115:$AK115,0)","v":{"$error":"#N/A"}},{"$f":"MATCH(AL$4,Millwall!$Z115:$AK115,0)","v":{"$error":"#N/A"}},{"$f":"MATCH(AM$4,Millwall!$Z115:$AK115,0)","v":{"$error":"#N/A"}},{"$f":"MATCH(AN$4,Millwall!$Z115:$AK115,0)","v":{"$error":"#N/A"}},{"$f":"MATCH(AO$4,Millwall!$Z115:$AK115,0)","v":{"$error":"#N/A"}},{"$f":"MATCH(AP$4,Millwall!$Z115:$AK115,0)","v":{"$error":"#N/A"}},{"$f":"MATCH(AQ$4,Millwall!$Z115:$AK115,0)","v":{"$error":"#N/A"}},{"$f":"MATCH(AR$4,Millwall!$AD115:$AO115,0)","v":{"$error":"#N/A"}},null,null,null,null,null,{"$f":"MATCH(AX$3,Millwall!$Z115:$AK115,0)","v":{"$error":"#N/A"}},{"$f":"MATCH(AY$3,Millwall!$Z115:$AK115,0)","v":{"$error":"#N/A"}},{"$f":"MATCH(AZ$3,Millwall!$Z115:$AK115,0)","v":{"$error":"#N/A"}},{"$f":"MATCH(BA$3,Millwall!$Z115:$AK115,0)","v":{"$error":"#N/A"}},{"$f":"MATCH(BB$3,Millwall!$Z115:$AK115,0)","v":{"$error":"#N/A"}},{"$f":"MATCH(BC$3,Millwall!$Z115:$AK115,0)","v":{"$error":"#N/A"}},{"$f":"MATCH(BD$3,Millwall!$Z115:$AK115,0)","v":{"$error":"#N/A"}},{"$f":"MATCH(BE$3,Millwall!$Z115:$AK115,0)","v":{"$error":"#N/A"}},{"$f":"MATCH(BF$3,Millwall!$Z115:$AK115,0)","v":{"$error":"#N/A"}},{"$f":"MATCH(BG$3,Millwall!$Z115:$AK115,0)","v":{"$error":"#N/A"}},{"$f":"MATCH(BH$3,Millwall!$Z115:$AK115,0)","v":{"$error":"#N/A"}},{"$f":"MATCH(BI$3,Millwall!$Z115:$AK115,0)","v":{"$error":"#N/A"}},{"$f":"MATCH(BJ$3,Millwall!$Z115:$AK115,0)","v":{"$error":"#N/A"}},{"$f":"MATCH(BK$3,Millwall!$Z115:$AK115,0)","v":{"$error":"#N/A"}},{"$f":"MATCH(BL$3,Millwall!$Z115:$AK115,0)","v":{"$error":"#N/A"}},{"$f":"MATCH(BM$3,Millwall!$Z115:$AK115,0)","v":{"$error":"#N/A"}},{"$f":"MATCH(BN$3,Millwall!$Z115:$AK115,0)","v":{"$error":"#N/A"}},{"$f":"MATCH(BO$3,Millwall!$Z115:$AK115,0)","v":{"$error":"#N/A"}},{"$f":"MATCH(BP$3,Millwall!$Z115:$AK115,0)","v":{"$error":"#N/A"}},{"$f":"MATCH(BQ$3,Millwall!$Z115:$AK115,0)","v":{"$error":"#N/A"}},{"$f":"MATCH(BR$3,Millwall!$Z115:$AK115,0)","v":{"$error":"#N/A"}},{"$f":"MATCH(BS$3,Millwall!$Z115:$AK115,0)","v":{"$error":"#N/A"}},{"$f":"MATCH(BT$3,Millwall!$Z115:$AK115,0)","v":{"$error":"#N/A"}},{"$f":"MATCH(BU$3,Millwall!$Z115:$AK115,0)","v":{"$error":"#N/A"}},{"$f":"MATCH(BV$3,Millwall!$Z115:$AK115,0)","v":{"$error":"#N/A"}},{"$f":"MATCH(BW$3,Millwall!$Z115:$AK115,0)","v":{"$error":"#N/A"}},{"$f":"MATCH(BX$3,Millwall!$Z115:$AK115,0)","v":{"$error":"#N/A"}},{"$f":"MATCH(BY$3,Millwall!$Z115:$AK115,0)","v":{"$error":"#N/A"}},{"$f":"MATCH(BZ$3,Millwall!$Z115:$AK115,0)","v":{"$error":"#N/A"}},{"$f":"MATCH(CA$3,Millwall!$Z115:$AK115,0)","v":{"$error":"#N/A"}},{"$f":"MATCH(CB$3,Millwall!$Z115:$AK115,0)","v":{"$error":"#N/A"}},{"$f":"MATCH(CC$3,Millwall!$Z115:$AK115,0)","v":{"$error":"#N/A"}},{"$f":"MATCH(CD$3,Millwall!$Z115:$AK115,0)","v":{"$error":"#N/A"}},{"$f":"MATCH(CE$3,Millwall!$Z115:$AK115,0)","v":{"$error":"#N/A"}}]
[null,null,0,42,null,{"$f":"Millwall!V116","v":"1986-05-03"},null,{"$f":"Millwall!W116","v":"Barnsley"},{"$f":"Millwall!X116","v":"(H)"},{"$f":"Millwall!Y116","v":"D 2-2"},{"$f":"MATCH(K$4,Millwall!$Z116:$AK116,0)","v":{"$error":"#N/A"}},{"$f":"MATCH(L$4,Millwall!$Z116:$AK116,0)","v":{"$error":"#N/A"}},{"$f":"MATCH(M$4,Millwall!$Z116:$AK116,0)","v":3},{"$f":"MATCH(N$4,Millwall!$Z116:$AK116,0)","v":{"$error":"#N/A"}},{"$f":"MATCH(O$4,Millwall!$Z116:$AK116,0)","v":{"$error":"#N/A"}},{"$f":"MATCH(P$4,Millwall!$Z116:$AK116,0)","v":12},{"$f":"MATCH(Q$4,Millwall!$Z116:$AK116,0)","v":{"$error":"#N/A"}},{"$f":"MATCH(R$4,Millwall!$Z116:$AK116,0)","v":{"$error":"#N/A"}},{"$f":"MATCH(S$4,Millwall!$Z116:$AK116,0)","v":10},{"$f":"MATCH(T$4,Millwall!$Z116:$AK116,0)","v":7},{"$f":"MATCH(U$4,Millwall!$Z116:$AK116,0)","v":{"$error":"#N/A"}},{"$f":"MATCH(V$4,Millwall!$Z116:$AK116,0)","v":4},{"$f":"MATCH(W$4,Millwall!$Z116:$AK116,0)","v":{"$error":"#N/A"}},{"$f":"MATCH(X$4,Millwall!$Z116:$AK116,0)","v":11},{"$f":"MATCH(Y$4,Millwall!$Z116:$AK116,0)","v":{"$error":"#N/A"}},{"$f":"MATCH(Z$4,Millwall!$Z116:$AK116,0)","v":1},{"$f":"MATCH(AA$4,Millwall!$Z116:$AK116,0)","v":9},{"$f":"MATCH(AB$4,Millwall!$Z116:$AK116,0)","v":5},{"$f":"MATCH(AC$4,Millwall!$Z116:$AK116,0)","v":2},{"$f":"MATCH(AD$4,Millwall!$Z116:$AK116,0)","v":6},{"$f":"MATCH(AE$4,Millwall!$Z116:$AK116,0)","v":8},{"$f":"MATCH(AF$4,Millwall!$Z116:$AK116,0)","v":{"$error":"#N/A"}},{"$f":"MATCH(AG$4,Millwall!$Z116:$AK116,0)","v":{"$error":"#N/A"}},{"$f":"MATCH(AH$4,Millwall!$Z116:$AK116,0)","v":{"$error":"#N/A"}},{"$f":"MATCH(AI$4,Millwall!$Z116:$AK116,0)","v":{"$error":"#N/A"}},{"$f":"MATCH(AJ$4,Millwall!$Z116:$AK116,0)","v":{"$error":"#N/A"}},{"$f":"MATCH(AK$4,Millwall!$Z116:$AK116,0)","v":{"$error":"#N/A"}},{"$f":"MATCH(AL$4,Millwall!$Z116:$AK116,0)","v":{"$error":"#N/A"}},{"$f":"MATCH(AM$4,Millwall!$Z116:$AK116,0)","v":{"$error":"#N/A"}},{"$f":"MATCH(AN$4,Millwall!$Z116:$AK116,0)","v":{"$error":"#N/A"}},{"$f":"MATCH(AO$4,Millwall!$Z116:$AK116,0)","v":{"$error":"#N/A"}},{"$f":"MATCH(AP$4,Millwall!$Z116:$AK116,0)","v":{"$error":"#N/A"}},{"$f":"MATCH(AQ$4,Millwall!$Z116:$AK116,0)","v":{"$error":"#N/A"}},{"$f":"MATCH(AR$4,Millwall!$AD116:$AO116,0)","v":{"$error":"#N/A"}},null,null,null,null,null,{"$f":"MATCH(AX$3,Millwall!$Z116:$AK116,0)","v":{"$error":"#N/A"}},{"$f":"MATCH(AY$3,Millwall!$Z116:$AK116,0)","v":{"$error":"#N/A"}},{"$f":"MATCH(AZ$3,Millwall!$Z116:$AK116,0)","v":{"$error":"#N/A"}},{"$f":"MATCH(BA$3,Millwall!$Z116:$AK116,0)","v":{"$error":"#N/A"}},{"$f":"MATCH(BB$3,Millwall!$Z116:$AK116,0)","v":{"$error":"#N/A"}},{"$f":"MATCH(BC$3,Millwall!$Z116:$AK116,0)","v":12},{"$f":"MATCH(BD$3,Millwall!$Z116:$AK116,0)","v":{"$error":"#N/A"}},{"$f":"MATCH(BE$3,Millwall!$Z116:$AK116,0)","v":{"$error":"#N/A"}},{"$f":"MATCH(BF$3,Millwall!$Z116:$AK116,0)","v":{"$error":"#N/A"}},{"$f":"MATCH(BG$3,Millwall!$Z116:$AK116,0)","v":{"$error":"#N/A"}},{"$f":"MATCH(BH$3,Millwall!$Z116:$AK116,0)","v":{"$error":"#N/A"}},{"$f":"MATCH(BI$3,Millwall!$Z116:$AK116,0)","v":{"$error":"#N/A"}},{"$f":"MATCH(BJ$3,Millwall!$Z116:$AK116,0)","v":{"$error":"#N/A"}},{"$f":"MATCH(BK$3,Millwall!$Z116:$AK116,0)","v":{"$error":"#N/A"}},{"$f":"MATCH(BL$3,Millwall!$Z116:$AK116,0)","v":{"$error":"#N/A"}},{"$f":"MATCH(BM$3,Millwall!$Z116:$AK116,0)","v":{"$error":"#N/A"}},{"$f":"MATCH(BN$3,Millwall!$Z116:$AK116,0)","v":{"$error":"#N/A"}},{"$f":"MATCH(BO$3,Millwall!$Z116:$AK116,0)","v":5},{"$f":"MATCH(BP$3,Millwall!$Z116:$AK116,0)","v":{"$error":"#N/A"}},{"$f":"MATCH(BQ$3,Millwall!$Z116:$AK116,0)","v":{"$error":"#N/A"}},{"$f":"MATCH(BR$3,Millwall!$Z116:$AK116,0)","v":{"$error":"#N/A"}},{"$f":"MATCH(BS$3,Millwall!$Z116:$AK116,0)","v":{"$error":"#N/A"}},{"$f":"MATCH(BT$3,Millwall!$Z116:$AK116,0)","v":{"$error":"#N/A"}},{"$f":"MATCH(BU$3,Millwall!$Z116:$AK116,0)","v":{"$error":"#N/A"}},{"$f":"MATCH(BV$3,Millwall!$Z116:$AK116,0)","v":{"$error":"#N/A"}},{"$f":"MATCH(BW$3,Millwall!$Z116:$AK116,0)","v":{"$error":"#N/A"}},{"$f":"MATCH(BX$3,Millwall!$Z116:$AK116,0)","v":{"$error":"#N/A"}},{"$f":"MATCH(BY$3,Millwall!$Z116:$AK116,0)","v":{"$error":"#N/A"}},{"$f":"MATCH(BZ$3,Millwall!$Z116:$AK116,0)","v":{"$error":"#N/A"}},{"$f":"MATCH(CA$3,Millwall!$Z116:$AK116,0)","v":{"$error":"#N/A"}},{"$f":"MATCH(CB$3,Millwall!$Z116:$AK116,0)","v":{"$error":"#N/A"}},{"$f":"MATCH(CC$3,Millwall!$Z116:$AK116,0)","v":{"$error":"#N/A"}},{"$f":"MATCH(CD$3,Millwall!$Z116:$AK116,0)","v":{"$error":"#N/A"}},{"$f":"MATCH(CE$3,Millwall!$Z116:$AK116,0)","v":{"$error":"#N/A"}}]
[null,null,1,43,null,{"$f":"Millwall!V117","v":"00:00:00"},null,{"$f":"Millwall!W117","v":"00:00:00"},{"$f":"Millwall!X117","v":"00:00:00"},{"$f":"Millwall!Y117","v":0},{"$f":"MATCH(K$4,Millwall!$Z117:$AK117,0)","v":{"$error":"#N/A"}},{"$f":"MATCH(L$4,Millwall!$Z117:$AK117,0)","v":{"$error":"#N/A"}},{"$f":"MATCH(M$4,Millwall!$Z117:$AK117,0)","v":{"$error":"#N/A"}},{"$f":"MATCH(N$4,Millwall!$Z117:$AK117,0)","v":{"$error":"#N/A"}},{"$f":"MATCH(O$4,Millwall!$Z117:$AK117,0)","v":{"$error":"#N/A"}},{"$f":"MATCH(P$4,Millwall!$Z117:$AK117,0)","v":{"$error":"#N/A"}},{"$f":"MATCH(Q$4,Millwall!$Z117:$AK117,0)","v":{"$error":"#N/A"}},{"$f":"MATCH(R$4,Millwall!$Z117:$AK117,0)","v":{"$error":"#N/A"}},{"$f":"MATCH(S$4,Millwall!$Z117:$AK117,0)","v":{"$error":"#N/A"}},{"$f":"MATCH(T$4,Millwall!$Z117:$AK117,0)","v":{"$error":"#N/A"}},{"$f":"MATCH(U$4,Millwall!$Z117:$AK117,0)","v":{"$error":"#N/A"}},{"$f":"MATCH(V$4,Millwall!$Z117:$AK117,0)","v":{"$error":"#N/A"}},{"$f":"MATCH(W$4,Millwall!$Z117:$AK117,0)","v":{"$error":"#N/A"}},{"$f":"MATCH(X$4,Millwall!$Z117:$AK117,0)","v":{"$error":"#N/A"}},{"$f":"MATCH(Y$4,Millwall!$Z117:$AK117,0)","v":{"$error":"#N/A"}},{"$f":"MATCH(Z$4,Millwall!$Z117:$AK117,0)","v":{"$error":"#N/A"}},{"$f":"MATCH(AA$4,Millwall!$Z117:$AK117,0)","v":{"$error":"#N/A"}},{"$f":"MATCH(AB$4,Millwall!$Z117:$AK117,0)","v":{"$error":"#N/A"}},{"$f":"MATCH(AC$4,Millwall!$Z117:$AK117,0)","v":{"$error":"#N/A"}},{"$f":"MATCH(AD$4,Millwall!$Z117:$AK117,0)","v":{"$error":"#N/A"}},{"$f":"MATCH(AE$4,Millwall!$Z117:$AK117,0)","v":{"$error":"#N/A"}},{"$f":"MATCH(AF$4,Millwall!$Z117:$AK117,0)","v":{"$error":"#N/A"}},{"$f":"MATCH(AG$4,Millwall!$Z117:$AK117,0)","v":{"$error":"#N/A"}},{"$f":"MATCH(AH$4,Millwall!$Z117:$AK117,0)","v":{"$error":"#N/A"}},{"$f":"MATCH(AI$4,Millwall!$Z117:$AK117,0)","v":{"$error":"#N/A"}},{"$f":"MATCH(AJ$4,Millwall!$Z117:$AK117,0)","v":{"$error":"#N/A"}},{"$f":"MATCH(AK$4,Millwall!$Z117:$AK117,0)","v":{"$error":"#N/A"}},{"$f":"MATCH(AL$4,Millwall!$Z117:$AK117,0)","v":{"$error":"#N/A"}},{"$f":"MATCH(AM$4,Millwall!$Z117:$AK117,0)","v":{"$error":"#N/A"}},{"$f":"MATCH(AN$4,Millwall!$Z117:$AK117,0)","v":{"$error":"#N/A"}},{"$f":"MATCH(AO$4,Millwall!$Z117:$AK117,0)","v":{"$error":"#N/A"}},{"$f":"MATCH(AP$4,Millwall!$Z117:$AK117,0)","v":{"$error":"#N/A"}},{"$f":"MATCH(AQ$4,Millwall!$Z117:$AK117,0)","v":{"$error":"#N/A"}},{"$f":"MATCH(AR$4,Millwall!$AD117:$AO117,0)","v":{"$error":"#N/A"}},null,null,null,null,null,{"$f":"MATCH(AX$3,Millwall!$Z117:$AK117,0)","v":{"$error":"#N/A"}},{"$f":"MATCH(AY$3,Millwall!$Z117:$AK117,0)","v":{"$error":"#N/A"}},{"$f":"MATCH(AZ$3,Millwall!$Z117:$AK117,0)","v":{"$error":"#N/A"}},{"$f":"MATCH(BA$3,Millwall!$Z117:$AK117,0)","v":{"$error":"#N/A"}},{"$f":"MATCH(BB$3,Millwall!$Z117:$AK117,0)","v":{"$error":"#N/A"}},{"$f":"MATCH(BC$3,Millwall!$Z117:$AK117,0)","v":{"$error":"#N/A"}},{"$f":"MATCH(BD$3,Millwall!$Z117:$AK117,0)","v":{"$error":"#N/A"}},{"$f":"MATCH(BE$3,Millwall!$Z117:$AK117,0)","v":{"$error":"#N/A"}},{"$f":"MATCH(BF$3,Millwall!$Z117:$AK117,0)","v":{"$error":"#N/A"}},{"$f":"MATCH(BG$3,Millwall!$Z117:$AK117,0)","v":{"$error":"#N/A"}},{"$f":"MATCH(BH$3,Millwall!$Z117:$AK117,0)","v":{"$error":"#N/A"}},{"$f":"MATCH(BI$3,Millwall!$Z117:$AK117,0)","v":{"$error":"#N/A"}},{"$f":"MATCH(BJ$3,Millwall!$Z117:$AK117,0)","v":{"$error":"#N/A"}},{"$f":"MATCH(BK$3,Millwall!$Z117:$AK117,0)","v":{"$error":"#N/A"}},{"$f":"MATCH(BL$3,Millwall!$Z117:$AK117,0)","v":{"$error":"#N/A"}},{"$f":"MATCH(BM$3,Millwall!$Z117:$AK117,0)","v":{"$error":"#N/A"}},{"$f":"MATCH(BN$3,Millwall!$Z117:$AK117,0)","v":{"$error":"#N/A"}},{"$f":"MATCH(BO$3,Millwall!$Z117:$AK117,0)","v":{"$error":"#N/A"}},{"$f":"MATCH(BP$3,Millwall!$Z117:$AK117,0)","v":{"$error":"#N/A"}},{"$f":"MATCH(BQ$3,Millwall!$Z117:$AK117,0)","v":{"$error":"#N/A"}},{"$f":"MATCH(BR$3,Millwall!$Z117:$AK117,0)","v":{"$error":"#N/A"}},{"$f":"MATCH(BS$3,Millwall!$Z117:$AK117,0)","v":{"$error":"#N/A"}},{"$f":"MATCH(BT$3,Millwall!$Z117:$AK117,0)","v":{"$error":"#N/A"}},{"$f":"MATCH(BU$3,Millwall!$Z117:$AK117,0)","v":{"$error":"#N/A"}},{"$f":"MATCH(BV$3,Millwall!$Z117:$AK117,0)","v":{"$error":"#N/A"}},{"$f":"MATCH(BW$3,Millwall!$Z117:$AK117,0)","v":{"$error":"#N/A"}},{"$f":"MATCH(BX$3,Millwall!$Z117:$AK117,0)","v":{"$error":"#N/A"}},{"$f":"MATCH(BY$3,Millwall!$Z117:$AK117,0)","v":{"$error":"#N/A"}},{"$f":"MATCH(BZ$3,Millwall!$Z117:$AK117,0)","v":{"$error":"#N/A"}},{"$f":"MATCH(CA$3,Millwall!$Z117:$AK117,0)","v":{"$error":"#N/A"}},{"$f":"MATCH(CB$3,Millwall!$Z117:$AK117,0)","v":{"$error":"#N/A"}},{"$f":"MATCH(CC$3,Millwall!$Z117:$AK117,0)","v":{"$error":"#N/A"}},{"$f":"MATCH(CD$3,Millwall!$Z117:$AK117,0)","v":{"$error":"#N/A"}},{"$f":"MATCH(CE$3,Millwall!$Z117:$AK117,0)","v":{"$error":"#N/A"}}]
[null,null,1,44,null,{"$f":"Millwall!V118","v":"00:00:00"},null,{"$f":"Millwall!W118","v":"00:00:00"},{"$f":"Millwall!X118","v":"00:00:00"},{"$f":"Millwall!Y118","v":0},{"$f":"MATCH(K$4,Millwall!$Z118:$AK118,0)","v":{"$error":"#N/A"}},{"$f":"MATCH(L$4,Millwall!$Z118:$AK118,0)","v":{"$error":"#N/A"}},{"$f":"MATCH(M$4,Millwall!$Z118:$AK118,0)","v":{"$error":"#N/A"}},{"$f":"MATCH(N$4,Millwall!$Z118:$AK118,0)","v":{"$error":"#N/A"}},{"$f":"MATCH(O$4,Millwall!$Z118:$AK118,0)","v":{"$error":"#N/A"}},{"$f":"MATCH(P$4,Millwall!$Z118:$AK118,0)","v":{"$error":"#N/A"}},{"$f":"MATCH(Q$4,Millwall!$Z118:$AK118,0)","v":{"$error":"#N/A"}},{"$f":"MATCH(R$4,Millwall!$Z118:$AK118,0)","v":{"$error":"#N/A"}},{"$f":"MATCH(S$4,Millwall!$Z118:$AK118,0)","v":{"$error":"#N/A"}},{"$f":"MATCH(T$4,Millwall!$Z118:$AK118,0)","v":{"$error":"#N/A"}},{"$f":"MATCH(U$4,Millwall!$Z118:$AK118,0)","v":{"$error":"#N/A"}},{"$f":"MATCH(V$4,Millwall!$Z118:$AK118,0)","v":{"$error":"#N/A"}},{"$f":"MATCH(W$4,Millwall!$Z118:$AK118,0)","v":{"$error":"#N/A"}},{"$f":"MATCH(X$4,Millwall!$Z118:$AK118,0)","v":{"$error":"#N/A"}},{"$f":"MATCH(Y$4,Millwall!$Z118:$AK118,0)","v":{"$error":"#N/A"}},{"$f":"MATCH(Z$4,Millwall!$Z118:$AK118,0)","v":{"$error":"#N/A"}},{"$f":"MATCH(AA$4,Millwall!$Z118:$AK118,0)","v":{"$error":"#N/A"}},{"$f":"MATCH(AB$4,Millwall!$Z118:$AK118,0)","v":{"$error":"#N/A"}},{"$f":"MATCH(AC$4,Millwall!$Z118:$AK118,0)","v":{"$error":"#N/A"}},{"$f":"MATCH(AD$4,Millwall!$Z118:$AK118,0)","v":{"$error":"#N/A"}},{"$f":"MATCH(AE$4,Millwall!$Z118:$AK118,0)","v":{"$error":"#N/A"}},{"$f":"MATCH(AF$4,Millwall!$Z118:$AK118,0)","v":{"$error":"#N/A"}},{"$f":"MATCH(AG$4,Millwall!$Z118:$AK118,0)","v":{"$error":"#N/A"}},{"$f":"MATCH(AH$4,Millwall!$Z118:$AK118,0)","v":{"$error":"#N/A"}},{"$f":"MATCH(AI$4,Millwall!$Z118:$AK118,0)","v":{"$error":"#N/A"}},{"$f":"MATCH(AJ$4,Millwall!$Z118:$AK118,0)","v":{"$error":"#N/A"}},{"$f":"MATCH(AK$4,Millwall!$Z118:$AK118,0)","v":{"$error":"#N/A"}},{"$f":"MATCH(AL$4,Millwall!$Z118:$AK118,0)","v":{"$error":"#N/A"}},{"$f":"MATCH(AM$4,Millwall!$Z118:$AK118,0)","v":{"$error":"#N/A"}},{"$f":"MATCH(AN$4,Millwall!$Z118:$AK118,0)","v":{"$error":"#N/A"}},{"$f":"MATCH(AO$4,Millwall!$Z118:$AK118,0)","v":{"$error":"#N/A"}},{"$f":"MATCH(AP$4,Millwall!$Z118:$AK118,0)","v":{"$error":"#N/A"}},{"$f":"MATCH(AQ$4,Millwall!$Z118:$AK118,0)","v":{"$error":"#N/A"}},{"$f":"MATCH(AR$4,Millwall!$AD118:$AO118,0)","v":{"$error":"#N/A"}},null,null,null,null,null,{"$f":"MATCH(AX$3,Millwall!$Z118:$AK118,0)","v":{"$error":"#N/A"}},{"$f":"MATCH(AY$3,Millwall!$Z118:$AK118,0)","v":{"$error":"#N/A"}},{"$f":"MATCH(AZ$3,Millwall!$Z118:$AK118,0)","v":{"$error":"#N/A"}},{"$f":"MATCH(BA$3,Millwall!$Z118:$AK118,0)","v":{"$error":"#N/A"}},{"$f":"MATCH(BB$3,Millwall!$Z118:$AK118,0)","v":{"$error":"#N/A"}},{"$f":"MATCH(BC$3,Millwall!$Z118:$AK118,0)","v":{"$error":"#N/A"}},{"$f":"MATCH(BD$3,Millwall!$Z118:$AK118,0)","v":{"$error":"#N/A"}},{"$f":"MATCH(BE$3,Millwall!$Z118:$AK118,0)","v":{"$error":"#N/A"}},{"$f":"MATCH(BF$3,Millwall!$Z118:$AK118,0)","v":{"$error":"#N/A"}},{"$f":"MATCH(BG$3,Millwall!$Z118:$AK118,0)","v":{"$error":"#N/A"}},{"$f":"MATCH(BH$3,Millwall!$Z118:$AK118,0)","v":{"$error":"#N/A"}},{"$f":"MATCH(BI$3,Millwall!$Z118:$AK118,0)","v":{"$error":"#N/A"}},{"$f":"MATCH(BJ$3,Millwall!$Z118:$AK118,0)","v":{"$error":"#N/A"}},{"$f":"MATCH(BK$3,Millwall!$Z118:$AK118,0)","v":{"$error":"#N/A"}},{"$f":"MATCH(BL$3,Millwall!$Z118:$AK118,0)","v":{"$error":"#N/A"}},{"$f":"MATCH(BM$3,Millwall!$Z118:$AK118,0)","v":{"$error":"#N/A"}},{"$f":"MATCH(BN$3,Millwall!$Z118:$AK118,0)","v":{"$error":"#N/A"}},{"$f":"MATCH(BO$3,Millwall!$Z118:$AK118,0)","v":{"$error":"#N/A"}},{"$f":"MATCH(BP$3,Millwall!$Z118:$AK118,0)","v":{"$error":"#N/A"}},{"$f":"MATCH(BQ$3,Millwall!$Z118:$AK118,0)","v":{"$error":"#N/A"}},{"$f":"MATCH(BR$3,Millwall!$Z118:$AK118,0)","v":{"$error":"#N/A"}},{"$f":"MATCH(BS$3,Millwall!$Z118:$AK118,0)","v":{"$error":"#N/A"}},{"$f":"MATCH(BT$3,Millwall!$Z118:$AK118,0)","v":{"$error":"#N/A"}},{"$f":"MATCH(BU$3,Millwall!$Z118:$AK118,0)","v":{"$error":"#N/A"}},{"$f":"MATCH(BV$3,Millwall!$Z118:$AK118,0)","v":{"$error":"#N/A"}},{"$f":"MATCH(BW$3,Millwall!$Z118:$AK118,0)","v":{"$error":"#N/A"}},{"$f":"MATCH(BX$3,Millwall!$Z118:$AK118,0)","v":{"$error":"#N/A"}},{"$f":"MATCH(BY$3,Millwall!$Z118:$AK118,0)","v":{"$error":"#N/A"}},{"$f":"MATCH(BZ$3,Millwall!$Z118:$AK118,0)","v":{"$error":"#N/A"}},{"$f":"MATCH(CA$3,Millwall!$Z118:$AK118,0)","v":{"$error":"#N/A"}},{"$f":"MATCH(CB$3,Millwall!$Z118:$AK118,0)","v":{"$error":"#N/A"}},{"$f":"MATCH(CC$3,Millwall!$Z118:$AK118,0)","v":{"$error":"#N/A"}},{"$f":"MATCH(CD$3,Millwall!$Z118:$AK118,0)","v":{"$error":"#N/A"}},{"$f":"MATCH(CE$3,Millwall!$Z118:$AK118,0)","v":{"$error":"#N/A"}}]
[null,null,1,45,null,{"$f":"Millwall!V119","v":"00:00:00"},null,{"$f":"Millwall!W119","v":"00:00:00"},{"$f":"Millwall!X119","v":"00:00:00"},{"$f":"Millwall!Y119","v":0},{"$f":"MATCH(K$4,Millwall!$Z119:$AK119,0)","v":{"$error":"#N/A"}},{"$f":"MATCH(L$4,Millwall!$Z119:$AK119,0)","v":{"$error":"#N/A"}},{"$f":"MATCH(M$4,Millwall!$Z119:$AK119,0)","v":{"$error":"#N/A"}},{"$f":"MATCH(N$4,Millwall!$Z119:$AK119,0)","v":{"$error":"#N/A"}},{"$f":"MATCH(O$4,Millwall!$Z119:$AK119,0)","v":{"$error":"#N/A"}},{"$f":"MATCH(P$4,Millwall!$Z119:$AK119,0)","v":{"$error":"#N/A"}},{"$f":"MATCH(Q$4,Millwall!$Z119:$AK119,0)","v":{"$error":"#N/A"}},{"$f":"MATCH(R$4,Millwall!$Z119:$AK119,0)","v":{"$error":"#N/A"}},{"$f":"MATCH(S$4,Millwall!$Z119:$AK119,0)","v":{"$error":"#N/A"}},{"$f":"MATCH(T$4,Millwall!$Z119:$AK119,0)","v":{"$error":"#N/A"}},{"$f":"MATCH(U$4,Millwall!$Z119:$AK119,0)","v":{"$error":"#N/A"}},{"$f":"MATCH(V$4,Millwall!$Z119:$AK119,0)","v":{"$error":"#N/A"}},{"$f":"MATCH(W$4,Millwall!$Z119:$AK119,0)","v":{"$error":"#N/A"}},{"$f":"MATCH(X$4,Millwall!$Z119:$AK119,0)","v":{"$error":"#N/A"}},{"$f":"MATCH(Y$4,Millwall!$Z119:$AK119,0)","v":{"$error":"#N/A"}},{"$f":"MATCH(Z$4,Millwall!$Z119:$AK119,0)","v":{"$error":"#N/A"}},{"$f":"MATCH(AA$4,Millwall!$Z119:$AK119,0)","v":{"$error":"#N/A"}},{"$f":"MATCH(AB$4,Millwall!$Z119:$AK119,0)","v":{"$error":"#N/A"}},{"$f":"MATCH(AC$4,Millwall!$Z119:$AK119,0)","v":{"$error":"#N/A"}},{"$f":"MATCH(AD$4,Millwall!$Z119:$AK119,0)","v":{"$error":"#N/A"}},{"$f":"MATCH(AE$4,Millwall!$Z119:$AK119,0)","v":{"$error":"#N/A"}},{"$f":"MATCH(AF$4,Millwall!$Z119:$AK119,0)","v":{"$error":"#N/A"}},{"$f":"MATCH(AG$4,Millwall!$Z119:$AK119,0)","v":{"$error":"#N/A"}},{"$f":"MATCH(AH$4,Millwall!$Z119:$AK119,0)","v":{"$error":"#N/A"}},{"$f":"MATCH(AI$4,Millwall!$Z119:$AK119,0)","v":{"$error":"#N/A"}},{"$f":"MATCH(AJ$4,Millwall!$Z119:$AK119,0)","v":{"$error":"#N/A"}},{"$f":"MATCH(AK$4,Millwall!$Z119:$AK119,0)","v":{"$error":"#N/A"}},{"$f":"MATCH(AL$4,Millwall!$Z119:$AK119,0)","v":{"$error":"#N/A"}},{"$f":"MATCH(AM$4,Millwall!$Z119:$AK119,0)","v":{"$error":"#N/A"}},{"$f":"MATCH(AN$4,Millwall!$Z119:$AK119,0)","v":{"$error":"#N/A"}},{"$f":"MATCH(AO$4,Millwall!$Z119:$AK119,0)","v":{"$error":"#N/A"}},{"$f":"MATCH(AP$4,Millwall!$Z119:$AK119,0)","v":{"$error":"#N/A"}},{"$f":"MATCH(AQ$4,Millwall!$Z119:$AK119,0)","v":{"$error":"#N/A"}},{"$f":"MATCH(AR$4,Millwall!$AD119:$AO119,0)","v":{"$error":"#N/A"}},null,null,null,null,null,{"$f":"MATCH(AX$3,Millwall!$Z119:$AK119,0)","v":{"$error":"#N/A"}},{"$f":"MATCH(AY$3,Millwall!$Z119:$AK119,0)","v":{"$error":"#N/A"}},{"$f":"MATCH(AZ$3,Millwall!$Z119:$AK119,0)","v":{"$error":"#N/A"}},{"$f":"MATCH(BA$3,Millwall!$Z119:$AK119,0)","v":{"$error":"#N/A"}},{"$f":"MATCH(BB$3,Millwall!$Z119:$AK119,0)","v":{"$error":"#N/A"}},{"$f":"MATCH(BC$3,Millwall!$Z119:$AK119,0)","v":{"$error":"#N/A"}},{"$f":"MATCH(BD$3,Millwall!$Z119:$AK119,0)","v":{"$error":"#N/A"}},{"$f":"MATCH(BE$3,Millwall!$Z119:$AK119,0)","v":{"$error":"#N/A"}},{"$f":"MATCH(BF$3,Millwall!$Z119:$AK119,0)","v":{"$error":"#N/A"}},{"$f":"MATCH(BG$3,Millwall!$Z119:$AK119,0)","v":{"$error":"#N/A"}},{"$f":"MATCH(BH$3,Millwall!$Z119:$AK119,0)","v":{"$error":"#N/A"}},{"$f":"MATCH(BI$3,Millwall!$Z119:$AK119,0)","v":{"$error":"#N/A"}},{"$f":"MATCH(BJ$3,Millwall!$Z119:$AK119,0)","v":{"$error":"#N/A"}},{"$f":"MATCH(BK$3,Millwall!$Z119:$AK119,0)","v":{"$error":"#N/A"}},{"$f":"MATCH(BL$3,Millwall!$Z119:$AK119,0)","v":{"$error":"#N/A"}},{"$f":"MATCH(BM$3,Millwall!$Z119:$AK119,0)","v":{"$error":"#N/A"}},{"$f":"MATCH(BN$3,Millwall!$Z119:$AK119,0)","v":{"$error":"#N/A"}},{"$f":"MATCH(BO$3,Millwall!$Z119:$AK119,0)","v":{"$error":"#N/A"}},{"$f":"MATCH(BP$3,Millwall!$Z119:$AK119,0)","v":{"$error":"#N/A"}},{"$f":"MATCH(BQ$3,Millwall!$Z119:$AK119,0)","v":{"$error":"#N/A"}},{"$f":"MATCH(BR$3,Millwall!$Z119:$AK119,0)","v":{"$error":"#N/A"}},{"$f":"MATCH(BS$3,Millwall!$Z119:$AK119,0)","v":{"$error":"#N/A"}},{"$f":"MATCH(BT$3,Millwall!$Z119:$AK119,0)","v":{"$error":"#N/A"}},{"$f":"MATCH(BU$3,Millwall!$Z119:$AK119,0)","v":{"$error":"#N/A"}},{"$f":"MATCH(BV$3,Millwall!$Z119:$AK119,0)","v":{"$error":"#N/A"}},{"$f":"MATCH(BW$3,Millwall!$Z119:$AK119,0)","v":{"$error":"#N/A"}},{"$f":"MATCH(BX$3,Millwall!$Z119:$AK119,0)","v":{"$error":"#N/A"}},{"$f":"MATCH(BY$3,Millwall!$Z119:$AK119,0)","v":{"$error":"#N/A"}},{"$f":"MATCH(BZ$3,Millwall!$Z119:$AK119,0)","v":{"$error":"#N/A"}},{"$f":"MATCH(CA$3,Millwall!$Z119:$AK119,0)","v":{"$error":"#N/A"}},{"$f":"MATCH(CB$3,Millwall!$Z119:$AK119,0)","v":{"$error":"#N/A"}},{"$f":"MATCH(CC$3,Millwall!$Z119:$AK119,0)","v":{"$error":"#N/A"}},{"$f":"MATCH(CD$3,Millwall!$Z119:$AK119,0)","v":{"$error":"#N/A"}},{"$f":"MATCH(CE$3,Millwall!$Z119:$AK119,0)","v":{"$error":"#N/A"}}]
[null,null,{"$f":"IF(J50=0,1,0)","v":1},46,null,{"$f":"Millwall!V120","v":"00:00:00"},null,{"$f":"Millwall!W120","v":"00:00:00"},{"$f":"Millwall!X120","v":"00:00:00"},{"$f":"Millwall!Y120","v":0},{"$f":"MATCH(K$4,Millwall!$Z120:$AK120,0)","v":{"$error":"#N/A"}},{"$f":"MATCH(L$4,Millwall!$Z120:$AK120,0)","v":{"$error":"#N/A"}},{"$f":"MATCH(M$4,Millwall!$Z120:$AK120,0)","v":{"$error":"#N/A"}},{"$f":"MATCH(N$4,Millwall!$Z120:$AK120,0)","v":{"$error":"#N/A"}},{"$f":"MATCH(O$4,Millwall!$Z120:$AK120,0)","v":{"$error":"#N/A"}},{"$f":"MATCH(P$4,Millwall!$Z120:$AK120,0)","v":{"$error":"#N/A"}},{"$f":"MATCH(Q$4,Millwall!$Z120:$AK120,0)","v":{"$error":"#N/A"}},{"$f":"MATCH(R$4,Millwall!$Z120:$AK120,0)","v":{"$error":"#N/A"}},{"$f":"MATCH(S$4,Millwall!$Z120:$AK120,0)","v":{"$error":"#N/A"}},{"$f":"MATCH(T$4,Millwall!$Z120:$AK120,0)","v":{"$error":"#N/A"}},{"$f":"MATCH(U$4,Millwall!$Z120:$AK120,0)","v":{"$error":"#N/A"}},{"$f":"MATCH(V$4,Millwall!$Z120:$AK120,0)","v":{"$error":"#N/A"}},{"$f":"MATCH(W$4,Millwall!$Z120:$AK120,0)","v":{"$error":"#N/A"}},{"$f":"MATCH(X$4,Millwall!$Z120:$AK120,0)","v":{"$error":"#N/A"}},{"$f":"MATCH(Y$4,Millwall!$Z120:$AK120,0)","v":{"$error":"#N/A"}},{"$f":"MATCH(Z$4,Millwall!$Z120:$AK120,0)","v":{"$error":"#N/A"}},{"$f":"MATCH(AA$4,Millwall!$Z120:$AK120,0)","v":{"$error":"#N/A"}},{"$f":"MATCH(AB$4,Millwall!$Z120:$AK120,0)","v":{"$error":"#N/A"}},{"$f":"MATCH(AC$4,Millwall!$Z120:$AK120,0)","v":{"$error":"#N/A"}},{"$f":"MATCH(AD$4,Millwall!$Z120:$AK120,0)","v":{"$error":"#N/A"}},{"$f":"MATCH(AE$4,Millwall!$Z120:$AK120,0)","v":{"$error":"#N/A"}},{"$f":"MATCH(AF$4,Millwall!$Z120:$AK120,0)","v":{"$error":"#N/A"}},{"$f":"MATCH(AG$4,Millwall!$Z120:$AK120,0)","v":{"$error":"#N/A"}},{"$f":"MATCH(AH$4,Millwall!$Z120:$AK120,0)","v":{"$error":"#N/A"}},{"$f":"MATCH(AI$4,Millwall!$Z120:$AK120,0)","v":{"$error":"#N/A"}},{"$f":"MATCH(AJ$4,Millwall!$Z120:$AK120,0)","v":{"$error":"#N/A"}},{"$f":"MATCH(AK$4,Millwall!$Z120:$AK120,0)","v":{"$error":"#N/A"}},{"$f":"MATCH(AL$4,Millwall!$Z120:$AK120,0)","v":{"$error":"#N/A"}},{"$f":"MATCH(AM$4,Millwall!$Z120:$AK120,0)","v":{"$error":"#N/A"}},{"$f":"MATCH(AN$4,Millwall!$Z120:$AK120,0)","v":{"$error":"#N/A"}},{"$f":"MATCH(AO$4,Millwall!$Z120:$AK120,0)","v":{"$error":"#N/A"}},{"$f":"MATCH(AP$4,Millwall!$Z120:$AK120,0)","v":{"$error":"#N/A"}},{"$f":"MATCH(AQ$4,Millwall!$Z120:$AK120,0)","v":{"$error":"#N/A"}},{"$f":"MATCH(AR$4,Millwall!$AD120:$AO120,0)","v":{"$error":"#N/A"}},null,null,null,null,null,{"$f":"MATCH(AX$3,Millwall!$Z120:$AK120,0)","v":{"$error":"#N/A"}},{"$f":"MATCH(AY$3,Millwall!$Z120:$AK120,0)","v":{"$error":"#N/A"}},{"$f":"MATCH(AZ$3,Millwall!$Z120:$AK120,0)","v":{"$error":"#N/A"}},{"$f":"MATCH(BA$3,Millwall!$Z120:$AK120,0)","v":{"$error":"#N/A"}},{"$f":"MATCH(BB$3,Millwall!$Z120:$AK120,0)","v":{"$error":"#N/A"}},{"$f":"MATCH(BC$3,Millwall!$Z120:$AK120,0)","v":{"$error":"#N/A"}},{"$f":"MATCH(BD$3,Millwall!$Z120:$AK120,0)","v":{"$error":"#N/A"}},{"$f":"MATCH(BE$3,Millwall!$Z120:$AK120,0)","v":{"$error":"#N/A"}},{"$f":"MATCH(BF$3,Millwall!$Z120:$AK120,0)","v":{"$error":"#N/A"}},{"$f":"MATCH(BG$3,Millwall!$Z120:$AK120,0)","v":{"$error":"#N/A"}},{"$f":"MATCH(BH$3,Millwall!$Z120:$AK120,0)","v":{"$error":"#N/A"}},{"$f":"MATCH(BI$3,Millwall!$Z120:$AK120,0)","v":{"$error":"#N/A"}},{"$f":"MATCH(BJ$3,Millwall!$Z120:$AK120,0)","v":{"$error":"#N/A"}},{"$f":"MATCH(BK$3,Millwall!$Z120:$AK120,0)","v":{"$error":"#N/A"}},{"$f":"MATCH(BL$3,Millwall!$Z120:$AK120,0)","v":{"$error":"#N/A"}},{"$f":"MATCH(BM$3,Millwall!$Z120:$AK120,0)","v":{"$error":"#N/A"}},{"$f":"MATCH(BN$3,Millwall!$Z120:$AK120,0)","v":{"$error":"#N/A"}},{"$f":"MATCH(BO$3,Millwall!$Z120:$AK120,0)","v":{"$error":"#N/A"}},{"$f":"MATCH(BP$3,Millwall!$Z120:$AK120,0)","v":{"$error":"#N/A"}},{"$f":"MATCH(BQ$3,Millwall!$Z120:$AK120,0)","v":{"$error":"#N/A"}},{"$f":"MATCH(BR$3,Millwall!$Z120:$AK120,0)","v":{"$error":"#N/A"}},{"$f":"MATCH(BS$3,Millwall!$Z120:$AK120,0)","v":{"$error":"#N/A"}},{"$f":"MATCH(BT$3,Millwall!$Z120:$AK120,0)","v":{"$error":"#N/A"}},{"$f":"MATCH(BU$3,Millwall!$Z120:$AK120,0)","v":{"$error":"#N/A"}},{"$f":"MATCH(BV$3,Millwall!$Z120:$AK120,0)","v":{"$error":"#N/A"}},{"$f":"MATCH(BW$3,Millwall!$Z120:$AK120,0)","v":{"$error":"#N/A"}},{"$f":"MATCH(BX$3,Millwall!$Z120:$AK120,0)","v":{"$error":"#N/A"}},{"$f":"MATCH(BY$3,Millwall!$Z120:$AK120,0)","v":{"$error":"#N/A"}},{"$f":"MATCH(BZ$3,Millwall!$Z120:$AK120,0)","v":{"$error":"#N/A"}},{"$f":"MATCH(CA$3,Millwall!$Z120:$AK120,0)","v":{"$error":"#N/A"}},{"$f":"MATCH(CB$3,Millwall!$Z120:$AK120,0)","v":{"$error":"#N/A"}},{"$f":"MATCH(CC$3,Millwall!$Z120:$AK120,0)","v":{"$error":"#N/A"}},{"$f":"MATCH(CD$3,Millwall!$Z120:$AK120,0)","v":{"$error":"#N/A"}},{"$f":"MATCH(CE$3,Millwall!$Z120:$AK120,0)","v":{"$error":"#N/A"}}]
[]
[null,null,null,null,null,null,null,null,null,"Total League Apperances",{"$f":"COUNT(K5:K50)-K53-K54","v":39},{"$f":"COUNT(L5:L50)-L53-L54","v":15},6,25,6,34,13,9,42,39,0,32,22,23,11,36,9,14,33,26,28,0,0,0,{"$f":"COUNT(AI5:AI50)-AI53","v":0},0,0,0,0,0,0,0,0,0]
[null,null,null,null,null,null,null,null,null,"Total League Substitute Appearences ",{"$f":"AX$53","v":0},2,0,0,0,2,1,6,0,0,0,3,0,0,1,0,9,0,0,0,0,0,0,0,{"$f":"BV53","v":0},0,0,0,0,0,0,0,0,0,null,null,null,null,null,{"$f":"COUNTIF(AX5:AX50,12)","v":0},{"$f":"COUNTIF(AY5:AY50,12)","v":2},0,0,0,2,1,6,0,0,0,3,0,0,1,0,9,0,0,0,0,0,0,0,0,0,0,0,0,0,0,0,0,0]
[null,null,null,null,null,null,null,null,null,"Non Playing Substitute",{"$f":"COUNTIF(K5:K50,12)-K53","v":0},{"$f":"COUNTIF(L5:L50,12)-L53","v":4},0,0,0,0,0,5,0,0,0,4,0,0,1,0,3,0,0,1,0,0,0,0,0,0,0,0,0,0,0,0,0,0]
[null,null,null,null,null,null,null,null,null,"Goals",{"$f":"Millwall!$BZ9","v":1},{"$f":"Millwall!$BZ10","v":4},{"$f":"Millwall!$BZ11","v":0},{"$f":"Millwall!$BZ12","v":8},{"$f":"Millwall!$BZ13","v":0},{"$f":"Millwall!$BZ14","v":2},{"$f":"Millwall!$BZ15","v":1},{"$f":"Millwall!$BZ16","v":1},{"$f":"Millwall!$BZ17","v":14},{"$f":"Millwall!$BZ18","v":6},{"$f":"Millwall!$BZ19","v":0},{"$f":"Millwall!$BZ20","v":3},{"$f":"Millwall!$BZ21","v":1},{"$f":"Millwall!$BZ22","v":0},{"$f":"Millwall!$BZ23","v":1},{"$f":"Millwall!$BZ24","v":0},{"$f":"Millwall!$BZ25","v":4},{"$f":"Millwall!$BZ26","v":0},{"$f":"Millwall!$BZ27","v":1},{"$f":"Millwall!$BZ28","v":3},{"$f":"Millwall!$BZ29","v":12},{"$f":"Millwall!$BZ30","v":0},{"$f":"Millwall!$BZ31","v":2},{"$f":"Millwall!$BZ32","v":0},{"$f":"Millwall!$BZ33","v":64},{"$f":"Millwall!$BZ34","v":0},{"$f":"Millwall!$BZ35","v":0},{"$f":"Millwall!$BZ36","v":0},{"$f":"Millwall!$BZ37","v":0},{"$f":"Millwall!$BZ38","v":0},{"$f":"Millwall!$BZ39","v":0},{"$f":"Millwall!$BZ40","v":0},{"$f":"Millwall!$BZ41","v":0},{"$f":"Millwall!$BZ42","v":0}]
[null,null,0]
[null,null,null,null,null,null,null,"FA Cup"]
[null,null,{"$f":"IF(J58=0,1,0)","v":0},3,null,{"$f":"Millwall!V126","v":"1986-01-04"},null,{"$f":"Millwall!W126","v":"Wimbledon"},{"$f":"Millwall!X126","v":"(H)"},{"$f":"Millwall!Y126","v":"W 3-1"},{"$f":"MATCH(K$4,Millwall!$Z126:$AK126,0)","v":4},{"$f":"MATCH(L$4,Millwall!$Z126:$AK126,0)","v":12},{"$f":"MATCH(M$4,Millwall!$Z126:$AK126,0)","v":{"$error":"#N/A"}},{"$f":"MATCH(N$4,Millwall!$Z126:$AK126,0)","v":9},{"$f":"MATCH(O$4,Millwall!$Z126:$AK126,0)","v":{"$error":"#N/A"}},{"$f":"MATCH(P$4,Millwall!$Z126:$AK126,0)","v":3},{"$f":"MATCH(Q$4,Millwall!$Z126:$AK126,0)","v":{"$error":"#N/A"}},{"$f":"MATCH(R$4,Millwall!$Z126:$AK126,0)","v":{"$error":"#N/A"}},{"$f":"MATCH(S$4,Millwall!$Z126:$AK126,0)","v":10},{"$f":"MATCH(T$4,Millwall!$Z126:$AK126,0)","v":7},{"$f":"MATCH(U$4,Millwall!$Z126:$AK126,0)","v":{"$error":"#N/A"}},{"$f":"MATCH(V$4,Millwall!$Z126:$AK126,0)","v":{"$error":"#N/A"}},{"$f":"MATCH(W$4,Millwall!$Z126:$AK126,0)","v":6},{"$f":"MATCH(X$4,Millwall!$Z126:$AK126,0)","v":11},{"$f":"MATCH(Y$4,Millwall!$Z126:$AK126,0)","v":{"$error":"#N/A"}},{"$f":"MATCH(Z$4,Millwall!$Z126:$AK126,0)","v":1},{"$f":"MATCH(AA$4,Millwall!$Z126:$AK126,0)","v":{"$error":"#N/A"}},{"$f":"MATCH(AB$4,Millwall!$Z126:$AK126,0)","v":{"$error":"#N/A"}},{"$f":"MATCH(AC$4,Millwall!$Z126:$AK126,0)","v":2},{"$f":"MATCH(AD$4,Millwall!$Z126:$AK126,0)","v":5},{"$f":"MATCH(AE$4,Millwall!$Z126:$AK126,0)","v":8},{"$f":"MATCH(AF$4,Millwall!$Z126:$AK126,0)","v":{"$error":"#N/A"}},{"$f":"MATCH(AG$4,Millwall!$Z126:$AK126,0)","v":{"$error":"#N/A"}},{"$f":"MATCH(AH$4,Millwall!$Z126:$AK126,0)","v":{"$error":"#N/A"}},{"$f":"MATCH(AI$4,Millwall!$Z126:$AK126,0)","v":{"$error":"#N/A"}},{"$f":"MATCH(AJ$4,Millwall!$Z126:$AK126,0)","v":{"$error":"#N/A"}},{"$f":"MATCH(AK$4,Millwall!$Z126:$AK126,0)","v":{"$error":"#N/A"}},{"$f":"MATCH(AL$4,Millwall!$Z126:$AK126,0)","v":{"$error":"#N/A"}},{"$f":"MATCH(AM$4,Millwall!$Z126:$AK126,0)","v":{"$error":"#N/A"}},{"$f":"MATCH(AN$4,Millwall!$Z126:$AK126,0)","v":{"$error":"#N/A"}},{"$f":"MATCH(AO$4,Millwall!$Z126:$AK126,0)","v":{"$error":"#N/A"}},{"$f":"MATCH(AP$4,Millwall!$Z126:$AK126,0)","v":{"$error":"#N/A"}},{"$f":"MATCH(AQ$4,Millwall!$Z126:$AK126,0)","v":{"$error":"#N/A"}},{"$f":"MATCH(AR$4,Millwall!$Z126:$AK126,0)","v":{"$error":"#N/A"}},null,null,null,null,null,{"$f":"MATCH(AX$3,Millwall!$Z126:$AK126,0)","v":{"$error":"#N/A"}},{"$f":"MATCH(AY$3,Millwall!$Z126:$AK126,0)","v":12},{"$f":"MATCH(AZ$3,Millwall!$Z126:$AK126,0)","v":{"$error":"#N/A"}},{"$f":"MATCH(BA$3,Millwall!$Z126:$AK126,0)","v":{"$error":"#N/A"}},{"$f":"MATCH(BB$3,Millwall!$Z126:$AK126,0)","v":{"$error":"#N/A"}},{"$f":"MATCH(BC$3,Millwall!$Z126:$AK126,0)","v":{"$error":"#N/A"}},{"$f":"MATCH(BD$3,Millwall!$Z126:$AK126,0)","v":{"$error":"#N/A"}},{"$f":"MATCH(BE$3,Millwall!$Z126:$AK126,0)","v":{"$error":"#N/A"}},{"$f":"MATCH(BF$3,Millwall!$Z126:$AK126,0)","v":{"$error":"#N/A"}},{"$f":"MATCH(BG$3,Millwall!$Z126:$AK126,0)","v":{"$error":"#N/A"}},{"$f":"MATCH(BH$3,Millwall!$Z126:$AK126,0)","v":{"$error":"#N/A"}},{"$f":"MATCH(BI$3,Millwall!$Z126:$AK126,0)","v":{"$error":"#N/A"}},{"$f":"MATCH(BJ$3,Millwall!$Z126:$AK126,0)","v":{"$error":"#N/A"}},{"$f":"MATCH(BK$3,Millwall!$Z126:$AK126,0)","v":11},{"$f":"MATCH(BL$3,Millwall!$Z126:$AK126,0)","v":{"$error":"#N/A"}},{"$f":"MATCH(BM$3,Millwall!$Z126:$AK126,0)","v":{"$error":"#N/A"}},{"$f":"MATCH(BN$3,Millwall!$Z126:$AK126,0)","v":{"$error":"#N/A"}},{"$f":"MATCH(BO$3,Millwall!$Z126:$AK126,0)","v":{"$error":"#N/A"}},{"$f":"MATCH(BP$3,Millwall!$Z126:$AK126,0)","v":{"$error":"#N/A"}},{"$f":"MATCH(BQ$3,Millwall!$Z126:$AK126,0)","v":{"$error":"#N/A"}},{"$f":"MATCH(BR$3,Millwall!$Z126:$AK126,0)","v":{"$error":"#N/A"}},{"$f":"MATCH(BS$3,Millwall!$Z126:$AK126,0)","v":{"$error":"#N/A"}},{"$f":"MATCH(BT$3,Millwall!$Z126:$AK126,0)","v":{"$error":"#N/A"}},{"$f":"MATCH(BU$3,Millwall!$Z126:$AK126,0)","v":{"$error":"#N/A"}},{"$f":"MATCH(BV$3,Millwall!$Z126:$AK126,0)","v":{"$error":"#N/A"}},{"$f":"MATCH(BW$3,Millwall!$Z126:$AK126,0)","v":{"$error":"#N/A"}},{"$f":"MATCH(BX$3,Millwall!$Z126:$AK126,0)","v":{"$error":"#N/A"}},{"$f":"MATCH(BY$3,Millwall!$Z126:$AK126,0)","v":{"$error":"#N/A"}},{"$f":"MATCH(BZ$3,Millwall!$Z126:$AK126,0)","v":{"$error":"#N/A"}},{"$f":"MATCH(CA$3,Millwall!$Z126:$AK126,0)","v":{"$error":"#N/A"}},{"$f":"MATCH(CB$3,Millwall!$Z126:$AK126,0)","v":{"$error":"#N/A"}},{"$f":"MATCH(CC$3,Millwall!$Z126:$AK126,0)","v":{"$error":"#N/A"}},{"$f":"MATCH(CD$3,Millwall!$Z126:$AK126,0)","v":{"$error":"#N/A"}},{"$f":"MATCH(CE$3,Millwall!$Z126:$AK126,0)","v":{"$error":"#N/A"}}]
[null,null,0,4,null,{"$f":"Millwall!V127","v":"1986-01-25"},null,{"$f":"Millwall!W127","v":"Aston Villa"},{"$f":"Millwall!X127","v":"(A)"},{"$f":"Millwall!Y127","v":"D 1-1"},{"$f":"MATCH(K$4,Millwall!$Z127:$AK127,0)","v":{"$error":"#N/A"}},{"$f":"MATCH(L$4,Millwall!$Z127:$AK127,0)","v":{"$error":"#N/A"}},{"$f":"MATCH(M$4,Millwall!$Z127:$AK127,0)","v":{"$error":"#N/A"}},{"$f":"MATCH(N$4,Millwall!$Z127:$AK127,0)","v":9},{"$f":"MATCH(O$4,Millwall!$Z127:$AK127,0)","v":{"$error":"#N/A"}},{"$f":"MATCH(P$4,Millwall!$Z127:$AK127,0)","v":3},{"$f":"MATCH(Q$4,Millwall!$Z127:$AK127,0)","v":{"$error":"#N/A"}},{"$f":"MATCH(R$4,Millwall!$Z127:$AK127,0)","v":12},{"$f":"MATCH(S$4,Millwall!$Z127:$AK127,0)","v":10},{"$f":"MATCH(T$4,Millwall!$Z127:$AK127,0)","v":7},{"$f":"MATCH(U$4,Millwall!$Z127:$AK127,0)","v":{"$error":"#N/A"}},{"$f":"MATCH(V$4,Millwall!$Z127:$AK127,0)","v":4},{"$f":"MATCH(W$4,Millwall!$Z127:$AK127,0)","v":6},{"$f":"MATCH(X$4,Millwall!$Z127:$AK127,0)","v":11},{"$f":"MATCH(Y$4,Millwall!$Z127:$AK127,0)","v":{"$error":"#N/A"}},{"$f":"MATCH(Z$4,Millwall!$Z127:$AK127,0)","v":1},{"$f":"MATCH(AA$4,Millwall!$Z127:$AK127,0)","v":{"$error":"#N/A"}},{"$f":"MATCH(AB$4,Millwall!$Z127:$AK127,0)","v":{"$error":"#N/A"}},{"$f":"MATCH(AC$4,Millwall!$Z127:$AK127,0)","v":2},{"$f":"MATCH(AD$4,Millwall!$Z127:$AK127,0)","v":5},{"$f":"MATCH(AE$4,Millwall!$Z127:$AK127,0)","v":8},{"$f":"MATCH(AF$4,Millwall!$Z127:$AK127,0)","v":{"$error":"#N/A"}},{"$f":"MATCH(AG$4,Millwall!$Z127:$AK127,0)","v":{"$error":"#N/A"}},{"$f":"MATCH(AH$4,Millwall!$Z127:$AK127,0)","v":{"$error":"#N/A"}},{"$f":"MATCH(AI$4,Millwall!$Z127:$AK127,0)","v":{"$error":"#N/A"}},{"$f":"MATCH(AJ$4,Millwall!$Z127:$AK127,0)","v":{"$error":"#N/A"}},{"$f":"MATCH(AK$4,Millwall!$Z127:$AK127,0)","v":{"$error":"#N/A"}},{"$f":"MATCH(AL$4,Millwall!$Z127:$AK127,0)","v":{"$error":"#N/A"}},{"$f":"MATCH(AM$4,Millwall!$Z127:$AK127,0)","v":{"$error":"#N/A"}},{"$f":"MATCH(AN$4,Millwall!$Z127:$AK127,0)","v":{"$error":"#N/A"}},{"$f":"MATCH(AO$4,Millwall!$Z127:$AK127,0)","v":{"$error":"#N/A"}},{"$f":"MATCH(AP$4,Millwall!$Z127:$AK127,0)","v":{"$error":"#N/A"}},{"$f":"MATCH(AQ$4,Millwall!$Z127:$AK127,0)","v":{"$error":"#N/A"}},{"$f":"MATCH(AR$4,Millwall!$Z127:$AK127,0)","v":{"$error":"#N/A"}},null,null,null,null,null,{"$f":"MATCH(AX$3,Millwall!$Z127:$AK127,0)","v":{"$error":"#N/A"}},{"$f":"MATCH(AY$3,Millwall!$Z127:$AK127,0)","v":{"$error":"#N/A"}},{"$f":"MATCH(AZ$3,Millwall!$Z127:$AK127,0)","v":{"$error":"#N/A"}},{"$f":"MATCH(BA$3,Millwall!$Z127:$AK127,0)","v":{"$error":"#N/A"}},{"$f":"MATCH(BB$3,Millwall!$Z127:$AK127,0)","v":{"$error":"#N/A"}},{"$f":"MATCH(BC$3,Millwall!$Z127:$AK127,0)","v":{"$error":"#N/A"}},{"$f":"MATCH(BD$3,Millwall!$Z127:$AK127,0)","v":{"$error":"#N/A"}},{"$f":"MATCH(BE$3,Millwall!$Z127:$AK127,0)","v":{"$error":"#N/A"}},{"$f":"MATCH(BF$3,Millwall!$Z127:$AK127,0)","v":{"$error":"#N/A"}},{"$f":"MATCH(BG$3,Millwall!$Z127:$AK127,0)","v":{"$error":"#N/A"}},{"$f":"MATCH(BH$3,Millwall!$Z127:$AK127,0)","v":{"$error":"#N/A"}},{"$f":"MATCH(BI$3,Millwall!$Z127:$AK127,0)","v":{"$error":"#N/A"}},{"$f":"MATCH(BJ$3,Millwall!$Z127:$AK127,0)","v":{"$error":"#N/A"}},{"$f":"MATCH(BK$3,Millwall!$Z127:$AK127,0)","v":{"$error":"#N/A"}},{"$f":"MATCH(BL$3,Millwall!$Z127:$AK127,0)","v":{"$error":"#N/A"}},{"$f":"MATCH(BM$3,Millwall!$Z127:$AK127,0)","v":{"$error":"#N/A"}},{"$f":"MATCH(BN$3,Millwall!$Z127:$AK127,0)","v":{"$error":"#N/A"}},{"$f":"MATCH(BO$3,Millwall!$Z127:$AK127,0)","v":{"$error":"#N/A"}},{"$f":"MATCH(BP$3,Millwall!$Z127:$AK127,0)","v":{"$error":"#N/A"}},{"$f":"MATCH(BQ$3,Millwall!$Z127:$AK127,0)","v":{"$error":"#N/A"}},{"$f":"MATCH(BR$3,Millwall!$Z127:$AK127,0)","v":{"$error":"#N/A"}},{"$f":"MATCH(BS$3,Millwall!$Z127:$AK127,0)","v":{"$error":"#N/A"}},{"$f":"MATCH(BT$3,Millwall!$Z127:$AK127,0)","v":{"$error":"#N/A"}},{"$f":"MATCH(BU$3,Millwall!$Z127:$AK127,0)","v":{"$error":"#N/A"}},{"$f":"MATCH(BV$3,Millwall!$Z127:$AK127,0)","v":{"$error":"#N/A"}},{"$f":"MATCH(BW$3,Millwall!$Z127:$AK127,0)","v":{"$error":"#N/A"}},{"$f":"MATCH(BX$3,Millwall!$Z127:$AK127,0)","v":{"$error":"#N/A"}},{"$f":"MATCH(BY$3,Millwall!$Z127:$AK127,0)","v":{"$error":"#N/A"}},{"$f":"MATCH(BZ$3,Millwall!$Z127:$AK127,0)","v":{"$error":"#N/A"}},{"$f":"MATCH(CA$3,Millwall!$Z127:$AK127,0)","v":{"$error":"#N/A"}},{"$f":"MATCH(CB$3,Millwall!$Z127:$AK127,0)","v":{"$error":"#N/A"}},{"$f":"MATCH(CC$3,Millwall!$Z127:$AK127,0)","v":{"$error":"#N/A"}},{"$f":"MATCH(CD$3,Millwall!$Z127:$AK127,0)","v":{"$error":"#N/A"}},{"$f":"MATCH(CE$3,Millwall!$Z127:$AK127,0)","v":{"$error":"#N/A"}}]
[null,null,0,"4R",null,{"$f":"Millwall!V128","v":"1986-01-29"},null,{"$f":"Millwall!W128","v":"Aston Villa"},{"$f":"Millwall!X128","v":"(H)"},{"$f":"Millwall!Y128","v":"W 1-0"},{"$f":"MATCH(K$4,Millwall!$Z128:$AK128,0)","v":{"$error":"#N/A"}},{"$f":"MATCH(L$4,Millwall!$Z128:$AK128,0)","v":{"$error":"#N/A"}},{"$f":"MATCH(M$4,Millwall!$Z128:$AK128,0)","v":{"$error":"#N/A"}},{"$f":"MATCH(N$4,Millwall!$Z128:$AK128,0)","v":9},{"$f":"MATCH(O$4,Millwall!$Z128:$AK128,0)","v":{"$error":"#N/A"}},{"$f":"MATCH(P$4,Millwall!$Z128:$AK128,0)","v":3},{"$f":"MATCH(Q$4,Millwall!$Z128:$AK128,0)","v":{"$error":"#N/A"}},{"$f":"MATCH(R$4,Millwall!$Z128:$AK128,0)","v":12},{"$f":"MATCH(S$4,Millwall!$Z128:$AK128,0)","v":10},{"$f":"MATCH(T$4,Millwall!$Z128:$AK128,0)","v":7},{"$f":"MATCH(U$4,Millwall!$Z128:$AK128,0)","v":{"$error":"#N/A"}},{"$f":"MATCH(V$4,Millwall!$Z128:$AK128,0)","v":4},{"$f":"MATCH(W$4,Millwall!$Z128:$AK128,0)","v":6},{"$f":"MATCH(X$4,Millwall!$Z128:$AK128,0)","v":11},{"$f":"MATCH(Y$4,Millwall!$Z128:$AK128,0)","v":{"$error":"#N/A"}},{"$f":"MATCH(Z$4,Millwall!$Z128:$AK128,0)","v":1},{"$f":"MATCH(AA$4,Millwall!$Z128:$AK128,0)","v":{"$error":"#N/A"}},{"$f":"MATCH(AB$4,Millwall!$Z128:$AK128,0)","v":{"$error":"#N/A"}},{"$f":"MATCH(AC$4,Millwall!$Z128:$AK128,0)","v":2},{"$f":"MATCH(AD$4,Millwall!$Z128:$AK128,0)","v":5},{"$f":"MATCH(AE$4,Millwall!$Z128:$AK128,0)","v":8},{"$f":"MATCH(AF$4,Millwall!$Z128:$AK128,0)","v":{"$error":"#N/A"}},{"$f":"MATCH(AG$4,Millwall!$Z128:$AK128,0)","v":{"$error":"#N/A"}},{"$f":"MATCH(AH$4,Millwall!$Z128:$AK128,0)","v":{"$error":"#N/A"}},{"$f":"MATCH(AI$4,Millwall!$Z128:$AK128,0)","v":{"$error":"#N/A"}},{"$f":"MATCH(AJ$4,Millwall!$Z128:$AK128,0)","v":{"$error":"#N/A"}},{"$f":"MATCH(AK$4,Millwall!$Z128:$AK128,0)","v":{"$error":"#N/A"}},{"$f":"MATCH(AL$4,Millwall!$Z128:$AK128,0)","v":{"$error":"#N/A"}},{"$f":"MATCH(AM$4,Millwall!$Z128:$AK128,0)","v":{"$error":"#N/A"}},{"$f":"MATCH(AN$4,Millwall!$Z128:$AK128,0)","v":{"$error":"#N/A"}},{"$f":"MATCH(AO$4,Millwall!$Z128:$AK128,0)","v":{"$error":"#N/A"}},{"$f":"MATCH(AP$4,Millwall!$Z128:$AK128,0)","v":{"$error":"#N/A"}},{"$f":"MATCH(AQ$4,Millwall!$Z128:$AK128,0)","v":{"$error":"#N/A"}},{"$f":"MATCH(AR$4,Millwall!$Z128:$AK128,0)","v":{"$error":"#N/A"}},null,null,null,null,null,{"$f":"MATCH(AX$3,Millwall!$Z128:$AK128,0)","v":{"$error":"#N/A"}},{"$f":"MATCH(AY$3,Millwall!$Z128:$AK128,0)","v":{"$error":"#N/A"}},{"$f":"MATCH(AZ$3,Millwall!$Z128:$AK128,0)","v":{"$error":"#N/A"}},{"$f":"MATCH(BA$3,Millwall!$Z128:$AK128,0)","v":{"$error":"#N/A"}},{"$f":"MATCH(BB$3,Millwall!$Z128:$AK128,0)","v":{"$error":"#N/A"}},{"$f":"MATCH(BC$3,Millwall!$Z128:$AK128,0)","v":{"$error":"#N/A"}},{"$f":"MATCH(BD$3,Millwall!$Z128:$AK128,0)","v":{"$error":"#N/A"}},{"$f":"MATCH(BE$3,Millwall!$Z128:$AK128,0)","v":{"$error":"#N/A"}},{"$f":"MATCH(BF$3,Millwall!$Z128:$AK128,0)","v":{"$error":"#N/A"}},{"$f":"MATCH(BG$3,Millwall!$Z128:$AK128,0)","v":{"$error":"#N/A"}},{"$f":"MATCH(BH$3,Millwall!$Z128:$AK128,0)","v":{"$error":"#N/A"}},{"$f":"MATCH(BI$3,Millwall!$Z128:$AK128,0)","v":{"$error":"#N/A"}},{"$f":"MATCH(BJ$3,Millwall!$Z128:$AK128,0)","v":{"$error":"#N/A"}},{"$f":"MATCH(BK$3,Millwall!$Z128:$AK128,0)","v":{"$error":"#N/A"}},{"$f":"MATCH(BL$3,Millwall!$Z128:$AK128,0)","v":{"$error":"#N/A"}},{"$f":"MATCH(BM$3,Millwall!$Z128:$AK128,0)","v":{"$error":"#N/A"}},{"$f":"MATCH(BN$3,Millwall!$Z128:$AK128,0)","v":{"$error":"#N/A"}},{"$f":"MATCH(BO$3,Millwall!$Z128:$AK128,0)","v":{"$error":"#N/A"}},{"$f":"MATCH(BP$3,Millwall!$Z128:$AK128,0)","v":{"$error":"#N/A"}},{"$f":"MATCH(BQ$3,Millwall!$Z128:$AK128,0)","v":{"$error":"#N/A"}},{"$f":"MATCH(BR$3,Millwall!$Z128:$AK128,0)","v":{"$error":"#N/A"}},{"$f":"MATCH(BS$3,Millwall!$Z128:$AK128,0)","v":{"$error":"#N/A"}},{"$f":"MATCH(BT$3,Millwall!$Z128:$AK128,0)","v":{"$error":"#N/A"}},{"$f":"MATCH(BU$3,Millwall!$Z128:$AK128,0)","v":{"$error":"#N/A"}},{"$f":"MATCH(BV$3,Millwall!$Z128:$AK128,0)","v":{"$error":"#N/A"}},{"$f":"MATCH(BW$3,Millwall!$Z128:$AK128,0)","v":{"$error":"#N/A"}},{"$f":"MATCH(BX$3,Millwall!$Z128:$AK128,0)","v":{"$error":"#N/A"}},{"$f":"MATCH(BY$3,Millwall!$Z128:$AK128,0)","v":{"$error":"#N/A"}},{"$f":"MATCH(BZ$3,Millwall!$Z128:$AK128,0)","v":{"$error":"#N/A"}},{"$f":"MATCH(CA$3,Millwall!$Z128:$AK128,0)","v":{"$error":"#N/A"}},{"$f":"MATCH(CB$3,Millwall!$Z128:$AK128,0)","v":{"$error":"#N/A"}},{"$f":"MATCH(CC$3,Millwall!$Z128:$AK128,0)","v":{"$error":"#N/A"}},{"$f":"MATCH(CD$3,Millwall!$Z128:$AK128,0)","v":{"$error":"#N/A"}},{"$f":"MATCH(CE$3,Millwall!$Z128:$AK128,0)","v":{"$error":"#N/A"}}]
[null,null,0,5,null,{"$f":"Millwall!V129","v":"1986-02-15"},null,{"$f":"Millwall!W129","v":"Southampton"},{"$f":"Millwall!X129","v":"(A)"},{"$f":"Millwall!Y129","v":"D 0-0"},{"$f":"MATCH(K$4,Millwall!$Z129:$AK129,0)","v":4},{"$f":"MATCH(L$4,Millwall!$Z129:$AK129,0)","v":{"$error":"#N/A"}},{"$f":"MATCH(M$4,Millwall!$Z129:$AK129,0)","v":{"$error":"#N/A"}},{"$f":"MATCH(N$4,Millwall!$Z129:$AK129,0)","v":9},{"$f":"MATCH(O$4,Millwall!$Z129:$AK129,0)","v":{"$error":"#N/A"}},{"$f":"MATCH(P$4,Millwall!$Z129:$AK129,0)","v":3},{"$f":"MATCH(Q$4,Millwall!$Z129:$AK129,0)","v":{"$error":"#N/A"}},{"$f":"MATCH(R$4,Millwall!$Z129:$AK129,0)","v":12},{"$f":"MATCH(S$4,Millwall!$Z129:$AK129,0)","v":10},{"$f":"MATCH(T$4,Millwall!$Z129:$AK129,0)","v":7},{"$f":"MATCH(U$4,Millwall!$Z129:$AK129,0)","v":{"$error":"#N/A"}},{"$f":"MATCH(V$4,Millwall!$Z129:$AK129,0)","v":6},{"$f":"MATCH(W$4,Millwall!$Z129:$AK129,0)","v":{"$error":"#N/A"}},{"$f":"MATCH(X$4,Millwall!$Z129:$AK129,0)","v":11},{"$f":"MATCH(Y$4,Millwall!$Z129:$AK129,0)","v":{"$error":"#N/A"}},{"$f":"MATCH(Z$4,Millwall!$Z129:$AK129,0)","v":1},{"$f":"MATCH(AA$4,Millwall!$Z129:$AK129,0)","v":{"$error":"#N/A"}},{"$f":"MATCH(AB$4,Millwall!$Z129:$AK129,0)","v":{"$error":"#N/A"}},{"$f":"MATCH(AC$4,Millwall!$Z129:$AK129,0)","v":2},{"$f":"MATCH(AD$4,Millwall!$Z129:$AK129,0)","v":5},{"$f":"MATCH(AE$4,Millwall!$Z129:$AK129,0)","v":8},{"$f":"MATCH(AF$4,Millwall!$Z129:$AK129,0)","v":{"$error":"#N/A"}},{"$f":"MATCH(AG$4,Millwall!$Z129:$AK129,0)","v":{"$error":"#N/A"}},{"$f":"MATCH(AH$4,Millwall!$Z129:$AK129,0)","v":{"$error":"#N/A"}},{"$f":"MATCH(AI$4,Millwall!$Z129:$AK129,0)","v":{"$error":"#N/A"}},{"$f":"MATCH(AJ$4,Millwall!$Z129:$AK129,0)","v":{"$error":"#N/A"}},{"$f":"MATCH(AK$4,Millwall!$Z129:$AK129,0)","v":{"$error":"#N/A"}},{"$f":"MATCH(AL$4,Millwall!$Z129:$AK129,0)","v":{"$error":"#N/A"}},{"$f":"MATCH(AM$4,Millwall!$Z129:$AK129,0)","v":{"$error":"#N/A"}},{"$f":"MATCH(AN$4,Millwall!$Z129:$AK129,0)","v":{"$error":"#N/A"}},{"$f":"MATCH(AO$4,Millwall!$Z129:$AK129,0)","v":{"$error":"#N/A"}},{"$f":"MATCH(AP$4,Millwall!$Z129:$AK129,0)","v":{"$error":"#N/A"}},{"$f":"MATCH(AQ$4,Millwall!$Z129:$AK129,0)","v":{"$error":"#N/A"}},{"$f":"MATCH(AR$4,Millwall!$Z129:$AK129,0)","v":{"$error":"#N/A"}},null,null,null,null,null,{"$f":"MATCH(AX$3,Millwall!$Z129:$AK129,0)","v":{"$error":"#N/A"}},{"$f":"MATCH(AY$3,Millwall!$Z129:$AK129,0)","v":{"$error":"#N/A"}},{"$f":"MATCH(AZ$3,Millwall!$Z129:$AK129,0)","v":{"$error":"#N/A"}},{"$f":"MATCH(BA$3,Millwall!$Z129:$AK129,0)","v":{"$error":"#N/A"}},{"$f":"MATCH(BB$3,Millwall!$Z129:$AK129,0)","v":{"$error":"#N/A"}},{"$f":"MATCH(BC$3,Millwall!$Z129:$AK129,0)","v":{"$error":"#N/A"}},{"$f":"MATCH(BD$3,Millwall!$Z129:$AK129,0)","v":{"$error":"#N/A"}},{"$f":"MATCH(BE$3,Millwall!$Z129:$AK129,0)","v":{"$error":"#N/A"}},{"$f":"MATCH(BF$3,Millwall!$Z129:$AK129,0)","v":{"$error":"#N/A"}},{"$f":"MATCH(BG$3,Millwall!$Z129:$AK129,0)","v":{"$error":"#N/A"}},{"$f":"MATCH(BH$3,Millwall!$Z129:$AK129,0)","v":{"$error":"#N/A"}},{"$f":"MATCH(BI$3,Millwall!$Z129:$AK129,0)","v":{"$error":"#N/A"}},{"$f":"MATCH(BJ$3,Millwall!$Z129:$AK129,0)","v":{"$error":"#N/A"}},{"$f":"MATCH(BK$3,Millwall!$Z129:$AK129,0)","v":{"$error":"#N/A"}},{"$f":"MATCH(BL$3,Millwall!$Z129:$AK129,0)","v":{"$error":"#N/A"}},{"$f":"MATCH(BM$3,Millwall!$Z129:$AK129,0)","v":{"$error":"#N/A"}},{"$f":"MATCH(BN$3,Millwall!$Z129:$AK129,0)","v":{"$error":"#N/A"}},{"$f":"MATCH(BO$3,Millwall!$Z129:$AK129,0)","v":{"$error":"#N/A"}},{"$f":"MATCH(BP$3,Millwall!$Z129:$AK129,0)","v":{"$error":"#N/A"}},{"$f":"MATCH(BQ$3,Millwall!$Z129:$AK129,0)","v":{"$error":"#N/A"}},{"$f":"MATCH(BR$3,Millwall!$Z129:$AK129,0)","v":{"$error":"#N/A"}},{"$f":"MATCH(BS$3,Millwall!$Z129:$AK129,0)","v":{"$error":"#N/A"}},{"$f":"MATCH(BT$3,Millwall!$Z129:$AK129,0)","v":{"$error":"#N/A"}},{"$f":"MATCH(BU$3,Millwall!$Z129:$AK129,0)","v":{"$error":"#N/A"}},{"$f":"MATCH(BV$3,Millwall!$Z129:$AK129,0)","v":{"$error":"#N/A"}},{"$f":"MATCH(BW$3,Millwall!$Z129:$AK129,0)","v":{"$error":"#N/A"}},{"$f":"MATCH(BX$3,Millwall!$Z129:$AK129,0)","v":{"$error":"#N/A"}},{"$f":"MATCH(BY$3,Millwall!$Z129:$AK129,0)","v":{"$error":"#N/A"}},{"$f":"MATCH(BZ$3,Millwall!$Z129:$AK129,0)","v":{"$error":"#N/A"}},{"$f":"MATCH(CA$3,Millwall!$Z129:$AK129,0)","v":{"$error":"#N/A"}},{"$f":"MATCH(CB$3,Millwall!$Z129:$AK129,0)","v":{"$error":"#N/A"}},{"$f":"MATCH(CC$3,Millwall!$Z129:$AK129,0)","v":{"$error":"#N/A"}},{"$f":"MATCH(CD$3,Millwall!$Z129:$AK129,0)","v":{"$error":"#N/A"}},{"$f":"MATCH(CE$3,Millwall!$Z129:$AK129,0)","v":{"$error":"#N/A"}}]
[null,null,0,"5R",null,{"$f":"Millwall!V130","v":"1986-03-05"},null,{"$f":"Millwall!W130","v":"Southampton"},{"$f":"Millwall!X130","v":"(H)"},{"$f":"Millwall!Y130","v":"L 0-1"},{"$f":"MATCH(K$4,Millwall!$Z130:$AK130,0)","v":{"$error":"#N/A"}},{"$f":"MATCH(L$4,Millwall!$Z130:$AK130,0)","v":4},{"$f":"MATCH(M$4,Millwall!$Z130:$AK130,0)","v":{"$error":"#N/A"}},{"$f":"MATCH(N$4,Millwall!$Z130:$AK130,0)","v":9},{"$f":"MATCH(O$4,Millwall!$Z130:$AK130,0)","v":{"$error":"#N/A"}},{"$f":"MATCH(P$4,Millwall!$Z130:$AK130,0)","v":3},{"$f":"MATCH(Q$4,Millwall!$Z130:$AK130,0)","v":{"$error":"#N/A"}},{"$f":"MATCH(R$4,Millwall!$Z130:$AK130,0)","v":12},{"$f":"MATCH(S$4,Millwall!$Z130:$AK130,0)","v":10},{"$f":"MATCH(T$4,Millwall!$Z130:$AK130,0)","v":7},{"$f":"MATCH(U$4,Millwall!$Z130:$AK130,0)","v":{"$error":"#N/A"}},{"$f":"MATCH(V$4,Millwall!$Z130:$AK130,0)","v":6},{"$f":"MATCH(W$4,Millwall!$Z130:$AK130,0)","v":{"$error":"#N/A"}},{"$f":"MATCH(X$4,Millwall!$Z130:$AK130,0)","v":11},{"$f":"MATCH(Y$4,Millwall!$Z130:$AK130,0)","v":{"$error":"#N/A"}},{"$f":"MATCH(Z$4,Millwall!$Z130:$AK130,0)","v":1},{"$f":"MATCH(AA$4,Millwall!$Z130:$AK130,0)","v":{"$error":"#N/A"}},{"$f":"MATCH(AB$4,Millwall!$Z130:$AK130,0)","v":{"$error":"#N/A"}},{"$f":"MATCH(AC$4,Millwall!$Z130:$AK130,0)","v":2},{"$f":"MATCH(AD$4,Millwall!$Z130:$AK130,0)","v":5},{"$f":"MATCH(AE$4,Millwall!$Z130:$AK130,0)","v":8},{"$f":"MATCH(AF$4,Millwall!$Z130:$AK130,0)","v":{"$error":"#N/A"}},{"$f":"MATCH(AG$4,Millwall!$Z130:$AK130,0)","v":{"$error":"#N/A"}},{"$f":"MATCH(AH$4,Millwall!$Z130:$AK130,0)","v":{"$error":"#N/A"}},{"$f":"MATCH(AI$4,Millwall!$Z130:$AK130,0)","v":{"$error":"#N/A"}},{"$f":"MATCH(AJ$4,Millwall!$Z130:$AK130,0)","v":{"$error":"#N/A"}},{"$f":"MATCH(AK$4,Millwall!$Z130:$AK130,0)","v":{"$error":"#N/A"}},{"$f":"MATCH(AL$4,Millwall!$Z130:$AK130,0)","v":{"$error":"#N/A"}},{"$f":"MATCH(AM$4,Millwall!$Z130:$AK130,0)","v":{"$error":"#N/A"}},{"$f":"MATCH(AN$4,Millwall!$Z130:$AK130,0)","v":{"$error":"#N/A"}},{"$f":"MATCH(AO$4,Millwall!$Z130:$AK130,0)","v":{"$error":"#N/A"}},{"$f":"MATCH(AP$4,Millwall!$Z130:$AK130,0)","v":{"$error":"#N/A"}},{"$f":"MATCH(AQ$4,Millwall!$Z130:$AK130,0)","v":{"$error":"#N/A"}},{"$f":"MATCH(AR$4,Millwall!$Z130:$AK130,0)","v":{"$error":"#N/A"}},null,null,null,null,null,{"$f":"MATCH(AX$3,Millwall!$Z130:$AK130,0)","v":{"$error":"#N/A"}},{"$f":"MATCH(AY$3,Millwall!$Z130:$AK130,0)","v":{"$error":"#N/A"}},{"$f":"MATCH(AZ$3,Millwall!$Z130:$AK130,0)","v":{"$error":"#N/A"}},{"$f":"MATCH(BA$3,Millwall!$Z130:$AK130,0)","v":{"$error":"#N/A"}},{"$f":"MATCH(BB$3,Millwall!$Z130:$AK130,0)","v":{"$error":"#N/A"}},{"$f":"MATCH(BC$3,Millwall!$Z130:$AK130,0)","v":{"$error":"#N/A"}},{"$f":"MATCH(BD$3,Millwall!$Z130:$AK130,0)","v":{"$error":"#N/A"}},{"$f":"MATCH(BE$3,Millwall!$Z130:$AK130,0)","v":{"$error":"#N/A"}},{"$f":"MATCH(BF$3,Millwall!$Z130:$AK130,0)","v":{"$error":"#N/A"}},{"$f":"MATCH(BG$3,Millwall!$Z130:$AK130,0)","v":{"$error":"#N/A"}},{"$f":"MATCH(BH$3,Millwall!$Z130:$AK130,0)","v":{"$error":"#N/A"}},{"$f":"MATCH(BI$3,Millwall!$Z130:$AK130,0)","v":{"$error":"#N/A"}},{"$f":"MATCH(BJ$3,Millwall!$Z130:$AK130,0)","v":{"$error":"#N/A"}},{"$f":"MATCH(BK$3,Millwall!$Z130:$AK130,0)","v":{"$error":"#N/A"}},{"$f":"MATCH(BL$3,Millwall!$Z130:$AK130,0)","v":{"$error":"#N/A"}},{"$f":"MATCH(BM$3,Millwall!$Z130:$AK130,0)","v":{"$error":"#N/A"}},{"$f":"MATCH(BN$3,Millwall!$Z130:$AK130,0)","v":{"$error":"#N/A"}},{"$f":"MATCH(BO$3,Millwall!$Z130:$AK130,0)","v":{"$error":"#N/A"}},{"$f":"MATCH(BP$3,Millwall!$Z130:$AK130,0)","v":{"$error":"#N/A"}},{"$f":"MATCH(BQ$3,Millwall!$Z130:$AK130,0)","v":{"$error":"#N/A"}},{"$f":"MATCH(BR$3,Millwall!$Z130:$AK130,0)","v":{"$error":"#N/A"}},{"$f":"MATCH(BS$3,Millwall!$Z130:$AK130,0)","v":{"$error":"#N/A"}},{"$f":"MATCH(BT$3,Millwall!$Z130:$AK130,0)","v":{"$error":"#N/A"}},{"$f":"MATCH(BU$3,Millwall!$Z130:$AK130,0)","v":{"$error":"#N/A"}},{"$f":"MATCH(BV$3,Millwall!$Z130:$AK130,0)","v":{"$error":"#N/A"}},{"$f":"MATCH(BW$3,Millwall!$Z130:$AK130,0)","v":{"$error":"#N/A"}},{"$f":"MATCH(BX$3,Millwall!$Z130:$AK130,0)","v":{"$error":"#N/A"}},{"$f":"MATCH(BY$3,Millwall!$Z130:$AK130,0)","v":{"$error":"#N/A"}},{"$f":"MATCH(BZ$3,Millwall!$Z130:$AK130,0)","v":{"$error":"#N/A"}},{"$f":"MATCH(CA$3,Millwall!$Z130:$AK130,0)","v":{"$error":"#N/A"}},{"$f":"MATCH(CB$3,Millwall!$Z130:$AK130,0)","v":{"$error":"#N/A"}},{"$f":"MATCH(CC$3,Millwall!$Z130:$AK130,0)","v":{"$error":"#N/A"}},{"$f":"MATCH(CD$3,Millwall!$Z130:$AK130,0)","v":{"$error":"#N/A"}},{"$f":"MATCH(CE$3,Millwall!$Z130:$AK130,0)","v":{"$error":"#N/A"}}]
[null,null,1,5,null,{"$f":"Millwall!V131","v":"00:00:00"},null,{"$f":"Millwall!W131","v":"00:00:00"},{"$f":"Millwall!X131","v":"00:00:00"},{"$f":"Millwall!Y131","v":0},{"$f":"MATCH(K$4,Millwall!$Z131:$AK131,0)","v":{"$error":"#N/A"}},{"$f":"MATCH(L$4,Millwall!$Z131:$AK131,0)","v":{"$error":"#N/A"}},{"$f":"MATCH(M$4,Millwall!$Z131:$AK131,0)","v":{"$error":"#N/A"}},{"$f":"MATCH(N$4,Millwall!$Z131:$AK131,0)","v":{"$error":"#N/A"}},{"$f":"MATCH(O$4,Millwall!$Z131:$AK131,0)","v":{"$error":"#N/A"}},{"$f":"MATCH(P$4,Millwall!$Z131:$AK131,0)","v":{"$error":"#N/A"}},{"$f":"MATCH(Q$4,Millwall!$Z131:$AK131,0)","v":{"$error":"#N/A"}},{"$f":"MATCH(R$4,Millwall!$Z131:$AK131,0)","v":{"$error":"#N/A"}},{"$f":"MATCH(S$4,Millwall!$Z131:$AK131,0)","v":{"$error":"#N/A"}},{"$f":"MATCH(T$4,Millwall!$Z131:$AK131,0)","v":{"$error":"#N/A"}},{"$f":"MATCH(U$4,Millwall!$Z131:$AK131,0)","v":{"$error":"#N/A"}},{"$f":"MATCH(V$4,Millwall!$Z131:$AK131,0)","v":{"$error":"#N/A"}},{"$f":"MATCH(W$4,Millwall!$Z131:$AK131,0)","v":{"$error":"#N/A"}},{"$f":"MATCH(X$4,Millwall!$Z131:$AK131,0)","v":{"$error":"#N/A"}},{"$f":"MATCH(Y$4,Millwall!$Z131:$AK131,0)","v":{"$error":"#N/A"}},{"$f":"MATCH(Z$4,Millwall!$Z131:$AK131,0)","v":{"$error":"#N/A"}},{"$f":"MATCH(AA$4,Millwall!$Z131:$AK131,0)","v":{"$error":"#N/A"}},{"$f":"MATCH(AB$4,Millwall!$Z131:$AK131,0)","v":{"$error":"#N/A"}},{"$f":"MATCH(AC$4,Millwall!$Z131:$AK131,0)","v":{"$error":"#N/A"}},{"$f":"MATCH(AD$4,Millwall!$Z131:$AK131,0)","v":{"$error":"#N/A"}},{"$f":"MATCH(AE$4,Millwall!$Z131:$AK131,0)","v":{"$error":"#N/A"}},{"$f":"MATCH(AF$4,Millwall!$Z131:$AK131,0)","v":{"$error":"#N/A"}},{"$f":"MATCH(AG$4,Millwall!$Z131:$AK131,0)","v":{"$error":"#N/A"}},{"$f":"MATCH(AH$4,Millwall!$Z131:$AK131,0)","v":{"$error":"#N/A"}},{"$f":"MATCH(AI$4,Millwall!$Z131:$AK131,0)","v":{"$error":"#N/A"}},{"$f":"MATCH(AJ$4,Millwall!$Z131:$AK131,0)","v":{"$error":"#N/A"}},{"$f":"MATCH(AK$4,Millwall!$Z131:$AK131,0)","v":{"$error":"#N/A"}},{"$f":"MATCH(AL$4,Millwall!$Z131:$AK131,0)","v":{"$error":"#N/A"}},{"$f":"MATCH(AM$4,Millwall!$Z131:$AK131,0)","v":{"$error":"#N/A"}},{"$f":"MATCH(AN$4,Millwall!$Z131:$AK131,0)","v":{"$error":"#N/A"}},{"$f":"MATCH(AO$4,Millwall!$Z131:$AK131,0)","v":{"$error":"#N/A"}},{"$f":"MATCH(AP$4,Millwall!$Z131:$AK131,0)","v":{"$error":"#N/A"}},{"$f":"MATCH(AQ$4,Millwall!$Z131:$AK131,0)","v":{"$error":"#N/A"}},{"$f":"MATCH(AR$4,Millwall!$Z131:$AK131,0)","v":{"$error":"#N/A"}},null,null,null,null,null,{"$f":"MATCH(AX$3,Millwall!$Z131:$AK131,0)","v":{"$error":"#N/A"}},{"$f":"MATCH(AY$3,Millwall!$Z131:$AK131,0)","v":{"$error":"#N/A"}},{"$f":"MATCH(AZ$3,Millwall!$Z131:$AK131,0)","v":{"$error":"#N/A"}},{"$f":"MATCH(BA$3,Millwall!$Z131:$AK131,0)","v":{"$error":"#N/A"}},{"$f":"MATCH(BB$3,Millwall!$Z131:$AK131,0)","v":{"$error":"#N/A"}},{"$f":"MATCH(BC$3,Millwall!$Z131:$AK131,0)","v":{"$error":"#N/A"}},{"$f":"MATCH(BD$3,Millwall!$Z131:$AK131,0)","v":{"$error":"#N/A"}},{"$f":"MATCH(BE$3,Millwall!$Z131:$AK131,0)","v":{"$error":"#N/A"}},{"$f":"MATCH(BF$3,Millwall!$Z131:$AK131,0)","v":{"$error":"#N/A"}},{"$f":"MATCH(BG$3,Millwall!$Z131:$AK131,0)","v":{"$error":"#N/A"}},{"$f":"MATCH(BH$3,Millwall!$Z131:$AK131,0)","v":{"$error":"#N/A"}},{"$f":"MATCH(BI$3,Millwall!$Z131:$AK131,0)","v":{"$error":"#N/A"}},{"$f":"MATCH(BJ$3,Millwall!$Z131:$AK131,0)","v":{"$error":"#N/A"}},{"$f":"MATCH(BK$3,Millwall!$Z131:$AK131,0)","v":{"$error":"#N/A"}},{"$f":"MATCH(BL$3,Millwall!$Z131:$AK131,0)","v":{"$error":"#N/A"}},{"$f":"MATCH(BM$3,Millwall!$Z131:$AK131,0)","v":{"$error":"#N/A"}},{"$f":"MATCH(BN$3,Millwall!$Z131:$AK131,0)","v":{"$error":"#N/A"}},{"$f":"MATCH(BO$3,Millwall!$Z131:$AK131,0)","v":{"$error":"#N/A"}},{"$f":"MATCH(BP$3,Millwall!$Z131:$AK131,0)","v":{"$error":"#N/A"}},{"$f":"MATCH(BQ$3,Millwall!$Z131:$AK131,0)","v":{"$error":"#N/A"}},{"$f":"MATCH(BR$3,Millwall!$Z131:$AK131,0)","v":{"$error":"#N/A"}},{"$f":"MATCH(BS$3,Millwall!$Z131:$AK131,0)","v":{"$error":"#N/A"}},{"$f":"MATCH(BT$3,Millwall!$Z131:$AK131,0)","v":{"$error":"#N/A"}},{"$f":"MATCH(BU$3,Millwall!$Z131:$AK131,0)","v":{"$error":"#N/A"}},{"$f":"MATCH(BV$3,Millwall!$Z131:$AK131,0)","v":{"$error":"#N/A"}},{"$f":"MATCH(BW$3,Millwall!$Z131:$AK131,0)","v":{"$error":"#N/A"}},{"$f":"MATCH(BX$3,Millwall!$Z131:$AK131,0)","v":{"$error":"#N/A"}},{"$f":"MATCH(BY$3,Millwall!$Z131:$AK131,0)","v":{"$error":"#N/A"}},{"$f":"MATCH(BZ$3,Millwall!$Z131:$AK131,0)","v":{"$error":"#N/A"}},{"$f":"MATCH(CA$3,Millwall!$Z131:$AK131,0)","v":{"$error":"#N/A"}},{"$f":"MATCH(CB$3,Millwall!$Z131:$AK131,0)","v":{"$error":"#N/A"}},{"$f":"MATCH(CC$3,Millwall!$Z131:$AK131,0)","v":{"$error":"#N/A"}},{"$f":"MATCH(CD$3,Millwall!$Z131:$AK131,0)","v":{"$error":"#N/A"}},{"$f":"MATCH(CE$3,Millwall!$Z131:$AK131,0)","v":{"$error":"#N/A"}}]
[null,null,1,6,null,{"$f":"Millwall!V132","v":"00:00:00"},null,{"$f":"Millwall!W132","v":"00:00:00"},{"$f":"Millwall!X132","v":"00:00:00"},{"$f":"Millwall!Y132","v":0},{"$f":"MATCH(K$4,Millwall!$Z132:$AK132,0)","v":{"$error":"#N/A"}},{"$f":"MATCH(L$4,Millwall!$Z132:$AK132,0)","v":{"$error":"#N/A"}},{"$f":"MATCH(M$4,Millwall!$Z132:$AK132,0)","v":{"$error":"#N/A"}},{"$f":"MATCH(N$4,Millwall!$Z132:$AK132,0)","v":{"$error":"#N/A"}},{"$f":"MATCH(O$4,Millwall!$Z132:$AK132,0)","v":{"$error":"#N/A"}},{"$f":"MATCH(P$4,Millwall!$Z132:$AK132,0)","v":{"$error":"#N/A"}},{"$f":"MATCH(Q$4,Millwall!$Z132:$AK132,0)","v":{"$error":"#N/A"}},{"$f":"MATCH(R$4,Millwall!$Z132:$AK132,0)","v":{"$error":"#N/A"}},{"$f":"MATCH(S$4,Millwall!$Z132:$AK132,0)","v":{"$error":"#N/A"}},{"$f":"MATCH(T$4,Millwall!$Z132:$AK132,0)","v":{"$error":"#N/A"}},{"$f":"MATCH(U$4,Millwall!$Z132:$AK132,0)","v":{"$error":"#N/A"}},{"$f":"MATCH(V$4,Millwall!$Z132:$AK132,0)","v":{"$error":"#N/A"}},{"$f":"MATCH(W$4,Millwall!$Z132:$AK132,0)","v":{"$error":"#N/A"}},{"$f":"MATCH(X$4,Millwall!$Z132:$AK132,0)","v":{"$error":"#N/A"}},{"$f":"MATCH(Y$4,Millwall!$Z132:$AK132,0)","v":{"$error":"#N/A"}},{"$f":"MATCH(Z$4,Millwall!$Z132:$AK132,0)","v":{"$error":"#N/A"}},{"$f":"MATCH(AA$4,Millwall!$Z132:$AK132,0)","v":{"$error":"#N/A"}},{"$f":"MATCH(AB$4,Millwall!$Z132:$AK132,0)","v":{"$error":"#N/A"}},{"$f":"MATCH(AC$4,Millwall!$Z132:$AK132,0)","v":{"$error":"#N/A"}},{"$f":"MATCH(AD$4,Millwall!$Z132:$AK132,0)","v":{"$error":"#N/A"}},{"$f":"MATCH(AE$4,Millwall!$Z132:$AK132,0)","v":{"$error":"#N/A"}},{"$f":"MATCH(AF$4,Millwall!$Z132:$AK132,0)","v":{"$error":"#N/A"}},{"$f":"MATCH(AG$4,Millwall!$Z132:$AK132,0)","v":{"$error":"#N/A"}},{"$f":"MATCH(AH$4,Millwall!$Z132:$AK132,0)","v":{"$error":"#N/A"}},{"$f":"MATCH(AI$4,Millwall!$Z132:$AK132,0)","v":{"$error":"#N/A"}},{"$f":"MATCH(AJ$4,Millwall!$Z132:$AK132,0)","v":{"$error":"#N/A"}},{"$f":"MATCH(AK$4,Millwall!$Z132:$AK132,0)","v":{"$error":"#N/A"}},{"$f":"MATCH(AL$4,Millwall!$Z132:$AK132,0)","v":{"$error":"#N/A"}},{"$f":"MATCH(AM$4,Millwall!$Z132:$AK132,0)","v":{"$error":"#N/A"}},{"$f":"MATCH(AN$4,Millwall!$Z132:$AK132,0)","v":{"$error":"#N/A"}},{"$f":"MATCH(AO$4,Millwall!$Z132:$AK132,0)","v":{"$error":"#N/A"}},{"$f":"MATCH(AP$4,Millwall!$Z132:$AK132,0)","v":{"$error":"#N/A"}},{"$f":"MATCH(AQ$4,Millwall!$Z132:$AK132,0)","v":{"$error":"#N/A"}},{"$f":"MATCH(AR$4,Millwall!$Z132:$AK132,0)","v":{"$error":"#N/A"}},null,null,null,null,null,{"$f":"MATCH(AX$3,Millwall!$Z132:$AK132,0)","v":{"$error":"#N/A"}},{"$f":"MATCH(AY$3,Millwall!$Z132:$AK132,0)","v":{"$error":"#N/A"}},{"$f":"MATCH(AZ$3,Millwall!$Z132:$AK132,0)","v":{"$error":"#N/A"}},{"$f":"MATCH(BA$3,Millwall!$Z132:$AK132,0)","v":{"$error":"#N/A"}},{"$f":"MATCH(BB$3,Millwall!$Z132:$AK132,0)","v":{"$error":"#N/A"}},{"$f":"MATCH(BC$3,Millwall!$Z132:$AK132,0)","v":{"$error":"#N/A"}},{"$f":"MATCH(BD$3,Millwall!$Z132:$AK132,0)","v":{"$error":"#N/A"}},{"$f":"MATCH(BE$3,Millwall!$Z132:$AK132,0)","v":{"$error":"#N/A"}},{"$f":"MATCH(BF$3,Millwall!$Z132:$AK132,0)","v":{"$error":"#N/A"}},{"$f":"MATCH(BG$3,Millwall!$Z132:$AK132,0)","v":{"$error":"#N/A"}},{"$f":"MATCH(BH$3,Millwall!$Z132:$AK132,0)","v":{"$error":"#N/A"}},{"$f":"MATCH(BI$3,Millwall!$Z132:$AK132,0)","v":{"$error":"#N/A"}},{"$f":"MATCH(BJ$3,Millwall!$Z132:$AK132,0)","v":{"$error":"#N/A"}},{"$f":"MATCH(BK$3,Millwall!$Z132:$AK132,0)","v":{"$error":"#N/A"}},{"$f":"MATCH(BL$3,Millwall!$Z132:$AK132,0)","v":{"$error":"#N/A"}},{"$f":"MATCH(BM$3,Millwall!$Z132:$AK132,0)","v":{"$error":"#N/A"}},{"$f":"MATCH(BN$3,Millwall!$Z132:$AK132,0)","v":{"$error":"#N/A"}},{"$f":"MATCH(BO$3,Millwall!$Z132:$AK132,0)","v":{"$error":"#N/A"}},{"$f":"MATCH(BP$3,Millwall!$Z132:$AK132,0)","v":{"$error":"#N/A"}},{"$f":"MATCH(BQ$3,Millwall!$Z132:$AK132,0)","v":{"$error":"#N/A"}},{"$f":"MATCH(BR$3,Millwall!$Z132:$AK132,0)","v":{"$error":"#N/A"}},{"$f":"MATCH(BS$3,Millwall!$Z132:$AK132,0)","v":{"$error":"#N/A"}},{"$f":"MATCH(BT$3,Millwall!$Z132:$AK132,0)","v":{"$error":"#N/A"}},{"$f":"MATCH(BU$3,Millwall!$Z132:$AK132,0)","v":{"$error":"#N/A"}},{"$f":"MATCH(BV$3,Millwall!$Z132:$AK132,0)","v":{"$error":"#N/A"}},{"$f":"MATCH(BW$3,Millwall!$Z132:$AK132,0)","v":{"$error":"#N/A"}},{"$f":"MATCH(BX$3,Millwall!$Z132:$AK132,0)","v":{"$error":"#N/A"}},{"$f":"MATCH(BY$3,Millwall!$Z132:$AK132,0)","v":{"$error":"#N/A"}},{"$f":"MATCH(BZ$3,Millwall!$Z132:$AK132,0)","v":{"$error":"#N/A"}},{"$f":"MATCH(CA$3,Millwall!$Z132:$AK132,0)","v":{"$error":"#N/A"}},{"$f":"MATCH(CB$3,Millwall!$Z132:$AK132,0)","v":{"$error":"#N/A"}},{"$f":"MATCH(CC$3,Millwall!$Z132:$AK132,0)","v":{"$error":"#N/A"}},{"$f":"MATCH(CD$3,Millwall!$Z132:$AK132,0)","v":{"$error":"#N/A"}},{"$f":"MATCH(CE$3,Millwall!$Z132:$AK132,0)","v":{"$error":"#N/A"}}]
[]
[null,null,null,null,null,null,null,null,null,"Total FA Cup Apperances",{"$f":"COUNT(K58:K64)-K67-K68","v":2},{"$f":"COUNT(L58:L64)-L67-L68","v":1},0,5,0,5,0,0,5,5,0,4,3,5,0,5,0,0,5,5,5,0,0,0,0,0,0,0,0,0,0,0,0,0]
[null,null,null,null,null,null,null,null,null,"Total FA Cup Substitute Appearences ",{"$f":"AX67","v":0},{"$f":"AY67","v":1},0,0,0,0,0,0,0,0,0,0,0,0,0,0,0,0,0,0,0,0,0,0,0,0,0,0,0,0,0,0,0,0,null,null,null,null,null,{"$f":"COUNTIF(AX58:AX64,12)","v":0},{"$f":"COUNTIF(AY58:AY64,12)","v":1},0,0,0,0,0,0,0,0,0,0,0,0,0,0,0,0,0,0,0,0,0,0,0,0,0,0,0,0,0,0,0,0]
[null,null,null,null,null,null,null,null,null,"Non Playing Substitute",{"$f":"COUNTIF(K58:K64,12)-K67","v":0},{"$f":"COUNTIF(L58:L64,12)-L67","v":0},0,0,0,0,0,4,0,0,0,0,0,0,0,0,0,0,0,0,0,0,0,0,0,0,0,0,0,0,0,0,0,0]
[null,null,null,null,null,null,null,null,null,"Goals",{"$f":"Millwall!$CE9","v":0},{"$f":"Millwall!$CE10","v":0},{"$f":"Millwall!$CE11","v":0},{"$f":"Millwall!$CE12","v":2},{"$f":"Millwall!$CE13","v":0},{"$f":"Millwall!$CE14","v":0},{"$f":"Millwall!$CE15","v":0},{"$f":"Millwall!$CE16","v":0},{"$f":"Millwall!$CE17","v":1},{"$f":"Millwall!$CE18","v":0},{"$f":"Millwall!$CE19","v":0},{"$f":"Millwall!$CE20","v":1},{"$f":"Millwall!$CE21","v":0},{"$f":"Millwall!$CE22","v":0},{"$f":"Millwall!$CE23","v":0},{"$f":"Millwall!$CE24","v":0},{"$f":"Millwall!$CE25","v":0},{"$f":"Millwall!$CE26","v":0},{"$f":"Millwall!$CE27","v":0},{"$f":"Millwall!$CE28","v":1},{"$f":"Millwall!$CE29","v":0},{"$f":"Millwall!$CE30","v":0},{"$f":"Millwall!$CE31","v":0},{"$f":"Millwall!$CE32","v":0},{"$f":"Millwall!$CE33","v":5},{"$f":"Millwall!$CE34","v":0},{"$f":"Millwall!$CE35","v":0},{"$f":"Millwall!$CE36","v":0},{"$f":"Millwall!$CE37","v":0},{"$f":"Millwall!$CE38","v":0},{"$f":"Millwall!$CE39","v":0},{"$f":"Millwall!$CE40","v":0},{"$f":"Millwall!$CE41","v":0},{"$f":"Millwall!$CE42","v":0}]
[null,null,1]
[null,null,null,null,null,null,null,"League Cup"]
[null,null,{"$f":"IF(J72=0,1,0)","v":0},1,null,{"$f":"Millwall!V136","v":"1985-08-21"},null,{"$f":"Millwall!W136","v":"Colchester"},{"$f":"Millwall!X136","v":"(A)"},{"$f":"Millwall!Y136","v":"W 3-2"},{"$f":"MATCH(K$4,Millwall!$Z136:$AK136,0)","v":4},{"$f":"MATCH(L$4,Millwall!$Z136:$AK136,0)","v":12},{"$f":"MATCH(M$4,Millwall!$Z136:$AK136,0)","v":{"$error":"#N/A"}},{"$f":"MATCH(N$4,Millwall!$Z136:$AK136,0)","v":9},{"$f":"MATCH(O$4,Millwall!$Z136:$AK136,0)","v":{"$error":"#N/A"}},{"$f":"MATCH(P$4,Millwall!$Z136:$AK136,0)","v":2},{"$f":"MATCH(Q$4,Millwall!$Z136:$AK136,0)","v":11},{"$f":"MATCH(R$4,Millwall!$Z136:$AK136,0)","v":{"$error":"#N/A"}},{"$f":"MATCH(S$4,Millwall!$Z136:$AK136,0)","v":10},{"$f":"MATCH(T$4,Millwall!$Z136:$AK136,0)","v":7},{"$f":"MATCH(U$4,Millwall!$Z136:$AK136,0)","v":{"$error":"#N/A"}},{"$f":"MATCH(V$4,Millwall!$Z136:$AK136,0)","v":5},{"$f":"MATCH(W$4,Millwall!$Z136:$AK136,0)","v":6},{"$f":"MATCH(X$4,Millwall!$Z136:$AK136,0)","v":{"$error":"#N/A"}},{"$f":"MATCH(Y$4,Millwall!$Z136:$AK136,0)","v":3},{"$f":"MATCH(Z$4,Millwall!$Z136:$AK136,0)","v":1},{"$f":"MATCH(AA$4,Millwall!$Z136:$AK136,0)","v":{"$error":"#N/A"}},{"$f":"MATCH(AB$4,Millwall!$Z136:$AK136,0)","v":{"$error":"#N/A"}},{"$f":"MATCH(AC$4,Millwall!$Z136:$AK136,0)","v":{"$error":"#N/A"}},{"$f":"MATCH(AD$4,Millwall!$Z136:$AK136,0)","v":{"$error":"#N/A"}},{"$f":"MATCH(AE$4,Millwall!$Z136:$AK136,0)","v":8},{"$f":"MATCH(AF$4,Millwall!$Z136:$AK136,0)","v":{"$error":"#N/A"}},{"$f":"MATCH(AG$4,Millwall!$Z136:$AK136,0)","v":{"$error":"#N/A"}},{"$f":"MATCH(AH$4,Millwall!$Z136:$AK136,0)","v":{"$error":"#N/A"}},{"$f":"MATCH(AI$4,Millwall!$Z136:$AK136,0)","v":{"$error":"#N/A"}},{"$f":"MATCH(AJ$4,Millwall!$Z136:$AK136,0)","v":{"$error":"#N/A"}},{"$f":"MATCH(AK$4,Millwall!$Z136:$AK136,0)","v":{"$error":"#N/A"}},{"$f":"MATCH(AL$4,Millwall!$Z136:$AK136,0)","v":{"$error":"#N/A"}},{"$f":"MATCH(AM$4,Millwall!$Z136:$AK136,0)","v":{"$error":"#N/A"}},{"$f":"MATCH(AN$4,Millwall!$Z136:$AK136,0)","v":{"$error":"#N/A"}},{"$f":"MATCH(AO$4,Millwall!$Z136:$AK136,0)","v":{"$error":"#N/A"}},{"$f":"MATCH(AP$4,Millwall!$Z136:$AK136,0)","v":{"$error":"#N/A"}},{"$f":"MATCH(AQ$4,Millwall!$Z136:$AK136,0)","v":{"$error":"#N/A"}},{"$f":"MATCH(AR$4,Millwall!$Z136:$AK136,0)","v":{"$error":"#N/A"}},null,null,null,null,null,{"$f":"MATCH(AX$3,Millwall!$Z136:$AK136,0)","v":{"$error":"#N/A"}},{"$f":"MATCH(AY$3,Millwall!$Z136:$AK136,0)","v":{"$error":"#N/A"}},{"$f":"MATCH(AZ$3,Millwall!$Z136:$AK136,0)","v":{"$error":"#N/A"}},{"$f":"MATCH(BA$3,Millwall!$Z136:$AK136,0)","v":{"$error":"#N/A"}},{"$f":"MATCH(BB$3,Millwall!$Z136:$AK136,0)","v":{"$error":"#N/A"}},{"$f":"MATCH(BC$3,Millwall!$Z136:$AK136,0)","v":{"$error":"#N/A"}},{"$f":"MATCH(BD$3,Millwall!$Z136:$AK136,0)","v":{"$error":"#N/A"}},{"$f":"MATCH(BE$3,Millwall!$Z136:$AK136,0)","v":{"$error":"#N/A"}},{"$f":"MATCH(BF$3,Millwall!$Z136:$AK136,0)","v":{"$error":"#N/A"}},{"$f":"MATCH(BG$3,Millwall!$Z136:$AK136,0)","v":{"$error":"#N/A"}},{"$f":"MATCH(BH$3,Millwall!$Z136:$AK136,0)","v":{"$error":"#N/A"}},{"$f":"MATCH(BI$3,Millwall!$Z136:$AK136,0)","v":{"$error":"#N/A"}},{"$f":"MATCH(BJ$3,Millwall!$Z136:$AK136,0)","v":{"$error":"#N/A"}},{"$f":"MATCH(BK$3,Millwall!$Z136:$AK136,0)","v":{"$error":"#N/A"}},{"$f":"MATCH(BL$3,Millwall!$Z136:$AK136,0)","v":{"$error":"#N/A"}},{"$f":"MATCH(BM$3,Millwall!$Z136:$AK136,0)","v":{"$error":"#N/A"}},{"$f":"MATCH(BN$3,Millwall!$Z136:$AK136,0)","v":{"$error":"#N/A"}},{"$f":"MATCH(BO$3,Millwall!$Z136:$AK136,0)","v":{"$error":"#N/A"}},{"$f":"MATCH(BP$3,Millwall!$Z136:$AK136,0)","v":{"$error":"#N/A"}},{"$f":"MATCH(BQ$3,Millwall!$Z136:$AK136,0)","v":{"$error":"#N/A"}},{"$f":"MATCH(BR$3,Millwall!$Z136:$AK136,0)","v":{"$error":"#N/A"}},{"$f":"MATCH(BS$3,Millwall!$Z136:$AK136,0)","v":{"$error":"#N/A"}},{"$f":"MATCH(BT$3,Millwall!$Z136:$AK136,0)","v":{"$error":"#N/A"}},{"$f":"MATCH(BU$3,Millwall!$Z136:$AK136,0)","v":{"$error":"#N/A"}},{"$f":"MATCH(BV$3,Millwall!$Z136:$AK136,0)","v":{"$error":"#N/A"}},{"$f":"MATCH(BW$3,Millwall!$Z136:$AK136,0)","v":{"$error":"#N/A"}},{"$f":"MATCH(BX$3,Millwall!$Z136:$AK136,0)","v":{"$error":"#N/A"}},{"$f":"MATCH(BY$3,Millwall!$Z136:$AK136,0)","v":{"$error":"#N/A"}},{"$f":"MATCH(BZ$3,Millwall!$Z136:$AK136,0)","v":{"$error":"#N/A"}},{"$f":"MATCH(CA$3,Millwall!$Z136:$AK136,0)","v":{"$error":"#N/A"}},{"$f":"MATCH(CB$3,Millwall!$Z136:$AK136,0)","v":{"$error":"#N/A"}},{"$f":"MATCH(CC$3,Millwall!$Z136:$AK136,0)","v":{"$error":"#N/A"}},{"$f":"MATCH(CD$3,Millwall!$Z136:$AK136,0)","v":{"$error":"#N/A"}},{"$f":"MATCH(CE$3,Millwall!$Z136:$AK136,0)","v":{"$error":"#N/A"}}]
[null,null,{"$f":"IF(J73=0,1,0)","v":0},1,null,{"$f":"Millwall!V137","v":"1985-09-03"},null,{"$f":"Millwall!W137","v":"Colchester"},{"$f":"Millwall!X137","v":"(H)"},{"$f":"Millwall!Y137","v":"W 4-1"},{"$f":"MATCH(K$4,Millwall!$Z137:$AK137,0)","v":4},{"$f":"MATCH(L$4,Millwall!$Z137:$AK137,0)","v":{"$error":"#N/A"}},{"$f":"MATCH(M$4,Millwall!$Z137:$AK137,0)","v":{"$error":"#N/A"}},{"$f":"MATCH(N$4,Millwall!$Z137:$AK137,0)","v":9},{"$f":"MATCH(O$4,Millwall!$Z137:$AK137,0)","v":{"$error":"#N/A"}},{"$f":"MATCH(P$4,Millwall!$Z137:$AK137,0)","v":2},{"$f":"MATCH(Q$4,Millwall!$Z137:$AK137,0)","v":11},{"$f":"MATCH(R$4,Millwall!$Z137:$AK137,0)","v":12},{"$f":"MATCH(S$4,Millwall!$Z137:$AK137,0)","v":10},{"$f":"MATCH(T$4,Millwall!$Z137:$AK137,0)","v":7},{"$f":"MATCH(U$4,Millwall!$Z137:$AK137,0)","v":{"$error":"#N/A"}},{"$f":"MATCH(V$4,Millwall!$Z137:$AK137,0)","v":5},{"$f":"MATCH(W$4,Millwall!$Z137:$AK137,0)","v":6},{"$f":"MATCH(X$4,Millwall!$Z137:$AK137,0)","v":{"$error":"#N/A"}},{"$f":"MATCH(Y$4,Millwall!$Z137:$AK137,0)","v":3},{"$f":"MATCH(Z$4,Millwall!$Z137:$AK137,0)","v":1},{"$f":"MATCH(AA$4,Millwall!$Z137:$AK137,0)","v":{"$error":"#N/A"}},{"$f":"MATCH(AB$4,Millwall!$Z137:$AK137,0)","v":{"$error":"#N/A"}},{"$f":"MATCH(AC$4,Millwall!$Z137:$AK137,0)","v":{"$error":"#N/A"}},{"$f":"MATCH(AD$4,Millwall!$Z137:$AK137,0)","v":{"$error":"#N/A"}},{"$f":"MATCH(AE$4,Millwall!$Z137:$AK137,0)","v":8},{"$f":"MATCH(AF$4,Millwall!$Z137:$AK137,0)","v":{"$error":"#N/A"}},{"$f":"MATCH(AG$4,Millwall!$Z137:$AK137,0)","v":{"$error":"#N/A"}},{"$f":"MATCH(AH$4,Millwall!$Z137:$AK137,0)","v":{"$error":"#N/A"}},{"$f":"MATCH(AI$4,Millwall!$Z137:$AK137,0)","v":{"$error":"#N/A"}},{"$f":"MATCH(AJ$4,Millwall!$Z137:$AK137,0)","v":{"$error":"#N/A"}},{"$f":"MATCH(AK$4,Millwall!$Z137:$AK137,0)","v":{"$error":"#N/A"}},{"$f":"MATCH(AL$4,Millwall!$Z137:$AK137,0)","v":{"$error":"#N/A"}},{"$f":"MATCH(AM$4,Millwall!$Z137:$AK137,0)","v":{"$error":"#N/A"}},{"$f":"MATCH(AN$4,Millwall!$Z137:$AK137,0)","v":{"$error":"#N/A"}},{"$f":"MATCH(AO$4,Millwall!$Z137:$AK137,0)","v":{"$error":"#N/A"}},{"$f":"MATCH(AP$4,Millwall!$Z137:$AK137,0)","v":{"$error":"#N/A"}},{"$f":"MATCH(AQ$4,Millwall!$Z137:$AK137,0)","v":{"$error":"#N/A"}},{"$f":"MATCH(AR$4,Millwall!$Z137:$AK137,0)","v":{"$error":"#N/A"}},null,null,null,null,null,{"$f":"MATCH(AX$3,Millwall!$Z137:$AK137,0)","v":{"$error":"#N/A"}},{"$f":"MATCH(AY$3,Millwall!$Z137:$AK137,0)","v":{"$error":"#N/A"}},{"$f":"MATCH(AZ$3,Millwall!$Z137:$AK137,0)","v":{"$error":"#N/A"}},{"$f":"MATCH(BA$3,Millwall!$Z137:$AK137,0)","v":{"$error":"#N/A"}},{"$f":"MATCH(BB$3,Millwall!$Z137:$AK137,0)","v":{"$error":"#N/A"}},{"$f":"MATCH(BC$3,Millwall!$Z137:$AK137,0)","v":{"$error":"#N/A"}},{"$f":"MATCH(BD$3,Millwall!$Z137:$AK137,0)","v":{"$error":"#N/A"}},{"$f":"MATCH(BE$3,Millwall!$Z137:$AK137,0)","v":12},{"$f":"MATCH(BF$3,Millwall!$Z137:$AK137,0)","v":10},{"$f":"MATCH(BG$3,Millwall!$Z137:$AK137,0)","v":{"$error":"#N/A"}},{"$f":"MATCH(BH$3,Millwall!$Z137:$AK137,0)","v":{"$error":"#N/A"}},{"$f":"MATCH(BI$3,Millwall!$Z137:$AK137,0)","v":{"$error":"#N/A"}},{"$f":"MATCH(BJ$3,Millwall!$Z137:$AK137,0)","v":{"$error":"#N/A"}},{"$f":"MATCH(BK$3,Millwall!$Z137:$AK137,0)","v":{"$error":"#N/A"}},{"$f":"MATCH(BL$3,Millwall!$Z137:$AK137,0)","v":{"$error":"#N/A"}},{"$f":"MATCH(BM$3,Millwall!$Z137:$AK137,0)","v":{"$error":"#N/A"}},{"$f":"MATCH(BN$3,Millwall!$Z137:$AK137,0)","v":{"$error":"#N/A"}},{"$f":"MATCH(BO$3,Millwall!$Z137:$AK137,0)","v":{"$error":"#N/A"}},{"$f":"MATCH(BP$3,Millwall!$Z137:$AK137,0)","v":{"$error":"#N/A"}},{"$f":"MATCH(BQ$3,Millwall!$Z137:$AK137,0)","v":{"$error":"#N/A"}},{"$f":"MATCH(BR$3,Millwall!$Z137:$AK137,0)","v":{"$error":"#N/A"}},{"$f":"MATCH(BS$3,Millwall!$Z137:$AK137,0)","v":{"$error":"#N/A"}},{"$f":"MATCH(BT$3,Millwall!$Z137:$AK137,0)","v":{"$error":"#N/A"}},{"$f":"MATCH(BU$3,Millwall!$Z137:$AK137,0)","v":{"$error":"#N/A"}},{"$f":"MATCH(BV$3,Millwall!$Z137:$AK137,0)","v":{"$error":"#N/A"}},{"$f":"MATCH(BW$3,Millwall!$Z137:$AK137,0)","v":{"$error":"#N/A"}},{"$f":"MATCH(BX$3,Millwall!$Z137:$AK137,0)","v":{"$error":"#N/A"}},{"$f":"MATCH(BY$3,Millwall!$Z137:$AK137,0)","v":{"$error":"#N/A"}},{"$f":"MATCH(BZ$3,Millwall!$Z137:$AK137,0)","v":{"$error":"#N/A"}},{"$f":"MATCH(CA$3,Millwall!$Z137:$AK137,0)","v":{"$error":"#N/A"}},{"$f":"MATCH(CB$3,Millwall!$Z137:$AK137,0)","v":{"$error":"#N/A"}},{"$f":"MATCH(CC$3,Millwall!$Z137:$AK137,0)","v":{"$error":"#N/A"}},{"$f":"MATCH(CD$3,Millwall!$Z137:$AK137,0)","v":{"$error":"#N/A"}},{"$f":"MATCH(CE$3,Millwall!$Z137:$AK137,0)","v":{"$error":"#N/A"}}]
[null,null,0,2,null,{"$f":"Millwall!V138","v":"1985-09-25"},null,{"$f":"Millwall!W138","v":"Southampton"},{"$f":"Millwall!X138","v":"(H)"},{"$f":"Millwall!Y138","v":"D 0-0"},{"$f":"MATCH(K$4,Millwall!$Z138:$AK138,0)","v":4},{"$f":"MATCH(L$4,Millwall!$Z138:$AK138,0)","v":{"$error":"#N/A"}},{"$f":"MATCH(M$4,Millwall!$Z138:$AK138,0)","v":{"$error":"#N/A"}},{"$f":"MATCH(N$4,Millwall!$Z138:$AK138,0)","v":9},{"$f":"MATCH(O$4,Millwall!$Z138:$AK138,0)","v":{"$error":"#N/A"}},{"$f":"MATCH(P$4,Millwall!$Z138:$AK138,0)","v":3},{"$f":"MATCH(Q$4,Millwall!$Z138:$AK138,0)","v":12},{"$f":"MATCH(R$4,Millwall!$Z138:$AK138,0)","v":11},{"$f":"MATCH(S$4,Millwall!$Z138:$AK138,0)","v":10},{"$f":"MATCH(T$4,Millwall!$Z138:$AK138,0)","v":7},{"$f":"MATCH(U$4,Millwall!$Z138:$AK138,0)","v":{"$error":"#N/A"}},{"$f":"MATCH(V$4,Millwall!$Z138:$AK138,0)","v":{"$error":"#N/A"}},{"$f":"MATCH(W$4,Millwall!$Z138:$AK138,0)","v":6},{"$f":"MATCH(X$4,Millwall!$Z138:$AK138,0)","v":{"$error":"#N/A"}},{"$f":"MATCH(Y$4,Millwall!$Z138:$AK138,0)","v":{"$error":"#N/A"}},{"$f":"MATCH(Z$4,Millwall!$Z138:$AK138,0)","v":1},{"$f":"MATCH(AA$4,Millwall!$Z138:$AK138,0)","v":{"$error":"#N/A"}},{"$f":"MATCH(AB$4,Millwall!$Z138:$AK138,0)","v":5},{"$f":"MATCH(AC$4,Millwall!$Z138:$AK138,0)","v":2},{"$f":"MATCH(AD$4,Millwall!$Z138:$AK138,0)","v":{"$error":"#N/A"}},{"$f":"MATCH(AE$4,Millwall!$Z138:$AK138,0)","v":8},{"$f":"MATCH(AF$4,Millwall!$Z138:$AK138,0)","v":{"$error":"#N/A"}},{"$f":"MATCH(AG$4,Millwall!$Z138:$AK138,0)","v":{"$error":"#N/A"}},{"$f":"MATCH(AH$4,Millwall!$Z138:$AK138,0)","v":{"$error":"#N/A"}},{"$f":"MATCH(AI$4,Millwall!$Z138:$AK138,0)","v":{"$error":"#N/A"}},{"$f":"MATCH(AJ$4,Millwall!$Z138:$AK138,0)","v":{"$error":"#N/A"}},{"$f":"MATCH(AK$4,Millwall!$Z138:$AK138,0)","v":{"$error":"#N/A"}},{"$f":"MATCH(AL$4,Millwall!$Z138:$AK138,0)","v":{"$error":"#N/A"}},{"$f":"MATCH(AM$4,Millwall!$Z138:$AK138,0)","v":{"$error":"#N/A"}},{"$f":"MATCH(AN$4,Millwall!$Z138:$AK138,0)","v":{"$error":"#N/A"}},{"$f":"MATCH(AO$4,Millwall!$Z138:$AK138,0)","v":{"$error":"#N/A"}},{"$f":"MATCH(AP$4,Millwall!$Z138:$AK138,0)","v":{"$error":"#N/A"}},{"$f":"MATCH(AQ$4,Millwall!$Z138:$AK138,0)","v":{"$error":"#N/A"}},{"$f":"MATCH(AR$4,Millwall!$Z138:$AK138,0)","v":{"$error":"#N/A"}},null,null,null,null,null,{"$f":"MATCH(AX$3,Millwall!$Z138:$AK138,0)","v":{"$error":"#N/A"}},{"$f":"MATCH(AY$3,Millwall!$Z138:$AK138,0)","v":{"$error":"#N/A"}},{"$f":"MATCH(AZ$3,Millwall!$Z138:$AK138,0)","v":{"$error":"#N/A"}},{"$f":"MATCH(BA$3,Millwall!$Z138:$AK138,0)","v":{"$error":"#N/A"}},{"$f":"MATCH(BB$3,Millwall!$Z138:$AK138,0)","v":{"$error":"#N/A"}},{"$f":"MATCH(BC$3,Millwall!$Z138:$AK138,0)","v":{"$error":"#N/A"}},{"$f":"MATCH(BD$3,Millwall!$Z138:$AK138,0)","v":12},{"$f":"MATCH(BE$3,Millwall!$Z138:$AK138,0)","v":11},{"$f":"MATCH(BF$3,Millwall!$Z138:$AK138,0)","v":{"$error":"#N/A"}},{"$f":"MATCH(BG$3,Millwall!$Z138:$AK138,0)","v":{"$error":"#N/A"}},{"$f":"MATCH(BH$3,Millwall!$Z138:$AK138,0)","v":{"$error":"#N/A"}},{"$f":"MATCH(BI$3,Millwall!$Z138:$AK138,0)","v":{"$error":"#N/A"}},{"$f":"MATCH(BJ$3,Millwall!$Z138:$AK138,0)","v":{"$error":"#N/A"}},{"$f":"MATCH(BK$3,Millwall!$Z138:$AK138,0)","v":{"$error":"#N/A"}},{"$f":"MATCH(BL$3,Millwall!$Z138:$AK138,0)","v":{"$error":"#N/A"}},{"$f":"MATCH(BM$3,Millwall!$Z138:$AK138,0)","v":{"$error":"#N/A"}},{"$f":"MATCH(BN$3,Millwall!$Z138:$AK138,0)","v":{"$error":"#N/A"}},{"$f":"MATCH(BO$3,Millwall!$Z138:$AK138,0)","v":{"$error":"#N/A"}},{"$f":"MATCH(BP$3,Millwall!$Z138:$AK138,0)","v":{"$error":"#N/A"}},{"$f":"MATCH(BQ$3,Millwall!$Z138:$AK138,0)","v":{"$error":"#N/A"}},{"$f":"MATCH(BR$3,Millwall!$Z138:$AK138,0)","v":{"$error":"#N/A"}},{"$f":"MATCH(BS$3,Millwall!$Z138:$AK138,0)","v":{"$error":"#N/A"}},{"$f":"MATCH(BT$3,Millwall!$Z138:$AK138,0)","v":{"$error":"#N/A"}},{"$f":"MATCH(BU$3,Millwall!$Z138:$AK138,0)","v":{"$error":"#N/A"}},{"$f":"MATCH(BV$3,Millwall!$Z138:$AK138,0)","v":{"$error":"#N/A"}},{"$f":"MATCH(BW$3,Millwall!$Z138:$AK138,0)","v":{"$error":"#N/A"}},{"$f":"MATCH(BX$3,Millwall!$Z138:$AK138,0)","v":{"$error":"#N/A"}},{"$f":"MATCH(BY$3,Millwall!$Z138:$AK138,0)","v":{"$error":"#N/A"}},{"$f":"MATCH(BZ$3,Millwall!$Z138:$AK138,0)","v":{"$error":"#N/A"}},{"$f":"MATCH(CA$3,Millwall!$Z138:$AK138,0)","v":{"$error":"#N/A"}},{"$f":"MATCH(CB$3,Millwall!$Z138:$AK138,0)","v":{"$error":"#N/A"}},{"$f":"MATCH(CC$3,Millwall!$Z138:$AK138,0)","v":{"$error":"#N/A"}},{"$f":"MATCH(CD$3,Millwall!$Z138:$AK138,0)","v":{"$error":"#N/A"}},{"$f":"MATCH(CE$3,Millwall!$Z138:$AK138,0)","v":{"$error":"#N/A"}}]
[null,null,0,2,null,{"$f":"Millwall!V139","v":"1985-10-08"},null,{"$f":"Millwall!W139","v":"Southampton"},{"$f":"Millwall!X139","v":"(A)"},{"$f":"Millwall!Y139","v":"D 0-0"},{"$f":"MATCH(K$4,Millwall!$Z139:$AK139,0)","v":4},{"$f":"MATCH(L$4,Millwall!$Z139:$AK139,0)","v":8},{"$f":"MATCH(M$4,Millwall!$Z139:$AK139,0)","v":{"$error":"#N/A"}},{"$f":"MATCH(N$4,Millwall!$Z139:$AK139,0)","v":9},{"$f":"MATCH(O$4,Millwall!$Z139:$AK139,0)","v":{"$error":"#N/A"}},{"$f":"MATCH(P$4,Millwall!$Z139:$AK139,0)","v":{"$error":"#N/A"}},{"$f":"MATCH(Q$4,Millwall!$Z139:$AK139,0)","v":11},{"$f":"MATCH(R$4,Millwall!$Z139:$AK139,0)","v":12},{"$f":"MATCH(S$4,Millwall!$Z139:$AK139,0)","v":10},{"$f":"MATCH(T$4,Millwall!$Z139:$AK139,0)","v":7},{"$f":"MATCH(U$4,Millwall!$Z139:$AK139,0)","v":{"$error":"#N/A"}},{"$f":"MATCH(V$4,Millwall!$Z139:$AK139,0)","v":5},{"$f":"MATCH(W$4,Millwall!$Z139:$AK139,0)","v":6},{"$f":"MATCH(X$4,Millwall!$Z139:$AK139,0)","v":{"$error":"#N/A"}},{"$f":"MATCH(Y$4,Millwall!$Z139:$AK139,0)","v":3},{"$f":"MATCH(Z$4,Millwall!$Z139:$AK139,0)","v":1},{"$f":"MATCH(AA$4,Millwall!$Z139:$AK139,0)","v":{"$error":"#N/A"}},{"$f":"MATCH(AB$4,Millwall!$Z139:$AK139,0)","v":{"$error":"#N/A"}},{"$f":"MATCH(AC$4,Millwall!$Z139:$AK139,0)","v":2},{"$f":"MATCH(AD$4,Millwall!$Z139:$AK139,0)","v":{"$error":"#N/A"}},{"$f":"MATCH(AE$4,Millwall!$Z139:$AK139,0)","v":{"$error":"#N/A"}},{"$f":"MATCH(AF$4,Millwall!$Z139:$AK139,0)","v":{"$error":"#N/A"}},{"$f":"MATCH(AG$4,Millwall!$Z139:$AK139,0)","v":{"$error":"#N/A"}},{"$f":"MATCH(AH$4,Millwall!$Z139:$AK139,0)","v":{"$error":"#N/A"}},{"$f":"MATCH(AI$4,Millwall!$Z139:$AK139,0)","v":{"$error":"#N/A"}},{"$f":"MATCH(AJ$4,Millwall!$Z139:$AK139,0)","v":{"$error":"#N/A"}},{"$f":"MATCH(AK$4,Millwall!$Z139:$AK139,0)","v":{"$error":"#N/A"}},{"$f":"MATCH(AL$4,Millwall!$Z139:$AK139,0)","v":{"$error":"#N/A"}},{"$f":"MATCH(AM$4,Millwall!$Z139:$AK139,0)","v":{"$error":"#N/A"}},{"$f":"MATCH(AN$4,Millwall!$Z139:$AK139,0)","v":{"$error":"#N/A"}},{"$f":"MATCH(AO$4,Millwall!$Z139:$AK139,0)","v":{"$error":"#N/A"}},{"$f":"MATCH(AP$4,Millwall!$Z139:$AK139,0)","v":{"$error":"#N/A"}},{"$f":"MATCH(AQ$4,Millwall!$Z139:$AK139,0)","v":{"$error":"#N/A"}},{"$f":"MATCH(AR$4,Millwall!$Z139:$AK139,0)","v":{"$error":"#N/A"}},null,null,null,null,null,{"$f":"MATCH(AX$3,Millwall!$Z139:$AK139,0)","v":{"$error":"#N/A"}},{"$f":"MATCH(AY$3,Millwall!$Z139:$AK139,0)","v":{"$error":"#N/A"}},{"$f":"MATCH(AZ$3,Millwall!$Z139:$AK139,0)","v":{"$error":"#N/A"}},{"$f":"MATCH(BA$3,Millwall!$Z139:$AK139,0)","v":{"$error":"#N/A"}},{"$f":"MATCH(BB$3,Millwall!$Z139:$AK139,0)","v":{"$error":"#N/A"}},{"$f":"MATCH(BC$3,Millwall!$Z139:$AK139,0)","v":{"$error":"#N/A"}},{"$f":"MATCH(BD$3,Millwall!$Z139:$AK139,0)","v":{"$error":"#N/A"}},{"$f":"MATCH(BE$3,Millwall!$Z139:$AK139,0)","v":12},{"$f":"MATCH(BF$3,Millwall!$Z139:$AK139,0)","v":10},{"$f":"MATCH(BG$3,Millwall!$Z139:$AK139,0)","v":{"$error":"#N/A"}},{"$f":"MATCH(BH$3,Millwall!$Z139:$AK139,0)","v":{"$error":"#N/A"}},{"$f":"MATCH(BI$3,Millwall!$Z139:$AK139,0)","v":{"$error":"#N/A"}},{"$f":"MATCH(BJ$3,Millwall!$Z139:$AK139,0)","v":{"$error":"#N/A"}},{"$f":"MATCH(BK$3,Millwall!$Z139:$AK139,0)","v":{"$error":"#N/A"}},{"$f":"MATCH(BL$3,Millwall!$Z139:$AK139,0)","v":{"$error":"#N/A"}},{"$f":"MATCH(BM$3,Millwall!$Z139:$AK139,0)","v":{"$error":"#N/A"}},{"$f":"MATCH(BN$3,Millwall!$Z139:$AK139,0)","v":{"$error":"#N/A"}},{"$f":"MATCH(BO$3,Millwall!$Z139:$AK139,0)","v":{"$error":"#N/A"}},{"$f":"MATCH(BP$3,Millwall!$Z139:$AK139,0)","v":{"$error":"#N/A"}},{"$f":"MATCH(BQ$3,Millwall!$Z139:$AK139,0)","v":{"$error":"#N/A"}},{"$f":"MATCH(BR$3,Millwall!$Z139:$AK139,0)","v":{"$error":"#N/A"}},{"$f":"MATCH(BS$3,Millwall!$Z139:$AK139,0)","v":{"$error":"#N/A"}},{"$f":"MATCH(BT$3,Millwall!$Z139:$AK139,0)","v":{"$error":"#N/A"}},{"$f":"MATCH(BU$3,Millwall!$Z139:$AK139,0)","v":{"$error":"#N/A"}},{"$f":"MATCH(BV$3,Millwall!$Z139:$AK139,0)","v":{"$error":"#N/A"}},{"$f":"MATCH(BW$3,Millwall!$Z139:$AK139,0)","v":{"$error":"#N/A"}},{"$f":"MATCH(BX$3,Millwall!$Z139:$AK139,0)","v":{"$error":"#N/A"}},{"$f":"MATCH(BY$3,Millwall!$Z139:$AK139,0)","v":{"$error":"#N/A"}},{"$f":"MATCH(BZ$3,Millwall!$Z139:$AK139,0)","v":{"$error":"#N/A"}},{"$f":"MATCH(CA$3,Millwall!$Z139:$AK139,0)","v":{"$error":"#N/A"}},{"$f":"MATCH(CB$3,Millwall!$Z139:$AK139,0)","v":{"$error":"#N/A"}},{"$f":"MATCH(CC$3,Millwall!$Z139:$AK139,0)","v":{"$error":"#N/A"}},{"$f":"MATCH(CD$3,Millwall!$Z139:$AK139,0)","v":{"$error":"#N/A"}},{"$f":"MATCH(CE$3,Millwall!$Z139:$AK139,0)","v":{"$error":"#N/A"}}]
[null,null,1,null,null,{"$f":"Millwall!AJ140","v":"00:00:00"},null,{"$f":"Millwall!AK140","v":"00:00:00"},{"$f":"Millwall!AL140","v":"00:00:00"},{"$f":"Millwall!AM140","v":0},{"$f":"MATCH(K$4,Millwall!$Z140:$AK140,0)","v":{"$error":"#N/A"}},{"$f":"MATCH(L$4,Millwall!$Z140:$AK140,0)","v":{"$error":"#N/A"}},{"$f":"MATCH(M$4,Millwall!$Z140:$AK140,0)","v":{"$error":"#N/A"}},{"$f":"MATCH(N$4,Millwall!$Z140:$AK140,0)","v":{"$error":"#N/A"}},{"$f":"MATCH(O$4,Millwall!$Z140:$AK140,0)","v":{"$error":"#N/A"}},{"$f":"MATCH(P$4,Millwall!$Z140:$AK140,0)","v":{"$error":"#N/A"}},{"$f":"MATCH(Q$4,Millwall!$Z140:$AK140,0)","v":{"$error":"#N/A"}},{"$f":"MATCH(R$4,Millwall!$Z140:$AK140,0)","v":{"$error":"#N/A"}},{"$f":"MATCH(S$4,Millwall!$Z140:$AK140,0)","v":{"$error":"#N/A"}},{"$f":"MATCH(T$4,Millwall!$Z140:$AK140,0)","v":{"$error":"#N/A"}},{"$f":"MATCH(U$4,Millwall!$Z140:$AK140,0)","v":{"$error":"#N/A"}},{"$f":"MATCH(V$4,Millwall!$Z140:$AK140,0)","v":{"$error":"#N/A"}},{"$f":"MATCH(W$4,Millwall!$Z140:$AK140,0)","v":{"$error":"#N/A"}},{"$f":"MATCH(X$4,Millwall!$Z140:$AK140,0)","v":{"$error":"#N/A"}},{"$f":"MATCH(Y$4,Millwall!$Z140:$AK140,0)","v":{"$error":"#N/A"}},{"$f":"MATCH(Z$4,Millwall!$Z140:$AK140,0)","v":{"$error":"#N/A"}},{"$f":"MATCH(AA$4,Millwall!$Z140:$AK140,0)","v":{"$error":"#N/A"}},{"$f":"MATCH(AB$4,Millwall!$Z140:$AK140,0)","v":{"$error":"#N/A"}},{"$f":"MATCH(AC$4,Millwall!$Z140:$AK140,0)","v":{"$error":"#N/A"}},{"$f":"MATCH(AD$4,Millwall!$Z140:$AK140,0)","v":{"$error":"#N/A"}},{"$f":"MATCH(AE$4,Millwall!$Z140:$AK140,0)","v":{"$error":"#N/A"}},{"$f":"MATCH(AF$4,Millwall!$Z140:$AK140,0)","v":{"$error":"#N/A"}},{"$f":"MATCH(AG$4,Millwall!$Z140:$AK140,0)","v":{"$error":"#N/A"}},{"$f":"MATCH(AH$4,Millwall!$Z140:$AK140,0)","v":{"$error":"#N/A"}},{"$f":"MATCH(AI$4,Millwall!$Z140:$AK140,0)","v":{"$error":"#N/A"}},{"$f":"MATCH(AJ$4,Millwall!$Z140:$AK140,0)","v":{"$error":"#N/A"}},{"$f":"MATCH(AK$4,Millwall!$Z140:$AK140,0)","v":{"$error":"#N/A"}},{"$f":"MATCH(AL$4,Millwall!$Z140:$AK140,0)","v":{"$error":"#N/A"}},{"$f":"MATCH(AM$4,Millwall!$Z140:$AK140,0)","v":{"$error":"#N/A"}},{"$f":"MATCH(AN$4,Millwall!$Z140:$AK140,0)","v":{"$error":"#N/A"}},{"$f":"MATCH(AO$4,Millwall!$Z140:$AK140,0)","v":{"$error":"#N/A"}},{"$f":"MATCH(AP$4,Millwall!$Z140:$AK140,0)","v":{"$error":"#N/A"}},{"$f":"MATCH(AQ$4,Millwall!$Z140:$AK140,0)","v":{"$error":"#N/A"}},{"$f":"MATCH(AR$4,Millwall!$Z140:$AK140,0)","v":{"$error":"#N/A"}},null,null,null,null,null,{"$f":"MATCH(AX$3,Millwall!$Z140:$AK140,0)","v":{"$error":"#N/A"}},{"$f":"MATCH(AY$3,Millwall!$Z140:$AK140,0)","v":{"$error":"#N/A"}},{"$f":"MATCH(AZ$3,Millwall!$Z140:$AK140,0)","v":{"$error":"#N/A"}},{"$f":"MATCH(BA$3,Millwall!$Z140:$AK140,0)","v":{"$error":"#N/A"}},{"$f":"MATCH(BB$3,Millwall!$Z140:$AK140,0)","v":{"$error":"#N/A"}},{"$f":"MATCH(BC$3,Millwall!$Z140:$AK140,0)","v":{"$error":"#N/A"}},{"$f":"MATCH(BD$3,Millwall!$Z140:$AK140,0)","v":{"$error":"#N/A"}},{"$f":"MATCH(BE$3,Millwall!$Z140:$AK140,0)","v":{"$error":"#N/A"}},{"$f":"MATCH(BF$3,Millwall!$Z140:$AK140,0)","v":{"$error":"#N/A"}},{"$f":"MATCH(BG$3,Millwall!$Z140:$AK140,0)","v":{"$error":"#N/A"}},{"$f":"MATCH(BH$3,Millwall!$Z140:$AK140,0)","v":{"$error":"#N/A"}},{"$f":"MATCH(BI$3,Millwall!$Z140:$AK140,0)","v":{"$error":"#N/A"}},{"$f":"MATCH(BJ$3,Millwall!$Z140:$AK140,0)","v":{"$error":"#N/A"}},{"$f":"MATCH(BK$3,Millwall!$Z140:$AK140,0)","v":{"$error":"#N/A"}},{"$f":"MATCH(BL$3,Millwall!$Z140:$AK140,0)","v":{"$error":"#N/A"}},{"$f":"MATCH(BM$3,Millwall!$Z140:$AK140,0)","v":{"$error":"#N/A"}},{"$f":"MATCH(BN$3,Millwall!$Z140:$AK140,0)","v":{"$error":"#N/A"}},{"$f":"MATCH(BO$3,Millwall!$Z140:$AK140,0)","v":{"$error":"#N/A"}},{"$f":"MATCH(BP$3,Millwall!$Z140:$AK140,0)","v":{"$error":"#N/A"}},{"$f":"MATCH(BQ$3,Millwall!$Z140:$AK140,0)","v":{"$error":"#N/A"}},{"$f":"MATCH(BR$3,Millwall!$Z140:$AK140,0)","v":{"$error":"#N/A"}},{"$f":"MATCH(BS$3,Millwall!$Z140:$AK140,0)","v":{"$error":"#N/A"}},{"$f":"MATCH(BT$3,Millwall!$Z140:$AK140,0)","v":{"$error":"#N/A"}},{"$f":"MATCH(BU$3,Millwall!$Z140:$AK140,0)","v":{"$error":"#N/A"}},{"$f":"MATCH(BV$3,Millwall!$Z140:$AK140,0)","v":{"$error":"#N/A"}},{"$f":"MATCH(BW$3,Millwall!$Z140:$AK140,0)","v":{"$error":"#N/A"}},{"$f":"MATCH(BX$3,Millwall!$Z140:$AK140,0)","v":{"$error":"#N/A"}},{"$f":"MATCH(BY$3,Millwall!$Z140:$AK140,0)","v":{"$error":"#N/A"}},{"$f":"MATCH(BZ$3,Millwall!$Z140:$AK140,0)","v":{"$error":"#N/A"}},{"$f":"MATCH(CA$3,Millwall!$Z140:$AK140,0)","v":{"$error":"#N/A"}},{"$f":"MATCH(CB$3,Millwall!$Z140:$AK140,0)","v":{"$error":"#N/A"}},{"$f":"MATCH(CC$3,Millwall!$Z140:$AK140,0)","v":{"$error":"#N/A"}},{"$f":"MATCH(CD$3,Millwall!$Z140:$AK140,0)","v":{"$error":"#N/A"}},{"$f":"MATCH(CE$3,Millwall!$Z140:$AK140,0)","v":{"$error":"#N/A"}}]
[null,null,1,null,null,{"$f":"Millwall!AJ141","v":"00:00:00"},null,{"$f":"Millwall!AK141","v":"00:00:00"},{"$f":"Millwall!AL141","v":"00:00:00"},{"$f":"Millwall!AM141","v":0},{"$f":"MATCH(K$4,Millwall!$Z141:$AK141,0)","v":{"$error":"#N/A"}},{"$f":"MATCH(L$4,Millwall!$Z141:$AK141,0)","v":{"$error":"#N/A"}},{"$f":"MATCH(M$4,Millwall!$Z141:$AK141,0)","v":{"$error":"#N/A"}},{"$f":"MATCH(N$4,Millwall!$Z141:$AK141,0)","v":{"$error":"#N/A"}},{"$f":"MATCH(O$4,Millwall!$Z141:$AK141,0)","v":{"$error":"#N/A"}},{"$f":"MATCH(P$4,Millwall!$Z141:$AK141,0)","v":{"$error":"#N/A"}},{"$f":"MATCH(Q$4,Millwall!$Z141:$AK141,0)","v":{"$error":"#N/A"}},{"$f":"MATCH(R$4,Millwall!$Z141:$AK141,0)","v":{"$error":"#N/A"}},{"$f":"MATCH(S$4,Millwall!$Z141:$AK141,0)","v":{"$error":"#N/A"}},{"$f":"MATCH(T$4,Millwall!$Z141:$AK141,0)","v":{"$error":"#N/A"}},{"$f":"MATCH(U$4,Millwall!$Z141:$AK141,0)","v":{"$error":"#N/A"}},{"$f":"MATCH(V$4,Millwall!$Z141:$AK141,0)","v":{"$error":"#N/A"}},{"$f":"MATCH(W$4,Millwall!$Z141:$AK141,0)","v":{"$error":"#N/A"}},{"$f":"MATCH(X$4,Millwall!$Z141:$AK141,0)","v":{"$error":"#N/A"}},{"$f":"MATCH(Y$4,Millwall!$Z141:$AK141,0)","v":{"$error":"#N/A"}},{"$f":"MATCH(Z$4,Millwall!$Z141:$AK141,0)","v":{"$error":"#N/A"}},{"$f":"MATCH(AA$4,Millwall!$Z141:$AK141,0)","v":{"$error":"#N/A"}},{"$f":"MATCH(AB$4,Millwall!$Z141:$AK141,0)","v":{"$error":"#N/A"}},{"$f":"MATCH(AC$4,Millwall!$Z141:$AK141,0)","v":{"$error":"#N/A"}},{"$f":"MATCH(AD$4,Millwall!$Z141:$AK141,0)","v":{"$error":"#N/A"}},{"$f":"MATCH(AE$4,Millwall!$Z141:$AK141,0)","v":{"$error":"#N/A"}},{"$f":"MATCH(AF$4,Millwall!$Z141:$AK141,0)","v":{"$error":"#N/A"}},{"$f":"MATCH(AG$4,Millwall!$Z141:$AK141,0)","v":{"$error":"#N/A"}},{"$f":"MATCH(AH$4,Millwall!$Z141:$AK141,0)","v":{"$error":"#N/A"}},{"$f":"MATCH(AI$4,Millwall!$Z141:$AK141,0)","v":{"$error":"#N/A"}},{"$f":"MATCH(AJ$4,Millwall!$Z141:$AK141,0)","v":{"$error":"#N/A"}},{"$f":"MATCH(AK$4,Millwall!$Z141:$AK141,0)","v":{"$error":"#N/A"}},{"$f":"MATCH(AL$4,Millwall!$Z141:$AK141,0)","v":{"$error":"#N/A"}},{"$f":"MATCH(AM$4,Millwall!$Z141:$AK141,0)","v":{"$error":"#N/A"}},{"$f":"MATCH(AN$4,Millwall!$Z141:$AK141,0)","v":{"$error":"#N/A"}},{"$f":"MATCH(AO$4,Millwall!$Z141:$AK141,0)","v":{"$error":"#N/A"}},{"$f":"MATCH(AP$4,Millwall!$Z141:$AK141,0)","v":{"$error":"#N/A"}},{"$f":"MATCH(AQ$4,Millwall!$Z141:$AK141,0)","v":{"$error":"#N/A"}},{"$f":"MATCH(AR$4,Millwall!$Z141:$AK141,0)","v":{"$error":"#N/A"}},null,null,null,null,null,{"$f":"MATCH(AX$3,Millwall!$Z141:$AK141,0)","v":{"$error":"#N/A"}},{"$f":"MATCH(AY$3,Millwall!$Z141:$AK141,0)","v":{"$error":"#N/A"}},{"$f":"MATCH(AZ$3,Millwall!$Z141:$AK141,0)","v":{"$error":"#N/A"}},{"$f":"MATCH(BA$3,Millwall!$Z141:$AK141,0)","v":{"$error":"#N/A"}},{"$f":"MATCH(BB$3,Millwall!$Z141:$AK141,0)","v":{"$error":"#N/A"}},{"$f":"MATCH(BC$3,Millwall!$Z141:$AK141,0)","v":{"$error":"#N/A"}},{"$f":"MATCH(BD$3,Millwall!$Z141:$AK141,0)","v":{"$error":"#N/A"}},{"$f":"MATCH(BE$3,Millwall!$Z141:$AK141,0)","v":{"$error":"#N/A"}},{"$f":"MATCH(BF$3,Millwall!$Z141:$AK141,0)","v":{"$error":"#N/A"}},{"$f":"MATCH(BG$3,Millwall!$Z141:$AK141,0)","v":{"$error":"#N/A"}},{"$f":"MATCH(BH$3,Millwall!$Z141:$AK141,0)","v":{"$error":"#N/A"}},{"$f":"MATCH(BI$3,Millwall!$Z141:$AK141,0)","v":{"$error":"#N/A"}},{"$f":"MATCH(BJ$3,Millwall!$Z141:$AK141,0)","v":{"$error":"#N/A"}},{"$f":"MATCH(BK$3,Millwall!$Z141:$AK141,0)","v":{"$error":"#N/A"}},{"$f":"MATCH(BL$3,Millwall!$Z141:$AK141,0)","v":{"$error":"#N/A"}},{"$f":"MATCH(BM$3,Millwall!$Z141:$AK141,0)","v":{"$error":"#N/A"}},{"$f":"MATCH(BN$3,Millwall!$Z141:$AK141,0)","v":{"$error":"#N/A"}},{"$f":"MATCH(BO$3,Millwall!$Z141:$AK141,0)","v":{"$error":"#N/A"}},{"$f":"MATCH(BP$3,Millwall!$Z141:$AK141,0)","v":{"$error":"#N/A"}},{"$f":"MATCH(BQ$3,Millwall!$Z141:$AK141,0)","v":{"$error":"#N/A"}},{"$f":"MATCH(BR$3,Millwall!$Z141:$AK141,0)","v":{"$error":"#N/A"}},{"$f":"MATCH(BS$3,Millwall!$Z141:$AK141,0)","v":{"$error":"#N/A"}},{"$f":"MATCH(BT$3,Millwall!$Z141:$AK141,0)","v":{"$error":"#N/A"}},{"$f":"MATCH(BU$3,Millwall!$Z141:$AK141,0)","v":{"$error":"#N/A"}},{"$f":"MATCH(BV$3,Millwall!$Z141:$AK141,0)","v":{"$error":"#N/A"}},{"$f":"MATCH(BW$3,Millwall!$Z141:$AK141,0)","v":{"$error":"#N/A"}},{"$f":"MATCH(BX$3,Millwall!$Z141:$AK141,0)","v":{"$error":"#N/A"}},{"$f":"MATCH(BY$3,Millwall!$Z141:$AK141,0)","v":{"$error":"#N/A"}},{"$f":"MATCH(BZ$3,Millwall!$Z141:$AK141,0)","v":{"$error":"#N/A"}},{"$f":"MATCH(CA$3,Millwall!$Z141:$AK141,0)","v":{"$error":"#N/A"}},{"$f":"MATCH(CB$3,Millwall!$Z141:$AK141,0)","v":{"$error":"#N/A"}},{"$f":"MATCH(CC$3,Millwall!$Z141:$AK141,0)","v":{"$error":"#N/A"}},{"$f":"MATCH(CD$3,Millwall!$Z141:$AK141,0)","v":{"$error":"#N/A"}},{"$f":"MATCH(CE$3,Millwall!$Z141:$AK141,0)","v":{"$error":"#N/A"}}]
[null,null,1,null,null,{"$f":"Millwall!AJ142","v":"00:00:00"},null,{"$f":"Millwall!AK142","v":"00:00:00"},{"$f":"Millwall!AL142","v":"00:00:00"},{"$f":"Millwall!AM142","v":0},{"$f":"MATCH(K$4,Millwall!$Z142:$AK142,0)","v":{"$error":"#N/A"}},{"$f":"MATCH(L$4,Millwall!$Z142:$AK142,0)","v":{"$error":"#N/A"}},{"$f":"MATCH(M$4,Millwall!$Z142:$AK142,0)","v":{"$error":"#N/A"}},{"$f":"MATCH(N$4,Millwall!$Z142:$AK142,0)","v":{"$error":"#N/A"}},{"$f":"MATCH(O$4,Millwall!$Z142:$AK142,0)","v":{"$error":"#N/A"}},{"$f":"MATCH(P$4,Millwall!$Z142:$AK142,0)","v":{"$error":"#N/A"}},{"$f":"MATCH(Q$4,Millwall!$Z142:$AK142,0)","v":{"$error":"#N/A"}},{"$f":"MATCH(R$4,Millwall!$Z142:$AK142,0)","v":{"$error":"#N/A"}},{"$f":"MATCH(S$4,Millwall!$Z142:$AK142,0)","v":{"$error":"#N/A"}},{"$f":"MATCH(T$4,Millwall!$Z142:$AK142,0)","v":{"$error":"#N/A"}},{"$f":"MATCH(U$4,Millwall!$Z142:$AK142,0)","v":{"$error":"#N/A"}},{"$f":"MATCH(V$4,Millwall!$Z142:$AK142,0)","v":{"$error":"#N/A"}},{"$f":"MATCH(W$4,Millwall!$Z142:$AK142,0)","v":{"$error":"#N/A"}},{"$f":"MATCH(X$4,Millwall!$Z142:$AK142,0)","v":{"$error":"#N/A"}},{"$f":"MATCH(Y$4,Millwall!$Z142:$AK142,0)","v":{"$error":"#N/A"}},{"$f":"MATCH(Z$4,Millwall!$Z142:$AK142,0)","v":{"$error":"#N/A"}},{"$f":"MATCH(AA$4,Millwall!$Z142:$AK142,0)","v":{"$error":"#N/A"}},{"$f":"MATCH(AB$4,Millwall!$Z142:$AK142,0)","v":{"$error":"#N/A"}},{"$f":"MATCH(AC$4,Millwall!$Z142:$AK142,0)","v":{"$error":"#N/A"}},{"$f":"MATCH(AD$4,Millwall!$Z142:$AK142,0)","v":{"$error":"#N/A"}},{"$f":"MATCH(AE$4,Millwall!$Z142:$AK142,0)","v":{"$error":"#N/A"}},{"$f":"MATCH(AF$4,Millwall!$Z142:$AK142,0)","v":{"$error":"#N/A"}},{"$f":"MATCH(AG$4,Millwall!$Z142:$AK142,0)","v":{"$error":"#N/A"}},{"$f":"MATCH(AH$4,Millwall!$Z142:$AK142,0)","v":{"$error":"#N/A"}},{"$f":"MATCH(AI$4,Millwall!$Z142:$AK142,0)","v":{"$error":"#N/A"}},{"$f":"MATCH(AJ$4,Millwall!$Z142:$AK142,0)","v":{"$error":"#N/A"}},{"$f":"MATCH(AK$4,Millwall!$Z142:$AK142,0)","v":{"$error":"#N/A"}},{"$f":"MATCH(AL$4,Millwall!$Z142:$AK142,0)","v":{"$error":"#N/A"}},{"$f":"MATCH(AM$4,Millwall!$Z142:$AK142,0)","v":{"$error":"#N/A"}},{"$f":"MATCH(AN$4,Millwall!$Z142:$AK142,0)","v":{"$error":"#N/A"}},{"$f":"MATCH(AO$4,Millwall!$Z142:$AK142,0)","v":{"$error":"#N/A"}},{"$f":"MATCH(AP$4,Millwall!$Z142:$AK142,0)","v":{"$error":"#N/A"}},{"$f":"MATCH(AQ$4,Millwall!$Z142:$AK142,0)","v":{"$error":"#N/A"}},{"$f":"MATCH(AR$4,Millwall!$Z142:$AK142,0)","v":{"$error":"#N/A"}},null,null,null,null,null,{"$f":"MATCH(AX$3,Millwall!$Z142:$AK142,0)","v":{"$error":"#N/A"}},{"$f":"MATCH(AY$3,Millwall!$Z142:$AK142,0)","v":{"$error":"#N/A"}},{"$f":"MATCH(AZ$3,Millwall!$Z142:$AK142,0)","v":{"$error":"#N/A"}},{"$f":"MATCH(BA$3,Millwall!$Z142:$AK142,0)","v":{"$error":"#N/A"}},{"$f":"MATCH(BB$3,Millwall!$Z142:$AK142,0)","v":{"$error":"#N/A"}},{"$f":"MATCH(BC$3,Millwall!$Z142:$AK142,0)","v":{"$error":"#N/A"}},{"$f":"MATCH(BD$3,Millwall!$Z142:$AK142,0)","v":{"$error":"#N/A"}},{"$f":"MATCH(BE$3,Millwall!$Z142:$AK142,0)","v":{"$error":"#N/A"}},{"$f":"MATCH(BF$3,Millwall!$Z142:$AK142,0)","v":{"$error":"#N/A"}},{"$f":"MATCH(BG$3,Millwall!$Z142:$AK142,0)","v":{"$error":"#N/A"}},{"$f":"MATCH(BH$3,Millwall!$Z142:$AK142,0)","v":{"$error":"#N/A"}},{"$f":"MATCH(BI$3,Millwall!$Z142:$AK142,0)","v":{"$error":"#N/A"}},{"$f":"MATCH(BJ$3,Millwall!$Z142:$AK142,0)","v":{"$error":"#N/A"}},{"$f":"MATCH(BK$3,Millwall!$Z142:$AK142,0)","v":{"$error":"#N/A"}},{"$f":"MATCH(BL$3,Millwall!$Z142:$AK142,0)","v":{"$error":"#N/A"}},{"$f":"MATCH(BM$3,Millwall!$Z142:$AK142,0)","v":{"$error":"#N/A"}},{"$f":"MATCH(BN$3,Millwall!$Z142:$AK142,0)","v":{"$error":"#N/A"}},{"$f":"MATCH(BO$3,Millwall!$Z142:$AK142,0)","v":{"$error":"#N/A"}},{"$f":"MATCH(BP$3,Millwall!$Z142:$AK142,0)","v":{"$error":"#N/A"}},{"$f":"MATCH(BQ$3,Millwall!$Z142:$AK142,0)","v":{"$error":"#N/A"}},{"$f":"MATCH(BR$3,Millwall!$Z142:$AK142,0)","v":{"$error":"#N/A"}},{"$f":"MATCH(BS$3,Millwall!$Z142:$AK142,0)","v":{"$error":"#N/A"}},{"$f":"MATCH(BT$3,Millwall!$Z142:$AK142,0)","v":{"$error":"#N/A"}},{"$f":"MATCH(BU$3,Millwall!$Z142:$AK142,0)","v":{"$error":"#N/A"}},{"$f":"MATCH(BV$3,Millwall!$Z142:$AK142,0)","v":{"$error":"#N/A"}},{"$f":"MATCH(BW$3,Millwall!$Z142:$AK142,0)","v":{"$error":"#N/A"}},{"$f":"MATCH(BX$3,Millwall!$Z142:$AK142,0)","v":{"$error":"#N/A"}},{"$f":"MATCH(BY$3,Millwall!$Z142:$AK142,0)","v":{"$error":"#N/A"}},{"$f":"MATCH(BZ$3,Millwall!$Z142:$AK142,0)","v":{"$error":"#N/A"}},{"$f":"MATCH(CA$3,Millwall!$Z142:$AK142,0)","v":{"$error":"#N/A"}},{"$f":"MATCH(CB$3,Millwall!$Z142:$AK142,0)","v":{"$error":"#N/A"}},{"$f":"MATCH(CC$3,Millwall!$Z142:$AK142,0)","v":{"$error":"#N/A"}},{"$f":"MATCH(CD$3,Millwall!$Z142:$AK142,0)","v":{"$error":"#N/A"}},{"$f":"MATCH(CE$3,Millwall!$Z142:$AK142,0)","v":{"$error":"#N/A"}}]
[null,null,1,null,null,{"$f":"Millwall!AJ143","v":"00:00:00"},null,{"$f":"Millwall!AK143","v":"00:00:00"},{"$f":"Millwall!AL143","v":"00:00:00"},{"$f":"Millwall!AM143","v":0},{"$f":"MATCH(K$4,Millwall!$Z143:$AK143,0)","v":{"$error":"#N/A"}},{"$f":"MATCH(L$4,Millwall!$Z143:$AK143,0)","v":{"$error":"#N/A"}},{"$f":"MATCH(M$4,Millwall!$Z143:$AK143,0)","v":{"$error":"#N/A"}},{"$f":"MATCH(N$4,Millwall!$Z143:$AK143,0)","v":{"$error":"#N/A"}},{"$f":"MATCH(O$4,Millwall!$Z143:$AK143,0)","v":{"$error":"#N/A"}},{"$f":"MATCH(P$4,Millwall!$Z143:$AK143,0)","v":{"$error":"#N/A"}},{"$f":"MATCH(Q$4,Millwall!$Z143:$AK143,0)","v":{"$error":"#N/A"}},{"$f":"MATCH(R$4,Millwall!$Z143:$AK143,0)","v":{"$error":"#N/A"}},{"$f":"MATCH(S$4,Millwall!$Z143:$AK143,0)","v":{"$error":"#N/A"}},{"$f":"MATCH(T$4,Millwall!$Z143:$AK143,0)","v":{"$error":"#N/A"}},{"$f":"MATCH(U$4,Millwall!$Z143:$AK143,0)","v":{"$error":"#N/A"}},{"$f":"MATCH(V$4,Millwall!$Z143:$AK143,0)","v":{"$error":"#N/A"}},{"$f":"MATCH(W$4,Millwall!$Z143:$AK143,0)","v":{"$error":"#N/A"}},{"$f":"MATCH(X$4,Millwall!$Z143:$AK143,0)","v":{"$error":"#N/A"}},{"$f":"MATCH(Y$4,Millwall!$Z143:$AK143,0)","v":{"$error":"#N/A"}},{"$f":"MATCH(Z$4,Millwall!$Z143:$AK143,0)","v":{"$error":"#N/A"}},{"$f":"MATCH(AA$4,Millwall!$Z143:$AK143,0)","v":{"$error":"#N/A"}},{"$f":"MATCH(AB$4,Millwall!$Z143:$AK143,0)","v":{"$error":"#N/A"}},{"$f":"MATCH(AC$4,Millwall!$Z143:$AK143,0)","v":{"$error":"#N/A"}},{"$f":"MATCH(AD$4,Millwall!$Z143:$AK143,0)","v":{"$error":"#N/A"}},{"$f":"MATCH(AE$4,Millwall!$Z143:$AK143,0)","v":{"$error":"#N/A"}},{"$f":"MATCH(AF$4,Millwall!$Z143:$AK143,0)","v":{"$error":"#N/A"}},{"$f":"MATCH(AG$4,Millwall!$Z143:$AK143,0)","v":{"$error":"#N/A"}},{"$f":"MATCH(AH$4,Millwall!$Z143:$AK143,0)","v":{"$error":"#N/A"}},{"$f":"MATCH(AI$4,Millwall!$Z143:$AK143,0)","v":{"$error":"#N/A"}},{"$f":"MATCH(AJ$4,Millwall!$Z143:$AK143,0)","v":{"$error":"#N/A"}},{"$f":"MATCH(AK$4,Millwall!$Z143:$AK143,0)","v":{"$error":"#N/A"}},{"$f":"MATCH(AL$4,Millwall!$Z143:$AK143,0)","v":{"$error":"#N/A"}},{"$f":"MATCH(AM$4,Millwall!$Z143:$AK143,0)","v":{"$error":"#N/A"}},{"$f":"MATCH(AN$4,Millwall!$Z143:$AK143,0)","v":{"$error":"#N/A"}},{"$f":"MATCH(AO$4,Millwall!$Z143:$AK143,0)","v":{"$error":"#N/A"}},{"$f":"MATCH(AP$4,Millwall!$Z143:$AK143,0)","v":{"$error":"#N/A"}},{"$f":"MATCH(AQ$4,Millwall!$Z143:$AK143,0)","v":{"$error":"#N/A"}},{"$f":"MATCH(AR$4,Millwall!$Z143:$AK143,0)","v":{"$error":"#N/A"}},null,null,null,null,null,{"$f":"MATCH(AX$3,Millwall!$Z143:$AK143,0)","v":{"$error":"#N/A"}},{"$f":"MATCH(AY$3,Millwall!$Z143:$AK143,0)","v":{"$error":"#N/A"}},{"$f":"MATCH(AZ$3,Millwall!$Z143:$AK143,0)","v":{"$error":"#N/A"}},{"$f":"MATCH(BA$3,Millwall!$Z143:$AK143,0)","v":{"$error":"#N/A"}},{"$f":"MATCH(BB$3,Millwall!$Z143:$AK143,0)","v":{"$error":"#N/A"}},{"$f":"MATCH(BC$3,Millwall!$Z143:$AK143,0)","v":{"$error":"#N/A"}},{"$f":"MATCH(BD$3,Millwall!$Z143:$AK143,0)","v":{"$error":"#N/A"}},{"$f":"MATCH(BE$3,Millwall!$Z143:$AK143,0)","v":{"$error":"#N/A"}},{"$f":"MATCH(BF$3,Millwall!$Z143:$AK143,0)","v":{"$error":"#N/A"}},{"$f":"MATCH(BG$3,Millwall!$Z143:$AK143,0)","v":{"$error":"#N/A"}},{"$f":"MATCH(BH$3,Millwall!$Z143:$AK143,0)","v":{"$error":"#N/A"}},{"$f":"MATCH(BI$3,Millwall!$Z143:$AK143,0)","v":{"$error":"#N/A"}},{"$f":"MATCH(BJ$3,Millwall!$Z143:$AK143,0)","v":{"$error":"#N/A"}},{"$f":"MATCH(BK$3,Millwall!$Z143:$AK143,0)","v":{"$error":"#N/A"}},{"$f":"MATCH(BL$3,Millwall!$Z143:$AK143,0)","v":{"$error":"#N/A"}},{"$f":"MATCH(BM$3,Millwall!$Z143:$AK143,0)","v":{"$error":"#N/A"}},{"$f":"MATCH(BN$3,Millwall!$Z143:$AK143,0)","v":{"$error":"#N/A"}},{"$f":"MATCH(BO$3,Millwall!$Z143:$AK143,0)","v":{"$error":"#N/A"}},{"$f":"MATCH(BP$3,Millwall!$Z143:$AK143,0)","v":{"$error":"#N/A"}},{"$f":"MATCH(BQ$3,Millwall!$Z143:$AK143,0)","v":{"$error":"#N/A"}},{"$f":"MATCH(BR$3,Millwall!$Z143:$AK143,0)","v":{"$error":"#N/A"}},{"$f":"MATCH(BS$3,Millwall!$Z143:$AK143,0)","v":{"$error":"#N/A"}},{"$f":"MATCH(BT$3,Millwall!$Z143:$AK143,0)","v":{"$error":"#N/A"}},{"$f":"MATCH(BU$3,Millwall!$Z143:$AK143,0)","v":{"$error":"#N/A"}},{"$f":"MATCH(BV$3,Millwall!$Z143:$AK143,0)","v":{"$error":"#N/A"}},{"$f":"MATCH(BW$3,Millwall!$Z143:$AK143,0)","v":{"$error":"#N/A"}},{"$f":"MATCH(BX$3,Millwall!$Z143:$AK143,0)","v":{"$error":"#N/A"}},{"$f":"MATCH(BY$3,Millwall!$Z143:$AK143,0)","v":{"$error":"#N/A"}},{"$f":"MATCH(BZ$3,Millwall!$Z143:$AK143,0)","v":{"$error":"#N/A"}},{"$f":"MATCH(CA$3,Millwall!$Z143:$AK143,0)","v":{"$error":"#N/A"}},{"$f":"MATCH(CB$3,Millwall!$Z143:$AK143,0)","v":{"$error":"#N/A"}},{"$f":"MATCH(CC$3,Millwall!$Z143:$AK143,0)","v":{"$error":"#N/A"}},{"$f":"MATCH(CD$3,Millwall!$Z143:$AK143,0)","v":{"$error":"#N/A"}},{"$f":"MATCH(CE$3,Millwall!$Z143:$AK143,0)","v":{"$error":"#N/A"}}]
[null,null,1,null,null,{"$f":"Millwall!AJ144","v":"00:00:00"},null,{"$f":"Millwall!AK144","v":"00:00:00"},{"$f":"Millwall!AL144","v":"00:00:00"},{"$f":"Millwall!AM144","v":0},{"$f":"MATCH(K$4,Millwall!$Z144:$AK144,0)","v":{"$error":"#N/A"}},{"$f":"MATCH(L$4,Millwall!$Z144:$AK144,0)","v":{"$error":"#N/A"}},{"$f":"MATCH(M$4,Millwall!$Z144:$AK144,0)","v":{"$error":"#N/A"}},{"$f":"MATCH(N$4,Millwall!$Z144:$AK144,0)","v":{"$error":"#N/A"}},{"$f":"MATCH(O$4,Millwall!$Z144:$AK144,0)","v":{"$error":"#N/A"}},{"$f":"MATCH(P$4,Millwall!$Z144:$AK144,0)","v":{"$error":"#N/A"}},{"$f":"MATCH(Q$4,Millwall!$Z144:$AK144,0)","v":{"$error":"#N/A"}},{"$f":"MATCH(R$4,Millwall!$Z144:$AK144,0)","v":{"$error":"#N/A"}},{"$f":"MATCH(S$4,Millwall!$Z144:$AK144,0)","v":{"$error":"#N/A"}},{"$f":"MATCH(T$4,Millwall!$Z144:$AK144,0)","v":{"$error":"#N/A"}},{"$f":"MATCH(U$4,Millwall!$Z144:$AK144,0)","v":{"$error":"#N/A"}},{"$f":"MATCH(V$4,Millwall!$Z144:$AK144,0)","v":{"$error":"#N/A"}},{"$f":"MATCH(W$4,Millwall!$Z144:$AK144,0)","v":{"$error":"#N/A"}},{"$f":"MATCH(X$4,Millwall!$Z144:$AK144,0)","v":{"$error":"#N/A"}},{"$f":"MATCH(Y$4,Millwall!$Z144:$AK144,0)","v":{"$error":"#N/A"}},{"$f":"MATCH(Z$4,Millwall!$Z144:$AK144,0)","v":{"$error":"#N/A"}},{"$f":"MATCH(AA$4,Millwall!$Z144:$AK144,0)","v":{"$error":"#N/A"}},{"$f":"MATCH(AB$4,Millwall!$Z144:$AK144,0)","v":{"$error":"#N/A"}},{"$f":"MATCH(AC$4,Millwall!$Z144:$AK144,0)","v":{"$error":"#N/A"}},{"$f":"MATCH(AD$4,Millwall!$Z144:$AK144,0)","v":{"$error":"#N/A"}},{"$f":"MATCH(AE$4,Millwall!$Z144:$AK144,0)","v":{"$error":"#N/A"}},{"$f":"MATCH(AF$4,Millwall!$Z144:$AK144,0)","v":{"$error":"#N/A"}},{"$f":"MATCH(AG$4,Millwall!$Z144:$AK144,0)","v":{"$error":"#N/A"}},{"$f":"MATCH(AH$4,Millwall!$Z144:$AK144,0)","v":{"$error":"#N/A"}},{"$f":"MATCH(AI$4,Millwall!$Z144:$AK144,0)","v":{"$error":"#N/A"}},{"$f":"MATCH(AJ$4,Millwall!$Z144:$AK144,0)","v":{"$error":"#N/A"}},{"$f":"MATCH(AK$4,Millwall!$Z144:$AK144,0)","v":{"$error":"#N/A"}},{"$f":"MATCH(AL$4,Millwall!$Z144:$AK144,0)","v":{"$error":"#N/A"}},{"$f":"MATCH(AM$4,Millwall!$Z144:$AK144,0)","v":{"$error":"#N/A"}},{"$f":"MATCH(AN$4,Millwall!$Z144:$AK144,0)","v":{"$error":"#N/A"}},{"$f":"MATCH(AO$4,Millwall!$Z144:$AK144,0)","v":{"$error":"#N/A"}},{"$f":"MATCH(AP$4,Millwall!$Z144:$AK144,0)","v":{"$error":"#N/A"}},{"$f":"MATCH(AQ$4,Millwall!$Z144:$AK144,0)","v":{"$error":"#N/A"}},{"$f":"MATCH(AR$4,Millwall!$Z144:$AK144,0)","v":{"$error":"#N/A"}},null,null,null,null,null,{"$f":"MATCH(AX$3,Millwall!$Z144:$AK144,0)","v":{"$error":"#N/A"}},{"$f":"MATCH(AY$3,Millwall!$Z144:$AK144,0)","v":{"$error":"#N/A"}},{"$f":"MATCH(AZ$3,Millwall!$Z144:$AK144,0)","v":{"$error":"#N/A"}},{"$f":"MATCH(BA$3,Millwall!$Z144:$AK144,0)","v":{"$error":"#N/A"}},{"$f":"MATCH(BB$3,Millwall!$Z144:$AK144,0)","v":{"$error":"#N/A"}},{"$f":"MATCH(BC$3,Millwall!$Z144:$AK144,0)","v":{"$error":"#N/A"}},{"$f":"MATCH(BD$3,Millwall!$Z144:$AK144,0)","v":{"$error":"#N/A"}},{"$f":"MATCH(BE$3,Millwall!$Z144:$AK144,0)","v":{"$error":"#N/A"}},{"$f":"MATCH(BF$3,Millwall!$Z144:$AK144,0)","v":{"$error":"#N/A"}},{"$f":"MATCH(BG$3,Millwall!$Z144:$AK144,0)","v":{"$error":"#N/A"}},{"$f":"MATCH(BH$3,Millwall!$Z144:$AK144,0)","v":{"$error":"#N/A"}},{"$f":"MATCH(BI$3,Millwall!$Z144:$AK144,0)","v":{"$error":"#N/A"}},{"$f":"MATCH(BJ$3,Millwall!$Z144:$AK144,0)","v":{"$error":"#N/A"}},{"$f":"MATCH(BK$3,Millwall!$Z144:$AK144,0)","v":{"$error":"#N/A"}},{"$f":"MATCH(BL$3,Millwall!$Z144:$AK144,0)","v":{"$error":"#N/A"}},{"$f":"MATCH(BM$3,Millwall!$Z144:$AK144,0)","v":{"$error":"#N/A"}},{"$f":"MATCH(BN$3,Millwall!$Z144:$AK144,0)","v":{"$error":"#N/A"}},{"$f":"MATCH(BO$3,Millwall!$Z144:$AK144,0)","v":{"$error":"#N/A"}},{"$f":"MATCH(BP$3,Millwall!$Z144:$AK144,0)","v":{"$error":"#N/A"}},{"$f":"MATCH(BQ$3,Millwall!$Z144:$AK144,0)","v":{"$error":"#N/A"}},{"$f":"MATCH(BR$3,Millwall!$Z144:$AK144,0)","v":{"$error":"#N/A"}},{"$f":"MATCH(BS$3,Millwall!$Z144:$AK144,0)","v":{"$error":"#N/A"}},{"$f":"MATCH(BT$3,Millwall!$Z144:$AK144,0)","v":{"$error":"#N/A"}},{"$f":"MATCH(BU$3,Millwall!$Z144:$AK144,0)","v":{"$error":"#N/A"}},{"$f":"MATCH(BV$3,Millwall!$Z144:$AK144,0)","v":{"$error":"#N/A"}},{"$f":"MATCH(BW$3,Millwall!$Z144:$AK144,0)","v":{"$error":"#N/A"}},{"$f":"MATCH(BX$3,Millwall!$Z144:$AK144,0)","v":{"$error":"#N/A"}},{"$f":"MATCH(BY$3,Millwall!$Z144:$AK144,0)","v":{"$error":"#N/A"}},{"$f":"MATCH(BZ$3,Millwall!$Z144:$AK144,0)","v":{"$error":"#N/A"}},{"$f":"MATCH(CA$3,Millwall!$Z144:$AK144,0)","v":{"$error":"#N/A"}},{"$f":"MATCH(CB$3,Millwall!$Z144:$AK144,0)","v":{"$error":"#N/A"}},{"$f":"MATCH(CC$3,Millwall!$Z144:$AK144,0)","v":{"$error":"#N/A"}},{"$f":"MATCH(CD$3,Millwall!$Z144:$AK144,0)","v":{"$error":"#N/A"}},{"$f":"MATCH(CE$3,Millwall!$Z144:$AK144,0)","v":{"$error":"#N/A"}}]
[]
[null,null,null,null,null,null,null,null,null,"Total League Cup Apperances",{"$f":"COUNT(K72:K80)-K84-K83","v":4},{"$f":"COUNT(L72:L80)-L84-L83","v":1},0,4,0,3,3,1,4,4,0,3,4,0,3,4,0,1,2,0,3,0,0,0,0,0,0,0,0,0,0,0,0,0]
[null,null,null,null,null,null,null,null,null,"Total League Cup Substitute Appearences ",{"$f":"AX83","v":0},{"$f":"AY83","v":0},0,0,0,0,1,2,0,0,0,0,0,0,0,0,0,0,0,0,0,0,0,0,0,0,0,0,0,0,0,0,0,0,null,null,null,null,null,{"$f":"COUNTIF(AX72:AX80,12)","v":0},{"$f":"COUNTIF(AY72:AY80,12)","v":0},0,0,0,0,1,2,0,0,0,0,0,0,0,0,0,0,0,0,0,0,0,0,0,0,0,0,0,0,0,0,0,0]
[null,null,null,null,null,null,null,null,null,"Non Playing Substitute",{"$f":"COUNTIF(K72:K80,12)-K83","v":0},{"$f":"COUNTIF(L72:L80,12)-L83","v":1},0,0,0,0,0,0,0,0,0,0,0,0,0,0,0,0,0,0,0,0,0,0,0,0,0,0,0,0,0,0,0,0]
[null,null,null,null,null,null,null,null,null,"Goals",{"$f":"Millwall!$CJ9","v":0},{"$f":"Millwall!$CJ10","v":0},{"$f":"Millwall!$CJ11","v":0},{"$f":"Millwall!$CJ12","v":2},{"$f":"Millwall!$CJ13","v":0},{"$f":"Millwall!$CJ14","v":0},{"$f":"Millwall!$CJ15","v":0},{"$f":"Millwall!$CJ16","v":1},{"$f":"Millwall!$CJ17","v":3},{"$f":"Millwall!$CJ18","v":1},{"$f":"Millwall!$CJ19","v":0},{"$f":"Millwall!$CJ20","v":0},{"$f":"Millwall!$CJ21","v":0},{"$f":"Millwall!$CJ22","v":0},{"$f":"Millwall!$CJ23","v":0},{"$f":"Millwall!$CJ24","v":0},{"$f":"Millwall!$CJ25","v":0},{"$f":"Millwall!$CJ26","v":0},{"$f":"Millwall!$CJ27","v":0},{"$f":"Millwall!$CJ28","v":0},{"$f":"Millwall!$CJ29","v":0},{"$f":"Millwall!$CJ30","v":0},{"$f":"Millwall!$CJ31","v":0},{"$f":"Millwall!$CJ32","v":0},{"$f":"Millwall!$CJ33","v":7},{"$f":"Millwall!$CJ34","v":0},{"$f":"Millwall!$CJ35","v":0},{"$f":"Millwall!$CJ36","v":0},{"$f":"Millwall!$CJ37","v":0},{"$f":"Millwall!$CJ38","v":0},{"$f":"Millwall!$CJ39","v":0},{"$f":"Millwall!$CJ40","v":0},{"$f":"Millwall!$CJ41","v":0},{"$f":"Millwall!$CJ42","v":0}]
[]
[null,null,null,null,null,null,null,"Full Members Cup"]
[null,null,{"$f":"IF(J88=0,1,0)","v":0},"G",null,{"$f":"Millwall!V146","v":"1985-10-02"},null,{"$f":"Millwall!W146","v":"Stoke"},{"$f":"Millwall!X146","v":"(H)"},{"$f":"Millwall!Y146","v":"D 2-2"},{"$f":"MATCH(K$4,Millwall!$Z146:$AM146,0)","v":4},{"$f":"MATCH(L$4,Millwall!$Z146:$AM146,0)","v":8},{"$f":"MATCH(M$4,Millwall!$Z146:$AM146,0)","v":{"$error":"#N/A"}},{"$f":"MATCH(N$4,Millwall!$Z146:$AM146,0)","v":9},{"$f":"MATCH(O$4,Millwall!$Z146:$AM146,0)","v":{"$error":"#N/A"}},{"$f":"MATCH(P$4,Millwall!$Z146:$AM146,0)","v":{"$error":"#N/A"}},{"$f":"MATCH(Q$4,Millwall!$Z146:$AM146,0)","v":11},{"$f":"MATCH(R$4,Millwall!$Z146:$AM146,0)","v":12},{"$f":"MATCH(S$4,Millwall!$Z146:$AM146,0)","v":10},{"$f":"MATCH(T$4,Millwall!$Z146:$AM146,0)","v":7},{"$f":"MATCH(U$4,Millwall!$Z146:$AM146,0)","v":{"$error":"#N/A"}},{"$f":"MATCH(V$4,Millwall!$Z146:$AM146,0)","v":14},{"$f":"MATCH(W$4,Millwall!$Z146:$AM146,0)","v":6},{"$f":"MATCH(X$4,Millwall!$Z146:$AM146,0)","v":{"$error":"#N/A"}},{"$f":"MATCH(Y$4,Millwall!$Z146:$AM146,0)","v":3},{"$f":"MATCH(Z$4,Millwall!$Z146:$AM146,0)","v":1},{"$f":"MATCH(AA$4,Millwall!$Z146:$AM146,0)","v":{"$error":"#N/A"}},{"$f":"MATCH(AB$4,Millwall!$Z146:$AM146,0)","v":5},{"$f":"MATCH(AC$4,Millwall!$Z146:$AM146,0)","v":2},{"$f":"MATCH(AD$4,Millwall!$Z146:$AM146,0)","v":{"$error":"#N/A"}},{"$f":"MATCH(AE$4,Millwall!$Z146:$AM146,0)","v":{"$error":"#N/A"}},{"$f":"MATCH(AF$4,Millwall!$Z146:$AM146,0)","v":{"$error":"#N/A"}},{"$f":"MATCH(AG$4,Millwall!$Z146:$AM146,0)","v":{"$error":"#N/A"}},{"$f":"MATCH(AH$4,Millwall!$Z146:$AM146,0)","v":{"$error":"#N/A"}},{"$f":"MATCH(AI$4,Millwall!$Z146:$AM146,0)","v":{"$error":"#N/A"}},{"$f":"MATCH(AJ$4,Millwall!$Z146:$AM146,0)","v":{"$error":"#N/A"}},{"$f":"MATCH(AK$4,Millwall!$Z146:$AM146,0)","v":{"$error":"#N/A"}},{"$f":"MATCH(AL$4,Millwall!$Z146:$AM146,0)","v":{"$error":"#N/A"}},{"$f":"MATCH(AM$4,Millwall!$Z146:$AM146,0)","v":{"$error":"#N/A"}},{"$f":"MATCH(AN$4,Millwall!$Z146:$AM146,0)","v":{"$error":"#N/A"}},{"$f":"MATCH(AO$4,Millwall!$Z146:$AM146,0)","v":{"$error":"#N/A"}},{"$f":"MATCH(AP$4,Millwall!$Z146:$AM146,0)","v":{"$error":"#N/A"}},{"$f":"MATCH(AQ$4,Millwall!$Z146:$AM146,0)","v":{"$error":"#N/A"}},{"$f":"MATCH(AR$4,Millwall!$Z146:$AM146,0)","v":{"$error":"#N/A"}},null,null,null,null,null,{"$f":"MATCH(AX$3,Millwall!$Z146:$AM146,0)","v":{"$error":"#N/A"}},{"$f":"MATCH(AY$3,Millwall!$Z146:$AM146,0)","v":{"$error":"#N/A"}},{"$f":"MATCH(AZ$3,Millwall!$Z146:$AM146,0)","v":{"$error":"#N/A"}},{"$f":"MATCH(BA$3,Millwall!$Z146:$AM146,0)","v":{"$error":"#N/A"}},{"$f":"MATCH(BB$3,Millwall!$Z146:$AM146,0)","v":{"$error":"#N/A"}},{"$f":"MATCH(BC$3,Millwall!$Z146:$AM146,0)","v":{"$error":"#N/A"}},{"$f":"MATCH(BD$3,Millwall!$Z146:$AM146,0)","v":{"$error":"#N/A"}},{"$f":"MATCH(BE$3,Millwall!$Z146:$AM146,0)","v":{"$error":"#N/A"}},{"$f":"MATCH(BF$3,Millwall!$Z146:$AM146,0)","v":{"$error":"#N/A"}},{"$f":"MATCH(BG$3,Millwall!$Z146:$AM146,0)","v":{"$error":"#N/A"}},{"$f":"MATCH(BH$3,Millwall!$Z146:$AM146,0)","v":{"$error":"#N/A"}},{"$f":"MATCH(BI$3,Millwall!$Z146:$AM146,0)","v":{"$error":"#N/A"}},{"$f":"MATCH(BJ$3,Millwall!$Z146:$AM146,0)","v":{"$error":"#N/A"}},{"$f":"MATCH(BK$3,Millwall!$Z146:$AM146,0)","v":{"$error":"#N/A"}},{"$f":"MATCH(BL$3,Millwall!$Z146:$AM146,0)","v":{"$error":"#N/A"}},{"$f":"MATCH(BM$3,Millwall!$Z146:$AM146,0)","v":{"$error":"#N/A"}},{"$f":"MATCH(BN$3,Millwall!$Z146:$AM146,0)","v":{"$error":"#N/A"}},{"$f":"MATCH(BO$3,Millwall!$Z146:$AM146,0)","v":{"$error":"#N/A"}},{"$f":"MATCH(BP$3,Millwall!$Z146:$AM146,0)","v":{"$error":"#N/A"}},{"$f":"MATCH(BQ$3,Millwall!$Z146:$AM146,0)","v":{"$error":"#N/A"}},{"$f":"MATCH(BR$3,Millwall!$Z146:$AM146,0)","v":{"$error":"#N/A"}},{"$f":"MATCH(BS$3,Millwall!$Z146:$AM146,0)","v":{"$error":"#N/A"}},{"$f":"MATCH(BT$3,Millwall!$Z146:$AM146,0)","v":{"$error":"#N/A"}},{"$f":"MATCH(BU$3,Millwall!$Z146:$AM146,0)","v":{"$error":"#N/A"}},{"$f":"MATCH(BV$3,Millwall!$Z146:$AM146,0)","v":{"$error":"#N/A"}},{"$f":"MATCH(BW$3,Millwall!$Z146:$AM146,0)","v":{"$error":"#N/A"}},{"$f":"MATCH(BX$3,Millwall!$Z146:$AM146,0)","v":{"$error":"#N/A"}},{"$f":"MATCH(BY$3,Millwall!$Z146:$AM146,0)","v":{"$error":"#N/A"}},{"$f":"MATCH(BZ$3,Millwall!$Z146:$AM146,0)","v":{"$error":"#N/A"}},{"$f":"MATCH(CA$3,Millwall!$Z146:$AM146,0)","v":{"$error":"#N/A"}},{"$f":"MATCH(CB$3,Millwall!$Z146:$AM146,0)","v":{"$error":"#N/A"}},{"$f":"MATCH(CC$3,Millwall!$Z146:$AM146,0)","v":{"$error":"#N/A"}},{"$f":"MATCH(CD$3,Millwall!$Z146:$AM146,0)","v":{"$error":"#N/A"}},{"$f":"MATCH(CE$3,Millwall!$Z146:$AM146,0)","v":{"$error":"#N/A"}},null,null,{"$f":"MATCH(CH$3,Millwall!$Z146:$AM146,0)","v":{"$error":"#N/A"}},{"$f":"MATCH(CI$3,Millwall!$Z146:$AM146,0)","v":{"$error":"#N/A"}},{"$f":"MATCH(CJ$3,Millwall!$Z146:$AM146,0)","v":{"$error":"#N/A"}},{"$f":"MATCH(CK$3,Millwall!$Z146:$AM146,0)","v":{"$error":"#N/A"}},{"$f":"MATCH(CL$3,Millwall!$Z146:$AM146,0)","v":{"$error":"#N/A"}},{"$f":"MATCH(CM$3,Millwall!$Z146:$AM146,0)","v":{"$error":"#N/A"}},{"$f":"MATCH(CN$3,Millwall!$Z146:$AM146,0)","v":{"$error":"#N/A"}},{"$f":"MATCH(CO$3,Millwall!$Z146:$AM146,0)","v":{"$error":"#N/A"}},{"$f":"MATCH(CP$3,Millwall!$Z146:$AM146,0)","v":{"$error":"#N/A"}},{"$f":"MATCH(CQ$3,Millwall!$Z146:$AM146,0)","v":{"$error":"#N/A"}},{"$f":"MATCH(CR$3,Millwall!$Z146:$AM146,0)","v":{"$error":"#N/A"}},{"$f":"MATCH(CS$3,Millwall!$Z146:$AM146,0)","v":{"$error":"#N/A"}},{"$f":"MATCH(CT$3,Millwall!$Z146:$AM146,0)","v":{"$error":"#N/A"}},{"$f":"MATCH(CU$3,Millwall!$Z146:$AM146,0)","v":{"$error":"#N/A"}},{"$f":"MATCH(CV$3,Millwall!$Z146:$AM146,0)","v":{"$error":"#N/A"}},{"$f":"MATCH(CW$3,Millwall!$Z146:$AM146,0)","v":{"$error":"#N/A"}},{"$f":"MATCH(CX$3,Millwall!$Z146:$AM146,0)","v":{"$error":"#N/A"}},{"$f":"MATCH(CY$3,Millwall!$Z146:$AM146,0)","v":{"$error":"#N/A"}},{"$f":"MATCH(CZ$3,Millwall!$Z146:$AM146,0)","v":{"$error":"#N/A"}},{"$f":"MATCH(DA$3,Millwall!$Z146:$AM146,0)","v":{"$error":"#N/A"}},{"$f":"MATCH(DB$3,Millwall!$Z146:$AM146,0)","v":{"$error":"#N/A"}},{"$f":"MATCH(DC$3,Millwall!$Z146:$AM146,0)","v":{"$error":"#N/A"}},{"$f":"MATCH(DD$3,Millwall!$Z146:$AM146,0)","v":{"$error":"#N/A"}},{"$f":"MATCH(DE$3,Millwall!$Z146:$AM146,0)","v":{"$error":"#N/A"}},{"$f":"MATCH(DF$3,Millwall!$Z146:$AM146,0)","v":{"$error":"#N/A"}},{"$f":"MATCH(DG$3,Millwall!$Z146:$AM146,0)","v":{"$error":"#N/A"}},{"$f":"MATCH(DH$3,Millwall!$Z146:$AM146,0)","v":{"$error":"#N/A"}},{"$f":"MATCH(DI$3,Millwall!$Z146:$AM146,0)","v":{"$error":"#N/A"}},{"$f":"MATCH(DJ$3,Millwall!$Z146:$AM146,0)","v":{"$error":"#N/A"}},{"$f":"MATCH(DK$3,Millwall!$Z146:$AM146,0)","v":{"$error":"#N/A"}},{"$f":"MATCH(DL$3,Millwall!$Z146:$AM146,0)","v":{"$error":"#N/A"}},{"$f":"MATCH(DM$3,Millwall!$Z146:$AM146,0)","v":{"$error":"#N/A"}},{"$f":"MATCH(DN$3,Millwall!$Z146:$AM146,0)","v":{"$error":"#N/A"}},{"$f":"MATCH(DO$3,Millwall!$Z146:$AM146,0)","v":{"$error":"#N/A"}}]
[null,null,{"$f":"IF(J89=0,1,0)","v":0},"G",null,{"$f":"Millwall!V147","v":"1985-10-15"},null,{"$f":"Millwall!W147","v":"Coventry"},{"$f":"Millwall!X147","v":"(A)"},{"$f":"Millwall!Y147","v":"D 1-1"},{"$f":"MATCH(K$4,Millwall!$Z147:$AM147,0)","v":4},{"$f":"MATCH(L$4,Millwall!$Z147:$AM147,0)","v":8},{"$f":"MATCH(M$4,Millwall!$Z147:$AM147,0)","v":{"$error":"#N/A"}},{"$f":"MATCH(N$4,Millwall!$Z147:$AM147,0)","v":9},{"$f":"MATCH(O$4,Millwall!$Z147:$AM147,0)","v":{"$error":"#N/A"}},{"$f":"MATCH(P$4,Millwall!$Z147:$AM147,0)","v":3},{"$f":"MATCH(Q$4,Millwall!$Z147:$AM147,0)","v":11},{"$f":"MATCH(R$4,Millwall!$Z147:$AM147,0)","v":10},{"$f":"MATCH(S$4,Millwall!$Z147:$AM147,0)","v":{"$error":"#N/A"}},{"$f":"MATCH(T$4,Millwall!$Z147:$AM147,0)","v":7},{"$f":"MATCH(U$4,Millwall!$Z147:$AM147,0)","v":14},{"$f":"MATCH(V$4,Millwall!$Z147:$AM147,0)","v":12},{"$f":"MATCH(W$4,Millwall!$Z147:$AM147,0)","v":6},{"$f":"MATCH(X$4,Millwall!$Z147:$AM147,0)","v":{"$error":"#N/A"}},{"$f":"MATCH(Y$4,Millwall!$Z147:$AM147,0)","v":{"$error":"#N/A"}},{"$f":"MATCH(Z$4,Millwall!$Z147:$AM147,0)","v":1},{"$f":"MATCH(AA$4,Millwall!$Z147:$AM147,0)","v":{"$error":"#N/A"}},{"$f":"MATCH(AB$4,Millwall!$Z147:$AM147,0)","v":{"$error":"#N/A"}},{"$f":"MATCH(AC$4,Millwall!$Z147:$AM147,0)","v":2},{"$f":"MATCH(AD$4,Millwall!$Z147:$AM147,0)","v":5},{"$f":"MATCH(AE$4,Millwall!$Z147:$AM147,0)","v":{"$error":"#N/A"}},{"$f":"MATCH(AF$4,Millwall!$Z147:$AM147,0)","v":{"$error":"#N/A"}},{"$f":"MATCH(AG$4,Millwall!$Z147:$AM147,0)","v":{"$error":"#N/A"}},{"$f":"MATCH(AH$4,Millwall!$Z147:$AM147,0)","v":{"$error":"#N/A"}},{"$f":"MATCH(AI$4,Millwall!$Z147:$AM147,0)","v":{"$error":"#N/A"}},{"$f":"MATCH(AJ$4,Millwall!$Z147:$AM147,0)","v":{"$error":"#N/A"}},{"$f":"MATCH(AK$4,Millwall!$Z147:$AM147,0)","v":{"$error":"#N/A"}},{"$f":"MATCH(AL$4,Millwall!$Z147:$AM147,0)","v":{"$error":"#N/A"}},{"$f":"MATCH(AM$4,Millwall!$Z147:$AM147,0)","v":{"$error":"#N/A"}},{"$f":"MATCH(AN$4,Millwall!$Z147:$AM147,0)","v":{"$error":"#N/A"}},{"$f":"MATCH(AO$4,Millwall!$Z147:$AM147,0)","v":{"$error":"#N/A"}},{"$f":"MATCH(AP$4,Millwall!$Z147:$AM147,0)","v":{"$error":"#N/A"}},{"$f":"MATCH(AQ$4,Millwall!$Z147:$AM147,0)","v":{"$error":"#N/A"}},{"$f":"MATCH(AR$4,Millwall!$Z147:$AM147,0)","v":{"$error":"#N/A"}},null,null,null,null,null,{"$f":"MATCH(AX$3,Millwall!$Z147:$AM147,0)","v":{"$error":"#N/A"}},{"$f":"MATCH(AY$3,Millwall!$Z147:$AM147,0)","v":{"$error":"#N/A"}},{"$f":"MATCH(AZ$3,Millwall!$Z147:$AM147,0)","v":{"$error":"#N/A"}},{"$f":"MATCH(BA$3,Millwall!$Z147:$AM147,0)","v":{"$error":"#N/A"}},{"$f":"MATCH(BB$3,Millwall!$Z147:$AM147,0)","v":{"$error":"#N/A"}},{"$f":"MATCH(BC$3,Millwall!$Z147:$AM147,0)","v":{"$error":"#N/A"}},{"$f":"MATCH(BD$3,Millwall!$Z147:$AM147,0)","v":{"$error":"#N/A"}},{"$f":"MATCH(BE$3,Millwall!$Z147:$AM147,0)","v":{"$error":"#N/A"}},{"$f":"MATCH(BF$3,Millwall!$Z147:$AM147,0)","v":{"$error":"#N/A"}},{"$f":"MATCH(BG$3,Millwall!$Z147:$AM147,0)","v":7},{"$f":"MATCH(BH$3,Millwall!$Z147:$AM147,0)","v":{"$error":"#N/A"}},{"$f":"MATCH(BI$3,Millwall!$Z147:$AM147,0)","v":12},{"$f":"MATCH(BJ$3,Millwall!$Z147:$AM147,0)","v":{"$error":"#N/A"}},{"$f":"MATCH(BK$3,Millwall!$Z147:$AM147,0)","v":{"$error":"#N/A"}},{"$f":"MATCH(BL$3,Millwall!$Z147:$AM147,0)","v":{"$error":"#N/A"}},{"$f":"MATCH(BM$3,Millwall!$Z147:$AM147,0)","v":{"$error":"#N/A"}},{"$f":"MATCH(BN$3,Millwall!$Z147:$AM147,0)","v":{"$error":"#N/A"}},{"$f":"MATCH(BO$3,Millwall!$Z147:$AM147,0)","v":{"$error":"#N/A"}},{"$f":"MATCH(BP$3,Millwall!$Z147:$AM147,0)","v":{"$error":"#N/A"}},{"$f":"MATCH(BQ$3,Millwall!$Z147:$AM147,0)","v":{"$error":"#N/A"}},{"$f":"MATCH(BR$3,Millwall!$Z147:$AM147,0)","v":{"$error":"#N/A"}},{"$f":"MATCH(BS$3,Millwall!$Z147:$AM147,0)","v":{"$error":"#N/A"}},{"$f":"MATCH(BT$3,Millwall!$Z147:$AM147,0)","v":{"$error":"#N/A"}},{"$f":"MATCH(BU$3,Millwall!$Z147:$AM147,0)","v":{"$error":"#N/A"}},{"$f":"MATCH(BV$3,Millwall!$Z147:$AM147,0)","v":{"$error":"#N/A"}},{"$f":"MATCH(BW$3,Millwall!$Z147:$AM147,0)","v":{"$error":"#N/A"}},{"$f":"MATCH(BX$3,Millwall!$Z147:$AM147,0)","v":{"$error":"#N/A"}},{"$f":"MATCH(BY$3,Millwall!$Z147:$AM147,0)","v":{"$error":"#N/A"}},{"$f":"MATCH(BZ$3,Millwall!$Z147:$AM147,0)","v":{"$error":"#N/A"}},{"$f":"MATCH(CA$3,Millwall!$Z147:$AM147,0)","v":{"$error":"#N/A"}},{"$f":"MATCH(CB$3,Millwall!$Z147:$AM147,0)","v":{"$error":"#N/A"}},{"$f":"MATCH(CC$3,Millwall!$Z147:$AM147,0)","v":{"$error":"#N/A"}},{"$f":"MATCH(CD$3,Millwall!$Z147:$AM147,0)","v":{"$error":"#N/A"}},{"$f":"MATCH(CE$3,Millwall!$Z147:$AM147,0)","v":{"$error":"#N/A"}},null,null,{"$f":"MATCH(CH$3,Millwall!$Z147:$AM147,0)","v":{"$error":"#N/A"}},{"$f":"MATCH(CI$3,Millwall!$Z147:$AM147,0)","v":{"$error":"#N/A"}},{"$f":"MATCH(CJ$3,Millwall!$Z147:$AM147,0)","v":{"$error":"#N/A"}},{"$f":"MATCH(CK$3,Millwall!$Z147:$AM147,0)","v":{"$error":"#N/A"}},{"$f":"MATCH(CL$3,Millwall!$Z147:$AM147,0)","v":{"$error":"#N/A"}},{"$f":"MATCH(CM$3,Millwall!$Z147:$AM147,0)","v":{"$error":"#N/A"}},{"$f":"MATCH(CN$3,Millwall!$Z147:$AM147,0)","v":{"$error":"#N/A"}},{"$f":"MATCH(CO$3,Millwall!$Z147:$AM147,0)","v":{"$error":"#N/A"}},{"$f":"MATCH(CP$3,Millwall!$Z147:$AM147,0)","v":{"$error":"#N/A"}},{"$f":"MATCH(CQ$3,Millwall!$Z147:$AM147,0)","v":{"$error":"#N/A"}},{"$f":"MATCH(CR$3,Millwall!$Z147:$AM147,0)","v":{"$error":"#N/A"}},{"$f":"MATCH(CS$3,Millwall!$Z147:$AM147,0)","v":{"$error":"#N/A"}},{"$f":"MATCH(CT$3,Millwall!$Z147:$AM147,0)","v":{"$error":"#N/A"}},{"$f":"MATCH(CU$3,Millwall!$Z147:$AM147,0)","v":{"$error":"#N/A"}},{"$f":"MATCH(CV$3,Millwall!$Z147:$AM147,0)","v":{"$error":"#N/A"}},{"$f":"MATCH(CW$3,Millwall!$Z147:$AM147,0)","v":{"$error":"#N/A"}},{"$f":"MATCH(CX$3,Millwall!$Z147:$AM147,0)","v":{"$error":"#N/A"}},{"$f":"MATCH(CY$3,Millwall!$Z147:$AM147,0)","v":{"$error":"#N/A"}},{"$f":"MATCH(CZ$3,Millwall!$Z147:$AM147,0)","v":{"$error":"#N/A"}},{"$f":"MATCH(DA$3,Millwall!$Z147:$AM147,0)","v":{"$error":"#N/A"}},{"$f":"MATCH(DB$3,Millwall!$Z147:$AM147,0)","v":{"$error":"#N/A"}},{"$f":"MATCH(DC$3,Millwall!$Z147:$AM147,0)","v":{"$error":"#N/A"}},{"$f":"MATCH(DD$3,Millwall!$Z147:$AM147,0)","v":{"$error":"#N/A"}},{"$f":"MATCH(DE$3,Millwall!$Z147:$AM147,0)","v":{"$error":"#N/A"}},{"$f":"MATCH(DF$3,Millwall!$Z147:$AM147,0)","v":{"$error":"#N/A"}},{"$f":"MATCH(DG$3,Millwall!$Z147:$AM147,0)","v":{"$error":"#N/A"}},{"$f":"MATCH(DH$3,Millwall!$Z147:$AM147,0)","v":{"$error":"#N/A"}},{"$f":"MATCH(DI$3,Millwall!$Z147:$AM147,0)","v":{"$error":"#N/A"}},{"$f":"MATCH(DJ$3,Millwall!$Z147:$AM147,0)","v":{"$error":"#N/A"}},{"$f":"MATCH(DK$3,Millwall!$Z147:$AM147,0)","v":{"$error":"#N/A"}},{"$f":"MATCH(DL$3,Millwall!$Z147:$AM147,0)","v":{"$error":"#N/A"}},{"$f":"MATCH(DM$3,Millwall!$Z147:$AM147,0)","v":{"$error":"#N/A"}},{"$f":"MATCH(DN$3,Millwall!$Z147:$AM147,0)","v":{"$error":"#N/A"}},{"$f":"MATCH(DO$3,Millwall!$Z147:$AM147,0)","v":{"$error":"#N/A"}}]
[null,null,1,null,null,{"$f":"Millwall!V148","v":"00:00:00"},null,{"$f":"Millwall!W148","v":"00:00:00"},{"$f":"Millwall!X148","v":"00:00:00"},{"$f":"Millwall!Y148","v":0},{"$f":"MATCH(K$4,Millwall!$Z148:$AM148,0)","v":{"$error":"#N/A"}},{"$f":"MATCH(L$4,Millwall!$Z148:$AM148,0)","v":{"$error":"#N/A"}},{"$f":"MATCH(M$4,Millwall!$Z148:$AM148,0)","v":{"$error":"#N/A"}},{"$f":"MATCH(N$4,Millwall!$Z148:$AM148,0)","v":{"$error":"#N/A"}},{"$f":"MATCH(O$4,Millwall!$Z148:$AM148,0)","v":{"$error":"#N/A"}},{"$f":"MATCH(P$4,Millwall!$Z148:$AM148,0)","v":{"$error":"#N/A"}},{"$f":"MATCH(Q$4,Millwall!$Z148:$AM148,0)","v":{"$error":"#N/A"}},{"$f":"MATCH(R$4,Millwall!$Z148:$AM148,0)","v":{"$error":"#N/A"}},{"$f":"MATCH(S$4,Millwall!$Z148:$AM148,0)","v":{"$error":"#N/A"}},{"$f":"MATCH(T$4,Millwall!$Z148:$AM148,0)","v":{"$error":"#N/A"}},{"$f":"MATCH(U$4,Millwall!$Z148:$AM148,0)","v":{"$error":"#N/A"}},{"$f":"MATCH(V$4,Millwall!$Z148:$AM148,0)","v":{"$error":"#N/A"}},{"$f":"MATCH(W$4,Millwall!$Z148:$AM148,0)","v":{"$error":"#N/A"}},{"$f":"MATCH(X$4,Millwall!$Z148:$AM148,0)","v":{"$error":"#N/A"}},{"$f":"MATCH(Y$4,Millwall!$Z148:$AM148,0)","v":{"$error":"#N/A"}},{"$f":"MATCH(Z$4,Millwall!$Z148:$AM148,0)","v":{"$error":"#N/A"}},{"$f":"MATCH(AA$4,Millwall!$Z148:$AM148,0)","v":{"$error":"#N/A"}},{"$f":"MATCH(AB$4,Millwall!$Z148:$AM148,0)","v":{"$error":"#N/A"}},{"$f":"MATCH(AC$4,Millwall!$Z148:$AM148,0)","v":{"$error":"#N/A"}},{"$f":"MATCH(AD$4,Millwall!$Z148:$AM148,0)","v":{"$error":"#N/A"}},{"$f":"MATCH(AE$4,Millwall!$Z148:$AM148,0)","v":{"$error":"#N/A"}},{"$f":"MATCH(AF$4,Millwall!$Z148:$AM148,0)","v":{"$error":"#N/A"}},{"$f":"MATCH(AG$4,Millwall!$Z148:$AM148,0)","v":{"$error":"#N/A"}},{"$f":"MATCH(AH$4,Millwall!$Z148:$AM148,0)","v":{"$error":"#N/A"}},{"$f":"MATCH(AI$4,Millwall!$Z148:$AM148,0)","v":{"$error":"#N/A"}},{"$f":"MATCH(AJ$4,Millwall!$Z148:$AM148,0)","v":{"$error":"#N/A"}},{"$f":"MATCH(AK$4,Millwall!$Z148:$AM148,0)","v":{"$error":"#N/A"}},{"$f":"MATCH(AL$4,Millwall!$Z148:$AM148,0)","v":{"$error":"#N/A"}},{"$f":"MATCH(AM$4,Millwall!$Z148:$AM148,0)","v":{"$error":"#N/A"}},{"$f":"MATCH(AN$4,Millwall!$Z148:$AM148,0)","v":{"$error":"#N/A"}},{"$f":"MATCH(AO$4,Millwall!$Z148:$AM148,0)","v":{"$error":"#N/A"}},{"$f":"MATCH(AP$4,Millwall!$Z148:$AM148,0)","v":{"$error":"#N/A"}},{"$f":"MATCH(AQ$4,Millwall!$Z148:$AM148,0)","v":{"$error":"#N/A"}},{"$f":"MATCH(AR$4,Millwall!$Z148:$AM148,0)","v":{"$error":"#N/A"}},null,null,null,null,null,{"$f":"MATCH(AX$3,Millwall!$Z148:$AM148,0)","v":{"$error":"#N/A"}},{"$f":"MATCH(AY$3,Millwall!$Z148:$AM148,0)","v":{"$error":"#N/A"}},{"$f":"MATCH(AZ$3,Millwall!$Z148:$AM148,0)","v":{"$error":"#N/A"}},{"$f":"MATCH(BA$3,Millwall!$Z148:$AM148,0)","v":{"$error":"#N/A"}},{"$f":"MATCH(BB$3,Millwall!$Z148:$AM148,0)","v":{"$error":"#N/A"}},{"$f":"MATCH(BC$3,Millwall!$Z148:$AM148,0)","v":{"$error":"#N/A"}},{"$f":"MATCH(BD$3,Millwall!$Z148:$AM148,0)","v":{"$error":"#N/A"}},{"$f":"MATCH(BE$3,Millwall!$Z148:$AM148,0)","v":{"$error":"#N/A"}},{"$f":"MATCH(BF$3,Millwall!$Z148:$AM148,0)","v":{"$error":"#N/A"}},{"$f":"MATCH(BG$3,Millwall!$Z148:$AM148,0)","v":{"$error":"#N/A"}},{"$f":"MATCH(BH$3,Millwall!$Z148:$AM148,0)","v":{"$error":"#N/A"}},{"$f":"MATCH(BI$3,Millwall!$Z148:$AM148,0)","v":{"$error":"#N/A"}},{"$f":"MATCH(BJ$3,Millwall!$Z148:$AM148,0)","v":{"$error":"#N/A"}},{"$f":"MATCH(BK$3,Millwall!$Z148:$AM148,0)","v":{"$error":"#N/A"}},{"$f":"MATCH(BL$3,Millwall!$Z148:$AM148,0)","v":{"$error":"#N/A"}},{"$f":"MATCH(BM$3,Millwall!$Z148:$AM148,0)","v":{"$error":"#N/A"}},{"$f":"MATCH(BN$3,Millwall!$Z148:$AM148,0)","v":{"$error":"#N/A"}},{"$f":"MATCH(BO$3,Millwall!$Z148:$AM148,0)","v":{"$error":"#N/A"}},{"$f":"MATCH(BP$3,Millwall!$Z148:$AM148,0)","v":{"$error":"#N/A"}},{"$f":"MATCH(BQ$3,Millwall!$Z148:$AM148,0)","v":{"$error":"#N/A"}},{"$f":"MATCH(BR$3,Millwall!$Z148:$AM148,0)","v":{"$error":"#N/A"}},{"$f":"MATCH(BS$3,Millwall!$Z148:$AM148,0)","v":{"$error":"#N/A"}},{"$f":"MATCH(BT$3,Millwall!$Z148:$AM148,0)","v":{"$error":"#N/A"}},{"$f":"MATCH(BU$3,Millwall!$Z148:$AM148,0)","v":{"$error":"#N/A"}},{"$f":"MATCH(BV$3,Millwall!$Z148:$AM148,0)","v":{"$error":"#N/A"}},{"$f":"MATCH(BW$3,Millwall!$Z148:$AM148,0)","v":{"$error":"#N/A"}},{"$f":"MATCH(BX$3,Millwall!$Z148:$AM148,0)","v":{"$error":"#N/A"}},{"$f":"MATCH(BY$3,Millwall!$Z148:$AM148,0)","v":{"$error":"#N/A"}},{"$f":"MATCH(BZ$3,Millwall!$Z148:$AM148,0)","v":{"$error":"#N/A"}},{"$f":"MATCH(CA$3,Millwall!$Z148:$AM148,0)","v":{"$error":"#N/A"}},{"$f":"MATCH(CB$3,Millwall!$Z148:$AM148,0)","v":{"$error":"#N/A"}},{"$f":"MATCH(CC$3,Millwall!$Z148:$AM148,0)","v":{"$error":"#N/A"}},{"$f":"MATCH(CD$3,Millwall!$Z148:$AM148,0)","v":{"$error":"#N/A"}},{"$f":"MATCH(CE$3,Millwall!$Z148:$AM148,0)","v":{"$error":"#N/A"}},null,null,{"$f":"MATCH(CH$3,Millwall!$AM148:$AN148,0)","v":{"$error":"#N/A"}},{"$f":"MATCH(CI$3,Millwall!$AM148:$AN148,0)","v":{"$error":"#N/A"}},{"$f":"MATCH(CJ$3,Millwall!$AM148:$AN148,0)","v":{"$error":"#N/A"}},{"$f":"MATCH(CK$3,Millwall!$AM148:$AN148,0)","v":{"$error":"#N/A"}},{"$f":"MATCH(CL$3,Millwall!$AM148:$AN148,0)","v":{"$error":"#N/A"}},{"$f":"MATCH(CM$3,Millwall!$AM148:$AN148,0)","v":{"$error":"#N/A"}},{"$f":"MATCH(CN$3,Millwall!$AM148:$AN148,0)","v":{"$error":"#N/A"}},{"$f":"MATCH(CO$3,Millwall!$AM148:$AN148,0)","v":{"$error":"#N/A"}},{"$f":"MATCH(CP$3,Millwall!$AM148:$AN148,0)","v":{"$error":"#N/A"}},{"$f":"MATCH(CQ$3,Millwall!$AM148:$AN148,0)","v":{"$error":"#N/A"}},{"$f":"MATCH(CR$3,Millwall!$AM148:$AN148,0)","v":{"$error":"#N/A"}},{"$f":"MATCH(CS$3,Millwall!$AM148:$AN148,0)","v":{"$error":"#N/A"}},{"$f":"MATCH(CT$3,Millwall!$AM148:$AN148,0)","v":{"$error":"#N/A"}},{"$f":"MATCH(CU$3,Millwall!$AM148:$AN148,0)","v":{"$error":"#N/A"}},{"$f":"MATCH(CV$3,Millwall!$AM148:$AN148,0)","v":{"$error":"#N/A"}},{"$f":"MATCH(CW$3,Millwall!$AM148:$AN148,0)","v":{"$error":"#N/A"}},{"$f":"MATCH(CX$3,Millwall!$AM148:$AN148,0)","v":{"$error":"#N/A"}},{"$f":"MATCH(CY$3,Millwall!$AM148:$AN148,0)","v":{"$error":"#N/A"}},{"$f":"MATCH(CZ$3,Millwall!$AM148:$AN148,0)","v":{"$error":"#N/A"}},{"$f":"MATCH(DA$3,Millwall!$AM148:$AN148,0)","v":{"$error":"#N/A"}},{"$f":"MATCH(DB$3,Millwall!$AM148:$AN148,0)","v":{"$error":"#N/A"}},{"$f":"MATCH(DC$3,Millwall!$AM148:$AN148,0)","v":{"$error":"#N/A"}},{"$f":"MATCH(DD$3,Millwall!$AM148:$AN148,0)","v":{"$error":"#N/A"}},{"$f":"MATCH(DE$3,Millwall!$AM148:$AN148,0)","v":{"$error":"#N/A"}},{"$f":"MATCH(DF$3,Millwall!$AM148:$AN148,0)","v":{"$error":"#N/A"}},{"$f":"MATCH(DG$3,Millwall!$AM148:$AN148,0)","v":{"$error":"#N/A"}},{"$f":"MATCH(DH$3,Millwall!$AM148:$AN148,0)","v":{"$error":"#N/A"}},{"$f":"MATCH(DI$3,Millwall!$AM148:$AN148,0)","v":{"$error":"#N/A"}},{"$f":"MATCH(DJ$3,Millwall!$AM148:$AN148,0)","v":{"$error":"#N/A"}},{"$f":"MATCH(DK$3,Millwall!$AM148:$AN148,0)","v":{"$error":"#N/A"}},{"$f":"MATCH(DL$3,Millwall!$AM148:$AN148,0)","v":{"$error":"#N/A"}},{"$f":"MATCH(DM$3,Millwall!$AM148:$AN148,0)","v":{"$error":"#N/A"}},{"$f":"MATCH(DN$3,Millwall!$AM148:$AN148,0)","v":{"$error":"#N/A"}},{"$f":"MATCH(DO$3,Millwall!$AM148:$AN148,0)","v":{"$error":"#N/A"}}]
[null,null,1,null,null,{"$f":"Millwall!V149","v":"00:00:00"},null,{"$f":"Millwall!W149","v":"00:00:00"},{"$f":"Millwall!X149","v":"00:00:00"},{"$f":"Millwall!Y149","v":0},{"$f":"MATCH(K$4,Millwall!$Z149:$AM149,0)","v":{"$error":"#N/A"}},{"$f":"MATCH(L$4,Millwall!$Z149:$AM149,0)","v":{"$error":"#N/A"}},{"$f":"MATCH(M$4,Millwall!$Z149:$AM149,0)","v":{"$error":"#N/A"}},{"$f":"MATCH(N$4,Millwall!$Z149:$AM149,0)","v":{"$error":"#N/A"}},{"$f":"MATCH(O$4,Millwall!$Z149:$AM149,0)","v":{"$error":"#N/A"}},{"$f":"MATCH(P$4,Millwall!$Z149:$AM149,0)","v":{"$error":"#N/A"}},{"$f":"MATCH(Q$4,Millwall!$Z149:$AM149,0)","v":{"$error":"#N/A"}},{"$f":"MATCH(R$4,Millwall!$Z149:$AM149,0)","v":{"$error":"#N/A"}},{"$f":"MATCH(S$4,Millwall!$Z149:$AM149,0)","v":{"$error":"#N/A"}},{"$f":"MATCH(T$4,Millwall!$Z149:$AM149,0)","v":{"$error":"#N/A"}},{"$f":"MATCH(U$4,Millwall!$Z149:$AM149,0)","v":{"$error":"#N/A"}},{"$f":"MATCH(V$4,Millwall!$Z149:$AM149,0)","v":{"$error":"#N/A"}},{"$f":"MATCH(W$4,Millwall!$Z149:$AM149,0)","v":{"$error":"#N/A"}},{"$f":"MATCH(X$4,Millwall!$Z149:$AM149,0)","v":{"$error":"#N/A"}},{"$f":"MATCH(Y$4,Millwall!$Z149:$AM149,0)","v":{"$error":"#N/A"}},{"$f":"MATCH(Z$4,Millwall!$Z149:$AM149,0)","v":{"$error":"#N/A"}},{"$f":"MATCH(AA$4,Millwall!$Z149:$AM149,0)","v":{"$error":"#N/A"}},{"$f":"MATCH(AB$4,Millwall!$Z149:$AM149,0)","v":{"$error":"#N/A"}},{"$f":"MATCH(AC$4,Millwall!$Z149:$AM149,0)","v":{"$error":"#N/A"}},{"$f":"MATCH(AD$4,Millwall!$Z149:$AM149,0)","v":{"$error":"#N/A"}},{"$f":"MATCH(AE$4,Millwall!$Z149:$AM149,0)","v":{"$error":"#N/A"}},{"$f":"MATCH(AF$4,Millwall!$Z149:$AM149,0)","v":{"$error":"#N/A"}},{"$f":"MATCH(AG$4,Millwall!$Z149:$AM149,0)","v":{"$error":"#N/A"}},{"$f":"MATCH(AH$4,Millwall!$Z149:$AM149,0)","v":{"$error":"#N/A"}},{"$f":"MATCH(AI$4,Millwall!$Z149:$AM149,0)","v":{"$error":"#N/A"}},{"$f":"MATCH(AJ$4,Millwall!$Z149:$AM149,0)","v":{"$error":"#N/A"}},{"$f":"MATCH(AK$4,Millwall!$Z149:$AM149,0)","v":{"$error":"#N/A"}},{"$f":"MATCH(AL$4,Millwall!$Z149:$AM149,0)","v":{"$error":"#N/A"}},{"$f":"MATCH(AM$4,Millwall!$Z149:$AM149,0)","v":{"$error":"#N/A"}},{"$f":"MATCH(AN$4,Millwall!$Z149:$AM149,0)","v":{"$error":"#N/A"}},{"$f":"MATCH(AO$4,Millwall!$Z149:$AM149,0)","v":{"$error":"#N/A"}},{"$f":"MATCH(AP$4,Millwall!$Z149:$AM149,0)","v":{"$error":"#N/A"}},{"$f":"MATCH(AQ$4,Millwall!$Z149:$AM149,0)","v":{"$error":"#N/A"}},{"$f":"MATCH(AR$4,Millwall!$Z149:$AM149,0)","v":{"$error":"#N/A"}},null,null,null,null,null,{"$f":"MATCH(AX$3,Millwall!$Z149:$AM149,0)","v":{"$error":"#N/A"}},{"$f":"MATCH(AY$3,Millwall!$Z149:$AM149,0)","v":{"$error":"#N/A"}},{"$f":"MATCH(AZ$3,Millwall!$Z149:$AM149,0)","v":{"$error":"#N/A"}},{"$f":"MATCH(BA$3,Millwall!$Z149:$AM149,0)","v":{"$error":"#N/A"}},{"$f":"MATCH(BB$3,Millwall!$Z149:$AM149,0)","v":{"$error":"#N/A"}},{"$f":"MATCH(BC$3,Millwall!$Z149:$AM149,0)","v":{"$error":"#N/A"}},{"$f":"MATCH(BD$3,Millwall!$Z149:$AM149,0)","v":{"$error":"#N/A"}},{"$f":"MATCH(BE$3,Millwall!$Z149:$AM149,0)","v":{"$error":"#N/A"}},{"$f":"MATCH(BF$3,Millwall!$Z149:$AM149,0)","v":{"$error":"#N/A"}},{"$f":"MATCH(BG$3,Millwall!$Z149:$AM149,0)","v":{"$error":"#N/A"}},{"$f":"MATCH(BH$3,Millwall!$Z149:$AM149,0)","v":{"$error":"#N/A"}},{"$f":"MATCH(BI$3,Millwall!$Z149:$AM149,0)","v":{"$error":"#N/A"}},{"$f":"MATCH(BJ$3,Millwall!$Z149:$AM149,0)","v":{"$error":"#N/A"}},{"$f":"MATCH(BK$3,Millwall!$Z149:$AM149,0)","v":{"$error":"#N/A"}},{"$f":"MATCH(BL$3,Millwall!$Z149:$AM149,0)","v":{"$error":"#N/A"}},{"$f":"MATCH(BM$3,Millwall!$Z149:$AM149,0)","v":{"$error":"#N/A"}},{"$f":"MATCH(BN$3,Millwall!$Z149:$AM149,0)","v":{"$error":"#N/A"}},{"$f":"MATCH(BO$3,Millwall!$Z149:$AM149,0)","v":{"$error":"#N/A"}},{"$f":"MATCH(BP$3,Millwall!$Z149:$AM149,0)","v":{"$error":"#N/A"}},{"$f":"MATCH(BQ$3,Millwall!$Z149:$AM149,0)","v":{"$error":"#N/A"}},{"$f":"MATCH(BR$3,Millwall!$Z149:$AM149,0)","v":{"$error":"#N/A"}},{"$f":"MATCH(BS$3,Millwall!$Z149:$AM149,0)","v":{"$error":"#N/A"}},{"$f":"MATCH(BT$3,Millwall!$Z149:$AM149,0)","v":{"$error":"#N/A"}},{"$f":"MATCH(BU$3,Millwall!$Z149:$AM149,0)","v":{"$error":"#N/A"}},{"$f":"MATCH(BV$3,Millwall!$Z149:$AM149,0)","v":{"$error":"#N/A"}},{"$f":"MATCH(BW$3,Millwall!$Z149:$AM149,0)","v":{"$error":"#N/A"}},{"$f":"MATCH(BX$3,Millwall!$Z149:$AM149,0)","v":{"$error":"#N/A"}},{"$f":"MATCH(BY$3,Millwall!$Z149:$AM149,0)","v":{"$error":"#N/A"}},{"$f":"MATCH(BZ$3,Millwall!$Z149:$AM149,0)","v":{"$error":"#N/A"}},{"$f":"MATCH(CA$3,Millwall!$Z149:$AM149,0)","v":{"$error":"#N/A"}},{"$f":"MATCH(CB$3,Millwall!$Z149:$AM149,0)","v":{"$error":"#N/A"}},{"$f":"MATCH(CC$3,Millwall!$Z149:$AM149,0)","v":{"$error":"#N/A"}},{"$f":"MATCH(CD$3,Millwall!$Z149:$AM149,0)","v":{"$error":"#N/A"}},{"$f":"MATCH(CE$3,Millwall!$Z149:$AM149,0)","v":{"$error":"#N/A"}},null,null,{"$f":"MATCH(CH$3,Millwall!$AN149:AP149,0)","v":{"$error":"#N/A"}},{"$f":"MATCH(CI$3,Millwall!$AN149:AP149,0)","v":{"$error":"#N/A"}},{"$f":"MATCH(CJ$3,Millwall!$AN149:AP149,0)","v":{"$error":"#N/A"}},{"$f":"MATCH(CK$3,Millwall!$AN149:AP149,0)","v":{"$error":"#N/A"}},{"$f":"MATCH(CL$3,Millwall!$AN149:AP149,0)","v":{"$error":"#N/A"}},{"$f":"MATCH(CM$3,Millwall!$AN149:AP149,0)","v":{"$error":"#N/A"}},{"$f":"MATCH(CN$3,Millwall!$AN149:AP149,0)","v":{"$error":"#N/A"}},{"$f":"MATCH(CO$3,Millwall!$AN149:AP149,0)","v":{"$error":"#N/A"}},{"$f":"MATCH(CP$3,Millwall!$AN149:AP149,0)","v":{"$error":"#N/A"}},{"$f":"MATCH(CQ$3,Millwall!$AN149:AP149,0)","v":{"$error":"#N/A"}},{"$f":"MATCH(CR$3,Millwall!$AN149:AP149,0)","v":{"$error":"#N/A"}},{"$f":"MATCH(CS$3,Millwall!$AN149:AP149,0)","v":{"$error":"#N/A"}},{"$f":"MATCH(CT$3,Millwall!$AN149:AP149,0)","v":{"$error":"#N/A"}},{"$f":"MATCH(CU$3,Millwall!$AN149:AP149,0)","v":{"$error":"#N/A"}},{"$f":"MATCH(CV$3,Millwall!$AN149:AP149,0)","v":{"$error":"#N/A"}},{"$f":"MATCH(CW$3,Millwall!$AN149:AP149,0)","v":{"$error":"#N/A"}},{"$f":"MATCH(CX$3,Millwall!$AN149:AP149,0)","v":{"$error":"#N/A"}},{"$f":"MATCH(CY$3,Millwall!$AN149:AP149,0)","v":{"$error":"#N/A"}},{"$f":"MATCH(CZ$3,Millwall!$AN149:AP149,0)","v":{"$error":"#N/A"}},{"$f":"MATCH(DA$3,Millwall!$AN149:AP149,0)","v":{"$error":"#N/A"}},{"$f":"MATCH(DB$3,Millwall!$AN149:AP149,0)","v":{"$error":"#N/A"}},{"$f":"MATCH(DC$3,Millwall!$AN149:AP149,0)","v":{"$error":"#N/A"}},{"$f":"MATCH(DD$3,Millwall!$AN149:AP149,0)","v":{"$error":"#N/A"}},{"$f":"MATCH(DE$3,Millwall!$AN149:AP149,0)","v":{"$error":"#N/A"}},{"$f":"MATCH(DF$3,Millwall!$AN149:AP149,0)","v":{"$error":"#N/A"}},{"$f":"MATCH(DG$3,Millwall!$AN149:AP149,0)","v":{"$error":"#N/A"}},{"$f":"MATCH(DH$3,Millwall!$AN149:AP149,0)","v":{"$error":"#N/A"}},{"$f":"MATCH(DI$3,Millwall!$AN149:AP149,0)","v":{"$error":"#N/A"}},{"$f":"MATCH(DJ$3,Millwall!$AN149:AP149,0)","v":{"$error":"#N/A"}},{"$f":"MATCH(DK$3,Millwall!$AN149:AP149,0)","v":{"$error":"#N/A"}},{"$f":"MATCH(DL$3,Millwall!$AN149:AP149,0)","v":{"$error":"#N/A"}},{"$f":"MATCH(DM$3,Millwall!$AN149:AP149,0)","v":{"$error":"#N/A"}},{"$f":"MATCH(DN$3,Millwall!$AN149:AP149,0)","v":{"$error":"#N/A"}},{"$f":"MATCH(DO$3,Millwall!$AN149:AP149,0)","v":{"$error":"#N/A"}}]
[null,null,1,null,null,{"$f":"Millwall!V150","v":"00:00:00"},null,{"$f":"Millwall!W150","v":"00:00:00"},{"$f":"Millwall!X150","v":"00:00:00"},{"$f":"Millwall!Y150","v":"00:00:00"},{"$f":"MATCH(K$4,Millwall!$Z150:$AM150,0)","v":{"$error":"#N/A"}},{"$f":"MATCH(L$4,Millwall!$Z150:$AM150,0)","v":{"$error":"#N/A"}},{"$f":"MATCH(M$4,Millwall!$Z150:$AM150,0)","v":{"$error":"#N/A"}},{"$f":"MATCH(N$4,Millwall!$Z150:$AM150,0)","v":{"$error":"#N/A"}},{"$f":"MATCH(O$4,Millwall!$Z150:$AM150,0)","v":{"$error":"#N/A"}},{"$f":"MATCH(P$4,Millwall!$Z150:$AM150,0)","v":{"$error":"#N/A"}},{"$f":"MATCH(Q$4,Millwall!$Z150:$AM150,0)","v":{"$error":"#N/A"}},{"$f":"MATCH(R$4,Millwall!$Z150:$AM150,0)","v":{"$error":"#N/A"}},{"$f":"MATCH(S$4,Millwall!$Z150:$AM150,0)","v":{"$error":"#N/A"}},{"$f":"MATCH(T$4,Millwall!$Z150:$AM150,0)","v":{"$error":"#N/A"}},{"$f":"MATCH(U$4,Millwall!$Z150:$AM150,0)","v":{"$error":"#N/A"}},{"$f":"MATCH(V$4,Millwall!$Z150:$AM150,0)","v":{"$error":"#N/A"}},{"$f":"MATCH(W$4,Millwall!$Z150:$AM150,0)","v":{"$error":"#N/A"}},{"$f":"MATCH(X$4,Millwall!$Z150:$AM150,0)","v":{"$error":"#N/A"}},{"$f":"MATCH(Y$4,Millwall!$Z150:$AM150,0)","v":{"$error":"#N/A"}},{"$f":"MATCH(Z$4,Millwall!$Z150:$AM150,0)","v":{"$error":"#N/A"}},{"$f":"MATCH(AA$4,Millwall!$Z150:$AM150,0)","v":{"$error":"#N/A"}},{"$f":"MATCH(AB$4,Millwall!$Z150:$AM150,0)","v":{"$error":"#N/A"}},{"$f":"MATCH(AC$4,Millwall!$Z150:$AM150,0)","v":{"$error":"#N/A"}},{"$f":"MATCH(AD$4,Millwall!$Z150:$AM150,0)","v":{"$error":"#N/A"}},{"$f":"MATCH(AE$4,Millwall!$Z150:$AM150,0)","v":{"$error":"#N/A"}},{"$f":"MATCH(AF$4,Millwall!$Z150:$AM150,0)","v":{"$error":"#N/A"}},{"$f":"MATCH(AG$4,Millwall!$Z150:$AM150,0)","v":{"$error":"#N/A"}},{"$f":"MATCH(AH$4,Millwall!$Z150:$AM150,0)","v":{"$error":"#N/A"}},{"$f":"MATCH(AI$4,Millwall!$Z150:$AM150,0)","v":{"$error":"#N/A"}},{"$f":"MATCH(AJ$4,Millwall!$Z150:$AM150,0)","v":{"$error":"#N/A"}},{"$f":"MATCH(AK$4,Millwall!$Z150:$AM150,0)","v":{"$error":"#N/A"}},{"$f":"MATCH(AL$4,Millwall!$Z150:$AM150,0)","v":{"$error":"#N/A"}},{"$f":"MATCH(AM$4,Millwall!$Z150:$AM150,0)","v":{"$error":"#N/A"}},{"$f":"MATCH(AN$4,Millwall!$Z150:$AM150,0)","v":{"$error":"#N/A"}},{"$f":"MATCH(AO$4,Millwall!$Z150:$AM150,0)","v":{"$error":"#N/A"}},{"$f":"MATCH(AP$4,Millwall!$Z150:$AM150,0)","v":{"$error":"#N/A"}},{"$f":"MATCH(AQ$4,Millwall!$Z150:$AM150,0)","v":{"$error":"#N/A"}},{"$f":"MATCH(AR$4,Millwall!$Z150:$AM150,0)","v":{"$error":"#N/A"}},null,null,null,null,null,{"$f":"MATCH(AX$3,Millwall!$Z150:$AM150,0)","v":{"$error":"#N/A"}},{"$f":"MATCH(AY$3,Millwall!$Z150:$AM150,0)","v":{"$error":"#N/A"}},{"$f":"MATCH(AZ$3,Millwall!$Z150:$AM150,0)","v":{"$error":"#N/A"}},{"$f":"MATCH(BA$3,Millwall!$Z150:$AM150,0)","v":{"$error":"#N/A"}},{"$f":"MATCH(BB$3,Millwall!$Z150:$AM150,0)","v":{"$error":"#N/A"}},{"$f":"MATCH(BC$3,Millwall!$Z150:$AM150,0)","v":{"$error":"#N/A"}},{"$f":"MATCH(BD$3,Millwall!$Z150:$AM150,0)","v":{"$error":"#N/A"}},{"$f":"MATCH(BE$3,Millwall!$Z150:$AM150,0)","v":{"$error":"#N/A"}},{"$f":"MATCH(BF$3,Millwall!$Z150:$AM150,0)","v":{"$error":"#N/A"}},{"$f":"MATCH(BG$3,Millwall!$Z150:$AM150,0)","v":{"$error":"#N/A"}},{"$f":"MATCH(BH$3,Millwall!$Z150:$AM150,0)","v":{"$error":"#N/A"}},{"$f":"MATCH(BI$3,Millwall!$Z150:$AM150,0)","v":{"$error":"#N/A"}},{"$f":"MATCH(BJ$3,Millwall!$Z150:$AM150,0)","v":{"$error":"#N/A"}},{"$f":"MATCH(BK$3,Millwall!$Z150:$AM150,0)","v":{"$error":"#N/A"}},{"$f":"MATCH(BL$3,Millwall!$Z150:$AM150,0)","v":{"$error":"#N/A"}},{"$f":"MATCH(BM$3,Millwall!$Z150:$AM150,0)","v":{"$error":"#N/A"}},{"$f":"MATCH(BN$3,Millwall!$Z150:$AM150,0)","v":{"$error":"#N/A"}},{"$f":"MATCH(BO$3,Millwall!$Z150:$AM150,0)","v":{"$error":"#N/A"}},{"$f":"MATCH(BP$3,Millwall!$Z150:$AM150,0)","v":{"$error":"#N/A"}},{"$f":"MATCH(BQ$3,Millwall!$Z150:$AM150,0)","v":{"$error":"#N/A"}},{"$f":"MATCH(BR$3,Millwall!$Z150:$AM150,0)","v":{"$error":"#N/A"}},{"$f":"MATCH(BS$3,Millwall!$Z150:$AM150,0)","v":{"$error":"#N/A"}},{"$f":"MATCH(BT$3,Millwall!$Z150:$AM150,0)","v":{"$error":"#N/A"}},{"$f":"MATCH(BU$3,Millwall!$Z150:$AM150,0)","v":{"$error":"#N/A"}},{"$f":"MATCH(BV$3,Millwall!$Z150:$AM150,0)","v":{"$error":"#N/A"}},{"$f":"MATCH(BW$3,Millwall!$Z150:$AM150,0)","v":{"$error":"#N/A"}},{"$f":"MATCH(BX$3,Millwall!$Z150:$AM150,0)","v":{"$error":"#N/A"}},{"$f":"MATCH(BY$3,Millwall!$Z150:$AM150,0)","v":{"$error":"#N/A"}},{"$f":"MATCH(BZ$3,Millwall!$Z150:$AM150,0)","v":{"$error":"#N/A"}},{"$f":"MATCH(CA$3,Millwall!$Z150:$AM150,0)","v":{"$error":"#N/A"}},{"$f":"MATCH(CB$3,Millwall!$Z150:$AM150,0)","v":{"$error":"#N/A"}},{"$f":"MATCH(CC$3,Millwall!$Z150:$AM150,0)","v":{"$error":"#N/A"}},{"$f":"MATCH(CD$3,Millwall!$Z150:$AM150,0)","v":{"$error":"#N/A"}},{"$f":"MATCH(CE$3,Millwall!$Z150:$AM150,0)","v":{"$error":"#N/A"}},null,null,{"$f":"MATCH(CH$3,Millwall!$AN150:AP150,0)","v":{"$error":"#N/A"}},{"$f":"MATCH(CI$3,Millwall!$AN150:AP150,0)","v":{"$error":"#N/A"}},{"$f":"MATCH(CJ$3,Millwall!$AN150:AP150,0)","v":{"$error":"#N/A"}},{"$f":"MATCH(CK$3,Millwall!$AN150:AP150,0)","v":{"$error":"#N/A"}},{"$f":"MATCH(CL$3,Millwall!$AN150:AP150,0)","v":{"$error":"#N/A"}},{"$f":"MATCH(CM$3,Millwall!$AN150:AP150,0)","v":{"$error":"#N/A"}},{"$f":"MATCH(CN$3,Millwall!$AN150:AP150,0)","v":{"$error":"#N/A"}},{"$f":"MATCH(CO$3,Millwall!$AN150:AP150,0)","v":{"$error":"#N/A"}},{"$f":"MATCH(CP$3,Millwall!$AN150:AP150,0)","v":{"$error":"#N/A"}},{"$f":"MATCH(CQ$3,Millwall!$AN150:AP150,0)","v":{"$error":"#N/A"}},{"$f":"MATCH(CR$3,Millwall!$AN150:AP150,0)","v":{"$error":"#N/A"}},{"$f":"MATCH(CS$3,Millwall!$AN150:AP150,0)","v":{"$error":"#N/A"}},{"$f":"MATCH(CT$3,Millwall!$AN150:AP150,0)","v":{"$error":"#N/A"}},{"$f":"MATCH(CU$3,Millwall!$AN150:AP150,0)","v":{"$error":"#N/A"}},{"$f":"MATCH(CV$3,Millwall!$AN150:AP150,0)","v":{"$error":"#N/A"}},{"$f":"MATCH(CW$3,Millwall!$AN150:AP150,0)","v":{"$error":"#N/A"}},{"$f":"MATCH(CX$3,Millwall!$AN150:AP150,0)","v":{"$error":"#N/A"}},{"$f":"MATCH(CY$3,Millwall!$AN150:AP150,0)","v":{"$error":"#N/A"}},{"$f":"MATCH(CZ$3,Millwall!$AN150:AP150,0)","v":{"$error":"#N/A"}},{"$f":"MATCH(DA$3,Millwall!$AN150:AP150,0)","v":{"$error":"#N/A"}},{"$f":"MATCH(DB$3,Millwall!$AN150:AP150,0)","v":{"$error":"#N/A"}},{"$f":"MATCH(DC$3,Millwall!$AN150:AP150,0)","v":{"$error":"#N/A"}},{"$f":"MATCH(DD$3,Millwall!$AN150:AP150,0)","v":{"$error":"#N/A"}},{"$f":"MATCH(DE$3,Millwall!$AN150:AP150,0)","v":{"$error":"#N/A"}},{"$f":"MATCH(DF$3,Millwall!$AN150:AP150,0)","v":{"$error":"#N/A"}},{"$f":"MATCH(DG$3,Millwall!$AN150:AP150,0)","v":{"$error":"#N/A"}},{"$f":"MATCH(DH$3,Millwall!$AN150:AP150,0)","v":{"$error":"#N/A"}},{"$f":"MATCH(DI$3,Millwall!$AN150:AP150,0)","v":{"$error":"#N/A"}},{"$f":"MATCH(DJ$3,Millwall!$AN150:AP150,0)","v":{"$error":"#N/A"}},{"$f":"MATCH(DK$3,Millwall!$AN150:AP150,0)","v":{"$error":"#N/A"}},{"$f":"MATCH(DL$3,Millwall!$AN150:AP150,0)","v":{"$error":"#N/A"}},{"$f":"MATCH(DM$3,Millwall!$AN150:AP150,0)","v":{"$error":"#N/A"}},{"$f":"MATCH(DN$3,Millwall!$AN150:AP150,0)","v":{"$error":"#N/A"}},{"$f":"MATCH(DO$3,Millwall!$AN150:AP150,0)","v":{"$error":"#N/A"}}]
[null,null,1,null,null,{"$f":"Millwall!V151","v":"00:00:00"},null,{"$f":"Millwall!W151","v":"00:00:00"},{"$f":"Millwall!X151","v":"00:00:00"},{"$f":"Millwall!Y151","v":0},{"$f":"MATCH(K$4,Millwall!$Z151:$AM151,0)","v":{"$error":"#N/A"}},{"$f":"MATCH(L$4,Millwall!$Z151:$AM151,0)","v":{"$error":"#N/A"}},{"$f":"MATCH(M$4,Millwall!$Z151:$AM151,0)","v":{"$error":"#N/A"}},{"$f":"MATCH(N$4,Millwall!$Z151:$AM151,0)","v":{"$error":"#N/A"}},{"$f":"MATCH(O$4,Millwall!$Z151:$AM151,0)","v":{"$error":"#N/A"}},{"$f":"MATCH(P$4,Millwall!$Z151:$AM151,0)","v":{"$error":"#N/A"}},{"$f":"MATCH(Q$4,Millwall!$Z151:$AM151,0)","v":{"$error":"#N/A"}},{"$f":"MATCH(R$4,Millwall!$Z151:$AM151,0)","v":{"$error":"#N/A"}},{"$f":"MATCH(S$4,Millwall!$Z151:$AM151,0)","v":{"$error":"#N/A"}},{"$f":"MATCH(T$4,Millwall!$Z151:$AM151,0)","v":{"$error":"#N/A"}},{"$f":"MATCH(U$4,Millwall!$Z151:$AM151,0)","v":{"$error":"#N/A"}},{"$f":"MATCH(V$4,Millwall!$Z151:$AM151,0)","v":{"$error":"#N/A"}},{"$f":"MATCH(W$4,Millwall!$Z151:$AM151,0)","v":{"$error":"#N/A"}},{"$f":"MATCH(X$4,Millwall!$Z151:$AM151,0)","v":{"$error":"#N/A"}},{"$f":"MATCH(Y$4,Millwall!$Z151:$AM151,0)","v":{"$error":"#N/A"}},{"$f":"MATCH(Z$4,Millwall!$Z151:$AM151,0)","v":{"$error":"#N/A"}},{"$f":"MATCH(AA$4,Millwall!$Z151:$AM151,0)","v":{"$error":"#N/A"}},{"$f":"MATCH(AB$4,Millwall!$Z151:$AM151,0)","v":{"$error":"#N/A"}},{"$f":"MATCH(AC$4,Millwall!$Z151:$AM151,0)","v":{"$error":"#N/A"}},{"$f":"MATCH(AD$4,Millwall!$Z151:$AM151,0)","v":{"$error":"#N/A"}},{"$f":"MATCH(AE$4,Millwall!$Z151:$AM151,0)","v":{"$error":"#N/A"}},{"$f":"MATCH(AF$4,Millwall!$Z151:$AM151,0)","v":{"$error":"#N/A"}},{"$f":"MATCH(AG$4,Millwall!$Z151:$AM151,0)","v":{"$error":"#N/A"}},{"$f":"MATCH(AH$4,Millwall!$Z151:$AM151,0)","v":{"$error":"#N/A"}},{"$f":"MATCH(AI$4,Millwall!$Z151:$AM151,0)","v":{"$error":"#N/A"}},{"$f":"MATCH(AJ$4,Millwall!$Z151:$AM151,0)","v":{"$error":"#N/A"}},{"$f":"MATCH(AK$4,Millwall!$Z151:$AM151,0)","v":{"$error":"#N/A"}},{"$f":"MATCH(AL$4,Millwall!$Z151:$AM151,0)","v":{"$error":"#N/A"}},{"$f":"MATCH(AM$4,Millwall!$Z151:$AM151,0)","v":{"$error":"#N/A"}},{"$f":"MATCH(AN$4,Millwall!$Z151:$AM151,0)","v":{"$error":"#N/A"}},{"$f":"MATCH(AO$4,Millwall!$Z151:$AM151,0)","v":{"$error":"#N/A"}},{"$f":"MATCH(AP$4,Millwall!$Z151:$AM151,0)","v":{"$error":"#N/A"}},{"$f":"MATCH(AQ$4,Millwall!$Z151:$AM151,0)","v":{"$error":"#N/A"}},{"$f":"MATCH(AR$4,Millwall!$Z151:$AM151,0)","v":{"$error":"#N/A"}},null,null,null,null,null,{"$f":"MATCH(AX$3,Millwall!$Z151:$AM151,0)","v":{"$error":"#N/A"}},{"$f":"MATCH(AY$3,Millwall!$Z151:$AM151,0)","v":{"$error":"#N/A"}},{"$f":"MATCH(AZ$3,Millwall!$Z151:$AM151,0)","v":{"$error":"#N/A"}},{"$f":"MATCH(BA$3,Millwall!$Z151:$AM151,0)","v":{"$error":"#N/A"}},{"$f":"MATCH(BB$3,Millwall!$Z151:$AM151,0)","v":{"$error":"#N/A"}},{"$f":"MATCH(BC$3,Millwall!$Z151:$AM151,0)","v":{"$error":"#N/A"}},{"$f":"MATCH(BD$3,Millwall!$Z151:$AM151,0)","v":{"$error":"#N/A"}},{"$f":"MATCH(BE$3,Millwall!$Z151:$AM151,0)","v":{"$error":"#N/A"}},{"$f":"MATCH(BF$3,Millwall!$Z151:$AM151,0)","v":{"$error":"#N/A"}},{"$f":"MATCH(BG$3,Millwall!$Z151:$AM151,0)","v":{"$error":"#N/A"}},{"$f":"MATCH(BH$3,Millwall!$Z151:$AM151,0)","v":{"$error":"#N/A"}},{"$f":"MATCH(BI$3,Millwall!$Z151:$AM151,0)","v":{"$error":"#N/A"}},{"$f":"MATCH(BJ$3,Millwall!$Z151:$AM151,0)","v":{"$error":"#N/A"}},{"$f":"MATCH(BK$3,Millwall!$Z151:$AM151,0)","v":{"$error":"#N/A"}},{"$f":"MATCH(BL$3,Millwall!$Z151:$AM151,0)","v":{"$error":"#N/A"}},{"$f":"MATCH(BM$3,Millwall!$Z151:$AM151,0)","v":{"$error":"#N/A"}},{"$f":"MATCH(BN$3,Millwall!$Z151:$AM151,0)","v":{"$error":"#N/A"}},{"$f":"MATCH(BO$3,Millwall!$Z151:$AM151,0)","v":{"$error":"#N/A"}},{"$f":"MATCH(BP$3,Millwall!$Z151:$AM151,0)","v":{"$error":"#N/A"}},{"$f":"MATCH(BQ$3,Millwall!$Z151:$AM151,0)","v":{"$error":"#N/A"}},{"$f":"MATCH(BR$3,Millwall!$Z151:$AM151,0)","v":{"$error":"#N/A"}},{"$f":"MATCH(BS$3,Millwall!$Z151:$AM151,0)","v":{"$error":"#N/A"}},{"$f":"MATCH(BT$3,Millwall!$Z151:$AM151,0)","v":{"$error":"#N/A"}},{"$f":"MATCH(BU$3,Millwall!$Z151:$AM151,0)","v":{"$error":"#N/A"}},{"$f":"MATCH(BV$3,Millwall!$Z151:$AM151,0)","v":{"$error":"#N/A"}},{"$f":"MATCH(BW$3,Millwall!$Z151:$AM151,0)","v":{"$error":"#N/A"}},{"$f":"MATCH(BX$3,Millwall!$Z151:$AM151,0)","v":{"$error":"#N/A"}},{"$f":"MATCH(BY$3,Millwall!$Z151:$AM151,0)","v":{"$error":"#N/A"}},{"$f":"MATCH(BZ$3,Millwall!$Z151:$AM151,0)","v":{"$error":"#N/A"}},{"$f":"MATCH(CA$3,Millwall!$Z151:$AM151,0)","v":{"$error":"#N/A"}},{"$f":"MATCH(CB$3,Millwall!$Z151:$AM151,0)","v":{"$error":"#N/A"}},{"$f":"MATCH(CC$3,Millwall!$Z151:$AM151,0)","v":{"$error":"#N/A"}},{"$f":"MATCH(CD$3,Millwall!$Z151:$AM151,0)","v":{"$error":"#N/A"}},{"$f":"MATCH(CE$3,Millwall!$Z151:$AM151,0)","v":{"$error":"#N/A"}},null,null,{"$f":"MATCH(CH$3,Millwall!$AM151:$AN151,0)","v":{"$error":"#N/A"}},{"$f":"MATCH(CI$3,Millwall!$AM151:$AN151,0)","v":{"$error":"#N/A"}},{"$f":"MATCH(CJ$3,Millwall!$AM151:$AN151,0)","v":{"$error":"#N/A"}},{"$f":"MATCH(CK$3,Millwall!$AM151:$AN151,0)","v":{"$error":"#N/A"}},{"$f":"MATCH(CL$3,Millwall!$AM151:$AN151,0)","v":{"$error":"#N/A"}},{"$f":"MATCH(CM$3,Millwall!$AM151:$AN151,0)","v":{"$error":"#N/A"}},{"$f":"MATCH(CN$3,Millwall!$AM151:$AN151,0)","v":{"$error":"#N/A"}},{"$f":"MATCH(CO$3,Millwall!$AM151:$AN151,0)","v":{"$error":"#N/A"}},{"$f":"MATCH(CP$3,Millwall!$AM151:$AN151,0)","v":{"$error":"#N/A"}},{"$f":"MATCH(CQ$3,Millwall!$AM151:$AN151,0)","v":{"$error":"#N/A"}},{"$f":"MATCH(CR$3,Millwall!$AM151:$AN151,0)","v":{"$error":"#N/A"}},{"$f":"MATCH(CS$3,Millwall!$AM151:$AN151,0)","v":{"$error":"#N/A"}},{"$f":"MATCH(CT$3,Millwall!$AM151:$AN151,0)","v":{"$error":"#N/A"}},{"$f":"MATCH(CU$3,Millwall!$AM151:$AN151,0)","v":{"$error":"#N/A"}},{"$f":"MATCH(CV$3,Millwall!$AM151:$AN151,0)","v":{"$error":"#N/A"}},{"$f":"MATCH(CW$3,Millwall!$AM151:$AN151,0)","v":{"$error":"#N/A"}},{"$f":"MATCH(CX$3,Millwall!$AM151:$AN151,0)","v":{"$error":"#N/A"}},{"$f":"MATCH(CY$3,Millwall!$AM151:$AN151,0)","v":{"$error":"#N/A"}},{"$f":"MATCH(CZ$3,Millwall!$AM151:$AN151,0)","v":{"$error":"#N/A"}},{"$f":"MATCH(DA$3,Millwall!$AM151:$AN151,0)","v":{"$error":"#N/A"}},{"$f":"MATCH(DB$3,Millwall!$AM151:$AN151,0)","v":{"$error":"#N/A"}},{"$f":"MATCH(DC$3,Millwall!$AM151:$AN151,0)","v":{"$error":"#N/A"}},{"$f":"MATCH(DD$3,Millwall!$AM151:$AN151,0)","v":{"$error":"#N/A"}},{"$f":"MATCH(DE$3,Millwall!$AM151:$AN151,0)","v":{"$error":"#N/A"}},{"$f":"MATCH(DF$3,Millwall!$AM151:$AN151,0)","v":{"$error":"#N/A"}},{"$f":"MATCH(DG$3,Millwall!$AM151:$AN151,0)","v":{"$error":"#N/A"}},{"$f":"MATCH(DH$3,Millwall!$AM151:$AN151,0)","v":{"$error":"#N/A"}},{"$f":"MATCH(DI$3,Millwall!$AM151:$AN151,0)","v":{"$error":"#N/A"}},{"$f":"MATCH(DJ$3,Millwall!$AM151:$AN151,0)","v":{"$error":"#N/A"}},{"$f":"MATCH(DK$3,Millwall!$AM151:$AN151,0)","v":{"$error":"#N/A"}},{"$f":"MATCH(DL$3,Millwall!$AM151:$AN151,0)","v":{"$error":"#N/A"}},{"$f":"MATCH(DM$3,Millwall!$AM151:$AN151,0)","v":{"$error":"#N/A"}},{"$f":"MATCH(DN$3,Millwall!$AM151:$AN151,0)","v":{"$error":"#N/A"}},{"$f":"MATCH(DO$3,Millwall!$AM151:$AN151,0)","v":{"$error":"#N/A"}}]
[null,null,1,null,null,{"$f":"Millwall!V152","v":"00:00:00"},null,{"$f":"Millwall!W152","v":"00:00:00"},{"$f":"Millwall!X152","v":"00:00:00"},{"$f":"Millwall!Y152","v":0},{"$f":"MATCH(K$4,Millwall!$Z152:$AM152,0)","v":{"$error":"#N/A"}},{"$f":"MATCH(L$4,Millwall!$Z152:$AM152,0)","v":{"$error":"#N/A"}},{"$f":"MATCH(M$4,Millwall!$Z152:$AM152,0)","v":{"$error":"#N/A"}},{"$f":"MATCH(N$4,Millwall!$Z152:$AM152,0)","v":{"$error":"#N/A"}},{"$f":"MATCH(O$4,Millwall!$Z152:$AM152,0)","v":{"$error":"#N/A"}},{"$f":"MATCH(P$4,Millwall!$Z152:$AM152,0)","v":{"$error":"#N/A"}},{"$f":"MATCH(Q$4,Millwall!$Z152:$AM152,0)","v":{"$error":"#N/A"}},{"$f":"MATCH(R$4,Millwall!$Z152:$AM152,0)","v":{"$error":"#N/A"}},{"$f":"MATCH(S$4,Millwall!$Z152:$AM152,0)","v":{"$error":"#N/A"}},{"$f":"MATCH(T$4,Millwall!$Z152:$AM152,0)","v":{"$error":"#N/A"}},{"$f":"MATCH(U$4,Millwall!$Z152:$AM152,0)","v":{"$error":"#N/A"}},{"$f":"MATCH(V$4,Millwall!$Z152:$AM152,0)","v":{"$error":"#N/A"}},{"$f":"MATCH(W$4,Millwall!$Z152:$AM152,0)","v":{"$error":"#N/A"}},{"$f":"MATCH(X$4,Millwall!$Z152:$AM152,0)","v":{"$error":"#N/A"}},{"$f":"MATCH(Y$4,Millwall!$Z152:$AM152,0)","v":{"$error":"#N/A"}},{"$f":"MATCH(Z$4,Millwall!$Z152:$AM152,0)","v":{"$error":"#N/A"}},{"$f":"MATCH(AA$4,Millwall!$Z152:$AM152,0)","v":{"$error":"#N/A"}},{"$f":"MATCH(AB$4,Millwall!$Z152:$AM152,0)","v":{"$error":"#N/A"}},{"$f":"MATCH(AC$4,Millwall!$Z152:$AM152,0)","v":{"$error":"#N/A"}},{"$f":"MATCH(AD$4,Millwall!$Z152:$AM152,0)","v":{"$error":"#N/A"}},{"$f":"MATCH(AE$4,Millwall!$Z152:$AM152,0)","v":{"$error":"#N/A"}},{"$f":"MATCH(AF$4,Millwall!$Z152:$AM152,0)","v":{"$error":"#N/A"}},{"$f":"MATCH(AG$4,Millwall!$Z152:$AM152,0)","v":{"$error":"#N/A"}},{"$f":"MATCH(AH$4,Millwall!$Z152:$AM152,0)","v":{"$error":"#N/A"}},{"$f":"MATCH(AI$4,Millwall!$Z152:$AM152,0)","v":{"$error":"#N/A"}},{"$f":"MATCH(AJ$4,Millwall!$Z152:$AM152,0)","v":{"$error":"#N/A"}},{"$f":"MATCH(AK$4,Millwall!$Z152:$AM152,0)","v":{"$error":"#N/A"}},{"$f":"MATCH(AL$4,Millwall!$Z152:$AM152,0)","v":{"$error":"#N/A"}},{"$f":"MATCH(AM$4,Millwall!$Z152:$AM152,0)","v":{"$error":"#N/A"}},{"$f":"MATCH(AN$4,Millwall!$Z152:$AM152,0)","v":{"$error":"#N/A"}},{"$f":"MATCH(AO$4,Millwall!$Z152:$AM152,0)","v":{"$error":"#N/A"}},{"$f":"MATCH(AP$4,Millwall!$Z152:$AM152,0)","v":{"$error":"#N/A"}},{"$f":"MATCH(AQ$4,Millwall!$Z152:$AM152,0)","v":{"$error":"#N/A"}},{"$f":"MATCH(AR$4,Millwall!$Z152:$AM152,0)","v":{"$error":"#N/A"}},null,null,null,null,null,{"$f":"MATCH(AX$3,Millwall!$Z152:$AM152,0)","v":{"$error":"#N/A"}},{"$f":"MATCH(AY$3,Millwall!$Z152:$AM152,0)","v":{"$error":"#N/A"}},{"$f":"MATCH(AZ$3,Millwall!$Z152:$AM152,0)","v":{"$error":"#N/A"}},{"$f":"MATCH(BA$3,Millwall!$Z152:$AM152,0)","v":{"$error":"#N/A"}},{"$f":"MATCH(BB$3,Millwall!$Z152:$AM152,0)","v":{"$error":"#N/A"}},{"$f":"MATCH(BC$3,Millwall!$Z152:$AM152,0)","v":{"$error":"#N/A"}},{"$f":"MATCH(BD$3,Millwall!$Z152:$AM152,0)","v":{"$error":"#N/A"}},{"$f":"MATCH(BE$3,Millwall!$Z152:$AM152,0)","v":{"$error":"#N/A"}},{"$f":"MATCH(BF$3,Millwall!$Z152:$AM152,0)","v":{"$error":"#N/A"}},{"$f":"MATCH(BG$3,Millwall!$Z152:$AM152,0)","v":{"$error":"#N/A"}},{"$f":"MATCH(BH$3,Millwall!$Z152:$AM152,0)","v":{"$error":"#N/A"}},{"$f":"MATCH(BI$3,Millwall!$Z152:$AM152,0)","v":{"$error":"#N/A"}},{"$f":"MATCH(BJ$3,Millwall!$Z152:$AM152,0)","v":{"$error":"#N/A"}},{"$f":"MATCH(BK$3,Millwall!$Z152:$AM152,0)","v":{"$error":"#N/A"}},{"$f":"MATCH(BL$3,Millwall!$Z152:$AM152,0)","v":{"$error":"#N/A"}},{"$f":"MATCH(BM$3,Millwall!$Z152:$AM152,0)","v":{"$error":"#N/A"}},{"$f":"MATCH(BN$3,Millwall!$Z152:$AM152,0)","v":{"$error":"#N/A"}},{"$f":"MATCH(BO$3,Millwall!$Z152:$AM152,0)","v":{"$error":"#N/A"}},{"$f":"MATCH(BP$3,Millwall!$Z152:$AM152,0)","v":{"$error":"#N/A"}},{"$f":"MATCH(BQ$3,Millwall!$Z152:$AM152,0)","v":{"$error":"#N/A"}},{"$f":"MATCH(BR$3,Millwall!$Z152:$AM152,0)","v":{"$error":"#N/A"}},{"$f":"MATCH(BS$3,Millwall!$Z152:$AM152,0)","v":{"$error":"#N/A"}},{"$f":"MATCH(BT$3,Millwall!$Z152:$AM152,0)","v":{"$error":"#N/A"}},{"$f":"MATCH(BU$3,Millwall!$Z152:$AM152,0)","v":{"$error":"#N/A"}},{"$f":"MATCH(BV$3,Millwall!$Z152:$AM152,0)","v":{"$error":"#N/A"}},{"$f":"MATCH(BW$3,Millwall!$Z152:$AM152,0)","v":{"$error":"#N/A"}},{"$f":"MATCH(BX$3,Millwall!$Z152:$AM152,0)","v":{"$error":"#N/A"}},{"$f":"MATCH(BY$3,Millwall!$Z152:$AM152,0)","v":{"$error":"#N/A"}},{"$f":"MATCH(BZ$3,Millwall!$Z152:$AM152,0)","v":{"$error":"#N/A"}},{"$f":"MATCH(CA$3,Millwall!$Z152:$AM152,0)","v":{"$error":"#N/A"}},{"$f":"MATCH(CB$3,Millwall!$Z152:$AM152,0)","v":{"$error":"#N/A"}},{"$f":"MATCH(CC$3,Millwall!$Z152:$AM152,0)","v":{"$error":"#N/A"}},{"$f":"MATCH(CD$3,Millwall!$Z152:$AM152,0)","v":{"$error":"#N/A"}},{"$f":"MATCH(CE$3,Millwall!$Z152:$AM152,0)","v":{"$error":"#N/A"}},null,null,{"$f":"MATCH(CH$3,Millwall!$AN152:AP152,0)","v":{"$error":"#N/A"}},{"$f":"MATCH(CI$3,Millwall!$AN152:AP152,0)","v":{"$error":"#N/A"}},{"$f":"MATCH(CJ$3,Millwall!$AN152:AP152,0)","v":{"$error":"#N/A"}},{"$f":"MATCH(CK$3,Millwall!$AN152:AP152,0)","v":{"$error":"#N/A"}},{"$f":"MATCH(CL$3,Millwall!$AN152:AP152,0)","v":{"$error":"#N/A"}},{"$f":"MATCH(CM$3,Millwall!$AN152:AP152,0)","v":{"$error":"#N/A"}},{"$f":"MATCH(CN$3,Millwall!$AN152:AP152,0)","v":{"$error":"#N/A"}},{"$f":"MATCH(CO$3,Millwall!$AN152:AP152,0)","v":{"$error":"#N/A"}},{"$f":"MATCH(CP$3,Millwall!$AN152:AP152,0)","v":{"$error":"#N/A"}},{"$f":"MATCH(CQ$3,Millwall!$AN152:AP152,0)","v":{"$error":"#N/A"}},{"$f":"MATCH(CR$3,Millwall!$AN152:AP152,0)","v":{"$error":"#N/A"}},{"$f":"MATCH(CS$3,Millwall!$AN152:AP152,0)","v":{"$error":"#N/A"}},{"$f":"MATCH(CT$3,Millwall!$AN152:AP152,0)","v":{"$error":"#N/A"}},{"$f":"MATCH(CU$3,Millwall!$AN152:AP152,0)","v":{"$error":"#N/A"}},{"$f":"MATCH(CV$3,Millwall!$AN152:AP152,0)","v":{"$error":"#N/A"}},{"$f":"MATCH(CW$3,Millwall!$AN152:AP152,0)","v":{"$error":"#N/A"}},{"$f":"MATCH(CX$3,Millwall!$AN152:AP152,0)","v":{"$error":"#N/A"}},{"$f":"MATCH(CY$3,Millwall!$AN152:AP152,0)","v":{"$error":"#N/A"}},{"$f":"MATCH(CZ$3,Millwall!$AN152:AP152,0)","v":{"$error":"#N/A"}},{"$f":"MATCH(DA$3,Millwall!$AN152:AP152,0)","v":{"$error":"#N/A"}},{"$f":"MATCH(DB$3,Millwall!$AN152:AP152,0)","v":{"$error":"#N/A"}},{"$f":"MATCH(DC$3,Millwall!$AN152:AP152,0)","v":{"$error":"#N/A"}},{"$f":"MATCH(DD$3,Millwall!$AN152:AP152,0)","v":{"$error":"#N/A"}},{"$f":"MATCH(DE$3,Millwall!$AN152:AP152,0)","v":{"$error":"#N/A"}},{"$f":"MATCH(DF$3,Millwall!$AN152:AP152,0)","v":{"$error":"#N/A"}},{"$f":"MATCH(DG$3,Millwall!$AN152:AP152,0)","v":{"$error":"#N/A"}},{"$f":"MATCH(DH$3,Millwall!$AN152:AP152,0)","v":{"$error":"#N/A"}},{"$f":"MATCH(DI$3,Millwall!$AN152:AP152,0)","v":{"$error":"#N/A"}},{"$f":"MATCH(DJ$3,Millwall!$AN152:AP152,0)","v":{"$error":"#N/A"}},{"$f":"MATCH(DK$3,Millwall!$AN152:AP152,0)","v":{"$error":"#N/A"}},{"$f":"MATCH(DL$3,Millwall!$AN152:AP152,0)","v":{"$error":"#N/A"}},{"$f":"MATCH(DM$3,Millwall!$AN152:AP152,0)","v":{"$error":"#N/A"}},{"$f":"MATCH(DN$3,Millwall!$AN152:AP152,0)","v":{"$error":"#N/A"}},{"$f":"MATCH(DO$3,Millwall!$AN152:AP152,0)","v":{"$error":"#N/A"}}]
[null,null,1,null,null,{"$f":"Millwall!V153","v":"00:00:00"},null,{"$f":"Millwall!W153","v":"00:00:00"},{"$f":"Millwall!X153","v":"00:00:00"},{"$f":"Millwall!Y153","v":0},{"$f":"MATCH(K$4,Millwall!$Z153:$AM153,0)","v":{"$error":"#N/A"}},{"$f":"MATCH(L$4,Millwall!$Z153:$AM153,0)","v":{"$error":"#N/A"}},{"$f":"MATCH(M$4,Millwall!$Z153:$AM153,0)","v":{"$error":"#N/A"}},{"$f":"MATCH(N$4,Millwall!$Z153:$AM153,0)","v":{"$error":"#N/A"}},{"$f":"MATCH(O$4,Millwall!$Z153:$AM153,0)","v":{"$error":"#N/A"}},{"$f":"MATCH(P$4,Millwall!$Z153:$AM153,0)","v":{"$error":"#N/A"}},{"$f":"MATCH(Q$4,Millwall!$Z153:$AM153,0)","v":{"$error":"#N/A"}},{"$f":"MATCH(R$4,Millwall!$Z153:$AM153,0)","v":{"$error":"#N/A"}},{"$f":"MATCH(S$4,Millwall!$Z153:$AM153,0)","v":{"$error":"#N/A"}},{"$f":"MATCH(T$4,Millwall!$Z153:$AM153,0)","v":{"$error":"#N/A"}},{"$f":"MATCH(U$4,Millwall!$Z153:$AM153,0)","v":{"$error":"#N/A"}},{"$f":"MATCH(V$4,Millwall!$Z153:$AM153,0)","v":{"$error":"#N/A"}},{"$f":"MATCH(W$4,Millwall!$Z153:$AM153,0)","v":{"$error":"#N/A"}},{"$f":"MATCH(X$4,Millwall!$Z153:$AM153,0)","v":{"$error":"#N/A"}},{"$f":"MATCH(Y$4,Millwall!$Z153:$AM153,0)","v":{"$error":"#N/A"}},{"$f":"MATCH(Z$4,Millwall!$Z153:$AM153,0)","v":{"$error":"#N/A"}},{"$f":"MATCH(AA$4,Millwall!$Z153:$AM153,0)","v":{"$error":"#N/A"}},{"$f":"MATCH(AB$4,Millwall!$Z153:$AM153,0)","v":{"$error":"#N/A"}},{"$f":"MATCH(AC$4,Millwall!$Z153:$AM153,0)","v":{"$error":"#N/A"}},{"$f":"MATCH(AD$4,Millwall!$Z153:$AM153,0)","v":{"$error":"#N/A"}},{"$f":"MATCH(AE$4,Millwall!$Z153:$AM153,0)","v":{"$error":"#N/A"}},{"$f":"MATCH(AF$4,Millwall!$Z153:$AM153,0)","v":{"$error":"#N/A"}},{"$f":"MATCH(AG$4,Millwall!$Z153:$AM153,0)","v":{"$error":"#N/A"}},{"$f":"MATCH(AH$4,Millwall!$Z153:$AM153,0)","v":{"$error":"#N/A"}},{"$f":"MATCH(AI$4,Millwall!$Z153:$AM153,0)","v":{"$error":"#N/A"}},{"$f":"MATCH(AJ$4,Millwall!$Z153:$AM153,0)","v":{"$error":"#N/A"}},{"$f":"MATCH(AK$4,Millwall!$Z153:$AM153,0)","v":{"$error":"#N/A"}},{"$f":"MATCH(AL$4,Millwall!$Z153:$AM153,0)","v":{"$error":"#N/A"}},{"$f":"MATCH(AM$4,Millwall!$Z153:$AM153,0)","v":{"$error":"#N/A"}},{"$f":"MATCH(AN$4,Millwall!$Z153:$AM153,0)","v":{"$error":"#N/A"}},{"$f":"MATCH(AO$4,Millwall!$Z153:$AM153,0)","v":{"$error":"#N/A"}},{"$f":"MATCH(AP$4,Millwall!$Z153:$AM153,0)","v":{"$error":"#N/A"}},{"$f":"MATCH(AQ$4,Millwall!$Z153:$AM153,0)","v":{"$error":"#N/A"}},{"$f":"MATCH(AR$4,Millwall!$Z153:$AM153,0)","v":{"$error":"#N/A"}},null,null,null,null,null,{"$f":"MATCH(AX$3,Millwall!$Z153:$AM153,0)","v":{"$error":"#N/A"}},{"$f":"MATCH(AY$3,Millwall!$Z153:$AM153,0)","v":{"$error":"#N/A"}},{"$f":"MATCH(AZ$3,Millwall!$Z153:$AM153,0)","v":{"$error":"#N/A"}},{"$f":"MATCH(BA$3,Millwall!$Z153:$AM153,0)","v":{"$error":"#N/A"}},{"$f":"MATCH(BB$3,Millwall!$Z153:$AM153,0)","v":{"$error":"#N/A"}},{"$f":"MATCH(BC$3,Millwall!$Z153:$AM153,0)","v":{"$error":"#N/A"}},{"$f":"MATCH(BD$3,Millwall!$Z153:$AM153,0)","v":{"$error":"#N/A"}},{"$f":"MATCH(BE$3,Millwall!$Z153:$AM153,0)","v":{"$error":"#N/A"}},{"$f":"MATCH(BF$3,Millwall!$Z153:$AM153,0)","v":{"$error":"#N/A"}},{"$f":"MATCH(BG$3,Millwall!$Z153:$AM153,0)","v":{"$error":"#N/A"}},{"$f":"MATCH(BH$3,Millwall!$Z153:$AM153,0)","v":{"$error":"#N/A"}},{"$f":"MATCH(BI$3,Millwall!$Z153:$AM153,0)","v":{"$error":"#N/A"}},{"$f":"MATCH(BJ$3,Millwall!$Z153:$AM153,0)","v":{"$error":"#N/A"}},{"$f":"MATCH(BK$3,Millwall!$Z153:$AM153,0)","v":{"$error":"#N/A"}},{"$f":"MATCH(BL$3,Millwall!$Z153:$AM153,0)","v":{"$error":"#N/A"}},{"$f":"MATCH(BM$3,Millwall!$Z153:$AM153,0)","v":{"$error":"#N/A"}},{"$f":"MATCH(BN$3,Millwall!$Z153:$AM153,0)","v":{"$error":"#N/A"}},{"$f":"MATCH(BO$3,Millwall!$Z153:$AM153,0)","v":{"$error":"#N/A"}},{"$f":"MATCH(BP$3,Millwall!$Z153:$AM153,0)","v":{"$error":"#N/A"}},{"$f":"MATCH(BQ$3,Millwall!$Z153:$AM153,0)","v":{"$error":"#N/A"}},{"$f":"MATCH(BR$3,Millwall!$Z153:$AM153,0)","v":{"$error":"#N/A"}},{"$f":"MATCH(BS$3,Millwall!$Z153:$AM153,0)","v":{"$error":"#N/A"}},{"$f":"MATCH(BT$3,Millwall!$Z153:$AM153,0)","v":{"$error":"#N/A"}},{"$f":"MATCH(BU$3,Millwall!$Z153:$AM153,0)","v":{"$error":"#N/A"}},{"$f":"MATCH(BV$3,Millwall!$Z153:$AM153,0)","v":{"$error":"#N/A"}},{"$f":"MATCH(BW$3,Millwall!$Z153:$AM153,0)","v":{"$error":"#N/A"}},{"$f":"MATCH(BX$3,Millwall!$Z153:$AM153,0)","v":{"$error":"#N/A"}},{"$f":"MATCH(BY$3,Millwall!$Z153:$AM153,0)","v":{"$error":"#N/A"}},{"$f":"MATCH(BZ$3,Millwall!$Z153:$AM153,0)","v":{"$error":"#N/A"}},{"$f":"MATCH(CA$3,Millwall!$Z153:$AM153,0)","v":{"$error":"#N/A"}},{"$f":"MATCH(CB$3,Millwall!$Z153:$AM153,0)","v":{"$error":"#N/A"}},{"$f":"MATCH(CC$3,Millwall!$Z153:$AM153,0)","v":{"$error":"#N/A"}},{"$f":"MATCH(CD$3,Millwall!$Z153:$AM153,0)","v":{"$error":"#N/A"}},{"$f":"MATCH(CE$3,Millwall!$Z153:$AM153,0)","v":{"$error":"#N/A"}},null,null,{"$f":"MATCH(CH$3,Millwall!$AN153:AP153,0)","v":{"$error":"#N/A"}},{"$f":"MATCH(CI$3,Millwall!$AN153:AP153,0)","v":{"$error":"#N/A"}},{"$f":"MATCH(CJ$3,Millwall!$AN153:AP153,0)","v":{"$error":"#N/A"}},{"$f":"MATCH(CK$3,Millwall!$AN153:AP153,0)","v":{"$error":"#N/A"}},{"$f":"MATCH(CL$3,Millwall!$AN153:AP153,0)","v":{"$error":"#N/A"}},{"$f":"MATCH(CM$3,Millwall!$AN153:AP153,0)","v":{"$error":"#N/A"}},{"$f":"MATCH(CN$3,Millwall!$AN153:AP153,0)","v":{"$error":"#N/A"}},{"$f":"MATCH(CO$3,Millwall!$AN153:AP153,0)","v":{"$error":"#N/A"}},{"$f":"MATCH(CP$3,Millwall!$AN153:AP153,0)","v":{"$error":"#N/A"}},{"$f":"MATCH(CQ$3,Millwall!$AN153:AP153,0)","v":{"$error":"#N/A"}},{"$f":"MATCH(CR$3,Millwall!$AN153:AP153,0)","v":{"$error":"#N/A"}},{"$f":"MATCH(CS$3,Millwall!$AN153:AP153,0)","v":{"$error":"#N/A"}},{"$f":"MATCH(CT$3,Millwall!$AN153:AP153,0)","v":{"$error":"#N/A"}},{"$f":"MATCH(CU$3,Millwall!$AN153:AP153,0)","v":{"$error":"#N/A"}},{"$f":"MATCH(CV$3,Millwall!$AN153:AP153,0)","v":{"$error":"#N/A"}},{"$f":"MATCH(CW$3,Millwall!$AN153:AP153,0)","v":{"$error":"#N/A"}},{"$f":"MATCH(CX$3,Millwall!$AN153:AP153,0)","v":{"$error":"#N/A"}},{"$f":"MATCH(CY$3,Millwall!$AN153:AP153,0)","v":{"$error":"#N/A"}},{"$f":"MATCH(CZ$3,Millwall!$AN153:AP153,0)","v":{"$error":"#N/A"}},{"$f":"MATCH(DA$3,Millwall!$AN153:AP153,0)","v":{"$error":"#N/A"}},{"$f":"MATCH(DB$3,Millwall!$AN153:AP153,0)","v":{"$error":"#N/A"}},{"$f":"MATCH(DC$3,Millwall!$AN153:AP153,0)","v":{"$error":"#N/A"}},{"$f":"MATCH(DD$3,Millwall!$AN153:AP153,0)","v":{"$error":"#N/A"}},{"$f":"MATCH(DE$3,Millwall!$AN153:AP153,0)","v":{"$error":"#N/A"}},{"$f":"MATCH(DF$3,Millwall!$AN153:AP153,0)","v":{"$error":"#N/A"}},{"$f":"MATCH(DG$3,Millwall!$AN153:AP153,0)","v":{"$error":"#N/A"}},{"$f":"MATCH(DH$3,Millwall!$AN153:AP153,0)","v":{"$error":"#N/A"}},{"$f":"MATCH(DI$3,Millwall!$AN153:AP153,0)","v":{"$error":"#N/A"}},{"$f":"MATCH(DJ$3,Millwall!$AN153:AP153,0)","v":{"$error":"#N/A"}},{"$f":"MATCH(DK$3,Millwall!$AN153:AP153,0)","v":{"$error":"#N/A"}},{"$f":"MATCH(DL$3,Millwall!$AN153:AP153,0)","v":{"$error":"#N/A"}},{"$f":"MATCH(DM$3,Millwall!$AN153:AP153,0)","v":{"$error":"#N/A"}},{"$f":"MATCH(DN$3,Millwall!$AN153:AP153,0)","v":{"$error":"#N/A"}},{"$f":"MATCH(DO$3,Millwall!$AN153:AP153,0)","v":{"$error":"#N/A"}}]
[null,null,1,null,null,{"$f":"Millwall!V154","v":"00:00:00"},null,{"$f":"Millwall!W154","v":"00:00:00"},{"$f":"Millwall!X154","v":"00:00:00"},{"$f":"Millwall!Y154","v":0},{"$f":"MATCH(K$4,Millwall!$Z154:$AM154,0)","v":{"$error":"#N/A"}},{"$f":"MATCH(L$4,Millwall!$Z154:$AM154,0)","v":{"$error":"#N/A"}},{"$f":"MATCH(M$4,Millwall!$Z154:$AM154,0)","v":{"$error":"#N/A"}},{"$f":"MATCH(N$4,Millwall!$Z154:$AM154,0)","v":{"$error":"#N/A"}},{"$f":"MATCH(O$4,Millwall!$Z154:$AM154,0)","v":{"$error":"#N/A"}},{"$f":"MATCH(P$4,Millwall!$Z154:$AM154,0)","v":{"$error":"#N/A"}},{"$f":"MATCH(Q$4,Millwall!$Z154:$AM154,0)","v":{"$error":"#N/A"}},{"$f":"MATCH(R$4,Millwall!$Z154:$AM154,0)","v":{"$error":"#N/A"}},{"$f":"MATCH(S$4,Millwall!$Z154:$AM154,0)","v":{"$error":"#N/A"}},{"$f":"MATCH(T$4,Millwall!$Z154:$AM154,0)","v":{"$error":"#N/A"}},{"$f":"MATCH(U$4,Millwall!$Z154:$AM154,0)","v":{"$error":"#N/A"}},{"$f":"MATCH(V$4,Millwall!$Z154:$AM154,0)","v":{"$error":"#N/A"}},{"$f":"MATCH(W$4,Millwall!$Z154:$AM154,0)","v":{"$error":"#N/A"}},{"$f":"MATCH(X$4,Millwall!$Z154:$AM154,0)","v":{"$error":"#N/A"}},{"$f":"MATCH(Y$4,Millwall!$Z154:$AM154,0)","v":{"$error":"#N/A"}},{"$f":"MATCH(Z$4,Millwall!$Z154:$AM154,0)","v":{"$error":"#N/A"}},{"$f":"MATCH(AA$4,Millwall!$Z154:$AM154,0)","v":{"$error":"#N/A"}},{"$f":"MATCH(AB$4,Millwall!$Z154:$AM154,0)","v":{"$error":"#N/A"}},{"$f":"MATCH(AC$4,Millwall!$Z154:$AM154,0)","v":{"$error":"#N/A"}},{"$f":"MATCH(AD$4,Millwall!$Z154:$AM154,0)","v":{"$error":"#N/A"}},{"$f":"MATCH(AE$4,Millwall!$Z154:$AM154,0)","v":{"$error":"#N/A"}},{"$f":"MATCH(AF$4,Millwall!$Z154:$AM154,0)","v":{"$error":"#N/A"}},{"$f":"MATCH(AG$4,Millwall!$Z154:$AM154,0)","v":{"$error":"#N/A"}},{"$f":"MATCH(AH$4,Millwall!$Z154:$AM154,0)","v":{"$error":"#N/A"}},{"$f":"MATCH(AI$4,Millwall!$Z154:$AM154,0)","v":{"$error":"#N/A"}},{"$f":"MATCH(AJ$4,Millwall!$Z154:$AM154,0)","v":{"$error":"#N/A"}},{"$f":"MATCH(AK$4,Millwall!$Z154:$AM154,0)","v":{"$error":"#N/A"}},{"$f":"MATCH(AL$4,Millwall!$Z154:$AM154,0)","v":{"$error":"#N/A"}},{"$f":"MATCH(AM$4,Millwall!$Z154:$AM154,0)","v":{"$error":"#N/A"}},{"$f":"MATCH(AN$4,Millwall!$Z154:$AM154,0)","v":{"$error":"#N/A"}},{"$f":"MATCH(AO$4,Millwall!$Z154:$AM154,0)","v":{"$error":"#N/A"}},{"$f":"MATCH(AP$4,Millwall!$Z154:$AM154,0)","v":{"$error":"#N/A"}},{"$f":"MATCH(AQ$4,Millwall!$Z154:$AM154,0)","v":{"$error":"#N/A"}},{"$f":"MATCH(AR$4,Millwall!$Z154:$AM154,0)","v":{"$error":"#N/A"}},null,null,null,null,null,{"$f":"MATCH(AX$3,Millwall!$Z154:$AM154,0)","v":{"$error":"#N/A"}},{"$f":"MATCH(AY$3,Millwall!$Z154:$AM154,0)","v":{"$error":"#N/A"}},{"$f":"MATCH(AZ$3,Millwall!$Z154:$AM154,0)","v":{"$error":"#N/A"}},{"$f":"MATCH(BA$3,Millwall!$Z154:$AM154,0)","v":{"$error":"#N/A"}},{"$f":"MATCH(BB$3,Millwall!$Z154:$AM154,0)","v":{"$error":"#N/A"}},{"$f":"MATCH(BC$3,Millwall!$Z154:$AM154,0)","v":{"$error":"#N/A"}},{"$f":"MATCH(BD$3,Millwall!$Z154:$AM154,0)","v":{"$error":"#N/A"}},{"$f":"MATCH(BE$3,Millwall!$Z154:$AM154,0)","v":{"$error":"#N/A"}},{"$f":"MATCH(BF$3,Millwall!$Z154:$AM154,0)","v":{"$error":"#N/A"}},{"$f":"MATCH(BG$3,Millwall!$Z154:$AM154,0)","v":{"$error":"#N/A"}},{"$f":"MATCH(BH$3,Millwall!$Z154:$AM154,0)","v":{"$error":"#N/A"}},{"$f":"MATCH(BI$3,Millwall!$Z154:$AM154,0)","v":{"$error":"#N/A"}},{"$f":"MATCH(BJ$3,Millwall!$Z154:$AM154,0)","v":{"$error":"#N/A"}},{"$f":"MATCH(BK$3,Millwall!$Z154:$AM154,0)","v":{"$error":"#N/A"}},{"$f":"MATCH(BL$3,Millwall!$Z154:$AM154,0)","v":{"$error":"#N/A"}},{"$f":"MATCH(BM$3,Millwall!$Z154:$AM154,0)","v":{"$error":"#N/A"}},{"$f":"MATCH(BN$3,Millwall!$Z154:$AM154,0)","v":{"$error":"#N/A"}},{"$f":"MATCH(BO$3,Millwall!$Z154:$AM154,0)","v":{"$error":"#N/A"}},{"$f":"MATCH(BP$3,Millwall!$Z154:$AM154,0)","v":{"$error":"#N/A"}},{"$f":"MATCH(BQ$3,Millwall!$Z154:$AM154,0)","v":{"$error":"#N/A"}},{"$f":"MATCH(BR$3,Millwall!$Z154:$AM154,0)","v":{"$error":"#N/A"}},{"$f":"MATCH(BS$3,Millwall!$Z154:$AM154,0)","v":{"$error":"#N/A"}},{"$f":"MATCH(BT$3,Millwall!$Z154:$AM154,0)","v":{"$error":"#N/A"}},{"$f":"MATCH(BU$3,Millwall!$Z154:$AM154,0)","v":{"$error":"#N/A"}},{"$f":"MATCH(BV$3,Millwall!$Z154:$AM154,0)","v":{"$error":"#N/A"}},{"$f":"MATCH(BW$3,Millwall!$Z154:$AM154,0)","v":{"$error":"#N/A"}},{"$f":"MATCH(BX$3,Millwall!$Z154:$AM154,0)","v":{"$error":"#N/A"}},{"$f":"MATCH(BY$3,Millwall!$Z154:$AM154,0)","v":{"$error":"#N/A"}},{"$f":"MATCH(BZ$3,Millwall!$Z154:$AM154,0)","v":{"$error":"#N/A"}},{"$f":"MATCH(CA$3,Millwall!$Z154:$AM154,0)","v":{"$error":"#N/A"}},{"$f":"MATCH(CB$3,Millwall!$Z154:$AM154,0)","v":{"$error":"#N/A"}},{"$f":"MATCH(CC$3,Millwall!$Z154:$AM154,0)","v":{"$error":"#N/A"}},{"$f":"MATCH(CD$3,Millwall!$Z154:$AM154,0)","v":{"$error":"#N/A"}},{"$f":"MATCH(CE$3,Millwall!$Z154:$AM154,0)","v":{"$error":"#N/A"}},null,null,{"$f":"MATCH(CH$3,Millwall!$AN154:AP154,0)","v":{"$error":"#N/A"}},{"$f":"MATCH(CI$3,Millwall!$AN154:AP154,0)","v":{"$error":"#N/A"}},{"$f":"MATCH(CJ$3,Millwall!$AN154:AP154,0)","v":{"$error":"#N/A"}},{"$f":"MATCH(CK$3,Millwall!$AN154:AP154,0)","v":{"$error":"#N/A"}},{"$f":"MATCH(CL$3,Millwall!$AN154:AP154,0)","v":{"$error":"#N/A"}},{"$f":"MATCH(CM$3,Millwall!$AN154:AP154,0)","v":{"$error":"#N/A"}},{"$f":"MATCH(CN$3,Millwall!$AN154:AP154,0)","v":{"$error":"#N/A"}},{"$f":"MATCH(CO$3,Millwall!$AN154:AP154,0)","v":{"$error":"#N/A"}},{"$f":"MATCH(CP$3,Millwall!$AN154:AP154,0)","v":{"$error":"#N/A"}},{"$f":"MATCH(CQ$3,Millwall!$AN154:AP154,0)","v":{"$error":"#N/A"}},{"$f":"MATCH(CR$3,Millwall!$AN154:AP154,0)","v":{"$error":"#N/A"}},{"$f":"MATCH(CS$3,Millwall!$AN154:AP154,0)","v":{"$error":"#N/A"}},{"$f":"MATCH(CT$3,Millwall!$AN154:AP154,0)","v":{"$error":"#N/A"}},{"$f":"MATCH(CU$3,Millwall!$AN154:AP154,0)","v":{"$error":"#N/A"}},{"$f":"MATCH(CV$3,Millwall!$AN154:AP154,0)","v":{"$error":"#N/A"}},{"$f":"MATCH(CW$3,Millwall!$AN154:AP154,0)","v":{"$error":"#N/A"}},{"$f":"MATCH(CX$3,Millwall!$AN154:AP154,0)","v":{"$error":"#N/A"}},{"$f":"MATCH(CY$3,Millwall!$AN154:AP154,0)","v":{"$error":"#N/A"}},{"$f":"MATCH(CZ$3,Millwall!$AN154:AP154,0)","v":{"$error":"#N/A"}},{"$f":"MATCH(DA$3,Millwall!$AN154:AP154,0)","v":{"$error":"#N/A"}},{"$f":"MATCH(DB$3,Millwall!$AN154:AP154,0)","v":{"$error":"#N/A"}},{"$f":"MATCH(DC$3,Millwall!$AN154:AP154,0)","v":{"$error":"#N/A"}},{"$f":"MATCH(DD$3,Millwall!$AN154:AP154,0)","v":{"$error":"#N/A"}},{"$f":"MATCH(DE$3,Millwall!$AN154:AP154,0)","v":{"$error":"#N/A"}},{"$f":"MATCH(DF$3,Millwall!$AN154:AP154,0)","v":{"$error":"#N/A"}},{"$f":"MATCH(DG$3,Millwall!$AN154:AP154,0)","v":{"$error":"#N/A"}},{"$f":"MATCH(DH$3,Millwall!$AN154:AP154,0)","v":{"$error":"#N/A"}},{"$f":"MATCH(DI$3,Millwall!$AN154:AP154,0)","v":{"$error":"#N/A"}},{"$f":"MATCH(DJ$3,Millwall!$AN154:AP154,0)","v":{"$error":"#N/A"}},{"$f":"MATCH(DK$3,Millwall!$AN154:AP154,0)","v":{"$error":"#N/A"}},{"$f":"MATCH(DL$3,Millwall!$AN154:AP154,0)","v":{"$error":"#N/A"}},{"$f":"MATCH(DM$3,Millwall!$AN154:AP154,0)","v":{"$error":"#N/A"}},{"$f":"MATCH(DN$3,Millwall!$AN154:AP154,0)","v":{"$error":"#N/A"}},{"$f":"MATCH(DO$3,Millwall!$AN154:AP154,0)","v":{"$error":"#N/A"}}]
[]
[null,null,null,null,null,null,null,null,null,"Total Full Members Cup Apperances",{"$f":"COUNT(K88:K96)-K99-K100","v":2},{"$f":"COUNT(L88:L96)-L99-L100","v":2},0,2,0,1,2,1,1,2,0,0,2,0,1,2,0,1,2,1,0,0,0,0,0,0,0,0,0,0,0,0,0,0]
[null,null,null,null,null,null,null,null,null,"Total Full Members Cup Sub Appearences ",{"$f":"$AX$99+$CH$99","v":0},{"$f":"$AY$99+$CI$99","v":0},{"$f":"$AZ$99+$CJ$99","v":0},{"$f":"$BA$99+$CK$99","v":0},{"$f":"$BB$99+$CL$99","v":0},{"$f":"$BC$99+$CM$99","v":0},{"$f":"$BD$99+$CN$99","v":0},{"$f":"$BE$99+$CO$99","v":0},{"$f":"$BF$99+$CP$99","v":0},{"$f":"$BG$99+$CQ$99","v":0},{"$f":"$BH$99+$CR$99","v":0},{"$f":"$BI$99+$CS$99","v":1},{"$f":"$BJ$99+$CT$99","v":0},{"$f":"$BK$99+$CU$99","v":0},{"$f":"$BL$99+$CV$99","v":0},{"$f":"$BM$99+$CW$99","v":0},{"$f":"$BN$99+$CX$99","v":0},{"$f":"$BO$99+$CY$99","v":0},{"$f":"$BP$99+$CZ$99","v":0},{"$f":"$BQ$99+$DA$99","v":0},{"$f":"$BR$99+$DB$99","v":0},{"$f":"$BS$99+$DC$99","v":0},{"$f":"$BT$99+$DD$99","v":0},{"$f":"$BU$99+$DE$99","v":0},{"$f":"$BV$99+$DF$99","v":0},{"$f":"$BW$99+$DG$99","v":0},{"$f":"$BX$99+$DH$99","v":0},{"$f":"$BY$99+$DI$99","v":0},{"$f":"$BZ$99+$DJ$99","v":0},{"$f":"$CA$99+$DK$99","v":0},{"$f":"$CB$99+$DL$99","v":0},{"$f":"$CC$99+$DM$99","v":0},{"$f":"$CD$99+$DN$99","v":0},{"$f":"CE99+DO99","v":0},null,null,null,null,null,{"$f":"COUNTIF(AX88:AX96,12)","v":0},{"$f":"COUNTIF(AY88:AY96,12)","v":0},0,0,0,0,0,0,0,0,0,1,0,0,0,0,0,0,0,0,0,0,0,0,0,0,0,0,0,0,0,0,0,0,null,null,{"$f":"COUNTIF(CH88:CH96,13)","v":0},{"$f":"COUNTIF(CI88:CI96,13)","v":0},0,0,0,0,0,0,0,0,0,0,0,0,0,0,0,0,0,0,0,0,0,0,0,0,0,0,0,0,0,0,0,0]
[null,null,null,null,null,null,null,null,null,"Non Playing Substitute",{"$f":"COUNTIF(K88:K96,\">=12\")-K99","v":0},{"$f":"COUNTIF(L88:L96,\">=12\")-L99","v":0},0,0,0,0,0,1,0,0,1,1,0,0,0,0,0,0,0,0,0,0,0,0,0,0,0,0,0,0,0,0,0,0]
[null,null,null,null,null,null,null,null,null,"Goals",{"$f":"Millwall!$CO9","v":0},{"$f":"Millwall!$CO10","v":1},{"$f":"Millwall!$CO11","v":0},{"$f":"Millwall!$CO12","v":1},{"$f":"Millwall!$CO13","v":0},{"$f":"Millwall!$CO14","v":0},{"$f":"Millwall!$CO15","v":0},{"$f":"Millwall!$CO16","v":0},{"$f":"Millwall!$CO17","v":1},{"$f":"Millwall!$CO18","v":0},{"$f":"Millwall!$CO19","v":0},{"$f":"Millwall!$CO20","v":0},{"$f":"Millwall!$CO21","v":0},{"$f":"Millwall!$CO22","v":0},{"$f":"Millwall!$CO23","v":0},{"$f":"Millwall!$CO24","v":0},{"$f":"Millwall!$CO25","v":0},{"$f":"Millwall!$CO26","v":0},{"$f":"Millwall!$CO27","v":0},{"$f":"Millwall!$CO28","v":0},{"$f":"Millwall!$CO29","v":0},{"$f":"Millwall!$CO30","v":0},{"$f":"Millwall!$CO31","v":0},{"$f":"Millwall!$CO32","v":0},{"$f":"Millwall!$CO33","v":3},{"$f":"Millwall!$CO34","v":0},{"$f":"Millwall!$CO35","v":0},{"$f":"Millwall!$CO36","v":0},{"$f":"Millwall!$CO37","v":0},{"$f":"Millwall!$CO38","v":0},{"$f":"Millwall!$CO39","v":0},{"$f":"Millwall!$CO40","v":0},{"$f":"Millwall!$CO41","v":0},{"$f":"Millwall!$CO42","v":0}]
[null,null,1]
[null,null,1]
[null,null,1]
[]
[]
[null,null,null,null,null,null,null,"Checks",null,null,null,null,null,null,null,null,null,null,1]
[]
["Manual Input",null,null,null,null,null,null,"Opponents","Venue/Result",null,{"$f":"K3","v":"Briley"},"Chatterton","Coleman","Fashanu","Granville","Hinshelwood","Kinsella","Leslie","Lovell","Lowndes","Malcolm","McLeary","Nutton","Otulakowski","Roffey","Sansome","Sheringham","Smith","Stevens","Walker","Wilson",0,0,0,0,0,0,0,0,0,0,0,0,0]
[null,null,{"$f":"IF(J110=0,1,0)","v":0},1,null,{"$f":"F5","v":"1985-08-17"},null,{"$f":"H5","v":"Huddersfield"},"(A)","L 3-4",4,null,null,9,null,2,11,null,10,7,null,12,6,null,3,1,null,5,null,null,8]
[null,null,0,2,null,"1985-08-24",null,"Norwich","(H)","W 4-2",4,12,null,9,null,2,11,null,10,7,null,5,6,null,3,1,null,null,null,null,8]
[null,null,0,3,null,"1985-08-27",null,"Shrewsbury","(A)","D 1-1",4,12,null,9,null,2,11,null,10,7,null,5,6,null,3,1,null,null,null,null,8]
[null,null,0,4,null,"1985-08-31",null,"Sunderland","(H)","W 1-0",4,null,null,9,null,2,11,12,10,7,null,5,6,null,3,1,null,null,null,null,8]
[null,null,0,5,null,"1985-09-07",null,"Stoke","(A)","D 0-0",4,12,null,9,null,2,11,null,10,7,null,5,6,null,3,1,null,null,null,null,8]
[null,null,0,6,null,"1985-09-14",null,"Brighton","(H)","L 0-1",4,null,null,9,null,2,11,12,10,7,null,5,6,null,3,1,null,null,null,null,8]
[null,null,0,7,null,"1985-09-17",null,"Hull City","(A)","L 0-3",4,12,null,9,null,2,11,null,10,7,null,5,6,null,3,1,null,null,null,null,8]
[null,null,0,8,null,"1985-09-21",null,"C Palace","(A)","L 1-2",4,12,null,9,null,3,null,11,10,7,null,5,6,null,null,1,null,null,2,null,8]
[null,null,0,9,null,"1985-09-28",null,"Oldham","(H)","L 0-1",4,null,null,9,null,3,12,11,10,7,null,null,6,null,null,1,null,5,2,null,8]
[null,null,0,10,null,"1985-10-05",null,"Sheff Utd","(A)","W 3-1",4,8,null,9,null,null,11,null,10,7,null,12,6,null,3,1,null,5,2]
[null,null,0,11,null,"1985-10-12",null,"Blackburn","(H)","L 0-1",4,8,null,9,null,12,11,null,10,7,null,5,6,null,3,1,null,null,2]
[null,null,0,12,null,"1985-10-19",null,"Wimbledon","(A)","D 1-1",4,8,null,9,null,3,11,12,10,7,null,null,6,null,null,1,null,null,2,5]
[null,null,0,13,null,"1985-10-22",null,"Carlisle","(H)","W 3-1",4,8,null,null,null,3,11,9,10,7,null,12,6,null,null,1,null,null,2,5]
[null,null,0,14,null,"1985-10-26",null,"Portsmouth","(H)","L 0-4",4,8,null,null,null,3,11,9,10,7,null,12,6,null,null,1,null,null,2,5]
[null,null,0,15,null,"1985-11-02",null,"Grimsby","(A)","L 1-5",4,8,null,9,null,3,11,7,10,null,null,12,6,null,null,1,null,null,2,5]
[null,null,0,16,null,"1985-11-09",null,"Leeds","(H)","W 3-1",4,null,null,9,1,3,null,8,10,7,null,11,6,null,null,null,12,5,2]
[null,null,0,17,null,"1985-11-23",null,{"$f":"H21","v":"Middlesbrough"},"(H)","W 3-0",4,8,null,null,1,3,null,9,10,7,null,11,6,null,null,null,12,null,2,5]
[null,null,0,18,null,"1985-11-30",null,"Barnsley","(A)","L 1-2",4,8,null,null,1,3,null,9,10,7,null,11,null,null,12,null,null,6,2,5]
[null,null,0,19,null,"1985-12-07",null,"Carlisle","(A)","L 0-1",4,8,null,null,1,3,null,9,10,7,null,11,6,null,null,null,12,5,2]
[null,null,0,20,null,"1985-12-14",null,"Huddersfield","(H)","W 2-1",4,8,null,null,1,3,null,12,10,null,null,7,6,11,null,null,9,null,2,5]
[null,null,0,21,null,"1985-12-21",null,"Norwich","(A)","L 1-6",4,8,null,null,1,3,null,12,10,6,null,7,null,11,null,null,9,null,2,5]
[null,null,0,22,null,"1985-12-28",null,"Hull City","(H)","W 5-0",4,null,null,9,null,3,null,null,10,7,null,null,6,11,12,1,null,null,2,5,8]
[null,null,0,23,null,"1986-01-11",null,"Stoke","(H)","L 2-3",4,null,null,9,null,3,null,null,10,7,null,12,6,11,2,1,null,null,null,5,8]
[null,null,0,24,null,"1986-01-18",null,"Sunderland","(A)","W 2-1",4,null,null,9,null,3,null,null,10,7,null,12,6,11,2,1,null,null,null,5,8]
[null,null,0,25,null,"1986-02-01",null,"Shrewsbury","(H)","W 2-0",4,null,null,9,null,3,null,12,10,7,null,6,null,11,null,1,null,null,2,5,8]
[null,null,0,26,null,"1986-03-01",null,"Oldham","(A)","D 0-0",null,4,null,9,null,3,null,12,10,7,null,6,null,11,null,1,null,null,2,5,8]
[null,null,0,27,null,"1986-03-08",null,"Sheff Utd","(H)","W 3-0",4,null,null,9,null,3,null,null,10,7,null,6,null,11,null,1,12,null,2,5,8]
[null,null,0,28,null,"1986-03-11",null,"Wimbledon","(H)","L 0-1",4,null,null,9,null,3,null,null,10,7,null,6,null,11,null,1,12,null,2,5,8]
[null,null,0,29,null,"1986-03-15",null,"Blackburn","(A)","W 2-1",4,null,null,9,null,3,null,null,10,7,null,6,null,11,null,1,12,null,2,5,8]
[null,null,0,30,null,"1986-03-18",null,"Fulham","(H)","D 1-1",4,null,null,9,null,3,null,null,10,7,null,6,null,11,null,1,12,null,2,5,8]
[null,null,0,31,null,"1986-03-22",null,"Brighton","(A)","L 0-1",4,8,null,9,null,3,null,null,10,7,null,6,null,11,null,1,12,null,2,5]
[null,null,0,32,null,"1986-03-25",null,"Portsmouth","(A)","L 1-2",4,7,null,9,null,3,null,null,10,null,null,6,null,11,null,1,12,8,2,5]
[null,null,0,33,null,"1986-03-29",null,{"$f":"H37","v":"Charlton"},"(H)","D 2-2",4,null,null,null,null,3,null,null,10,7,null,6,null,11,null,1,12,9,2,5,8]
[null,null,0,34,null,"1986-03-31",null,"Fulham","(A)","W 2-1",4,null,null,null,null,3,null,null,10,7,null,6,null,11,null,1,12,9,2,5,8]
[null,null,0,35,null,"1986-04-05",null,"Grimsby","(H)","W 1-0",4,9,null,null,null,3,null,null,10,7,null,6,null,11,null,1,12,null,2,5,8]
[null,null,0,36,null,"1986-04-12",null,"Leeds","(A)","L 1-3",4,null,3,null,null,null,null,12,10,7,null,6,null,11,null,1,9,null,2,5,8]
[null,null,0,37,null,"1986-04-15",null,"Charlton","(A)","D 3-3",4,null,null,null,null,3,null,12,10,7,null,6,null,11,null,1,9,null,2,5,8]
[null,null,0,38,null,"1986-04-19",null,"Bradford","(H)","W 2-1",4,null,3,null,null,null,null,12,10,7,null,6,null,11,null,1,9,5,2,null,8]
[null,null,0,39,null,"1986-04-22",null,"C Palace","(H)","W 3-2",4,null,3,null,null,null,null,12,10,7,null,6,null,11,null,1,9,5,2,null,8]
[null,null,0,40,null,"1986-04-26",null,"Middlesbrough","(A)","L 0-3",4,null,3,null,null,null,null,null,10,7,null,6,null,11,null,1,9,5,2,12,8]
[null,null,0,41,null,"1986-04-30",null,"Bradford","(A)","W 2-0",null,12,3,null,null,null,null,null,10,7,null,6,null,11,null,1,9,5,2,4,8]
[null,null,0,42,null,"1986-05-03",null,"Barnsley","(H)","D 2-2",null,null,3,null,null,12,null,null,10,7,null,4,null,11,null,1,9,5,2,6,8]
[null,null,1,43,null,"00:00:00",null,"00:00:00","00:00:00",0]
[null,null,1,44,null,"00:00:00",null,"00:00:00","00:00:00",0]
[null,null,{"$f":"IF(J154=0,1,0)","v":1},45,null,"00:00:00",null,"00:00:00","00:00:00",0]
[null,null,{"$f":"IF(J155=0,1,0)","v":1},46,null,"00:00:00",null,"00:00:00","00:00:00",0]
[]
[null,null,null,null,null,null,null,null,null,"Total League Apperances",{"$f":"COUNT(K110:K155)-K158-K159","v":39},{"$f":"COUNT(L110:L155)-L158-L159","v":15},6,25,6,34,13,9,42,39,0,32,22,23,11,36,9,14,33,26,28,0,0,0,{"$f":"COUNT(AI110:AI155)-AI158","v":0},0,0,0,0,0,0,0,0,0]
[null,null,null,null,null,null,null,null,null,"Total League Substitute Appearences ",{"$f":"AX$53","v":0},2,0,0,0,2,1,6,0,0,0,3,0,0,1,0,9,0,0,0,0,0,0,0,{"$f":"COUNTIF(AI110:AI155,\">=12\")","v":0},0,0,0,0,0,0,0,0,0]
[null,null,null,null,null,null,null,null,null,"Non Playing Substitute",{"$f":"COUNTIF(K110:K155,12)-K158","v":0},{"$f":"COUNTIF(L110:L155,12)-L158","v":4},0,0,0,0,0,5,0,0,0,4,0,0,1,0,3,0,0,1,0,0,0,0]
[null,null,null,null,null,null,null,null,null,"Goals",1,4,0,8,0,2,1,1,14,6,0,3,1,0,1,0,4,0,1,3,12,0,2,0,64,0,0,0,0,0,0,0,0,0]
[]
[null,null,null,null,null,null,null,"FA Cup"]
[null,null,{"$f":"IF(J163=0,1,0)","v":0},{"$f":"D58","v":3},null,{"$f":"F58","v":"1986-01-04"},null,{"$f":"H58","v":"Wimbledon"},"(H)","W 3-1",4,12,null,9,null,3,null,null,10,7,null,null,6,11,null,1,null,null,2,5,8]
[null,null,0,{"$f":"D59","v":4},null,"1986-01-25",null,"Aston Villa","(A)","D 1-1",null,null,null,9,null,3,null,12,10,7,null,4,6,11,null,1,null,null,2,5,8]
[null,null,0,"4R",null,"1986-01-29",null,"Aston Villa","(H)","W 1-0",null,null,null,9,null,3,null,12,10,7,null,4,6,11,null,1,null,null,2,5,8]
[null,null,0,5,null,"1986-02-15",null,"Southampton","(A)","D 0-0",4,null,null,9,null,3,null,12,10,7,null,6,null,11,null,1,null,null,2,5,8]
[null,null,0,"5R",null,"1986-03-05",null,"Southampton","(H)","L 0-1",null,4,null,9,null,3,null,12,10,7,null,6,null,11,null,1,null,null,2,5,8]
[null,null,1,5,null,"00:00:00",null,"00:00:00","00:00:00",0]
[null,null,1,6,null,"00:00:00",null,"00:00:00","00:00:00",0]
[]
[null,null,null,null,null,null,null,null,null,"Total FA Cup Apperances",{"$f":"COUNT(K163:K169)-K172-K173","v":2},{"$f":"COUNT(L163:L169)-L172-L173","v":1},0,5,0,5,0,0,5,5,0,3,2,5,0,5,0,0,5,5,5,0,0,0,0,0,0,0,0,0,0,0,0,0]
[null,null,null,null,null,null,null,null,null,"Total FA Cup Substitute Appearences ",{"$f":"AX$67","v":0},{"$f":"AY$67","v":1},0,0,0,0,0,0,0,0,0,0,0,0,0,0,0,0,0,0,0,0,0,0,0,0,0,0,0,0,0,0,0,0]
[null,null,null,null,null,null,null,null,null,"Non Playing Substitute",{"$f":"COUNTIF(K163:K169,12)-K172","v":0},{"$f":"COUNTIF(L163:L169,12)-L172","v":0},0,0,0,0,0,4,0,0,0,0,0,0,0,0,0,0,0,0,0,0,0,0,0,0,0,0,0,0,0,0,0,0]
[null,null,null,null,null,null,null,null,null,"Goals",0,0,0,2,0,0,0,0,1,0,0,1,0,0,0,0,0,0,0,1,0,0,0,0,5,0,0,0,0,0,0,0,0,0]
[]
[null,null,null,null,null,null,null,"League Cup"]
[null,null,{"$f":"IF(J177=0,1,0)","v":0},{"$f":"D72","v":1},null,{"$f":"F72","v":"1985-08-21"},null,{"$f":"H72","v":"Colchester"},"(A)","W 3-2",4,12,null,9,null,2,11,null,10,7,null,5,6,null,3,1,null,null,null,null,8]
[null,null,0,{"$f":"D73","v":1},null,"1985-09-03",null,"Colchester","(H)","W 4-1",4,null,null,9,null,2,11,12,10,7,null,5,6,null,3,1,null,null,null,null,8]
[null,null,0,2,null,"1985-09-25",null,"Southampton","(H)","D 0-0",4,null,null,9,null,3,12,11,10,7,null,null,6,null,null,1,null,5,2,null,8]
[null,null,0,2,null,"1985-10-08",null,"Southampton","(A)","D 0-0",4,8,null,9,null,null,11,12,10,7,null,5,6,null,3,1,null,null,2]
[null,null,1,0,null,"00:00:00",null,"00:00:00","00:00:00",0]
[null,null,1,0,null,"00:00:00",null,"00:00:00","00:00:00",0]
[null,null,1,0,null,"00:00:00",null,"00:00:00","00:00:00",0]
[null,null,1,0,null,"00:00:00",null,"00:00:00","00:00:00",0]
[null,null,1,0,null,"00:00:00",null,"00:00:00","00:00:00",0]
[]
[null,null,null,null,null,null,null,null,null,"Total League Cup Apperances",{"$f":"COUNT(K177:K185)-K189-K188","v":4},{"$f":"COUNT(L177:L185)-L189-L188","v":1},0,4,0,3,3,1,4,4,0,3,4,0,3,4,0,1,2,0,3,0,0,0,0,0,0,0,0,0,0,0,0,0]
[null,null,null,null,null,null,null,null,null,"Total League Cup Substitute Appearences ",{"$f":"AX$83","v":0},0,0,0,0,0,1,2,0,0,0,0,0,0,0,0,0,0,0,0,0,0,0,0,0,0,0,0,0,0,0,0,0,0]
[null,null,null,null,null,null,null,null,null,"Non Playing Substitute",{"$f":"COUNTIF(K177:K185,12)-K188","v":0},{"$f":"COUNTIF(L177:L185,12)-L188","v":1},0,0,0,0,0,0,0,0,0,0,0,0,0,0,0,0,0,0,0,0,0,0,0,0,0,0,0,0,0,0,0,0]
[null,null,null,null,null,null,null,null,null,"Goals",0,0,0,2,0,0,0,1,3,1,0,0,0,0,0,0,0,0,0,0,0,0,0,0,7,0,0,0,0,0,0,0,0,0]
[null,null,1]
[null,null,null,null,null,null,null,"Full Members Cup"]
[null,null,{"$f":"IF(J193=0,1,0)","v":0},{"$f":"D88","v":"G"},null,{"$f":"F88","v":"1985-10-02"},null,{"$f":"H88","v":"Stoke"},"(H)","D 2-2",4,8,null,9,null,null,11,12,10,7,null,14,6,null,3,1,null,5,2,null,null,null,null,null,null,null,null,null,null,null,null,null,null,null,null,null,null,"Errors in Apps Totals in FA Cup"]
[null,null,{"$f":"IF(J194=0,1,0)","v":0},{"$f":"D89","v":"G"},null,"1985-10-15",null,"Coventry","(A)","D 1-1",4,8,null,9,null,3,11,10,null,7,14,12,6,null,null,1,null,null,2,5]
[null,null,1,0,null,"00:00:00",null,"00:00:00","00:00:00",0]
[null,null,1,0,null,"00:00:00",null,"00:00:00","00:00:00",0]
[null,null,1,0,null,"00:00:00",null,"00:00:00","00:00:00",0]
[null,null,1,0,null,"00:00:00",null,"00:00:00","00:00:00",0]
[null,null,1,0,null,"00:00:00",null,"00:00:00","00:00:00",0]
[null,null,1,0,null,"00:00:00",null,"00:00:00","00:00:00",0]
[null,null,1,0,null,"00:00:00",null,"00:00:00","00:00:00",0]
[]
[null,null,null,null,null,null,null,null,null,"Total Full Members Cup Apperances",{"$f":"COUNT(K193:K201)-K204-K205","v":2},{"$f":"COUNT(L193:L201)-L204-L205","v":2},0,2,0,1,2,1,1,2,0,0,2,0,1,2,0,1,2,1,0,0,0,0,0,0,0,0,0,0,0,0,0,0]
[null,null,null,null,null,null,null,null,null,"Total Full Members Cup Sub Appearences ",{"$f":"$AX$99+$CH$99","v":0},{"$f":"$AY$99+$CI$99","v":0},{"$f":"$AZ$99+$CJ$99","v":0},{"$f":"$BA$99+$CK$99","v":0},{"$f":"$BB$99+$CL$99","v":0},{"$f":"$BC$99+$CM$99","v":0},{"$f":"$BD$99+$CN$99","v":0},{"$f":"$BE$99+$CO$99","v":0},{"$f":"$BF$99+$CP$99","v":0},{"$f":"$BG$99+$CQ$99","v":0},{"$f":"$BH$99+$CR$99","v":0},{"$f":"$BI$99+$CS$99","v":1},{"$f":"$BJ$99+$CT$99","v":0},{"$f":"$BK$99+$CU$99","v":0},{"$f":"$BL$99+$CV$99","v":0},{"$f":"$BM$99+$CW$99","v":0},{"$f":"$BN$99+$CX$99","v":0},{"$f":"$BO$99+$CY$99","v":0},{"$f":"$BP$99+$CZ$99","v":0},{"$f":"$BQ$99+$DA$99","v":0},{"$f":"$BR$99+$DB$99","v":0},{"$f":"$BS$99+$DC$99","v":0},{"$f":"$BT$99+$DD$99","v":0},{"$f":"$BU$99+$DE$99","v":0},{"$f":"$BV$99+$DF$99","v":0},{"$f":"$BW$99+$DG$99","v":0},{"$f":"$BX$99+$DH$99","v":0},{"$f":"$BY$99+$DI$99","v":0},{"$f":"$BZ$99+$DJ$99","v":0},{"$f":"$CA$99+$DK$99","v":0},{"$f":"$CB$99+$DL$99","v":0},{"$f":"$CC$99+$DM$99","v":0},{"$f":"$CD$99+$DN$99","v":0},{"$f":"CE204+DO204","v":0}]
[null,null,null,null,null,null,null,null,null,"Non Playing Substitute",{"$f":"COUNTIF(K193:K201,\">=12\")-K204","v":0},{"$f":"COUNTIF(L193:L201,\">=12\")-L204","v":0},0,0,0,0,0,1,0,0,1,1,0,0,0,0,0,0,0,0,0,0,0,0,0,0,0,0,0,0,0,0,0,0]
[null,null,null,null,null,null,null,null,null,"Goals",0,1,0,1,0,0,0,0,1,0,0,0,0,0,0,0,0,0,0,0,0,0,0,0,3,0,0,0,0,0,0,0,0,0]
[null,null,1]
[null,null,1]
[]
[]
[]
[]
["Manual Input",null,null,null,null,null,null,"Opponents","Venue/Result",null,{"$f":"K3","v":"Briley"},{"$f":"L3","v":"Chatterton"},{"$f":"M3","v":"Coleman"},"Fashanu","Granville","Hinshelwood","Kinsella","Leslie","Lovell","Lowndes","Malcolm","McLeary","Nutton","Otulakowski","Roffey","Sansome","Sheringham","Smith","Stevens","Walker","Wilson",0,0,0,0,0,0,0,0,0,0,0,0,0]
[null,null,{"$f":"IF(J214=0,1,0)","v":0},1,null,{"$f":"F5","v":"1985-08-17"},null,{"$f":"H5","v":"Huddersfield"},"(A)","L 3-4",4,null,null,9,null,2,11,null,10,7,null,12,6,null,3,1,null,5,null,null,8]
[null,null,0,2,null,"1985-08-24",null,"Norwich","(H)","W 4-2",4,12,null,9,null,2,11,null,10,7,null,5,6,null,3,1,null,null,null,null,8]
[null,null,0,3,null,"1985-08-27",null,"Shrewsbury","(A)","D 1-1",4,12,null,9,null,2,11,null,10,7,null,5,6,null,3,1,null,null,null,null,8]
[null,null,0,4,null,"1985-08-31",null,"Sunderland","(H)","W 1-0",4,null,null,9,null,2,11,12,10,7,null,5,6,null,3,1,null,null,null,null,8]
[null,null,0,5,null,"1985-09-07",null,"Stoke","(A)","D 0-0",4,12,null,9,null,2,11,null,10,7,null,5,6,null,3,1,null,null,null,null,8]
[null,null,0,6,null,"1985-09-14",null,"Brighton","(H)","L 0-1",4,null,null,9,null,2,11,12,10,7,null,5,6,null,3,1,null,null,null,null,8]
[null,null,0,7,null,"1985-09-17",null,"Hull City","(A)","L 0-3",4,12,null,9,null,2,11,null,10,7,null,5,6,null,3,1,null,null,null,null,8]
[null,null,0,8,null,"1985-09-21",null,"C Palace","(A)","L 1-2",4,12,null,9,null,3,null,11,10,7,null,5,6,null,null,1,null,null,2,null,8]
[null,null,0,9,null,"1985-09-28",null,"Oldham","(H)","L 0-1",4,null,null,9,null,3,12,11,10,7,null,null,6,null,null,1,null,5,2,null,8]
[null,null,0,10,null,"1985-10-05",null,"Sheff Utd","(A)","W 3-1",4,8,null,9,null,null,11,null,10,7,null,12,6,null,3,1,null,5,2]
[null,null,0,11,null,"1985-10-12",null,"Blackburn","(H)","L 0-1",4,8,null,9,null,12,11,null,10,7,null,5,6,null,3,1,null,null,2]
[null,null,0,12,null,"1985-10-19",null,"Wimbledon","(A)","D 1-1",4,8,null,9,null,3,11,12,10,7,null,null,6,null,null,1,null,null,2,5]
[null,null,0,13,null,"1985-10-22",null,"Carlisle","(H)","W 3-1",4,8,null,null,null,3,11,9,10,7,null,12,6,null,null,1,null,null,2,5]
[null,null,0,14,null,"1985-10-26",null,"Portsmouth","(H)","L 0-4",4,8,null,null,null,3,11,9,10,7,null,12,6,null,null,1,null,null,2,5]
[null,null,0,15,null,"1985-11-02",null,"Grimsby","(A)","L 1-5",4,8,null,9,null,3,11,7,10,null,null,12,6,null,null,1,null,null,2,5]
[null,null,0,16,null,"1985-11-09",null,"Leeds","(H)","W 3-1",4,null,null,9,1,3,null,8,10,7,null,11,6,null,null,null,12,5,2]
[null,null,0,17,null,"1985-11-23",null,{"$f":"H21","v":"Middlesbrough"},"(H)","W 3-0",4,8,null,null,1,3,null,9,10,7,null,11,6,null,null,null,12,null,2,5]
[null,null,0,18,null,"1985-11-30",null,"Barnsley","(A)","L 1-2",4,8,null,null,1,3,null,9,10,7,null,11,null,null,12,null,null,6,2,5]
[null,null,0,19,null,"1985-12-07",null,"Carlisle","(A)","L 0-1",4,8,null,null,1,3,null,9,10,7,null,11,6,null,null,null,12,5,2]
[null,null,0,20,null,"1985-12-14",null,"Huddersfield","(H)","W 2-1",4,8,null,null,1,3,null,12,10,null,null,7,6,11,null,null,9,null,2,5]
[null,null,0,21,null,"1985-12-21",null,"Norwich","(A)","L 1-6",4,8,null,null,1,3,null,12,10,6,null,7,null,11,null,null,9,null,2,5]
[null,null,0,22,null,"1985-12-28",null,"Hull City","(H)","W 5-0",4,null,null,9,null,3,null,null,10,7,null,null,6,11,12,1,null,null,2,5,8]
[null,null,0,23,null,"1986-01-11",null,"Stoke","(H)","L 2-3",4,null,null,9,null,3,null,null,10,7,null,12,6,11,2,1,null,null,null,5,8]
[null,null,0,24,null,"1986-01-18",null,"Sunderland","(A)","W 2-1",4,null,null,9,null,3,null,null,10,7,null,12,6,11,2,1,null,null,null,5,8]
[null,null,0,25,null,"1986-02-01",null,"Shrewsbury","(H)","W 2-0",4,null,null,9,null,3,null,12,10,7,null,6,null,11,null,1,null,null,2,5,8]
[null,null,0,26,null,"1986-03-01",null,"Oldham","(A)","D 0-0",null,4,null,9,null,3,null,12,10,7,null,6,null,11,null,1,null,null,2,5,8]
[null,null,0,27,null,"1986-03-08",null,"Sheff Utd","(H)","W 3-0",4,null,null,9,null,3,null,null,10,7,null,6,null,11,null,1,12,null,2,5,8]
[null,null,0,28,null,"1986-03-11",null,"Wimbledon","(H)","L 0-1",4,null,null,9,null,3,null,null,10,7,null,6,null,11,null,1,12,null,2,5,8]
[null,null,0,29,null,"1986-03-15",null,"Blackburn","(A)","W 2-1",4,null,null,9,null,3,null,null,10,7,null,6,null,11,null,1,12,null,2,5,8]
[null,null,0,30,null,"1986-03-18",null,"Fulham","(H)","D 1-1",4,null,null,9,null,3,null,null,10,7,null,6,null,11,null,1,12,null,2,5,8]
[null,null,0,31,null,"1986-03-22",null,"Brighton","(A)","L 0-1",4,8,null,9,null,3,null,null,10,7,null,6,null,11,null,1,12,null,2,5]
[null,null,0,32,null,"1986-03-25",null,"Portsmouth","(A)","L 1-2",4,7,null,9,null,3,null,null,10,null,null,6,null,11,null,1,12,8,2,5]
[null,null,0,33,null,"1986-03-29",null,{"$f":"H37","v":"Charlton"},"(H)","D 2-2",4,null,null,null,null,3,null,null,10,7,null,6,null,11,null,1,12,9,2,5,8]
[null,null,0,34,null,"1986-03-31",null,"Fulham","(A)","W 2-1",4,null,null,null,null,3,null,null,10,7,null,6,null,11,null,1,12,9,2,5,8]
[null,null,0,35,null,"1986-04-05",null,"Grimsby","(H)","W 1-0",4,9,null,null,null,3,null,null,10,7,null,6,null,11,null,1,12,null,2,5,8]
[null,null,0,36,null,"1986-04-12",null,"Leeds","(A)","L 1-3",4,null,3,null,null,null,null,12,10,7,null,6,null,11,null,1,9,null,2,5,8]
[null,null,0,37,null,"1986-04-15",null,"Charlton","(A)","D 3-3",4,null,null,null,null,3,null,12,10,7,null,6,null,11,null,1,9,null,2,5,8]
[null,null,0,38,null,"1986-04-19",null,"Bradford","(H)","W 2-1",4,null,3,null,null,null,null,12,10,7,null,6,null,11,null,1,9,5,2,null,8]
[null,null,0,39,null,"1986-04-22",null,"C Palace","(H)","W 3-2",4,null,3,null,null,null,null,12,10,7,null,6,null,11,null,1,9,5,2,null,8]
[null,null,0,40,null,"1986-04-26",null,"Middlesbrough","(A)","L 0-3",4,null,3,null,null,null,null,null,10,7,null,6,null,11,null,1,9,5,2,12,8]
[null,null,0,41,null,"1986-04-30",null,"Bradford","(A)","W 2-0",null,12,3,null,null,null,null,null,10,7,null,6,null,11,null,1,9,5,2,4,8]
[null,null,0,42,null,"1986-05-03",null,"Barnsley","(H)","D 2-2",null,null,3,null,null,12,null,null,10,7,null,4,null,11,null,1,9,5,2,6,8]
[null,null,1,43,null,"00:00:00",null,"00:00:00","00:00:00",0]
[null,null,1,44,null,"00:00:00",null,"00:00:00","00:00:00",0]
[null,null,{"$f":"IF(J258=0,1,0)","v":1},45,null,"00:00:00",null,"00:00:00","00:00:00",0]
[null,null,{"$f":"IF(J259=0,1,0)","v":1},46,null,"00:00:00",null,"00:00:00","00:00:00",0]
[]
[null,null,null,null,null,null,null,null,null,"Total League Apperances",{"$f":"COUNT(K214:K259)-K262-K263","v":39},{"$f":"COUNT(L214:L259)-L262-L263","v":15},6,25,6,34,13,9,42,39,0,32,22,23,11,36,9,14,33,26,28,0,0,0,{"$f":"COUNT(AI214:AI259)-AI262","v":0},0,0,0,0,0,0,0,0,0]
[null,null,null,null,null,null,null,null,null,"Total League Substitute Appearences ",{"$f":"AX$53","v":0},2,0,0,0,2,1,6,0,0,0,3,0,0,1,0,9,0,0,0,0,0,0,0,{"$f":"COUNTIF(AI214:AI259,\">=12\")","v":0},0,0,0,0,0,0,0,0,0]
[null,null,null,null,null,null,null,null,null,"Non Playing Substitute",{"$f":"COUNTIF(K214:K259,12)-K262","v":0},{"$f":"COUNTIF(L214:L259,12)-L262","v":4},0,0,0,0,0,5,0,0,0,4,0,0,1,0,3,0,0,1,0,0,0,0]
[null,null,null,null,null,null,null,null,null,"Goals",1,4,0,8,0,2,1,1,14,6,0,3,1,0,1,0,4,0,1,3,12,0,2,0,64,0,0,0,0,0,0,0,0,0]
[]
[null,null,null,null,null,null,null,"FA Cup"]
[null,null,{"$f":"IF(J267=0,1,0)","v":0},{"$f":"D58","v":3},null,{"$f":"F58","v":"1986-01-04"},null,{"$f":"H58","v":"Wimbledon"},"(H)","W 3-1",4,12,null,9,null,3,null,null,10,7,null,null,6,11,null,1,null,null,2,5,8]
[null,null,0,{"$f":"D59","v":4},null,"1986-01-25",null,"Aston Villa","(A)","D 1-1",null,null,null,9,null,3,null,12,10,7,null,4,6,11,null,1,null,null,2,5,8]
[null,null,0,"4R",null,"1986-01-29",null,"Aston Villa","(H)","W 1-0",null,null,null,9,null,3,null,12,10,7,null,4,6,11,null,1,null,null,2,5,8]
[null,null,0,5,null,"1986-02-15",null,"Southampton","(A)","D 0-0",4,null,null,9,null,3,null,12,10,7,null,6,null,11,null,1,null,null,2,5,8]
[null,null,0,"5R",null,"1986-03-05",null,"Southampton","(H)","L 0-1",null,4,null,9,null,3,null,12,10,7,null,6,null,11,null,1,null,null,2,5,8]
[null,null,1,5,null,"00:00:00",null,"00:00:00","00:00:00",0]
[null,null,1,6,null,"00:00:00",null,"00:00:00","00:00:00",0]
[]
[null,null,null,null,null,null,null,null,null,"Total FA Cup Apperances",{"$f":"COUNT(K267:K273)-K276-K277","v":2},{"$f":"COUNT(L267:L273)-L276-L277","v":1},0,5,0,5,0,0,5,5,0,4,3,5,0,5,0,0,5,5,5,0,0,0,0,0,0,0,0,0,0,0,0,0]
[null,null,null,null,null,null,null,null,null,"Total FA Cup Substitute Appearences ",{"$f":"AX$67","v":0},{"$f":"AY$67","v":1},0,0,0,0,0,0,0,0,0,0,0,0,0,0,0,0,0,0,0,0,0,0,0,0,0,0,0,0,0,0,0,0]
[null,null,null,null,null,null,null,null,null,"Non Playing Substitute",{"$f":"COUNTIF(K267:K273,12)-K276","v":0},{"$f":"COUNTIF(L267:L273,12)-L276","v":0},0,0,0,0,0,4,0,0,0,0,0,0,0,0,0,0,0,0,0,0,0,0,0,0,0,0,0,0,0,0,0,0]
[null,null,null,null,null,null,null,null,null,"Goals",0,0,0,2,0,0,0,0,1,0,0,1,0,0,0,0,0,0,0,1,0,0,0,0,5,0,0,0,0,0,0,0,0,0]
[]
[null,null,null,null,null,null,null,"League Cup"]
[null,null,{"$f":"IF(J281=0,1,0)","v":0},{"$f":"D72","v":1},null,{"$f":"F72","v":"1985-08-21"},null,{"$f":"H72","v":"Colchester"},{"$f":"I72","v":"(A)"},{"$f":"J72","v":"W 3-2"},4,12,null,9,null,2,11,null,10,7,null,5,6,null,3,1,null,null,null,null,8]
[null,null,0,{"$f":"D73","v":1},null,{"$f":"F73","v":"1985-09-03"},null,{"$f":"H73","v":"Colchester"},"(H)","W 4-1",4,null,null,9,null,2,11,12,10,7,null,5,6,null,3,1,null,null,null,null,8]
[null,null,0,2,null,"1985-09-25",null,"Southampton","(H)","D 0-0",4,null,null,9,null,3,12,11,10,7,null,null,6,null,null,1,null,5,2,null,8]
[null,null,0,2,null,"1985-10-08",null,"Southampton","(A)","D 0-0",4,8,null,9,null,null,11,12,10,7,null,5,6,null,3,1,null,null,2]
[null,null,1,0,null,"00:00:00",null,"00:00:00","00:00:00",0]
[null,null,1,0,null,"00:00:00",null,"00:00:00","00:00:00",0]
[null,null,1,0,null,"00:00:00",null,"00:00:00","00:00:00",0]
[null,null,1,0,null,"00:00:00",null,"00:00:00","00:00:00",0]
[null,null,1,0,null,"00:00:00",null,"00:00:00","00:00:00",0]
[]
[null,null,null,null,null,null,null,null,null,"Total League Cup Apperances",{"$f":"COUNT(K281:K289)-K293-K292","v":4},{"$f":"COUNT(L281:L289)-L293-L292","v":1},0,4,0,3,3,1,4,4,0,3,4,0,3,4,0,1,2,0,3,0,0,0,0,0,0,0,0,0,0,0,0,0]
[null,null,null,null,null,null,null,null,null,"Total League Cup Substitute Appearences ",{"$f":"AX$83","v":0},0,0,0,0,0,1,2,0,0,0,0,0,0,0,0,0,0,0,0,0,0,0,0,0,0,0,0,0,0,0,0,0,0]
[null,null,null,null,null,null,null,null,null,"Non Playing Substitute",{"$f":"COUNTIF(K281:K289,12)-K292","v":0},{"$f":"COUNTIF(L281:L289,12)-L292","v":1},0,0,0,0,0,0,0,0,0,0,0,0,0,0,0,0,0,0,0,0,0,0,0,0,0,0,0,0,0,0,0,0]
[null,null,null,null,null,null,null,null,null,"Goals",0,0,0,2,0,0,0,1,3,1,0,0,0,0,0,0,0,0,0,0,0,0,0,0,7,0,0,0,0,0,0,0,0,0]
[null,null,1]
[null,null,null,null,null,null,null,"Full Members Cup"]
[null,null,{"$f":"IF(J297=0,1,0)","v":0},{"$f":"D88","v":"G"},null,{"$f":"F88","v":"1985-10-02"},null,{"$f":"H88","v":"Stoke"},"(H)","D 2-2",4,8,null,9,null,null,11,12,10,7,null,14,6,null,3,1,null,5,2]
[null,null,{"$f":"IF(J298=0,1,0)","v":0},"G",null,"1985-10-15",null,"Coventry","(A)","D 1-1",4,8,null,9,null,3,11,10,null,7,14,12,6,null,null,1,null,null,2,5]
[null,null,1,0,null,"00:00:00",null,"00:00:00","00:00:00",0]
[null,null,1,0,null,"00:00:00",null,"00:00:00","00:00:00",0]
[null,null,1,0,null,"00:00:00",null,"00:00:00","00:00:00",0]
[null,null,1,0,null,"00:00:00",null,"00:00:00","00:00:00",0]
[null,null,1,0,null,"00:00:00",null,"00:00:00","00:00:00",0]
[null,null,1,0,null,"00:00:00",null,"00:00:00","00:00:00",0]
[null,null,1,0,null,"00:00:00",null,"00:00:00","00:00:00",0]
[]
[null,null,null,null,null,null,null,null,null,"Total Full Members Cup Apperances",{"$f":"COUNT(K297:K305)-K308-K309","v":2},{"$f":"COUNT(L297:L305)-L308-L309","v":2},0,2,0,1,2,1,1,2,0,0,2,0,1,2,0,1,2,1,0,0,0,0,0,0,0,0,0,0,0,0,0,0]
[null,null,null,null,null,null,null,null,null,"Total Full Members Cup Sub Appearences ",{"$f":"$AX$99+$CH$99","v":0},{"$f":"$AY$99+$CI$99","v":0},{"$f":"$AZ$99+$CJ$99","v":0},{"$f":"$BA$99+$CK$99","v":0},{"$f":"$BB$99+$CL$99","v":0},{"$f":"$BC$99+$CM$99","v":0},{"$f":"$BD$99+$CN$99","v":0},{"$f":"$BE$99+$CO$99","v":0},{"$f":"$BF$99+$CP$99","v":0},{"$f":"$BG$99+$CQ$99","v":0},{"$f":"$BH$99+$CR$99","v":0},{"$f":"$BI$99+$CS$99","v":1},{"$f":"$BJ$99+$CT$99","v":0},{"$f":"$BK$99+$CU$99","v":0},{"$f":"$BL$99+$CV$99","v":0},{"$f":"$BM$99+$CW$99","v":0},{"$f":"$BN$99+$CX$99","v":0},{"$f":"$BO$99+$CY$99","v":0},{"$f":"$BP$99+$CZ$99","v":0},{"$f":"$BQ$99+$DA$99","v":0},{"$f":"$BR$99+$DB$99","v":0},{"$f":"$BS$99+$DC$99","v":0},{"$f":"$BT$99+$DD$99","v":0},{"$f":"$BU$99+$DE$99","v":0},{"$f":"$BV$99+$DF$99","v":0},{"$f":"$BW$99+$DG$99","v":0},{"$f":"$BX$99+$DH$99","v":0},{"$f":"$BY$99+$DI$99","v":0},{"$f":"$BZ$99+$DJ$99","v":0},{"$f":"$CA$99+$DK$99","v":0},{"$f":"$CB$99+$DL$99","v":0},{"$f":"$CC$99+$DM$99","v":0},{"$f":"$CD$99+$DN$99","v":0},{"$f":"CE308+DO308","v":0}]
[null,null,null,null,null,null,null,null,null,"Non Playing Substitute",{"$f":"COUNTIF(K297:K305,\">=12\")-K308","v":0},{"$f":"COUNTIF(L297:L305,\">=12\")-L308","v":0},0,0,0,0,0,1,0,0,1,1,0,0,0,0,0,0,0,0,0,0,0,0,0,0,0,0,0,0,0,0,0,0]
[null,null,null,null,null,null,null,null,null,"Goals",0,1,0,1,0,0,0,0,1,0,0,0,0,0,0,0,0,0,0,0,0,0,0,0,3,0,0,0,0,0,0,0,0,0]
[null,null,1]
[]
[]
[]
[]
["Manual Input",null,null,null,null,null,null,"Opponents","Venue/Result",null,{"$f":"K3","v":"Briley"},{"$f":"L3","v":"Chatterton"},"Coleman","Fashanu","Granville","Hinshelwood","Kinsella","Leslie","Lovell","Lowndes","Malcolm","McLeary","Nutton","Otulakowski","Roffey","Sansome","Sheringham","Smith","Stevens","Walker","Wilson",0,0,0,0,0,0,0,0,0,0,0,0,0]
[null,null,{"$f":"IF(J317=0,1,0)","v":0},1,null,{"$f":"F5","v":"1985-08-17"},null,{"$f":"H5","v":"Huddersfield"},{"$f":"I5","v":"(A)"},{"$f":"J5","v":"L 3-4"},4,null,null,9,null,2,11,null,10,7,null,12,6,null,3,1,null,5,null,null,8]
[null,null,0,2,null,{"$f":"F6","v":"1985-08-24"},null,{"$f":"H6","v":"Norwich"},"(H)","W 4-2",4,12,null,9,null,2,11,null,10,7,null,5,6,null,3,1,null,null,null,null,8]
[null,null,0,3,null,"1985-08-27",null,"Shrewsbury","(A)","D 1-1",4,12,null,9,null,2,11,null,10,7,null,5,6,null,3,1,null,null,null,null,8]
[null,null,0,4,null,"1985-08-31",null,"Sunderland","(H)","W 1-0",4,null,null,9,null,2,11,12,10,7,null,5,6,null,3,1,null,null,null,null,8]
[null,null,0,5,null,"1985-09-07",null,"Stoke","(A)","D 0-0",4,12,null,9,null,2,11,null,10,7,null,5,6,null,3,1,null,null,null,null,8]
[null,null,0,6,null,"1985-09-14",null,"Brighton","(H)","L 0-1",4,null,null,9,null,2,11,12,10,7,null,5,6,null,3,1,null,null,null,null,8]
[null,null,0,7,null,"1985-09-17",null,"Hull City","(A)","L 0-3",4,12,null,9,null,2,11,null,10,7,null,5,6,null,3,1,null,null,null,null,8]
[null,null,0,8,null,"1985-09-21",null,"C Palace","(A)","L 1-2",4,12,null,9,null,3,null,11,10,7,null,5,6,null,null,1,null,null,2,null,8]
[null,null,0,9,null,"1985-09-28",null,"Oldham","(H)","L 0-1",4,null,null,9,null,3,12,11,10,7,null,null,6,null,null,1,null,5,2,null,8]
[null,null,0,10,null,"1985-10-05",null,"Sheff Utd","(A)","W 3-1",4,8,null,9,null,null,11,null,10,7,null,12,6,null,3,1,null,5,2]
[null,null,0,11,null,"1985-10-12",null,"Blackburn","(H)","L 0-1",4,8,null,9,null,12,11,null,10,7,null,5,6,null,3,1,null,null,2]
[null,null,0,12,null,"1985-10-19",null,"Wimbledon","(A)","D 1-1",4,8,null,9,null,3,11,12,10,7,null,null,6,null,null,1,null,null,2,5]
[null,null,0,13,null,"1985-10-22",null,"Carlisle","(H)","W 3-1",4,8,null,null,null,3,11,9,10,7,null,12,6,null,null,1,null,null,2,5]
[null,null,0,14,null,"1985-10-26",null,"Portsmouth","(H)","L 0-4",4,8,null,null,null,3,11,9,10,7,null,12,6,null,null,1,null,null,2,5]
[null,null,0,15,null,"1985-11-02",null,"Grimsby","(A)","L 1-5",4,8,null,9,null,3,11,7,10,null,null,12,6,null,null,1,null,null,2,5]
[null,null,0,16,null,"1985-11-09",null,"Leeds","(H)","W 3-1",4,null,null,9,1,3,null,8,10,7,null,11,6,null,null,null,12,5,2]
[null,null,0,17,null,"1985-11-23",null,"Middlesbrough","(H)","W 3-0",4,8,null,null,1,3,null,9,10,7,null,11,6,null,null,null,12,null,2,5]
[null,null,0,18,null,"1985-11-30",null,{"$f":"H22","v":"Barnsley"},"(A)","L 1-2",4,8,null,null,1,3,null,9,10,7,null,11,null,null,12,null,null,6,2,5]
[null,null,0,19,null,"1985-12-07",null,"Carlisle","(A)","L 0-1",4,8,null,null,1,3,null,9,10,7,null,11,6,null,null,null,12,5,2]
[null,null,0,20,null,"1985-12-14",null,"Huddersfield","(H)","W 2-1",4,8,null,null,1,3,null,12,10,null,null,7,6,11,null,null,9,null,2,5]
[null,null,0,21,null,"1985-12-21",null,"Norwich","(A)","L 1-6",4,8,null,null,1,3,null,12,10,6,null,7,null,11,null,null,9,null,2,5]
[null,null,0,22,null,"1985-12-28",null,"Hull City","(H)","W 5-0",4,null,null,9,null,3,null,null,10,7,null,null,6,11,12,1,null,null,2,5,8]
[null,null,0,23,null,"1986-01-11",null,"Stoke","(H)","L 2-3",4,null,null,9,null,3,null,null,10,7,null,12,6,11,2,1,null,null,null,5,8]
[null,null,0,24,null,"1986-01-18",null,"Sunderland","(A)","W 2-1",4,null,null,9,null,3,null,null,10,7,null,12,6,11,2,1,null,null,null,5,8]
[null,null,0,25,null,"1986-02-01",null,"Shrewsbury","(H)","W 2-0",4,null,null,9,null,3,null,12,10,7,null,6,null,11,null,1,null,null,2,5,8]
[null,null,0,26,null,"1986-03-01",null,"Oldham","(A)","D 0-0",null,4,null,9,null,3,null,12,10,7,null,6,null,11,null,1,null,null,2,5,8]
[null,null,0,27,null,"1986-03-08",null,"Sheff Utd","(H)","W 3-0",4,null,null,9,null,3,null,null,10,7,null,6,null,11,null,1,12,null,2,5,8]
[null,null,0,28,null,"1986-03-11",null,"Wimbledon","(H)","L 0-1",4,null,null,9,null,3,null,null,10,7,null,6,null,11,null,1,12,null,2,5,8]
[null,null,0,29,null,"1986-03-15",null,"Blackburn","(A)","W 2-1",4,null,null,9,null,3,null,null,10,7,null,6,null,11,null,1,12,null,2,5,8]
[null,null,0,30,null,"1986-03-18",null,"Fulham","(H)","D 1-1",4,null,null,9,null,3,null,null,10,7,null,6,null,11,null,1,12,null,2,5,8]
[null,null,0,31,null,"1986-03-22",null,"Brighton","(A)","L 0-1",4,8,null,9,null,3,null,null,10,7,null,6,null,11,null,1,12,null,2,5]
[null,null,0,32,null,"1986-03-25",null,"Portsmouth","(A)","L 1-2",4,7,null,9,null,3,null,null,10,null,null,6,null,11,null,1,12,8,2,5]
[null,null,0,33,null,"1986-03-29",null,"Charlton","(H)","D 2-2",4,null,null,null,null,3,null,null,10,7,null,6,null,11,null,1,12,9,2,5,8]
[null,null,0,34,null,"1986-03-31",null,{"$f":"H38","v":"Fulham"},"(A)","W 2-1",4,null,null,null,null,3,null,null,10,7,null,6,null,11,null,1,12,9,2,5,8]
[null,null,0,35,null,"1986-04-05",null,"Grimsby","(H)","W 1-0",4,9,null,null,null,3,null,null,10,7,null,6,null,11,null,1,12,null,2,5,8]
[null,null,0,36,null,"1986-04-12",null,"Leeds","(A)","L 1-3",4,null,3,null,null,null,null,12,10,7,null,6,null,11,null,1,9,null,2,5,8]
[null,null,0,37,null,"1986-04-15",null,"Charlton","(A)","D 3-3",4,null,null,null,null,3,null,12,10,7,null,6,null,11,null,1,9,null,2,5,8]
[null,null,0,38,null,"1986-04-19",null,"Bradford","(H)","W 2-1",4,null,3,null,null,null,null,12,10,7,null,6,null,11,null,1,9,5,2,null,8]
[null,null,0,39,null,"1986-04-22",null,"C Palace","(H)","W 3-2",4,null,3,null,null,null,null,12,10,7,null,6,null,11,null,1,9,5,2,null,8]
[null,null,0,40,null,"1986-04-26",null,"Middlesbrough","(A)","L 0-3",4,null,3,null,null,null,null,null,10,7,null,6,null,11,null,1,9,5,2,12,8]
[null,null,0,41,null,"1986-04-30",null,"Bradford","(A)","W 2-0",null,12,3,null,null,null,null,null,10,7,null,6,null,11,null,1,9,5,2,4,8]
[null,null,0,42,null,"1986-05-03",null,"Barnsley","(H)","D 2-2",null,null,3,null,null,12,null,null,10,7,null,4,null,11,null,1,9,5,2,6,8]
[null,null,1,43,null,"00:00:00",null,"00:00:00","00:00:00",0]
[null,null,1,44,null,"00:00:00",null,"00:00:00","00:00:00",0]
[null,null,{"$f":"IF(J361=0,1,0)","v":1},45,null,"00:00:00",null,"00:00:00","00:00:00",0]
[null,null,{"$f":"IF(J362=0,1,0)","v":1},46,null,"00:00:00",null,"00:00:00","00:00:00",0]
[]
[null,null,null,null,null,null,null,null,null,"Total League Apperances",{"$f":"COUNT(K317:K362)-K365-K366","v":39},{"$f":"COUNT(L317:L362)-L365-L366","v":15},6,25,6,34,13,9,42,39,0,32,22,23,11,36,9,14,33,26,28,0,0,0,{"$f":"COUNT(AI317:AI362)-AI365","v":0},0,0,0,0,0,0,0,0,0]
[null,null,null,null,null,null,null,null,null,"Total League Substitute Appearences ",{"$f":"AX$53","v":0},2,0,0,0,2,1,6,0,0,0,3,0,0,1,0,9,0,0,0,0,0,0,0,{"$f":"COUNTIF(AI317:AI362,\">=12\")","v":0},0,0,0,0,0,0,0,0,0]
[null,null,null,null,null,null,null,null,null,"Non Playing Substitute",{"$f":"COUNTIF(K317:K362,12)-K365","v":0},{"$f":"COUNTIF(L317:L362,12)-L365","v":4},0,0,0,0,0,5,0,0,0,4,0,0,1,0,3,0,0,1,0,0,0,0]
[null,null,null,null,null,null,null,null,null,"Goals",1,4,0,8,0,2,1,1,14,6,0,3,1,0,1,0,4,0,1,3,12,0,2,0,64,0,0,0,0,0,0,0,0,0]
[]
[null,null,null,null,null,null,null,"FA Cup"]
[null,null,{"$f":"IF(J370=0,1,0)","v":0},{"$f":"D58","v":3},null,{"$f":"F58","v":"1986-01-04"},null,{"$f":"H58","v":"Wimbledon"},{"$f":"I58","v":"(H)"},{"$f":"J58","v":"W 3-1"},4,12,null,9,null,3,null,null,10,7,null,null,6,11,null,1,null,null,2,5,8]
[null,null,0,{"$f":"D59","v":4},null,{"$f":"F59","v":"1986-01-25"},null,{"$f":"H59","v":"Aston Villa"},"(A)","D 1-1",null,null,null,9,null,3,null,12,10,7,null,4,6,11,null,1,null,null,2,5,8]
[null,null,0,"4R",null,"1986-01-29",null,"Aston Villa","(H)","W 1-0",null,null,null,9,null,3,null,12,10,7,null,4,6,11,null,1,null,null,2,5,8]
[null,null,0,5,null,"1986-02-15",null,"Southampton","(A)","D 0-0",4,null,null,9,null,3,null,12,10,7,null,6,null,11,null,1,null,null,2,5,8]
[null,null,0,"5R",null,"1986-03-05",null,"Southampton","(H)","L 0-1",null,4,null,9,null,3,null,12,10,7,null,6,null,11,null,1,null,null,2,5,8]
[null,null,1,5,null,"00:00:00",null,"00:00:00","00:00:00",0]
[null,null,1,6,null,"00:00:00",null,"00:00:00","00:00:00",0]
[]
[null,null,null,null,null,null,null,null,null,"Total FA Cup Apperances",{"$f":"COUNT(K370:K376)-K379-K380","v":2},{"$f":"COUNT(L370:L376)-L379-L380","v":1},0,5,0,5,0,0,5,5,0,4,3,5,0,5,0,0,5,5,5,0,0,0,0,0,0,0,0,0,0,0,0,0]
[null,null,null,null,null,null,null,null,null,"Total FA Cup Substitute Appearences ",{"$f":"AX$67","v":0},{"$f":"AY$67","v":1},0,0,0,0,0,0,0,0,0,0,0,0,0,0,0,0,0,0,0,0,0,0,0,0,0,0,0,0,0,0,0,0]
[null,null,null,null,null,null,null,null,null,"Non Playing Substitute",{"$f":"COUNTIF(K370:K376,12)-K379","v":0},{"$f":"COUNTIF(L370:L376,12)-L379","v":0},0,0,0,0,0,4,0,0,0,0,0,0,0,0,0,0,0,0,0,0,0,0,0,0,0,0,0,0,0,0,0,0]
[null,null,null,null,null,null,null,null,null,"Goals",0,0,0,2,0,0,0,0,1,0,0,1,0,0,0,0,0,0,0,1,0,0,0,0,5,0,0,0,0,0,0,0,0,0]
[]
[null,null,null,null,null,null,null,"League Cup"]
[null,null,{"$f":"IF(J384=0,1,0)","v":0},{"$f":"D72","v":1},null,{"$f":"F72","v":"1985-08-21"},null,{"$f":"H72","v":"Colchester"},{"$f":"I72","v":"(A)"},{"$f":"J72","v":"W 3-2"},4,12,null,9,null,2,11,null,10,7,null,5,6,null,3,1,null,null,null,null,8]
[null,null,0,{"$f":"D73","v":1},null,{"$f":"F73","v":"1985-09-03"},null,{"$f":"H73","v":"Colchester"},"(H)","W 4-1",4,null,null,9,null,2,11,12,10,7,null,5,6,null,3,1,null,null,null,null,8]
[null,null,0,2,null,"1985-09-25",null,"Southampton","(H)","D 0-0",4,null,null,9,null,3,12,11,10,7,null,null,6,null,null,1,null,5,2,null,8]
[null,null,0,2,null,"1985-10-08",null,"Southampton","(A)","D 0-0",4,8,null,9,null,null,11,12,10,7,null,5,6,null,3,1,null,null,2]
[null,null,1,0,null,"00:00:00",null,"00:00:00","00:00:00",0]
[null,null,1,0,null,"00:00:00",null,"00:00:00","00:00:00",0]
[null,null,1,0,null,"00:00:00",null,"00:00:00","00:00:00",0]
[null,null,1,0,null,"00:00:00",null,"00:00:00","00:00:00",0]
[null,null,1,0,null,"00:00:00",null,"00:00:00","00:00:00",0]
[]
[null,null,null,null,null,null,null,null,null,"Total League Cup Apperances",{"$f":"COUNT(K384:K392)-K396-K395","v":4},{"$f":"COUNT(L384:L392)-L396-L395","v":1},0,4,0,3,3,1,4,4,0,3,4,0,3,4,0,1,2,0,3,0,0,0,0,0,0,0,0,0,0,0,0,0]
[null,null,null,null,null,null,null,null,null,"Total League Cup Substitute Appearences ",{"$f":"AX$83","v":0},0,0,0,0,0,1,2,0,0,0,0,0,0,0,0,0,0,0,0,0,0,0,0,0,0,0,0,0,0,0,0,0,0]
[null,null,null,null,null,null,null,null,null,"Non Playing Substitute",{"$f":"COUNTIF(K384:K392,12)-K395","v":0},{"$f":"COUNTIF(L384:L392,12)-L395","v":1},0,0,0,0,0,0,0,0,0,0,0,0,0,0,0,0,0,0,0,0,0,0,0,0,0,0,0,0,0,0,0,0]
[null,null,null,null,null,null,null,null,null,"Goals",0,0,0,2,0,0,0,1,3,1,0,0,0,0,0,0,0,0,0,0,0,0,0,0,7,0,0,0,0,0,0,0,0,0]
[null,null,1]
[null,null,null,null,null,null,null,"Full Members Cup"]
[null,null,{"$f":"IF(J400=0,1,0)","v":0},{"$f":"D88","v":"G"},null,{"$f":"F88","v":"1985-10-02"},null,{"$f":"H88","v":"Stoke"},"(H)","D 2-2",4,8,null,9,null,null,11,12,10,7,null,14,6,null,3,1,null,5,2]
[null,null,{"$f":"IF(J401=0,1,0)","v":0},"G",null,"1985-10-15",null,"Coventry","(A)","D 1-1",4,8,null,9,null,3,11,10,null,7,14,12,6,null,null,1,null,null,2,5]
[null,null,1,0,null,"00:00:00",null,"00:00:00","00:00:00",0]
[null,null,1,0,null,"00:00:00",null,"00:00:00","00:00:00",0]
[null,null,1,0,null,"00:00:00",null,"00:00:00","00:00:00",0]
[null,null,1,0,null,"00:00:00",null,"00:00:00","00:00:00",0]
[null,null,1,0,null,"00:00:00",null,"00:00:00","00:00:00",0]
[null,null,1,0,null,"00:00:00",null,"00:00:00","00:00:00",0]
[null,null,1,0,null,"00:00:00",null,"00:00:00","00:00:00",0]
[]
[null,null,null,null,null,null,null,null,null,"Total Full Members Cup Apperances",{"$f":"COUNT(K400:K408)-K411-K412","v":2},{"$f":"COUNT(L400:L408)-L411-L412","v":2},0,2,0,1,2,1,1,2,0,0,2,0,1,2,0,1,2,1,0,0,0,0,0,0,0,0,0,0,0,0,0,0]
[null,null,null,null,null,null,null,null,null,"Total Full Members Cup Sub Appearences ",{"$f":"$AX$99+$CH$99","v":0},{"$f":"$AY$99+$CI$99","v":0},{"$f":"$AZ$99+$CJ$99","v":0},{"$f":"$BA$99+$CK$99","v":0},{"$f":"$BB$99+$CL$99","v":0},{"$f":"$BC$99+$CM$99","v":0},{"$f":"$BD$99+$CN$99","v":0},{"$f":"$BE$99+$CO$99","v":0},{"$f":"$BF$99+$CP$99","v":0},{"$f":"$BG$99+$CQ$99","v":0},{"$f":"$BH$99+$CR$99","v":0},{"$f":"$BI$99+$CS$99","v":1},{"$f":"$BJ$99+$CT$99","v":0},{"$f":"$BK$99+$CU$99","v":0},{"$f":"$BL$99+$CV$99","v":0},{"$f":"$BM$99+$CW$99","v":0},{"$f":"$BN$99+$CX$99","v":0},{"$f":"$BO$99+$CY$99","v":0},{"$f":"$BP$99+$CZ$99","v":0},{"$f":"$BQ$99+$DA$99","v":0},{"$f":"$BR$99+$DB$99","v":0},{"$f":"$BS$99+$DC$99","v":0},{"$f":"$BT$99+$DD$99","v":0},{"$f":"$BU$99+$DE$99","v":0},{"$f":"$BV$99+$DF$99","v":0},{"$f":"$BW$99+$DG$99","v":0},{"$f":"$BX$99+$DH$99","v":0},{"$f":"$BY$99+$DI$99","v":0},{"$f":"$BZ$99+$DJ$99","v":0},{"$f":"$CA$99+$DK$99","v":0},{"$f":"$CB$99+$DL$99","v":0},{"$f":"$CC$99+$DM$99","v":0},{"$f":"$CD$99+$DN$99","v":0},{"$f":"CE411+DO411","v":0}]
[null,null,null,null,null,null,null,null,null,"Non Playing Substitute",{"$f":"COUNTIF(K400:K408,\">=12\")-K411","v":0},{"$f":"COUNTIF(L400:L408,\">=12\")-L411","v":0},0,0,0,0,0,1,0,0,1,1,0,0,0,0,0,0,0,0,0,0,0,0,0,0,0,0,0,0,0,0,0,0]
[null,null,null,null,null,null,null,null,null,"Goals",0,1,0,1,0,0,0,0,1,0,0,0,0,0,0,0,0,0,0,0,0,0,0,0,3,0,0,0,0,0,0,0,0,0]

{"sheet":"Sheet1","index":2,"n_rows":267,"n_cols":63,"rows_kept":267,"cut":false,"hidden":false,"merged":[[224,1,228,1],[224,52,228,52],[270,13,270,14],[271,13,271,14],[194,1,199,1],[194,52,199,52],[204,1,209,1],[204,52,209,52],[214,1,219,1],[214,52,219,52],[164,1,169,1],[164,52,169,52],[174,1,179,1],[174,52,179,52],[184,1,189,1],[184,52,189,52],[134,1,139,1],[134,52,139,52],[144,1,149,1],[144,52,149,52],[154,1,159,1],[154,52,159,52],[104,1,109,1],[104,52,109,52],[114,1,119,1],[114,52,119,52],[124,1,129,1],[124,52,129,52],[94,1,99,1],[94,52,99,52],[54,1,59,1],[54,52,59,52],[56,53,59,53],[64,1,69,1],[64,52,69,52],[65,53,68,53],[74,1,79,1],[74,52,79,52],[75,53,77,53],[84,1,89,1],[84,52,89,52],[34,1,39,1],[34,52,39,52],[35,53,38,53],[44,1,49,1],[44,52,49,52],[45,53,48,53]]}
[]
[null,null,null,null,null,null,null,null,null,null,null,null,null,null,null,null,null,null,null,null,null,null,null,null,null,null,null,null,null,null,null,null,null,null,null,null,null,null,null,null,null,null,null,null,null,null,null,null,null,null,null,null,null,null,null,null,null,null,null,null,null,null,{"$f":"158-70","v":88}]
[]
[]
[]
[]
[]
[]
[]
[]
[]
[]
[]
[]
[]
[null,105,null,null,null,null,null,null,null,null,null,null,null,null,null,null,null,null,null,null,null,null,null,null,null,null,null,null,null,null,null,null,null,null,null,null,null,null,null,null,null,null,null,null,null,null,null,null,null,null,null,null,105]
[]
[]
[]
[]
[]
[]
[]
[]
[]
[]
[null,100,null,null,null,null,null,null,null,null,null,null,null,null,null,null,null,null,null,null,null,null,null,null,null,null,null,null,null,null,null,null,null,null,null,null,null,null,null,null,null,null,null,null,null,null,null,null,null,null,null,null,100]
[]
[]
[]
[]
[]
[]
[]
[null,95,null,null,null,null,null,null,null,null,null,null,null,null,null,null,null,null,null,null,null,null,null,null,null,null,null,null,null,null,null,null,null,null,null,null,null,null,null,null,null,null,null,null,null,null,null,null,null,null,null,null,95]
[]
[]
[]
[]
[]
[]
[]
[]
[]
[null,90,null,null,null,null,null,null,null,null,null,null,null,null,null,null,null,null,null,null,null,null,null,null,null,null,null,null,null,null,null,null,null,null,null,null,null,null,null,null,null,null,null,null,null,null,null,null,null,null,null,null,90]
[]
[]
[]
[]
[]
[]
[]
[]
[]
[null,85,null,null,null,null,null,null,null,null,null,null,null,null,null,null,null,null,null,null,null,null,null,null,null,null,null,null,null,null,null,null,null,null,null,null,null,null,null,null,null,null,null,null,null,null,null,null,null,null,null,null,85]
[]
[]
[]
[]
[]
[]
[]
[]
[]
[null,80,null,null,null,null,null,null,null,null,null,null,null,null,null,null,null,null,null,null,null,null,null,null,null,null,null,null,null,null,null,null,null,null,null,null,null,null,null,null,null,null,null,null,null,null,null,null,null,null,null,null,80]
[]
[]
[]
[]
[]
[]
[]
[]
[]
[null,75,null,null,null,null,null,null,null,null,null,null,null,null,null,null,null,null,null,null,null,null,null,null,null,null,null,null,null,null,null,null,null,null,null,null,null,null,null,null,null,null,null,null,null,null,null,null,null,null,null,null,75]
[]
[]
[]
[]
[]
[]
[]
[]
[]
[null,70,null,null,null,null,null,null,null,null,null,null,null,null,null,null,null,null,null,null,null,null,null,null,null,null,null,null,null,null,null,null,null,null,null,null,null,null,null,null,null,null,null,null,null,null,null,null,null,null,null,null,70]
[]
[]
[]
[]
[]
[]
[]
[]
[]
[null,65,null,null,null,null,null,null,null,null,null,null,null,null,null,null,null,null,null,null,null,null,null,null,null,null,null,null,null,null,null,null,null,null,null,null,null,null,null,null,null,null,null,null,null,null,null,null,null,null,null,null,65]
[]
[]
[]
[]
[]
[]
[]
[]
[]
[null,60,null,null,null,null,null,null,null,null,null,null,null,null,null,null,null,null,null,null,null,null,null,null,null,null,null,null,null,null,null,null,null,null,null,null,null,null,null,null,null,null,null,null,null,null,null,null,null,null,null,null,60]
[]
[]
[]
[]
[]
[]
[]
[]
[]
[null,55,null,null,null,null,null,null,null,null,null,null,null,null,null,null,null,null,null,null,null,null,null,null,null,null,null,null,null,null,null,null,null,null,null,null,null,null,null,null,null,null,null,null,null,null,null,null,null,null,null,null,55]
[]
[]
[]
[]
[]
[]
[]
[]
[]
[null,50,null,null,null,null,null,null,null,null,null,null,null,null,null,null,null,null,null,null,null,null,null,null,null,null,null,null,null,null,null,null,null,null,null,null,null,null,null,null,null,null,null,null,null,null,null,null,null,null,null,null,50]
[]
[]
[]
[]
[]
[]
[]
[]
[]
[null,45,null,null,null,null,null,null,null,null,null,null,null,null,null,null,null,null,null,null,null,null,null,null,null,null,null,null,null,null,null,null,null,null,null,null,null,null,null,null,null,null,null,null,null,null,null,null,null,null,null,null,45]
[]
[]
[]
[]
[]
[]
[]
[]
[]
[null,40,null,null,null,null,null,null,null,null,null,null,null,null,null,null,null,null,null,null,null,null,null,null,null,null,null,null,null,null,null,null,null,null,null,null,null,null,null,null,null,null,null,null,null,null,null,null,null,null,null,null,40]
[]
[]
[]
[]
[]
[]
[]
[]
[]
[null,35,null,null,null,null,null,null,null,null,null,null,null,null,null,null,null,null,null,null,null,null,null,null,null,null,null,null,null,null,null,null,null,null,null,null,null,null,null,null,null,null,null,null,null,null,null,null,null,null,null,null,35]
[]
[]
[]
[]
[]
[]
[]
[]
[]
[null,30,null,null,null,null,null,null,null,null,null,null,null,null,null,null,null,null,null,null,null,null,null,null,null,null,null,null,null,null,null,null,null,null,null,null,null,null,null,null,null,null,null,null,null,null,null,null,null,null,null,null,30]
[]
[]
[]
[]
[]
[]
[]
[]
[]
[null,25,null,null,null,null,null,null,null,null,null,null,null,null,null,null,null,null,null,null,null,null,null,null,null,null,null,null,null,null,null,null,null,null,null,null,null,null,null,null,null,null,null,null,null,null,null,null,null,null,null,null,25]
[]
[]
[]
[]
[]
[]
[]
[]
[]
[null,20,null,null,null,null,null,null,null,null,null,null,null,null,null,null,null,null,null,null,null,null,null,null,null,null,null,null,null,null,null,null,null,null,null,null,null,null,null,null,null,null,null,null,null,null,null,null,null,null,null,null,20]
[]
[]
[]
[]
[]
[]
[]
[]
[]
[null,15,null,null,null,null,null,null,null,null,null,null,null,null,null,null,null,null,null,null,null,null,null,null,null,null,null,null,null,null,null,null,null,null,null,null,null,null,null,null,null,null,null,null,null,null,null,null,null,null,null,null,15]
[]
[]
[]
[]
[]
[]
[]
[]
[]
[null,10,null,null,null,null,null,null,null,null,null,null,null,null,null,null,null,null,null,null,null,null,null,null,null,null,null,null,null,null,null,null,null,null,null,null,null,null,null,null,null,null,null,null,null,null,null,null,null,null,null,null,10]
[]
[]
[]
[]
[]
[]
[]
[]
[]
[null,5,null,null,null,null,null,null,null,null,null,null,null,null,null,null,null,null,null,null,null,null,null,null,null,null,null,null,null,null,null,null,null,null,null,null,null,null,null,null,null,null,null,null,null,null,null,null,null,null,null,null,5]
[]
[]
[]
[]
[]
[]
[]
[]
[]
[null,0,null,null,null,null,null,null,null,null,null,null,null,null,null,null,null,null,null,null,null,null,null,null,null,null,null,null,null,null,null,null,null,null,null,null,null,null,null,null,null,null,null,null,null,null,null,null,null,null,null,null,0]
[]
[]
[]
[]
[null,null,null,"Huddersfield (A) L 3-4","Norwich (H) W 4-2","Shrewsbury (A) D 1-1","Sunderland (H) W 1-0","Stoke (A) D 0-0","Brighton (H) L 0-1","Hull City (A) L 0-3","C Palace (A) L 1-2","Oldham (H) L 0-1","Sheff Utd (A) W 3-1","Blackburn (H) L 0-1","Wimbledon (A) D 1-1","Carlisle (H) W 3-1","Portsmouth (H) L 0-4","Grimsby (A) L 1-5","Leeds (H) W 3-1","Middlesbrough (H) W 3-0","Barnsley (A) L 1-2","Carlisle (A) L 0-1","Huddersfield (H) W 2-1","Norwich (A) L 1-6","Hull City (H) W 5-0","Stoke (H) L 2-3","Sunderland (A) W 2-1","Shrewsbury (H) W 2-0","Oldham (A) D 0-0","Sheff Utd (H) W 3-0","Wimbledon (H) L 0-1","Blackburn (A) W 2-1","Fulham (H) D 1-1","Brighton (A) L 0-1","Portsmouth (A) L 1-2","Charlton (H) D 2-2","Fulham (A) W 2-1","Grimsby (H) W 1-0","Leeds (A) L 1-3","Charlton (A) D 3-3","Bradford (H) W 2-1","C Palace (H) W 3-2","Middlesbrough (A) L 0-3","Bradford (A) W 2-0","Barnsley (H) D 2-2","Final Table"]
[]
[]
[]
[]
[]
[]
[null,null,null,{"$f":"D257-D244","v":0},0,0,0,1,0,0,0,1,1,0,0,0,0,1,1,1,1,2,2,3,2,2,2,1,2,2,1,4,4,1,1,1,2,1,2,1,1,2,2,1,1,{"$f":"AT257-AT244","v":3}]
[null,null,null,4,5,6,7,8,9,10,11,12,13,14,15,16,17,18,19,20,21,22,23,24,25,26,27,28,29,30,31,32,33,34,35,36,37,38,39,40,41,42,43,44,45,46]
[null,null,null,{"$f":"D246-D259","v":0},{"$f":"E246-E259","v":0},0,1,0,0,1,2,0,1,0,1,1,2,3,2,1,0,0,1,1,1,0,2,3,5,3,3,3,3,4,3,1,1,1,1,1,1,1,1,0,0,{"$f":"AT246-AT259","v":3}]
[]
[]
[null,"Top Y",null,{"$f":"Sheet2!$I$6","v":3},{"$f":"Sheet2!$I$7","v":7},{"$f":"Sheet2!$I$8","v":10},{"$f":"Sheet2!$I$9","v":13},{"$f":"Sheet2!$I$10","v":17},{"$f":"Sheet2!$I$11","v":20},{"$f":"Sheet2!$I$12","v":20},{"$f":"Sheet2!$I$13","v":20},{"$f":"Sheet2!$I$14","v":23},{"$f":"Sheet2!$I$15","v":26},{"$f":"Sheet2!$I$16","v":29},{"$f":"Sheet2!$I$17","v":32},{"$f":"Sheet2!$I$18","v":32},{"$f":"Sheet2!$I$19","v":35},{"$f":"Sheet2!$I$20","v":35},{"$f":"Sheet2!$I$21","v":35},{"$f":"Sheet2!$I$22","v":35},{"$f":"Sheet2!$I$23","v":35},{"$f":"Sheet2!$I$24","v":38},{"$f":"Sheet2!$I$25","v":39},{"$f":"Sheet2!$I$26","v":42},{"$f":"Sheet2!$I$27","v":45},{"$f":"Sheet2!$I$28","v":51},{"$f":"Sheet2!$I$29","v":54},{"$f":"Sheet2!$I$30","v":58},{"$f":"Sheet2!$I$31","v":61},{"$f":"Sheet2!$I$32","v":61},{"$f":"Sheet2!$I$33","v":61},{"$f":"Sheet2!$I$34","v":67},{"$f":"Sheet2!$I$35","v":67},{"$f":"Sheet2!$I$36","v":70},{"$f":"Sheet2!$I$37","v":70},{"$f":"Sheet2!$I$38","v":73},{"$f":"Sheet2!$I$39","v":73},{"$f":"Sheet2!$I$40","v":76},{"$f":"Sheet2!$I$41","v":80},{"$f":"Sheet2!$I$42","v":80},{"$f":"Sheet2!$I$43","v":81},{"$f":"Sheet2!$I$44","v":81},{"$f":"Sheet2!$I$45","v":81},{"$f":"Sheet2!$I$46","v":81},{"$f":"Sheet2!$I$47","v":84},{"$f":"Sheet2!$I$48","v":84}]
[]
[null,"4th a",null,{"$f":"Sheet2!$K$6","v":3},{"$f":"Sheet2!$K$7","v":6},{"$f":"Sheet2!$K$8","v":7},{"$f":"Sheet2!$K$9","v":10},{"$f":"Sheet2!$K$10","v":12},{"$f":"Sheet2!$K$11","v":14},{"$f":"Sheet2!$K$12","v":14},{"$f":"Sheet2!$K$13","v":17},{"$f":"Sheet2!$K$14","v":17},{"$f":"Sheet2!$K$15","v":20},{"$f":"Sheet2!$K$16","v":23},{"$f":"Sheet2!$K$17","v":24},{"$f":"Sheet2!$K$18","v":24},{"$f":"Sheet2!$K$19","v":25},{"$f":"Sheet2!$K$20","v":26},{"$f":"Sheet2!$K$21","v":28},{"$f":"Sheet2!$K$22","v":31},{"$f":"Sheet2!$K$23","v":33},{"$f":"Sheet2!$K$24","v":34},{"$f":"Sheet2!$K$25","v":35},{"$f":"Sheet2!$K$26","v":36},{"$f":"Sheet2!$K$27","v":40},{"$f":"Sheet2!$K$28","v":40},{"$f":"Sheet2!$K$29","v":43},{"$f":"Sheet2!$K$30","v":45},{"$f":"Sheet2!$K$31","v":46},{"$f":"Sheet2!$K$32","v":49},{"$f":"Sheet2!$K$33","v":51},{"$f":"Sheet2!$K$34","v":51},{"$f":"Sheet2!$K$35","v":51},{"$f":"Sheet2!$K$36","v":55},{"$f":"Sheet2!$K$37","v":55},{"$f":"Sheet2!$K$38","v":56},{"$f":"Sheet2!$K$39","v":57},{"$f":"Sheet2!$K$40","v":58},{"$f":"Sheet2!$K$41","v":62},{"$f":"Sheet2!$K$42","v":63},{"$f":"Sheet2!$K$43","v":64},{"$f":"Sheet2!$K$44","v":65},{"$f":"Sheet2!$K$45","v":68},{"$f":"Sheet2!$K$46","v":70},{"$f":"Sheet2!$K$47","v":73},{"$f":"Sheet2!$K$48","v":73}]
[]
[null,"19th b",null,{"$f":"Sheet2!$M$6","v":0},{"$f":"Sheet2!$M$7","v":1},{"$f":"Sheet2!$M$8","v":2},{"$f":"Sheet2!$M$9","v":3},{"$f":"Sheet2!$M$10","v":4},{"$f":"Sheet2!$M$11","v":4},{"$f":"Sheet2!$M$12","v":6},{"$f":"Sheet2!$M$13","v":7},{"$f":"Sheet2!$M$14","v":8},{"$f":"Sheet2!$M$15","v":9},{"$f":"Sheet2!$M$16","v":10},{"$f":"Sheet2!$M$17","v":12},{"$f":"Sheet2!$M$18","v":12},{"$f":"Sheet2!$M$19","v":13},{"$f":"Sheet2!$M$20","v":15},{"$f":"Sheet2!$M$21","v":16},{"$f":"Sheet2!$M$22","v":18},{"$f":"Sheet2!$M$23","v":18},{"$f":"Sheet2!$M$24","v":20},{"$f":"Sheet2!$M$25","v":21},{"$f":"Sheet2!$M$26","v":24},{"$f":"Sheet2!$M$27","v":25},{"$f":"Sheet2!$M$28","v":27},{"$f":"Sheet2!$M$29","v":30},{"$f":"Sheet2!$M$30","v":31},{"$f":"Sheet2!$M$31","v":33},{"$f":"Sheet2!$M$32","v":34},{"$f":"Sheet2!$M$33","v":34},{"$f":"Sheet2!$M$34","v":35},{"$f":"Sheet2!$M$35","v":35},{"$f":"Sheet2!$M$36","v":36},{"$f":"Sheet2!$M$37","v":36},{"$f":"Sheet2!$M$38","v":37},{"$f":"Sheet2!$M$39","v":37},{"$f":"Sheet2!$M$40","v":40},{"$f":"Sheet2!$M$41","v":42},{"$f":"Sheet2!$M$42","v":42},{"$f":"Sheet2!$M$43","v":44},{"$f":"Sheet2!$M$44","v":44},{"$f":"Sheet2!$M$45","v":45},{"$f":"Sheet2!$M$46","v":46},{"$f":"Sheet2!$M$47","v":46},{"$f":"Sheet2!$M$48","v":49}]
[]
[null,"22nd c",null,{"$f":"Sheet2!$O$6","v":0},{"$f":"Sheet2!$O$7","v":0},{"$f":"Sheet2!$O$8","v":0},{"$f":"Sheet2!$O$9","v":0},{"$f":"Sheet2!$O$10","v":1},{"$f":"Sheet2!$O$11","v":2},{"$f":"Sheet2!$O$12","v":2},{"$f":"Sheet2!$O$13","v":4},{"$f":"Sheet2!$O$14","v":5},{"$f":"Sheet2!$O$15","v":5},{"$f":"Sheet2!$O$16","v":5},{"$f":"Sheet2!$O$17","v":5},{"$f":"Sheet2!$O$18","v":5},{"$f":"Sheet2!$O$19","v":6},{"$f":"Sheet2!$O$20","v":6},{"$f":"Sheet2!$O$21","v":9},{"$f":"Sheet2!$O$22","v":9},{"$f":"Sheet2!$O$23","v":9},{"$f":"Sheet2!$O$24","v":12},{"$f":"Sheet2!$O$25","v":12},{"$f":"Sheet2!$O$26","v":12},{"$f":"Sheet2!$O$27","v":15},{"$f":"Sheet2!$O$28","v":15},{"$f":"Sheet2!$O$29","v":18},{"$f":"Sheet2!$O$30","v":19},{"$f":"Sheet2!$O$31","v":21},{"$f":"Sheet2!$O$32","v":21},{"$f":"Sheet2!$O$33","v":24},{"$f":"Sheet2!$O$34","v":24},{"$f":"Sheet2!$O$35","v":27},{"$f":"Sheet2!$O$36","v":29},{"$f":"Sheet2!$O$37","v":29},{"$f":"Sheet2!$O$38","v":29},{"$f":"Sheet2!$O$39","v":29},{"$f":"Sheet2!$O$40","v":29},{"$f":"Sheet2!$O$41","v":30},{"$f":"Sheet2!$O$42","v":30},{"$f":"Sheet2!$O$43","v":33},{"$f":"Sheet2!$O$44","v":33},{"$f":"Sheet2!$O$45","v":36},{"$f":"Sheet2!$O$46","v":36},{"$f":"Sheet2!$O$47","v":36},{"$f":"Sheet2!$O$48","v":36}]
[]
[null,"d"]
[]
[null,"Millwall e",null,{"$f":"Sheet2!$G$6","v":0},{"$f":"Sheet2!$G$7","v":3},{"$f":"Sheet2!$G$8","v":4},{"$f":"Sheet2!$G$9","v":7},{"$f":"Sheet2!$G$10","v":8},{"$f":"Sheet2!$G$11","v":8},{"$f":"Sheet2!$G$12","v":8},{"$f":"Sheet2!$G$13","v":8},{"$f":"Sheet2!$G$14","v":8},{"$f":"Sheet2!$G$15","v":11},{"$f":"Sheet2!$G$16","v":11},{"$f":"Sheet2!$G$17","v":12},{"$f":"Sheet2!$G$18","v":15},{"$f":"Sheet2!$G$19","v":15},{"$f":"Sheet2!$G$20","v":15},{"$f":"Sheet2!$G$21","v":18},{"$f":"Sheet2!$G$22","v":21},{"$f":"Sheet2!$G$23","v":21},{"$f":"Sheet2!$G$24","v":21},{"$f":"Sheet2!$G$25","v":24},{"$f":"Sheet2!$G$26","v":24},{"$f":"Sheet2!$G$27","v":27},{"$f":"Sheet2!$G$28","v":27},{"$f":"Sheet2!$G$29","v":30},{"$f":"Sheet2!$G$30","v":33},{"$f":"Sheet2!$G$31","v":34},{"$f":"Sheet2!$G$32","v":37},{"$f":"Sheet2!$G$33","v":37},{"$f":"Sheet2!$G$34","v":40},{"$f":"Sheet2!$G$35","v":41},{"$f":"Sheet2!$G$36","v":41},{"$f":"Sheet2!$G$37","v":41},{"$f":"Sheet2!$G$38","v":42},{"$f":"Sheet2!$G$39","v":45},{"$f":"Sheet2!$G$40","v":48},{"$f":"Sheet2!$G$41","v":48},{"$f":"Sheet2!$G$42","v":49},{"$f":"Sheet2!$G$43","v":52},{"$f":"Sheet2!$G$44","v":55},{"$f":"Sheet2!$G$45","v":55},{"$f":"Sheet2!$G$46","v":58},{"$f":"Sheet2!$G$47","v":59},{"$f":"Sheet2!$G$48","v":59}]
[]
[]
[]
[]
[null,"3rd f",null,{"$f":"(Sheet2!$T$6)","v":3},{"$f":"(Sheet2!$T$7)","v":6},{"$f":"(Sheet2!$T$8)","v":7},{"$f":"(Sheet2!$T$9)","v":10},{"$f":"(Sheet2!$T$10)","v":13},{"$f":"(Sheet2!$T$11)","v":14},{"$f":"(Sheet2!$T$12)","v":14},{"$f":"(Sheet2!$T$13)","v":17},{"$f":"(Sheet2!$T$14)","v":18},{"$f":"(Sheet2!$T$15)","v":21},{"$f":"(Sheet2!$T$16)","v":23},{"$f":"(Sheet2!$T$17)","v":24},{"$f":"(Sheet2!$T$18)","v":24},{"$f":"(Sheet2!$T$19)","v":25},{"$f":"(Sheet2!$T$20)","v":27},{"$f":"(Sheet2!$T$21)","v":29},{"$f":"(Sheet2!$T$22)","v":32},{"$f":"(Sheet2!$T$23)","v":34},{"$f":"(Sheet2!$T$24)","v":36},{"$f":"(Sheet2!$T$25)","v":37},{"$f":"(Sheet2!$T$26)","v":39},{"$f":"(Sheet2!$T$27)","v":42},{"$f":"(Sheet2!$T$28)","v":42},{"$f":"(Sheet2!$T$29)","v":45},{"$f":"(Sheet2!$T$30)","v":46},{"$f":"(Sheet2!$T$31)","v":48},{"$f":"(Sheet2!$T$32)","v":51},{"$f":"(Sheet2!$T$33)","v":52},{"$f":"(Sheet2!$T$34)","v":55},{"$f":"(Sheet2!$T$35)","v":55},{"$f":"(Sheet2!$T$36)","v":56},{"$f":"(Sheet2!$T$37)","v":56},{"$f":"(Sheet2!$T$38)","v":57},{"$f":"(Sheet2!$T$39)","v":59},{"$f":"(Sheet2!$T$40)","v":59},{"$f":"(Sheet2!$T$41)","v":64},{"$f":"(Sheet2!$T$42)","v":64},{"$f":"(Sheet2!$T$43)","v":65},{"$f":"(Sheet2!$T$44)","v":67},{"$f":"(Sheet2!$T$45)","v":70},{"$f":"(Sheet2!$T$46)","v":71},{"$f":"(Sheet2!$T$47)","v":74},{"$f":"(Sheet2!$T$48)","v":76}]
[]
[null,"20th g",null,{"$f":"(Sheet2!$V$6)","v":0},{"$f":"(Sheet2!$V$7)","v":1},{"$f":"(Sheet2!$V$8)","v":2},{"$f":"(Sheet2!$V$9)","v":2},{"$f":"(Sheet2!$V$10)","v":4},{"$f":"(Sheet2!$V$11)","v":4},{"$f":"(Sheet2!$V$12)","v":5},{"$f":"(Sheet2!$V$13)","v":5},{"$f":"(Sheet2!$V$14)","v":8},{"$f":"(Sheet2!$V$15)","v":8},{"$f":"(Sheet2!$V$16)","v":10},{"$f":"(Sheet2!$V$17)","v":11},{"$f":"(Sheet2!$V$18)","v":11},{"$f":"(Sheet2!$V$19)","v":11},{"$f":"(Sheet2!$V$20)","v":12},{"$f":"(Sheet2!$V$21)","v":14},{"$f":"(Sheet2!$V$22)","v":17},{"$f":"(Sheet2!$V$23)","v":18},{"$f":"(Sheet2!$V$24)","v":20},{"$f":"(Sheet2!$V$25)","v":20},{"$f":"(Sheet2!$V$26)","v":23},{"$f":"(Sheet2!$V$27)","v":24},{"$f":"(Sheet2!$V$28)","v":27},{"$f":"(Sheet2!$V$29)","v":28},{"$f":"(Sheet2!$V$30)","v":28},{"$f":"(Sheet2!$V$31)","v":28},{"$f":"(Sheet2!$V$32)","v":31},{"$f":"(Sheet2!$V$33)","v":31},{"$f":"(Sheet2!$V$34)","v":32},{"$f":"(Sheet2!$V$35)","v":32},{"$f":"(Sheet2!$V$36)","v":32},{"$f":"(Sheet2!$V$37)","v":33},{"$f":"(Sheet2!$V$38)","v":36},{"$f":"(Sheet2!$V$39)","v":36},{"$f":"(Sheet2!$V$40)","v":39},{"$f":"(Sheet2!$V$41)","v":41},{"$f":"(Sheet2!$V$42)","v":41},{"$f":"(Sheet2!$V$43)","v":43},{"$f":"(Sheet2!$V$44)","v":43},{"$f":"(Sheet2!$V$45)","v":44},{"$f":"(Sheet2!$V$46)","v":46},{"$f":"(Sheet2!$V$47)","v":46},{"$f":"(Sheet2!$V$48)","v":46}]
[]
[]
[]
[null,null,null,null,null,null,null,null,null,null,null,null,null,null,null,null,null,null,null,null,null,null,null,null,null,null,null,null,null,null,null,null,null,null,null,null,null,null,null,null,null,null,null,null,null,null,null,null,null,null,null,null,null,null,null,null,null,null,{"$f":"228-189","v":39}]
[null,null,null,5,6,7,8,9,10,11,12,13,14,15,16,17,18,19,20,21,22,23,24,25,26,27,28,29,30,31,32,33,34,35,36,37,38,39,40,41,42,43,44,45,46,46,null,null,null,null,null,null,null,null,null,null,null,null,{"$f":"188-149","v":39}]
[null,null,null,{"$f":"D246-D259","v":0},{"$f":"E246-E259","v":0},0,1,0,0,1,2,0,1,0,1,1,2,3,2,1,0,0,1,1,1,0,2,3,5,3,3,3,3,4,3,1,1,1,1,1,1,1,1,0,0,{"$f":"AT246-AT259","v":3},null,null,null,null,null,null,null,null,null,null,null,null,{"$f":"148-109","v":39}]
[null,null,null,null,null,null,null,null,null,null,null,null,null,null,null,null,null,null,null,null,null,null,null,null,null,null,null,null,null,null,null,null,null,null,null,null,null,null,null,null,null,null,null,null,null,null,null,null,null,null,null,null,null,null,null,null,null,null,{"$f":"108-69","v":39}]
[null,null,null,null,null,null,null,null,null,null,null,null,null,null,null,null,null,null,null,null,null,null,null,null,null,null,null,null,null,null,null,null,null,null,null,null,null,null,null,null,null,null,null,null,null,null,null,null,null,null,null,null,null,null,null,null,null,null,{"$f":"68-49","v":19}]

{"sheet":"Sheet2","index":3,"n_rows":48,"n_cols":26,"rows_kept":48,"cut":false,"hidden":false,"merged":[]}
[null,null,"Millwall 19885/86 results and fixtures ",null,null,null,{"$f":"[5]Summary!$AP$68","v":59},{"$f":"[5]Summary!$Q$22","v":9},{"$f":"[5]Summary!$AP$10","v":84},1,{"$f":"[5]Summary!$AP$13","v":73},4,{"$f":"[5]Summary!$AP$28","v":49},19,{"$f":"[5]Summary!$AP$31","v":36},22,null,null,{"$f":"[5]Summary!$T$5","v":89},{"$f":"[5]Summary!$AP$12","v":76},3,{"$f":"[5]Summary!$AP$29","v":46},20,null,null,{"$f":"[5]Summary!$U$7","v":"Barnsley (H) D 2-2"}]
[]
[]
[null,null,null,null,null,null,"x"]
[null,"Game","Competition",null,"Pts","Pos","Millwall","Pos","top","Pos","4th","Pos","19th","Pos","Bottom","Pos",null,null,"Day","3rd","Pos","20th","Pos",null,null,"Vesus"]
[null,1,"Division 2","Huddersfield (A) L 3-4",null,null,0,15,3,1,3,4,0,19,0,22,null,null,1,3,3,0,20,null,null,"Huddersfield (A) L 3-4"]
[null,2,"Division 2","Norwich (H) W 4-2",null,null,3,11,7,1,6,4,1,19,0,22,null,null,5,6,3,1,20,null,null,"Norwich (H) W 4-2"]
[null,3,"Division 2","Shrewsbury (A) D 1-1",null,null,4,13,10,1,7,4,2,19,0,22,null,null,7,7,3,2,20,null,null,"Shrewsbury (A) D 1-1"]
[null,4,"Division 2","Sunderland (H) W 1-0",null,null,7,10,13,1,10,4,3,19,0,22,null,null,8,10,3,2,20,null,null,"Sunderland (H) W 1-0"]
[null,5,"Division 2","Stoke (A) D 0-0",null,null,8,9,17,1,12,4,4,19,1,22,null,null,12,13,3,4,20,null,null,"Stoke (A) D 0-0"]
[null,6,"Division 2","Brighton (H) L 0-1",null,null,8,12,20,1,14,4,4,19,2,22,null,null,15,14,3,4,20,null,null,"Brighton (H) L 0-1"]
[null,7,"Division 2","Hull City (A) L 0-3",null,null,8,15,20,1,14,4,6,19,2,22,null,null,16,14,3,5,20,null,null,"Hull City (A) L 0-3"]
[null,8,"Division 2","C Palace (A) L 1-2",null,null,8,17,20,1,17,4,7,19,4,22,null,null,18,17,3,5,20,null,null,"C Palace (A) L 1-2"]
[null,9,"Division 2","Oldham (H) L 0-1",null,null,8,18,23,1,17,4,8,19,5,22,null,null,19,18,3,8,20,null,null,"Oldham (H) L 0-1"]
[null,10,"Division 2","Sheff Utd (A) W 3-1",null,null,11,16,26,1,20,4,9,19,5,22,null,null,21,21,3,8,20,null,null,"Sheff Utd (A) W 3-1"]
[null,11,"Division 2","Blackburn (H) L 0-1",null,null,11,18,29,1,23,4,10,19,5,22,null,null,22,23,3,10,20,null,null,"Blackburn (H) L 0-1"]
[null,12,"Division 2","Wimbledon (A) D 1-1",null,null,12,17,32,1,24,4,12,19,5,22,null,null,24,24,3,11,20,null,null,"Wimbledon (A) D 1-1"]
[null,13,"Division 2","Carlisle (H) W 3-1",null,null,15,15,32,1,24,4,12,19,5,22,null,null,25,24,3,11,20,null,null,"Carlisle (H) W 3-1"]
[null,14,"Division 2","Portsmouth (H) L 0-4",null,null,15,16,35,1,25,4,13,19,6,22,null,null,27,25,3,11,20,null,null,"Portsmouth (H) L 0-4"]
[null,15,"Division 2","Grimsby (A) L 1-5",null,null,15,19,35,1,26,4,15,19,6,22,null,null,29,27,3,12,20,null,null,"Grimsby (A) L 1-5"]
[null,16,"Division 2","Leeds (H) W 3-1",null,null,18,17,35,1,28,4,16,19,9,22,null,null,31,29,3,14,20,null,null,"Leeds (H) W 3-1"]
[null,17,"Division 2","Middlesbrough (H) W 3-0",null,null,21,15,35,1,31,4,18,19,9,22,null,null,33,32,3,17,20,null,null,"Middlesbrough (H) W 3-0"]
[null,18,"Division 2","Barnsley (A) L 1-2",null,null,21,16,35,1,33,4,18,19,9,22,null,null,34,34,3,18,20,null,null,"Barnsley (A) L 1-2"]
[null,19,"Division 2","Carlisle (A) L 0-1",null,null,21,17,38,1,34,4,20,19,12,22,null,null,36,36,3,20,20,null,null,"Carlisle (A) L 0-1"]
[null,20,"Division 2","Huddersfield (H) W 2-1",null,null,24,16,39,1,35,4,21,19,12,22,null,null,38,37,3,20,20,null,null,"Huddersfield (H) W 2-1"]
[null,21,"Division 2","Norwich (A) L 1-6",null,null,24,19,42,1,36,4,24,19,12,22,null,null,41,39,3,23,20,null,null,"Norwich (A) L 1-6"]
[null,22,"Division 2","Hull City (H) W 5-0",null,null,27,17,45,1,40,4,25,19,15,22,null,null,44,42,3,24,20,null,null,"Hull City (H) W 5-0"]
[null,23,"Division 2","Stoke (H) L 2-3",null,null,27,19,51,1,40,4,27,19,15,22,null,null,46,42,3,27,20,null,null,"Stoke (H) L 2-3"]
[null,24,"Division 2","Sunderland (A) W 2-1",null,null,30,19,54,1,43,4,30,19,18,22,null,null,47,45,3,28,20,null,null,"Sunderland (A) W 2-1"]
[null,25,"Division 2","Shrewsbury (H) W 2-0",null,null,33,15,58,1,45,4,31,19,19,22,null,null,49,46,3,28,20,null,null,"Shrewsbury (H) W 2-0"]
[null,26,"Division 2","Oldham (A) D 0-0",null,null,34,17,61,1,46,4,33,19,21,22,null,null,56,48,3,28,20,null,null,"Oldham (A) D 0-0"]
[null,27,"Division 2","Sheff Utd (H) W 3-0",null,null,37,17,61,1,49,4,34,19,21,22,null,null,58,51,3,31,20,null,null,"Sheff Utd (H) W 3-0"]
[null,28,"Division 2","Wimbledon (H) L 0-1",null,null,37,17,61,1,51,4,34,19,24,22,null,null,59,52,3,31,20,null,null,"Wimbledon (H) L 0-1"]
[null,29,"Division 2","Blackburn (A) W 2-1",null,null,40,13,67,1,51,4,35,19,24,22,null,null,61,55,3,32,20,null,null,"Blackburn (A) W 2-1"]
[null,30,"Division 2","Fulham (H) D 1-1",null,null,41,13,67,1,51,4,35,19,27,22,null,null,62,55,3,32,20,null,null,"Fulham (H) D 1-1"]
[null,31,"Division 2","Brighton (A) L 0-1",null,null,41,14,70,1,55,4,36,19,29,22,null,null,64,56,3,32,20,null,null,"Brighton (A) L 0-1"]
[null,32,"Division 2","Portsmouth (A) L 1-2",null,null,41,14,70,1,55,4,36,19,29,22,null,null,65,56,3,33,20,null,null,"Portsmouth (A) L 1-2"]
[null,33,"Division 2","Charlton (H) D 2-2",null,null,42,14,73,1,56,4,37,19,29,22,null,null,67,57,3,36,20,null,null,"Charlton (H) D 2-2"]
[null,34,"Division 2","Fulham (A) W 2-1",null,null,45,13,73,1,57,4,37,19,29,22,null,null,68,59,3,36,20,null,null,"Fulham (A) W 2-1"]
[null,35,"Division 2","Grimsby (H) W 1-0",null,null,48,11,76,1,58,4,40,19,29,22,null,null,71,59,3,39,20,null,null,"Grimsby (H) W 1-0"]
[null,36,"Division 2","Leeds (A) L 1-3",null,null,48,14,80,1,62,4,42,19,30,22,null,null,75,64,3,41,20,null,null,"Leeds (A) L 1-3"]
[null,37,"Division 2","Charlton (A) D 3-3",null,null,49,14,80,1,63,4,42,19,30,22,null,null,76,64,3,41,20,null,null,"Charlton (A) D 3-3"]
[null,38,"Division 2","Bradford (H) W 2-1",null,null,52,10,81,1,64,4,44,19,33,22,null,null,78,65,3,43,20,null,null,"Bradford (H) W 2-1"]
[null,39,"Division 2","C Palace (H) W 3-2",null,null,55,8,81,1,65,4,44,19,33,22,null,null,79,67,3,43,20,null,null,"C Palace (H) W 3-2"]
[null,40,"Division 2","Middlesbrough (A) L 0-3",null,null,55,10,81,1,68,4,45,19,36,22,null,null,81,70,3,44,20,null,null,"Middlesbrough (A) L 0-3"]
[null,41,"Division 2","Bradford (A) W 2-0",null,null,58,8,81,1,70,4,46,19,36,22,null,null,83,71,3,46,20,null,null,"Bradford (A) W 2-0"]
[null,42,"Division 2","Barnsley (H) D 2-2",null,null,59,8,84,1,73,4,46,19,36,22,null,null,85,74,3,46,20,null,null,"Barnsley (H) D 2-2"]
[null,null,null,"Final Table",null,null,59,9,84,1,73,4,49,19,36,22,null,null,88,76,3,46,20,null,null,"Barnsley (H) D 2-2"]

{"sheet":"Sheet3","index":4,"n_rows":121,"n_cols":57,"rows_kept":121,"cut":false,"hidden":false,"merged":[[5,1,8,1],[5,49,7,51],[9,50,10,50],[11,1,12,1],[13,50,15,50],[15,1,17,1],[17,50,19,50],[20,1,22,1],[21,50,23,50],[25,1,27,1],[25,50,27,50],[29,50,31,50],[30,1,32,1],[60,1,62,1],[61,50,63,50],[33,50,35,50],[35,1,37,1],[37,50,39,50],[40,1,42,1],[41,50,43,50],[45,1,47,1],[45,50,47,50],[49,50,51,50],[50,1,52,1],[53,50,55,50],[55,1,57,1],[57,50,59,50],[65,1,67,1],[65,50,67,50],[69,50,71,50],[70,1,72,1],[73,50,75,50],[75,1,77,1],[77,50,79,50],[105,1,106,1],[80,1,82,1],[81,50,83,50],[85,1,87,1],[85,50,87,50],[89,50,91,50],[90,1,92,1],[93,50,95,50],[95,1,97,1],[97,50,99,50],[100,1,102,1],[101,50,103,50]]}
[]
[null,null,null,null,null,null,null,null,null,null,null,null,null,null,null,null,null,null,null,null,null,null,null,null,null,null,null,null,null,null,null,null,null,null,null,null,null,null,null,null,null,null,null,null,null,null,null,null,null,null,null,null,null,null,null,4,45]
[]
[]
[null,null,"Points"]
[null,100,null,null,null,null,null,null,null,null,null,null,null,null,null,null,null,null,null,null,null,null,null,null,null,null,null,null,null,null,null,null,null,null,null,null,null,null,null,null,null,null,null,null,null,null,null,null,null,"Position"]
[]
[]
[]
[null,null,null,null,null,null,null,null,null,null,null,null,null,null,null,null,null,null,null,null,null,null,null,null,null,null,null,null,null,null,null,null,null,null,null,null,null,null,null,null,null,null,null,null,null,null,null,null,null,null,1]
[]
[null,95]
[]
[null,null,null,null,null,null,null,null,null,null,null,null,null,null,null,null,null,null,null,null,null,null,null,null,null,null,null,null,null,null,null,null,null,null,null,null,null,null,null,null,null,null,null,null,null,null,null,null,null,null,2]
[]
[null,90]
[]
[null,null,null,null,null,null,null,null,null,null,null,null,null,null,null,null,null,null,null,null,null,null,null,null,null,null,null,null,null,null,null,null,null,null,null,null,null,null,null,null,null,null,null,null,null,null,null,null,null,null,3]
[]
[]
[null,85]
[null,null,null,null,null,null,null,null,null,null,null,null,null,null,null,null,null,null,null,null,null,null,null,null,null,null,null,null,null,null,null,null,null,null,null,null,null,null,null,null,null,null,null,null,null,null,null,null,null,null,4]
[]
[]
[]
[null,80,null,null,null,null,null,null,null,null,null,null,null,null,null,null,null,null,null,null,null,null,null,null,null,null,null,null,null,null,null,null,null,null,null,null,null,null,null,null,null,null,null,null,null,null,null,null,null,null,5]
[]
[]
[]
[null,null,null,null,null,null,null,null,null,null,null,null,null,null,null,null,null,null,null,null,null,null,null,null,null,null,null,null,null,null,null,null,null,null,null,null,null,null,null,null,null,null,null,null,null,null,null,null,null,null,6]
[null,75]
[]
[]
[null,null,null,null,null,null,null,null,null,null,null,null,null,null,null,null,null,null,null,null,null,null,null,null,null,null,null,null,null,null,null,null,null,null,null,null,null,null,null,null,null,null,null,null,null,null,null,null,null,null,7]
[]
[null,70]
[]
[null,null,null,null,null,null,null,null,null,null,null,null,null,null,null,null,null,null,null,null,null,null,null,null,null,null,null,null,null,null,null,null,null,null,null,null,null,null,null,null,null,null,null,null,null,null,null,null,null,null,8]
[]
[]
[null,65]
[null,null,null,null,null,null,null,null,null,null,null,null,null,null,null,null,null,null,null,null,null,null,null,null,null,null,null,null,null,null,null,null,null,null,null,null,null,null,null,null,null,null,null,null,null,null,null,null,null,null,9]
[]
[]
[]
[null,60,null,null,null,null,null,null,null,null,null,null,null,null,null,null,null,null,null,null,null,null,null,null,null,null,null,null,null,null,null,null,null,null,null,null,null,null,null,null,null,null,null,null,null,null,null,null,null,null,10]
[]
[]
[]
[null,null,null,null,null,null,null,null,null,null,null,null,null,null,null,null,null,null,null,null,null,null,null,null,null,null,null,null,null,null,null,null,null,null,null,null,null,null,null,null,null,null,null,null,null,null,null,null,null,null,11]
[null,55]
[]
[]
[null,null,null,null,null,null,null,null,null,null,null,null,null,null,null,null,null,null,null,null,null,null,null,null,null,null,null,null,null,null,null,null,null,null,null,null,null,null,null,null,null,null,null,null,null,null,null,null,null,null,12]
[]
[null,50]
[]
[null,null,null,null,null,null,null,null,null,null,null,null,null,null,null,null,null,null,null,null,null,null,null,null,null,null,null,null,null,null,null,null,null,null,null,null,null,null,null,null,null,null,null,null,null,null,null,null,null,null,13]
[]
[]
[null,45]
[null,null,null,null,null,null,null,null,null,null,null,null,null,null,null,null,null,null,null,null,null,null,null,null,null,null,null,null,null,null,null,null,null,null,null,null,null,null,null,null,null,null,null,null,null,null,null,null,null,null,14]
[]
[]
[]
[null,40,null,null,null,null,null,null,null,null,null,null,null,null,null,null,null,null,null,null,null,null,null,null,null,null,null,null,null,null,null,null,null,null,null,null,null,null,null,null,null,null,null,null,null,null,null,null,null,null,15]
[]
[]
[]
[null,null,null,null,null,null,null,null,null,null,null,null,null,null,null,null,null,null,null,null,null,null,null,null,null,null,null,null,null,null,null,null,null,null,null,null,null,null,null,null,null,null,null,null,null,null,null,null,null,null,16]
[null,35]
[]
[]
[null,null,null,null,null,null,null,null,null,null,null,null,null,null,null,null,null,null,null,null,null,null,null,null,null,null,null,null,null,null,null,null,null,null,null,null,null,null,null,null,null,null,null,null,null,null,null,null,null,null,17]
[]
[null,30]
[]
[null,null,null,null,null,null,null,null,null,null,null,null,null,null,null,null,null,null,null,null,null,null,null,null,null,null,null,null,null,null,null,null,null,null,null,null,null,null,null,null,null,null,null,null,null,null,null,null,null,null,18]
[]
[]
[null,25]
[null,null,null,null,null,null,null,null,null,null,null,null,null,null,null,null,null,null,null,null,null,null,null,null,null,null,null,null,null,null,null,null,null,null,null,null,null,null,null,null,null,null,null,null,null,null,null,null,null,null,19]
[]
[]
[]
[null,20,null,null,null,null,null,null,null,null,null,null,null,null,null,null,null,null,null,null,null,null,null,null,null,null,null,null,null,null,null,null,null,null,null,null,null,null,null,null,null,null,null,null,null,null,null,null,null,null,20]
[]
[]
[]
[null,null,null,null,null,null,null,null,null,null,null,null,null,null,null,null,null,null,null,null,null,null,null,null,null,null,null,null,null,null,null,null,null,null,null,null,null,null,null,null,null,null,null,null,null,null,null,null,null,null,21]
[null,15]
[]
[]
[null,null,null,null,null,null,null,null,null,null,null,null,null,null,null,null,null,null,null,null,null,null,null,null,null,null,null,null,null,null,null,null,null,null,null,null,null,null,null,null,null,null,null,null,null,null,null,null,null,null,22]
[]
[null,10]
[]
[]
[]
[]
[null,5]
[null,null,null,null,null,null,null,null,null,null,null,null,null,null,null,null,null,null,null,null,null,null,null,null,null,null,null,null,null,null,null,null,null,null,null,null,null,null,null,null,null,null,null,null,null,null,null,null,null,null,24]
[]
[]
[]
[null,0]
[]
[]
[null,null,null,{"$f":"#REF!","v":{"$error":"#REF!"}},{"$f":"#REF!","v":{"$error":"#REF!"}},{"$f":"#REF!","v":{"$error":"#REF!"}},{"$f":"#REF!","v":{"$error":"#REF!"}},{"$f":"#REF!","v":{"$error":"#REF!"}},{"$f":"#REF!","v":{"$error":"#REF!"}},{"$f":"#REF!","v":{"$error":"#REF!"}},{"$f":"#REF!","v":{"$error":"#REF!"}},{"$f":"#REF!","v":{"$error":"#REF!"}},{"$f":"#REF!","v":{"$error":"#REF!"}},{"$f":"#REF!","v":{"$error":"#REF!"}},{"$f":"#REF!","v":{"$error":"#REF!"}},{"$f":"#REF!","v":{"$error":"#REF!"}},{"$f":"#REF!","v":{"$error":"#REF!"}},{"$f":"#REF!","v":{"$error":"#REF!"}},{"$f":"#REF!","v":{"$error":"#REF!"}},{"$f":"#REF!","v":{"$error":"#REF!"}},{"$f":"#REF!","v":{"$error":"#REF!"}},{"$f":"#REF!","v":{"$error":"#REF!"}},{"$f":"#REF!","v":{"$error":"#REF!"}},{"$f":"#REF!","v":{"$error":"#REF!"}},{"$f":"#REF!","v":{"$error":"#REF!"}},{"$f":"#REF!","v":{"$error":"#REF!"}},{"$f":"#REF!","v":{"$error":"#REF!"}},{"$f":"#REF!","v":{"$error":"#REF!"}},{"$f":"#REF!","v":{"$error":"#REF!"}},{"$f":"#REF!","v":{"$error":"#REF!"}},{"$f":"#REF!","v":{"$error":"#REF!"}},{"$f":"#REF!","v":{"$error":"#REF!"}},{"$f":"#REF!","v":{"$error":"#REF!"}},{"$f":"#REF!","v":{"$error":"#REF!"}},{"$f":"#REF!","v":{"$error":"#REF!"}},{"$f":"#REF!","v":{"$error":"#REF!"}},{"$f":"#REF!","v":{"$error":"#REF!"}},{"$f":"#REF!","v":{"$error":"#REF!"}},{"$f":"#REF!","v":{"$error":"#REF!"}},{"$f":"#REF!","v":{"$error":"#REF!"}},{"$f":"#REF!","v":{"$error":"#REF!"}},{"$f":"#REF!","v":{"$error":"#REF!"}},{"$f":"#REF!","v":{"$error":"#REF!"}},{"$f":"#REF!","v":{"$error":"#REF!"}},{"$f":"#REF!","v":{"$error":"#REF!"}},{"$f":"#REF!","v":{"$error":"#REF!"}},{"$f":"#REF!","v":{"$error":"#REF!"}},{"$f":"#REF!","v":{"$error":"#REF!"}},{"$f":"#REF!","v":{"$error":"#REF!"}}]
[]
[]
[]
[]
[]
[null,"Millwall",null,{"$f":"Sheet2!$G$6","v":0},{"$f":"Sheet2!$G$7","v":3},{"$f":"Sheet2!$G$8","v":4},{"$f":"Sheet2!$G$9","v":7},{"$f":"Sheet2!$G$10","v":8},{"$f":"Sheet2!$G$11","v":8},{"$f":"Sheet2!$G$12","v":8},{"$f":"Sheet2!$G$13","v":8},{"$f":"Sheet2!$G$14","v":8},{"$f":"Sheet2!$G$15","v":11},{"$f":"Sheet2!$G$16","v":11},{"$f":"Sheet2!$G$17","v":12},{"$f":"Sheet2!$G$18","v":15},{"$f":"Sheet2!$G$19","v":15},{"$f":"Sheet2!$G$20","v":15},{"$f":"Sheet2!$G$21","v":18},{"$f":"Sheet2!$G$22","v":21},{"$f":"Sheet2!$G$23","v":21},{"$f":"Sheet2!$G$24","v":21},{"$f":"Sheet2!$G$25","v":24},{"$f":"Sheet2!$G$26","v":24},{"$f":"Sheet2!$G$27","v":27},{"$f":"Sheet2!$G$28","v":27},{"$f":"Sheet2!$G$29","v":30},{"$f":"Sheet2!$G$30","v":33},{"$f":"Sheet2!$G$31","v":34},{"$f":"Sheet2!$G$32","v":37},{"$f":"Sheet2!$G$33","v":37},{"$f":"Sheet2!$G$34","v":40},{"$f":"Sheet2!$G$35","v":41},{"$f":"Sheet2!$G$36","v":41},{"$f":"Sheet2!$G$37","v":41},{"$f":"Sheet2!$G$38","v":42},{"$f":"Sheet2!$G$39","v":45},{"$f":"Sheet2!$G$40","v":48},{"$f":"Sheet2!$G$41","v":48},{"$f":"Sheet2!$G$42","v":49},{"$f":"Sheet2!$G$43","v":52},{"$f":"Sheet2!$G$44","v":55},{"$f":"Sheet2!$G$45","v":55},{"$f":"Sheet2!$G$46","v":58},{"$f":"Sheet2!$G$47","v":59},{"$f":"Sheet2!$G$48","v":59},{"$f":"Sheet2!$G$49","v":0},{"$f":"Sheet2!$G$50","v":0},{"$f":"Sheet2!$G$51","v":0}]
[]
[null,"Position",null,{"$f":"100-(D121*4)","v":40},56,48,60,64,52,40,32,28,36,28,32,40,36,24,32,40,36,32,36,24,32,24,24,40,32,32,32,48,48,44,44,44,48,56,44,44,60,68,60,68,68,64,100,100,100]
[]
[]
[]
[null,null,null,{"$f":"Sheet2!$H$6","v":15},{"$f":"Sheet2!$H$7","v":11},{"$f":"Sheet2!$H$8","v":13},{"$f":"Sheet2!$H$9","v":10},{"$f":"Sheet2!$H$10","v":9},{"$f":"Sheet2!$H$11","v":12},{"$f":"Sheet2!$H$12","v":15},{"$f":"Sheet2!$H$13","v":17},{"$f":"Sheet2!$H$14","v":18},{"$f":"Sheet2!$H$15","v":16},{"$f":"Sheet2!$H$16","v":18},{"$f":"Sheet2!$H$17","v":17},{"$f":"Sheet2!$H$18","v":15},{"$f":"Sheet2!$H$19","v":16},{"$f":"Sheet2!$H$20","v":19},{"$f":"Sheet2!$H$21","v":17},{"$f":"Sheet2!$H$22","v":15},{"$f":"Sheet2!$H$23","v":16},{"$f":"Sheet2!$H$24","v":17},{"$f":"Sheet2!$H$25","v":16},{"$f":"Sheet2!$H$26","v":19},{"$f":"Sheet2!$H$27","v":17},{"$f":"Sheet2!$H$28","v":19},{"$f":"Sheet2!$H$29","v":19},{"$f":"Sheet2!$H$30","v":15},{"$f":"Sheet2!$H$31","v":17},{"$f":"Sheet2!$H$32","v":17},{"$f":"Sheet2!$H$33","v":17},{"$f":"Sheet2!$H$34","v":13},{"$f":"Sheet2!$H$35","v":13},{"$f":"Sheet2!$H$36","v":14},{"$f":"Sheet2!$H$37","v":14},{"$f":"Sheet2!$H$38","v":14},{"$f":"Sheet2!$H$39","v":13},{"$f":"Sheet2!$H$40","v":11},{"$f":"Sheet2!$H$41","v":14},{"$f":"Sheet2!$H$42","v":14},{"$f":"Sheet2!$H$43","v":10},{"$f":"Sheet2!$H$44","v":8},{"$f":"Sheet2!$H$45","v":10},{"$f":"Sheet2!$H$46","v":8},{"$f":"Sheet2!$H$47","v":8},{"$f":"Sheet2!$H$48","v":9},{"$f":"Sheet2!$H$49","v":0},{"$f":"Sheet2!$H$50","v":0},{"$f":"Sheet2!$H$51","v":0}]