{"text_format":"1","workbook":"xlsx","n_sheets":5,"sheets":["Millwall","Comparisons","Sheet1","Sheet2","Sheet3"],"not_rendered":{"charts":1,"images":3,"macros":1,"external_links":5,"defined_names":46,"comments":0,"pivot_tables":0},"unopened":[],"bounds":{"document_bytes":16777216,"sheet_cells":100000,"rows_first":2000,"rows_last":500,"rows_between":2000,"halvings":0,"cell_chars":16384,"cell_head_chars":4096},"cells_cut":0,"cells_raw":0,"read":"whole","date_system":"1900"}

{"sheet":"Millwall","index":0,"n_rows":202,"n_cols":155,"rows_kept":202,"cut":false,"hidden":false,"merged":[[4,154,5,166]]}
[null,null,1]
[]
[]
[null,null,"Game","Competition","Date","Us & Them","Opponents",null,"Score","HT","Att","Pts","Pos","Score","HT","Att","Pts","Pos","Ref","Goal Scorers",null,null,null,"Game","Competition","Date","Opponents",null,"Score",1,2,3,4,5,6,7,8,9,10,11,12,null,14,null,null,null,null,null,null,null,null,null,null,null,null,null,null,null,null,null,null,null,null,null,null,null,null,null,null,null,null,"All",null,null,null,null,"League",null,null,null,null,null,"FA Cup",null,null,null,"League Cup",null,null,null,null,"AM Cup",null,null,null,null,null,null,null,null,null,null,null,null,null,null,null,null,null,null,null,null,null,null,null,null,null,null,null,null,null,null,null,null,null,null,null,null,null,null,null,null,null,null,null,null,null,null,null,null,null,null,null,null,"Opposition","Pts","Pos"]
[null,null,1,"Division 3 ","1983-08-27","- -","Brentford","(A)","D 2-2","1-2",6224,1,10,"D 2-2","1-2",6224,1,10,null,"McNichol o.g. (37) Lowndes (65) / Joseph (25) Kamara 45)",null,null,1,1,"Division 3 ","1983-08-27","Brentford","(A)","D 2-2","Sansome","Lovell","Stride","Robinson","Nutton","Cusack","Bremner","Lowndes ¹","Martin","Otulakowski (--)","Chatterton","Massey (--)",null,null,null,null,"Brentford","(A)","D 2-2","Own Goal","Lowndes",null,null,null,null,null,null,null,null,null,null,null,null,null,null,null,null,null,null,null,null,null,"(Max 57)",null,null,null,null,"(Max 46)",null,null,null,null,"(Max 2)",null,null,null,null,"(Max 4)",null,null,null,null,"(Max 5)",null,null,null,null,null,null,null,null,null,null,null,null,null,null,null,null,null,null,null,null,null,null,null,null,null,null,null,null,null,null,null,null,null,null,null,null,null,null,null,null,null,null,null,null,null,null,null,null,null,null,null,null,{"$f":"EO62&\" \"&EP62&\" \"&EQ62","v":"Brentford (A) D 2-2"},{"$f":"ER62","v":1},{"$f":"ES62","v":10},null,null,null,null,null,null,null,"Millwall Progress Season 1983/84"]
[null,null,2,"League Cup","1983-08-29","- -","Northampton","(H)","W 3-0","1-0",4185,"-","-","W 3-0","1-0",4185,"-","-","A Gunn","Martin (9) Chatterton (69 pen) & (80)",null,null,2,2,"League Cup","1983-08-29","Northampton","(H)","W 3-0","Sansome","Lovell","Stride (77)","Robinson","Nutton","Cusack","Bremner","Lowndes","Martin ¹","Otulakowski","Chatterton  ²","D Neal (77)",null,null,null,null,"Plymouth","(H)","W 1-0","Lovell",null,null,null,null,null,"Apps","Sub","Nps","Apps","Sub","Nps","Apps","Sub","Nps","Apps","Sub","Nps",null,null,null,null,"Player","Apps","Sub","Nps","Goals",null,"Apps","Sub","Nps","Goals",null,"Apps","Sub","Nps","Goals",null,"Apps","Sub","Nps","Goals",null,"Apps","Sub","Nps","Goals",null,null,null,null,null,null,null,null,null,null,null,null,null,null,null,null,null,null,null,null,null,null,null,null,null,null,null,null,null,null,null,null,null,null,null,null,null,null,null,null,null,null,null,null,null,null,null,null,null,{"$f":"EO63&\" \"&EP63&\" \"&EQ63","v":"Plymouth (H) W 1-0"},{"$f":"ER63","v":4},9]
[null,null,3,"Division 3 ","1983-09-03","10th v 13th","Plymouth","(H)","W 1-0","0-0",4611,4,9,"W 1-0","0-0",4611,4,9,"B Hill","Lovell (85)",null,null,3,3,"Division 3 ","1983-09-03","Plymouth","(H)","W 1-0","Sansome","Lovell ¹","Stride","Robinson","Nutton","Cusack","Bremner","Lowndes","Martin (--)","Otulakowski","Chatterton","D Neal ()",null,null,null,null,"Port Vale","(H)","W 3-2","Chatterton","Chatterton","Bremner",null,null,null,41,1,null,2,0,null,4,0,null,3,1,null,null,null,null,null,"Kevin Bremner",{"$f":"BY7+CD7+CI7+CN7","v":50},{"$f":"BZ7+CE7+CJ7+CO7","v":2},{"$f":"CA7+CF7+CK7+CP7","v":0},{"$f":"CB7+CG7+CL7+CQ7","v":16},null,41,1,0,15,null,2,0,0,0,null,4,0,0,0,null,3,1,0,1,null,null,50,2,0,null,{"$f":"IF(BT7=CT7,\"OK\",\"Error\")","v":"OK"},{"$f":"IF(BU7=CU7,\"OK\",\"Error\")","v":"OK"},{"$f":"IF(BV7=CV7,\"OK\",\"Error\")","v":"OK"},null,null,null,null,null,null,null,null,null,null,null,null,null,null,null,null,null,null,null,null,null,null,null,null,null,null,null,null,null,null,null,null,null,null,null,null,null,null,null,null,"Port Vale (H) W 3-2",{"$f":"ER64","v":7},4]
[null,null,4,"Division 3 ","1983-09-06","9th v 17th","Port Vale","(H)","W 3-2","1-0",4918,7,4,"W 3-2","1-0",4918,7,4,"J Borrett","Chatterton (15) & (86) Bremner (68) / Steele (--) & (89)",null,null,4,4,"Division 3 ","1983-09-06","Port Vale","(H)","W 3-2","Sansome","Lovell","Stride","Robinson","Nutton","Cusack","Bremner ¹","Lowndes","D Neal","Otulakowski","Chatterton ²","Martin",null,null,null,null,"Hull City","(A)","L 0-5",null,null,null,null,null,null,7,0,null,0,0,null,0,0,null,0,0,null,null,null,null,null,"Steve Burke",{"$f":"BY8+CD8+CI8+CN8","v":7},0,0,1,null,7,0,0,1,null,0,0,0,0,null,0,0,0,0,null,0,0,0,0,null,null,7,0,0,null,{"$f":"IF(BT8=CT8,\"OK\",\"Error\")","v":"OK"},{"$f":"IF(BU8=CU8,\"OK\",\"Error\")","v":"OK"},{"$f":"IF(BV8=CV8,\"OK\",\"Error\")","v":"OK"},null,null,null,null,null,null,null,null,null,null,null,null,null,null,null,null,null,null,null,null,null,null,null,null,null,null,null,null,null,null,null,null,null,null,null,null,null,null,null,null,"Hull City (A) L 0-5",{"$f":"ER65","v":7},10]
[null,null,5,"Division 3 ","1983-09-10","7th v 5th","Hull City","(A)","L 0-5","0-3",7338,7,10,"L 0-5","0-3",7338,7,10,"R Dilkes","Roberts (12) Murtie (30) & (--)  McNeil (40) Marwood (77 pen)",null,null,5,5,"Division 3 ","1983-09-10","Hull City","(A)","L 0-5","Wells","Lovell","Stride","Robinson (73)","Nutton","Cusack","Bremner","Lowndes","D Neal","Otulakowski","Chatterton","Martin (73)",null,null,null,null,"Bournemouth","(H)","W 3-1","Otulakowski","Otulakowski","Chatterton",null,null,null,26,1,null,2,0,null,4,0,null,2,0,null,null,null,null,null,"Nicky Chatterton",34,1,2,8,null,26,1,2,6,null,2,0,0,0,null,4,0,0,2,null,2,0,0,0,null,null,34,1,2,null,"OK","OK","OK",null,null,null,null,null,null,null,null,null,null,null,null,null,null,null,null,null,null,null,null,null,null,null,null,null,null,null,null,null,null,null,null,null,null,null,null,null,null,null,null,"Bournemouth (H) W 3-1",{"$f":"ER66","v":10},7]
[null,null,6,"League Cup","1983-09-14","- -","Northampton","(A)","W 2-1","1-0",2313,"-","-","W 2-1","1-0",2313,"-","-","G Heath","Otulakowski (43) D Neal (83) / Gage (61)",null,null,6,6,"League Cup","1983-09-14","Northampton","(A)","W 2-1","Sansome","Lovell","Stride","White","Nutton","Cusack","Bremner","Lowndes","D Neal ¹","Otulakowski ¹","Chatterton","Robinson",null,null,null,null,"Southend","(A)","L 2-3","Otulakowski","Chatterton",null,null,null,null,0,0,null,0,0,null,0,0,null,1,0,null,null,null,null,null,"Nicky Coleman",1,0,0,0,null,0,0,0,0,null,0,0,0,0,null,0,0,0,0,null,1,0,0,0,null,null,1,0,0,null,"OK","OK","OK",null,null,null,null,null,null,null,null,null,null,null,null,null,null,null,null,null,null,null,null,null,null,null,null,null,null,null,null,null,null,null,null,null,null,null,null,null,null,null,null,"Southend (A) L 2-3",{"$f":"ER67","v":10},7]
[null,null,7,"Division 3 ","1983-09-17","11th v 24th","Bournemouth","(H)","W 3-1","1-1",4772,10,7,"W 3-1","1-1",4774,10,7,"D Hedges","Otulakowski (42) & (47) Chatterton (85 pen) / Graham (22)",null,null,7,7,"Division 3 ","1983-09-17","Bournemouth","(H)","W 3-1","Sansome","Lovell","Stride","Whiten","Nutton","Cusack","Bremnern","Lowndes","D Neal","Otulakowski ²","Chatterton ¹","Martin",null,null,null,null,"Oxford","(A)","L 2-4","Lowndes","Stride",null,null,null,null,2,1,null,0,0,null,0,0,null,0,0,null,null,null,null,null,"Carl Cowley",3,1,1,0,null,2,1,1,0,null,0,0,0,0,null,0,0,0,0,null,1,0,0,0,null,null,3,1,1,null,"OK","OK","OK",null,null,null,null,null,null,null,null,null,null,null,null,null,null,null,null,null,null,null,null,null,null,null,null,null,null,null,null,null,null,null,null,null,null,null,null,null,null,null,null,"Oxford (A) L 2-4",{"$f":"ER68","v":10},9]
[null,null,8,"Division 3 ","1983-09-19","7th v 20th","Southend","(A)","L 2-3","1-1",4243,10,7,"L 2-3","1-1",4243,10,7,"D Letts","Otulakowski (44) Chatterton (55 pen) / Kellock (35) McDonough (46) Phillips (53)",null,null,8,8,"Division 3 ","1983-09-19","Southend","(A)","L 2-3","Sansome","Lovelln","Stride","White","Nutton","Cusackn","Bremner","Lowndes (86)n","D Neal","Otulakowski ¹n","Chatterton ¹","Martin (86)",null,null,null,null,"Sheff Utd","(H)","L 1-2","Otulakowski",null,null,null,null,null,39,0,null,2,0,null,4,0,null,5,0,null,null,null,null,null,"Dave Cusack",49,0,0,1,null,39,0,0,0,null,2,0,0,1,null,4,0,0,0,null,4,0,0,0,null,null,49,0,0,null,"OK","OK","OK",null,null,null,null,null,null,null,null,null,null,null,null,null,null,null,null,null,null,null,null,null,null,null,null,null,null,null,null,null,null,null,null,null,null,null,null,null,null,null,null,"Sheff Utd (H) L 1-2",{"$f":"ER69","v":10},15]
[null,null,9,"Division 3 ","1983-09-24","8th v 4th","Oxford","(A)","L 2-4","1-2",5543,10,9,"L 2-4","1-2",5543,10,9,null,"Lowndes (26) Stride (72) / Lawrence (23) & (81) Barnett (44) Jones (90)",null,null,9,9,"Division 3 ","1983-09-24","Oxford","(A)","L 2-4","Sansome","Lovell","Stride ¹","White","Nutton","Cusack","Bremner","Lowndes ¹","D Neal","Otulakowski","Chatterton","Robinson",null,null,null,null,"Burnley","(H)","W 2-0","Stride","D Neal",null,null,null,null,46,0,null,2,0,null,4,0,null,5,0,null,null,null,null,null,"Steve Lovell",57,0,0,10,null,46,0,0,7,null,2,0,0,1,null,4,0,0,0,null,5,0,0,2,null,null,57,0,0,null,"OK","OK","OK",null,null,null,null,null,null,null,null,null,null,null,null,null,null,null,null,null,null,null,null,null,null,null,null,null,null,null,null,null,null,null,null,null,null,null,null,null,null,null,null,"Burnley (H) W 2-0",{"$f":"ER70","v":13},9]
[null,null,10,"Division 3 ","1983-10-01","12th v 4th","Sheff Utd","(H)","L 1-2","1-1",5601,10,15,"L 1-2","1-1",5601,10,15,"R Milford","Otulakowski (4) / Edwards (21) Morris (53 pen)",null,null,10,10,"Division 3 ","1983-10-01","Sheff Utd","(H)","L 1-2","Wells","Lovell","Robinson","Whiten","Nutton","Cusack","Lowndes","D Neal","Martin (77)","Otulakowski ¹","Chatterton","Bremner (77)",null,null,null,null,"Lincoln","(A)","D 2-2","Bremner","D Neal",null,null,null,null,20,0,null,1,0,null,4,0,null,0,0,null,null,null,null,null,"Steve Lowndes",25,0,0,4,null,20,0,0,3,null,1,0,0,0,null,4,0,0,1,null,0,0,0,0,null,null,25,0,0,null,"OK","OK","OK",null,null,null,null,null,null,null,null,null,null,null,null,null,null,null,null,null,null,null,null,null,null,null,null,null,null,null,null,null,null,null,null,null,null,null,null,null,null,null,null,"Lincoln (A) D 2-2",{"$f":"ER71","v":14},11]
[null,null,11,"League Cup","1983-10-04","- -","West Brom","(H)","W 3-0","2-0",10721,"-","-","W 3-0","2-0",10721,"-","-","M James","D Neal (3) & (6) Lowndes (79)",null,null,11,11,"League Cup","1983-10-04","West Brom","(H)","W 3-0","Wells","Lovell","Robinson","White","Nutton (60)","Cusack","Bremner","Lowndes ¹","D Neal ²","Otulakowski","Chatterton","Martin (60)",null,null,null,null,"Rotherham","(A)","L 0-1",null,null,null,null,null,null,26,5,null,2,0,null,1,2,null,4,0,null,null,null,null,null,"Dave Martin",33,7,2,7,null,26,5,2,3,null,2,0,0,1,null,1,2,0,2,null,4,0,0,1,null,null,33,7,2,null,"OK","OK","OK",null,null,null,null,null,null,null,null,null,null,null,null,null,null,null,null,null,null,null,null,null,null,null,null,null,null,null,null,null,null,null,null,null,null,null,null,null,null,null,null,"Rotherham (A) L 0-1",{"$f":"ER72","v":14},14]
[null,null,12,"Division 3 ","1983-10-09","17th v 10th","Burnley","(H)","W 2-0","1-0",6709,13,9,"W 2-0","1-0",6709,13,9,"K Barratt","Stride (28) D Neal (63)",null,null,12,12,"Division 3 ","1983-10-09","Burnley","(H)","W 2-0","Wells","Lovell","Stride ¹n","White","Martinn","Cusack","Lowndes","D Neal ¹","Bremner","Robinson","Chatterton","McLeary",null,null,null,null,"Preston","(H)","W 1-0","D Neal",null,null,null,null,null,8,5,null,2,0,null,0,0,null,0,0,null,null,null,null,null,"Andy Massey",10,5,0,2,null,8,5,0,1,null,2,0,0,1,null,0,0,0,0,null,0,0,0,0,null,null,10,5,0,null,"OK","OK","OK",null,null,null,null,null,null,null,null,null,null,null,null,null,null,null,null,null,null,null,null,null,null,null,null,null,null,null,null,null,null,null,null,null,null,null,null,null,null,null,null,"Preston (H) W 1-0",{"$f":"ER73","v":17},10]
[null,null,13,"Division 3 ","1983-10-15","9th v 12th","Lincoln","(A)","D 2-2","2-1",3190,14,11,"D 2-2","2-1",3190,14,11,"N Wilson","Bremner (14) D Neal (38) / Turner (12) Thompson (90)",null,null,13,13,"Division 3 ","1983-10-15","Lincoln","(A)","D 2-2","Wells","Lovell","Striden","White","Martinn","Cusackn","Lowndes","D Neal ¹","Bremner ¹","Robinson (81)","Chatterton","McLeary (81)",null,null,null,null,"Gillingham","(A)","D 3-3","Burke","Own Goal","Chatterton",null,null,null,24,6,null,2,0,null,0,0,null,5,0,null,null,null,null,null,"Alan McLeary",31,6,4,0,null,24,6,4,0,null,2,0,0,0,null,0,0,0,0,null,5,0,0,0,null,null,31,6,4,null,"OK","OK","OK",null,null,null,null,null,null,null,null,null,null,null,null,null,null,null,null,null,null,null,null,null,null,null,null,null,null,null,null,null,null,null,null,null,null,null,null,null,null,null,null,"Gillingham (A) D 3-3",{"$f":"ER74","v":18},15]
[null,null,14,"Division 3 ","1983-10-18","11th v 12th","Rotherham","(A)","L 0-1","0-1",3461,14,14,"L 0-1","0-1",3461,14,14,"K Walmsley","Stone (33)",null,null,14,14,"Division 3 ","1983-10-18","Rotherham","(A)","L 0-1","Wells","Lovell","Stride","Whiten","Martin","Cusack","Lowndes","D Nealn","Bremner","Robinson (69)n","Chatterton","McLeary (69)",null,null,null,null,"Newport C","(H)","D 1-1","Bremner",null,null,null,null,null,29,5,null,1,1,null,3,1,null,4,0,null,null,null,null,null,"Dean Neal",37,7,1,19,null,29,5,1,13,null,1,1,0,0,null,3,1,0,3,null,4,0,0,3,null,null,37,7,1,null,"OK","OK","OK",null,null,null,null,null,null,null,null,null,null,null,null,null,null,null,null,null,null,null,null,null,null,null,null,null,null,null,null,null,null,null,null,null,null,null,null,null,null,null,null,{"$f":"EO75&\" \"&EP75&\" \"&EQ75","v":"Newport C (H) D 1-1"},{"$f":"ER75","v":19},13]
[null,null,15,"Division 3 ","1983-10-21","14th v 19th","Preston","(H)","W 1-0","1-0",5243,17,14,"W 1-0","1-0",5243,17,10,"H King","D Neal (5)",null,null,15,15,"Division 3 ","1983-10-21","Preston","(H)","W 1-0","Wells","Lovell","Stride","White","Nutton","Cusack","Lowndes","D Neal (--)¹","Bremner","Burke","Chatterton","Martin (--)",null,null,null,null,"Wigan","(H)","W 2-0","Nutton","Martin",null,null,null,null,3,3,null,0,0,null,0,0,null,2,0,null,null,null,null,null,"John Neal",5,3,1,1,null,3,3,1,1,null,0,0,0,0,null,0,0,0,0,null,2,0,0,0,null,null,5,3,1,null,"OK","OK","OK",null,null,null,null,null,null,null,null,null,null,null,null,null,null,null,null,null,null,null,null,null,null,null,null,null,null,null,null,null,null,null,null,null,null,null,null,null,null,null,null,"Wigan (H) W 2-0",{"$f":"ER76","v":22},12]
[null,null,16,"League Cup","1983-10-25","- -","West Brom","(H)","L 1-5","0-1",13311,"-","-","L 1-5","0-1",13311,"-","-","B Stevens","Martin (90) / Thompson (43) & (70) Regis (49) & (77) Owen (54 pen)",null,null,16,16,"League Cup","1983-10-25","West Brom","(H)","L 1-5","Wells","Lovell","Stride","Whiten","Nutton","Cusackn","Bremner","Lowndesn","D Neal","Robinson (--)","Chatterton","Martin (--) ¹",null,null,null,null,"Bradford","(A)","D 3-3","Chatterton","Bremner","Bremner",null,null,null,43,0,null,2,0,null,4,0,null,3,0,null,null,null,null,null,"Micky Nutton",52,0,0,3,null,43,0,0,3,null,2,0,0,0,null,4,0,0,0,null,3,0,0,0,null,null,52,0,0,null,"OK","OK","OK",null,null,null,null,null,null,null,null,null,null,null,null,null,null,null,null,null,null,null,null,null,null,null,null,null,null,null,null,null,null,null,null,null,null,null,null,null,null,null,null,"Bradford (A) D 3-3",{"$f":"ER77","v":23},12]
[null,null,17,"Division 3 ","1983-10-29","12th v 8th","Gillingham","(A)","D 3-3","1-2",6226,18,15,"D 3-3","1-2",6226,18,15,"M Bodenham","Burke (35) Bruce o.g. (65) Chatterton (79) / Leslie (11) Sage (12) Mehmet (80)",null,null,17,17,"Division 3 ","1983-10-29","Gillingham","(A)","D 3-3","Wells","Lovell","Robinson","White","Nuttonn","Cusack","Lowndes","Martinn","Bremnern","Burke ¹","Chatterton ¹","McLeary",null,null,null,null,"Scunthorpe","(H)","W 2-1","Bremner","D Neal",null,null,null,null,33,0,null,0,0,null,3,0,null,3,0,null,null,null,null,null,"Anton Otulakowski",39,0,0,9,null,33,0,0,7,null,0,0,0,0,null,3,0,0,1,null,3,0,0,1,null,null,39,0,0,null,"OK","OK","OK",null,null,null,null,null,null,null,null,null,null,null,null,null,null,null,null,null,null,null,null,null,null,null,null,null,null,null,null,null,null,null,null,null,null,null,null,null,null,null,null,"Scunthorpe (H) W 2-1",{"$f":"ER78","v":26},13]
[null,null,18,"Division 3 ","1983-11-01","16th v 5th","Newport C","(H)","D 1-1","1-0",4352,19,13,"D 1-1","1-0",4352,19,13,"H Taylor","Bremner (26) / Aldridge (70)",null,null,18,18,"Division 3 ","1983-11-01","Newport C","(H)","D 1-1","Wells","Lovell","Robinson","White","Nutton","Cusack","Lowndesn (57)","Martin","Bremner ¹","Burke","Chatterton","McLeary",null,null,null,null,"Walsall","(A)","D 1-1","Lovell",null,null,null,null,null,32,1,null,2,0,null,3,0,null,3,2,null,null,null,null,null,"Paul Robinson",40,3,3,2,null,32,1,2,2,null,2,0,0,0,null,3,0,1,0,null,3,2,0,0,null,null,40,3,3,null,"OK","OK","OK",null,null,null,null,null,null,null,null,null,null,null,null,null,null,null,null,null,null,null,null,null,null,null,null,null,null,null,null,null,null,null,null,null,null,null,null,null,null,null,null,"Walsall (A) D 1-1",{"$f":"ER79","v":27},12]
[null,null,19,"Division 3 ","1983-11-05","14th v 16th","Wigan","(H)","W 2-0","1-0",3850,22,12,"W 2-0","1-0",3850,22,12,"D Axcell","Nutton (12) Martin (84)",null,null,19,19,"Division 3 ","1983-11-05","Wigan","(H)","W 2-0","Wells","Lovell","Stride","White","Nutton ¹","Cusack","Lowndes","Martin ¹","Bremner","Burke","Chatterton","McLeary",null,null,null,null,"Exeter","(A)","L 2-3","Sparrow","D Neal",null,null,null,null,31,0,null,0,0,null,1,0,null,5,0,null,null,null,null,null,"Paul Sansome",38,0,0,0,null,31,0,0,0,null,0,0,0,0,null,2,0,0,0,null,5,0,0,0,null,null,38,0,0,null,"OK","OK","OK",null,null,null,null,null,null,null,null,null,null,null,null,null,null,null,null,null,null,null,null,null,null,null,null,null,null,null,null,null,null,null,null,null,null,null,null,null,null,null,null,"Exeter (A) L 2-3",{"$f":"ER80","v":27},13]
[null,null,20,"Division 3 ","1983-11-12","12th v 23rd","Bradford","(A)","D 3-3","1-0",3548,23,12,"D 3-3","1-0",3548,23,12,"J Ashworth","Chatterton (6) Bremner (51) & (58) / McCall (59) Haire (68) Hawley (81)",null,null,20,20,"Division 3 ","1983-11-12","Bradford","(A)","D 3-3","Wells","Lovell","Stride (72)","White","Nutton","Cusack","Lowndes","Martinn","Bremner ²","Burke","Chatterton ¹","Massey (72)",null,null,null,null,"Leyton Orient","(H)","W 4-3","Sparrow","Bremner","Lovell","Lowndes",null,null,4,3,null,0,0,null,0,0,null,1,2,null,null,null,null,null,"Teddy Sheringham",5,5,2,2,null,4,3,1,1,null,0,0,1,0,null,0,0,0,0,null,1,2,0,1,null,null,5,5,2,null,"OK","OK","OK",null,null,null,null,null,null,null,null,null,null,null,null,null,null,null,null,null,null,null,null,null,null,null,null,null,null,null,null,null,null,null,null,null,null,null,null,null,null,null,null,"Leyton Orient (H) W 4-3",{"$f":"ER81","v":30},13]
[null,null,21,"FA Cup","1983-11-19","- -","Dartford","(H)","W 2-1","1-0",4933,"-","-","W 2-1","1-0",4931,"-","-","B Scales","Massey (9) Cusack (69) / Simmonds (63 pen)",null,null,21,21,"FA Cup 1","1983-11-19","Dartford","(H)","W 2-1","Wells","Lovell","Robinson","McLeary","Nutton","Cusack ¹","Massey ¹","Martin","Bremner","D Neal","Chatterton","Sheringham",null,null,null,null,"Wimbledon","(A)","L 3-4","Otulakowski","Bremner","Own Goal",null,null,null,5,0,null,0,0,null,0,0,null,0,0,null,null,null,null,null,"Brian Sparrow",5,0,0,2,null,5,0,0,2,null,0,0,0,0,null,0,0,0,0,null,0,0,0,0,null,null,5,0,0,null,"OK","OK","OK",null,null,null,null,null,null,null,null,null,null,null,null,null,null,null,null,null,null,null,null,null,null,null,null,null,null,null,null,null,null,null,null,null,null,null,null,null,null,null,null,"Wimbledon (A) L 3-4",{"$f":"ER82","v":30},13]
[null,null,22,"Division 3 ","1983-11-26","12th v 18th","Scunthorpe","(H)","W 2-1","1-0",3776,26,13,"W 2-1","1-0",3776,26,13,"E Read","Bremner (30) Neal (80) / Cammack (69)",null,null,22,22,"Division 3 ","1983-11-26","Scunthorpe","(H)","W 2-1","Wells","Lovell","Robinsonn","McLeary","Nutton","Cusack","Burken","Martin","Bremner ¹n","D Neal ¹ (82)","Chatterton","Massey (82)",null,null,null,null,"Bristol R","(H)","W 1-0","Otulakowski",null,null,null,null,null,17,0,null,0,0,null,0,0,null,5,0,null,null,null,null,null,"Keith Stevens",22,0,1,0,null,17,0,1,0,null,0,0,0,0,null,0,0,0,0,null,5,0,0,0,null,null,22,0,1,null,"OK","OK","OK",null,null,null,null,null,null,null,null,null,null,null,null,null,null,null,null,null,null,null,null,null,null,null,null,null,null,null,null,null,null,null,null,null,null,null,null,null,null,null,null,"Bristol R (H) W 1-0",{"$f":"ER83","v":33},12]
[null,null,23,"Division 3 ","1983-12-03","13th v 5th","Walsall","(A)","D 1-1","0-1",5329,27,12,"D 1-1","0-1",5329,27,12,"K Cooper","Lovell (72) / O'Kelly (22)",null,null,23,23,"Division 3 ","1983-12-03","Walsall","(A)","D 1-1","Wells","Lovell ¹","Robinson","McLeary","Nuttonn","Cusack","Burke","Martinn","Bremner","Masseynnn (84)","Chatterton","D Neal",null,null,null,null,"Bolton","(A)","L 0-2",null,null,null,null,null,null,28,0,null,0,0,null,3,0,null,2,0,null,null,null,null,null,"David Stride",33,0,0,3,null,28,0,0,2,null,0,0,0,0,null,3,0,0,0,null,2,0,0,1,null,null,33,0,0,null,"OK","OK","OK",null,null,null,null,null,null,null,null,null,null,null,null,null,null,null,null,null,null,null,null,null,null,null,null,null,null,null,null,null,null,null,null,null,null,null,null,null,null,null,null,"Bolton (A) L 0-2",{"$f":"ER84","v":33},13]
[null,null,24,"FA Cup","1983-11-19","- -","Swindon","(H)","L 2-3","1-1",4597,"-","-","L 2-3","1-1",4597,"-","-","A Robinson","Lovell (22 pen) Martin (62) / Emmanuel (24) Batty (65) Quinn (73)",null,null,24,24,"FA Cup 2","1983-11-19","Swindon","(H)","L 2-3","Wells","Lovell ¹","Robinson","McLeary (71)","Nutton","Cusack","Lowndes","Martin ¹","Bremnern","Massey","Chatterton","D Neal (71)",null,null,null,null,"Brentford","(H)","L 1-2","Lovell",null,null,null,null,null,15,0,null,2,0,null,3,0,null,0,0,null,null,null,null,null,"Peter Wells",19,0,0,0,null,15,0,0,0,null,2,0,0,0,null,2,0,0,0,null,0,0,0,0,null,null,19,0,0,null,"OK","OK","OK",null,null,null,null,null,null,null,null,null,null,null,null,null,null,null,null,null,null,null,null,null,null,null,null,null,null,null,null,null,null,null,null,null,null,null,null,null,null,null,null,"Brentford (H) L 1-2",{"$f":"ER85","v":33},14]
[null,null,25,"Division 3 ","1983-12-17","12th v 20th","Exeter","(A)","L 2-3","0-2",2854,27,13,"L 2-3","0-2",2854,27,13,"T Spencer","Sparrow (59) D Neal (83) / Pratt (9) & (69) Neville (26)",null,null,25,25,"Division 3 ","1983-12-17","Exeter","(A)","L 2-3","Wells","Lovell","Sparrow ¹","Robinson (--)","Nutton","Cusackn","Lowndes","D Neal ¹","Bremnern","White","Chatterton","Martin (--)",null,null,null,null,"Bournemouth","(A)","D 1-1","Sheringham",null,null,null,null,null,27,0,null,0,0,null,3,0,null,2,1,null,null,null,null,null,"Dean White",32,1,0,1,null,27,0,0,0,null,0,0,0,0,null,3,0,0,0,null,2,1,0,1,null,null,32,1,0,null,"OK","OK","OK",null,null,null,null,null,null,null,null,null,null,null,null,null,null,null,null,null,null,null,null,null,null,null,null,null,null,null,null,null,null,null,null,null,null,null,null,null,null,null,null,"Bournemouth (A) D 1-1",{"$f":"ER86","v":34},13]
[null,null,26,"Division 3 ","1983-12-26","13th v 5th","Leyton Orient","(H)","W 4-3","1-2",5161,30,13,"W 4-3","1-2",5161,30,13,null,"Sparrow (17) Bremner (--) Lovell (-- pen) Lowndes (--) / Sussex (13) Kitchen (16) Godfrey (--)",null,null,26,26,"Division 3 ","1983-12-26","Leton Orient","(H)","W 4-3","Wells","Lovell ¹n","Sparrow ¹","Martin","Nutton","Cusack","Lowndes ¹","D Neal (--)n","Bremner ¹","Otulakowskin","White","McLeary (--)",null,null,null,null,"Hull City","(H)","W 1-0","Bremner",null,null,null,null,null,null,null,null,null,null,null,null,null,null,null,null,null,null,null,null,null,null,null,null,null,null,null,null,null,null,null,null,null,null,null,null,null,null,null,null,null,null,null,null,null,null,null,null,null,null,null,null,null,null,null,null,null,null,null,null,null,null,null,null,null,null,null,null,null,null,null,null,null,null,null,null,null,null,null,null,null,null,null,null,null,null,null,null,null,null,null,null,null,null,null,"Hull City (H) W 1-0",{"$f":"ER87","v":37},10]
[null,null,27,"Division 3 ","1983-12-27","13th v 8th","Wimbledon","(A)","L 3-4","1-2",5667,30,13,"L 3-4","1-2",5613,30,13,"J Martin","Otulakowski (32) Bremner (--) Downes o.g. (90) / Smith (28) Cork (29) Evans (75) Hodges (87)",null,null,27,27,"Division 3 ","1983-12-27","Wimbledon","(A)","L 3-4","Wells","Lovell","Sparrow","McLeary","Nutton","Cusack","Chatterton","Martin (--)","Bremner ¹","Otulakowski ¹","White","Massey (--)",null,null,null,null,"Sheff Utd","(A)","L 0-2",null,null,null,null,null,null,null,null,null,null,null,null,null,null,null,null,null,null,null,null,null,null,"Own Goals",null,null,null,{"$f":"CB31+CG31+CL31+CQ31","v":4},null,"-","-","-",4,null,"-","-","-",0,null,"-","-","-",0,null,"-","-","-",0,null,null,null,null,null,null,null,null,null,null,null,null,null,null,null,null,null,null,null,null,null,null,null,null,null,null,null,null,null,null,null,null,null,null,null,null,null,null,null,null,null,null,null,null,null,null,null,null,null,"Sheff Utd (A) L 0-2",{"$f":"ER88","v":37},13]
[null,null,28,"Division 3 ","1983-12-30","13th v 5th","Bristol R","(H)","W 1-0","0-0",4885,33,12,"W 1-0","1-0",4885,33,12,"J Hunting","Otulakowski (24)",null,null,28,28,"Division 3 ","1983-12-30","Bristol R","(H)","W 1-0","Sansome","Lovell","Sparrow","McLeary","Nutton","Cusack","Lowndes","Martin","Bremner","Otulakowski (35) ¹","White","Chatterton (35)",null,null,null,null,"Oxford","(H)","W 2-1","Robinson","Massey",null,null,null,null,null,null,null,null,null,null,null,null,null,null,null,null,null,null,null,null,null,null,null,null,null,null,null,null,null,null,null,null,null,null,null,null,null,null,null,null,null,null,null,null,null,null,null,null,null,null,null,null,null,null,null,null,null,null,null,null,null,null,null,null,null,null,null,null,null,null,null,null,null,null,null,null,null,null,null,null,null,null,null,null,null,null,null,null,null,null,null,null,null,null,"Oxford (H) W 2-1",{"$f":"ER89","v":40},11]
[null,null,29,"Division 3 ","1984-01-02","12th v 9th","Bolton","(A)","L 0-2","0-1",7054,33,13,"L 0-2","0-1",7054,33,13,"M Peck","Rudge (22) Joyce (65)",null,null,29,29,"Division 3 ","1984-01-02","Bolton","(A)","L 0-2","Sansome","Lovell","Robinson","Martin","Nutton","McLeary","Lowndes (25)","Massey","Bremner","Otulakowski","Chatterton","Cowley (25)",null,null,null,null,"Newport C","(A)","D 1-1","Martin",null,null,null,null,null,null,null,null,null,null,null,null,null,null,null,null,null,null,null,null,null,"Goals",null,null,null,{"$f":"SUM(BW7:BW31)","v":95},null,null,null,null,{"$f":"SUM(CB7:CB31)","v":71},null,null,null,null,{"$f":"SUM(CG7:CG31)","v":4},null,null,null,null,{"$f":"SUM(CL7:CL31)","v":9},null,null,null,null,{"$f":"SUM(CQ7:CQ31)","v":11},null,null,null,null,null,null,null,null,null,null,null,null,null,null,null,null,null,null,null,null,null,null,null,null,null,null,null,null,null,null,null,null,null,null,null,null,null,null,null,null,null,null,null,null,null,null,null,null,null,"Newport C (A) D 1-1",{"$f":"ER90","v":41},12]
[null,null,30,"Division 3 ","1984-01-15","14th v 22nd","Brentford","(H)","L 1-2","0-1",5370,33,14,"L 1-2","1-1",5370,33,14,"A Seville","Lovell (51 pen) / Joseph (2) & (70)",null,null,30,30,"Division 3 ","1984-01-15","Brentford","(H)","L 1-2","Sansome","Lovell ¹n","Sparrow","Robinson","Nutton","McLeary","Stevens","Sheringham","Bremnern","Otulakowski","Chatterton (50)","Massey (50)",null,null,null,null,"Gillingham","(H)","D 2-2","D Neal","Nutton",null,null,null,null,null,null,null,null,null,null,null,null,null,null,null,null,null,null,null,null,null,null,null,null,null,null,null,null,null,null,null,null,null,null,null,null,null,null,null,null,null,null,null,null,null,null,null,null,null,null,null,null,null,null,null,null,null,null,null,null,null,null,null,null,null,null,null,null,null,null,null,null,null,null,null,null,null,null,null,null,null,null,null,null,null,null,null,null,null,null,null,null,null,null,"Gillingham (H) D 2-2",{"$f":"ER91","v":42},13]
[null,null,31,"Division 3 ","1984-01-21","14th v 22nd","Bournemouth","(A)","D 1-1","1-1",4242,34,13,"D 1-1","1-1",4242,34,13,"T Bune","Sheringham (26) / Thompson (3)",null,null,31,31,"Division 3 ","1984-01-21","Bournemouth","(A)","D 1-1","Sansome","Lovell","Stride","McLeary","Nutton","Cusackn","Masseyn","Sheringham ¹","Bremner","Otulakowski","Robinson","Stevens",null,null,null,null,"Preston","(A)","D 0-0",null,null,null,null,null,null,null,null,null,null,null,null,null,null,null,null,null,null,null,null,null,null,null,null,null,null,null,null,null,null,null,null,null,null,null,null,null,null,null,null,null,null,null,null,null,null,null,null,null,null,null,null,null,null,null,null,null,null,null,null,null,null,null,null,null,null,null,null,null,null,null,null,null,null,null,null,null,null,null,null,null,null,null,null,null,null,null,null,null,null,null,null,null,null,null,null,"Preston (A) D 0-0",{"$f":"ER92","v":43},13]
[null,null,32,"Division 3 ","1984-01-28","14th v 4th","Hull City","(H)","W 1-0","1-0",3991,37,10,"W 1-0","1-0",3991,37,10,"M Taylor","Bremner (5)",null,null,32,32,"Division 3 ","1984-01-28","Hull City","(H)","W 1-0","Sansome","Lovell","Stride","McLeary","Nutton","Cusack","Massey","Sheringham (45)","Bremner ¹","Otulakowski","Robinson","Martin (45)",null,null,null,null,"Rotherham","(H)","W 2-0","J Neal","Martin",null,null,null,null,null,null,null,null,null,null,null,null,null,null,null,null,null,null,null,null,null,null,null,null,null,null,null,null,null,null,null,null,null,null,null,null,null,null,null,null,null,null,null,null,null,null,null,null,null,null,null,null,null,null,null,null,null,null,null,null,null,null,null,null,null,null,null,null,null,null,null,null,null,null,null,null,null,null,null,null,null,null,null,null,null,null,null,null,null,null,null,null,null,null,"Rotherham (H) W 2-0",{"$f":"ER93","v":46},12]
[null,null,33,"Division 3 ","1984-02-04","12th v 6th","Sheff Utd","(A)","L 0-2","0-1",9916,37,13,"L 0-2","0-1",9916,37,13,"N Glover","Morris (33) Arnott (88)",null,null,33,33,"Division 3 ","1984-02-04","Sheff Utd","(A)","L 0-2","Sansome","Lovell","Stride","McLeary (70)","Nutton","Cusackn","Massey","Martin","Bremner","Otulakowskin","Robinson","D Neal (70)",null,null,null,null,"Wigan","(A)","D 0-0",null,null,null,null,null,null,null,null,null,null,null,null,null,null,null,null,null,null,null,null,null,null,null,null,null,"Check",null,null,{"$f":"SUM(BY7:BY29)","v":506},{"$f":"SUM(BZ7:CA29)","v":46},null,null,null,{"$f":"SUM(CD7:CD29)","v":22},{"$f":"SUM(CE7:CF29)","v":2},null,null,null,{"$f":"SUM(CI7:CI29)","v":44},{"$f":"SUM(CJ7:CK29)","v":4},null,null,null,{"$f":"SUM(CN7:CN29)","v":55},{"$f":"SUM(CO7:CP29)","v":6},null,null,null,null,null,null,null,null,null,null,null,null,null,null,null,null,null,null,null,null,null,null,null,null,null,null,null,null,null,null,null,null,null,null,null,null,null,null,null,null,null,null,null,null,null,null,null,null,null,null,null,"Wigan (A) D 0-0",{"$f":"ER94","v":47},12]
[null,null,34,"Division 3 ","1984-02-11","14th v 3rd","Oxford","(H)","W 2-1","1-1",4974,40,11,"W 2-1","1-1",4972,40,11,"J Borrett","Robinson (44) Massey (62) / Cusack o.g. (6)",null,null,34,34,"Division 3 ","1984-02-11","Oxford","(H)","W 2-1","Sansome","Lovell","Striden","McLeary","Nutton","Cusack","Massey ¹","Martinn","Bremner (80)","Otulakowskin","Robinson ¹","D Neal (80)",null,null,null,null,"Bradford","(H)","D 0-0",null,null,null,null,null,null,null,null,null,null,null,null,null,null,null,null,null,null,null,null,null,null,null,null,null,null,null,null,null,null,null,null,null,null,null,null,null,null,null,null,null,null,null,null,null,null,null,null,null,null,null,null,null,null,null,null,null,null,null,null,null,null,null,null,null,null,null,null,null,null,null,null,null,null,null,null,null,null,null,null,null,null,null,null,null,null,null,null,null,null,null,null,null,null,null,null,"Bradford (H) D 0-0",{"$f":"ER95","v":48},13]
[null,null,35,"Division 3 ","1984-02-14","11th v 14th","Newport C","(A)","D 1-1","1-0",2070,41,12,"D 1-1","1-0",2070,41,12,"R Bridges","Martin (9) / Aldridge (66)",null,null,35,35,"Division 3 ","1984-02-14","Newport C","(A)","D 1-1","Sansome","Lovell","Stride","McLeary","Nutton","Cusack","Massey (70)","Martin ¹","Bremner","Otulakowski","Robinson","D Neal (70)",null,null,null,null,"Burnley","(A)","L 0-1",null,null,null,null,null,null,null,null,null,null,null,null,null,null,null,null,null,null,null,null,null,null,null,null,null,null,null,null,{"$f":"BY37/11","v":46},{"$f":"BZ37/1","v":46},null,null,null,{"$f":"CD37/11","v":2},{"$f":"CE37/1","v":2},null,null,null,{"$f":"CI37/11","v":4},{"$f":"CJ37/1","v":4},null,null,null,{"$f":"CN37/11","v":5},{"$f":"CO37/1","v":6},null,null,null,null,null,null,null,null,null,null,null,null,null,null,null,null,null,null,null,null,null,null,null,null,null,null,null,null,null,null,null,null,null,null,null,null,null,null,null,null,null,null,null,null,null,null,null,null,null,null,null,"Burnley (A) L 0-1",{"$f":"ER96","v":48},13]
[null,null,36,"Division 3 ","1984-02-19","13th v 12th","Gillingham","(H)","D 2-2","0-1",6344,42,13,"D 2-2","0-1",6344,42,13,"M Dimblebee","D Neal (70) Nutton (91) / Cascarino (31) Cochrane (86)",null,null,36,36,"Division 3 ","1984-02-19","Gillingham","(H)","D 2-2","Sansome","Lovell","Stride","McLeary","Nutton ¹","Cusack","Massey (45)","Martin","Bremner","Otulakowski","Robinson","D Neal (45) ¹",null,null,null,null,"Plymouth","(A)","W 1-0","Nutton",null,null,null,null,null,null,null,null,null,null,null,null,null,null,null,null,null,null,null,null,null,null,null,null,null,null,null,null,null,null,null,null,null,null,null,null,null,null,null,null,null,null,null,null,null,null,null,null,null,null,null,null,null,null,null,null,null,null,null,null,null,null,null,null,null,null,null,null,null,null,null,null,null,null,null,null,null,null,null,null,null,null,null,null,null,null,null,null,null,null,null,null,null,null,null,"Plymouth (A) W 1-0",{"$f":"ER97","v":51},11]
[null,null,37,"Division 3 ","1984-02-25","13th v 16th","Preston","(A)","D 0-0","0-0",4109,43,13,"D 0-0","0-0",4109,43,13,"T Holbrook",null,null,null,37,37,"Division 3 ","1984-02-25","Preston","(A)","D 0-0","Sansome","Stevensn","Stride","Sheringham","Nutton","Cusack¢","Lovell","Martinn","D Neal","Otulakowskin","Robinson","McLeary (--)",null,null,null,null,"Walsall","(H)","W 2-0","Lovell","D Neal",null,null,null,null,null,null,null,null,null,null,null,null,null,null,null,null,null,null,null,null,null,null,null,null,null,null,null,null,null,null,null,null,null,null,null,null,null,null,null,null,null,null,null,null,null,null,null,null,null,null,null,null,null,null,null,null,null,null,null,null,null,null,null,null,null,null,null,null,null,null,null,null,null,null,null,null,null,null,null,null,null,null,null,null,null,null,null,null,null,null,null,null,null,null,"Walsall (H) W 2-0",{"$f":"ER98","v":54},11]
[null,null,38,"AM Cup","1984-02-28","- -","Gillingham","(H)","W 4-3*",null,2364,"-","-","W 4-3 aet    2-2",null,2364,"-","-",null,"D Neal (--) Martin (--) Stride (--) Sheringham (118) / Cascarino (3) & (--) Sparrow (--)",null,null,38,38,"AM Cup","1984-02-28","Gillingham","(H)","W 4-3","Sansome","Stevens","Stride ¹","Lovell","Nutton","Cusack","J Neal [--]","Martin ¹","D Neal ¹","McLeary","Robinson (--)","White (--)",null,"Sheringham [--]¹",null,null,"Southend","(H)","W 4-0","D Neal","D Neal","Bremner","Bremner",null,null,null,null,null,null,null,null,null,null,null,null,null,null,null,null,null,null,null,null,null,null,null,null,null,null,null,null,null,null,null,null,null,null,null,null,null,null,null,null,null,null,null,null,null,null,null,null,null,null,null,null,null,null,null,null,null,null,null,null,null,null,null,null,null,null,null,null,null,null,null,null,null,null,null,null,null,null,null,null,null,null,null,null,null,null,null,null,null,null,null,null,"Southend (H) W 4-0",{"$f":"ER99","v":57},11]
[null,null,null,null,null,null,null,null,"a.e.t. (3-3 90 mins)",null,null,null,null,"(3-3 after 90 mins)",null,null,null,null,null,null,null,null,39,39,"Division 3 ","1984-03-03","Rotherham","(H)","W 2-0","Sansome","Stevens","Stride","Lovell","Nutton","Cusack","J Neal (85) ¹","Martin ¹","D Neal","Otulakowskin","McLeary","Robinson (85)",null,null,null,null,"Leyton Orient","(A)","L 3-5","Own Goal","Lovell","D Neal",null,null,null,null,null,null,null,null,null,null,null,null,null,null,null,null,null,null,null,null,null,null,null,null,null,null,null,null,null,null,null,null,null,null,null,null,null,null,null,null,null,null,null,null,null,null,null,null,null,null,null,null,null,null,null,null,null,null,null,null,null,null,null,null,null,null,null,null,null,null,null,null,null,null,null,null,null,null,null,null,null,null,null,null,null,null,null,null,null,null,null,null,null,"Leyton Orient (A) L 3-5",{"$f":"ER100","v":57},12]
[null,null,39,"Division 3 ","1984-03-03","13th v 20th","Rotherham","(H)","W 2-0","1-0",2985,46,12,"W 2-0","1-0",2985,46,12,"L Shapter","J Neal (22) Martin (70)",null,null,40,40,"Division 3 ","1984-03-06","Wigan","(A)","D 0-0","Sansome","Stevens","Stride","Lovell","Nutton","Cusack","McLeary","Martin (85)","D Neal","Otulakowski","Robinson","J Neal (85)",null,null,null,null,"Wimbledon","(H)","D 1-1","Lovell",null,null,null,null,null,null,null,null,null,null,null,null,null,null,null,null,null,null,null,null,null,null,null,null,null,null,null,null,null,null,null,null,null,null,null,null,null,null,null,null,null,null,null,null,null,null,null,null,null,null,null,null,null,null,null,null,null,null,null,null,null,null,null,null,null,null,null,null,null,null,null,null,null,null,null,null,null,null,null,null,null,null,null,null,null,null,null,null,null,null,null,null,null,null,null,"Wimbledon (H) D 1-1",{"$f":"ER101","v":58},12]
[null,null,40,"Division 3 ","1984-03-06","12th v 15th","Wigan","(A)","D 0-0","0-0",3212,47,12,"D 0-0","0-0",3212,47,12,"C Steel",null,null,null,41,41,"Division 3 ","1984-03-10","Bradford","(H)","D 0-0","Sansome","Stevens","Stride","Lovell","Nutton","Cowley","McLeary","Martin","D Neal","White","J Neal","Robinson",null,null,null,null,"Scunthorpe","(A)","W 1-0","Bremner",null,null,null,null,null,null,null,null,null,null,null,null,null,null,null,null,null,null,null,null,null,null,null,null,null,null,null,null,null,null,null,null,null,null,null,null,null,null,null,null,null,null,null,null,null,null,null,null,null,null,null,null,null,null,null,null,null,null,null,null,null,null,null,null,null,null,null,null,null,null,null,null,null,null,null,null,null,null,null,null,null,null,null,null,null,null,null,null,null,null,null,null,null,null,null,"Scunthorpe (A) W 1-0",{"$f":"ER102","v":61},{"$f":"ES102","v":8}]
[null,null,41,"Division 3 ","1984-03-10","13th v 12th","Bradford","(H)","D 0-0","0-0",3269,48,13,"D 0-0","0-0",3269,48,13,"G Napthine",null,null,null,42,42,"AM Cup","1984-03-13","Bournemouth","(H)","D 2-2*","Sansome","Stevens","Stride","Lovell","Nutton","Cowley","McLeary (64)","Martin [64]","D Neal ¹","White ¹","J Neal","Robinson (64)",null,"Bremner [64]",null,null,"Lincoln","(H)","L 0-2",null,null,null,null,null,null,null,null,null,null,null,null,null,null,null,null,null,null,null,null,null,null,null,null,null,null,null,null,null,null,null,null,null,null,null,null,null,null,null,null,null,null,null,null,null,null,null,null,null,null,null,null,null,null,null,null,null,null,null,null,null,null,null,null,null,null,null,null,null,null,null,null,null,null,null,null,null,null,null,null,null,null,null,null,null,null,null,null,null,null,null,null,null,null,null,null,{"$f":"EO103&\" \"&EP103&\" \"&EQ103","v":"Lincoln (H) L 0-2"},{"$f":"ER103","v":61},{"$f":"ES103","v":10}]
[null,null,42,"AM Cup","1984-03-13","- -","Bournemouth","(H)","D 2-2*","0-0",2099,"-","-","D 2-2 aet   0-0",null,2099,"-","-","M James","White (47) D Neal (108) / Shaw (86) Beck (112)",null,null,43,43,"Division 3 ","1984-03-17","Burnley","(A)","L 0-1","Sansome","Stevens","Stride","Lovell","Nutton","Cowley","McLeary","Martin (78)","D Neal","White","Bremner","Sheringham (78)",null,null,null,null,"Bolton","(H)","W 3-0","D Neal","D Neal","D Neal",null,null,null,null,null,null,null,null,null,null,null,null,null,null,null,null,null,null,null,null,null,null,null,null,null,null,null,null,null,null,null,null,null,null,null,null,null,null,null,null,null,null,null,null,null,null,null,null,null,null,null,null,null,null,null,null,null,null,null,null,null,null,null,null,null,null,null,null,null,null,null,null,null,null,null,null,null,null,null,null,null,null,null,null,null,null,null,null,null,null,null,null,null,"Bolton (H) W 3-0",64,9]
[null,null,null,null,null,null,"(1-1 after 90 mins) (Lost 7-6 on pens Pens Takers: Lovellü, D Nealü, Whiteü, Bremnerü, Strideü, Nuttonü, Stevensû)",null,null,null,null,null,null,null,null,null,null,null,null,null,null,null,44,44,"Division 3 ","1984-03-20","Plymouth","(A)","W 1-0","Sansome","Stevens","Stride","Lovell","Nutton ¹","Cusack","McLeary","Whiten","D Neal","Otulakowski","Bremner","Cowley (25)",null,null,null,null,"Bristol R","(A)","L 2-3","Robinson","Otulakowski",null,null,null,null,null,null,null,null,null,null,null,null,null,null,null,null,null,null,null,null,null,null,null,null,null,null,null,null,null,null,null,null,null,null,null,null,null,null,null,null,null,null,null,null,null,null,null,null,null,null,null,null,null,null,null,null,null,null,null,null,null,null,null,null,null,null,null,null,null,null,null,null,null,null,null,null,null,null,null,null,null,null,null,null,null,null,null,null,null,null,null,null,null,null,"Bristol R (A) L 2-3",64,9]
[null,null,null,null,null,null,"Millwall progress as one of four highest scoring losers",null,null,null,null,null,null,null,null,null,null,null,null,null,null,null,45,45,"AM Cup","1984-03-27","Swindon","(H)","W 3-1","Sansome","Stevens","N Coleman","Lovell ¹","Nutton","Cusack","McLeary [75]","Bremner (75) ¹ ","D Neal","Otulakowski ¹","White","Sheringham (75)",null,"Robinson [75]",null,null,"Exeter","(H)","W 3-0","Bremner","Bremner","Bremner",null,null,null,null,null,null,null,null,null,null,null,null,null,null,null,null,null,null,null,null,null,null,null,null,null,null,null,null,null,null,null,null,null,null,null,null,null,null,null,null,null,null,null,null,null,null,null,null,null,null,null,null,null,null,null,null,null,null,null,null,null,null,null,null,null,null,null,null,null,null,null,null,null,null,null,null,null,null,null,null,null,null,null,null,null,null,null,null,null,null,null,null,null,"Exeter (H) W 3-0",67,9]
[null,null,43,"Division 3 ","1984-03-17","13th v 10th","Burnley","(A)","L 0-1","0-1",5061,48,13,"L 0-1","0-1",5061,48,13,"J Key","Biggins (33)",null,null,46,46,"Division 3 ","1984-04-14","Walsall","(H)","W 2-0","Sansome","Stevens","Striden","Lovell ¹","Nutton","Cusack (45)","McLeary","Bremner","D Neal ¹","Otulakowski","J Neal","Sheringham (45)",null,null,null,null,"Port Vale","(A)","L 0-1",null,null,null,null,null,null,null,null,null,null,null,null,null,null,null,null,null,null,null,null,null,null,null,null,null,null,null,null,null,null,null,null,null,null,null,null,null,null,null,null,null,null,null,null,null,null,null,null,null,null,null,null,null,null,null,null,null,null,null,null,null,null,null,null,null,null,null,null,null,null,null,null,null,null,null,null,null,null,null,null,null,null,null,null,null,null,null,null,null,null,null,null,null,null,null,null,"Port Vale (A) L 0-1",67,9]
[null,null,44,"Division 3 ","1984-03-20","13th v 17th","Plymouth","(A)","W 1-0","0-0",4507,51,11,"W 1-0","0-0",4507,51,11,"J Bray","Nutton (66)",null,null,47,47,"Division 3 ","1984-04-18","Southend","(H)","W 4-0","Sansome","Stevens","Stride","Lovell","Nutton","Cusack","McLeary (85)","Bremner ²","D Neal ²","Otulakowski","Robinson","J Neal (85)"]
[null,null,45,"AM Cup","1984-03-27","-","Swindon","(H)","W 3-1","1-0",2122,null,null,"W 3-1","1-0",2112,"-","-","K Barrett","Otulakowski (31) Lovell (50 pen) Bremner (73) / Nelson (60)",null,null,48,48,"Division 3 ","1984-04-21","Leton Orient","(A)","L 3-5","Sansome","Stevens","Stride (26)","Lovell ¹","Nutton","Cusack","White","Bremner","D Neal ¹","Otulakowski","Robinson","J Neal (26)",null,null,null,null,"Dartford","(H)","W 2-1","Massey","Cusack"]
[null,null,46,"Division 3 ","1984-04-14","13th v 5th","Walsall","(H)","W 2-0","0-0",3458,54,11,"W 2-0","0-0",3458,54,11,"D Letts","Lovell (75 pen) D Neal (84)",null,null,49,49,"Division 3 ","1984-04-23","Wimbledon","(H)","D 1-1","Sansome","Stevens","Robinson (79)","Lovell ¹","Nutton","Martin","McLeary","Bremner","D Neal","Otulakowski","White","Sheringham (79)",null,null,null,null,"Swindon","(H)","L 2-3","Lovell","Martin"]
[null,null,47,"Division 3 ","1984-04-18","11th v 23rd","Southend","(H)","W 4-0","1-0",3345,57,11,"W 4-0","1-0",3345,57,11,"E Read","D Neal (16) & (64) Bremner (67) & (82)",null,null,50,50,"Division 3 ","1984-04-27","Scunthorpe","(A)","W 1-0","Sansome","Chatterton","Robinson","Lovell","Nutton","Stevens","McLeary","Bremner ¹","D Neal","Otulakowski","White","Sheringham"]
[null,null,48,"Division 3 ","1984-04-21","11th v 14th","Leyton Orient","(A)","L 3-5","2-2",3874,57,12,"L 3-5","2-2",3874,57,12,"A Robinson","Osgood o.g. (24) Lovell (37) D Neal (--) / Cornwall (30) Kitchen (38) & (60) & (72) & (85)",null,null,51,51,"Division 3 ","1984-05-01","Lincoln","(H)","L 0-2","Sansome","Chatterton","Robinson","Lovell","Nutton","Stevensn","McLeary","Bremner","D Neal","Otulakowski","White","J Neal",null,null,null,null,"Northampton","(H)","W 3-0","Martin","Chatterton","Chatterton"]
[null,null,49,"Division 3 ","1984-04-23","12th v 2nd","Wimbledon","(H)","D 1-1","0-1",5153,58,12,"D 1-1","0-1",5153,58,12,"C Thomas","Lovell (81) / Peters (14)",null,null,52,52,"Division 3 ","1984-05-05","Bolton","(H)","W 3-0","Sansome","Stevens","Robinson","Lovell","Nuttonn","Cusack","McLeary","Bremner","D Neal ³","Otulakowski","White","Chatterton",null,null,null,null,"Northampton","(A)","W 2-1","Otulakowski","D Neal"]
[null,null,50,"Division 3 ","1984-04-27","12th v 22nd","Scunthorpe","(A)","W 1-0","0-0",2867,61,8,"W 1-0","0-0",2867,61,8,"J Worrall","Bremner (64)",null,null,53,53,"Division 3 ","1984-05-08","Bristol R","(A)","L 2-3","Sansome","Stevens","Robinson ¹n","Lovell","Nutton","Cusack","McLeary","Bremner","D Neal","Otulakowski ¹","White","Chatterton",null,null,null,null,"West Brom","(H)","W 3-0","D Neal","D Neal","Lowndes"]
[null,null,51,"Division 3 ","1984-05-01","9th v 15th","Lincoln","(H)","L 0-2","0-0",2825,61,10,"L 0-2","0-0",2825,61,10,"A Gunn","Fashanu (50) Hobson (86)",null,null,54,54,"Division 3 ","1984-05-12","Exeter","(H)","W 3-0","Sansome","Stevens","Robinson","Lovell","Nutton","Cusack","Chatterton (88)","Bremner ³","D Neal","Otulakowski¢","White","McLeary (88)",null,null,null,null,"West Brom","(H)","L 1-5","Martin"]
[null,null,52,"Division 3 ","1984-05-05","10th v 11th","Bolton","(H)","W 3-0","2-0",2346,64,9,"W 3-0","2-0",2346,64,9,"D Hedges","D Neal (3) & (19) & (71)",null,null,55,55,"Division 3 ","1984-05-14","Port Vale","(A)","L 0-1","Sansome","Stevens","Robinson","Lovell","Nutton (45)","Cusack","Chatterton","Bremner","D Neal","Otulakowski","White","McLeary (45)"]
[null,null,53,"Division 3 ","1984-05-08","9th v 5th","Bristol R","(A)","L 2-3","1-1",5347,64,9,"L 2-3","1-1",5347,64,9,"A Crickmore","Robinson (39) Otulakowski (81) / Williams (34) Randall (87) Barrett (90)",null,null,56,56,"AM Cup","1984-05-17","Plymouth","(H)","W 1-0","Sansome","Stevens","Robinson","Lovell ¹","Martin","Cusack","McLeary","Bremner","Sheringham","Otulakowski","Chatterton","-",null,"-",null,null,"Gillingham","(H)","W 4-3","D Neal","Martin","Stride","Sheringham"]
[null,null,54,"Division 3 ","1984-05-12","9th v 24th","Exeter","(H)","W 3-0","2-0",2898,67,9,"W 3-0","2-0",2898,67,9,"T Spencer","Bremner (14) & (40) & (56)",null,null,57,57,"AM Cup","1984-05-21","Bournemouth","(A)","L 1-2","Sansome","Stevens","Robinson","Lovell","Martin","Cusack","McLeary","Bremner","D Neal ¹","Otulakowski","Chatterton","-",null,"-",null,null,"Bournemouth","(H)","D 2-2","White","D Neal"]
[null,null,55,"Division 3 ","1984-05-14","9th v 23rd","Port Vale","(A)","L 0-1","0-1",2299,67,9,"L 0-1","0-1",2299,67,9,"R Guy","Fox (34)",null,null,null,null,null,null,null,null,"* = L 7-6 on Pens",null,null,"Note: Information on bookings is not comprehensive but shown where known",null,null,null,null,null,null,null,null,null,null,null,null,null,"Swindon","(H)","W 3-1","Otulakowski","Lovell","Bremner",null,null,null,null,null,null,null,null,null,null,null,null,null,null,null,null,null,null,null,null,null,null,null,null,null,null,null,null,null,null,null,null,null,null,null,null,null,null,null,null,null,null,null,null,null,null,null,null,null,null,null,null,null,null,null,null,null,null,null,null,null,null,null,null,null,null,null,null,null,null,null,null,null,null,null,null,null,null,null,null,null,null,null,null,null,null,null,null,null,null,null,null,null,"Brentford","(A)","D 2-2",1,10]
[null,null,56,"AM Cup","1984-05-17","- -","Plymouth","(A)","W 1-0","0-0",4533,"-","-","W 1-0","0-0",4533,"-","-",null,"Lovell (50)",null,null,null,null,null,null,null,null,null,null,null,null,null,null,null,null,null,null,null,null,null,null,null,null,null,"Plymouth","(A)","W 1-0","Lovell",null,null,null,null,null,null,null,null,null,null,null,null,null,null,null,null,null,null,null,null,null,null,null,null,null,null,null,null,null,null,null,null,null,null,null,null,null,null,null,null,null,null,null,null,null,null,null,null,null,null,null,null,null,null,null,null,null,null,null,null,null,null,null,null,null,null,null,null,null,null,null,null,null,null,null,null,null,null,null,null,null,null,null,null,null,null,null,null,null,null,null,null,null,null,null,"Plymouth","(H)","W 1-0",4,9]
[null,null,57,"AM Cup","1984-05-21","- -","Bournemouth","(A)","L 1-2","0-1",4048,"-","-","L 1-2","0-1",4058,"-","-","J Martin","D Neal (62) ‡ / Thompson (16) O'Driscoll (76)",null,null,null,null,null,null,null,null,null,null,null,null,null,null,null,null,null,null,null,null,null,null,null,null,null,"Bournemouth","(A)","L 1-2","D Neal",null,null,null,null,null,null,null,null,null,null,null,null,null,null,null,null,null,null,null,null,null,null,null,null,null,null,null,null,null,null,null,null,null,null,null,null,null,null,null,null,null,null,null,null,null,null,null,null,null,null,null,null,null,null,null,null,null,null,null,null,null,null,null,null,null,null,null,null,null,null,null,null,null,null,null,null,null,null,null,null,null,null,null,null,null,null,null,null,null,null,null,null,null,null,null,"Port Vale","(H)","W 3-2",7,4]
[null,null,null,null,null,null,null,null,null,null,null,null,null,null,null,null,null,null,null,null,null,null,null,null,null,null,null,null,null,null,null,null,null,null,null,null,null,null,null,null,null,null,null,null,null,null,null,null,null,null,null,null,null,null,null,null,null,null,null,null,null,null,null,null,null,null,null,null,null,null,null,null,null,null,null,null,null,null,null,null,null,null,null,null,null,null,null,null,null,null,null,null,null,null,null,null,null,null,null,null,null,null,null,null,null,null,null,null,null,null,null,null,null,null,null,null,null,null,null,null,null,null,null,null,null,null,null,null,null,null,null,null,null,null,null,null,null,null,null,null,null,null,null,null,"Hull City","(A)","L 0-5",7,10]
[null,null,null,null,null,null,null,null,null,null,null,null,null,null,"‡ Goal originally credited to Cusack, later revised to Neal",null,null,null,null,null,null,null,null,null,null,null,null,null,null,null,null,null,null,null,null,null,null,null,null,null,null,null,null,null,null,null,null,null,null,null,null,null,null,null,null,null,null,null,null,null,null,null,null,null,null,null,null,null,null,null,null,null,null,null,null,null,null,null,null,null,null,null,null,null,null,null,null,null,null,null,null,null,null,null,null,null,null,null,null,null,null,null,null,null,null,null,null,null,null,null,null,null,null,null,null,null,null,null,null,null,null,null,null,null,null,null,null,null,null,null,null,null,null,null,null,null,null,null,null,null,null,null,null,null,"Bournemouth","(H)","W 3-1",10,7]
[null,null,null,null,null,null,null,null,null,null,null,null,null,null,null,null,null,null,null,null,null,null,null,null,null,null,null,null,null,null,null,null,null,null,null,null,null,null,null,null,null,null,null,null,null,null,null,null,null,null,null,null,null,null,null,null,null,null,null,null,null,null,null,null,null,null,null,null,null,null,null,null,null,null,null,null,null,null,null,null,null,null,null,null,null,null,null,null,null,null,null,null,null,null,null,null,null,null,null,null,null,null,null,null,null,null,null,null,null,null,null,null,null,null,null,null,null,null,null,null,null,null,null,null,null,null,null,null,null,null,null,null,null,null,null,null,null,null,null,null,null,null,null,null,"Southend","(A)","L 2-3",10,7]
[null,null,null,null,null,null,null,null,null,null,null,null,null,null,null,null,null,null,null,null,null,null,null,null,null,null,null,null,null,null,null,null,null,null,null,null,null,null,null,null,null,null,null,null,null,null,null,null,null,null,null,null,null,null,null,null,null,null,null,null,null,null,null,null,null,null,null,null,null,null,null,null,null,null,null,null,null,null,null,null,null,null,null,null,null,null,null,null,null,null,null,null,null,null,null,null,null,null,null,null,null,null,null,null,null,null,null,null,null,null,null,null,null,null,null,null,null,null,null,null,null,null,null,null,null,null,null,null,null,null,null,null,null,null,null,null,null,null,null,null,null,null,null,null,"Oxford","(A)","L 2-4",10,9]
[null,null,null,null,null,null,null,null,null,null,null,null,null,null,null,null,null,null,null,null,null,null,null,null,null,null,null,null,null,null,null,null,null,null,null,null,null,null,null,null,null,null,null,null,null,null,null,null,null,null,null,null,null,null,null,null,null,null,null,null,null,null,null,null,null,null,null,null,null,null,null,null,null,null,null,null,null,null,null,null,null,null,null,null,null,null,null,null,null,null,null,null,null,null,null,null,null,null,null,null,null,null,null,null,null,null,null,null,null,null,null,null,null,null,null,null,null,null,null,null,null,null,null,null,null,null,null,null,null,null,null,null,null,null,null,null,null,null,null,null,null,null,null,null,"Sheff Utd","(H)","L 1-2",10,15]
[null,null,null,null,null,null,"1983-09-03",null,null,null,null,null,null,null,null,4611,"w",null,null,null,null,null,null,null,null,null,null,null,null,null,null,null,null,null,null,null,null,null,null,null,null,null,null,null,null,null,null,null,null,null,null,null,null,null,null,null,null,null,null,null,null,null,null,null,null,null,null,null,null,null,null,null,null,null,null,null,null,null,null,null,null,null,null,null,null,null,null,null,null,null,null,null,null,null,null,null,null,null,null,null,null,null,null,null,null,null,null,null,null,null,null,null,null,null,null,null,null,null,null,null,null,null,null,null,null,null,null,null,null,null,null,null,null,null,null,null,null,null,null,null,null,null,null,null,"Burnley","(H)","W 2-0",13,9]
[null,null,null,null,null,null,"1983-09-06",null,null,null,null,null,null,null,null,4918,"m",null,null,null,null,null,null,null,null,null,null,null,null,null,null,null,null,null,null,null,null,null,null,null,null,null,null,null,null,null,null,null,null,null,null,null,null,null,null,null,null,null,null,null,null,null,null,null,null,null,null,null,null,null,null,null,null,null,null,null,null,null,null,null,null,null,null,null,null,null,null,null,null,null,null,null,null,null,null,null,null,null,null,null,null,null,null,null,null,null,null,null,null,null,null,null,null,null,null,null,null,null,null,null,null,null,null,null,null,null,null,null,null,null,null,null,null,null,null,null,null,null,null,null,null,null,null,null,"Lincoln","(A)","D 2-2",14,11]
[null,null,null,null,null,null,"1983-09-17",null,null,null,null,null,null,null,null,4774,"w",null,null,null,null,null,null,null,null,null,null,null,null,null,null,null,null,null,null,null,null,null,null,null,null,null,null,null,null,null,null,null,null,null,null,null,null,null,null,null,null,null,null,null,null,null,null,null,null,null,null,null,null,null,null,null,null,null,null,null,null,null,null,null,null,null,null,null,null,null,null,null,null,null,null,null,null,null,null,null,null,null,null,null,null,null,null,null,null,null,null,null,null,null,null,null,null,null,null,null,null,null,null,null,null,null,null,null,null,null,null,null,null,null,null,null,null,null,null,null,null,null,null,null,null,null,null,null,"Rotherham","(A)","L 0-1",14,14]
[null,null,null,null,null,null,"1983-10-01",null,null,null,null,null,null,null,null,5601,"w",null,null,null,null,null,null,null,null,null,null,null,null,null,null,null,null,null,null,null,null,null,null,null,null,null,null,null,null,null,null,null,null,null,null,null,null,null,null,null,null,null,null,null,null,null,null,null,null,null,null,null,null,null,null,null,null,null,null,null,null,null,null,null,null,null,null,null,null,null,null,null,null,null,null,null,null,null,null,null,null,null,null,null,null,null,null,null,null,null,null,null,null,null,null,null,null,null,null,null,null,null,null,null,null,null,null,null,null,null,null,null,null,null,null,null,null,null,null,null,null,null,null,null,null,null,null,null,"Preston","(H)","W 1-0",17,10]
[null,null,null,null,null,null,"1983-10-09",null,null,null,null,null,null,null,null,6709,"w",null,null,null,null,null,null,"Game","Competition","Date","Opponents",null,"Score",1,2,3,4,5,6,7,8,9,10,11,12,null,14,null,null,null,null,null,null,null,null,null,null,null,null,null,null,null,null,null,null,null,null,null,null,null,null,null,null,null,null,null,null,null,null,null,null,null,null,null,null,null,null,null,null,null,null,null,null,null,null,null,null,null,null,null,null,null,null,null,null,null,null,null,null,null,null,null,null,null,null,null,null,null,null,null,null,null,null,null,null,null,null,null,null,null,null,null,null,null,null,null,null,null,null,null,null,null,null,null,null,null,null,null,"Gillingham","(A)","D 3-3",18,15]
[null,null,null,null,null,null,"1983-10-21",null,null,null,null,null,null,null,null,5243,"m",null,null,null,null,null,null,1,"Division 3 ","1983-08-27","Brentford","(A)","D 2-2","Sansome","Lovell","Stride","Robinson","Nutton","Cusack","Bremner","Lowndes","Martin","Otulakowski ()","Chatterton","Massey (--)",null,null,null,null,null,null,null,null,null,null,null,null,null,null,null,null,null,null,null,null,null,null,null,null,null,null,null,null,null,null,null,null,null,null,null,null,null,null,null,null,null,null,null,null,null,null,null,null,null,null,null,null,null,null,null,null,null,null,null,null,null,null,null,null,null,null,null,null,null,null,null,null,null,null,null,null,null,null,null,null,null,null,null,null,null,null,null,null,null,null,null,null,null,null,null,null,null,null,null,null,null,null,null,"Newport C","(H)","D 1-1",19,13]
[null,null,null,null,null,null,"1983-11-01",null,null,null,null,null,null,null,null,4352,"m",null,null,null,null,null,null,2,"Division 3 ","1983-09-03","Plymouth","(H)","W 1-0","Sansome","Lovell","Stride","Robinson","Nutton","Cusack","Bremner","Lowndes","Martin ()","Otulakowski","Chatterton","D Neal (--)",null,null,null,null,null,null,null,null,null,null,null,null,null,null,null,null,null,null,null,null,null,null,null,null,null,null,null,null,null,null,null,null,null,null,null,null,null,null,null,null,null,null,null,null,null,null,null,null,null,null,null,null,null,null,null,null,null,null,null,null,null,null,null,null,null,null,null,null,null,null,null,null,null,null,null,null,null,null,null,null,null,null,null,null,null,null,null,null,null,null,null,null,null,null,null,null,null,null,null,null,null,null,null,"Wigan","(H)","W 2-0",22,12]
[null,null,null,null,null,null,"1983-11-05",null,null,null,null,null,null,null,null,3850,"w",null,null,null,null,null,null,3,"Division 3 ","1983-09-06","Port Vale","(H)","W 3-2","Sansome","Lovell","Stride","Robinson","Nutton","Cusack","Bremner","Lowndes","D Neal","Otulakowski","Chatterton","Martin",null,null,null,null,null,null,null,null,null,null,null,null,null,null,null,null,null,null,null,null,null,null,null,null,null,null,null,null,null,null,null,null,null,null,null,null,null,null,null,null,null,null,null,null,null,null,null,null,null,null,null,null,null,null,null,null,null,null,null,null,null,null,null,null,null,null,null,null,null,null,null,null,null,null,null,null,null,null,null,null,null,null,null,null,null,null,null,null,null,null,null,null,null,null,null,null,null,null,null,null,null,null,null,"Bradford","(A)","D 3-3",23,12]
[null,null,null,null,null,null,"1983-11-26",null,null,null,null,null,null,null,null,3776,"w",null,null,null,null,null,null,4,"Division 3 ","1983-09-10","Hull City","(A)","L 0-5","Wells","Lovell","Stride","Robinson (73)","Nutton","Cusack","Bremner","Lowndes","D Neal","Otulakowski","Chatterton","Martin (73)",null,null,null,null,null,null,null,null,null,null,null,null,null,null,null,null,null,null,null,null,null,null,null,null,null,null,null,null,null,null,null,null,null,null,null,null,null,null,null,null,null,null,null,null,null,null,null,null,null,null,null,null,null,null,null,null,null,null,null,null,null,null,null,null,null,null,null,null,null,null,null,null,null,null,null,null,null,null,null,null,null,null,null,null,null,null,null,null,null,null,null,null,null,null,null,null,null,null,null,null,null,null,null,"Scunthorpe","(H)","W 2-1",26,13]
[null,null,null,null,null,null,"1983-12-26",null,null,null,null,null,null,null,null,5161,"w",null,null,null,null,null,null,5,"Division 3 ","1983-09-17","Bournemouth","(H)","W 3-1","Sansome","Lovell","Stride","White","Nutton","Cusack","Bremner","Lowndes","D Neal","Otulakowski","Chatterton","Martin",null,null,null,null,null,null,null,null,null,null,null,null,null,null,null,null,null,null,null,null,null,null,null,null,null,null,null,null,null,null,null,null,null,null,null,null,null,null,null,null,null,null,null,null,null,null,null,null,null,null,null,null,null,null,null,null,null,null,null,null,null,null,null,null,null,null,null,null,null,null,null,null,null,null,null,null,null,null,null,null,null,null,null,null,null,null,null,null,null,null,null,null,null,null,null,null,null,null,null,null,null,null,null,"Walsall","(A)","D 1-1",27,12]
[null,null,null,null,null,null,"1983-12-30",null,null,null,null,null,null,null,null,4885,"m",null,null,null,null,null,null,6,"Division 3 ","1983-09-19","Southend","(A)","L 2-3","Sansome","Lovell","Stride","White","Nutton","Cusack","Bremner","Lowndes (86)","D Neal","Otulakowskin","Chatterton","Martin (86)",null,null,null,null,null,null,null,null,null,null,null,null,null,null,null,null,null,null,null,null,null,null,null,null,null,null,null,null,null,null,null,null,null,null,null,null,null,null,null,null,null,null,null,null,null,null,null,null,null,null,null,null,null,null,null,null,null,null,null,null,null,null,null,null,null,null,null,null,null,null,null,null,null,null,null,null,null,null,null,null,null,null,null,null,null,null,null,null,null,null,null,null,null,null,null,null,null,null,null,null,null,null,null,"Exeter","(A)","L 2-3",27,13]
[null,null,null,null,null,null,"1984-01-15",null,null,null,null,null,null,null,null,5370,"w",null,null,null,null,null,null,7,"Division 3 ","1983-09-24","Oxford","(A)","L 2-4","Sansome","Lovell","Stride","White","Nutton","Cusack","Bremner","Lowndes","D Neal","Otulakowski","Chatterton","Robinson",null,null,null,null,null,null,null,null,null,null,null,null,null,null,null,null,null,null,null,null,null,null,null,null,null,null,null,null,null,null,null,null,null,null,null,null,null,null,null,null,null,null,null,null,null,null,null,null,null,null,null,null,null,null,null,null,null,null,null,null,null,null,null,null,null,null,null,null,null,null,null,null,null,null,null,null,null,null,null,null,null,null,null,null,null,null,null,null,null,null,null,null,null,null,null,null,null,null,null,null,null,null,null,"Leyton Orient","(H)","W 4-3",30,13]
[null,null,null,null,null,null,"1984-01-28",null,null,null,null,null,null,null,null,3991,"w",null,null,null,null,null,null,8,"Division 3 ","1983-10-01","Sheff Utd","(H)","L 1-2","Wells","Lovell","Robinson","White","Nutton","Cusack","Lowndes","D Neal","Martin (77)","Otulakowski","Chatterton","Bremner (77)",null,null,null,null,null,null,null,null,null,null,null,null,null,null,null,null,null,null,null,null,null,null,null,null,null,null,null,null,null,null,null,null,null,null,null,null,null,null,null,null,null,null,null,null,null,null,null,null,null,null,null,null,null,null,null,null,null,null,null,null,null,null,null,null,null,null,null,null,null,null,null,null,null,null,null,null,null,null,null,null,null,null,null,null,null,null,null,null,null,null,null,null,null,null,null,null,null,null,null,null,null,null,null,"Wimbledon","(A)","L 3-4",30,13]
[null,null,null,null,null,null,"1984-02-11",null,null,null,null,null,null,null,null,4972,"w",null,null,null,null,null,null,9,"Division 3 ","1983-10-09","Burnley","(H)","W 2-0","Wells","Lovell","Striden","White","Martin","Cusack","Lowndes","D Neal","Bremner","Robinson","Chatterton","McLeary",null,null,null,null,null,null,null,null,null,null,null,null,null,null,null,null,null,null,null,null,null,null,null,null,null,null,null,null,null,null,null,null,null,null,null,null,null,null,null,null,null,null,null,null,null,null,null,null,null,null,null,null,null,null,null,null,null,null,null,null,null,null,null,null,null,null,null,null,null,null,null,null,null,null,null,null,null,null,null,null,null,null,null,null,null,null,null,null,null,null,null,null,null,null,null,null,null,null,null,null,null,null,null,"Bristol R","(H)","W 1-0",33,12]
[null,null,null,null,null,null,"1984-02-19",null,null,null,null,null,null,null,null,6344,"w",null,null,null,null,null,null,10,"Division 3 ","1983-10-15","Lincoln","(A)","D 2-2","Wells","Lovell","Stride","White","Martin","Cusack","Lowndes","D Neal","Bremner","Robinson (81)","Chatterton","McLeary (81)",null,null,null,null,null,null,null,null,null,null,null,null,null,null,null,null,null,null,null,null,null,null,null,null,null,null,null,null,null,null,null,null,null,null,null,null,null,null,null,null,null,null,null,null,null,null,null,null,null,null,null,null,null,null,null,null,null,null,null,null,null,null,null,null,null,null,null,null,null,null,null,null,null,null,null,null,null,null,null,null,null,null,null,null,null,null,null,null,null,null,null,null,null,null,null,null,null,null,null,null,null,null,null,"Bolton","(A)","L 0-2",33,13]
[null,null,null,null,null,null,"1984-03-03",null,null,null,null,null,null,null,null,2985,"w",null,null,null,null,null,null,11,"Division 3 ","1983-10-18","Rotherham","(A)","L 0-1","Wells","Lovell","Stride","White","Martin","Cusack","Lowndes","D Neal","Bremner","Robinson (69)","Chatterton","McLeary (69)",null,null,null,null,null,null,null,null,null,null,null,null,null,null,null,null,null,null,null,null,null,null,null,null,null,null,null,null,null,null,null,null,null,null,null,null,null,null,null,null,null,null,null,null,null,null,null,null,null,null,null,null,null,null,null,null,null,null,null,null,null,null,null,null,null,null,null,null,null,null,null,null,null,null,null,null,null,null,null,null,null,null,null,null,null,null,null,null,null,null,null,null,null,null,null,null,null,null,null,null,null,null,null,"Brentford","(H)","L 1-2",33,14]
[null,null,null,null,null,null,"1984-03-10",null,null,null,null,null,null,null,null,3269,"w",null,null,null,null,null,null,12,"Division 3 ","1983-10-21","Preston","(H)","W 1-0","Wells","Lovell","Stride","White","Nutton","Cusack","Lowndes","D Neal ()","Bremner","Burke","Chatterton","Martin (--)",null,null,null,null,null,null,null,null,null,null,null,null,null,null,null,null,null,null,null,null,null,null,null,null,null,null,null,null,null,null,null,null,null,null,null,null,null,null,null,null,null,null,null,null,null,null,null,null,null,null,null,null,null,null,null,null,null,null,null,null,null,null,null,null,null,null,null,null,null,null,null,null,null,null,null,null,null,null,null,null,null,null,null,null,null,null,null,null,null,null,null,null,null,null,null,null,null,null,null,null,null,null,null,"Bournemouth","(A)","D 1-1",34,13]
[null,null,null,null,null,null,"1984-04-14",null,null,null,null,null,null,null,null,3458,"w",null,null,null,null,null,null,13,"Division 3 ","1983-10-29","Gillingham","(A)","D 3-3","Wells","Lovell","Robinson","White","Nutton","Cusack","Lowndes","Martin","Bremner","Burke","Chatterton","McLeary",null,null,null,null,null,null,null,null,null,null,null,null,null,null,null,null,null,null,null,null,null,null,null,null,null,null,null,null,null,null,null,null,null,null,null,null,null,null,null,null,null,null,null,null,null,null,null,null,null,null,null,null,null,null,null,null,null,null,null,null,null,null,null,null,null,null,null,null,null,null,null,null,null,null,null,null,null,null,null,null,null,null,null,null,null,null,null,null,null,null,null,null,null,null,null,null,null,null,null,null,null,null,null,"Hull City","(H)","W 1-0",37,10]
[null,null,null,null,null,null,"1984-04-18",null,null,null,null,null,null,null,null,3345,"m",null,null,null,null,null,null,14,"Division 3 ","1983-11-01","Newport C","(H)","D 1-1","Wells","Lovell","Robinson","White","Nutton","Cusack","Lowndes (57)","Martin","Bremner","Burke","Chatterton","McLeary",null,null,null,null,null,null,null,null,null,null,null,null,null,null,null,null,null,null,null,null,null,null,null,null,null,null,null,null,null,null,null,null,null,null,null,null,null,null,null,null,null,null,null,null,null,null,null,null,null,null,null,null,null,null,null,null,null,null,null,null,null,null,null,null,null,null,null,null,null,null,null,null,null,null,null,null,null,null,null,null,null,null,null,null,null,null,null,null,null,null,null,null,null,null,null,null,null,null,null,null,null,null,null,"Sheff Utd","(A)","L 0-2",37,13]
[null,null,null,null,null,null,"1984-04-23",null,null,null,null,null,null,null,null,5153,"w",null,null,null,null,null,null,15,"Division 3 ","1983-11-05","Wigan","(H)","W 2-0","Wells","Lovell","Stride","White","Nutton","Cusack","Lowndes","Martin","Bremner","Burke","Chatterton","McLeary",null,null,null,null,null,null,null,null,null,null,null,null,null,null,null,null,null,null,null,null,null,null,null,null,null,null,null,null,null,null,null,null,null,null,null,null,null,null,null,null,null,null,null,null,null,null,null,null,null,null,null,null,null,null,null,null,null,null,null,null,null,null,null,null,null,null,null,null,null,null,null,null,null,null,null,null,null,null,null,null,null,null,null,null,null,null,null,null,null,null,null,null,null,null,null,null,null,null,null,null,null,null,null,"Oxford","(H)","W 2-1",40,11]
[null,null,null,null,null,null,"1984-05-01",null,null,null,null,null,null,null,null,2825,"m",null,null,null,null,null,null,16,"Division 3 ","1983-11-12","Bradford","(A)","D 3-3","Wells","Lovell","Stride (72)","White","Nutton","Cusack","Lowndes","Martin","Bremner","Burke","Chatterton","Massey (72)",null,null,null,null,null,null,null,null,null,null,null,null,null,null,null,null,null,null,null,null,null,null,null,null,null,null,null,null,null,null,null,null,null,null,null,null,null,null,null,null,null,null,null,null,null,null,null,null,null,null,null,null,null,null,null,null,null,null,null,null,null,null,null,null,null,null,null,null,null,null,null,null,null,null,null,null,null,null,null,null,null,null,null,null,null,null,null,null,null,null,null,null,null,null,null,null,null,null,null,null,null,null,null,"Newport C","(A)","D 1-1",41,12]
[null,null,null,null,null,null,"1984-05-05",null,null,null,null,null,null,null,null,2346,"w",null,null,null,null,null,null,17,"Division 3 ","1983-11-26","Scunthorpe","(H)","W 2-1","Wells","Lovell","Robinson","McLeary","Nutton","Cusack","Burke","Martin","Bremner","D Neal (82)","Chatterton","Massey (82)",null,null,null,null,null,null,null,null,null,null,null,null,null,null,null,null,null,null,null,null,null,null,null,null,null,null,null,null,null,null,null,null,null,null,null,null,null,null,null,null,null,null,null,null,null,null,null,null,null,null,null,null,null,null,null,null,null,null,null,null,null,null,null,null,null,null,null,null,null,null,null,null,null,null,null,null,null,null,null,null,null,null,null,null,null,null,null,null,null,null,null,null,null,null,null,null,null,null,null,null,null,null,null,"Gillingham","(H)","D 2-2",42,13]
[null,null,null,null,null,null,"1984-05-12",null,null,null,null,null,null,null,null,2898,"w",null,null,null,null,null,null,18,"Division 3 ","1983-12-03","Walsall","(A)","D 1-1","Wells","Lovell","Robinson","McLeary","Nutton","Cusack","Burke","Martin","Bremner","Massey","Chatterton","D Neal",null,null,null,null,null,null,null,null,null,null,null,null,null,null,null,null,null,null,null,null,null,null,null,null,null,null,null,null,null,null,null,null,null,null,null,null,null,null,null,null,null,null,null,null,null,null,null,null,null,null,null,null,null,null,null,null,null,null,null,null,null,null,null,null,null,null,null,null,null,null,null,null,null,null,null,null,null,null,null,null,null,null,null,null,null,null,null,null,null,null,null,null,null,null,null,null,null,null,null,null,null,null,null,"Preston","(A)","D 0-0",43,13]
[null,null,null,null,null,null,null,null,null,null,null,null,null,null,null,null,null,null,null,null,null,null,null,19,"Division 3 ","1983-12-17","Exeter","(A)","L 2-3","Wells","Lovell","Sparrow","Robinson ()","Nutton","Cusack","Lowndes","D Neal","Bremner","White","Chatterton","Martin (--)",null,null,null,null,null,null,null,null,null,null,null,null,null,null,null,null,null,null,null,null,null,null,null,null,null,null,null,null,null,null,null,null,null,null,null,null,null,null,null,null,null,null,null,null,null,null,null,null,null,null,null,null,null,null,null,null,null,null,null,null,null,null,null,null,null,null,null,null,null,null,null,null,null,null,null,null,null,null,null,null,null,null,null,null,null,null,null,null,null,null,null,null,null,null,null,null,null,null,null,null,null,null,null,"Rotherham","(H)","W 2-0",46,12]
[null,null,null,null,null,null,null,null,null,null,null,null,null,null,null,null,null,null,null,null,null,null,null,20,"Division 3 ","1983-12-26","Leton Orient","(H)","W 4-3","Wells","Lovell","Sparrow","Martin","Nutton","Cusack","Lowndes","D Neal ()","Bremner","Otulakowski","White","McLeary (--)",null,null,null,null,null,null,null,null,null,null,null,null,null,null,null,null,null,null,null,null,null,null,null,null,null,null,null,null,null,null,null,null,null,null,null,null,null,null,null,null,null,null,null,null,null,null,null,null,null,null,null,null,null,null,null,null,null,null,null,null,null,null,null,null,null,null,null,null,null,null,null,null,null,null,null,null,null,null,null,null,null,null,null,null,null,null,null,null,null,null,null,null,null,null,null,null,null,null,null,null,null,null,null,"Wigan","(A)","D 0-0",47,12]
[null,null,null,null,null,null,null,null,null,null,null,null,null,null,"Agg",{"$f":"SUBTOTAL(9,P70:P92)","v":100836},null,null,null,null,null,null,null,21,"Division 3 ","1983-12-27","Wimbledon","(A)","L 3-4","Wells","Lovell","Sparrow","McLeary","Nutton","Cusack","Chatterton","Martin ()","Bremner","Otulakowski","White","Massey (--)",null,null,null,null,null,null,null,null,null,null,null,null,null,null,null,null,null,null,null,null,null,null,null,null,null,null,null,null,null,null,null,null,null,null,null,null,null,null,null,null,null,null,null,null,null,null,null,null,null,null,null,null,null,null,null,null,null,null,null,null,null,null,null,null,null,null,null,null,null,null,null,null,null,null,null,null,null,null,null,null,null,null,null,null,null,null,null,null,null,null,null,null,null,null,null,null,null,null,null,null,null,null,null,"Bradford","(H)","D 0-0",48,13]
[null,null,null,null,null,null,null,null,null,null,null,null,null,null,"Max",{"$f":"MAX(P69:P92)","v":6709},null,null,null,null,null,null,null,22,"Division 3 ","1983-12-30","Bristol R","(H)","W 1-0","Sansome","Lovell","Sparrow","McLeary","Nutton","Cusack","Lowndes","Martin","Bremner","Otulakowski (35)","White","Chatterton (35)",null,null,null,null,null,null,null,null,null,null,null,null,null,null,null,null,null,null,null,null,null,null,null,null,null,null,null,null,null,null,null,null,null,null,null,null,null,null,null,null,null,null,null,null,null,null,null,null,null,null,null,null,null,null,null,null,null,null,null,null,null,null,null,null,null,null,null,null,null,null,null,null,null,null,null,null,null,null,null,null,null,null,null,null,null,null,null,null,null,null,null,null,null,null,null,null,null,null,null,null,null,null,null,"Burnley","(A)","L 0-1",48,13]
[null,null,null,null,null,null,null,null,null,null,null,null,null,null,"Min",{"$f":"MIN(P69:P92)","v":2346},null,null,null,null,null,null,null,23,"Division 3 ","1984-01-02","Bolton","(A)","L 0-2","Sansome","Lovell","Robinson","Martin","Nutton","McLeary","Lowndes (25)","Massey","Bremner","Otulakowski","Chatterton","Cowley (25)",null,null,null,null,null,null,null,null,null,null,null,null,null,null,null,null,null,null,null,null,null,null,null,null,null,null,null,null,null,null,null,null,null,null,null,null,null,null,null,null,null,null,null,null,null,null,null,null,null,null,null,null,null,null,null,null,null,null,null,null,null,null,null,null,null,null,null,null,null,null,null,null,null,null,null,null,null,null,null,null,null,null,null,null,null,null,null,null,null,null,null,null,null,null,null,null,null,null,null,null,null,null,null,"Plymouth","(A)","W 1-0",51,11]
[null,null,null,null,null,null,null,null,null,null,null,null,null,null,null,null,null,null,null,null,null,null,null,24,"Division 3 ","1984-01-15","Brentford","(H)","L 1-2","Sansome","Lovell","Sparrow","Robinson","Nutton","McLeary","Stevens","Sheringham","Bremner","Otulakowski","Chatterton (50)","Massey (50)",null,null,null,null,null,null,null,null,null,null,null,null,null,null,null,null,null,null,null,null,null,null,null,null,null,null,null,null,null,null,null,null,null,null,null,null,null,null,null,null,null,null,null,null,null,null,null,null,null,null,null,null,null,null,null,null,null,null,null,null,null,null,null,null,null,null,null,null,null,null,null,null,null,null,null,null,null,null,null,null,null,null,null,null,null,null,null,null,null,null,null,null,null,null,null,null,null,null,null,null,null,null,null,"Walsall","(H)","W 2-0",54,11]
[null,null,null,null,null,null,null,null,null,null,null,null,null,null,"Av",{"$f":"AVERAGE(P70:P92)","v":4384.173913043478},null,null,null,null,null,null,null,25,"Division 3 ","1984-01-21","Bournemouth","(A)","D 1-1","Sansome","Lovell","Stride","McLeary","Nutton","Cusack","Massey","Sheringham","Bremner","Otulakowski","Robinson","Stevens",null,null,null,null,null,null,null,null,null,null,null,null,null,null,null,null,null,null,null,null,null,null,null,null,null,null,null,null,null,null,null,null,null,null,null,null,null,null,null,null,null,null,null,null,null,null,null,null,null,null,null,null,null,null,null,null,null,null,null,null,null,null,null,null,null,null,null,null,null,null,null,null,null,null,null,null,null,null,null,null,null,null,null,null,null,null,null,null,null,null,null,null,null,null,null,null,null,null,null,null,null,null,null,"Southend","(H)","W 4-0",57,11]
[null,null,null,null,null,null,null,null,null,null,null,null,null,null,null,null,null,null,null,null,null,null,null,26,"Division 3 ","1984-01-28","Hull City","(H)","W 1-0","Sansome","Lovell","Stride","McLeary","Nutton","Cusack","Massey","Sheringham (45)","Bremner","Otulakowski","Robinson","Martin (45)",null,null,null,null,null,null,null,null,null,null,null,null,null,null,null,null,null,null,null,null,null,null,null,null,null,null,null,null,null,null,null,null,null,null,null,null,null,null,null,null,null,null,null,null,null,null,null,null,null,null,null,null,null,null,null,null,null,null,null,null,null,null,null,null,null,null,null,null,null,null,null,null,null,null,null,null,null,null,null,null,null,null,null,null,null,null,null,null,null,null,null,null,null,null,null,null,null,null,null,null,null,null,null,"Leyton Orient","(A)","L 3-5",57,12]
[null,null,null,null,null,null,null,null,null,null,null,null,null,null,"Weekend",{"$f":"SUMIF(Q69:Q92,\"w\",P69:P92)","v":75268},{"$f":"COUNTIF(Q69:Q94,\"w\")","v":17},null,null,null,null,null,null,27,"Division 3 ","1984-02-04","Sheff Utd","(A)","L 0-2","Sansome","Lovell","Stride","McLeary (70)","Nutton","Cusack","Massey","Martin","Bremner","Otulakowski","Robinson","D Neal (70)",null,null,null,null,null,null,null,null,null,null,null,null,null,null,null,null,null,null,null,null,null,null,null,null,null,null,null,null,null,null,null,null,null,null,null,null,null,null,null,null,null,null,null,null,null,null,null,null,null,null,null,null,null,null,null,null,null,null,null,null,null,null,null,null,null,null,null,null,null,null,null,null,null,null,null,null,null,null,null,null,null,null,null,null,null,null,null,null,null,null,null,null,null,null,null,null,null,null,null,null,null,null,null,"Wimbledon","(H)","D 1-1",58,12]
[null,null,null,null,null,null,null,null,null,null,null,null,null,null,"Midweek",{"$f":"SUMIF(Q69:Q92,\"m\",P69:P92)","v":25568},{"$f":"COUNTIF(Q69:Q94,\"m\")","v":6},null,null,null,null,null,null,28,"Division 3 ","1984-02-11","Oxford","(H)","W 2-1","Sansome","Lovell","Stride","McLeary","Nutton","Cusack","Massey","Martin","Bremner (80)","Otulakowski","Robinson","D Neal (80)",null,null,null,null,null,null,null,null,null,null,null,null,null,null,null,null,null,null,null,null,null,null,null,null,null,null,null,null,null,null,null,null,null,null,null,null,null,null,null,null,null,null,null,null,null,null,null,null,null,null,null,null,null,null,null,null,null,null,null,null,null,null,null,null,null,null,null,null,null,null,null,null,null,null,null,null,null,null,null,null,null,null,null,null,null,null,null,null,null,null,null,null,null,null,null,null,null,null,null,null,null,null,null,"Scunthorpe","(A)","W 1-0",61,8]
[null,null,null,null,null,null,null,null,null,null,null,null,null,null,null,null,null,null,null,null,null,null,null,29,"Division 3 ","1984-02-14","Newport C","(A)","D 1-1","Sansome","Lovell","Stride","McLeary","Nutton","Cusack","Massey (70)","Martin","Bremner","Otulakowski","Robinson","D Neal (70)",null,null,null,null,null,null,null,null,null,null,null,null,null,null,null,null,null,null,null,null,null,null,null,null,null,null,null,null,null,null,null,null,null,null,null,null,null,null,null,null,null,null,null,null,null,null,null,null,null,null,null,null,null,null,null,null,null,null,null,null,null,null,null,null,null,null,null,null,null,null,null,null,null,null,null,null,null,null,null,null,null,null,null,null,null,null,null,null,null,null,null,null,null,null,null,null,null,null,null,null,null,null,null,"Lincoln","(H)","L 0-2",61,10]
[null,null,null,null,null,null,null,null,null,null,null,null,null,null,"Weekend",{"$f":"P101/Q101","v":4427.5294117647063},null,null,null,null,null,null,null,30,"Division 3 ","1984-02-19","Gillingham","(H)","D 2-2","Sansome","Lovell","Stride","McLeary","Nutton","Cusack","Massey (45)","Martin","Bremner","Otulakowski","Robinson","D Neal (45)",null,null,null,null,null,null,null,null,null,null,null,null,null,null,null,null,null,null,null,null,null,null,null,null,null,null,null,null,null,null,null,null,null,null,null,null,null,null,null,null,null,null,null,null,null,null,null,null,null,null,null,null,null,null,null,null,null,null,null,null,null,null,null,null,null,null,null,null,null,null,null,null,null,null,null,null,null,null,null,null,null,null,null,null,null,null,null,null,null,null,null,null,null,null,null,null,null,null,null,null,null,null,null,"Bolton","(H)","W 3-0",64,9]
[null,null,null,null,null,null,null,null,null,null,null,null,null,null,"Midweek",{"$f":"P102/Q102","v":4261.333333333333},null,null,null,null,null,null,null,31,"Division 3 ","1984-02-25","Preston","(A)","D 0-0","Sansome","Stevens","Stride","Sheringham","Nutton","Cusack","Lovell","Martin","D Neal","Otulakowski","Robinson","McLeary (--)",null,null,null,null,null,null,null,null,null,null,null,null,null,null,null,null,null,null,null,null,null,null,null,null,null,null,null,null,null,null,null,null,null,null,null,null,null,null,null,null,null,null,null,null,null,null,null,null,null,null,null,null,null,null,null,null,null,null,null,null,null,null,null,null,null,null,null,null,null,null,null,null,null,null,null,null,null,null,null,null,null,null,null,null,null,null,null,null,null,null,null,null,null,null,null,null,null,null,null,null,null,null,null,"Bristol R","(A)","L 2-3",64,9]
[null,null,null,null,null,null,null,null,null,null,null,null,null,null,null,null,null,null,null,null,null,null,null,32,"Division 3 ","1984-03-03","Rotherham","(H)","W 2-0","Sansome","Stevens","Stride","Lovell","Nutton","Cusack","J Neal (85)","Martin","D Neal","Otulakowski","McLeary","Robinson (85)",null,null,null,null,null,null,null,null,null,null,null,null,null,null,null,null,null,null,null,null,null,null,null,null,null,null,null,null,null,null,null,null,null,null,null,null,null,null,null,null,null,null,null,null,null,null,null,null,null,null,null,null,null,null,null,null,null,null,null,null,null,null,null,null,null,null,null,null,null,null,null,null,null,null,null,null,null,null,null,null,null,null,null,null,null,null,null,null,null,null,null,null,null,null,null,null,null,null,null,null,null,null,null,"Exeter","(H)","W 3-0",67,9]
[null,null,null,null,null,null,null,null,null,null,null,null,null,null,null,null,null,null,null,null,null,null,null,33,"Division 3 ","1984-03-06","Wigan","(A)","D 0-0","Sansome","Stevens","Stride","Lovell","Nutton","Cusack","McLeary","Martin (85)","D Neal","Otulakowski","Robinson","J Neal (85)",null,null,null,null,null,null,null,null,null,null,null,null,null,null,null,null,null,null,null,null,null,null,null,null,null,null,null,null,null,null,null,null,null,null,null,null,null,null,null,null,null,null,null,null,null,null,null,null,null,null,null,null,null,null,null,null,null,null,null,null,null,null,null,null,null,null,null,null,null,null,null,null,null,null,null,null,null,null,null,null,null,null,null,null,null,null,null,null,null,null,null,null,null,null,null,null,null,null,null,null,null,null,null,"Port Vale","(A)","L 0-1",67,9]
[null,null,null,null,null,null,null,null,null,null,null,null,null,null,null,null,null,null,null,null,null,null,null,34,"Division 3 ","1984-03-10","Bradford","(H)","D 0-0","Sansome","Stevens","Stride","Lovell","Nutton","Cowley","McLeary","Martin","D Neal","White","J Neal","Robinson"]
[null,null,null,null,null,null,null,null,null,null,null,null,null,null,null,null,null,null,null,null,null,null,null,35,"Division 3 ","1984-03-17","Burnley","(A)","L 0-1","Sansome","Stevens","Stride","Lovell","Nutton","Cowley","McLeary","Martin (78)","D Neal","White","Bremner","Sheringham (78)"]
[null,null,null,null,null,null,null,null,null,null,null,null,null,null,null,null,null,null,null,null,null,null,null,36,"Division 3 ","1984-03-20","Plymouth","(A)","W 1-0","Sansome","Stevens","Stride","Lovell","Nutton","Cusack","McLeary","White","D Neal","Otulakowski","Bremner","Cowley"]
[null,null,null,null,null,null,null,null,null,null,null,null,null,null,null,null,null,null,null,null,null,null,null,37,"Division 3 ","1984-04-14","Walsall","(H)","W 2-0","Sansome","Stevens","Stride","Lovell","Nutton","Cusack (45)","McLeary","Bremner","D Neal","Otulakowski","J Neal","Sheringham (45)"]
[null,null,null,null,null,null,null,null,null,null,null,null,null,null,null,null,null,null,null,null,null,null,null,38,"Division 3 ","1984-04-18","Southend","(H)","W 4-0","Sansome","Stevens","Stride","Lovell","Nutton","Cusack","McLeary (85)","Bremner","D Neal","Otulakowski","Robinson","J Neal (85)"]
[null,null,null,null,null,null,null,null,null,null,null,null,null,null,null,null,null,null,null,null,null,null,null,39,"Division 3 ","1984-04-21","Leton Orient","(A)","L 3-5","Sansome","Stevens","Stride (26)","Lovell","Nutton","Cusack","White","Bremner","D Neal","Otulakowski","Robinson","J Neal (26)"]
[null,null,null,null,null,null,null,null,null,null,null,null,null,null,null,null,null,null,null,null,null,null,null,40,"Division 3 ","1984-04-23","Wimbledon","(H)","D 1-1","Sansome","Stevens","Robinson (79)","Lovell","Nutton","Martin","McLeary","Bremner","D Neal","Otulakowski","White","Sheringham (79)"]
[null,null,null,null,null,null,null,null,null,null,null,null,null,null,null,null,null,null,null,null,null,null,null,41,"Division 3 ","1984-04-27","Scunthorpe","(A)","W 1-0","Sansome","Chatterton","Robinson","Lovell","Nutton","Stevens","McLeary","Bremner","D Neal","Otulakowski","White","Sheringham"]
[null,null,null,null,null,null,null,null,null,null,null,null,null,null,null,null,null,null,null,null,null,null,null,42,"Division 3 ","1984-05-01","Lincoln","(H)","L 0-2","Sansome","Chatterton","Robinson","Lovell","Nutton","Stevens","McLeary","Bremner","D Neal","Otulakowski","White","J Neal"]
[null,null,null,null,null,null,null,null,null,null,null,null,null,null,null,null,null,null,null,null,null,null,null,43,"Division 3 ","1984-05-05","Bolton","(H)","W 3-0","Sansome","Stevens","Robinson","Lovell","Nutton","Cusack","McLeary","Bremner","D Neal","Otulakowski","White","Chatterton"]
[null,null,null,null,null,null,null,null,null,null,null,null,null,null,null,null,null,null,null,null,null,null,null,44,"Division 3 ","1984-05-08","Bristol R","(A)","L 2-3","Sansome","Stevens","Robinsonn","Lovell","Nutton","Cusack","McLeary","Bremner","D Neal","Otulakowski","White","Chatterton"]
[null,null,null,null,null,null,null,null,null,null,null,null,null,null,null,null,null,null,null,null,null,null,null,45,"Division 3 ","1984-05-12","Exeter","(H)","W 3-0","Sansome","Stevens","Robinson","Lovell","Nutton","Cusack","Chatterton (88)","Bremner","D Neal","Otulakowski","White","McLeary (88)"]
[null,null,null,null,null,null,null,null,null,null,null,null,null,null,null,null,null,null,null,null,null,null,null,46,"Division 3 ","1984-05-14","Port Vale","(A)","L 0-1","Sansome","Stevens","Robinson","Lovell","Nutton (45)","Cusack","Chatterton","Bremner","D Neal","Otulakowski","White","McLeary (45)"]
[]
[]
[]
[]
[]
[null,null,null,null,null,null,null,null,null,null,null,null,null,null,null,null,null,null,null,null,null,null,null,21,"FA Cup","1983-11-19","Dartford","(H)","W 2-1","Wells","Lovell","Robinson","McLeary","Nutton","Cusack","Massey","Bremner","Martin","D Neal","Chatterton","Sheringham"]
[null,null,null,null,null,null,null,null,null,null,null,null,null,null,null,null,null,null,null,null,null,null,null,24,"FA Cup","1983-11-19","Swindon","(H)","L 2-3","Wells","Lovell","Robinson","McLeary (71)","Nutton","Cusack","Lowndes","Bremner","Martin","Massey","Chatterton","D Neal (71)"]
[]
[]
[]
[]
[]
[]
[]
[]
[null,null,null,null,null,null,null,null,null,null,null,null,null,null,null,null,null,null,null,null,null,null,null,2,"League Cup","1983-08-29","Northampton","(H)","W 3-0","Sansome","Lovell","Stride (77)","Robinson","Nutton","Cusack","Bremner","Lowndes","Martin","Otulakowski","Chatterton","D Neal (77)"]
[null,null,null,null,null,null,null,null,null,null,null,null,null,null,null,null,null,null,null,null,null,null,null,6,"League Cup","1983-09-14","Northampton","(A)","W 2-1","Sansome","Lovell","Stride","White","Nutton","Cusack","Bremner","Lowndes","D Neal","Otulakowski","Chatterton","Robinson"]
[null,null,null,null,null,null,null,null,null,null,null,null,null,null,null,null,null,null,null,null,null,null,null,11,"League Cup","1983-10-04","West Brom","(H)","W 3-0","Wells","Lovell","Robinson","White","Nutton (60)","Cusack","Bremner","Lowndes","D Neal","Otulakowski","Chatterton","Martin (60)"]
[null,null,null,null,null,null,null,null,null,null,null,null,null,null,null,null,null,null,null,null,null,null,null,16,"League Cup","1983-10-25","West Brom","(H)","L 1-5","Wells","Lovell","Stride","White","Nutton","Cusack","Bremner","Lowndes","D Neal","Robinson (--)","Chatterton","Martin (--)"]
[]
[]
[]
[]
[]
[]
[null,null,null,null,null,null,null,null,null,null,null,null,null,null,null,null,null,null,null,null,null,null,null,38,"AM Cup","1984-02-28","Gillingham","(H)","W 4-3","Sansome","Stevens","Stride","Lovell","Nutton","Cusack","J Neal []","D Neal","Martin","McLeary","Robinson (--)","White (--)",null,"Sheringham []"]
[null,null,null,null,null,null,null,null,null,null,null,null,null,null,null,null,null,null,null,null,null,null,null,42,"AM Cup","1984-03-13","Bournemouth","(H)","D 2-2*","Sansome","Stevens","Stride","Lovell","Nutton","Cowley","McLeary (64)","D Neal","Martin []","White","J Neal","Robinson (64)",null,"Bremner []"]
[null,null,null,null,null,null,null,null,null,null,null,null,null,null,null,null,null,null,null,null,null,null,null,45,"AM Cup","1984-03-27","Swindon","(H)","W 3-1","Sansome","Stevens","Coleman","Lovell","Nutton","Cusack","McLeary []","Bremner (75)","D Neal","Otulakowski","White","Sheringham (75)",null,"Robinson []"]
[null,null,null,null,null,null,null,null,null,null,null,null,null,null,null,null,null,null,null,null,null,null,null,56,"AM Cup","1984-05-17","Plymouth","(H)","W 1-0","Sansome","Stevens","Robinson","Lovell","Martin","Cusack","McLeary","Bremner","Sheringham","Otulakowski","Chatterton","-",null,"-"]
[null,null,null,null,null,null,null,null,null,null,null,null,null,null,null,null,null,null,null,null,null,null,null,57,"AM Cup","1984-05-21","Bournemouth","(A)","L 1-2","Sansome","Stevens","Robinson","Lovell","Martin","Cusack","McLeary","Bremner","D Neal","Otulakowski","Chatterton","-",null,"-"]
[]
[]
[]
[]
[]
[]
[]
[]
[null,null,null,null,null,null,null,null,null,null,null,null,null,null,null,null,null,null,null,null,null,null,{"$f":"AA159&\" (\"&Z159","v":"Bremner (**"},null,{"$f":"AA159&Z159","v":"Bremner**"},"**","Bremner",{"$f":"COUNTIF($AD$75:$AN$120,$Y159)","v":41},{"$f":"COUNTIF($AO$75:$AO$120,$W159)","v":1},{"$f":"COUNTIF($AO$75:$AO$120,$AA159)","v":0},{"$f":"COUNTIF($AD$126:$AN$127,$Y159)","v":2},{"$f":"COUNTIF($AO$126:$AO$127,$W159)","v":0},{"$f":"COUNTIF($AO$126:$AO$127,$AA159)","v":0},{"$f":"COUNTIF($AD$136:$AN$139,$Y159)","v":4},{"$f":"COUNTIF($AO$136:$AO$139,$W159)","v":0},{"$f":"COUNTIF($AO$136:$AO$139,$AA159)","v":0},{"$f":"COUNTIF($AD$146:$AN$150,$Y159)","v":3},{"$f":"COUNTIF($AO$146:$AQ$150,$W159)","v":0},{"$f":"COUNTIF($AO$146:$AQ$150,$AA159)","v":0},null,"Kevin Bremner"]
[null,null,null,null,null,null,null,null,null,null,null,null,null,null,null,null,null,null,null,null,null,null,"Burke (**",null,"Burke**","**","Burke",7,0,0,0,0,0,0,0,0,0,0,0,null,"Steve Burke"]
[null,null,null,null,null,null,null,null,null,null,null,null,null,null,null,null,null,null,null,null,null,null,"Chatterton (**",null,"Chatterton**","**","Chatterton",26,1,2,2,0,0,4,0,0,2,0,0,null,"Nicky Chatterton"]
[null,null,null,null,null,null,null,null,null,null,null,null,null,null,null,null,null,null,null,null,null,null,"Coleman (**",null,"Coleman**","**","Coleman",0,0,0,0,0,0,0,0,0,1,0,0,null,"Nicky Coleman"]
[null,null,null,null,null,null,null,null,null,null,null,null,null,null,null,null,null,null,null,null,null,null,"Cowley (**",null,"Cowley**","**","Cowley",2,1,1,0,0,0,0,0,0,1,0,0,null,"Carl Cowley"]
[null,null,null,null,null,null,null,null,null,null,null,null,null,null,null,null,null,null,null,null,null,null,"Cusack (**",null,"Cusack**","**","Cusack",39,0,0,2,0,0,4,0,0,4,0,0,null,"Dave Cusack"]
[null,null,null,null,null,null,null,null,null,null,null,null,null,null,null,null,null,null,null,null,null,null,"Lovell (**",null,"Lovell**","**","Lovell",46,0,0,2,0,0,4,0,0,5,0,0,null,"Steve Lovell"]
[null,null,null,null,null,null,null,null,null,null,null,null,null,null,null,null,null,null,null,null,null,null,"Lowndes (**",null,"Lowndes**","**","Lowndes",20,0,0,1,0,0,4,0,0,0,0,0,null,"Steve Lowndes"]
[null,null,null,null,null,null,null,null,null,null,null,null,null,null,null,null,null,null,null,null,null,null,"Martin (**",null,"Martin**","**","Martin",26,5,2,2,0,0,1,2,0,4,0,0,null,"Dave Martin"]
[null,null,null,null,null,null,null,null,null,null,null,null,null,null,null,null,null,null,null,null,null,null,"Massey (**",null,"Massey**","**","Massey",8,5,0,2,0,0,0,0,0,0,0,0,null,"Andy Massey"]
[null,null,null,null,null,null,null,null,null,null,null,null,null,null,null,null,null,null,null,null,null,null,"McLeary (**",null,"McLeary**","**","McLeary",24,6,4,2,0,0,0,0,0,5,0,0,null,"Alan McLeary"]
[null,null,null,null,null,null,null,null,null,null,null,null,null,null,null,null,null,null,null,null,null,null,"D Neal (**",null,"D Neal**","**","D Neal",29,5,1,1,1,0,3,1,0,4,0,0,null,"Dean Neal"]
[null,null,null,null,null,null,null,null,null,null,null,null,null,null,null,null,null,null,null,null,null,null,"J Neal (**",null,"J Neal**","**","J Neal",3,3,1,0,0,0,0,0,0,2,0,0,null,"John Neal"]
[null,null,null,null,null,null,null,null,null,null,null,null,null,null,null,null,null,null,null,null,null,null,"Nutton (**",null,"Nutton**","**","Nutton",43,0,0,2,0,0,4,0,0,3,0,0,null,"Micky Nutton"]
[null,null,null,null,null,null,null,null,null,null,null,null,null,null,null,null,null,null,null,null,null,null,"Otulakowski (**",null,"Otulakowski**","**","Otulakowski",33,0,0,0,0,0,3,0,0,3,0,0,null,"Anton Otulakowski"]
[null,null,null,null,null,null,null,null,null,null,null,null,null,null,null,null,null,null,null,null,null,null,"Robinson (**",null,"Robinson**","**","Robinson",32,1,2,2,0,0,3,0,1,3,1,0,null,"Paul Robinson"]
[null,null,null,null,null,null,null,null,null,null,null,null,null,null,null,null,null,null,null,null,null,null,"Sansome (**",null,"Sansome**","**","Sansome",31,0,0,0,0,0,2,0,0,5,0,0,null,"Paul Sansome"]
[null,null,null,null,null,null,null,null,null,null,null,null,null,null,null,null,null,null,null,null,null,null,"Sheringham (**",null,"Sheringham**","**","Sheringham",4,3,1,0,0,1,0,0,0,1,1,0,null,"Teddy Sheringham"]
[null,null,null,null,null,null,null,null,null,null,null,null,null,null,null,null,null,null,null,null,null,null,"Sparrow (**",null,"Sparrow**","**","Sparrow",5,0,0,0,0,0,0,0,0,0,0,0,null,"Brian Sparrow"]
[null,null,null,null,null,null,null,null,null,null,null,null,null,null,null,null,null,null,null,null,null,null,"Stevens (**",null,"Stevens**","**","Stevens",17,0,1,0,0,0,0,0,0,5,0,0,null,"Keith Stevens"]
[null,null,null,null,null,null,null,null,null,null,null,null,null,null,null,null,null,null,null,null,null,null,"Stride (**",null,"Stride**","**","Stride",28,0,0,0,0,0,3,0,0,2,0,0,null,"David Stride"]
[null,null,null,null,null,null,null,null,null,null,null,null,null,null,null,null,null,null,null,null,null,null,"Wells (**",null,"Wells**","**","Wells",15,0,0,2,0,0,2,0,0,0,0,0,null,"Peter Wells"]
[null,null,null,null,null,null,null,null,null,null,null,null,null,null,null,null,null,null,null,null,null,null,"White (**",null,"White**","**","White",27,0,0,0,0,0,3,0,0,2,1,0,null,"Dean White"]
[]
[]
[]
[]
[]
[]
[]
[]
[]
[]
[]
[]
[]
[]
[]
[]
[]
[]
[]
[]
[null,null,null,null,null,null,null,null,null,null,null,null,null,null,null,null,null,null,null,null,null,null,null,null,null,null,null,null,null,null,null,null,null,"Query Robinson or McLeary v Exeter (A)"]

{"sheet":"Comparisons","index":1,"n_rows":413,"n_cols":119,"rows_kept":413,"cut":false,"hidden":false,"merged":[]}
[]
[null,null,null,null,null,null,null,null,null,null,{"$f":"IF(K3=0,0,1)","v":1},{"$f":"IF(L3=0,0,1)","v":1},1,1,1,1,1,1,1,1,1,1,1,1,1,1,1,1,1,1,1,1,1,0,0,0,0,0,0,0,0,0,0,0,null,null,null,null,null,null,null,null,null,null,null,null,null,null,null,null,null,null,null,null,null,null,null,null,null,null,null,{"$f":"IF(BT3=0,0,1)","v":1},1,1,1,1,1,1,1,1,1,1,1]
["Formulas",null,null,null,null,"Date",null,"Opponents","Venue / Result",null,{"$f":"$CM$5","v":"Bremner"},{"$f":"$CM$6","v":"Burke"},{"$f":"$CM$7","v":"Chatterton"},{"$f":"$CM$8","v":"Coleman"},{"$f":"$CM$9","v":"Cowley"},{"$f":"$CM$10","v":"Cusack"},{"$f":"$CM$11","v":"Lovell"},{"$f":"$CM$12","v":"Lowndes"},{"$f":"$CM$13","v":"Martin"},{"$f":"$CM$14","v":"Massey"},{"$f":"$CM$15","v":"McLeary"},{"$f":"$CM$16","v":"D Neal"},{"$f":"$CM$17","v":"J Neal"},{"$f":"$CM$18","v":"Nutton"},{"$f":"$CM$19","v":"Otulakowski"},{"$f":"$CM$20","v":"Robinson"},{"$f":"$CM$21","v":"Sansome"},{"$f":"$CM$22","v":"Sheringham"},{"$f":"$CM$23","v":"Sparrow"},{"$f":"$CM$24","v":"Stevens"},{"$f":"$CM$25","v":"Stride"},{"$f":"$CM$26","v":"Wells"},{"$f":"$CM$27","v":"White"},{"$f":"$CM$28","v":0},{"$f":"$CM$29","v":0},{"$f":"$CM$30","v":0},{"$f":"$CM$31","v":0},{"$f":"$CM$32","v":0},{"$f":"$CM$33","v":0},{"$f":"$CM$34","v":0},{"$f":"$CM$35","v":0},{"$f":"$CM$36","v":0},{"$f":"$CM$37","v":0},{"$f":"$CM$38","v":0},null,null,null,null,null,{"$f":"$CN$5","v":"Bremner (**"},{"$f":"$CN$6","v":"Burke (**"},{"$f":"$CN$7","v":"Chatterton (**"},{"$f":"$CN$8","v":"Coleman (**"},{"$f":"$CN$9","v":"Cowley (**"},{"$f":"$CN$10","v":"Cusack (**"},{"$f":"$CN$11","v":"Lovell (**"},{"$f":"$CN$12","v":"Lowndes (**"},{"$f":"$CN$13","v":"Martin (**"},{"$f":"$CN$14","v":"Massey (**"},{"$f":"$CN$15","v":"McLeary (**"},{"$f":"$CN$16","v":"D Neal (**"},{"$f":"$CN$17","v":"J Neal (**"},{"$f":"$CN$18","v":"Nutton (**"},{"$f":"$CN$19","v":"Otulakowski (**"},{"$f":"$CN$20","v":"Robinson (**"},{"$f":"$CN$21","v":"Sansome (**"},{"$f":"$CN$22","v":"Sheringham (**"},{"$f":"$CN$23","v":"Sparrow (**"},{"$f":"$CN$24","v":"Stevens (**"},{"$f":"$CN$25","v":"Stride (**"},{"$f":"$CN$26","v":"Wells (**"},{"$f":"$CN$27","v":"White (**"},{"$f":"$CN$28","v":" (**"},{"$f":"$CN$29","v":" (**"},{"$f":"$CN$30","v":" (**"},{"$f":"$CN$31","v":" (**"},{"$f":"$CN$32","v":" (**"},{"$f":"$CN$33","v":" (**"},{"$f":"$CN$34","v":" (**"},{"$f":"$CN$35","v":" (**"},{"$f":"$CN$36","v":" (**"},{"$f":"$CN$37","v":" (**"},{"$f":"$CN$38","v":" (**"},null,null,"Bremner [**","Burke [**","Chatterton [**","Coleman [**","Cowley [**","Cusack [**","Lovell [**","Lowndes [**","Martin [**","Massey [**","McLeary [**","D Neal [**","J Neal [**","Nutton [**","Otulakowski [**","Robinson [**","Sansome [**","Sheringham [**","Sparrow [**","Stevens [**","Stride [**","Wells [**","White [**","0 [**","0 [**","0 [**","0 [**","0 [**","0 [**","0 [**","0 [**","0 [**","0 [**"," [**"]
[null,null,1,null,null,null,null,null,null,null,{"$f":"$CM$5&\"**\"","v":"Bremner**"},{"$f":"$CM$6&\"**\"","v":"Burke**"},{"$f":"$CM$7&\"**\"","v":"Chatterton**"},{"$f":"$CM$8&\"**\"","v":"Coleman**"},{"$f":"$CM$9&\"**\"","v":"Cowley**"},{"$f":"$CM$10&\"**\"","v":"Cusack**"},{"$f":"$CM$11&\"**\"","v":"Lovell**"},{"$f":"$CM$12&\"**\"","v":"Lowndes**"},{"$f":"$CM$13&\"**\"","v":"Martin**"},{"$f":"$CM$14&\"**\"","v":"Massey**"},{"$f":"$CM$15&\"**\"","v":"McLeary**"},{"$f":"$CM$16&\"**\"","v":"D Neal**"},{"$f":"$CM$17&\"**\"","v":"J Neal**"},{"$f":"$CM$18&\"**\"","v":"Nutton**"},{"$f":"$CM$19&\"**\"","v":"Otulakowski**"},{"$f":"$CM$20&\"**\"","v":"Robinson**"},{"$f":"$CM$21&\"**\"","v":"Sansome**"},{"$f":"$CM$22&\"**\"","v":"Sheringham**"},{"$f":"$CM$23&\"**\"","v":"Sparrow**"},{"$f":"$CM$24&\"**\"","v":"Stevens**"},{"$f":"$CM$25&\"**\"","v":"Stride**"},{"$f":"$CM$26&\"**\"","v":"Wells**"},{"$f":"$CM$27&\"**\"","v":"White**"},{"$f":"$CM$28&\"**\"","v":"0**"},{"$f":"$CM$29&\"**\"","v":"0**"},{"$f":"$CM$30&\"**\"","v":"0**"},{"$f":"$CM$31&\"**\"","v":"0**"},{"$f":"$CM$32&\"**\"","v":"0**"},{"$f":"$CM$33&\"**\"","v":"0**"},{"$f":"$CM$34&\"**\"","v":"0**"},{"$f":"$CM$35&\"**\"","v":"0**"},{"$f":"$CM$36&\"**\"","v":"0**"},{"$f":"$CM$37&\"**\"","v":"0**"},null,null,null,null,null,null,{"$f":"$CO$5","v":"Bremner**"},{"$f":"$CO$6","v":"Burke**"},{"$f":"$CO$7","v":"Chatterton**"},{"$f":"$CO$8","v":"Coleman**"},{"$f":"$CO$9","v":"Cowley**"},{"$f":"$CO$10","v":"Cusack**"},{"$f":"$CO$11","v":"Lovell**"},{"$f":"$CO$12","v":"Lowndes**"},{"$f":"$CO$13","v":"Martin**"},{"$f":"$CO$14","v":"Massey**"},{"$f":"$CO$15","v":"McLeary**"},{"$f":"$CO$16","v":"D Neal**"},{"$f":"$CO$17","v":"J Neal**"},{"$f":"$CO$18","v":"Nutton**"},{"$f":"$CO$19","v":"Otulakowski**"},{"$f":"$CO$20","v":"Robinson**"},{"$f":"$CO$21","v":"Sansome**"},{"$f":"$CO$22","v":"Sheringham**"},{"$f":"$CO$23","v":"Sparrow**"},{"$f":"$CO$24","v":"Stevens**"},{"$f":"$CO$25","v":"Stride**"},{"$f":"$CO$26","v":"Wells**"},{"$f":"$CO$27","v":"White**"},{"$f":"$CO$28","v":"0**"},{"$f":"$CO$29","v":"0**"},{"$f":"$CO$30","v":"0**"},{"$f":"$CO$31","v":"0**"},{"$f":"$CO$32","v":"0**"},{"$f":"$CO$33","v":"0**"},{"$f":"$CO$34","v":"0**"},{"$f":"$CO$35","v":"0**"},{"$f":"$CO$36","v":"0**"},{"$f":"$CO$37","v":"0**"},{"$f":"$CO$38","v":"**"}]
[null,null,{"$f":"IF(J5=0,1,0)","v":0},1,null,{"$f":"Millwall!Z75","v":"1983-08-27"},null,{"$f":"Millwall!AA75","v":"Brentford"},{"$f":"Millwall!AB75","v":"(A)"},{"$f":"Millwall!AC75","v":"D 2-2"},{"$f":"MATCH(K$4,Millwall!$AD75:$AO75,0)","v":7},{"$f":"MATCH(L$4,Millwall!$AD75:$AO75,0)","v":{"$error":"#N/A"}},{"$f":"MATCH(M$4,Millwall!$AD75:$AO75,0)","v":11},{"$f":"MATCH(N$4,Millwall!$AD75:$AO75,0)","v":{"$error":"#N/A"}},{"$f":"MATCH(O$4,Millwall!$AD75:$AO75,0)","v":{"$error":"#N/A"}},{"$f":"MATCH(P$4,Millwall!$AD75:$AO75,0)","v":6},{"$f":"MATCH(Q$4,Millwall!$AD75:$AO75,0)","v":2},{"$f":"MATCH(R$4,Millwall!$AD75:$AO75,0)","v":8},{"$f":"MATCH(S$4,Millwall!$AD75:$AO75,0)","v":9},{"$f":"MATCH(T$4,Millwall!$AD75:$AO75,0)","v":12},{"$f":"MATCH(U$4,Millwall!$AD75:$AO75,0)","v":{"$error":"#N/A"}},{"$f":"MATCH(V$4,Millwall!$AD75:$AO75,0)","v":{"$error":"#N/A"}},{"$f":"MATCH(W$4,Millwall!$AD75:$AO75,0)","v":{"$error":"#N/A"}},{"$f":"MATCH(X$4,Millwall!$AD75:$AO75,0)","v":5},{"$f":"MATCH(Y$4,Millwall!$AD75:$AO75,0)","v":10},{"$f":"MATCH(Z$4,Millwall!$AD75:$AO75,0)","v":4},{"$f":"MATCH(AA$4,Millwall!$AD75:$AO75,0)","v":1},{"$f":"MATCH(AB$4,Millwall!$AD75:$AO75,0)","v":{"$error":"#N/A"}},{"$f":"MATCH(AC$4,Millwall!$AD75:$AO75,0)","v":{"$error":"#N/A"}},{"$f":"MATCH(AD$4,Millwall!$AD75:$AO75,0)","v":{"$error":"#N/A"}},{"$f":"MATCH(AE$4,Millwall!$AD75:$AO75,0)","v":3},{"$f":"MATCH(AF$4,Millwall!$AD75:$AO75,0)","v":{"$error":"#N/A"}},{"$f":"MATCH(AG$4,Millwall!$AD75:$AO75,0)","v":{"$error":"#N/A"}},{"$f":"MATCH(AH$4,Millwall!$AD75:$AO75,0)","v":{"$error":"#N/A"}},{"$f":"MATCH(AI$4,Millwall!$AD75:$AO75,0)","v":{"$error":"#N/A"}},{"$f":"MATCH(AJ$4,Millwall!$AD75:$AO75,0)","v":{"$error":"#N/A"}},{"$f":"MATCH(AK$4,Millwall!$AD75:$AO75,0)","v":{"$error":"#N/A"}},{"$f":"MATCH(AL$4,Millwall!$AD75:$AO75,0)","v":{"$error":"#N/A"}},{"$f":"MATCH(AM$4,Millwall!$AD75:$AO75,0)","v":{"$error":"#N/A"}},{"$f":"MATCH(AN$4,Millwall!$AD75:$AO75,0)","v":{"$error":"#N/A"}},{"$f":"MATCH(AO$4,Millwall!$AD75:$AO75,0)","v":{"$error":"#N/A"}},{"$f":"MATCH(AP$4,Millwall!$AD75:$AO75,0)","v":{"$error":"#N/A"}},{"$f":"MATCH(AQ$4,Millwall!$AD75:$AO75,0)","v":{"$error":"#N/A"}},{"$f":"MATCH(AR$4,Millwall!$AB75:$AM75,0)","v":{"$error":"#N/A"}},null,null,null,null,null,{"$f":"MATCH(AX$3,Millwall!$AD75:$AO75,0)","v":{"$error":"#N/A"}},{"$f":"MATCH(AY$3,Millwall!$AD75:$AO75,0)","v":{"$error":"#N/A"}},{"$f":"MATCH(AZ$3,Millwall!$AD75:$AO75,0)","v":{"$error":"#N/A"}},{"$f":"MATCH(BA$3,Millwall!$AD75:$AO75,0)","v":{"$error":"#N/A"}},{"$f":"MATCH(BB$3,Millwall!$AD75:$AO75,0)","v":{"$error":"#N/A"}},{"$f":"MATCH(BC$3,Millwall!$AD75:$AO75,0)","v":{"$error":"#N/A"}},{"$f":"MATCH(BD$3,Millwall!$AD75:$AO75,0)","v":{"$error":"#N/A"}},{"$f":"MATCH(BE$3,Millwall!$AD75:$AO75,0)","v":{"$error":"#N/A"}},{"$f":"MATCH(BF$3,Millwall!$AD75:$AO75,0)","v":{"$error":"#N/A"}},{"$f":"MATCH(BG$3,Millwall!$AD75:$AO75,0)","v":12},{"$f":"MATCH(BH$3,Millwall!$AD75:$AO75,0)","v":{"$error":"#N/A"}},{"$f":"MATCH(BI$3,Millwall!$AD75:$AO75,0)","v":{"$error":"#N/A"}},{"$f":"MATCH(BJ$3,Millwall!$AD75:$AO75,0)","v":{"$error":"#N/A"}},{"$f":"MATCH(BK$3,Millwall!$AD75:$AO75,0)","v":{"$error":"#N/A"}},{"$f":"MATCH(BL$3,Millwall!$AD75:$AO75,0)","v":10},{"$f":"MATCH(BM$3,Millwall!$AD75:$AO75,0)","v":{"$error":"#N/A"}},{"$f":"MATCH(BN$3,Millwall!$AD75:$AO75,0)","v":{"$error":"#N/A"}},{"$f":"MATCH(BO$3,Millwall!$AD75:$AO75,0)","v":{"$error":"#N/A"}},{"$f":"MATCH(BP$3,Millwall!$AD75:$AO75,0)","v":{"$error":"#N/A"}},{"$f":"MATCH(BQ$3,Millwall!$AD75:$AO75,0)","v":{"$error":"#N/A"}},{"$f":"MATCH(BR$3,Millwall!$AD75:$AO75,0)","v":{"$error":"#N/A"}},{"$f":"MATCH(BS$3,Millwall!$AD75:$AO75,0)","v":{"$error":"#N/A"}},{"$f":"MATCH(BT$3,Millwall!$AD75:$AO75,0)","v":{"$error":"#N/A"}},{"$f":"MATCH(BU$3,Millwall!$AD75:$AO75,0)","v":{"$error":"#N/A"}},{"$f":"MATCH(BV$3,Millwall!$AD75:$AO75,0)","v":{"$error":"#N/A"}},{"$f":"MATCH(BW$3,Millwall!$AD75:$AO75,0)","v":{"$error":"#N/A"}},{"$f":"MATCH(BX$3,Millwall!$AD75:$AO75,0)","v":{"$error":"#N/A"}},{"$f":"MATCH(BY$3,Millwall!$AD75:$AO75,0)","v":{"$error":"#N/A"}},{"$f":"MATCH(BZ$3,Millwall!$AD75:$AO75,0)","v":{"$error":"#N/A"}},{"$f":"MATCH(CA$3,Millwall!$AD75:$AO75,0)","v":{"$error":"#N/A"}},{"$f":"MATCH(CB$3,Millwall!$AD75:$AO75,0)","v":{"$error":"#N/A"}},{"$f":"MATCH(CC$3,Millwall!$AD75:$AO75,0)","v":{"$error":"#N/A"}},{"$f":"MATCH(CD$3,Millwall!$AD75:$AO75,0)","v":{"$error":"#N/A"}},{"$f":"MATCH(CE$3,Millwall!$AD75:$AO75,0)","v":{"$error":"#N/A"}},null,null,null,null,null,null,{"$f":"$CM$5&\" [**\"","v":"Bremner [**"},{"$f":"Millwall!$AA159","v":"Bremner"},{"$f":"Millwall!$AA159&\" (**\"","v":"Bremner (**"},{"$f":"$CM$5&\"**\"","v":"Bremner**"},null,{"$f":"$CM$5","v":"Bremner"},{"$f":"$CN$5","v":"Bremner (**"},{"$f":"$CO$5","v":"Bremner**"},null,{"$f":"Millwall!$CE$6","v":"Sub"},{"$f":"Millwall!$CJ$6","v":"Sub"},{"$f":"Millwall!$CO$6","v":"Sub"},{"$f":"Millwall!$CT$6","v":0}]
[null,null,0,2,null,{"$f":"Millwall!Z76","v":"1983-09-03"},null,{"$f":"Millwall!AA76","v":"Plymouth"},{"$f":"Millwall!AB76","v":"(H)"},{"$f":"Millwall!AC76","v":"W 1-0"},{"$f":"MATCH(K$4,Millwall!$AD76:$AO76,0)","v":7},{"$f":"MATCH(L$4,Millwall!$AD76:$AO76,0)","v":{"$error":"#N/A"}},{"$f":"MATCH(M$4,Millwall!$AD76:$AO76,0)","v":11},{"$f":"MATCH(N$4,Millwall!$AD76:$AO76,0)","v":{"$error":"#N/A"}},{"$f":"MATCH(O$4,Millwall!$AD76:$AO76,0)","v":{"$error":"#N/A"}},{"$f":"MATCH(P$4,Millwall!$AD76:$AO76,0)","v":6},{"$f":"MATCH(Q$4,Millwall!$AD76:$AO76,0)","v":2},{"$f":"MATCH(R$4,Millwall!$AD76:$AO76,0)","v":8},{"$f":"MATCH(S$4,Millwall!$AD76:$AO76,0)","v":9},{"$f":"MATCH(T$4,Millwall!$AD76:$AO76,0)","v":{"$error":"#N/A"}},{"$f":"MATCH(U$4,Millwall!$AD76:$AO76,0)","v":{"$error":"#N/A"}},{"$f":"MATCH(V$4,Millwall!$AD76:$AO76,0)","v":12},{"$f":"MATCH(W$4,Millwall!$AD76:$AO76,0)","v":{"$error":"#N/A"}},{"$f":"MATCH(X$4,Millwall!$AD76:$AO76,0)","v":5},{"$f":"MATCH(Y$4,Millwall!$AD76:$AO76,0)","v":10},{"$f":"MATCH(Z$4,Millwall!$AD76:$AO76,0)","v":4},{"$f":"MATCH(AA$4,Millwall!$AD76:$AO76,0)","v":1},{"$f":"MATCH(AB$4,Millwall!$AD76:$AO76,0)","v":{"$error":"#N/A"}},{"$f":"MATCH(AC$4,Millwall!$AD76:$AO76,0)","v":{"$error":"#N/A"}},{"$f":"MATCH(AD$4,Millwall!$AD76:$AO76,0)","v":{"$error":"#N/A"}},{"$f":"MATCH(AE$4,Millwall!$AD76:$AO76,0)","v":3},{"$f":"MATCH(AF$4,Millwall!$AD76:$AO76,0)","v":{"$error":"#N/A"}},{"$f":"MATCH(AG$4,Millwall!$AD76:$AO76,0)","v":{"$error":"#N/A"}},{"$f":"MATCH(AH$4,Millwall!$AD76:$AO76,0)","v":{"$error":"#N/A"}},{"$f":"MATCH(AI$4,Millwall!$AD76:$AO76,0)","v":{"$error":"#N/A"}},{"$f":"MATCH(AJ$4,Millwall!$AD76:$AO76,0)","v":{"$error":"#N/A"}},{"$f":"MATCH(AK$4,Millwall!$AD76:$AO76,0)","v":{"$error":"#N/A"}},{"$f":"MATCH(AL$4,Millwall!$AD76:$AO76,0)","v":{"$error":"#N/A"}},{"$f":"MATCH(AM$4,Millwall!$AD76:$AO76,0)","v":{"$error":"#N/A"}},{"$f":"MATCH(AN$4,Millwall!$AD76:$AO76,0)","v":{"$error":"#N/A"}},{"$f":"MATCH(AO$4,Millwall!$AD76:$AO76,0)","v":{"$error":"#N/A"}},{"$f":"MATCH(AP$4,Millwall!$AD76:$AO76,0)","v":{"$error":"#N/A"}},{"$f":"MATCH(AQ$4,Millwall!$AD76:$AO76,0)","v":{"$error":"#N/A"}},{"$f":"MATCH(AR$4,Millwall!$AB76:$AM76,0)","v":{"$error":"#N/A"}},null,null,null,null,null,{"$f":"MATCH(AX$3,Millwall!$AD76:$AO76,0)","v":{"$error":"#N/A"}},{"$f":"MATCH(AY$3,Millwall!$AD76:$AO76,0)","v":{"$error":"#N/A"}},{"$f":"MATCH(AZ$3,Millwall!$AD76:$AO76,0)","v":{"$error":"#N/A"}},{"$f":"MATCH(BA$3,Millwall!$AD76:$AO76,0)","v":{"$error":"#N/A"}},{"$f":"MATCH(BB$3,Millwall!$AD76:$AO76,0)","v":{"$error":"#N/A"}},{"$f":"MATCH(BC$3,Millwall!$AD76:$AO76,0)","v":{"$error":"#N/A"}},{"$f":"MATCH(BD$3,Millwall!$AD76:$AO76,0)","v":{"$error":"#N/A"}},{"$f":"MATCH(BE$3,Millwall!$AD76:$AO76,0)","v":{"$error":"#N/A"}},{"$f":"MATCH(BF$3,Millwall!$AD76:$AO76,0)","v":9},{"$f":"MATCH(BG$3,Millwall!$AD76:$AO76,0)","v":{"$error":"#N/A"}},{"$f":"MATCH(BH$3,Millwall!$AD76:$AO76,0)","v":{"$error":"#N/A"}},{"$f":"MATCH(BI$3,Millwall!$AD76:$AO76,0)","v":12},{"$f":"MATCH(BJ$3,Millwall!$AD76:$AO76,0)","v":{"$error":"#N/A"}},{"$f":"MATCH(BK$3,Millwall!$AD76:$AO76,0)","v":{"$error":"#N/A"}},{"$f":"MATCH(BL$3,Millwall!$AD76:$AO76,0)","v":{"$error":"#N/A"}},{"$f":"MATCH(BM$3,Millwall!$AD76:$AO76,0)","v":{"$error":"#N/A"}},{"$f":"MATCH(BN$3,Millwall!$AD76:$AO76,0)","v":{"$error":"#N/A"}},{"$f":"MATCH(BO$3,Millwall!$AD76:$AO76,0)","v":{"$error":"#N/A"}},{"$f":"MATCH(BP$3,Millwall!$AD76:$AO76,0)","v":{"$error":"#N/A"}},{"$f":"MATCH(BQ$3,Millwall!$AD76:$AO76,0)","v":{"$error":"#N/A"}},{"$f":"MATCH(BR$3,Millwall!$AD76:$AO76,0)","v":{"$error":"#N/A"}},{"$f":"MATCH(BS$3,Millwall!$AD76:$AO76,0)","v":{"$error":"#N/A"}},{"$f":"MATCH(BT$3,Millwall!$AD76:$AO76,0)","v":{"$error":"#N/A"}},{"$f":"MATCH(BU$3,Millwall!$AD76:$AO76,0)","v":{"$error":"#N/A"}},{"$f":"MATCH(BV$3,Millwall!$AD76:$AO76,0)","v":{"$error":"#N/A"}},{"$f":"MATCH(BW$3,Millwall!$AD76:$AO76,0)","v":{"$error":"#N/A"}},{"$f":"MATCH(BX$3,Millwall!$AD76:$AO76,0)","v":{"$error":"#N/A"}},{"$f":"MATCH(BY$3,Millwall!$AD76:$AO76,0)","v":{"$error":"#N/A"}},{"$f":"MATCH(BZ$3,Millwall!$AD76:$AO76,0)","v":{"$error":"#N/A"}},{"$f":"MATCH(CA$3,Millwall!$AD76:$AO76,0)","v":{"$error":"#N/A"}},{"$f":"MATCH(CB$3,Millwall!$AD76:$AO76,0)","v":{"$error":"#N/A"}},{"$f":"MATCH(CC$3,Millwall!$AD76:$AO76,0)","v":{"$error":"#N/A"}},{"$f":"MATCH(CD$3,Millwall!$AD76:$AO76,0)","v":{"$error":"#N/A"}},{"$f":"MATCH(CE$3,Millwall!$AD76:$AO76,0)","v":{"$error":"#N/A"}},null,null,null,null,null,null,{"$f":"$CM$6&\" [**\"","v":"Burke [**"},{"$f":"Millwall!$AA160","v":"Burke"},{"$f":"Millwall!$AA160&\" (**\"","v":"Burke (**"},{"$f":"$CM$6&\"**\"","v":"Burke**"},null,{"$f":"$CM$6","v":"Burke"},{"$f":"$CN$6","v":"Burke (**"},{"$f":"$CO$6","v":"Burke**"},null,{"$f":"Millwall!$CE$7","v":0},{"$f":"Millwall!$CJ$7","v":0},{"$f":"Millwall!$CO$7","v":1},{"$f":"Millwall!$CT$7","v":50}]
[null,null,0,3,null,{"$f":"Millwall!Z77","v":"1983-09-06"},null,{"$f":"Millwall!AA77","v":"Port Vale"},{"$f":"Millwall!AB77","v":"(H)"},{"$f":"Millwall!AC77","v":"W 3-2"},{"$f":"MATCH(K$4,Millwall!$AD77:$AO77,0)","v":7},{"$f":"MATCH(L$4,Millwall!$AD77:$AO77,0)","v":{"$error":"#N/A"}},{"$f":"MATCH(M$4,Millwall!$AD77:$AO77,0)","v":11},{"$f":"MATCH(N$4,Millwall!$AD77:$AO77,0)","v":{"$error":"#N/A"}},{"$f":"MATCH(O$4,Millwall!$AD77:$AO77,0)","v":{"$error":"#N/A"}},{"$f":"MATCH(P$4,Millwall!$AD77:$AO77,0)","v":6},{"$f":"MATCH(Q$4,Millwall!$AD77:$AO77,0)","v":2},{"$f":"MATCH(R$4,Millwall!$AD77:$AO77,0)","v":8},{"$f":"MATCH(S$4,Millwall!$AD77:$AO77,0)","v":12},{"$f":"MATCH(T$4,Millwall!$AD77:$AO77,0)","v":{"$error":"#N/A"}},{"$f":"MATCH(U$4,Millwall!$AD77:$AO77,0)","v":{"$error":"#N/A"}},{"$f":"MATCH(V$4,Millwall!$AD77:$AO77,0)","v":9},{"$f":"MATCH(W$4,Millwall!$AD77:$AO77,0)","v":{"$error":"#N/A"}},{"$f":"MATCH(X$4,Millwall!$AD77:$AO77,0)","v":5},{"$f":"MATCH(Y$4,Millwall!$AD77:$AO77,0)","v":10},{"$f":"MATCH(Z$4,Millwall!$AD77:$AO77,0)","v":4},{"$f":"MATCH(AA$4,Millwall!$AD77:$AO77,0)","v":1},{"$f":"MATCH(AB$4,Millwall!$AD77:$AO77,0)","v":{"$error":"#N/A"}},{"$f":"MATCH(AC$4,Millwall!$AD77:$AO77,0)","v":{"$error":"#N/A"}},{"$f":"MATCH(AD$4,Millwall!$AD77:$AO77,0)","v":{"$error":"#N/A"}},{"$f":"MATCH(AE$4,Millwall!$AD77:$AO77,0)","v":3},{"$f":"MATCH(AF$4,Millwall!$AD77:$AO77,0)","v":{"$error":"#N/A"}},{"$f":"MATCH(AG$4,Millwall!$AD77:$AO77,0)","v":{"$error":"#N/A"}},{"$f":"MATCH(AH$4,Millwall!$AD77:$AO77,0)","v":{"$error":"#N/A"}},{"$f":"MATCH(AI$4,Millwall!$AD77:$AO77,0)","v":{"$error":"#N/A"}},{"$f":"MATCH(AJ$4,Millwall!$AD77:$AO77,0)","v":{"$error":"#N/A"}},{"$f":"MATCH(AK$4,Millwall!$AD77:$AO77,0)","v":{"$error":"#N/A"}},{"$f":"MATCH(AL$4,Millwall!$AD77:$AO77,0)","v":{"$error":"#N/A"}},{"$f":"MATCH(AM$4,Millwall!$AD77:$AO77,0)","v":{"$error":"#N/A"}},{"$f":"MATCH(AN$4,Millwall!$AD77:$AO77,0)","v":{"$error":"#N/A"}},{"$f":"MATCH(AO$4,Millwall!$AD77:$AO77,0)","v":{"$error":"#N/A"}},{"$f":"MATCH(AP$4,Millwall!$AD77:$AO77,0)","v":{"$error":"#N/A"}},{"$f":"MATCH(AQ$4,Millwall!$AD77:$AO77,0)","v":{"$error":"#N/A"}},{"$f":"MATCH(AR$4,Millwall!$AB77:$AM77,0)","v":{"$error":"#N/A"}},null,null,null,null,null,{"$f":"MATCH(AX$3,Millwall!$AD77:$AO77,0)","v":{"$error":"#N/A"}},{"$f":"MATCH(AY$3,Millwall!$AD77:$AO77,0)","v":{"$error":"#N/A"}},{"$f":"MATCH(AZ$3,Millwall!$AD77:$AO77,0)","v":{"$error":"#N/A"}},{"$f":"MATCH(BA$3,Millwall!$AD77:$AO77,0)","v":{"$error":"#N/A"}},{"$f":"MATCH(BB$3,Millwall!$AD77:$AO77,0)","v":{"$error":"#N/A"}},{"$f":"MATCH(BC$3,Millwall!$AD77:$AO77,0)","v":{"$error":"#N/A"}},{"$f":"MATCH(BD$3,Millwall!$AD77:$AO77,0)","v":{"$error":"#N/A"}},{"$f":"MATCH(BE$3,Millwall!$AD77:$AO77,0)","v":{"$error":"#N/A"}},{"$f":"MATCH(BF$3,Millwall!$AD77:$AO77,0)","v":{"$error":"#N/A"}},{"$f":"MATCH(BG$3,Millwall!$AD77:$AO77,0)","v":{"$error":"#N/A"}},{"$f":"MATCH(BH$3,Millwall!$AD77:$AO77,0)","v":{"$error":"#N/A"}},{"$f":"MATCH(BI$3,Millwall!$AD77:$AO77,0)","v":{"$error":"#N/A"}},{"$f":"MATCH(BJ$3,Millwall!$AD77:$AO77,0)","v":{"$error":"#N/A"}},{"$f":"MATCH(BK$3,Millwall!$AD77:$AO77,0)","v":{"$error":"#N/A"}},{"$f":"MATCH(BL$3,Millwall!$AD77:$AO77,0)","v":{"$error":"#N/A"}},{"$f":"MATCH(BM$3,Millwall!$AD77:$AO77,0)","v":{"$error":"#N/A"}},{"$f":"MATCH(BN$3,Millwall!$AD77:$AO77,0)","v":{"$error":"#N/A"}},{"$f":"MATCH(BO$3,Millwall!$AD77:$AO77,0)","v":{"$error":"#N/A"}},{"$f":"MATCH(BP$3,Millwall!$AD77:$AO77,0)","v":{"$error":"#N/A"}},{"$f":"MATCH(BQ$3,Millwall!$AD77:$AO77,0)","v":{"$error":"#N/A"}},{"$f":"MATCH(BR$3,Millwall!$AD77:$AO77,0)","v":{"$error":"#N/A"}},{"$f":"MATCH(BS$3,Millwall!$AD77:$AO77,0)","v":{"$error":"#N/A"}},{"$f":"MATCH(BT$3,Millwall!$AD77:$AO77,0)","v":{"$error":"#N/A"}},{"$f":"MATCH(BU$3,Millwall!$AD77:$AO77,0)","v":{"$error":"#N/A"}},{"$f":"MATCH(BV$3,Millwall!$AD77:$AO77,0)","v":{"$error":"#N/A"}},{"$f":"MATCH(BW$3,Millwall!$AD77:$AO77,0)","v":{"$error":"#N/A"}},{"$f":"MATCH(BX$3,Millwall!$AD77:$AO77,0)","v":{"$error":"#N/A"}},{"$f":"MATCH(BY$3,Millwall!$AD77:$AO77,0)","v":{"$error":"#N/A"}},{"$f":"MATCH(BZ$3,Millwall!$AD77:$AO77,0)","v":{"$error":"#N/A"}},{"$f":"MATCH(CA$3,Millwall!$AD77:$AO77,0)","v":{"$error":"#N/A"}},{"$f":"MATCH(CB$3,Millwall!$AD77:$AO77,0)","v":{"$error":"#N/A"}},{"$f":"MATCH(CC$3,Millwall!$AD77:$AO77,0)","v":{"$error":"#N/A"}},{"$f":"MATCH(CD$3,Millwall!$AD77:$AO77,0)","v":{"$error":"#N/A"}},{"$f":"MATCH(CE$3,Millwall!$AD77:$AO77,0)","v":{"$error":"#N/A"}},null,null,null,null,null,null,{"$f":"$CM$7&\" [**\"","v":"Chatterton [**"},{"$f":"Millwall!$AA161","v":"Chatterton"},{"$f":"Millwall!$AA161&\" (**\"","v":"Chatterton (**"},{"$f":"$CM$7&\"**\"","v":"Chatterton**"},null,{"$f":"$CM$7","v":"Chatterton"},{"$f":"$CN$7","v":"Chatterton (**"},{"$f":"$CO$7","v":"Chatterton**"},null,{"$f":"Millwall!$CE$8","v":0},{"$f":"Millwall!$CJ$8","v":0},{"$f":"Millwall!$CO$8","v":0},{"$f":"Millwall!$CT$8","v":7}]
[null,null,0,4,null,{"$f":"Millwall!Z78","v":"1983-09-10"},null,{"$f":"Millwall!AA78","v":"Hull City"},{"$f":"Millwall!AB78","v":"(A)"},{"$f":"Millwall!AC78","v":"L 0-5"},{"$f":"MATCH(K$4,Millwall!$AD78:$AO78,0)","v":7},{"$f":"MATCH(L$4,Millwall!$AD78:$AO78,0)","v":{"$error":"#N/A"}},{"$f":"MATCH(M$4,Millwall!$AD78:$AO78,0)","v":11},{"$f":"MATCH(N$4,Millwall!$AD78:$AO78,0)","v":{"$error":"#N/A"}},{"$f":"MATCH(O$4,Millwall!$AD78:$AO78,0)","v":{"$error":"#N/A"}},{"$f":"MATCH(P$4,Millwall!$AD78:$AO78,0)","v":6},{"$f":"MATCH(Q$4,Millwall!$AD78:$AO78,0)","v":2},{"$f":"MATCH(R$4,Millwall!$AD78:$AO78,0)","v":8},{"$f":"MATCH(S$4,Millwall!$AD78:$AO78,0)","v":12},{"$f":"MATCH(T$4,Millwall!$AD78:$AO78,0)","v":{"$error":"#N/A"}},{"$f":"MATCH(U$4,Millwall!$AD78:$AO78,0)","v":{"$error":"#N/A"}},{"$f":"MATCH(V$4,Millwall!$AD78:$AO78,0)","v":9},{"$f":"MATCH(W$4,Millwall!$AD78:$AO78,0)","v":{"$error":"#N/A"}},{"$f":"MATCH(X$4,Millwall!$AD78:$AO78,0)","v":5},{"$f":"MATCH(Y$4,Millwall!$AD78:$AO78,0)","v":10},{"$f":"MATCH(Z$4,Millwall!$AD78:$AO78,0)","v":4},{"$f":"MATCH(AA$4,Millwall!$AD78:$AO78,0)","v":{"$error":"#N/A"}},{"$f":"MATCH(AB$4,Millwall!$AD78:$AO78,0)","v":{"$error":"#N/A"}},{"$f":"MATCH(AC$4,Millwall!$AD78:$AO78,0)","v":{"$error":"#N/A"}},{"$f":"MATCH(AD$4,Millwall!$AD78:$AO78,0)","v":{"$error":"#N/A"}},{"$f":"MATCH(AE$4,Millwall!$AD78:$AO78,0)","v":3},{"$f":"MATCH(AF$4,Millwall!$AD78:$AO78,0)","v":1},{"$f":"MATCH(AG$4,Millwall!$AD78:$AO78,0)","v":{"$error":"#N/A"}},{"$f":"MATCH(AH$4,Millwall!$AD78:$AO78,0)","v":{"$error":"#N/A"}},{"$f":"MATCH(AI$4,Millwall!$AD78:$AO78,0)","v":{"$error":"#N/A"}},{"$f":"MATCH(AJ$4,Millwall!$AD78:$AO78,0)","v":{"$error":"#N/A"}},{"$f":"MATCH(AK$4,Millwall!$AD78:$AO78,0)","v":{"$error":"#N/A"}},{"$f":"MATCH(AL$4,Millwall!$AD78:$AO78,0)","v":{"$error":"#N/A"}},{"$f":"MATCH(AM$4,Millwall!$AD78:$AO78,0)","v":{"$error":"#N/A"}},{"$f":"MATCH(AN$4,Millwall!$AD78:$AO78,0)","v":{"$error":"#N/A"}},{"$f":"MATCH(AO$4,Millwall!$AD78:$AO78,0)","v":{"$error":"#N/A"}},{"$f":"MATCH(AP$4,Millwall!$AD78:$AO78,0)","v":{"$error":"#N/A"}},{"$f":"MATCH(AQ$4,Millwall!$AD78:$AO78,0)","v":{"$error":"#N/A"}},{"$f":"MATCH(AR$4,Millwall!$AB78:$AM78,0)","v":{"$error":"#N/A"}},null,null,null,null,null,{"$f":"MATCH(AX$3,Millwall!$AD78:$AO78,0)","v":{"$error":"#N/A"}},{"$f":"MATCH(AY$3,Millwall!$AD78:$AO78,0)","v":{"$error":"#N/A"}},{"$f":"MATCH(AZ$3,Millwall!$AD78:$AO78,0)","v":{"$error":"#N/A"}},{"$f":"MATCH(BA$3,Millwall!$AD78:$AO78,0)","v":{"$error":"#N/A"}},{"$f":"MATCH(BB$3,Millwall!$AD78:$AO78,0)","v":{"$error":"#N/A"}},{"$f":"MATCH(BC$3,Millwall!$AD78:$AO78,0)","v":{"$error":"#N/A"}},{"$f":"MATCH(BD$3,Millwall!$AD78:$AO78,0)","v":{"$error":"#N/A"}},{"$f":"MATCH(BE$3,Millwall!$AD78:$AO78,0)","v":{"$error":"#N/A"}},{"$f":"MATCH(BF$3,Millwall!$AD78:$AO78,0)","v":12},{"$f":"MATCH(BG$3,Millwall!$AD78:$AO78,0)","v":{"$error":"#N/A"}},{"$f":"MATCH(BH$3,Millwall!$AD78:$AO78,0)","v":{"$error":"#N/A"}},{"$f":"MATCH(BI$3,Millwall!$AD78:$AO78,0)","v":{"$error":"#N/A"}},{"$f":"MATCH(BJ$3,Millwall!$AD78:$AO78,0)","v":{"$error":"#N/A"}},{"$f":"MATCH(BK$3,Millwall!$AD78:$AO78,0)","v":{"$error":"#N/A"}},{"$f":"MATCH(BL$3,Millwall!$AD78:$AO78,0)","v":{"$error":"#N/A"}},{"$f":"MATCH(BM$3,Millwall!$AD78:$AO78,0)","v":4},{"$f":"MATCH(BN$3,Millwall!$AD78:$AO78,0)","v":{"$error":"#N/A"}},{"$f":"MATCH(BO$3,Millwall!$AD78:$AO78,0)","v":{"$error":"#N/A"}},{"$f":"MATCH(BP$3,Millwall!$AD78:$AO78,0)","v":{"$error":"#N/A"}},{"$f":"MATCH(BQ$3,Millwall!$AD78:$AO78,0)","v":{"$error":"#N/A"}},{"$f":"MATCH(BR$3,Millwall!$AD78:$AO78,0)","v":{"$error":"#N/A"}},{"$f":"MATCH(BS$3,Millwall!$AD78:$AO78,0)","v":{"$error":"#N/A"}},{"$f":"MATCH(BT$3,Millwall!$AD78:$AO78,0)","v":{"$error":"#N/A"}},{"$f":"MATCH(BU$3,Millwall!$AD78:$AO78,0)","v":{"$error":"#N/A"}},{"$f":"MATCH(BV$3,Millwall!$AD78:$AO78,0)","v":{"$error":"#N/A"}},{"$f":"MATCH(BW$3,Millwall!$AD78:$AO78,0)","v":{"$error":"#N/A"}},{"$f":"MATCH(BX$3,Millwall!$AD78:$AO78,0)","v":{"$error":"#N/A"}},{"$f":"MATCH(BY$3,Millwall!$AD78:$AO78,0)","v":{"$error":"#N/A"}},{"$f":"MATCH(BZ$3,Millwall!$AD78:$AO78,0)","v":{"$error":"#N/A"}},{"$f":"MATCH(CA$3,Millwall!$AD78:$AO78,0)","v":{"$error":"#N/A"}},{"$f":"MATCH(CB$3,Millwall!$AD78:$AO78,0)","v":{"$error":"#N/A"}},{"$f":"MATCH(CC$3,Millwall!$AD78:$AO78,0)","v":{"$error":"#N/A"}},{"$f":"MATCH(CD$3,Millwall!$AD78:$AO78,0)","v":{"$error":"#N/A"}},{"$f":"MATCH(CE$3,Millwall!$AD78:$AO78,0)","v":{"$error":"#N/A"}},null,null,null,null,null,null,{"$f":"$CM$8&\" [**\"","v":"Coleman [**"},{"$f":"Millwall!$AA162","v":"Coleman"},{"$f":"Millwall!$AA162&\" (**\"","v":"Coleman (**"},{"$f":"$CM$8&\"**\"","v":"Coleman**"},null,{"$f":"$CM$8","v":"Coleman"},{"$f":"$CN$8","v":"Coleman (**"},{"$f":"$CO$8","v":"Coleman**"},null,{"$f":"Millwall!$CE$9","v":0},{"$f":"Millwall!$CJ$9","v":0},{"$f":"Millwall!$CO$9","v":0},{"$f":"Millwall!$CT$9","v":34}]
[null,null,0,5,null,{"$f":"Millwall!Z79","v":"1983-09-17"},null,{"$f":"Millwall!AA79","v":"Bournemouth"},{"$f":"Millwall!AB79","v":"(H)"},{"$f":"Millwall!AC79","v":"W 3-1"},{"$f":"MATCH(K$4,Millwall!$AD79:$AO79,0)","v":7},{"$f":"MATCH(L$4,Millwall!$AD79:$AO79,0)","v":{"$error":"#N/A"}},{"$f":"MATCH(M$4,Millwall!$AD79:$AO79,0)","v":11},{"$f":"MATCH(N$4,Millwall!$AD79:$AO79,0)","v":{"$error":"#N/A"}},{"$f":"MATCH(O$4,Millwall!$AD79:$AO79,0)","v":{"$error":"#N/A"}},{"$f":"MATCH(P$4,Millwall!$AD79:$AO79,0)","v":6},{"$f":"MATCH(Q$4,Millwall!$AD79:$AO79,0)","v":2},{"$f":"MATCH(R$4,Millwall!$AD79:$AO79,0)","v":8},{"$f":"MATCH(S$4,Millwall!$AD79:$AO79,0)","v":12},{"$f":"MATCH(T$4,Millwall!$AD79:$AO79,0)","v":{"$error":"#N/A"}},{"$f":"MATCH(U$4,Millwall!$AD79:$AO79,0)","v":{"$error":"#N/A"}},{"$f":"MATCH(V$4,Millwall!$AD79:$AO79,0)","v":9},{"$f":"MATCH(W$4,Millwall!$AD79:$AO79,0)","v":{"$error":"#N/A"}},{"$f":"MATCH(X$4,Millwall!$AD79:$AO79,0)","v":5},{"$f":"MATCH(Y$4,Millwall!$AD79:$AO79,0)","v":10},{"$f":"MATCH(Z$4,Millwall!$AD79:$AO79,0)","v":{"$error":"#N/A"}},{"$f":"MATCH(AA$4,Millwall!$AD79:$AO79,0)","v":1},{"$f":"MATCH(AB$4,Millwall!$AD79:$AO79,0)","v":{"$error":"#N/A"}},{"$f":"MATCH(AC$4,Millwall!$AD79:$AO79,0)","v":{"$error":"#N/A"}},{"$f":"MATCH(AD$4,Millwall!$AD79:$AO79,0)","v":{"$error":"#N/A"}},{"$f":"MATCH(AE$4,Millwall!$AD79:$AO79,0)","v":3},{"$f":"MATCH(AF$4,Millwall!$AD79:$AO79,0)","v":{"$error":"#N/A"}},{"$f":"MATCH(AG$4,Millwall!$AD79:$AO79,0)","v":4},{"$f":"MATCH(AH$4,Millwall!$AD79:$AO79,0)","v":{"$error":"#N/A"}},{"$f":"MATCH(AI$4,Millwall!$AD79:$AO79,0)","v":{"$error":"#N/A"}},{"$f":"MATCH(AJ$4,Millwall!$AD79:$AO79,0)","v":{"$error":"#N/A"}},{"$f":"MATCH(AK$4,Millwall!$AD79:$AO79,0)","v":{"$error":"#N/A"}},{"$f":"MATCH(AL$4,Millwall!$AD79:$AO79,0)","v":{"$error":"#N/A"}},{"$f":"MATCH(AM$4,Millwall!$AD79:$AO79,0)","v":{"$error":"#N/A"}},{"$f":"MATCH(AN$4,Millwall!$AD79:$AO79,0)","v":{"$error":"#N/A"}},{"$f":"MATCH(AO$4,Millwall!$AD79:$AO79,0)","v":{"$error":"#N/A"}},{"$f":"MATCH(AP$4,Millwall!$AD79:$AO79,0)","v":{"$error":"#N/A"}},{"$f":"MATCH(AQ$4,Millwall!$AD79:$AO79,0)","v":{"$error":"#N/A"}},{"$f":"MATCH(AR$4,Millwall!$AB79:$AM79,0)","v":{"$error":"#N/A"}},null,null,null,null,null,{"$f":"MATCH(AX$3,Millwall!$AD79:$AO79,0)","v":{"$error":"#N/A"}},{"$f":"MATCH(AY$3,Millwall!$AD79:$AO79,0)","v":{"$error":"#N/A"}},{"$f":"MATCH(AZ$3,Millwall!$AD79:$AO79,0)","v":{"$error":"#N/A"}},{"$f":"MATCH(BA$3,Millwall!$AD79:$AO79,0)","v":{"$error":"#N/A"}},{"$f":"MATCH(BB$3,Millwall!$AD79:$AO79,0)","v":{"$error":"#N/A"}},{"$f":"MATCH(BC$3,Millwall!$AD79:$AO79,0)","v":{"$error":"#N/A"}},{"$f":"MATCH(BD$3,Millwall!$AD79:$AO79,0)","v":{"$error":"#N/A"}},{"$f":"MATCH(BE$3,Millwall!$AD79:$AO79,0)","v":{"$error":"#N/A"}},{"$f":"MATCH(BF$3,Millwall!$AD79:$AO79,0)","v":{"$error":"#N/A"}},{"$f":"MATCH(BG$3,Millwall!$AD79:$AO79,0)","v":{"$error":"#N/A"}},{"$f":"MATCH(BH$3,Millwall!$AD79:$AO79,0)","v":{"$error":"#N/A"}},{"$f":"MATCH(BI$3,Millwall!$AD79:$AO79,0)","v":{"$error":"#N/A"}},{"$f":"MATCH(BJ$3,Millwall!$AD79:$AO79,0)","v":{"$error":"#N/A"}},{"$f":"MATCH(BK$3,Millwall!$AD79:$AO79,0)","v":{"$error":"#N/A"}},{"$f":"MATCH(BL$3,Millwall!$AD79:$AO79,0)","v":{"$error":"#N/A"}},{"$f":"MATCH(BM$3,Millwall!$AD79:$AO79,0)","v":{"$error":"#N/A"}},{"$f":"MATCH(BN$3,Millwall!$AD79:$AO79,0)","v":{"$error":"#N/A"}},{"$f":"MATCH(BO$3,Millwall!$AD79:$AO79,0)","v":{"$error":"#N/A"}},{"$f":"MATCH(BP$3,Millwall!$AD79:$AO79,0)","v":{"$error":"#N/A"}},{"$f":"MATCH(BQ$3,Millwall!$AD79:$AO79,0)","v":{"$error":"#N/A"}},{"$f":"MATCH(BR$3,Millwall!$AD79:$AO79,0)","v":{"$error":"#N/A"}},{"$f":"MATCH(BS$3,Millwall!$AD79:$AO79,0)","v":{"$error":"#N/A"}},{"$f":"MATCH(BT$3,Millwall!$AD79:$AO79,0)","v":{"$error":"#N/A"}},{"$f":"MATCH(BU$3,Millwall!$AD79:$AO79,0)","v":{"$error":"#N/A"}},{"$f":"MATCH(BV$3,Millwall!$AD79:$AO79,0)","v":{"$error":"#N/A"}},{"$f":"MATCH(BW$3,Millwall!$AD79:$AO79,0)","v":{"$error":"#N/A"}},{"$f":"MATCH(BX$3,Millwall!$AD79:$AO79,0)","v":{"$error":"#N/A"}},{"$f":"MATCH(BY$3,Millwall!$AD79:$AO79,0)","v":{"$error":"#N/A"}},{"$f":"MATCH(BZ$3,Millwall!$AD79:$AO79,0)","v":{"$error":"#N/A"}},{"$f":"MATCH(CA$3,Millwall!$AD79:$AO79,0)","v":{"$error":"#N/A"}},{"$f":"MATCH(CB$3,Millwall!$AD79:$AO79,0)","v":{"$error":"#N/A"}},{"$f":"MATCH(CC$3,Millwall!$AD79:$AO79,0)","v":{"$error":"#N/A"}},{"$f":"MATCH(CD$3,Millwall!$AD79:$AO79,0)","v":{"$error":"#N/A"}},{"$f":"MATCH(CE$3,Millwall!$AD79:$AO79,0)","v":{"$error":"#N/A"}},null,null,null,null,null,null,{"$f":"$CM$9&\" [**\"","v":"Cowley [**"},{"$f":"Millwall!$AA163","v":"Cowley"},{"$f":"Millwall!$AA163&\" (**\"","v":"Cowley (**"},{"$f":"$CM$9&\"**\"","v":"Cowley**"},null,{"$f":"$CM$9","v":"Cowley"},{"$f":"$CN$9","v":"Cowley (**"},{"$f":"$CO$9","v":"Cowley**"},null,{"$f":"Millwall!$CE$10","v":0},{"$f":"Millwall!$CJ$10","v":0},{"$f":"Millwall!$CO$10","v":0},{"$f":"Millwall!$CT$10","v":1}]
[null,null,0,6,null,{"$f":"Millwall!Z80","v":"1983-09-19"},null,{"$f":"Millwall!AA80","v":"Southend"},{"$f":"Millwall!AB80","v":"(A)"},{"$f":"Millwall!AC80","v":"L 2-3"},{"$f":"MATCH(K$4,Millwall!$AD80:$AO80,0)","v":7},{"$f":"MATCH(L$4,Millwall!$AD80:$AO80,0)","v":{"$error":"#N/A"}},{"$f":"MATCH(M$4,Millwall!$AD80:$AO80,0)","v":11},{"$f":"MATCH(N$4,Millwall!$AD80:$AO80,0)","v":{"$error":"#N/A"}},{"$f":"MATCH(O$4,Millwall!$AD80:$AO80,0)","v":{"$error":"#N/A"}},{"$f":"MATCH(P$4,Millwall!$AD80:$AO80,0)","v":6},{"$f":"MATCH(Q$4,Millwall!$AD80:$AO80,0)","v":2},{"$f":"MATCH(R$4,Millwall!$AD80:$AO80,0)","v":8},{"$f":"MATCH(S$4,Millwall!$AD80:$AO80,0)","v":12},{"$f":"MATCH(T$4,Millwall!$AD80:$AO80,0)","v":{"$error":"#N/A"}},{"$f":"MATCH(U$4,Millwall!$AD80:$AO80,0)","v":{"$error":"#N/A"}},{"$f":"MATCH(V$4,Millwall!$AD80:$AO80,0)","v":9},{"$f":"MATCH(W$4,Millwall!$AD80:$AO80,0)","v":{"$error":"#N/A"}},{"$f":"MATCH(X$4,Millwall!$AD80:$AO80,0)","v":5},{"$f":"MATCH(Y$4,Millwall!$AD80:$AO80,0)","v":10},{"$f":"MATCH(Z$4,Millwall!$AD80:$AO80,0)","v":{"$error":"#N/A"}},{"$f":"MATCH(AA$4,Millwall!$AD80:$AO80,0)","v":1},{"$f":"MATCH(AB$4,Millwall!$AD80:$AO80,0)","v":{"$error":"#N/A"}},{"$f":"MATCH(AC$4,Millwall!$AD80:$AO80,0)","v":{"$error":"#N/A"}},{"$f":"MATCH(AD$4,Millwall!$AD80:$AO80,0)","v":{"$error":"#N/A"}},{"$f":"MATCH(AE$4,Millwall!$AD80:$AO80,0)","v":3},{"$f":"MATCH(AF$4,Millwall!$AD80:$AO80,0)","v":{"$error":"#N/A"}},{"$f":"MATCH(AG$4,Millwall!$AD80:$AO80,0)","v":4},{"$f":"MATCH(AH$4,Millwall!$AD80:$AO80,0)","v":{"$error":"#N/A"}},{"$f":"MATCH(AI$4,Millwall!$AD80:$AO80,0)","v":{"$error":"#N/A"}},{"$f":"MATCH(AJ$4,Millwall!$AD80:$AO80,0)","v":{"$error":"#N/A"}},{"$f":"MATCH(AK$4,Millwall!$AD80:$AO80,0)","v":{"$error":"#N/A"}},{"$f":"MATCH(AL$4,Millwall!$AD80:$AO80,0)","v":{"$error":"#N/A"}},{"$f":"MATCH(AM$4,Millwall!$AD80:$AO80,0)","v":{"$error":"#N/A"}},{"$f":"MATCH(AN$4,Millwall!$AD80:$AO80,0)","v":{"$error":"#N/A"}},{"$f":"MATCH(AO$4,Millwall!$AD80:$AO80,0)","v":{"$error":"#N/A"}},{"$f":"MATCH(AP$4,Millwall!$AD80:$AO80,0)","v":{"$error":"#N/A"}},{"$f":"MATCH(AQ$4,Millwall!$AD80:$AO80,0)","v":{"$error":"#N/A"}},{"$f":"MATCH(AR$4,Millwall!$AB80:$AM80,0)","v":{"$error":"#N/A"}},null,null,null,null,null,{"$f":"MATCH(AX$3,Millwall!$AD80:$AO80,0)","v":{"$error":"#N/A"}},{"$f":"MATCH(AY$3,Millwall!$AD80:$AO80,0)","v":{"$error":"#N/A"}},{"$f":"MATCH(AZ$3,Millwall!$AD80:$AO80,0)","v":{"$error":"#N/A"}},{"$f":"MATCH(BA$3,Millwall!$AD80:$AO80,0)","v":{"$error":"#N/A"}},{"$f":"MATCH(BB$3,Millwall!$AD80:$AO80,0)","v":{"$error":"#N/A"}},{"$f":"MATCH(BC$3,Millwall!$AD80:$AO80,0)","v":{"$error":"#N/A"}},{"$f":"MATCH(BD$3,Millwall!$AD80:$AO80,0)","v":{"$error":"#N/A"}},{"$f":"MATCH(BE$3,Millwall!$AD80:$AO80,0)","v":8},{"$f":"MATCH(BF$3,Millwall!$AD80:$AO80,0)","v":12},{"$f":"MATCH(BG$3,Millwall!$AD80:$AO80,0)","v":{"$error":"#N/A"}},{"$f":"MATCH(BH$3,Millwall!$AD80:$AO80,0)","v":{"$error":"#N/A"}},{"$f":"MATCH(BI$3,Millwall!$AD80:$AO80,0)","v":{"$error":"#N/A"}},{"$f":"MATCH(BJ$3,Millwall!$AD80:$AO80,0)","v":{"$error":"#N/A"}},{"$f":"MATCH(BK$3,Millwall!$AD80:$AO80,0)","v":{"$error":"#N/A"}},{"$f":"MATCH(BL$3,Millwall!$AD80:$AO80,0)","v":{"$error":"#N/A"}},{"$f":"MATCH(BM$3,Millwall!$AD80:$AO80,0)","v":{"$error":"#N/A"}},{"$f":"MATCH(BN$3,Millwall!$AD80:$AO80,0)","v":{"$error":"#N/A"}},{"$f":"MATCH(BO$3,Millwall!$AD80:$AO80,0)","v":{"$error":"#N/A"}},{"$f":"MATCH(BP$3,Millwall!$AD80:$AO80,0)","v":{"$error":"#N/A"}},{"$f":"MATCH(BQ$3,Millwall!$AD80:$AO80,0)","v":{"$error":"#N/A"}},{"$f":"MATCH(BR$3,Millwall!$AD80:$AO80,0)","v":{"$error":"#N/A"}},{"$f":"MATCH(BS$3,Millwall!$AD80:$AO80,0)","v":{"$error":"#N/A"}},{"$f":"MATCH(BT$3,Millwall!$AD80:$AO80,0)","v":{"$error":"#N/A"}},{"$f":"MATCH(BU$3,Millwall!$AD80:$AO80,0)","v":{"$error":"#N/A"}},{"$f":"MATCH(BV$3,Millwall!$AD80:$AO80,0)","v":{"$error":"#N/A"}},{"$f":"MATCH(BW$3,Millwall!$AD80:$AO80,0)","v":{"$error":"#N/A"}},{"$f":"MATCH(BX$3,Millwall!$AD80:$AO80,0)","v":{"$error":"#N/A"}},{"$f":"MATCH(BY$3,Millwall!$AD80:$AO80,0)","v":{"$error":"#N/A"}},{"$f":"MATCH(BZ$3,Millwall!$AD80:$AO80,0)","v":{"$error":"#N/A"}},{"$f":"MATCH(CA$3,Millwall!$AD80:$AO80,0)","v":{"$error":"#N/A"}},{"$f":"MATCH(CB$3,Millwall!$AD80:$AO80,0)","v":{"$error":"#N/A"}},{"$f":"MATCH(CC$3,Millwall!$AD80:$AO80,0)","v":{"$error":"#N/A"}},{"$f":"MATCH(CD$3,Millwall!$AD80:$AO80,0)","v":{"$error":"#N/A"}},{"$f":"MATCH(CE$3,Millwall!$AD80:$AO80,0)","v":{"$error":"#N/A"}},null,null,null,null,null,null,{"$f":"$CM$10&\" [**\"","v":"Cusack [**"},{"$f":"Millwall!$AA164","v":"Cusack"},{"$f":"Millwall!$AA164&\" (**\"","v":"Cusack (**"},{"$f":"$CM$10&\"**\"","v":"Cusack**"},null,{"$f":"$CM$10","v":"Cusack"},{"$f":"$CN$10","v":"Cusack (**"},{"$f":"$CO$10","v":"Cusack**"},null,{"$f":"Millwall!$CE$11","v":0},{"$f":"Millwall!$CJ$11","v":0},{"$f":"Millwall!$CO$11","v":0},{"$f":"Millwall!$CT$11","v":3}]
[null,null,0,7,null,{"$f":"Millwall!Z81","v":"1983-09-24"},null,{"$f":"Millwall!AA81","v":"Oxford"},{"$f":"Millwall!AB81","v":"(A)"},{"$f":"Millwall!AC81","v":"L 2-4"},{"$f":"MATCH(K$4,Millwall!$AD81:$AO81,0)","v":7},{"$f":"MATCH(L$4,Millwall!$AD81:$AO81,0)","v":{"$error":"#N/A"}},{"$f":"MATCH(M$4,Millwall!$AD81:$AO81,0)","v":11},{"$f":"MATCH(N$4,Millwall!$AD81:$AO81,0)","v":{"$error":"#N/A"}},{"$f":"MATCH(O$4,Millwall!$AD81:$AO81,0)","v":{"$error":"#N/A"}},{"$f":"MATCH(P$4,Millwall!$AD81:$AO81,0)","v":6},{"$f":"MATCH(Q$4,Millwall!$AD81:$AO81,0)","v":2},{"$f":"MATCH(R$4,Millwall!$AD81:$AO81,0)","v":8},{"$f":"MATCH(S$4,Millwall!$AD81:$AO81,0)","v":{"$error":"#N/A"}},{"$f":"MATCH(T$4,Millwall!$AD81:$AO81,0)","v":{"$error":"#N/A"}},{"$f":"MATCH(U$4,Millwall!$AD81:$AO81,0)","v":{"$error":"#N/A"}},{"$f":"MATCH(V$4,Millwall!$AD81:$AO81,0)","v":9},{"$f":"MATCH(W$4,Millwall!$AD81:$AO81,0)","v":{"$error":"#N/A"}},{"$f":"MATCH(X$4,Millwall!$AD81:$AO81,0)","v":5},{"$f":"MATCH(Y$4,Millwall!$AD81:$AO81,0)","v":10},{"$f":"MATCH(Z$4,Millwall!$AD81:$AO81,0)","v":12},{"$f":"MATCH(AA$4,Millwall!$AD81:$AO81,0)","v":1},{"$f":"MATCH(AB$4,Millwall!$AD81:$AO81,0)","v":{"$error":"#N/A"}},{"$f":"MATCH(AC$4,Millwall!$AD81:$AO81,0)","v":{"$error":"#N/A"}},{"$f":"MATCH(AD$4,Millwall!$AD81:$AO81,0)","v":{"$error":"#N/A"}},{"$f":"MATCH(AE$4,Millwall!$AD81:$AO81,0)","v":3},{"$f":"MATCH(AF$4,Millwall!$AD81:$AO81,0)","v":{"$error":"#N/A"}},{"$f":"MATCH(AG$4,Millwall!$AD81:$AO81,0)","v":4},{"$f":"MATCH(AH$4,Millwall!$AD81:$AO81,0)","v":{"$error":"#N/A"}},{"$f":"MATCH(AI$4,Millwall!$AD81:$AO81,0)","v":{"$error":"#N/A"}},{"$f":"MATCH(AJ$4,Millwall!$AD81:$AO81,0)","v":{"$error":"#N/A"}},{"$f":"MATCH(AK$4,Millwall!$AD81:$AO81,0)","v":{"$error":"#N/A"}},{"$f":"MATCH(AL$4,Millwall!$AD81:$AO81,0)","v":{"$error":"#N/A"}},{"$f":"MATCH(AM$4,Millwall!$AD81:$AO81,0)","v":{"$error":"#N/A"}},{"$f":"MATCH(AN$4,Millwall!$AD81:$AO81,0)","v":{"$error":"#N/A"}},{"$f":"MATCH(AO$4,Millwall!$AD81:$AO81,0)","v":{"$error":"#N/A"}},{"$f":"MATCH(AP$4,Millwall!$AD81:$AO81,0)","v":{"$error":"#N/A"}},{"$f":"MATCH(AQ$4,Millwall!$AD81:$AO81,0)","v":{"$error":"#N/A"}},{"$f":"MATCH(AR$4,Millwall!$AB81:$AM81,0)","v":{"$error":"#N/A"}},null,null,null,null,null,{"$f":"MATCH(AX$3,Millwall!$AD81:$AO81,0)","v":{"$error":"#N/A"}},{"$f":"MATCH(AY$3,Millwall!$AD81:$AO81,0)","v":{"$error":"#N/A"}},{"$f":"MATCH(AZ$3,Millwall!$AD81:$AO81,0)","v":{"$error":"#N/A"}},{"$f":"MATCH(BA$3,Millwall!$AD81:$AO81,0)","v":{"$error":"#N/A"}},{"$f":"MATCH(BB$3,Millwall!$AD81:$AO81,0)","v":{"$error":"#N/A"}},{"$f":"MATCH(BC$3,Millwall!$AD81:$AO81,0)","v":{"$error":"#N/A"}},{"$f":"MATCH(BD$3,Millwall!$AD81:$AO81,0)","v":{"$error":"#N/A"}},{"$f":"MATCH(BE$3,Millwall!$AD81:$AO81,0)","v":{"$error":"#N/A"}},{"$f":"MATCH(BF$3,Millwall!$AD81:$AO81,0)","v":{"$error":"#N/A"}},{"$f":"MATCH(BG$3,Millwall!$AD81:$AO81,0)","v":{"$error":"#N/A"}},{"$f":"MATCH(BH$3,Millwall!$AD81:$AO81,0)","v":{"$error":"#N/A"}},{"$f":"MATCH(BI$3,Millwall!$AD81:$AO81,0)","v":{"$error":"#N/A"}},{"$f":"MATCH(BJ$3,Millwall!$AD81:$AO81,0)","v":{"$error":"#N/A"}},{"$f":"MATCH(BK$3,Millwall!$AD81:$AO81,0)","v":{"$error":"#N/A"}},{"$f":"MATCH(BL$3,Millwall!$AD81:$AO81,0)","v":{"$error":"#N/A"}},{"$f":"MATCH(BM$3,Millwall!$AD81:$AO81,0)","v":{"$error":"#N/A"}},{"$f":"MATCH(BN$3,Millwall!$AD81:$AO81,0)","v":{"$error":"#N/A"}},{"$f":"MATCH(BO$3,Millwall!$AD81:$AO81,0)","v":{"$error":"#N/A"}},{"$f":"MATCH(BP$3,Millwall!$AD81:$AO81,0)","v":{"$error":"#N/A"}},{"$f":"MATCH(BQ$3,Millwall!$AD81:$AO81,0)","v":{"$error":"#N/A"}},{"$f":"MATCH(BR$3,Millwall!$AD81:$AO81,0)","v":{"$error":"#N/A"}},{"$f":"MATCH(BS$3,Millwall!$AD81:$AO81,0)","v":{"$error":"#N/A"}},{"$f":"MATCH(BT$3,Millwall!$AD81:$AO81,0)","v":{"$error":"#N/A"}},{"$f":"MATCH(BU$3,Millwall!$AD81:$AO81,0)","v":{"$error":"#N/A"}},{"$f":"MATCH(BV$3,Millwall!$AD81:$AO81,0)","v":{"$error":"#N/A"}},{"$f":"MATCH(BW$3,Millwall!$AD81:$AO81,0)","v":{"$error":"#N/A"}},{"$f":"MATCH(BX$3,Millwall!$AD81:$AO81,0)","v":{"$error":"#N/A"}},{"$f":"MATCH(BY$3,Millwall!$AD81:$AO81,0)","v":{"$error":"#N/A"}},{"$f":"MATCH(BZ$3,Millwall!$AD81:$AO81,0)","v":{"$error":"#N/A"}},{"$f":"MATCH(CA$3,Millwall!$AD81:$AO81,0)","v":{"$error":"#N/A"}},{"$f":"MATCH(CB$3,Millwall!$AD81:$AO81,0)","v":{"$error":"#N/A"}},{"$f":"MATCH(CC$3,Millwall!$AD81:$AO81,0)","v":{"$error":"#N/A"}},{"$f":"MATCH(CD$3,Millwall!$AD81:$AO81,0)","v":{"$error":"#N/A"}},{"$f":"MATCH(CE$3,Millwall!$AD81:$AO81,0)","v":{"$error":"#N/A"}},null,null,null,null,null,null,{"$f":"$CM$11&\" [**\"","v":"Lovell [**"},{"$f":"Millwall!$AA165","v":"Lovell"},{"$f":"Millwall!$AA165&\" (**\"","v":"Lovell (**"},{"$f":"$CM$11&\"**\"","v":"Lovell**"},null,{"$f":"$CM$11","v":"Lovell"},{"$f":"$CN$11","v":"Lovell (**"},{"$f":"$CO$11","v":"Lovell**"},null,{"$f":"Millwall!$CE$12","v":0},{"$f":"Millwall!$CJ$12","v":0},{"$f":"Millwall!$CO$12","v":0},{"$f":"Millwall!$CT$12","v":49}]
[null,null,0,8,null,{"$f":"Millwall!Z82","v":"1983-10-01"},null,{"$f":"Millwall!AA82","v":"Sheff Utd"},{"$f":"Millwall!AB82","v":"(H)"},{"$f":"Millwall!AC82","v":"L 1-2"},{"$f":"MATCH(K$4,Millwall!$AD82:$AO82,0)","v":12},{"$f":"MATCH(L$4,Millwall!$AD82:$AO82,0)","v":{"$error":"#N/A"}},{"$f":"MATCH(M$4,Millwall!$AD82:$AO82,0)","v":11},{"$f":"MATCH(N$4,Millwall!$AD82:$AO82,0)","v":{"$error":"#N/A"}},{"$f":"MATCH(O$4,Millwall!$AD82:$AO82,0)","v":{"$error":"#N/A"}},{"$f":"MATCH(P$4,Millwall!$AD82:$AO82,0)","v":6},{"$f":"MATCH(Q$4,Millwall!$AD82:$AO82,0)","v":2},{"$f":"MATCH(R$4,Millwall!$AD82:$AO82,0)","v":7},{"$f":"MATCH(S$4,Millwall!$AD82:$AO82,0)","v":9},{"$f":"MATCH(T$4,Millwall!$AD82:$AO82,0)","v":{"$error":"#N/A"}},{"$f":"MATCH(U$4,Millwall!$AD82:$AO82,0)","v":{"$error":"#N/A"}},{"$f":"MATCH(V$4,Millwall!$AD82:$AO82,0)","v":8},{"$f":"MATCH(W$4,Millwall!$AD82:$AO82,0)","v":{"$error":"#N/A"}},{"$f":"MATCH(X$4,Millwall!$AD82:$AO82,0)","v":5},{"$f":"MATCH(Y$4,Millwall!$AD82:$AO82,0)","v":10},{"$f":"MATCH(Z$4,Millwall!$AD82:$AO82,0)","v":3},{"$f":"MATCH(AA$4,Millwall!$AD82:$AO82,0)","v":{"$error":"#N/A"}},{"$f":"MATCH(AB$4,Millwall!$AD82:$AO82,0)","v":{"$error":"#N/A"}},{"$f":"MATCH(AC$4,Millwall!$AD82:$AO82,0)","v":{"$error":"#N/A"}},{"$f":"MATCH(AD$4,Millwall!$AD82:$AO82,0)","v":{"$error":"#N/A"}},{"$f":"MATCH(AE$4,Millwall!$AD82:$AO82,0)","v":{"$error":"#N/A"}},{"$f":"MATCH(AF$4,Millwall!$AD82:$AO82,0)","v":1},{"$f":"MATCH(AG$4,Millwall!$AD82:$AO82,0)","v":4},{"$f":"MATCH(AH$4,Millwall!$AD82:$AO82,0)","v":{"$error":"#N/A"}},{"$f":"MATCH(AI$4,Millwall!$AD82:$AO82,0)","v":{"$error":"#N/A"}},{"$f":"MATCH(AJ$4,Millwall!$AD82:$AO82,0)","v":{"$error":"#N/A"}},{"$f":"MATCH(AK$4,Millwall!$AD82:$AO82,0)","v":{"$error":"#N/A"}},{"$f":"MATCH(AL$4,Millwall!$AD82:$AO82,0)","v":{"$error":"#N/A"}},{"$f":"MATCH(AM$4,Millwall!$AD82:$AO82,0)","v":{"$error":"#N/A"}},{"$f":"MATCH(AN$4,Millwall!$AD82:$AO82,0)","v":{"$error":"#N/A"}},{"$f":"MATCH(AO$4,Millwall!$AD82:$AO82,0)","v":{"$error":"#N/A"}},{"$f":"MATCH(AP$4,Millwall!$AD82:$AO82,0)","v":{"$error":"#N/A"}},{"$f":"MATCH(AQ$4,Millwall!$AD82:$AO82,0)","v":{"$error":"#N/A"}},{"$f":"MATCH(AR$4,Millwall!$AB82:$AM82,0)","v":{"$error":"#N/A"}},null,null,null,null,null,{"$f":"MATCH(AX$3,Millwall!$AD82:$AO82,0)","v":12},{"$f":"MATCH(AY$3,Millwall!$AD82:$AO82,0)","v":{"$error":"#N/A"}},{"$f":"MATCH(AZ$3,Millwall!$AD82:$AO82,0)","v":{"$error":"#N/A"}},{"$f":"MATCH(BA$3,Millwall!$AD82:$AO82,0)","v":{"$error":"#N/A"}},{"$f":"MATCH(BB$3,Millwall!$AD82:$AO82,0)","v":{"$error":"#N/A"}},{"$f":"MATCH(BC$3,Millwall!$AD82:$AO82,0)","v":{"$error":"#N/A"}},{"$f":"MATCH(BD$3,Millwall!$AD82:$AO82,0)","v":{"$error":"#N/A"}},{"$f":"MATCH(BE$3,Millwall!$AD82:$AO82,0)","v":{"$error":"#N/A"}},{"$f":"MATCH(BF$3,Millwall!$AD82:$AO82,0)","v":9},{"$f":"MATCH(BG$3,Millwall!$AD82:$AO82,0)","v":{"$error":"#N/A"}},{"$f":"MATCH(BH$3,Millwall!$AD82:$AO82,0)","v":{"$error":"#N/A"}},{"$f":"MATCH(BI$3,Millwall!$AD82:$AO82,0)","v":{"$error":"#N/A"}},{"$f":"MATCH(BJ$3,Millwall!$AD82:$AO82,0)","v":{"$error":"#N/A"}},{"$f":"MATCH(BK$3,Millwall!$AD82:$AO82,0)","v":{"$error":"#N/A"}},{"$f":"MATCH(BL$3,Millwall!$AD82:$AO82,0)","v":{"$error":"#N/A"}},{"$f":"MATCH(BM$3,Millwall!$AD82:$AO82,0)","v":{"$error":"#N/A"}},{"$f":"MATCH(BN$3,Millwall!$AD82:$AO82,0)","v":{"$error":"#N/A"}},{"$f":"MATCH(BO$3,Millwall!$AD82:$AO82,0)","v":{"$error":"#N/A"}},{"$f":"MATCH(BP$3,Millwall!$AD82:$AO82,0)","v":{"$error":"#N/A"}},{"$f":"MATCH(BQ$3,Millwall!$AD82:$AO82,0)","v":{"$error":"#N/A"}},{"$f":"MATCH(BR$3,Millwall!$AD82:$AO82,0)","v":{"$error":"#N/A"}},{"$f":"MATCH(BS$3,Millwall!$AD82:$AO82,0)","v":{"$error":"#N/A"}},{"$f":"MATCH(BT$3,Millwall!$AD82:$AO82,0)","v":{"$error":"#N/A"}},{"$f":"MATCH(BU$3,Millwall!$AD82:$AO82,0)","v":{"$error":"#N/A"}},{"$f":"MATCH(BV$3,Millwall!$AD82:$AO82,0)","v":{"$error":"#N/A"}},{"$f":"MATCH(BW$3,Millwall!$AD82:$AO82,0)","v":{"$error":"#N/A"}},{"$f":"MATCH(BX$3,Millwall!$AD82:$AO82,0)","v":{"$error":"#N/A"}},{"$f":"MATCH(BY$3,Millwall!$AD82:$AO82,0)","v":{"$error":"#N/A"}},{"$f":"MATCH(BZ$3,Millwall!$AD82:$AO82,0)","v":{"$error":"#N/A"}},{"$f":"MATCH(CA$3,Millwall!$AD82:$AO82,0)","v":{"$error":"#N/A"}},{"$f":"MATCH(CB$3,Millwall!$AD82:$AO82,0)","v":{"$error":"#N/A"}},{"$f":"MATCH(CC$3,Millwall!$AD82:$AO82,0)","v":{"$error":"#N/A"}},{"$f":"MATCH(CD$3,Millwall!$AD82:$AO82,0)","v":{"$error":"#N/A"}},{"$f":"MATCH(CE$3,Millwall!$AD82:$AO82,0)","v":{"$error":"#N/A"}},null,null,null,null,null,null,{"$f":"$CM$12&\" [**\"","v":"Lowndes [**"},{"$f":"Millwall!$AA166","v":"Lowndes"},{"$f":"Millwall!$AA166&\" (**\"","v":"Lowndes (**"},{"$f":"$CM$12&\"**\"","v":"Lowndes**"},null,{"$f":"$CM$12","v":"Lowndes"},{"$f":"$CN$12","v":"Lowndes (**"},{"$f":"$CO$12","v":"Lowndes**"},null,{"$f":"Millwall!$CE$13","v":0},{"$f":"Millwall!$CJ$13","v":0},{"$f":"Millwall!$CO$13","v":0},{"$f":"Millwall!$CT$13","v":57}]
[null,null,0,9,null,{"$f":"Millwall!Z83","v":"1983-10-09"},null,{"$f":"Millwall!AA83","v":"Burnley"},{"$f":"Millwall!AB83","v":"(H)"},{"$f":"Millwall!AC83","v":"W 2-0"},{"$f":"MATCH(K$4,Millwall!$AD83:$AO83,0)","v":9},{"$f":"MATCH(L$4,Millwall!$AD83:$AO83,0)","v":{"$error":"#N/A"}},{"$f":"MATCH(M$4,Millwall!$AD83:$AO83,0)","v":11},{"$f":"MATCH(N$4,Millwall!$AD83:$AO83,0)","v":{"$error":"#N/A"}},{"$f":"MATCH(O$4,Millwall!$AD83:$AO83,0)","v":{"$error":"#N/A"}},{"$f":"MATCH(P$4,Millwall!$AD83:$AO83,0)","v":6},{"$f":"MATCH(Q$4,Millwall!$AD83:$AO83,0)","v":2},{"$f":"MATCH(R$4,Millwall!$AD83:$AO83,0)","v":7},{"$f":"MATCH(S$4,Millwall!$AD83:$AO83,0)","v":5},{"$f":"MATCH(T$4,Millwall!$AD83:$AO83,0)","v":{"$error":"#N/A"}},{"$f":"MATCH(U$4,Millwall!$AD83:$AO83,0)","v":12},{"$f":"MATCH(V$4,Millwall!$AD83:$AO83,0)","v":8},{"$f":"MATCH(W$4,Millwall!$AD83:$AO83,0)","v":{"$error":"#N/A"}},{"$f":"MATCH(X$4,Millwall!$AD83:$AO83,0)","v":{"$error":"#N/A"}},{"$f":"MATCH(Y$4,Millwall!$AD83:$AO83,0)","v":{"$error":"#N/A"}},{"$f":"MATCH(Z$4,Millwall!$AD83:$AO83,0)","v":10},{"$f":"MATCH(AA$4,Millwall!$AD83:$AO83,0)","v":{"$error":"#N/A"}},{"$f":"MATCH(AB$4,Millwall!$AD83:$AO83,0)","v":{"$error":"#N/A"}},{"$f":"MATCH(AC$4,Millwall!$AD83:$AO83,0)","v":{"$error":"#N/A"}},{"$f":"MATCH(AD$4,Millwall!$AD83:$AO83,0)","v":{"$error":"#N/A"}},{"$f":"MATCH(AE$4,Millwall!$AD83:$AO83,0)","v":3},{"$f":"MATCH(AF$4,Millwall!$AD83:$AO83,0)","v":1},{"$f":"MATCH(AG$4,Millwall!$AD83:$AO83,0)","v":4},{"$f":"MATCH(AH$4,Millwall!$AD83:$AO83,0)","v":{"$error":"#N/A"}},{"$f":"MATCH(AI$4,Millwall!$AD83:$AO83,0)","v":{"$error":"#N/A"}},{"$f":"MATCH(AJ$4,Millwall!$AD83:$AO83,0)","v":{"$error":"#N/A"}},{"$f":"MATCH(AK$4,Millwall!$AD83:$AO83,0)","v":{"$error":"#N/A"}},{"$f":"MATCH(AL$4,Millwall!$AD83:$AO83,0)","v":{"$error":"#N/A"}},{"$f":"MATCH(AM$4,Millwall!$AD83:$AO83,0)","v":{"$error":"#N/A"}},{"$f":"MATCH(AN$4,Millwall!$AD83:$AO83,0)","v":{"$error":"#N/A"}},{"$f":"MATCH(AO$4,Millwall!$AD83:$AO83,0)","v":{"$error":"#N/A"}},{"$f":"MATCH(AP$4,Millwall!$AD83:$AO83,0)","v":{"$error":"#N/A"}},{"$f":"MATCH(AQ$4,Millwall!$AD83:$AO83,0)","v":{"$error":"#N/A"}},{"$f":"MATCH(AR$4,Millwall!$AB83:$AM83,0)","v":{"$error":"#N/A"}},null,null,null,null,null,{"$f":"MATCH(AX$3,Millwall!$AD83:$AO83,0)","v":{"$error":"#N/A"}},{"$f":"MATCH(AY$3,Millwall!$AD83:$AO83,0)","v":{"$error":"#N/A"}},{"$f":"MATCH(AZ$3,Millwall!$AD83:$AO83,0)","v":{"$error":"#N/A"}},{"$f":"MATCH(BA$3,Millwall!$AD83:$AO83,0)","v":{"$error":"#N/A"}},{"$f":"MATCH(BB$3,Millwall!$AD83:$AO83,0)","v":{"$error":"#N/A"}},{"$f":"MATCH(BC$3,Millwall!$AD83:$AO83,0)","v":{"$error":"#N/A"}},{"$f":"MATCH(BD$3,Millwall!$AD83:$AO83,0)","v":{"$error":"#N/A"}},{"$f":"MATCH(BE$3,Millwall!$AD83:$AO83,0)","v":{"$error":"#N/A"}},{"$f":"MATCH(BF$3,Millwall!$AD83:$AO83,0)","v":{"$error":"#N/A"}},{"$f":"MATCH(BG$3,Millwall!$AD83:$AO83,0)","v":{"$error":"#N/A"}},{"$f":"MATCH(BH$3,Millwall!$AD83:$AO83,0)","v":{"$error":"#N/A"}},{"$f":"MATCH(BI$3,Millwall!$AD83:$AO83,0)","v":{"$error":"#N/A"}},{"$f":"MATCH(BJ$3,Millwall!$AD83:$AO83,0)","v":{"$error":"#N/A"}},{"$f":"MATCH(BK$3,Millwall!$AD83:$AO83,0)","v":{"$error":"#N/A"}},{"$f":"MATCH(BL$3,Millwall!$AD83:$AO83,0)","v":{"$error":"#N/A"}},{"$f":"MATCH(BM$3,Millwall!$AD83:$AO83,0)","v":{"$error":"#N/A"}},{"$f":"MATCH(BN$3,Millwall!$AD83:$AO83,0)","v":{"$error":"#N/A"}},{"$f":"MATCH(BO$3,Millwall!$AD83:$AO83,0)","v":{"$error":"#N/A"}},{"$f":"MATCH(BP$3,Millwall!$AD83:$AO83,0)","v":{"$error":"#N/A"}},{"$f":"MATCH(BQ$3,Millwall!$AD83:$AO83,0)","v":{"$error":"#N/A"}},{"$f":"MATCH(BR$3,Millwall!$AD83:$AO83,0)","v":{"$error":"#N/A"}},{"$f":"MATCH(BS$3,Millwall!$AD83:$AO83,0)","v":{"$error":"#N/A"}},{"$f":"MATCH(BT$3,Millwall!$AD83:$AO83,0)","v":{"$error":"#N/A"}},{"$f":"MATCH(BU$3,Millwall!$AD83:$AO83,0)","v":{"$error":"#N/A"}},{"$f":"MATCH(BV$3,Millwall!$AD83:$AO83,0)","v":{"$error":"#N/A"}},{"$f":"MATCH(BW$3,Millwall!$AD83:$AO83,0)","v":{"$error":"#N/A"}},{"$f":"MATCH(BX$3,Millwall!$AD83:$AO83,0)","v":{"$error":"#N/A"}},{"$f":"MATCH(BY$3,Millwall!$AD83:$AO83,0)","v":{"$error":"#N/A"}},{"$f":"MATCH(BZ$3,Millwall!$AD83:$AO83,0)","v":{"$error":"#N/A"}},{"$f":"MATCH(CA$3,Millwall!$AD83:$AO83,0)","v":{"$error":"#N/A"}},{"$f":"MATCH(CB$3,Millwall!$AD83:$AO83,0)","v":{"$error":"#N/A"}},{"$f":"MATCH(CC$3,Millwall!$AD83:$AO83,0)","v":{"$error":"#N/A"}},{"$f":"MATCH(CD$3,Millwall!$AD83:$AO83,0)","v":{"$error":"#N/A"}},{"$f":"MATCH(CE$3,Millwall!$AD83:$AO83,0)","v":{"$error":"#N/A"}},null,null,null,null,null,null,{"$f":"$CM$13&\" [**\"","v":"Martin [**"},{"$f":"Millwall!$AA167","v":"Martin"},{"$f":"Millwall!$AA167&\" (**\"","v":"Martin (**"},{"$f":"$CM$13&\"**\"","v":"Martin**"},null,{"$f":"$CM$13","v":"Martin"},{"$f":"$CN$13","v":"Martin (**"},{"$f":"$CO$13","v":"Martin**"},null,{"$f":"Millwall!$CE$14","v":0},{"$f":"Millwall!$CJ$14","v":0},{"$f":"Millwall!$CO$14","v":0},{"$f":"Millwall!$CT$14","v":25}]
[null,null,0,10,null,{"$f":"Millwall!Z84","v":"1983-10-15"},null,{"$f":"Millwall!AA84","v":"Lincoln"},{"$f":"Millwall!AB84","v":"(A)"},{"$f":"Millwall!AC84","v":"D 2-2"},{"$f":"MATCH(K$4,Millwall!$AD84:$AO84,0)","v":9},{"$f":"MATCH(L$4,Millwall!$AD84:$AO84,0)","v":{"$error":"#N/A"}},{"$f":"MATCH(M$4,Millwall!$AD84:$AO84,0)","v":11},{"$f":"MATCH(N$4,Millwall!$AD84:$AO84,0)","v":{"$error":"#N/A"}},{"$f":"MATCH(O$4,Millwall!$AD84:$AO84,0)","v":{"$error":"#N/A"}},{"$f":"MATCH(P$4,Millwall!$AD84:$AO84,0)","v":6},{"$f":"MATCH(Q$4,Millwall!$AD84:$AO84,0)","v":2},{"$f":"MATCH(R$4,Millwall!$AD84:$AO84,0)","v":7},{"$f":"MATCH(S$4,Millwall!$AD84:$AO84,0)","v":5},{"$f":"MATCH(T$4,Millwall!$AD84:$AO84,0)","v":{"$error":"#N/A"}},{"$f":"MATCH(U$4,Millwall!$AD84:$AO84,0)","v":12},{"$f":"MATCH(V$4,Millwall!$AD84:$AO84,0)","v":8},{"$f":"MATCH(W$4,Millwall!$AD84:$AO84,0)","v":{"$error":"#N/A"}},{"$f":"MATCH(X$4,Millwall!$AD84:$AO84,0)","v":{"$error":"#N/A"}},{"$f":"MATCH(Y$4,Millwall!$AD84:$AO84,0)","v":{"$error":"#N/A"}},{"$f":"MATCH(Z$4,Millwall!$AD84:$AO84,0)","v":10},{"$f":"MATCH(AA$4,Millwall!$AD84:$AO84,0)","v":{"$error":"#N/A"}},{"$f":"MATCH(AB$4,Millwall!$AD84:$AO84,0)","v":{"$error":"#N/A"}},{"$f":"MATCH(AC$4,Millwall!$AD84:$AO84,0)","v":{"$error":"#N/A"}},{"$f":"MATCH(AD$4,Millwall!$AD84:$AO84,0)","v":{"$error":"#N/A"}},{"$f":"MATCH(AE$4,Millwall!$AD84:$AO84,0)","v":3},{"$f":"MATCH(AF$4,Millwall!$AD84:$AO84,0)","v":1},{"$f":"MATCH(AG$4,Millwall!$AD84:$AO84,0)","v":4},{"$f":"MATCH(AH$4,Millwall!$AD84:$AO84,0)","v":{"$error":"#N/A"}},{"$f":"MATCH(AI$4,Millwall!$AD84:$AO84,0)","v":{"$error":"#N/A"}},{"$f":"MATCH(AJ$4,Millwall!$AD84:$AO84,0)","v":{"$error":"#N/A"}},{"$f":"MATCH(AK$4,Millwall!$AD84:$AO84,0)","v":{"$error":"#N/A"}},{"$f":"MATCH(AL$4,Millwall!$AD84:$AO84,0)","v":{"$error":"#N/A"}},{"$f":"MATCH(AM$4,Millwall!$AD84:$AO84,0)","v":{"$error":"#N/A"}},{"$f":"MATCH(AN$4,Millwall!$AD84:$AO84,0)","v":{"$error":"#N/A"}},{"$f":"MATCH(AO$4,Millwall!$AD84:$AO84,0)","v":{"$error":"#N/A"}},{"$f":"MATCH(AP$4,Millwall!$AD84:$AO84,0)","v":{"$error":"#N/A"}},{"$f":"MATCH(AQ$4,Millwall!$AD84:$AO84,0)","v":{"$error":"#N/A"}},{"$f":"MATCH(AR$4,Millwall!$AB84:$AM84,0)","v":{"$error":"#N/A"}},null,null,null,null,null,{"$f":"MATCH(AX$3,Millwall!$AD84:$AO84,0)","v":{"$error":"#N/A"}},{"$f":"MATCH(AY$3,Millwall!$AD84:$AO84,0)","v":{"$error":"#N/A"}},{"$f":"MATCH(AZ$3,Millwall!$AD84:$AO84,0)","v":{"$error":"#N/A"}},{"$f":"MATCH(BA$3,Millwall!$AD84:$AO84,0)","v":{"$error":"#N/A"}},{"$f":"MATCH(BB$3,Millwall!$AD84:$AO84,0)","v":{"$error":"#N/A"}},{"$f":"MATCH(BC$3,Millwall!$AD84:$AO84,0)","v":{"$error":"#N/A"}},{"$f":"MATCH(BD$3,Millwall!$AD84:$AO84,0)","v":{"$error":"#N/A"}},{"$f":"MATCH(BE$3,Millwall!$AD84:$AO84,0)","v":{"$error":"#N/A"}},{"$f":"MATCH(BF$3,Millwall!$AD84:$AO84,0)","v":{"$error":"#N/A"}},{"$f":"MATCH(BG$3,Millwall!$AD84:$AO84,0)","v":{"$error":"#N/A"}},{"$f":"MATCH(BH$3,Millwall!$AD84:$AO84,0)","v":12},{"$f":"MATCH(BI$3,Millwall!$AD84:$AO84,0)","v":{"$error":"#N/A"}},{"$f":"MATCH(BJ$3,Millwall!$AD84:$AO84,0)","v":{"$error":"#N/A"}},{"$f":"MATCH(BK$3,Millwall!$AD84:$AO84,0)","v":{"$error":"#N/A"}},{"$f":"MATCH(BL$3,Millwall!$AD84:$AO84,0)","v":{"$error":"#N/A"}},{"$f":"MATCH(BM$3,Millwall!$AD84:$AO84,0)","v":10},{"$f":"MATCH(BN$3,Millwall!$AD84:$AO84,0)","v":{"$error":"#N/A"}},{"$f":"MATCH(BO$3,Millwall!$AD84:$AO84,0)","v":{"$error":"#N/A"}},{"$f":"MATCH(BP$3,Millwall!$AD84:$AO84,0)","v":{"$error":"#N/A"}},{"$f":"MATCH(BQ$3,Millwall!$AD84:$AO84,0)","v":{"$error":"#N/A"}},{"$f":"MATCH(BR$3,Millwall!$AD84:$AO84,0)","v":{"$error":"#N/A"}},{"$f":"MATCH(BS$3,Millwall!$AD84:$AO84,0)","v":{"$error":"#N/A"}},{"$f":"MATCH(BT$3,Millwall!$AD84:$AO84,0)","v":{"$error":"#N/A"}},{"$f":"MATCH(BU$3,Millwall!$AD84:$AO84,0)","v":{"$error":"#N/A"}},{"$f":"MATCH(BV$3,Millwall!$AD84:$AO84,0)","v":{"$error":"#N/A"}},{"$f":"MATCH(BW$3,Millwall!$AD84:$AO84,0)","v":{"$error":"#N/A"}},{"$f":"MATCH(BX$3,Millwall!$AD84:$AO84,0)","v":{"$error":"#N/A"}},{"$f":"MATCH(BY$3,Millwall!$AD84:$AO84,0)","v":{"$error":"#N/A"}},{"$f":"MATCH(BZ$3,Millwall!$AD84:$AO84,0)","v":{"$error":"#N/A"}},{"$f":"MATCH(CA$3,Millwall!$AD84:$AO84,0)","v":{"$error":"#N/A"}},{"$f":"MATCH(CB$3,Millwall!$AD84:$AO84,0)","v":{"$error":"#N/A"}},{"$f":"MATCH(CC$3,Millwall!$AD84:$AO84,0)","v":{"$error":"#N/A"}},{"$f":"MATCH(CD$3,Millwall!$AD84:$AO84,0)","v":{"$error":"#N/A"}},{"$f":"MATCH(CE$3,Millwall!$AD84:$AO84,0)","v":{"$error":"#N/A"}},null,null,null,null,null,null,{"$f":"$CM$14&\" [**\"","v":"Massey [**"},{"$f":"Millwall!$AA168","v":"Massey"},{"$f":"Millwall!$AA168&\" (**\"","v":"Massey (**"},{"$f":"$CM$14&\"**\"","v":"Massey**"},null,{"$f":"$CM$14","v":"Massey"},{"$f":"$CN$14","v":"Massey (**"},{"$f":"$CO$14","v":"Massey**"},null,{"$f":"Millwall!$CE$15","v":0},{"$f":"Millwall!$CJ$15","v":2},{"$f":"Millwall!$CO$15","v":0},{"$f":"Millwall!$CT$15","v":33}]
[null,null,0,11,null,{"$f":"Millwall!Z85","v":"1983-10-18"},null,{"$f":"Millwall!AA85","v":"Rotherham"},{"$f":"Millwall!AB85","v":"(A)"},{"$f":"Millwall!AC85","v":"L 0-1"},{"$f":"MATCH(K$4,Millwall!$AD85:$AO85,0)","v":9},{"$f":"MATCH(L$4,Millwall!$AD85:$AO85,0)","v":{"$error":"#N/A"}},{"$f":"MATCH(M$4,Millwall!$AD85:$AO85,0)","v":11},{"$f":"MATCH(N$4,Millwall!$AD85:$AO85,0)","v":{"$error":"#N/A"}},{"$f":"MATCH(O$4,Millwall!$AD85:$AO85,0)","v":{"$error":"#N/A"}},{"$f":"MATCH(P$4,Millwall!$AD85:$AO85,0)","v":6},{"$f":"MATCH(Q$4,Millwall!$AD85:$AO85,0)","v":2},{"$f":"MATCH(R$4,Millwall!$AD85:$AO85,0)","v":7},{"$f":"MATCH(S$4,Millwall!$AD85:$AO85,0)","v":5},{"$f":"MATCH(T$4,Millwall!$AD85:$AO85,0)","v":{"$error":"#N/A"}},{"$f":"MATCH(U$4,Millwall!$AD85:$AO85,0)","v":12},{"$f":"MATCH(V$4,Millwall!$AD85:$AO85,0)","v":8},{"$f":"MATCH(W$4,Millwall!$AD85:$AO85,0)","v":{"$error":"#N/A"}},{"$f":"MATCH(X$4,Millwall!$AD85:$AO85,0)","v":{"$error":"#N/A"}},{"$f":"MATCH(Y$4,Millwall!$AD85:$AO85,0)","v":{"$error":"#N/A"}},{"$f":"MATCH(Z$4,Millwall!$AD85:$AO85,0)","v":10},{"$f":"MATCH(AA$4,Millwall!$AD85:$AO85,0)","v":{"$error":"#N/A"}},{"$f":"MATCH(AB$4,Millwall!$AD85:$AO85,0)","v":{"$error":"#N/A"}},{"$f":"MATCH(AC$4,Millwall!$AD85:$AO85,0)","v":{"$error":"#N/A"}},{"$f":"MATCH(AD$4,Millwall!$AD85:$AO85,0)","v":{"$error":"#N/A"}},{"$f":"MATCH(AE$4,Millwall!$AD85:$AO85,0)","v":3},{"$f":"MATCH(AF$4,Millwall!$AD85:$AO85,0)","v":1},{"$f":"MATCH(AG$4,Millwall!$AD85:$AO85,0)","v":4},{"$f":"MATCH(AH$4,Millwall!$AD85:$AO85,0)","v":{"$error":"#N/A"}},{"$f":"MATCH(AI$4,Millwall!$AD85:$AO85,0)","v":{"$error":"#N/A"}},{"$f":"MATCH(AJ$4,Millwall!$AD85:$AO85,0)","v":{"$error":"#N/A"}},{"$f":"MATCH(AK$4,Millwall!$AD85:$AO85,0)","v":{"$error":"#N/A"}},{"$f":"MATCH(AL$4,Millwall!$AD85:$AO85,0)","v":{"$error":"#N/A"}},{"$f":"MATCH(AM$4,Millwall!$AD85:$AO85,0)","v":{"$error":"#N/A"}},{"$f":"MATCH(AN$4,Millwall!$AD85:$AO85,0)","v":{"$error":"#N/A"}},{"$f":"MATCH(AO$4,Millwall!$AD85:$AO85,0)","v":{"$error":"#N/A"}},{"$f":"MATCH(AP$4,Millwall!$AD85:$AO85,0)","v":{"$error":"#N/A"}},{"$f":"MATCH(AQ$4,Millwall!$AD85:$AO85,0)","v":{"$error":"#N/A"}},{"$f":"MATCH(AR$4,Millwall!$AB85:$AM85,0)","v":{"$error":"#N/A"}},null,null,null,null,null,{"$f":"MATCH(AX$3,Millwall!$AD85:$AO85,0)","v":{"$error":"#N/A"}},{"$f":"MATCH(AY$3,Millwall!$AD85:$AO85,0)","v":{"$error":"#N/A"}},{"$f":"MATCH(AZ$3,Millwall!$AD85:$AO85,0)","v":{"$error":"#N/A"}},{"$f":"MATCH(BA$3,Millwall!$AD85:$AO85,0)","v":{"$error":"#N/A"}},{"$f":"MATCH(BB$3,Millwall!$AD85:$AO85,0)","v":{"$error":"#N/A"}},{"$f":"MATCH(BC$3,Millwall!$AD85:$AO85,0)","v":{"$error":"#N/A"}},{"$f":"MATCH(BD$3,Millwall!$AD85:$AO85,0)","v":{"$error":"#N/A"}},{"$f":"MATCH(BE$3,Millwall!$AD85:$AO85,0)","v":{"$error":"#N/A"}},{"$f":"MATCH(BF$3,Millwall!$AD85:$AO85,0)","v":{"$error":"#N/A"}},{"$f":"MATCH(BG$3,Millwall!$AD85:$AO85,0)","v":{"$error":"#N/A"}},{"$f":"MATCH(BH$3,Millwall!$AD85:$AO85,0)","v":12},{"$f":"MATCH(BI$3,Millwall!$AD85:$AO85,0)","v":{"$error":"#N/A"}},{"$f":"MATCH(BJ$3,Millwall!$AD85:$AO85,0)","v":{"$error":"#N/A"}},{"$f":"MATCH(BK$3,Millwall!$AD85:$AO85,0)","v":{"$error":"#N/A"}},{"$f":"MATCH(BL$3,Millwall!$AD85:$AO85,0)","v":{"$error":"#N/A"}},{"$f":"MATCH(BM$3,Millwall!$AD85:$AO85,0)","v":10},{"$f":"MATCH(BN$3,Millwall!$AD85:$AO85,0)","v":{"$error":"#N/A"}},{"$f":"MATCH(BO$3,Millwall!$AD85:$AO85,0)","v":{"$error":"#N/A"}},{"$f":"MATCH(BP$3,Millwall!$AD85:$AO85,0)","v":{"$error":"#N/A"}},{"$f":"MATCH(BQ$3,Millwall!$AD85:$AO85,0)","v":{"$error":"#N/A"}},{"$f":"MATCH(BR$3,Millwall!$AD85:$AO85,0)","v":{"$error":"#N/A"}},{"$f":"MATCH(BS$3,Millwall!$AD85:$AO85,0)","v":{"$error":"#N/A"}},{"$f":"MATCH(BT$3,Millwall!$AD85:$AO85,0)","v":{"$error":"#N/A"}},{"$f":"MATCH(BU$3,Millwall!$AD85:$AO85,0)","v":{"$error":"#N/A"}},{"$f":"MATCH(BV$3,Millwall!$AD85:$AO85,0)","v":{"$error":"#N/A"}},{"$f":"MATCH(BW$3,Millwall!$AD85:$AO85,0)","v":{"$error":"#N/A"}},{"$f":"MATCH(BX$3,Millwall!$AD85:$AO85,0)","v":{"$error":"#N/A"}},{"$f":"MATCH(BY$3,Millwall!$AD85:$AO85,0)","v":{"$error":"#N/A"}},{"$f":"MATCH(BZ$3,Millwall!$AD85:$AO85,0)","v":{"$error":"#N/A"}},{"$f":"MATCH(CA$3,Millwall!$AD85:$AO85,0)","v":{"$error":"#N/A"}},{"$f":"MATCH(CB$3,Millwall!$AD85:$AO85,0)","v":{"$error":"#N/A"}},{"$f":"MATCH(CC$3,Millwall!$AD85:$AO85,0)","v":{"$error":"#N/A"}},{"$f":"MATCH(CD$3,Millwall!$AD85:$AO85,0)","v":{"$error":"#N/A"}},{"$f":"MATCH(CE$3,Millwall!$AD85:$AO85,0)","v":{"$error":"#N/A"}},null,null,null,null,null,null,{"$f":"$CM$15&\" [**\"","v":"McLeary [**"},{"$f":"Millwall!$AA169","v":"McLeary"},{"$f":"Millwall!$AA169&\" (**\"","v":"McLeary (**"},{"$f":"$CM$15&\"**\"","v":"McLeary**"},null,{"$f":"$CM$15","v":"McLeary"},{"$f":"$CN$15","v":"McLeary (**"},{"$f":"$CO$15","v":"McLeary**"},null,{"$f":"Millwall!$CE$16","v":0},{"$f":"Millwall!$CJ$16","v":0},{"$f":"Millwall!$CO$16","v":0},{"$f":"Millwall!$CT$16","v":10}]
[null,null,0,12,null,{"$f":"Millwall!Z86","v":"1983-10-21"},null,{"$f":"Millwall!AA86","v":"Preston"},{"$f":"Millwall!AB86","v":"(H)"},{"$f":"Millwall!AC86","v":"W 1-0"},{"$f":"MATCH(K$4,Millwall!$AD86:$AO86,0)","v":9},{"$f":"MATCH(L$4,Millwall!$AD86:$AO86,0)","v":10},{"$f":"MATCH(M$4,Millwall!$AD86:$AO86,0)","v":11},{"$f":"MATCH(N$4,Millwall!$AD86:$AO86,0)","v":{"$error":"#N/A"}},{"$f":"MATCH(O$4,Millwall!$AD86:$AO86,0)","v":{"$error":"#N/A"}},{"$f":"MATCH(P$4,Millwall!$AD86:$AO86,0)","v":6},{"$f":"MATCH(Q$4,Millwall!$AD86:$AO86,0)","v":2},{"$f":"MATCH(R$4,Millwall!$AD86:$AO86,0)","v":7},{"$f":"MATCH(S$4,Millwall!$AD86:$AO86,0)","v":12},{"$f":"MATCH(T$4,Millwall!$AD86:$AO86,0)","v":{"$error":"#N/A"}},{"$f":"MATCH(U$4,Millwall!$AD86:$AO86,0)","v":{"$error":"#N/A"}},{"$f":"MATCH(V$4,Millwall!$AD86:$AO86,0)","v":8},{"$f":"MATCH(W$4,Millwall!$AD86:$AO86,0)","v":{"$error":"#N/A"}},{"$f":"MATCH(X$4,Millwall!$AD86:$AO86,0)","v":5},{"$f":"MATCH(Y$4,Millwall!$AD86:$AO86,0)","v":{"$error":"#N/A"}},{"$f":"MATCH(Z$4,Millwall!$AD86:$AO86,0)","v":{"$error":"#N/A"}},{"$f":"MATCH(AA$4,Millwall!$AD86:$AO86,0)","v":{"$error":"#N/A"}},{"$f":"MATCH(AB$4,Millwall!$AD86:$AO86,0)","v":{"$error":"#N/A"}},{"$f":"MATCH(AC$4,Millwall!$AD86:$AO86,0)","v":{"$error":"#N/A"}},{"$f":"MATCH(AD$4,Millwall!$AD86:$AO86,0)","v":{"$error":"#N/A"}},{"$f":"MATCH(AE$4,Millwall!$AD86:$AO86,0)","v":3},{"$f":"MATCH(AF$4,Millwall!$AD86:$AO86,0)","v":1},{"$f":"MATCH(AG$4,Millwall!$AD86:$AO86,0)","v":4},{"$f":"MATCH(AH$4,Millwall!$AD86:$AO86,0)","v":{"$error":"#N/A"}},{"$f":"MATCH(AI$4,Millwall!$AD86:$AO86,0)","v":{"$error":"#N/A"}},{"$f":"MATCH(AJ$4,Millwall!$AD86:$AO86,0)","v":{"$error":"#N/A"}},{"$f":"MATCH(AK$4,Millwall!$AD86:$AO86,0)","v":{"$error":"#N/A"}},{"$f":"MATCH(AL$4,Millwall!$AD86:$AO86,0)","v":{"$error":"#N/A"}},{"$f":"MATCH(AM$4,Millwall!$AD86:$AO86,0)","v":{"$error":"#N/A"}},{"$f":"MATCH(AN$4,Millwall!$AD86:$AO86,0)","v":{"$error":"#N/A"}},{"$f":"MATCH(AO$4,Millwall!$AD86:$AO86,0)","v":{"$error":"#N/A"}},{"$f":"MATCH(AP$4,Millwall!$AD86:$AO86,0)","v":{"$error":"#N/A"}},{"$f":"MATCH(AQ$4,Millwall!$AD86:$AO86,0)","v":{"$error":"#N/A"}},{"$f":"MATCH(AR$4,Millwall!$AB86:$AM86,0)","v":{"$error":"#N/A"}},null,null,null,null,null,{"$f":"MATCH(AX$3,Millwall!$AD86:$AO86,0)","v":{"$error":"#N/A"}},{"$f":"MATCH(AY$3,Millwall!$AD86:$AO86,0)","v":{"$error":"#N/A"}},{"$f":"MATCH(AZ$3,Millwall!$AD86:$AO86,0)","v":{"$error":"#N/A"}},{"$f":"MATCH(BA$3,Millwall!$AD86:$AO86,0)","v":{"$error":"#N/A"}},{"$f":"MATCH(BB$3,Millwall!$AD86:$AO86,0)","v":{"$error":"#N/A"}},{"$f":"MATCH(BC$3,Millwall!$AD86:$AO86,0)","v":{"$error":"#N/A"}},{"$f":"MATCH(BD$3,Millwall!$AD86:$AO86,0)","v":{"$error":"#N/A"}},{"$f":"MATCH(BE$3,Millwall!$AD86:$AO86,0)","v":{"$error":"#N/A"}},{"$f":"MATCH(BF$3,Millwall!$AD86:$AO86,0)","v":12},{"$f":"MATCH(BG$3,Millwall!$AD86:$AO86,0)","v":{"$error":"#N/A"}},{"$f":"MATCH(BH$3,Millwall!$AD86:$AO86,0)","v":{"$error":"#N/A"}},{"$f":"MATCH(BI$3,Millwall!$AD86:$AO86,0)","v":8},{"$f":"MATCH(BJ$3,Millwall!$AD86:$AO86,0)","v":{"$error":"#N/A"}},{"$f":"MATCH(BK$3,Millwall!$AD86:$AO86,0)","v":{"$error":"#N/A"}},{"$f":"MATCH(BL$3,Millwall!$AD86:$AO86,0)","v":{"$error":"#N/A"}},{"$f":"MATCH(BM$3,Millwall!$AD86:$AO86,0)","v":{"$error":"#N/A"}},{"$f":"MATCH(BN$3,Millwall!$AD86:$AO86,0)","v":{"$error":"#N/A"}},{"$f":"MATCH(BO$3,Millwall!$AD86:$AO86,0)","v":{"$error":"#N/A"}},{"$f":"MATCH(BP$3,Millwall!$AD86:$AO86,0)","v":{"$error":"#N/A"}},{"$f":"MATCH(BQ$3,Millwall!$AD86:$AO86,0)","v":{"$error":"#N/A"}},{"$f":"MATCH(BR$3,Millwall!$AD86:$AO86,0)","v":{"$error":"#N/A"}},{"$f":"MATCH(BS$3,Millwall!$AD86:$AO86,0)","v":{"$error":"#N/A"}},{"$f":"MATCH(BT$3,Millwall!$AD86:$AO86,0)","v":{"$error":"#N/A"}},{"$f":"MATCH(BU$3,Millwall!$AD86:$AO86,0)","v":{"$error":"#N/A"}},{"$f":"MATCH(BV$3,Millwall!$AD86:$AO86,0)","v":{"$error":"#N/A"}},{"$f":"MATCH(BW$3,Millwall!$AD86:$AO86,0)","v":{"$error":"#N/A"}},{"$f":"MATCH(BX$3,Millwall!$AD86:$AO86,0)","v":{"$error":"#N/A"}},{"$f":"MATCH(BY$3,Millwall!$AD86:$AO86,0)","v":{"$error":"#N/A"}},{"$f":"MATCH(BZ$3,Millwall!$AD86:$AO86,0)","v":{"$error":"#N/A"}},{"$f":"MATCH(CA$3,Millwall!$AD86:$AO86,0)","v":{"$error":"#N/A"}},{"$f":"MATCH(CB$3,Millwall!$AD86:$AO86,0)","v":{"$error":"#N/A"}},{"$f":"MATCH(CC$3,Millwall!$AD86:$AO86,0)","v":{"$error":"#N/A"}},{"$f":"MATCH(CD$3,Millwall!$AD86:$AO86,0)","v":{"$error":"#N/A"}},{"$f":"MATCH(CE$3,Millwall!$AD86:$AO86,0)","v":{"$error":"#N/A"}},null,null,null,null,null,null,{"$f":"$CM$16&\" [**\"","v":"D Neal [**"},{"$f":"Millwall!$AA170","v":"D Neal"},{"$f":"Millwall!$AA170&\" (**\"","v":"D Neal (**"},{"$f":"$CM$16&\"**\"","v":"D Neal**"},null,{"$f":"$CM$16","v":"D Neal"},{"$f":"$CN$16","v":"D Neal (**"},{"$f":"$CO$16","v":"D Neal**"},null,{"$f":"Millwall!$CE$17","v":0},{"$f":"Millwall!$CJ$17","v":0},{"$f":"Millwall!$CO$17","v":0},{"$f":"Millwall!$CT$17","v":31}]
[null,null,0,13,null,{"$f":"Millwall!Z87","v":"1983-10-29"},null,{"$f":"Millwall!AA87","v":"Gillingham"},{"$f":"Millwall!AB87","v":"(A)"},{"$f":"Millwall!AC87","v":"D 3-3"},{"$f":"MATCH(K$4,Millwall!$AD87:$AO87,0)","v":9},{"$f":"MATCH(L$4,Millwall!$AD87:$AO87,0)","v":10},{"$f":"MATCH(M$4,Millwall!$AD87:$AO87,0)","v":11},{"$f":"MATCH(N$4,Millwall!$AD87:$AO87,0)","v":{"$error":"#N/A"}},{"$f":"MATCH(O$4,Millwall!$AD87:$AO87,0)","v":{"$error":"#N/A"}},{"$f":"MATCH(P$4,Millwall!$AD87:$AO87,0)","v":6},{"$f":"MATCH(Q$4,Millwall!$AD87:$AO87,0)","v":2},{"$f":"MATCH(R$4,Millwall!$AD87:$AO87,0)","v":7},{"$f":"MATCH(S$4,Millwall!$AD87:$AO87,0)","v":8},{"$f":"MATCH(T$4,Millwall!$AD87:$AO87,0)","v":{"$error":"#N/A"}},{"$f":"MATCH(U$4,Millwall!$AD87:$AO87,0)","v":12},{"$f":"MATCH(V$4,Millwall!$AD87:$AO87,0)","v":{"$error":"#N/A"}},{"$f":"MATCH(W$4,Millwall!$AD87:$AO87,0)","v":{"$error":"#N/A"}},{"$f":"MATCH(X$4,Millwall!$AD87:$AO87,0)","v":5},{"$f":"MATCH(Y$4,Millwall!$AD87:$AO87,0)","v":{"$error":"#N/A"}},{"$f":"MATCH(Z$4,Millwall!$AD87:$AO87,0)","v":3},{"$f":"MATCH(AA$4,Millwall!$AD87:$AO87,0)","v":{"$error":"#N/A"}},{"$f":"MATCH(AB$4,Millwall!$AD87:$AO87,0)","v":{"$error":"#N/A"}},{"$f":"MATCH(AC$4,Millwall!$AD87:$AO87,0)","v":{"$error":"#N/A"}},{"$f":"MATCH(AD$4,Millwall!$AD87:$AO87,0)","v":{"$error":"#N/A"}},{"$f":"MATCH(AE$4,Millwall!$AD87:$AO87,0)","v":{"$error":"#N/A"}},{"$f":"MATCH(AF$4,Millwall!$AD87:$AO87,0)","v":1},{"$f":"MATCH(AG$4,Millwall!$AD87:$AO87,0)","v":4},{"$f":"MATCH(AH$4,Millwall!$AD87:$AO87,0)","v":{"$error":"#N/A"}},{"$f":"MATCH(AI$4,Millwall!$AD87:$AO87,0)","v":{"$error":"#N/A"}},{"$f":"MATCH(AJ$4,Millwall!$AD87:$AO87,0)","v":{"$error":"#N/A"}},{"$f":"MATCH(AK$4,Millwall!$AD87:$AO87,0)","v":{"$error":"#N/A"}},{"$f":"MATCH(AL$4,Millwall!$AD87:$AO87,0)","v":{"$error":"#N/A"}},{"$f":"MATCH(AM$4,Millwall!$AD87:$AO87,0)","v":{"$error":"#N/A"}},{"$f":"MATCH(AN$4,Millwall!$AD87:$AO87,0)","v":{"$error":"#N/A"}},{"$f":"MATCH(AO$4,Millwall!$AD87:$AO87,0)","v":{"$error":"#N/A"}},{"$f":"MATCH(AP$4,Millwall!$AD87:$AO87,0)","v":{"$error":"#N/A"}},{"$f":"MATCH(AQ$4,Millwall!$AD87:$AO87,0)","v":{"$error":"#N/A"}},{"$f":"MATCH(AR$4,Millwall!$AB87:$AM87,0)","v":{"$error":"#N/A"}},null,null,null,null,null,{"$f":"MATCH(AX$3,Millwall!$AD87:$AO87,0)","v":{"$error":"#N/A"}},{"$f":"MATCH(AY$3,Millwall!$AD87:$AO87,0)","v":{"$error":"#N/A"}},{"$f":"MATCH(AZ$3,Millwall!$AD87:$AO87,0)","v":{"$error":"#N/A"}},{"$f":"MATCH(BA$3,Millwall!$AD87:$AO87,0)","v":{"$error":"#N/A"}},{"$f":"MATCH(BB$3,Millwall!$AD87:$AO87,0)","v":{"$error":"#N/A"}},{"$f":"MATCH(BC$3,Millwall!$AD87:$AO87,0)","v":{"$error":"#N/A"}},{"$f":"MATCH(BD$3,Millwall!$AD87:$AO87,0)","v":{"$error":"#N/A"}},{"$f":"MATCH(BE$3,Millwall!$AD87:$AO87,0)","v":{"$error":"#N/A"}},{"$f":"MATCH(BF$3,Millwall!$AD87:$AO87,0)","v":{"$error":"#N/A"}},{"$f":"MATCH(BG$3,Millwall!$AD87:$AO87,0)","v":{"$error":"#N/A"}},{"$f":"MATCH(BH$3,Millwall!$AD87:$AO87,0)","v":{"$error":"#N/A"}},{"$f":"MATCH(BI$3,Millwall!$AD87:$AO87,0)","v":{"$error":"#N/A"}},{"$f":"MATCH(BJ$3,Millwall!$AD87:$AO87,0)","v":{"$error":"#N/A"}},{"$f":"MATCH(BK$3,Millwall!$AD87:$AO87,0)","v":{"$error":"#N/A"}},{"$f":"MATCH(BL$3,Millwall!$AD87:$AO87,0)","v":{"$error":"#N/A"}},{"$f":"MATCH(BM$3,Millwall!$AD87:$AO87,0)","v":{"$error":"#N/A"}},{"$f":"MATCH(BN$3,Millwall!$AD87:$AO87,0)","v":{"$error":"#N/A"}},{"$f":"MATCH(BO$3,Millwall!$AD87:$AO87,0)","v":{"$error":"#N/A"}},{"$f":"MATCH(BP$3,Millwall!$AD87:$AO87,0)","v":{"$error":"#N/A"}},{"$f":"MATCH(BQ$3,Millwall!$AD87:$AO87,0)","v":{"$error":"#N/A"}},{"$f":"MATCH(BR$3,Millwall!$AD87:$AO87,0)","v":{"$error":"#N/A"}},{"$f":"MATCH(BS$3,Millwall!$AD87:$AO87,0)","v":{"$error":"#N/A"}},{"$f":"MATCH(BT$3,Millwall!$AD87:$AO87,0)","v":{"$error":"#N/A"}},{"$f":"MATCH(BU$3,Millwall!$AD87:$AO87,0)","v":{"$error":"#N/A"}},{"$f":"MATCH(BV$3,Millwall!$AD87:$AO87,0)","v":{"$error":"#N/A"}},{"$f":"MATCH(BW$3,Millwall!$AD87:$AO87,0)","v":{"$error":"#N/A"}},{"$f":"MATCH(BX$3,Millwall!$AD87:$AO87,0)","v":{"$error":"#N/A"}},{"$f":"MATCH(BY$3,Millwall!$AD87:$AO87,0)","v":{"$error":"#N/A"}},{"$f":"MATCH(BZ$3,Millwall!$AD87:$AO87,0)","v":{"$error":"#N/A"}},{"$f":"MATCH(CA$3,Millwall!$AD87:$AO87,0)","v":{"$error":"#N/A"}},{"$f":"MATCH(CB$3,Millwall!$AD87:$AO87,0)","v":{"$error":"#N/A"}},{"$f":"MATCH(CC$3,Millwall!$AD87:$AO87,0)","v":{"$error":"#N/A"}},{"$f":"MATCH(CD$3,Millwall!$AD87:$AO87,0)","v":{"$error":"#N/A"}},{"$f":"MATCH(CE$3,Millwall!$AD87:$AO87,0)","v":{"$error":"#N/A"}},null,null,null,null,null,null,{"$f":"$CM$17&\" [**\"","v":"J Neal [**"},{"$f":"Millwall!$AA171","v":"J Neal"},{"$f":"Millwall!$AA171&\" (**\"","v":"J Neal (**"},{"$f":"$CM$17&\"**\"","v":"J Neal**"},null,{"$f":"$CM$17","v":"J Neal"},{"$f":"$CN$17","v":"J Neal (**"},{"$f":"$CO$17","v":"J Neal**"},null,{"$f":"Millwall!$CE$18","v":1},{"$f":"Millwall!$CJ$18","v":1},{"$f":"Millwall!$CO$18","v":0},{"$f":"Millwall!$CT$18","v":37}]
[null,null,0,14,null,{"$f":"Millwall!Z88","v":"1983-11-01"},null,{"$f":"Millwall!AA88","v":"Newport C"},{"$f":"Millwall!AB88","v":"(H)"},{"$f":"Millwall!AC88","v":"D 1-1"},{"$f":"MATCH(K$4,Millwall!$AD88:$AO88,0)","v":9},{"$f":"MATCH(L$4,Millwall!$AD88:$AO88,0)","v":10},{"$f":"MATCH(M$4,Millwall!$AD88:$AO88,0)","v":11},{"$f":"MATCH(N$4,Millwall!$AD88:$AO88,0)","v":{"$error":"#N/A"}},{"$f":"MATCH(O$4,Millwall!$AD88:$AO88,0)","v":{"$error":"#N/A"}},{"$f":"MATCH(P$4,Millwall!$AD88:$AO88,0)","v":6},{"$f":"MATCH(Q$4,Millwall!$AD88:$AO88,0)","v":2},{"$f":"MATCH(R$4,Millwall!$AD88:$AO88,0)","v":7},{"$f":"MATCH(S$4,Millwall!$AD88:$AO88,0)","v":8},{"$f":"MATCH(T$4,Millwall!$AD88:$AO88,0)","v":{"$error":"#N/A"}},{"$f":"MATCH(U$4,Millwall!$AD88:$AO88,0)","v":12},{"$f":"MATCH(V$4,Millwall!$AD88:$AO88,0)","v":{"$error":"#N/A"}},{"$f":"MATCH(W$4,Millwall!$AD88:$AO88,0)","v":{"$error":"#N/A"}},{"$f":"MATCH(X$4,Millwall!$AD88:$AO88,0)","v":5},{"$f":"MATCH(Y$4,Millwall!$AD88:$AO88,0)","v":{"$error":"#N/A"}},{"$f":"MATCH(Z$4,Millwall!$AD88:$AO88,0)","v":3},{"$f":"MATCH(AA$4,Millwall!$AD88:$AO88,0)","v":{"$error":"#N/A"}},{"$f":"MATCH(AB$4,Millwall!$AD88:$AO88,0)","v":{"$error":"#N/A"}},{"$f":"MATCH(AC$4,Millwall!$AD88:$AO88,0)","v":{"$error":"#N/A"}},{"$f":"MATCH(AD$4,Millwall!$AD88:$AO88,0)","v":{"$error":"#N/A"}},{"$f":"MATCH(AE$4,Millwall!$AD88:$AO88,0)","v":{"$error":"#N/A"}},{"$f":"MATCH(AF$4,Millwall!$AD88:$AO88,0)","v":1},{"$f":"MATCH(AG$4,Millwall!$AD88:$AO88,0)","v":4},{"$f":"MATCH(AH$4,Millwall!$AD88:$AO88,0)","v":{"$error":"#N/A"}},{"$f":"MATCH(AI$4,Millwall!$AD88:$AO88,0)","v":{"$error":"#N/A"}},{"$f":"MATCH(AJ$4,Millwall!$AD88:$AO88,0)","v":{"$error":"#N/A"}},{"$f":"MATCH(AK$4,Millwall!$AD88:$AO88,0)","v":{"$error":"#N/A"}},{"$f":"MATCH(AL$4,Millwall!$AD88:$AO88,0)","v":{"$error":"#N/A"}},{"$f":"MATCH(AM$4,Millwall!$AD88:$AO88,0)","v":{"$error":"#N/A"}},{"$f":"MATCH(AN$4,Millwall!$AD88:$AO88,0)","v":{"$error":"#N/A"}},{"$f":"MATCH(AO$4,Millwall!$AD88:$AO88,0)","v":{"$error":"#N/A"}},{"$f":"MATCH(AP$4,Millwall!$AD88:$AO88,0)","v":{"$error":"#N/A"}},{"$f":"MATCH(AQ$4,Millwall!$AD88:$AO88,0)","v":{"$error":"#N/A"}},{"$f":"MATCH(AR$4,Millwall!$AB88:$AM88,0)","v":{"$error":"#N/A"}},null,null,null,null,null,{"$f":"MATCH(AX$3,Millwall!$AD88:$AO88,0)","v":{"$error":"#N/A"}},{"$f":"MATCH(AY$3,Millwall!$AD88:$AO88,0)","v":{"$error":"#N/A"}},{"$f":"MATCH(AZ$3,Millwall!$AD88:$AO88,0)","v":{"$error":"#N/A"}},{"$f":"MATCH(BA$3,Millwall!$AD88:$AO88,0)","v":{"$error":"#N/A"}},{"$f":"MATCH(BB$3,Millwall!$AD88:$AO88,0)","v":{"$error":"#N/A"}},{"$f":"MATCH(BC$3,Millwall!$AD88:$AO88,0)","v":{"$error":"#N/A"}},{"$f":"MATCH(BD$3,Millwall!$AD88:$AO88,0)","v":{"$error":"#N/A"}},{"$f":"MATCH(BE$3,Millwall!$AD88:$AO88,0)","v":7},{"$f":"MATCH(BF$3,Millwall!$AD88:$AO88,0)","v":{"$error":"#N/A"}},{"$f":"MATCH(BG$3,Millwall!$AD88:$AO88,0)","v":{"$error":"#N/A"}},{"$f":"MATCH(BH$3,Millwall!$AD88:$AO88,0)","v":{"$error":"#N/A"}},{"$f":"MATCH(BI$3,Millwall!$AD88:$AO88,0)","v":{"$error":"#N/A"}},{"$f":"MATCH(BJ$3,Millwall!$AD88:$AO88,0)","v":{"$error":"#N/A"}},{"$f":"MATCH(BK$3,Millwall!$AD88:$AO88,0)","v":{"$error":"#N/A"}},{"$f":"MATCH(BL$3,Millwall!$AD88:$AO88,0)","v":{"$error":"#N/A"}},{"$f":"MATCH(BM$3,Millwall!$AD88:$AO88,0)","v":{"$error":"#N/A"}},{"$f":"MATCH(BN$3,Millwall!$AD88:$AO88,0)","v":{"$error":"#N/A"}},{"$f":"MATCH(BO$3,Millwall!$AD88:$AO88,0)","v":{"$error":"#N/A"}},{"$f":"MATCH(BP$3,Millwall!$AD88:$AO88,0)","v":{"$error":"#N/A"}},{"$f":"MATCH(BQ$3,Millwall!$AD88:$AO88,0)","v":{"$error":"#N/A"}},{"$f":"MATCH(BR$3,Millwall!$AD88:$AO88,0)","v":{"$error":"#N/A"}},{"$f":"MATCH(BS$3,Millwall!$AD88:$AO88,0)","v":{"$error":"#N/A"}},{"$f":"MATCH(BT$3,Millwall!$AD88:$AO88,0)","v":{"$error":"#N/A"}},{"$f":"MATCH(BU$3,Millwall!$AD88:$AO88,0)","v":{"$error":"#N/A"}},{"$f":"MATCH(BV$3,Millwall!$AD88:$AO88,0)","v":{"$error":"#N/A"}},{"$f":"MATCH(BW$3,Millwall!$AD88:$AO88,0)","v":{"$error":"#N/A"}},{"$f":"MATCH(BX$3,Millwall!$AD88:$AO88,0)","v":{"$error":"#N/A"}},{"$f":"MATCH(BY$3,Millwall!$AD88:$AO88,0)","v":{"$error":"#N/A"}},{"$f":"MATCH(BZ$3,Millwall!$AD88:$AO88,0)","v":{"$error":"#N/A"}},{"$f":"MATCH(CA$3,Millwall!$AD88:$AO88,0)","v":{"$error":"#N/A"}},{"$f":"MATCH(CB$3,Millwall!$AD88:$AO88,0)","v":{"$error":"#N/A"}},{"$f":"MATCH(CC$3,Millwall!$AD88:$AO88,0)","v":{"$error":"#N/A"}},{"$f":"MATCH(CD$3,Millwall!$AD88:$AO88,0)","v":{"$error":"#N/A"}},{"$f":"MATCH(CE$3,Millwall!$AD88:$AO88,0)","v":{"$error":"#N/A"}},null,null,null,null,null,null,{"$f":"$CM$18&\" [**\"","v":"Nutton [**"},{"$f":"Millwall!$AA172","v":"Nutton"},{"$f":"Millwall!$AA172&\" (**\"","v":"Nutton (**"},{"$f":"$CM$18&\"**\"","v":"Nutton**"},null,{"$f":"$CM$18","v":"Nutton"},{"$f":"$CN$18","v":"Nutton (**"},{"$f":"$CO$18","v":"Nutton**"},null,{"$f":"Millwall!$CE$19","v":0},{"$f":"Millwall!$CJ$19","v":0},{"$f":"Millwall!$CO$19","v":0},{"$f":"Millwall!$CT$19","v":5}]
[null,null,0,15,null,{"$f":"Millwall!Z89","v":"1983-11-05"},null,{"$f":"Millwall!AA89","v":"Wigan"},{"$f":"Millwall!AB89","v":"(H)"},{"$f":"Millwall!AC89","v":"W 2-0"},{"$f":"MATCH(K$4,Millwall!$AD89:$AO89,0)","v":9},{"$f":"MATCH(L$4,Millwall!$AD89:$AO89,0)","v":10},{"$f":"MATCH(M$4,Millwall!$AD89:$AO89,0)","v":11},{"$f":"MATCH(N$4,Millwall!$AD89:$AO89,0)","v":{"$error":"#N/A"}},{"$f":"MATCH(O$4,Millwall!$AD89:$AO89,0)","v":{"$error":"#N/A"}},{"$f":"MATCH(P$4,Millwall!$AD89:$AO89,0)","v":6},{"$f":"MATCH(Q$4,Millwall!$AD89:$AO89,0)","v":2},{"$f":"MATCH(R$4,Millwall!$AD89:$AO89,0)","v":7},{"$f":"MATCH(S$4,Millwall!$AD89:$AO89,0)","v":8},{"$f":"MATCH(T$4,Millwall!$AD89:$AO89,0)","v":{"$error":"#N/A"}},{"$f":"MATCH(U$4,Millwall!$AD89:$AO89,0)","v":12},{"$f":"MATCH(V$4,Millwall!$AD89:$AO89,0)","v":{"$error":"#N/A"}},{"$f":"MATCH(W$4,Millwall!$AD89:$AO89,0)","v":{"$error":"#N/A"}},{"$f":"MATCH(X$4,Millwall!$AD89:$AO89,0)","v":5},{"$f":"MATCH(Y$4,Millwall!$AD89:$AO89,0)","v":{"$error":"#N/A"}},{"$f":"MATCH(Z$4,Millwall!$AD89:$AO89,0)","v":{"$error":"#N/A"}},{"$f":"MATCH(AA$4,Millwall!$AD89:$AO89,0)","v":{"$error":"#N/A"}},{"$f":"MATCH(AB$4,Millwall!$AD89:$AO89,0)","v":{"$error":"#N/A"}},{"$f":"MATCH(AC$4,Millwall!$AD89:$AO89,0)","v":{"$error":"#N/A"}},{"$f":"MATCH(AD$4,Millwall!$AD89:$AO89,0)","v":{"$error":"#N/A"}},{"$f":"MATCH(AE$4,Millwall!$AD89:$AO89,0)","v":3},{"$f":"MATCH(AF$4,Millwall!$AD89:$AO89,0)","v":1},{"$f":"MATCH(AG$4,Millwall!$AD89:$AO89,0)","v":4},{"$f":"MATCH(AH$4,Millwall!$AD89:$AO89,0)","v":{"$error":"#N/A"}},{"$f":"MATCH(AI$4,Millwall!$AD89:$AO89,0)","v":{"$error":"#N/A"}},{"$f":"MATCH(AJ$4,Millwall!$AD89:$AO89,0)","v":{"$error":"#N/A"}},{"$f":"MATCH(AK$4,Millwall!$AD89:$AO89,0)","v":{"$error":"#N/A"}},{"$f":"MATCH(AL$4,Millwall!$AD89:$AO89,0)","v":{"$error":"#N/A"}},{"$f":"MATCH(AM$4,Millwall!$AD89:$AO89,0)","v":{"$error":"#N/A"}},{"$f":"MATCH(AN$4,Millwall!$AD89:$AO89,0)","v":{"$error":"#N/A"}},{"$f":"MATCH(AO$4,Millwall!$AD89:$AO89,0)","v":{"$error":"#N/A"}},{"$f":"MATCH(AP$4,Millwall!$AD89:$AO89,0)","v":{"$error":"#N/A"}},{"$f":"MATCH(AQ$4,Millwall!$AD89:$AO89,0)","v":{"$error":"#N/A"}},{"$f":"MATCH(AR$4,Millwall!$AB89:$AM89,0)","v":{"$error":"#N/A"}},null,null,null,null,null,{"$f":"MATCH(AX$3,Millwall!$AD89:$AO89,0)","v":{"$error":"#N/A"}},{"$f":"MATCH(AY$3,Millwall!$AD89:$AO89,0)","v":{"$error":"#N/A"}},{"$f":"MATCH(AZ$3,Millwall!$AD89:$AO89,0)","v":{"$error":"#N/A"}},{"$f":"MATCH(BA$3,Millwall!$AD89:$AO89,0)","v":{"$error":"#N/A"}},{"$f":"MATCH(BB$3,Millwall!$AD89:$AO89,0)","v":{"$error":"#N/A"}},{"$f":"MATCH(BC$3,Millwall!$AD89:$AO89,0)","v":{"$error":"#N/A"}},{"$f":"MATCH(BD$3,Millwall!$AD89:$AO89,0)","v":{"$error":"#N/A"}},{"$f":"MATCH(BE$3,Millwall!$AD89:$AO89,0)","v":{"$error":"#N/A"}},{"$f":"MATCH(BF$3,Millwall!$AD89:$AO89,0)","v":{"$error":"#N/A"}},{"$f":"MATCH(BG$3,Millwall!$AD89:$AO89,0)","v":{"$error":"#N/A"}},{"$f":"MATCH(BH$3,Millwall!$AD89:$AO89,0)","v":{"$error":"#N/A"}},{"$f":"MATCH(BI$3,Millwall!$AD89:$AO89,0)","v":{"$error":"#N/A"}},{"$f":"MATCH(BJ$3,Millwall!$AD89:$AO89,0)","v":{"$error":"#N/A"}},{"$f":"MATCH(BK$3,Millwall!$AD89:$AO89,0)","v":{"$error":"#N/A"}},{"$f":"MATCH(BL$3,Millwall!$AD89:$AO89,0)","v":{"$error":"#N/A"}},{"$f":"MATCH(BM$3,Millwall!$AD89:$AO89,0)","v":{"$error":"#N/A"}},{"$f":"MATCH(BN$3,Millwall!$AD89:$AO89,0)","v":{"$error":"#N/A"}},{"$f":"MATCH(BO$3,Millwall!$AD89:$AO89,0)","v":{"$error":"#N/A"}},{"$f":"MATCH(BP$3,Millwall!$AD89:$AO89,0)","v":{"$error":"#N/A"}},{"$f":"MATCH(BQ$3,Millwall!$AD89:$AO89,0)","v":{"$error":"#N/A"}},{"$f":"MATCH(BR$3,Millwall!$AD89:$AO89,0)","v":{"$error":"#N/A"}},{"$f":"MATCH(BS$3,Millwall!$AD89:$AO89,0)","v":{"$error":"#N/A"}},{"$f":"MATCH(BT$3,Millwall!$AD89:$AO89,0)","v":{"$error":"#N/A"}},{"$f":"MATCH(BU$3,Millwall!$AD89:$AO89,0)","v":{"$error":"#N/A"}},{"$f":"MATCH(BV$3,Millwall!$AD89:$AO89,0)","v":{"$error":"#N/A"}},{"$f":"MATCH(BW$3,Millwall!$AD89:$AO89,0)","v":{"$error":"#N/A"}},{"$f":"MATCH(BX$3,Millwall!$AD89:$AO89,0)","v":{"$error":"#N/A"}},{"$f":"MATCH(BY$3,Millwall!$AD89:$AO89,0)","v":{"$error":"#N/A"}},{"$f":"MATCH(BZ$3,Millwall!$AD89:$AO89,0)","v":{"$error":"#N/A"}},{"$f":"MATCH(CA$3,Millwall!$AD89:$AO89,0)","v":{"$error":"#N/A"}},{"$f":"MATCH(CB$3,Millwall!$AD89:$AO89,0)","v":{"$error":"#N/A"}},{"$f":"MATCH(CC$3,Millwall!$AD89:$AO89,0)","v":{"$error":"#N/A"}},{"$f":"MATCH(CD$3,Millwall!$AD89:$AO89,0)","v":{"$error":"#N/A"}},{"$f":"MATCH(CE$3,Millwall!$AD89:$AO89,0)","v":{"$error":"#N/A"}},null,null,null,null,null,null,{"$f":"$CM$19&\" [**\"","v":"Otulakowski [**"},{"$f":"Millwall!$AA173","v":"Otulakowski"},{"$f":"Millwall!$AA173&\" (**\"","v":"Otulakowski (**"},{"$f":"$CM$19&\"**\"","v":"Otulakowski**"},null,{"$f":"$CM$19","v":"Otulakowski"},{"$f":"$CN$19","v":"Otulakowski (**"},{"$f":"$CO$19","v":"Otulakowski**"},null,{"$f":"Millwall!$CE$20","v":0},{"$f":"Millwall!$CJ$20","v":0},{"$f":"Millwall!$CO$20","v":0},{"$f":"Millwall!$CT$20","v":52}]
[null,null,0,16,null,{"$f":"Millwall!Z90","v":"1983-11-12"},null,{"$f":"Millwall!AA90","v":"Bradford"},{"$f":"Millwall!AB90","v":"(A)"},{"$f":"Millwall!AC90","v":"D 3-3"},{"$f":"MATCH(K$4,Millwall!$AD90:$AO90,0)","v":9},{"$f":"MATCH(L$4,Millwall!$AD90:$AO90,0)","v":10},{"$f":"MATCH(M$4,Millwall!$AD90:$AO90,0)","v":11},{"$f":"MATCH(N$4,Millwall!$AD90:$AO90,0)","v":{"$error":"#N/A"}},{"$f":"MATCH(O$4,Millwall!$AD90:$AO90,0)","v":{"$error":"#N/A"}},{"$f":"MATCH(P$4,Millwall!$AD90:$AO90,0)","v":6},{"$f":"MATCH(Q$4,Millwall!$AD90:$AO90,0)","v":2},{"$f":"MATCH(R$4,Millwall!$AD90:$AO90,0)","v":7},{"$f":"MATCH(S$4,Millwall!$AD90:$AO90,0)","v":8},{"$f":"MATCH(T$4,Millwall!$AD90:$AO90,0)","v":12},{"$f":"MATCH(U$4,Millwall!$AD90:$AO90,0)","v":{"$error":"#N/A"}},{"$f":"MATCH(V$4,Millwall!$AD90:$AO90,0)","v":{"$error":"#N/A"}},{"$f":"MATCH(W$4,Millwall!$AD90:$AO90,0)","v":{"$error":"#N/A"}},{"$f":"MATCH(X$4,Millwall!$AD90:$AO90,0)","v":5},{"$f":"MATCH(Y$4,Millwall!$AD90:$AO90,0)","v":{"$error":"#N/A"}},{"$f":"MATCH(Z$4,Millwall!$AD90:$AO90,0)","v":{"$error":"#N/A"}},{"$f":"MATCH(AA$4,Millwall!$AD90:$AO90,0)","v":{"$error":"#N/A"}},{"$f":"MATCH(AB$4,Millwall!$AD90:$AO90,0)","v":{"$error":"#N/A"}},{"$f":"MATCH(AC$4,Millwall!$AD90:$AO90,0)","v":{"$error":"#N/A"}},{"$f":"MATCH(AD$4,Millwall!$AD90:$AO90,0)","v":{"$error":"#N/A"}},{"$f":"MATCH(AE$4,Millwall!$AD90:$AO90,0)","v":3},{"$f":"MATCH(AF$4,Millwall!$AD90:$AO90,0)","v":1},{"$f":"MATCH(AG$4,Millwall!$AD90:$AO90,0)","v":4},{"$f":"MATCH(AH$4,Millwall!$AD90:$AO90,0)","v":{"$error":"#N/A"}},{"$f":"MATCH(AI$4,Millwall!$AD90:$AO90,0)","v":{"$error":"#N/A"}},{"$f":"MATCH(AJ$4,Millwall!$AD90:$AO90,0)","v":{"$error":"#N/A"}},{"$f":"MATCH(AK$4,Millwall!$AD90:$AO90,0)","v":{"$error":"#N/A"}},{"$f":"MATCH(AL$4,Millwall!$AD90:$AO90,0)","v":{"$error":"#N/A"}},{"$f":"MATCH(AM$4,Millwall!$AD90:$AO90,0)","v":{"$error":"#N/A"}},{"$f":"MATCH(AN$4,Millwall!$AD90:$AO90,0)","v":{"$error":"#N/A"}},{"$f":"MATCH(AO$4,Millwall!$AD90:$AO90,0)","v":{"$error":"#N/A"}},{"$f":"MATCH(AP$4,Millwall!$AD90:$AO90,0)","v":{"$error":"#N/A"}},{"$f":"MATCH(AQ$4,Millwall!$AD90:$AO90,0)","v":{"$error":"#N/A"}},{"$f":"MATCH(AR$4,Millwall!$AB90:$AM90,0)","v":{"$error":"#N/A"}},null,null,null,null,null,{"$f":"MATCH(AX$3,Millwall!$AD90:$AO90,0)","v":{"$error":"#N/A"}},{"$f":"MATCH(AY$3,Millwall!$AD90:$AO90,0)","v":{"$error":"#N/A"}},{"$f":"MATCH(AZ$3,Millwall!$AD90:$AO90,0)","v":{"$error":"#N/A"}},{"$f":"MATCH(BA$3,Millwall!$AD90:$AO90,0)","v":{"$error":"#N/A"}},{"$f":"MATCH(BB$3,Millwall!$AD90:$AO90,0)","v":{"$error":"#N/A"}},{"$f":"MATCH(BC$3,Millwall!$AD90:$AO90,0)","v":{"$error":"#N/A"}},{"$f":"MATCH(BD$3,Millwall!$AD90:$AO90,0)","v":{"$error":"#N/A"}},{"$f":"MATCH(BE$3,Millwall!$AD90:$AO90,0)","v":{"$error":"#N/A"}},{"$f":"MATCH(BF$3,Millwall!$AD90:$AO90,0)","v":{"$error":"#N/A"}},{"$f":"MATCH(BG$3,Millwall!$AD90:$AO90,0)","v":12},{"$f":"MATCH(BH$3,Millwall!$AD90:$AO90,0)","v":{"$error":"#N/A"}},{"$f":"MATCH(BI$3,Millwall!$AD90:$AO90,0)","v":{"$error":"#N/A"}},{"$f":"MATCH(BJ$3,Millwall!$AD90:$AO90,0)","v":{"$error":"#N/A"}},{"$f":"MATCH(BK$3,Millwall!$AD90:$AO90,0)","v":{"$error":"#N/A"}},{"$f":"MATCH(BL$3,Millwall!$AD90:$AO90,0)","v":{"$error":"#N/A"}},{"$f":"MATCH(BM$3,Millwall!$AD90:$AO90,0)","v":{"$error":"#N/A"}},{"$f":"MATCH(BN$3,Millwall!$AD90:$AO90,0)","v":{"$error":"#N/A"}},{"$f":"MATCH(BO$3,Millwall!$AD90:$AO90,0)","v":{"$error":"#N/A"}},{"$f":"MATCH(BP$3,Millwall!$AD90:$AO90,0)","v":{"$error":"#N/A"}},{"$f":"MATCH(BQ$3,Millwall!$AD90:$AO90,0)","v":{"$error":"#N/A"}},{"$f":"MATCH(BR$3,Millwall!$AD90:$AO90,0)","v":3},{"$f":"MATCH(BS$3,Millwall!$AD90:$AO90,0)","v":{"$error":"#N/A"}},{"$f":"MATCH(BT$3,Millwall!$AD90:$AO90,0)","v":{"$error":"#N/A"}},{"$f":"MATCH(BU$3,Millwall!$AD90:$AO90,0)","v":{"$error":"#N/A"}},{"$f":"MATCH(BV$3,Millwall!$AD90:$AO90,0)","v":{"$error":"#N/A"}},{"$f":"MATCH(BW$3,Millwall!$AD90:$AO90,0)","v":{"$error":"#N/A"}},{"$f":"MATCH(BX$3,Millwall!$AD90:$AO90,0)","v":{"$error":"#N/A"}},{"$f":"MATCH(BY$3,Millwall!$AD90:$AO90,0)","v":{"$error":"#N/A"}},{"$f":"MATCH(BZ$3,Millwall!$AD90:$AO90,0)","v":{"$error":"#N/A"}},{"$f":"MATCH(CA$3,Millwall!$AD90:$AO90,0)","v":{"$error":"#N/A"}},{"$f":"MATCH(CB$3,Millwall!$AD90:$AO90,0)","v":{"$error":"#N/A"}},{"$f":"MATCH(CC$3,Millwall!$AD90:$AO90,0)","v":{"$error":"#N/A"}},{"$f":"MATCH(CD$3,Millwall!$AD90:$AO90,0)","v":{"$error":"#N/A"}},{"$f":"MATCH(CE$3,Millwall!$AD90:$AO90,0)","v":{"$error":"#N/A"}},null,null,null,null,null,null,{"$f":"$CM$20&\" [**\"","v":"Robinson [**"},{"$f":"Millwall!$AA174","v":"Robinson"},{"$f":"Millwall!$AA174&\" (**\"","v":"Robinson (**"},{"$f":"$CM$20&\"**\"","v":"Robinson**"},null,{"$f":"$CM$20","v":"Robinson"},{"$f":"$CN$20","v":"Robinson (**"},{"$f":"$CO$20","v":"Robinson**"},null,{"$f":"Millwall!$CE$21","v":0},{"$f":"Millwall!$CJ$21","v":0},{"$f":"Millwall!$CO$21","v":0},{"$f":"Millwall!$CT$21","v":39}]
[null,null,0,17,null,{"$f":"Millwall!Z91","v":"1983-11-26"},null,{"$f":"Millwall!AA91","v":"Scunthorpe"},{"$f":"Millwall!AB91","v":"(H)"},{"$f":"Millwall!AC91","v":"W 2-1"},{"$f":"MATCH(K$4,Millwall!$AD91:$AO91,0)","v":9},{"$f":"MATCH(L$4,Millwall!$AD91:$AO91,0)","v":7},{"$f":"MATCH(M$4,Millwall!$AD91:$AO91,0)","v":11},{"$f":"MATCH(N$4,Millwall!$AD91:$AO91,0)","v":{"$error":"#N/A"}},{"$f":"MATCH(O$4,Millwall!$AD91:$AO91,0)","v":{"$error":"#N/A"}},{"$f":"MATCH(P$4,Millwall!$AD91:$AO91,0)","v":6},{"$f":"MATCH(Q$4,Millwall!$AD91:$AO91,0)","v":2},{"$f":"MATCH(R$4,Millwall!$AD91:$AO91,0)","v":{"$error":"#N/A"}},{"$f":"MATCH(S$4,Millwall!$AD91:$AO91,0)","v":8},{"$f":"MATCH(T$4,Millwall!$AD91:$AO91,0)","v":12},{"$f":"MATCH(U$4,Millwall!$AD91:$AO91,0)","v":4},{"$f":"MATCH(V$4,Millwall!$AD91:$AO91,0)","v":10},{"$f":"MATCH(W$4,Millwall!$AD91:$AO91,0)","v":{"$error":"#N/A"}},{"$f":"MATCH(X$4,Millwall!$AD91:$AO91,0)","v":5},{"$f":"MATCH(Y$4,Millwall!$AD91:$AO91,0)","v":{"$error":"#N/A"}},{"$f":"MATCH(Z$4,Millwall!$AD91:$AO91,0)","v":3},{"$f":"MATCH(AA$4,Millwall!$AD91:$AO91,0)","v":{"$error":"#N/A"}},{"$f":"MATCH(AB$4,Millwall!$AD91:$AO91,0)","v":{"$error":"#N/A"}},{"$f":"MATCH(AC$4,Millwall!$AD91:$AO91,0)","v":{"$error":"#N/A"}},{"$f":"MATCH(AD$4,Millwall!$AD91:$AO91,0)","v":{"$error":"#N/A"}},{"$f":"MATCH(AE$4,Millwall!$AD91:$AO91,0)","v":{"$error":"#N/A"}},{"$f":"MATCH(AF$4,Millwall!$AD91:$AO91,0)","v":1},{"$f":"MATCH(AG$4,Millwall!$AD91:$AO91,0)","v":{"$error":"#N/A"}},{"$f":"MATCH(AH$4,Millwall!$AD91:$AO91,0)","v":{"$error":"#N/A"}},{"$f":"MATCH(AI$4,Millwall!$AD91:$AO91,0)","v":{"$error":"#N/A"}},{"$f":"MATCH(AJ$4,Millwall!$AD91:$AO91,0)","v":{"$error":"#N/A"}},{"$f":"MATCH(AK$4,Millwall!$AD91:$AO91,0)","v":{"$error":"#N/A"}},{"$f":"MATCH(AL$4,Millwall!$AD91:$AO91,0)","v":{"$error":"#N/A"}},{"$f":"MATCH(AM$4,Millwall!$AD91:$AO91,0)","v":{"$error":"#N/A"}},{"$f":"MATCH(AN$4,Millwall!$AD91:$AO91,0)","v":{"$error":"#N/A"}},{"$f":"MATCH(AO$4,Millwall!$AD91:$AO91,0)","v":{"$error":"#N/A"}},{"$f":"MATCH(AP$4,Millwall!$AD91:$AO91,0)","v":{"$error":"#N/A"}},{"$f":"MATCH(AQ$4,Millwall!$AD91:$AO91,0)","v":{"$error":"#N/A"}},{"$f":"MATCH(AR$4,Millwall!$AB91:$AM91,0)","v":{"$error":"#N/A"}},null,null,null,null,null,{"$f":"MATCH(AX$3,Millwall!$AD91:$AO91,0)","v":{"$error":"#N/A"}},{"$f":"MATCH(AY$3,Millwall!$AD91:$AO91,0)","v":{"$error":"#N/A"}},{"$f":"MATCH(AZ$3,Millwall!$AD91:$AO91,0)","v":{"$error":"#N/A"}},{"$f":"MATCH(BA$3,Millwall!$AD91:$AO91,0)","v":{"$error":"#N/A"}},{"$f":"MATCH(BB$3,Millwall!$AD91:$AO91,0)","v":{"$error":"#N/A"}},{"$f":"MATCH(BC$3,Millwall!$AD91:$AO91,0)","v":{"$error":"#N/A"}},{"$f":"MATCH(BD$3,Millwall!$AD91:$AO91,0)","v":{"$error":"#N/A"}},{"$f":"MATCH(BE$3,Millwall!$AD91:$AO91,0)","v":{"$error":"#N/A"}},{"$f":"MATCH(BF$3,Millwall!$AD91:$AO91,0)","v":{"$error":"#N/A"}},{"$f":"MATCH(BG$3,Millwall!$AD91:$AO91,0)","v":12},{"$f":"MATCH(BH$3,Millwall!$AD91:$AO91,0)","v":{"$error":"#N/A"}},{"$f":"MATCH(BI$3,Millwall!$AD91:$AO91,0)","v":10},{"$f":"MATCH(BJ$3,Millwall!$AD91:$AO91,0)","v":{"$error":"#N/A"}},{"$f":"MATCH(BK$3,Millwall!$AD91:$AO91,0)","v":{"$error":"#N/A"}},{"$f":"MATCH(BL$3,Millwall!$AD91:$AO91,0)","v":{"$error":"#N/A"}},{"$f":"MATCH(BM$3,Millwall!$AD91:$AO91,0)","v":{"$error":"#N/A"}},{"$f":"MATCH(BN$3,Millwall!$AD91:$AO91,0)","v":{"$error":"#N/A"}},{"$f":"MATCH(BO$3,Millwall!$AD91:$AO91,0)","v":{"$error":"#N/A"}},{"$f":"MATCH(BP$3,Millwall!$AD91:$AO91,0)","v":{"$error":"#N/A"}},{"$f":"MATCH(BQ$3,Millwall!$AD91:$AO91,0)","v":{"$error":"#N/A"}},{"$f":"MATCH(BR$3,Millwall!$AD91:$AO91,0)","v":{"$error":"#N/A"}},{"$f":"MATCH(BS$3,Millwall!$AD91:$AO91,0)","v":{"$error":"#N/A"}},{"$f":"MATCH(BT$3,Millwall!$AD91:$AO91,0)","v":{"$error":"#N/A"}},{"$f":"MATCH(BU$3,Millwall!$AD91:$AO91,0)","v":{"$error":"#N/A"}},{"$f":"MATCH(BV$3,Millwall!$AD91:$AO91,0)","v":{"$error":"#N/A"}},{"$f":"MATCH(BW$3,Millwall!$AD91:$AO91,0)","v":{"$error":"#N/A"}},{"$f":"MATCH(BX$3,Millwall!$AD91:$AO91,0)","v":{"$error":"#N/A"}},{"$f":"MATCH(BY$3,Millwall!$AD91:$AO91,0)","v":{"$error":"#N/A"}},{"$f":"MATCH(BZ$3,Millwall!$AD91:$AO91,0)","v":{"$error":"#N/A"}},{"$f":"MATCH(CA$3,Millwall!$AD91:$AO91,0)","v":{"$error":"#N/A"}},{"$f":"MATCH(CB$3,Millwall!$AD91:$AO91,0)","v":{"$error":"#N/A"}},{"$f":"MATCH(CC$3,Millwall!$AD91:$AO91,0)","v":{"$error":"#N/A"}},{"$f":"MATCH(CD$3,Millwall!$AD91:$AO91,0)","v":{"$error":"#N/A"}},{"$f":"MATCH(CE$3,Millwall!$AD91:$AO91,0)","v":{"$error":"#N/A"}},null,null,null,null,null,null,{"$f":"$CM$21&\" [**\"","v":"Sansome [**"},{"$f":"Millwall!$AA175","v":"Sansome"},{"$f":"Millwall!$AA175&\" (**\"","v":"Sansome (**"},{"$f":"$CM$21&\"**\"","v":"Sansome**"},null,{"$f":"$CM$21","v":"Sansome"},{"$f":"$CN$21","v":"Sansome (**"},{"$f":"$CO$21","v":"Sansome**"},null,{"$f":"Millwall!$CE$22","v":0},{"$f":"Millwall!$CJ$22","v":0},{"$f":"Millwall!$CO$22","v":2},{"$f":"Millwall!$CT$22","v":40}]
[null,null,0,18,null,{"$f":"Millwall!Z92","v":"1983-12-03"},null,{"$f":"Millwall!AA92","v":"Walsall"},{"$f":"Millwall!AB92","v":"(A)"},{"$f":"Millwall!AC92","v":"D 1-1"},{"$f":"MATCH(K$4,Millwall!$AD92:$AO92,0)","v":9},{"$f":"MATCH(L$4,Millwall!$AD92:$AO92,0)","v":7},{"$f":"MATCH(M$4,Millwall!$AD92:$AO92,0)","v":11},{"$f":"MATCH(N$4,Millwall!$AD92:$AO92,0)","v":{"$error":"#N/A"}},{"$f":"MATCH(O$4,Millwall!$AD92:$AO92,0)","v":{"$error":"#N/A"}},{"$f":"MATCH(P$4,Millwall!$AD92:$AO92,0)","v":6},{"$f":"MATCH(Q$4,Millwall!$AD92:$AO92,0)","v":2},{"$f":"MATCH(R$4,Millwall!$AD92:$AO92,0)","v":{"$error":"#N/A"}},{"$f":"MATCH(S$4,Millwall!$AD92:$AO92,0)","v":8},{"$f":"MATCH(T$4,Millwall!$AD92:$AO92,0)","v":10},{"$f":"MATCH(U$4,Millwall!$AD92:$AO92,0)","v":4},{"$f":"MATCH(V$4,Millwall!$AD92:$AO92,0)","v":12},{"$f":"MATCH(W$4,Millwall!$AD92:$AO92,0)","v":{"$error":"#N/A"}},{"$f":"MATCH(X$4,Millwall!$AD92:$AO92,0)","v":5},{"$f":"MATCH(Y$4,Millwall!$AD92:$AO92,0)","v":{"$error":"#N/A"}},{"$f":"MATCH(Z$4,Millwall!$AD92:$AO92,0)","v":3},{"$f":"MATCH(AA$4,Millwall!$AD92:$AO92,0)","v":{"$error":"#N/A"}},{"$f":"MATCH(AB$4,Millwall!$AD92:$AO92,0)","v":{"$error":"#N/A"}},{"$f":"MATCH(AC$4,Millwall!$AD92:$AO92,0)","v":{"$error":"#N/A"}},{"$f":"MATCH(AD$4,Millwall!$AD92:$AO92,0)","v":{"$error":"#N/A"}},{"$f":"MATCH(AE$4,Millwall!$AD92:$AO92,0)","v":{"$error":"#N/A"}},{"$f":"MATCH(AF$4,Millwall!$AD92:$AO92,0)","v":1},{"$f":"MATCH(AG$4,Millwall!$AD92:$AO92,0)","v":{"$error":"#N/A"}},{"$f":"MATCH(AH$4,Millwall!$AD92:$AO92,0)","v":{"$error":"#N/A"}},{"$f":"MATCH(AI$4,Millwall!$AD92:$AO92,0)","v":{"$error":"#N/A"}},{"$f":"MATCH(AJ$4,Millwall!$AD92:$AO92,0)","v":{"$error":"#N/A"}},{"$f":"MATCH(AK$4,Millwall!$AD92:$AO92,0)","v":{"$error":"#N/A"}},{"$f":"MATCH(AL$4,Millwall!$AD92:$AO92,0)","v":{"$error":"#N/A"}},{"$f":"MATCH(AM$4,Millwall!$AD92:$AO92,0)","v":{"$error":"#N/A"}},{"$f":"MATCH(AN$4,Millwall!$AD92:$AO92,0)","v":{"$error":"#N/A"}},{"$f":"MATCH(AO$4,Millwall!$AD92:$AO92,0)","v":{"$error":"#N/A"}},{"$f":"MATCH(AP$4,Millwall!$AD92:$AO92,0)","v":{"$error":"#N/A"}},{"$f":"MATCH(AQ$4,Millwall!$AD92:$AO92,0)","v":{"$error":"#N/A"}},{"$f":"MATCH(AR$4,Millwall!$AB92:$AM92,0)","v":{"$error":"#N/A"}},null,null,null,null,null,{"$f":"MATCH(AX$3,Millwall!$AD92:$AO92,0)","v":{"$error":"#N/A"}},{"$f":"MATCH(AY$3,Millwall!$AD92:$AO92,0)","v":{"$error":"#N/A"}},{"$f":"MATCH(AZ$3,Millwall!$AD92:$AO92,0)","v":{"$error":"#N/A"}},{"$f":"MATCH(BA$3,Millwall!$AD92:$AO92,0)","v":{"$error":"#N/A"}},{"$f":"MATCH(BB$3,Millwall!$AD92:$AO92,0)","v":{"$error":"#N/A"}},{"$f":"MATCH(BC$3,Millwall!$AD92:$AO92,0)","v":{"$error":"#N/A"}},{"$f":"MATCH(BD$3,Millwall!$AD92:$AO92,0)","v":{"$error":"#N/A"}},{"$f":"MATCH(BE$3,Millwall!$AD92:$AO92,0)","v":{"$error":"#N/A"}},{"$f":"MATCH(BF$3,Millwall!$AD92:$AO92,0)","v":{"$error":"#N/A"}},{"$f":"MATCH(BG$3,Millwall!$AD92:$AO92,0)","v":{"$error":"#N/A"}},{"$f":"MATCH(BH$3,Millwall!$AD92:$AO92,0)","v":{"$error":"#N/A"}},{"$f":"MATCH(BI$3,Millwall!$AD92:$AO92,0)","v":{"$error":"#N/A"}},{"$f":"MATCH(BJ$3,Millwall!$AD92:$AO92,0)","v":{"$error":"#N/A"}},{"$f":"MATCH(BK$3,Millwall!$AD92:$AO92,0)","v":{"$error":"#N/A"}},{"$f":"MATCH(BL$3,Millwall!$AD92:$AO92,0)","v":{"$error":"#N/A"}},{"$f":"MATCH(BM$3,Millwall!$AD92:$AO92,0)","v":{"$error":"#N/A"}},{"$f":"MATCH(BN$3,Millwall!$AD92:$AO92,0)","v":{"$error":"#N/A"}},{"$f":"MATCH(BO$3,Millwall!$AD92:$AO92,0)","v":{"$error":"#N/A"}},{"$f":"MATCH(BP$3,Millwall!$AD92:$AO92,0)","v":{"$error":"#N/A"}},{"$f":"MATCH(BQ$3,Millwall!$AD92:$AO92,0)","v":{"$error":"#N/A"}},{"$f":"MATCH(BR$3,Millwall!$AD92:$AO92,0)","v":{"$error":"#N/A"}},{"$f":"MATCH(BS$3,Millwall!$AD92:$AO92,0)","v":{"$error":"#N/A"}},{"$f":"MATCH(BT$3,Millwall!$AD92:$AO92,0)","v":{"$error":"#N/A"}},{"$f":"MATCH(BU$3,Millwall!$AD92:$AO92,0)","v":{"$error":"#N/A"}},{"$f":"MATCH(BV$3,Millwall!$AD92:$AO92,0)","v":{"$error":"#N/A"}},{"$f":"MATCH(BW$3,Millwall!$AD92:$AO92,0)","v":{"$error":"#N/A"}},{"$f":"MATCH(BX$3,Millwall!$AD92:$AO92,0)","v":{"$error":"#N/A"}},{"$f":"MATCH(BY$3,Millwall!$AD92:$AO92,0)","v":{"$error":"#N/A"}},{"$f":"MATCH(BZ$3,Millwall!$AD92:$AO92,0)","v":{"$error":"#N/A"}},{"$f":"MATCH(CA$3,Millwall!$AD92:$AO92,0)","v":{"$error":"#N/A"}},{"$f":"MATCH(CB$3,Millwall!$AD92:$AO92,0)","v":{"$error":"#N/A"}},{"$f":"MATCH(CC$3,Millwall!$AD92:$AO92,0)","v":{"$error":"#N/A"}},{"$f":"MATCH(CD$3,Millwall!$AD92:$AO92,0)","v":{"$error":"#N/A"}},{"$f":"MATCH(CE$3,Millwall!$AD92:$AO92,0)","v":{"$error":"#N/A"}},null,null,null,null,null,null,{"$f":"$CM$22&\" [**\"","v":"Sheringham [**"},{"$f":"Millwall!$AA176","v":"Sheringham"},{"$f":"Millwall!$AA176&\" (**\"","v":"Sheringham (**"},{"$f":"$CM$22&\"**\"","v":"Sheringham**"},null,{"$f":"$CM$22","v":"Sheringham"},{"$f":"$CN$22","v":"Sheringham (**"},{"$f":"$CO$22","v":"Sheringham**"},null,{"$f":"Millwall!$CE$23","v":0},{"$f":"Millwall!$CJ$23","v":0},{"$f":"Millwall!$CO$23","v":0},{"$f":"Millwall!$CT$23","v":38}]
[null,null,0,19,null,{"$f":"Millwall!Z93","v":"1983-12-17"},null,{"$f":"Millwall!AA93","v":"Exeter"},{"$f":"Millwall!AB93","v":"(A)"},{"$f":"Millwall!AC93","v":"L 2-3"},{"$f":"MATCH(K$4,Millwall!$AD93:$AO93,0)","v":9},{"$f":"MATCH(L$4,Millwall!$AD93:$AO93,0)","v":{"$error":"#N/A"}},{"$f":"MATCH(M$4,Millwall!$AD93:$AO93,0)","v":11},{"$f":"MATCH(N$4,Millwall!$AD93:$AO93,0)","v":{"$error":"#N/A"}},{"$f":"MATCH(O$4,Millwall!$AD93:$AO93,0)","v":{"$error":"#N/A"}},{"$f":"MATCH(P$4,Millwall!$AD93:$AO93,0)","v":6},{"$f":"MATCH(Q$4,Millwall!$AD93:$AO93,0)","v":2},{"$f":"MATCH(R$4,Millwall!$AD93:$AO93,0)","v":7},{"$f":"MATCH(S$4,Millwall!$AD93:$AO93,0)","v":12},{"$f":"MATCH(T$4,Millwall!$AD93:$AO93,0)","v":{"$error":"#N/A"}},{"$f":"MATCH(U$4,Millwall!$AD93:$AO93,0)","v":{"$error":"#N/A"}},{"$f":"MATCH(V$4,Millwall!$AD93:$AO93,0)","v":8},{"$f":"MATCH(W$4,Millwall!$AD93:$AO93,0)","v":{"$error":"#N/A"}},{"$f":"MATCH(X$4,Millwall!$AD93:$AO93,0)","v":5},{"$f":"MATCH(Y$4,Millwall!$AD93:$AO93,0)","v":{"$error":"#N/A"}},{"$f":"MATCH(Z$4,Millwall!$AD93:$AO93,0)","v":4},{"$f":"MATCH(AA$4,Millwall!$AD93:$AO93,0)","v":{"$error":"#N/A"}},{"$f":"MATCH(AB$4,Millwall!$AD93:$AO93,0)","v":{"$error":"#N/A"}},{"$f":"MATCH(AC$4,Millwall!$AD93:$AO93,0)","v":3},{"$f":"MATCH(AD$4,Millwall!$AD93:$AO93,0)","v":{"$error":"#N/A"}},{"$f":"MATCH(AE$4,Millwall!$AD93:$AO93,0)","v":{"$error":"#N/A"}},{"$f":"MATCH(AF$4,Millwall!$AD93:$AO93,0)","v":1},{"$f":"MATCH(AG$4,Millwall!$AD93:$AO93,0)","v":10},{"$f":"MATCH(AH$4,Millwall!$AD93:$AO93,0)","v":{"$error":"#N/A"}},{"$f":"MATCH(AI$4,Millwall!$AD93:$AO93,0)","v":{"$error":"#N/A"}},{"$f":"MATCH(AJ$4,Millwall!$AD93:$AO93,0)","v":{"$error":"#N/A"}},{"$f":"MATCH(AK$4,Millwall!$AD93:$AO93,0)","v":{"$error":"#N/A"}},{"$f":"MATCH(AL$4,Millwall!$AD93:$AO93,0)","v":{"$error":"#N/A"}},{"$f":"MATCH(AM$4,Millwall!$AD93:$AO93,0)","v":{"$error":"#N/A"}},{"$f":"MATCH(AN$4,Millwall!$AD93:$AO93,0)","v":{"$error":"#N/A"}},{"$f":"MATCH(AO$4,Millwall!$AD93:$AO93,0)","v":{"$error":"#N/A"}},{"$f":"MATCH(AP$4,Millwall!$AD93:$AO93,0)","v":{"$error":"#N/A"}},{"$f":"MATCH(AQ$4,Millwall!$AD93:$AO93,0)","v":{"$error":"#N/A"}},{"$f":"MATCH(AR$4,Millwall!$AB93:$AM93,0)","v":{"$error":"#N/A"}},null,null,null,null,null,{"$f":"MATCH(AX$3,Millwall!$AD93:$AO93,0)","v":{"$error":"#N/A"}},{"$f":"MATCH(AY$3,Millwall!$AD93:$AO93,0)","v":{"$error":"#N/A"}},{"$f":"MATCH(AZ$3,Millwall!$AD93:$AO93,0)","v":{"$error":"#N/A"}},{"$f":"MATCH(BA$3,Millwall!$AD93:$AO93,0)","v":{"$error":"#N/A"}},{"$f":"MATCH(BB$3,Millwall!$AD93:$AO93,0)","v":{"$error":"#N/A"}},{"$f":"MATCH(BC$3,Millwall!$AD93:$AO93,0)","v":{"$error":"#N/A"}},{"$f":"MATCH(BD$3,Millwall!$AD93:$AO93,0)","v":{"$error":"#N/A"}},{"$f":"MATCH(BE$3,Millwall!$AD93:$AO93,0)","v":{"$error":"#N/A"}},{"$f":"MATCH(BF$3,Millwall!$AD93:$AO93,0)","v":12},{"$f":"MATCH(BG$3,Millwall!$AD93:$AO93,0)","v":{"$error":"#N/A"}},{"$f":"MATCH(BH$3,Millwall!$AD93:$AO93,0)","v":{"$error":"#N/A"}},{"$f":"MATCH(BI$3,Millwall!$AD93:$AO93,0)","v":{"$error":"#N/A"}},{"$f":"MATCH(BJ$3,Millwall!$AD93:$AO93,0)","v":{"$error":"#N/A"}},{"$f":"MATCH(BK$3,Millwall!$AD93:$AO93,0)","v":{"$error":"#N/A"}},{"$f":"MATCH(BL$3,Millwall!$AD93:$AO93,0)","v":{"$error":"#N/A"}},{"$f":"MATCH(BM$3,Millwall!$AD93:$AO93,0)","v":4},{"$f":"MATCH(BN$3,Millwall!$AD93:$AO93,0)","v":{"$error":"#N/A"}},{"$f":"MATCH(BO$3,Millwall!$AD93:$AO93,0)","v":{"$error":"#N/A"}},{"$f":"MATCH(BP$3,Millwall!$AD93:$AO93,0)","v":{"$error":"#N/A"}},{"$f":"MATCH(BQ$3,Millwall!$AD93:$AO93,0)","v":{"$error":"#N/A"}},{"$f":"MATCH(BR$3,Millwall!$AD93:$AO93,0)","v":{"$error":"#N/A"}},{"$f":"MATCH(BS$3,Millwall!$AD93:$AO93,0)","v":{"$error":"#N/A"}},{"$f":"MATCH(BT$3,Millwall!$AD93:$AO93,0)","v":{"$error":"#N/A"}},{"$f":"MATCH(BU$3,Millwall!$AD93:$AO93,0)","v":{"$error":"#N/A"}},{"$f":"MATCH(BV$3,Millwall!$AD93:$AO93,0)","v":{"$error":"#N/A"}},{"$f":"MATCH(BW$3,Millwall!$AD93:$AO93,0)","v":{"$error":"#N/A"}},{"$f":"MATCH(BX$3,Millwall!$AD93:$AO93,0)","v":{"$error":"#N/A"}},{"$f":"MATCH(BY$3,Millwall!$AD93:$AO93,0)","v":{"$error":"#N/A"}},{"$f":"MATCH(BZ$3,Millwall!$AD93:$AO93,0)","v":{"$error":"#N/A"}},{"$f":"MATCH(CA$3,Millwall!$AD93:$AO93,0)","v":{"$error":"#N/A"}},{"$f":"MATCH(CB$3,Millwall!$AD93:$AO93,0)","v":{"$error":"#N/A"}},{"$f":"MATCH(CC$3,Millwall!$AD93:$AO93,0)","v":{"$error":"#N/A"}},{"$f":"MATCH(CD$3,Millwall!$AD93:$AO93,0)","v":{"$error":"#N/A"}},{"$f":"MATCH(CE$3,Millwall!$AD93:$AO93,0)","v":{"$error":"#N/A"}},null,null,null,null,null,null,{"$f":"$CM$23&\" [**\"","v":"Sparrow [**"},{"$f":"Millwall!$AA177","v":"Sparrow"},{"$f":"Millwall!$AA177&\" (**\"","v":"Sparrow (**"},{"$f":"$CM$23&\"**\"","v":"Sparrow**"},null,{"$f":"$CM$23","v":"Sparrow"},{"$f":"$CN$23","v":"Sparrow (**"},{"$f":"$CO$23","v":"Sparrow**"},null,{"$f":"Millwall!$CE$24","v":0},{"$f":"Millwall!$CJ$24","v":0},{"$f":"Millwall!$CO$24","v":2},{"$f":"Millwall!$CT$24","v":5}]
[null,null,0,20,null,{"$f":"Millwall!Z94","v":"1983-12-26"},null,{"$f":"Millwall!AA94","v":"Leton Orient"},{"$f":"Millwall!AB94","v":"(H)"},{"$f":"Millwall!AC94","v":"W 4-3"},{"$f":"MATCH(K$4,Millwall!$AD94:$AO94,0)","v":9},{"$f":"MATCH(L$4,Millwall!$AD94:$AO94,0)","v":{"$error":"#N/A"}},{"$f":"MATCH(M$4,Millwall!$AD94:$AO94,0)","v":{"$error":"#N/A"}},{"$f":"MATCH(N$4,Millwall!$AD94:$AO94,0)","v":{"$error":"#N/A"}},{"$f":"MATCH(O$4,Millwall!$AD94:$AO94,0)","v":{"$error":"#N/A"}},{"$f":"MATCH(P$4,Millwall!$AD94:$AO94,0)","v":6},{"$f":"MATCH(Q$4,Millwall!$AD94:$AO94,0)","v":2},{"$f":"MATCH(R$4,Millwall!$AD94:$AO94,0)","v":7},{"$f":"MATCH(S$4,Millwall!$AD94:$AO94,0)","v":4},{"$f":"MATCH(T$4,Millwall!$AD94:$AO94,0)","v":{"$error":"#N/A"}},{"$f":"MATCH(U$4,Millwall!$AD94:$AO94,0)","v":12},{"$f":"MATCH(V$4,Millwall!$AD94:$AO94,0)","v":8},{"$f":"MATCH(W$4,Millwall!$AD94:$AO94,0)","v":{"$error":"#N/A"}},{"$f":"MATCH(X$4,Millwall!$AD94:$AO94,0)","v":5},{"$f":"MATCH(Y$4,Millwall!$AD94:$AO94,0)","v":10},{"$f":"MATCH(Z$4,Millwall!$AD94:$AO94,0)","v":{"$error":"#N/A"}},{"$f":"MATCH(AA$4,Millwall!$AD94:$AO94,0)","v":{"$error":"#N/A"}},{"$f":"MATCH(AB$4,Millwall!$AD94:$AO94,0)","v":{"$error":"#N/A"}},{"$f":"MATCH(AC$4,Millwall!$AD94:$AO94,0)","v":3},{"$f":"MATCH(AD$4,Millwall!$AD94:$AO94,0)","v":{"$error":"#N/A"}},{"$f":"MATCH(AE$4,Millwall!$AD94:$AO94,0)","v":{"$error":"#N/A"}},{"$f":"MATCH(AF$4,Millwall!$AD94:$AO94,0)","v":1},{"$f":"MATCH(AG$4,Millwall!$AD94:$AO94,0)","v":11},{"$f":"MATCH(AH$4,Millwall!$AD94:$AO94,0)","v":{"$error":"#N/A"}},{"$f":"MATCH(AI$4,Millwall!$AD94:$AO94,0)","v":{"$error":"#N/A"}},{"$f":"MATCH(AJ$4,Millwall!$AD94:$AO94,0)","v":{"$error":"#N/A"}},{"$f":"MATCH(AK$4,Millwall!$AD94:$AO94,0)","v":{"$error":"#N/A"}},{"$f":"MATCH(AL$4,Millwall!$AD94:$AO94,0)","v":{"$error":"#N/A"}},{"$f":"MATCH(AM$4,Millwall!$AD94:$AO94,0)","v":{"$error":"#N/A"}},{"$f":"MATCH(AN$4,Millwall!$AD94:$AO94,0)","v":{"$error":"#N/A"}},{"$f":"MATCH(AO$4,Millwall!$AD94:$AO94,0)","v":{"$error":"#N/A"}},{"$f":"MATCH(AP$4,Millwall!$AD94:$AO94,0)","v":{"$error":"#N/A"}},{"$f":"MATCH(AQ$4,Millwall!$AD94:$AO94,0)","v":{"$error":"#N/A"}},{"$f":"MATCH(AR$4,Millwall!$AB94:$AM94,0)","v":{"$error":"#N/A"}},null,null,null,null,null,{"$f":"MATCH(AX$3,Millwall!$AD94:$AO94,0)","v":{"$error":"#N/A"}},{"$f":"MATCH(AY$3,Millwall!$AD94:$AO94,0)","v":{"$error":"#N/A"}},{"$f":"MATCH(AZ$3,Millwall!$AD94:$AO94,0)","v":{"$error":"#N/A"}},{"$f":"MATCH(BA$3,Millwall!$AD94:$AO94,0)","v":{"$error":"#N/A"}},{"$f":"MATCH(BB$3,Millwall!$AD94:$AO94,0)","v":{"$error":"#N/A"}},{"$f":"MATCH(BC$3,Millwall!$AD94:$AO94,0)","v":{"$error":"#N/A"}},{"$f":"MATCH(BD$3,Millwall!$AD94:$AO94,0)","v":{"$error":"#N/A"}},{"$f":"MATCH(BE$3,Millwall!$AD94:$AO94,0)","v":{"$error":"#N/A"}},{"$f":"MATCH(BF$3,Millwall!$AD94:$AO94,0)","v":{"$error":"#N/A"}},{"$f":"MATCH(BG$3,Millwall!$AD94:$AO94,0)","v":{"$error":"#N/A"}},{"$f":"MATCH(BH$3,Millwall!$AD94:$AO94,0)","v":12},{"$f":"MATCH(BI$3,Millwall!$AD94:$AO94,0)","v":8},{"$f":"MATCH(BJ$3,Millwall!$AD94:$AO94,0)","v":{"$error":"#N/A"}},{"$f":"MATCH(BK$3,Millwall!$AD94:$AO94,0)","v":{"$error":"#N/A"}},{"$f":"MATCH(BL$3,Millwall!$AD94:$AO94,0)","v":{"$error":"#N/A"}},{"$f":"MATCH(BM$3,Millwall!$AD94:$AO94,0)","v":{"$error":"#N/A"}},{"$f":"MATCH(BN$3,Millwall!$AD94:$AO94,0)","v":{"$error":"#N/A"}},{"$f":"MATCH(BO$3,Millwall!$AD94:$AO94,0)","v":{"$error":"#N/A"}},{"$f":"MATCH(BP$3,Millwall!$AD94:$AO94,0)","v":{"$error":"#N/A"}},{"$f":"MATCH(BQ$3,Millwall!$AD94:$AO94,0)","v":{"$error":"#N/A"}},{"$f":"MATCH(BR$3,Millwall!$AD94:$AO94,0)","v":{"$error":"#N/A"}},{"$f":"MATCH(BS$3,Millwall!$AD94:$AO94,0)","v":{"$error":"#N/A"}},{"$f":"MATCH(BT$3,Millwall!$AD94:$AO94,0)","v":{"$error":"#N/A"}},{"$f":"MATCH(BU$3,Millwall!$AD94:$AO94,0)","v":{"$error":"#N/A"}},{"$f":"MATCH(BV$3,Millwall!$AD94:$AO94,0)","v":{"$error":"#N/A"}},{"$f":"MATCH(BW$3,Millwall!$AD94:$AO94,0)","v":{"$error":"#N/A"}},{"$f":"MATCH(BX$3,Millwall!$AD94:$AO94,0)","v":{"$error":"#N/A"}},{"$f":"MATCH(BY$3,Millwall!$AD94:$AO94,0)","v":{"$error":"#N/A"}},{"$f":"MATCH(BZ$3,Millwall!$AD94:$AO94,0)","v":{"$error":"#N/A"}},{"$f":"MATCH(CA$3,Millwall!$AD94:$AO94,0)","v":{"$error":"#N/A"}},{"$f":"MATCH(CB$3,Millwall!$AD94:$AO94,0)","v":{"$error":"#N/A"}},{"$f":"MATCH(CC$3,Millwall!$AD94:$AO94,0)","v":{"$error":"#N/A"}},{"$f":"MATCH(CD$3,Millwall!$AD94:$AO94,0)","v":{"$error":"#N/A"}},{"$f":"MATCH(CE$3,Millwall!$AD94:$AO94,0)","v":{"$error":"#N/A"}},null,null,null,null,null,null,{"$f":"$CM$24&\" [**\"","v":"Stevens [**"},{"$f":"Millwall!$AA178","v":"Stevens"},{"$f":"Millwall!$AA178&\" (**\"","v":"Stevens (**"},{"$f":"$CM$24&\"**\"","v":"Stevens**"},null,{"$f":"$CM$24","v":"Stevens"},{"$f":"$CN$24","v":"Stevens (**"},{"$f":"$CO$24","v":"Stevens**"},null,{"$f":"Millwall!$CE$25","v":0},{"$f":"Millwall!$CJ$25","v":0},{"$f":"Millwall!$CO$25","v":0},{"$f":"Millwall!$CT$25","v":5}]
[null,null,0,21,null,{"$f":"Millwall!Z95","v":"1983-12-27"},null,{"$f":"Millwall!AA95","v":"Wimbledon"},{"$f":"Millwall!AB95","v":"(A)"},{"$f":"Millwall!AC95","v":"L 3-4"},{"$f":"MATCH(K$4,Millwall!$AD95:$AO95,0)","v":9},{"$f":"MATCH(L$4,Millwall!$AD95:$AO95,0)","v":{"$error":"#N/A"}},{"$f":"MATCH(M$4,Millwall!$AD95:$AO95,0)","v":7},{"$f":"MATCH(N$4,Millwall!$AD95:$AO95,0)","v":{"$error":"#N/A"}},{"$f":"MATCH(O$4,Millwall!$AD95:$AO95,0)","v":{"$error":"#N/A"}},{"$f":"MATCH(P$4,Millwall!$AD95:$AO95,0)","v":6},{"$f":"MATCH(Q$4,Millwall!$AD95:$AO95,0)","v":2},{"$f":"MATCH(R$4,Millwall!$AD95:$AO95,0)","v":{"$error":"#N/A"}},{"$f":"MATCH(S$4,Millwall!$AD95:$AO95,0)","v":8},{"$f":"MATCH(T$4,Millwall!$AD95:$AO95,0)","v":12},{"$f":"MATCH(U$4,Millwall!$AD95:$AO95,0)","v":4},{"$f":"MATCH(V$4,Millwall!$AD95:$AO95,0)","v":{"$error":"#N/A"}},{"$f":"MATCH(W$4,Millwall!$AD95:$AO95,0)","v":{"$error":"#N/A"}},{"$f":"MATCH(X$4,Millwall!$AD95:$AO95,0)","v":5},{"$f":"MATCH(Y$4,Millwall!$AD95:$AO95,0)","v":10},{"$f":"MATCH(Z$4,Millwall!$AD95:$AO95,0)","v":{"$error":"#N/A"}},{"$f":"MATCH(AA$4,Millwall!$AD95:$AO95,0)","v":{"$error":"#N/A"}},{"$f":"MATCH(AB$4,Millwall!$AD95:$AO95,0)","v":{"$error":"#N/A"}},{"$f":"MATCH(AC$4,Millwall!$AD95:$AO95,0)","v":3},{"$f":"MATCH(AD$4,Millwall!$AD95:$AO95,0)","v":{"$error":"#N/A"}},{"$f":"MATCH(AE$4,Millwall!$AD95:$AO95,0)","v":{"$error":"#N/A"}},{"$f":"MATCH(AF$4,Millwall!$AD95:$AO95,0)","v":1},{"$f":"MATCH(AG$4,Millwall!$AD95:$AO95,0)","v":11},{"$f":"MATCH(AH$4,Millwall!$AD95:$AO95,0)","v":{"$error":"#N/A"}},{"$f":"MATCH(AI$4,Millwall!$AD95:$AO95,0)","v":{"$error":"#N/A"}},{"$f":"MATCH(AJ$4,Millwall!$AD95:$AO95,0)","v":{"$error":"#N/A"}},{"$f":"MATCH(AK$4,Millwall!$AD95:$AO95,0)","v":{"$error":"#N/A"}},{"$f":"MATCH(AL$4,Millwall!$AD95:$AO95,0)","v":{"$error":"#N/A"}},{"$f":"MATCH(AM$4,Millwall!$AD95:$AO95,0)","v":{"$error":"#N/A"}},{"$f":"MATCH(AN$4,Millwall!$AD95:$AO95,0)","v":{"$error":"#N/A"}},{"$f":"MATCH(AO$4,Millwall!$AD95:$AO95,0)","v":{"$error":"#N/A"}},{"$f":"MATCH(AP$4,Millwall!$AD95:$AO95,0)","v":{"$error":"#N/A"}},{"$f":"MATCH(AQ$4,Millwall!$AD95:$AO95,0)","v":{"$error":"#N/A"}},{"$f":"MATCH(AR$4,Millwall!$AB95:$AM95,0)","v":{"$error":"#N/A"}},null,null,null,null,null,{"$f":"MATCH(AX$3,Millwall!$AD95:$AO95,0)","v":{"$error":"#N/A"}},{"$f":"MATCH(AY$3,Millwall!$AD95:$AO95,0)","v":{"$error":"#N/A"}},{"$f":"MATCH(AZ$3,Millwall!$AD95:$AO95,0)","v":{"$error":"#N/A"}},{"$f":"MATCH(BA$3,Millwall!$AD95:$AO95,0)","v":{"$error":"#N/A"}},{"$f":"MATCH(BB$3,Millwall!$AD95:$AO95,0)","v":{"$error":"#N/A"}},{"$f":"MATCH(BC$3,Millwall!$AD95:$AO95,0)","v":{"$error":"#N/A"}},{"$f":"MATCH(BD$3,Millwall!$AD95:$AO95,0)","v":{"$error":"#N/A"}},{"$f":"MATCH(BE$3,Millwall!$AD95:$AO95,0)","v":{"$error":"#N/A"}},{"$f":"MATCH(BF$3,Millwall!$AD95:$AO95,0)","v":8},{"$f":"MATCH(BG$3,Millwall!$AD95:$AO95,0)","v":12},{"$f":"MATCH(BH$3,Millwall!$AD95:$AO95,0)","v":{"$error":"#N/A"}},{"$f":"MATCH(BI$3,Millwall!$AD95:$AO95,0)","v":{"$error":"#N/A"}},{"$f":"MATCH(BJ$3,Millwall!$AD95:$AO95,0)","v":{"$error":"#N/A"}},{"$f":"MATCH(BK$3,Millwall!$AD95:$AO95,0)","v":{"$error":"#N/A"}},{"$f":"MATCH(BL$3,Millwall!$AD95:$AO95,0)","v":{"$error":"#N/A"}},{"$f":"MATCH(BM$3,Millwall!$AD95:$AO95,0)","v":{"$error":"#N/A"}},{"$f":"MATCH(BN$3,Millwall!$AD95:$AO95,0)","v":{"$error":"#N/A"}},{"$f":"MATCH(BO$3,Millwall!$AD95:$AO95,0)","v":{"$error":"#N/A"}},{"$f":"MATCH(BP$3,Millwall!$AD95:$AO95,0)","v":{"$error":"#N/A"}},{"$f":"MATCH(BQ$3,Millwall!$AD95:$AO95,0)","v":{"$error":"#N/A"}},{"$f":"MATCH(BR$3,Millwall!$AD95:$AO95,0)","v":{"$error":"#N/A"}},{"$f":"MATCH(BS$3,Millwall!$AD95:$AO95,0)","v":{"$error":"#N/A"}},{"$f":"MATCH(BT$3,Millwall!$AD95:$AO95,0)","v":{"$error":"#N/A"}},{"$f":"MATCH(BU$3,Millwall!$AD95:$AO95,0)","v":{"$error":"#N/A"}},{"$f":"MATCH(BV$3,Millwall!$AD95:$AO95,0)","v":{"$error":"#N/A"}},{"$f":"MATCH(BW$3,Millwall!$AD95:$AO95,0)","v":{"$error":"#N/A"}},{"$f":"MATCH(BX$3,Millwall!$AD95:$AO95,0)","v":{"$error":"#N/A"}},{"$f":"MATCH(BY$3,Millwall!$AD95:$AO95,0)","v":{"$error":"#N/A"}},{"$f":"MATCH(BZ$3,Millwall!$AD95:$AO95,0)","v":{"$error":"#N/A"}},{"$f":"MATCH(CA$3,Millwall!$AD95:$AO95,0)","v":{"$error":"#N/A"}},{"$f":"MATCH(CB$3,Millwall!$AD95:$AO95,0)","v":{"$error":"#N/A"}},{"$f":"MATCH(CC$3,Millwall!$AD95:$AO95,0)","v":{"$error":"#N/A"}},{"$f":"MATCH(CD$3,Millwall!$AD95:$AO95,0)","v":{"$error":"#N/A"}},{"$f":"MATCH(CE$3,Millwall!$AD95:$AO95,0)","v":{"$error":"#N/A"}},null,null,null,null,null,null,{"$f":"$CM$25&\" [**\"","v":"Stride [**"},{"$f":"Millwall!$AA179","v":"Stride"},{"$f":"Millwall!$AA179&\" (**\"","v":"Stride (**"},{"$f":"$CM$25&\"**\"","v":"Stride**"},null,{"$f":"$CM$25","v":"Stride"},{"$f":"$CN$25","v":"Stride (**"},{"$f":"$CO$25","v":"Stride**"},null,{"$f":"Millwall!$CE$26","v":0},{"$f":"Millwall!$CJ$26","v":0},{"$f":"Millwall!$CO$26","v":0},{"$f":"Millwall!$CT$26","v":22}]
[null,null,0,22,null,{"$f":"Millwall!Z96","v":"1983-12-30"},null,{"$f":"Millwall!AA96","v":"Bristol R"},{"$f":"Millwall!AB96","v":"(H)"},{"$f":"Millwall!AC96","v":"W 1-0"},{"$f":"MATCH(K$4,Millwall!$AD96:$AO96,0)","v":9},{"$f":"MATCH(L$4,Millwall!$AD96:$AO96,0)","v":{"$error":"#N/A"}},{"$f":"MATCH(M$4,Millwall!$AD96:$AO96,0)","v":12},{"$f":"MATCH(N$4,Millwall!$AD96:$AO96,0)","v":{"$error":"#N/A"}},{"$f":"MATCH(O$4,Millwall!$AD96:$AO96,0)","v":{"$error":"#N/A"}},{"$f":"MATCH(P$4,Millwall!$AD96:$AO96,0)","v":6},{"$f":"MATCH(Q$4,Millwall!$AD96:$AO96,0)","v":2},{"$f":"MATCH(R$4,Millwall!$AD96:$AO96,0)","v":7},{"$f":"MATCH(S$4,Millwall!$AD96:$AO96,0)","v":8},{"$f":"MATCH(T$4,Millwall!$AD96:$AO96,0)","v":{"$error":"#N/A"}},{"$f":"MATCH(U$4,Millwall!$AD96:$AO96,0)","v":4},{"$f":"MATCH(V$4,Millwall!$AD96:$AO96,0)","v":{"$error":"#N/A"}},{"$f":"MATCH(W$4,Millwall!$AD96:$AO96,0)","v":{"$error":"#N/A"}},{"$f":"MATCH(X$4,Millwall!$AD96:$AO96,0)","v":5},{"$f":"MATCH(Y$4,Millwall!$AD96:$AO96,0)","v":10},{"$f":"MATCH(Z$4,Millwall!$AD96:$AO96,0)","v":{"$error":"#N/A"}},{"$f":"MATCH(AA$4,Millwall!$AD96:$AO96,0)","v":1},{"$f":"MATCH(AB$4,Millwall!$AD96:$AO96,0)","v":{"$error":"#N/A"}},{"$f":"MATCH(AC$4,Millwall!$AD96:$AO96,0)","v":3},{"$f":"MATCH(AD$4,Millwall!$AD96:$AO96,0)","v":{"$error":"#N/A"}},{"$f":"MATCH(AE$4,Millwall!$AD96:$AO96,0)","v":{"$error":"#N/A"}},{"$f":"MATCH(AF$4,Millwall!$AD96:$AO96,0)","v":{"$error":"#N/A"}},{"$f":"MATCH(AG$4,Millwall!$AD96:$AO96,0)","v":11},{"$f":"MATCH(AH$4,Millwall!$AD96:$AO96,0)","v":{"$error":"#N/A"}},{"$f":"MATCH(AI$4,Millwall!$AD96:$AO96,0)","v":{"$error":"#N/A"}},{"$f":"MATCH(AJ$4,Millwall!$AD96:$AO96,0)","v":{"$error":"#N/A"}},{"$f":"MATCH(AK$4,Millwall!$AD96:$AO96,0)","v":{"$error":"#N/A"}},{"$f":"MATCH(AL$4,Millwall!$AD96:$AO96,0)","v":{"$error":"#N/A"}},{"$f":"MATCH(AM$4,Millwall!$AD96:$AO96,0)","v":{"$error":"#N/A"}},{"$f":"MATCH(AN$4,Millwall!$AD96:$AO96,0)","v":{"$error":"#N/A"}},{"$f":"MATCH(AO$4,Millwall!$AD96:$AO96,0)","v":{"$error":"#N/A"}},{"$f":"MATCH(AP$4,Millwall!$AD96:$AO96,0)","v":{"$error":"#N/A"}},{"$f":"MATCH(AQ$4,Millwall!$AD96:$AO96,0)","v":{"$error":"#N/A"}},{"$f":"MATCH(AR$4,Millwall!$AB96:$AM96,0)","v":{"$error":"#N/A"}},null,null,null,null,null,{"$f":"MATCH(AX$3,Millwall!$AD96:$AO96,0)","v":{"$error":"#N/A"}},{"$f":"MATCH(AY$3,Millwall!$AD96:$AO96,0)","v":{"$error":"#N/A"}},{"$f":"MATCH(AZ$3,Millwall!$AD96:$AO96,0)","v":12},{"$f":"MATCH(BA$3,Millwall!$AD96:$AO96,0)","v":{"$error":"#N/A"}},{"$f":"MATCH(BB$3,Millwall!$AD96:$AO96,0)","v":{"$error":"#N/A"}},{"$f":"MATCH(BC$3,Millwall!$AD96:$AO96,0)","v":{"$error":"#N/A"}},{"$f":"MATCH(BD$3,Millwall!$AD96:$AO96,0)","v":{"$error":"#N/A"}},{"$f":"MATCH(BE$3,Millwall!$AD96:$AO96,0)","v":{"$error":"#N/A"}},{"$f":"MATCH(BF$3,Millwall!$AD96:$AO96,0)","v":{"$error":"#N/A"}},{"$f":"MATCH(BG$3,Millwall!$AD96:$AO96,0)","v":{"$error":"#N/A"}},{"$f":"MATCH(BH$3,Millwall!$AD96:$AO96,0)","v":{"$error":"#N/A"}},{"$f":"MATCH(BI$3,Millwall!$AD96:$AO96,0)","v":{"$error":"#N/A"}},{"$f":"MATCH(BJ$3,Millwall!$AD96:$AO96,0)","v":{"$error":"#N/A"}},{"$f":"MATCH(BK$3,Millwall!$AD96:$AO96,0)","v":{"$error":"#N/A"}},{"$f":"MATCH(BL$3,Millwall!$AD96:$AO96,0)","v":10},{"$f":"MATCH(BM$3,Millwall!$AD96:$AO96,0)","v":{"$error":"#N/A"}},{"$f":"MATCH(BN$3,Millwall!$AD96:$AO96,0)","v":{"$error":"#N/A"}},{"$f":"MATCH(BO$3,Millwall!$AD96:$AO96,0)","v":{"$error":"#N/A"}},{"$f":"MATCH(BP$3,Millwall!$AD96:$AO96,0)","v":{"$error":"#N/A"}},{"$f":"MATCH(BQ$3,Millwall!$AD96:$AO96,0)","v":{"$error":"#N/A"}},{"$f":"MATCH(BR$3,Millwall!$AD96:$AO96,0)","v":{"$error":"#N/A"}},{"$f":"MATCH(BS$3,Millwall!$AD96:$AO96,0)","v":{"$error":"#N/A"}},{"$f":"MATCH(BT$3,Millwall!$AD96:$AO96,0)","v":{"$error":"#N/A"}},{"$f":"MATCH(BU$3,Millwall!$AD96:$AO96,0)","v":{"$error":"#N/A"}},{"$f":"MATCH(BV$3,Millwall!$AD96:$AO96,0)","v":{"$error":"#N/A"}},{"$f":"MATCH(BW$3,Millwall!$AD96:$AO96,0)","v":{"$error":"#N/A"}},{"$f":"MATCH(BX$3,Millwall!$AD96:$AO96,0)","v":{"$error":"#N/A"}},{"$f":"MATCH(BY$3,Millwall!$AD96:$AO96,0)","v":{"$error":"#N/A"}},{"$f":"MATCH(BZ$3,Millwall!$AD96:$AO96,0)","v":{"$error":"#N/A"}},{"$f":"MATCH(CA$3,Millwall!$AD96:$AO96,0)","v":{"$error":"#N/A"}},{"$f":"MATCH(CB$3,Millwall!$AD96:$AO96,0)","v":{"$error":"#N/A"}},{"$f":"MATCH(CC$3,Millwall!$AD96:$AO96,0)","v":{"$error":"#N/A"}},{"$f":"MATCH(CD$3,Millwall!$AD96:$AO96,0)","v":{"$error":"#N/A"}},{"$f":"MATCH(CE$3,Millwall!$AD96:$AO96,0)","v":{"$error":"#N/A"}},null,null,null,null,null,null,{"$f":"$CM$26&\" [**\"","v":"Wells [**"},{"$f":"Millwall!$AA180","v":"Wells"},{"$f":"Millwall!$AA180&\" (**\"","v":"Wells (**"},{"$f":"$CM$26&\"**\"","v":"Wells**"},null,{"$f":"$CM$26","v":"Wells"},{"$f":"$CN$26","v":"Wells (**"},{"$f":"$CO$26","v":"Wells**"},null,{"$f":"Millwall!$CE$27","v":0},{"$f":"Millwall!$CJ$27","v":0},{"$f":"Millwall!$CO$27","v":0},{"$f":"Millwall!$CT$27","v":33}]
[null,null,0,23,null,{"$f":"Millwall!Z97","v":"1984-01-02"},null,{"$f":"Millwall!AA97","v":"Bolton"},{"$f":"Millwall!AB97","v":"(A)"},{"$f":"Millwall!AC97","v":"L 0-2"},{"$f":"MATCH(K$4,Millwall!$AD97:$AO97,0)","v":9},{"$f":"MATCH(L$4,Millwall!$AD97:$AO97,0)","v":{"$error":"#N/A"}},{"$f":"MATCH(M$4,Millwall!$AD97:$AO97,0)","v":11},{"$f":"MATCH(N$4,Millwall!$AD97:$AO97,0)","v":{"$error":"#N/A"}},{"$f":"MATCH(O$4,Millwall!$AD97:$AO97,0)","v":12},{"$f":"MATCH(P$4,Millwall!$AD97:$AO97,0)","v":{"$error":"#N/A"}},{"$f":"MATCH(Q$4,Millwall!$AD97:$AO97,0)","v":2},{"$f":"MATCH(R$4,Millwall!$AD97:$AO97,0)","v":7},{"$f":"MATCH(S$4,Millwall!$AD97:$AO97,0)","v":4},{"$f":"MATCH(T$4,Millwall!$AD97:$AO97,0)","v":8},{"$f":"MATCH(U$4,Millwall!$AD97:$AO97,0)","v":6},{"$f":"MATCH(V$4,Millwall!$AD97:$AO97,0)","v":{"$error":"#N/A"}},{"$f":"MATCH(W$4,Millwall!$AD97:$AO97,0)","v":{"$error":"#N/A"}},{"$f":"MATCH(X$4,Millwall!$AD97:$AO97,0)","v":5},{"$f":"MATCH(Y$4,Millwall!$AD97:$AO97,0)","v":10},{"$f":"MATCH(Z$4,Millwall!$AD97:$AO97,0)","v":3},{"$f":"MATCH(AA$4,Millwall!$AD97:$AO97,0)","v":1},{"$f":"MATCH(AB$4,Millwall!$AD97:$AO97,0)","v":{"$error":"#N/A"}},{"$f":"MATCH(AC$4,Millwall!$AD97:$AO97,0)","v":{"$error":"#N/A"}},{"$f":"MATCH(AD$4,Millwall!$AD97:$AO97,0)","v":{"$error":"#N/A"}},{"$f":"MATCH(AE$4,Millwall!$AD97:$AO97,0)","v":{"$error":"#N/A"}},{"$f":"MATCH(AF$4,Millwall!$AD97:$AO97,0)","v":{"$error":"#N/A"}},{"$f":"MATCH(AG$4,Millwall!$AD97:$AO97,0)","v":{"$error":"#N/A"}},{"$f":"MATCH(AH$4,Millwall!$AD97:$AO97,0)","v":{"$error":"#N/A"}},{"$f":"MATCH(AI$4,Millwall!$AD97:$AO97,0)","v":{"$error":"#N/A"}},{"$f":"MATCH(AJ$4,Millwall!$AD97:$AO97,0)","v":{"$error":"#N/A"}},{"$f":"MATCH(AK$4,Millwall!$AD97:$AO97,0)","v":{"$error":"#N/A"}},{"$f":"MATCH(AL$4,Millwall!$AD97:$AO97,0)","v":{"$error":"#N/A"}},{"$f":"MATCH(AM$4,Millwall!$AD97:$AO97,0)","v":{"$error":"#N/A"}},{"$f":"MATCH(AN$4,Millwall!$AD97:$AO97,0)","v":{"$error":"#N/A"}},{"$f":"MATCH(AO$4,Millwall!$AD97:$AO97,0)","v":{"$error":"#N/A"}},{"$f":"MATCH(AP$4,Millwall!$AD97:$AO97,0)","v":{"$error":"#N/A"}},{"$f":"MATCH(AQ$4,Millwall!$AD97:$AO97,0)","v":{"$error":"#N/A"}},{"$f":"MATCH(AR$4,Millwall!$AB97:$AM97,0)","v":{"$error":"#N/A"}},null,null,null,null,null,{"$f":"MATCH(AX$3,Millwall!$AD97:$AO97,0)","v":{"$error":"#N/A"}},{"$f":"MATCH(AY$3,Millwall!$AD97:$AO97,0)","v":{"$error":"#N/A"}},{"$f":"MATCH(AZ$3,Millwall!$AD97:$AO97,0)","v":{"$error":"#N/A"}},{"$f":"MATCH(BA$3,Millwall!$AD97:$AO97,0)","v":{"$error":"#N/A"}},{"$f":"MATCH(BB$3,Millwall!$AD97:$AO97,0)","v":12},{"$f":"MATCH(BC$3,Millwall!$AD97:$AO97,0)","v":{"$error":"#N/A"}},{"$f":"MATCH(BD$3,Millwall!$AD97:$AO97,0)","v":{"$error":"#N/A"}},{"$f":"MATCH(BE$3,Millwall!$AD97:$AO97,0)","v":7},{"$f":"MATCH(BF$3,Millwall!$AD97:$AO97,0)","v":{"$error":"#N/A"}},{"$f":"MATCH(BG$3,Millwall!$AD97:$AO97,0)","v":{"$error":"#N/A"}},{"$f":"MATCH(BH$3,Millwall!$AD97:$AO97,0)","v":{"$error":"#N/A"}},{"$f":"MATCH(BI$3,Millwall!$AD97:$AO97,0)","v":{"$error":"#N/A"}},{"$f":"MATCH(BJ$3,Millwall!$AD97:$AO97,0)","v":{"$error":"#N/A"}},{"$f":"MATCH(BK$3,Millwall!$AD97:$AO97,0)","v":{"$error":"#N/A"}},{"$f":"MATCH(BL$3,Millwall!$AD97:$AO97,0)","v":{"$error":"#N/A"}},{"$f":"MATCH(BM$3,Millwall!$AD97:$AO97,0)","v":{"$error":"#N/A"}},{"$f":"MATCH(BN$3,Millwall!$AD97:$AO97,0)","v":{"$error":"#N/A"}},{"$f":"MATCH(BO$3,Millwall!$AD97:$AO97,0)","v":{"$error":"#N/A"}},{"$f":"MATCH(BP$3,Millwall!$AD97:$AO97,0)","v":{"$error":"#N/A"}},{"$f":"MATCH(BQ$3,Millwall!$AD97:$AO97,0)","v":{"$error":"#N/A"}},{"$f":"MATCH(BR$3,Millwall!$AD97:$AO97,0)","v":{"$error":"#N/A"}},{"$f":"MATCH(BS$3,Millwall!$AD97:$AO97,0)","v":{"$error":"#N/A"}},{"$f":"MATCH(BT$3,Millwall!$AD97:$AO97,0)","v":{"$error":"#N/A"}},{"$f":"MATCH(BU$3,Millwall!$AD97:$AO97,0)","v":{"$error":"#N/A"}},{"$f":"MATCH(BV$3,Millwall!$AD97:$AO97,0)","v":{"$error":"#N/A"}},{"$f":"MATCH(BW$3,Millwall!$AD97:$AO97,0)","v":{"$error":"#N/A"}},{"$f":"MATCH(BX$3,Millwall!$AD97:$AO97,0)","v":{"$error":"#N/A"}},{"$f":"MATCH(BY$3,Millwall!$AD97:$AO97,0)","v":{"$error":"#N/A"}},{"$f":"MATCH(BZ$3,Millwall!$AD97:$AO97,0)","v":{"$error":"#N/A"}},{"$f":"MATCH(CA$3,Millwall!$AD97:$AO97,0)","v":{"$error":"#N/A"}},{"$f":"MATCH(CB$3,Millwall!$AD97:$AO97,0)","v":{"$error":"#N/A"}},{"$f":"MATCH(CC$3,Millwall!$AD97:$AO97,0)","v":{"$error":"#N/A"}},{"$f":"MATCH(CD$3,Millwall!$AD97:$AO97,0)","v":{"$error":"#N/A"}},{"$f":"MATCH(CE$3,Millwall!$AD97:$AO97,0)","v":{"$error":"#N/A"}},null,null,null,null,null,null,{"$f":"$CM$27&\" [**\"","v":"White [**"},{"$f":"Millwall!$AA181","v":"White"},{"$f":"Millwall!$AA181&\" (**\"","v":"White (**"},{"$f":"$CM$27&\"**\"","v":"White**"},null,{"$f":"$CM$27","v":"White"},{"$f":"$CN$27","v":"White (**"},{"$f":"$CO$27","v":"White**"},null,{"$f":"Millwall!$CE$28","v":0},{"$f":"Millwall!$CJ$28","v":0},{"$f":"Millwall!$CO$28","v":0},{"$f":"Millwall!$CT$28","v":19}]
[null,null,0,24,null,{"$f":"Millwall!Z98","v":"1984-01-15"},null,{"$f":"Millwall!AA98","v":"Brentford"},{"$f":"Millwall!AB98","v":"(H)"},{"$f":"Millwall!AC98","v":"L 1-2"},{"$f":"MATCH(K$4,Millwall!$AD98:$AO98,0)","v":9},{"$f":"MATCH(L$4,Millwall!$AD98:$AO98,0)","v":{"$error":"#N/A"}},{"$f":"MATCH(M$4,Millwall!$AD98:$AO98,0)","v":11},{"$f":"MATCH(N$4,Millwall!$AD98:$AO98,0)","v":{"$error":"#N/A"}},{"$f":"MATCH(O$4,Millwall!$AD98:$AO98,0)","v":{"$error":"#N/A"}},{"$f":"MATCH(P$4,Millwall!$AD98:$AO98,0)","v":{"$error":"#N/A"}},{"$f":"MATCH(Q$4,Millwall!$AD98:$AO98,0)","v":2},{"$f":"MATCH(R$4,Millwall!$AD98:$AO98,0)","v":{"$error":"#N/A"}},{"$f":"MATCH(S$4,Millwall!$AD98:$AO98,0)","v":{"$error":"#N/A"}},{"$f":"MATCH(T$4,Millwall!$AD98:$AO98,0)","v":12},{"$f":"MATCH(U$4,Millwall!$AD98:$AO98,0)","v":6},{"$f":"MATCH(V$4,Millwall!$AD98:$AO98,0)","v":{"$error":"#N/A"}},{"$f":"MATCH(W$4,Millwall!$AD98:$AO98,0)","v":{"$error":"#N/A"}},{"$f":"MATCH(X$4,Millwall!$AD98:$AO98,0)","v":5},{"$f":"MATCH(Y$4,Millwall!$AD98:$AO98,0)","v":10},{"$f":"MATCH(Z$4,Millwall!$AD98:$AO98,0)","v":4},{"$f":"MATCH(AA$4,Millwall!$AD98:$AO98,0)","v":1},{"$f":"MATCH(AB$4,Millwall!$AD98:$AO98,0)","v":8},{"$f":"MATCH(AC$4,Millwall!$AD98:$AO98,0)","v":3},{"$f":"MATCH(AD$4,Millwall!$AD98:$AO98,0)","v":7},{"$f":"MATCH(AE$4,Millwall!$AD98:$AO98,0)","v":{"$error":"#N/A"}},{"$f":"MATCH(AF$4,Millwall!$AD98:$AO98,0)","v":{"$error":"#N/A"}},{"$f":"MATCH(AG$4,Millwall!$AD98:$AO98,0)","v":{"$error":"#N/A"}},{"$f":"MATCH(AH$4,Millwall!$AD98:$AO98,0)","v":{"$error":"#N/A"}},{"$f":"MATCH(AI$4,Millwall!$AD98:$AO98,0)","v":{"$error":"#N/A"}},{"$f":"MATCH(AJ$4,Millwall!$AD98:$AO98,0)","v":{"$error":"#N/A"}},{"$f":"MATCH(AK$4,Millwall!$AD98:$AO98,0)","v":{"$error":"#N/A"}},{"$f":"MATCH(AL$4,Millwall!$AD98:$AO98,0)","v":{"$error":"#N/A"}},{"$f":"MATCH(AM$4,Millwall!$AD98:$AO98,0)","v":{"$error":"#N/A"}},{"$f":"MATCH(AN$4,Millwall!$AD98:$AO98,0)","v":{"$error":"#N/A"}},{"$f":"MATCH(AO$4,Millwall!$AD98:$AO98,0)","v":{"$error":"#N/A"}},{"$f":"MATCH(AP$4,Millwall!$AD98:$AO98,0)","v":{"$error":"#N/A"}},{"$f":"MATCH(AQ$4,Millwall!$AD98:$AO98,0)","v":{"$error":"#N/A"}},{"$f":"MATCH(AR$4,Millwall!$AB98:$AM98,0)","v":{"$error":"#N/A"}},null,null,null,null,null,{"$f":"MATCH(AX$3,Millwall!$AD98:$AO98,0)","v":{"$error":"#N/A"}},{"$f":"MATCH(AY$3,Millwall!$AD98:$AO98,0)","v":{"$error":"#N/A"}},{"$f":"MATCH(AZ$3,Millwall!$AD98:$AO98,0)","v":11},{"$f":"MATCH(BA$3,Millwall!$AD98:$AO98,0)","v":{"$error":"#N/A"}},{"$f":"MATCH(BB$3,Millwall!$AD98:$AO98,0)","v":{"$error":"#N/A"}},{"$f":"MATCH(BC$3,Millwall!$AD98:$AO98,0)","v":{"$error":"#N/A"}},{"$f":"MATCH(BD$3,Millwall!$AD98:$AO98,0)","v":{"$error":"#N/A"}},{"$f":"MATCH(BE$3,Millwall!$AD98:$AO98,0)","v":{"$error":"#N/A"}},{"$f":"MATCH(BF$3,Millwall!$AD98:$AO98,0)","v":{"$error":"#N/A"}},{"$f":"MATCH(BG$3,Millwall!$AD98:$AO98,0)","v":12},{"$f":"MATCH(BH$3,Millwall!$AD98:$AO98,0)","v":{"$error":"#N/A"}},{"$f":"MATCH(BI$3,Millwall!$AD98:$AO98,0)","v":{"$error":"#N/A"}},{"$f":"MATCH(BJ$3,Millwall!$AD98:$AO98,0)","v":{"$error":"#N/A"}},{"$f":"MATCH(BK$3,Millwall!$AD98:$AO98,0)","v":{"$error":"#N/A"}},{"$f":"MATCH(BL$3,Millwall!$AD98:$AO98,0)","v":{"$error":"#N/A"}},{"$f":"MATCH(BM$3,Millwall!$AD98:$AO98,0)","v":{"$error":"#N/A"}},{"$f":"MATCH(BN$3,Millwall!$AD98:$AO98,0)","v":{"$error":"#N/A"}},{"$f":"MATCH(BO$3,Millwall!$AD98:$AO98,0)","v":{"$error":"#N/A"}},{"$f":"MATCH(BP$3,Millwall!$AD98:$AO98,0)","v":{"$error":"#N/A"}},{"$f":"MATCH(BQ$3,Millwall!$AD98:$AO98,0)","v":{"$error":"#N/A"}},{"$f":"MATCH(BR$3,Millwall!$AD98:$AO98,0)","v":{"$error":"#N/A"}},{"$f":"MATCH(BS$3,Millwall!$AD98:$AO98,0)","v":{"$error":"#N/A"}},{"$f":"MATCH(BT$3,Millwall!$AD98:$AO98,0)","v":{"$error":"#N/A"}},{"$f":"MATCH(BU$3,Millwall!$AD98:$AO98,0)","v":{"$error":"#N/A"}},{"$f":"MATCH(BV$3,Millwall!$AD98:$AO98,0)","v":{"$error":"#N/A"}},{"$f":"MATCH(BW$3,Millwall!$AD98:$AO98,0)","v":{"$error":"#N/A"}},{"$f":"MATCH(BX$3,Millwall!$AD98:$AO98,0)","v":{"$error":"#N/A"}},{"$f":"MATCH(BY$3,Millwall!$AD98:$AO98,0)","v":{"$error":"#N/A"}},{"$f":"MATCH(BZ$3,Millwall!$AD98:$AO98,0)","v":{"$error":"#N/A"}},{"$f":"MATCH(CA$3,Millwall!$AD98:$AO98,0)","v":{"$error":"#N/A"}},{"$f":"MATCH(CB$3,Millwall!$AD98:$AO98,0)","v":{"$error":"#N/A"}},{"$f":"MATCH(CC$3,Millwall!$AD98:$AO98,0)","v":{"$error":"#N/A"}},{"$f":"MATCH(CD$3,Millwall!$AD98:$AO98,0)","v":{"$error":"#N/A"}},{"$f":"MATCH(CE$3,Millwall!$AD98:$AO98,0)","v":{"$error":"#N/A"}},null,null,null,null,null,null,{"$f":"$CM$28&\" [**\"","v":"0 [**"},{"$f":"Millwall!$AA182","v":0},{"$f":"Millwall!$AA182&\" (**\"","v":" (**"},{"$f":"$CM$28&\"**\"","v":"0**"},null,{"$f":"$CM$28","v":0},{"$f":"$CN$28","v":" (**"},{"$f":"$CO$28","v":"0**"},null,{"$f":"Millwall!$CE$29","v":0},{"$f":"Millwall!$CJ$29","v":0},{"$f":"Millwall!$CO$29","v":1},{"$f":"Millwall!$CT$29","v":32}]
[null,null,0,25,null,{"$f":"Millwall!Z99","v":"1984-01-21"},null,{"$f":"Millwall!AA99","v":"Bournemouth"},{"$f":"Millwall!AB99","v":"(A)"},{"$f":"Millwall!AC99","v":"D 1-1"},{"$f":"MATCH(K$4,Millwall!$AD99:$AO99,0)","v":9},{"$f":"MATCH(L$4,Millwall!$AD99:$AO99,0)","v":{"$error":"#N/A"}},{"$f":"MATCH(M$4,Millwall!$AD99:$AO99,0)","v":{"$error":"#N/A"}},{"$f":"MATCH(N$4,Millwall!$AD99:$AO99,0)","v":{"$error":"#N/A"}},{"$f":"MATCH(O$4,Millwall!$AD99:$AO99,0)","v":{"$error":"#N/A"}},{"$f":"MATCH(P$4,Millwall!$AD99:$AO99,0)","v":6},{"$f":"MATCH(Q$4,Millwall!$AD99:$AO99,0)","v":2},{"$f":"MATCH(R$4,Millwall!$AD99:$AO99,0)","v":{"$error":"#N/A"}},{"$f":"MATCH(S$4,Millwall!$AD99:$AO99,0)","v":{"$error":"#N/A"}},{"$f":"MATCH(T$4,Millwall!$AD99:$AO99,0)","v":7},{"$f":"MATCH(U$4,Millwall!$AD99:$AO99,0)","v":4},{"$f":"MATCH(V$4,Millwall!$AD99:$AO99,0)","v":{"$error":"#N/A"}},{"$f":"MATCH(W$4,Millwall!$AD99:$AO99,0)","v":{"$error":"#N/A"}},{"$f":"MATCH(X$4,Millwall!$AD99:$AO99,0)","v":5},{"$f":"MATCH(Y$4,Millwall!$AD99:$AO99,0)","v":10},{"$f":"MATCH(Z$4,Millwall!$AD99:$AO99,0)","v":11},{"$f":"MATCH(AA$4,Millwall!$AD99:$AO99,0)","v":1},{"$f":"MATCH(AB$4,Millwall!$AD99:$AO99,0)","v":8},{"$f":"MATCH(AC$4,Millwall!$AD99:$AO99,0)","v":{"$error":"#N/A"}},{"$f":"MATCH(AD$4,Millwall!$AD99:$AO99,0)","v":12},{"$f":"MATCH(AE$4,Millwall!$AD99:$AO99,0)","v":3},{"$f":"MATCH(AF$4,Millwall!$AD99:$AO99,0)","v":{"$error":"#N/A"}},{"$f":"MATCH(AG$4,Millwall!$AD99:$AO99,0)","v":{"$error":"#N/A"}},{"$f":"MATCH(AH$4,Millwall!$AD99:$AO99,0)","v":{"$error":"#N/A"}},{"$f":"MATCH(AI$4,Millwall!$AD99:$AO99,0)","v":{"$error":"#N/A"}},{"$f":"MATCH(AJ$4,Millwall!$AD99:$AO99,0)","v":{"$error":"#N/A"}},{"$f":"MATCH(AK$4,Millwall!$AD99:$AO99,0)","v":{"$error":"#N/A"}},{"$f":"MATCH(AL$4,Millwall!$AD99:$AO99,0)","v":{"$error":"#N/A"}},{"$f":"MATCH(AM$4,Millwall!$AD99:$AO99,0)","v":{"$error":"#N/A"}},{"$f":"MATCH(AN$4,Millwall!$AD99:$AO99,0)","v":{"$error":"#N/A"}},{"$f":"MATCH(AO$4,Millwall!$AD99:$AO99,0)","v":{"$error":"#N/A"}},{"$f":"MATCH(AP$4,Millwall!$AD99:$AO99,0)","v":{"$error":"#N/A"}},{"$f":"MATCH(AQ$4,Millwall!$AD99:$AO99,0)","v":{"$error":"#N/A"}},{"$f":"MATCH(AR$4,Millwall!$AB99:$AM99,0)","v":{"$error":"#N/A"}},null,null,null,null,null,{"$f":"MATCH(AX$3,Millwall!$AD99:$AO99,0)","v":{"$error":"#N/A"}},{"$f":"MATCH(AY$3,Millwall!$AD99:$AO99,0)","v":{"$error":"#N/A"}},{"$f":"MATCH(AZ$3,Millwall!$AD99:$AO99,0)","v":{"$error":"#N/A"}},{"$f":"MATCH(BA$3,Millwall!$AD99:$AO99,0)","v":{"$error":"#N/A"}},{"$f":"MATCH(BB$3,Millwall!$AD99:$AO99,0)","v":{"$error":"#N/A"}},{"$f":"MATCH(BC$3,Millwall!$AD99:$AO99,0)","v":{"$error":"#N/A"}},{"$f":"MATCH(BD$3,Millwall!$AD99:$AO99,0)","v":{"$error":"#N/A"}},{"$f":"MATCH(BE$3,Millwall!$AD99:$AO99,0)","v":{"$error":"#N/A"}},{"$f":"MATCH(BF$3,Millwall!$AD99:$AO99,0)","v":{"$error":"#N/A"}},{"$f":"MATCH(BG$3,Millwall!$AD99:$AO99,0)","v":{"$error":"#N/A"}},{"$f":"MATCH(BH$3,Millwall!$AD99:$AO99,0)","v":{"$error":"#N/A"}},{"$f":"MATCH(BI$3,Millwall!$AD99:$AO99,0)","v":{"$error":"#N/A"}},{"$f":"MATCH(BJ$3,Millwall!$AD99:$AO99,0)","v":{"$error":"#N/A"}},{"$f":"MATCH(BK$3,Millwall!$AD99:$AO99,0)","v":{"$error":"#N/A"}},{"$f":"MATCH(BL$3,Millwall!$AD99:$AO99,0)","v":{"$error":"#N/A"}},{"$f":"MATCH(BM$3,Millwall!$AD99:$AO99,0)","v":{"$error":"#N/A"}},{"$f":"MATCH(BN$3,Millwall!$AD99:$AO99,0)","v":{"$error":"#N/A"}},{"$f":"MATCH(BO$3,Millwall!$AD99:$AO99,0)","v":{"$error":"#N/A"}},{"$f":"MATCH(BP$3,Millwall!$AD99:$AO99,0)","v":{"$error":"#N/A"}},{"$f":"MATCH(BQ$3,Millwall!$AD99:$AO99,0)","v":{"$error":"#N/A"}},{"$f":"MATCH(BR$3,Millwall!$AD99:$AO99,0)","v":{"$error":"#N/A"}},{"$f":"MATCH(BS$3,Millwall!$AD99:$AO99,0)","v":{"$error":"#N/A"}},{"$f":"MATCH(BT$3,Millwall!$AD99:$AO99,0)","v":{"$error":"#N/A"}},{"$f":"MATCH(BU$3,Millwall!$AD99:$AO99,0)","v":{"$error":"#N/A"}},{"$f":"MATCH(BV$3,Millwall!$AD99:$AO99,0)","v":{"$error":"#N/A"}},{"$f":"MATCH(BW$3,Millwall!$AD99:$AO99,0)","v":{"$error":"#N/A"}},{"$f":"MATCH(BX$3,Millwall!$AD99:$AO99,0)","v":{"$error":"#N/A"}},{"$f":"MATCH(BY$3,Millwall!$AD99:$AO99,0)","v":{"$error":"#N/A"}},{"$f":"MATCH(BZ$3,Millwall!$AD99:$AO99,0)","v":{"$error":"#N/A"}},{"$f":"MATCH(CA$3,Millwall!$AD99:$AO99,0)","v":{"$error":"#N/A"}},{"$f":"MATCH(CB$3,Millwall!$AD99:$AO99,0)","v":{"$error":"#N/A"}},{"$f":"MATCH(CC$3,Millwall!$AD99:$AO99,0)","v":{"$error":"#N/A"}},{"$f":"MATCH(CD$3,Millwall!$AD99:$AO99,0)","v":{"$error":"#N/A"}},{"$f":"MATCH(CE$3,Millwall!$AD99:$AO99,0)","v":{"$error":"#N/A"}},null,null,null,null,null,null,{"$f":"$CM$29&\" [**\"","v":"0 [**"},{"$f":"Millwall!$AA183","v":0},{"$f":"Millwall!$AA183&\" (**\"","v":" (**"},{"$f":"$CM$29&\"**\"","v":"0**"},null,{"$f":"$CM$29","v":0},{"$f":"$CN$29","v":" (**"},{"$f":"$CO$29","v":"0**"},null,{"$f":"Millwall!$CE$30","v":0},{"$f":"Millwall!$CJ$30","v":0},{"$f":"Millwall!$CO$30","v":0},{"$f":"Millwall!$CT$30","v":0}]
[null,null,0,26,null,{"$f":"Millwall!Z100","v":"1984-01-28"},null,{"$f":"Millwall!AA100","v":"Hull City"},{"$f":"Millwall!AB100","v":"(H)"},{"$f":"Millwall!AC100","v":"W 1-0"},{"$f":"MATCH(K$4,Millwall!$AD100:$AO100,0)","v":9},{"$f":"MATCH(L$4,Millwall!$AD100:$AO100,0)","v":{"$error":"#N/A"}},{"$f":"MATCH(M$4,Millwall!$AD100:$AO100,0)","v":{"$error":"#N/A"}},{"$f":"MATCH(N$4,Millwall!$AD100:$AO100,0)","v":{"$error":"#N/A"}},{"$f":"MATCH(O$4,Millwall!$AD100:$AO100,0)","v":{"$error":"#N/A"}},{"$f":"MATCH(P$4,Millwall!$AD100:$AO100,0)","v":6},{"$f":"MATCH(Q$4,Millwall!$AD100:$AO100,0)","v":2},{"$f":"MATCH(R$4,Millwall!$AD100:$AO100,0)","v":{"$error":"#N/A"}},{"$f":"MATCH(S$4,Millwall!$AD100:$AO100,0)","v":12},{"$f":"MATCH(T$4,Millwall!$AD100:$AO100,0)","v":7},{"$f":"MATCH(U$4,Millwall!$AD100:$AO100,0)","v":4},{"$f":"MATCH(V$4,Millwall!$AD100:$AO100,0)","v":{"$error":"#N/A"}},{"$f":"MATCH(W$4,Millwall!$AD100:$AO100,0)","v":{"$error":"#N/A"}},{"$f":"MATCH(X$4,Millwall!$AD100:$AO100,0)","v":5},{"$f":"MATCH(Y$4,Millwall!$AD100:$AO100,0)","v":10},{"$f":"MATCH(Z$4,Millwall!$AD100:$AO100,0)","v":11},{"$f":"MATCH(AA$4,Millwall!$AD100:$AO100,0)","v":1},{"$f":"MATCH(AB$4,Millwall!$AD100:$AO100,0)","v":8},{"$f":"MATCH(AC$4,Millwall!$AD100:$AO100,0)","v":{"$error":"#N/A"}},{"$f":"MATCH(AD$4,Millwall!$AD100:$AO100,0)","v":{"$error":"#N/A"}},{"$f":"MATCH(AE$4,Millwall!$AD100:$AO100,0)","v":3},{"$f":"MATCH(AF$4,Millwall!$AD100:$AO100,0)","v":{"$error":"#N/A"}},{"$f":"MATCH(AG$4,Millwall!$AD100:$AO100,0)","v":{"$error":"#N/A"}},{"$f":"MATCH(AH$4,Millwall!$AD100:$AO100,0)","v":{"$error":"#N/A"}},{"$f":"MATCH(AI$4,Millwall!$AD100:$AO100,0)","v":{"$error":"#N/A"}},{"$f":"MATCH(AJ$4,Millwall!$AD100:$AO100,0)","v":{"$error":"#N/A"}},{"$f":"MATCH(AK$4,Millwall!$AD100:$AO100,0)","v":{"$error":"#N/A"}},{"$f":"MATCH(AL$4,Millwall!$AD100:$AO100,0)","v":{"$error":"#N/A"}},{"$f":"MATCH(AM$4,Millwall!$AD100:$AO100,0)","v":{"$error":"#N/A"}},{"$f":"MATCH(AN$4,Millwall!$AD100:$AO100,0)","v":{"$error":"#N/A"}},{"$f":"MATCH(AO$4,Millwall!$AD100:$AO100,0)","v":{"$error":"#N/A"}},{"$f":"MATCH(AP$4,Millwall!$AD100:$AO100,0)","v":{"$error":"#N/A"}},{"$f":"MATCH(AQ$4,Millwall!$AD100:$AO100,0)","v":{"$error":"#N/A"}},{"$f":"MATCH(AR$4,Millwall!$AB100:$AM100,0)","v":{"$error":"#N/A"}},null,null,null,null,null,{"$f":"MATCH(AX$3,Millwall!$AD100:$AO100,0)","v":{"$error":"#N/A"}},{"$f":"MATCH(AY$3,Millwall!$AD100:$AO100,0)","v":{"$error":"#N/A"}},{"$f":"MATCH(AZ$3,Millwall!$AD100:$AO100,0)","v":{"$error":"#N/A"}},{"$f":"MATCH(BA$3,Millwall!$AD100:$AO100,0)","v":{"$error":"#N/A"}},{"$f":"MATCH(BB$3,Millwall!$AD100:$AO100,0)","v":{"$error":"#N/A"}},{"$f":"MATCH(BC$3,Millwall!$AD100:$AO100,0)","v":{"$error":"#N/A"}},{"$f":"MATCH(BD$3,Millwall!$AD100:$AO100,0)","v":{"$error":"#N/A"}},{"$f":"MATCH(BE$3,Millwall!$AD100:$AO100,0)","v":{"$error":"#N/A"}},{"$f":"MATCH(BF$3,Millwall!$AD100:$AO100,0)","v":12},{"$f":"MATCH(BG$3,Millwall!$AD100:$AO100,0)","v":{"$error":"#N/A"}},{"$f":"MATCH(BH$3,Millwall!$AD100:$AO100,0)","v":{"$error":"#N/A"}},{"$f":"MATCH(BI$3,Millwall!$AD100:$AO100,0)","v":{"$error":"#N/A"}},{"$f":"MATCH(BJ$3,Millwall!$AD100:$AO100,0)","v":{"$error":"#N/A"}},{"$f":"MATCH(BK$3,Millwall!$AD100:$AO100,0)","v":{"$error":"#N/A"}},{"$f":"MATCH(BL$3,Millwall!$AD100:$AO100,0)","v":{"$error":"#N/A"}},{"$f":"MATCH(BM$3,Millwall!$AD100:$AO100,0)","v":{"$error":"#N/A"}},{"$f":"MATCH(BN$3,Millwall!$AD100:$AO100,0)","v":{"$error":"#N/A"}},{"$f":"MATCH(BO$3,Millwall!$AD100:$AO100,0)","v":8},{"$f":"MATCH(BP$3,Millwall!$AD100:$AO100,0)","v":{"$error":"#N/A"}},{"$f":"MATCH(BQ$3,Millwall!$AD100:$AO100,0)","v":{"$error":"#N/A"}},{"$f":"MATCH(BR$3,Millwall!$AD100:$AO100,0)","v":{"$error":"#N/A"}},{"$f":"MATCH(BS$3,Millwall!$AD100:$AO100,0)","v":{"$error":"#N/A"}},{"$f":"MATCH(BT$3,Millwall!$AD100:$AO100,0)","v":{"$error":"#N/A"}},{"$f":"MATCH(BU$3,Millwall!$AD100:$AO100,0)","v":{"$error":"#N/A"}},{"$f":"MATCH(BV$3,Millwall!$AD100:$AO100,0)","v":{"$error":"#N/A"}},{"$f":"MATCH(BW$3,Millwall!$AD100:$AO100,0)","v":{"$error":"#N/A"}},{"$f":"MATCH(BX$3,Millwall!$AD100:$AO100,0)","v":{"$error":"#N/A"}},{"$f":"MATCH(BY$3,Millwall!$AD100:$AO100,0)","v":{"$error":"#N/A"}},{"$f":"MATCH(BZ$3,Millwall!$AD100:$AO100,0)","v":{"$error":"#N/A"}},{"$f":"MATCH(CA$3,Millwall!$AD100:$AO100,0)","v":{"$error":"#N/A"}},{"$f":"MATCH(CB$3,Millwall!$AD100:$AO100,0)","v":{"$error":"#N/A"}},{"$f":"MATCH(CC$3,Millwall!$AD100:$AO100,0)","v":{"$error":"#N/A"}},{"$f":"MATCH(CD$3,Millwall!$AD100:$AO100,0)","v":{"$error":"#N/A"}},{"$f":"MATCH(CE$3,Millwall!$AD100:$AO100,0)","v":{"$error":"#N/A"}},null,null,null,null,null,null,{"$f":"$CM$30&\" [**\"","v":"0 [**"},{"$f":"Millwall!$AA184","v":0},{"$f":"Millwall!$AA184&\" (**\"","v":" (**"},{"$f":"$CM$30&\"**\"","v":"0**"},null,{"$f":"$CM$30","v":0},{"$f":"$CN$30","v":" (**"},{"$f":"$CO$30","v":"0**"},null,{"$f":"Millwall!$CE$31","v":"-"},{"$f":"Millwall!$CJ$31","v":"-"},{"$f":"Millwall!$CO$31","v":"-"},{"$f":"Millwall!$CT$31","v":0}]
[null,null,0,27,null,{"$f":"Millwall!Z101","v":"1984-02-04"},null,{"$f":"Millwall!AA101","v":"Sheff Utd"},{"$f":"Millwall!AB101","v":"(A)"},{"$f":"Millwall!AC101","v":"L 0-2"},{"$f":"MATCH(K$4,Millwall!$AD101:$AO101,0)","v":9},{"$f":"MATCH(L$4,Millwall!$AD101:$AO101,0)","v":{"$error":"#N/A"}},{"$f":"MATCH(M$4,Millwall!$AD101:$AO101,0)","v":{"$error":"#N/A"}},{"$f":"MATCH(N$4,Millwall!$AD101:$AO101,0)","v":{"$error":"#N/A"}},{"$f":"MATCH(O$4,Millwall!$AD101:$AO101,0)","v":{"$error":"#N/A"}},{"$f":"MATCH(P$4,Millwall!$AD101:$AO101,0)","v":6},{"$f":"MATCH(Q$4,Millwall!$AD101:$AO101,0)","v":2},{"$f":"MATCH(R$4,Millwall!$AD101:$AO101,0)","v":{"$error":"#N/A"}},{"$f":"MATCH(S$4,Millwall!$AD101:$AO101,0)","v":8},{"$f":"MATCH(T$4,Millwall!$AD101:$AO101,0)","v":7},{"$f":"MATCH(U$4,Millwall!$AD101:$AO101,0)","v":4},{"$f":"MATCH(V$4,Millwall!$AD101:$AO101,0)","v":12},{"$f":"MATCH(W$4,Millwall!$AD101:$AO101,0)","v":{"$error":"#N/A"}},{"$f":"MATCH(X$4,Millwall!$AD101:$AO101,0)","v":5},{"$f":"MATCH(Y$4,Millwall!$AD101:$AO101,0)","v":10},{"$f":"MATCH(Z$4,Millwall!$AD101:$AO101,0)","v":11},{"$f":"MATCH(AA$4,Millwall!$AD101:$AO101,0)","v":1},{"$f":"MATCH(AB$4,Millwall!$AD101:$AO101,0)","v":{"$error":"#N/A"}},{"$f":"MATCH(AC$4,Millwall!$AD101:$AO101,0)","v":{"$error":"#N/A"}},{"$f":"MATCH(AD$4,Millwall!$AD101:$AO101,0)","v":{"$error":"#N/A"}},{"$f":"MATCH(AE$4,Millwall!$AD101:$AO101,0)","v":3},{"$f":"MATCH(AF$4,Millwall!$AD101:$AO101,0)","v":{"$error":"#N/A"}},{"$f":"MATCH(AG$4,Millwall!$AD101:$AO101,0)","v":{"$error":"#N/A"}},{"$f":"MATCH(AH$4,Millwall!$AD101:$AO101,0)","v":{"$error":"#N/A"}},{"$f":"MATCH(AI$4,Millwall!$AD101:$AO101,0)","v":{"$error":"#N/A"}},{"$f":"MATCH(AJ$4,Millwall!$AD101:$AO101,0)","v":{"$error":"#N/A"}},{"$f":"MATCH(AK$4,Millwall!$AD101:$AO101,0)","v":{"$error":"#N/A"}},{"$f":"MATCH(AL$4,Millwall!$AD101:$AO101,0)","v":{"$error":"#N/A"}},{"$f":"MATCH(AM$4,Millwall!$AD101:$AO101,0)","v":{"$error":"#N/A"}},{"$f":"MATCH(AN$4,Millwall!$AD101:$AO101,0)","v":{"$error":"#N/A"}},{"$f":"MATCH(AO$4,Millwall!$AD101:$AO101,0)","v":{"$error":"#N/A"}},{"$f":"MATCH(AP$4,Millwall!$AD101:$AO101,0)","v":{"$error":"#N/A"}},{"$f":"MATCH(AQ$4,Millwall!$AD101:$AO101,0)","v":{"$error":"#N/A"}},{"$f":"MATCH(AR$4,Millwall!$AB101:$AM101,0)","v":{"$error":"#N/A"}},null,null,null,null,null,{"$f":"MATCH(AX$3,Millwall!$AD101:$AO101,0)","v":{"$error":"#N/A"}},{"$f":"MATCH(AY$3,Millwall!$AD101:$AO101,0)","v":{"$error":"#N/A"}},{"$f":"MATCH(AZ$3,Millwall!$AD101:$AO101,0)","v":{"$error":"#N/A"}},{"$f":"MATCH(BA$3,Millwall!$AD101:$AO101,0)","v":{"$error":"#N/A"}},{"$f":"MATCH(BB$3,Millwall!$AD101:$AO101,0)","v":{"$error":"#N/A"}},{"$f":"MATCH(BC$3,Millwall!$AD101:$AO101,0)","v":{"$error":"#N/A"}},{"$f":"MATCH(BD$3,Millwall!$AD101:$AO101,0)","v":{"$error":"#N/A"}},{"$f":"MATCH(BE$3,Millwall!$AD101:$AO101,0)","v":{"$error":"#N/A"}},{"$f":"MATCH(BF$3,Millwall!$AD101:$AO101,0)","v":{"$error":"#N/A"}},{"$f":"MATCH(BG$3,Millwall!$AD101:$AO101,0)","v":{"$error":"#N/A"}},{"$f":"MATCH(BH$3,Millwall!$AD101:$AO101,0)","v":4},{"$f":"MATCH(BI$3,Millwall!$AD101:$AO101,0)","v":12},{"$f":"MATCH(BJ$3,Millwall!$AD101:$AO101,0)","v":{"$error":"#N/A"}},{"$f":"MATCH(BK$3,Millwall!$AD101:$AO101,0)","v":{"$error":"#N/A"}},{"$f":"MATCH(BL$3,Millwall!$AD101:$AO101,0)","v":{"$error":"#N/A"}},{"$f":"MATCH(BM$3,Millwall!$AD101:$AO101,0)","v":{"$error":"#N/A"}},{"$f":"MATCH(BN$3,Millwall!$AD101:$AO101,0)","v":{"$error":"#N/A"}},{"$f":"MATCH(BO$3,Millwall!$AD101:$AO101,0)","v":{"$error":"#N/A"}},{"$f":"MATCH(BP$3,Millwall!$AD101:$AO101,0)","v":{"$error":"#N/A"}},{"$f":"MATCH(BQ$3,Millwall!$AD101:$AO101,0)","v":{"$error":"#N/A"}},{"$f":"MATCH(BR$3,Millwall!$AD101:$AO101,0)","v":{"$error":"#N/A"}},{"$f":"MATCH(BS$3,Millwall!$AD101:$AO101,0)","v":{"$error":"#N/A"}},{"$f":"MATCH(BT$3,Millwall!$AD101:$AO101,0)","v":{"$error":"#N/A"}},{"$f":"MATCH(BU$3,Millwall!$AD101:$AO101,0)","v":{"$error":"#N/A"}},{"$f":"MATCH(BV$3,Millwall!$AD101:$AO101,0)","v":{"$error":"#N/A"}},{"$f":"MATCH(BW$3,Millwall!$AD101:$AO101,0)","v":{"$error":"#N/A"}},{"$f":"MATCH(BX$3,Millwall!$AD101:$AO101,0)","v":{"$error":"#N/A"}},{"$f":"MATCH(BY$3,Millwall!$AD101:$AO101,0)","v":{"$error":"#N/A"}},{"$f":"MATCH(BZ$3,Millwall!$AD101:$AO101,0)","v":{"$error":"#N/A"}},{"$f":"MATCH(CA$3,Millwall!$AD101:$AO101,0)","v":{"$error":"#N/A"}},{"$f":"MATCH(CB$3,Millwall!$AD101:$AO101,0)","v":{"$error":"#N/A"}},{"$f":"MATCH(CC$3,Millwall!$AD101:$AO101,0)","v":{"$error":"#N/A"}},{"$f":"MATCH(CD$3,Millwall!$AD101:$AO101,0)","v":{"$error":"#N/A"}},{"$f":"MATCH(CE$3,Millwall!$AD101:$AO101,0)","v":{"$error":"#N/A"}},null,null,null,null,null,null,{"$f":"$CM$31&\" [**\"","v":"0 [**"},{"$f":"Millwall!$AA185","v":0},{"$f":"Millwall!$AA185&\" (**\"","v":" (**"},{"$f":"$CM$31&\"**\"","v":"0**"},null,{"$f":"$CM$31","v":0},{"$f":"$CN$31","v":" (**"},{"$f":"$CO$31","v":"0**"},null,{"$f":"Millwall!$CE$32","v":0},{"$f":"Millwall!$CJ$32","v":0},{"$f":"Millwall!$CO$32","v":0},{"$f":"Millwall!$CT$32","v":0}]
[null,null,0,28,null,{"$f":"Millwall!Z102","v":"1984-02-11"},null,{"$f":"Millwall!AA102","v":"Oxford"},{"$f":"Millwall!AB102","v":"(H)"},{"$f":"Millwall!AC102","v":"W 2-1"},{"$f":"MATCH(K$4,Millwall!$AD102:$AO102,0)","v":9},{"$f":"MATCH(L$4,Millwall!$AD102:$AO102,0)","v":{"$error":"#N/A"}},{"$f":"MATCH(M$4,Millwall!$AD102:$AO102,0)","v":{"$error":"#N/A"}},{"$f":"MATCH(N$4,Millwall!$AD102:$AO102,0)","v":{"$error":"#N/A"}},{"$f":"MATCH(O$4,Millwall!$AD102:$AO102,0)","v":{"$error":"#N/A"}},{"$f":"MATCH(P$4,Millwall!$AD102:$AO102,0)","v":6},{"$f":"MATCH(Q$4,Millwall!$AD102:$AO102,0)","v":2},{"$f":"MATCH(R$4,Millwall!$AD102:$AO102,0)","v":{"$error":"#N/A"}},{"$f":"MATCH(S$4,Millwall!$AD102:$AO102,0)","v":8},{"$f":"MATCH(T$4,Millwall!$AD102:$AO102,0)","v":7},{"$f":"MATCH(U$4,Millwall!$AD102:$AO102,0)","v":4},{"$f":"MATCH(V$4,Millwall!$AD102:$AO102,0)","v":12},{"$f":"MATCH(W$4,Millwall!$AD102:$AO102,0)","v":{"$error":"#N/A"}},{"$f":"MATCH(X$4,Millwall!$AD102:$AO102,0)","v":5},{"$f":"MATCH(Y$4,Millwall!$AD102:$AO102,0)","v":10},{"$f":"MATCH(Z$4,Millwall!$AD102:$AO102,0)","v":11},{"$f":"MATCH(AA$4,Millwall!$AD102:$AO102,0)","v":1},{"$f":"MATCH(AB$4,Millwall!$AD102:$AO102,0)","v":{"$error":"#N/A"}},{"$f":"MATCH(AC$4,Millwall!$AD102:$AO102,0)","v":{"$error":"#N/A"}},{"$f":"MATCH(AD$4,Millwall!$AD102:$AO102,0)","v":{"$error":"#N/A"}},{"$f":"MATCH(AE$4,Millwall!$AD102:$AO102,0)","v":3},{"$f":"MATCH(AF$4,Millwall!$AD102:$AO102,0)","v":{"$error":"#N/A"}},{"$f":"MATCH(AG$4,Millwall!$AD102:$AO102,0)","v":{"$error":"#N/A"}},{"$f":"MATCH(AH$4,Millwall!$AD102:$AO102,0)","v":{"$error":"#N/A"}},{"$f":"MATCH(AI$4,Millwall!$AD102:$AO102,0)","v":{"$error":"#N/A"}},{"$f":"MATCH(AJ$4,Millwall!$AD102:$AO102,0)","v":{"$error":"#N/A"}},{"$f":"MATCH(AK$4,Millwall!$AD102:$AO102,0)","v":{"$error":"#N/A"}},{"$f":"MATCH(AL$4,Millwall!$AD102:$AO102,0)","v":{"$error":"#N/A"}},{"$f":"MATCH(AM$4,Millwall!$AD102:$AO102,0)","v":{"$error":"#N/A"}},{"$f":"MATCH(AN$4,Millwall!$AD102:$AO102,0)","v":{"$error":"#N/A"}},{"$f":"MATCH(AO$4,Millwall!$AD102:$AO102,0)","v":{"$error":"#N/A"}},{"$f":"MATCH(AP$4,Millwall!$AD102:$AO102,0)","v":{"$error":"#N/A"}},{"$f":"MATCH(AQ$4,Millwall!$AD102:$AO102,0)","v":{"$error":"#N/A"}},{"$f":"MATCH(AR$4,Millwall!$AB102:$AM102,0)","v":{"$error":"#N/A"}},null,null,null,null,null,{"$f":"MATCH(AX$3,Millwall!$AD102:$AO102,0)","v":9},{"$f":"MATCH(AY$3,Millwall!$AD102:$AO102,0)","v":{"$error":"#N/A"}},{"$f":"MATCH(AZ$3,Millwall!$AD102:$AO102,0)","v":{"$error":"#N/A"}},{"$f":"MATCH(BA$3,Millwall!$AD102:$AO102,0)","v":{"$error":"#N/A"}},{"$f":"MATCH(BB$3,Millwall!$AD102:$AO102,0)","v":{"$error":"#N/A"}},{"$f":"MATCH(BC$3,Millwall!$AD102:$AO102,0)","v":{"$error":"#N/A"}},{"$f":"MATCH(BD$3,Millwall!$AD102:$AO102,0)","v":{"$error":"#N/A"}},{"$f":"MATCH(BE$3,Millwall!$AD102:$AO102,0)","v":{"$error":"#N/A"}},{"$f":"MATCH(BF$3,Millwall!$AD102:$AO102,0)","v":{"$error":"#N/A"}},{"$f":"MATCH(BG$3,Millwall!$AD102:$AO102,0)","v":{"$error":"#N/A"}},{"$f":"MATCH(BH$3,Millwall!$AD102:$AO102,0)","v":{"$error":"#N/A"}},{"$f":"MATCH(BI$3,Millwall!$AD102:$AO102,0)","v":12},{"$f":"MATCH(BJ$3,Millwall!$AD102:$AO102,0)","v":{"$error":"#N/A"}},{"$f":"MATCH(BK$3,Millwall!$AD102:$AO102,0)","v":{"$error":"#N/A"}},{"$f":"MATCH(BL$3,Millwall!$AD102:$AO102,0)","v":{"$error":"#N/A"}},{"$f":"MATCH(BM$3,Millwall!$AD102:$AO102,0)","v":{"$error":"#N/A"}},{"$f":"MATCH(BN$3,Millwall!$AD102:$AO102,0)","v":{"$error":"#N/A"}},{"$f":"MATCH(BO$3,Millwall!$AD102:$AO102,0)","v":{"$error":"#N/A"}},{"$f":"MATCH(BP$3,Millwall!$AD102:$AO102,0)","v":{"$error":"#N/A"}},{"$f":"MATCH(BQ$3,Millwall!$AD102:$AO102,0)","v":{"$error":"#N/A"}},{"$f":"MATCH(BR$3,Millwall!$AD102:$AO102,0)","v":{"$error":"#N/A"}},{"$f":"MATCH(BS$3,Millwall!$AD102:$AO102,0)","v":{"$error":"#N/A"}},{"$f":"MATCH(BT$3,Millwall!$AD102:$AO102,0)","v":{"$error":"#N/A"}},{"$f":"MATCH(BU$3,Millwall!$AD102:$AO102,0)","v":{"$error":"#N/A"}},{"$f":"MATCH(BV$3,Millwall!$AD102:$AO102,0)","v":{"$error":"#N/A"}},{"$f":"MATCH(BW$3,Millwall!$AD102:$AO102,0)","v":{"$error":"#N/A"}},{"$f":"MATCH(BX$3,Millwall!$AD102:$AO102,0)","v":{"$error":"#N/A"}},{"$f":"MATCH(BY$3,Millwall!$AD102:$AO102,0)","v":{"$error":"#N/A"}},{"$f":"MATCH(BZ$3,Millwall!$AD102:$AO102,0)","v":{"$error":"#N/A"}},{"$f":"MATCH(CA$3,Millwall!$AD102:$AO102,0)","v":{"$error":"#N/A"}},{"$f":"MATCH(CB$3,Millwall!$AD102:$AO102,0)","v":{"$error":"#N/A"}},{"$f":"MATCH(CC$3,Millwall!$AD102:$AO102,0)","v":{"$error":"#N/A"}},{"$f":"MATCH(CD$3,Millwall!$AD102:$AO102,0)","v":{"$error":"#N/A"}},{"$f":"MATCH(CE$3,Millwall!$AD102:$AO102,0)","v":{"$error":"#N/A"}},null,null,null,null,null,null,{"$f":"$CM$32&\" [**\"","v":"0 [**"},{"$f":"Millwall!$AA186","v":0},{"$f":"Millwall!$AA186&\" (**\"","v":" (**"},{"$f":"$CM$32&\"**\"","v":"0**"},null,{"$f":"$CM$32","v":0},{"$f":"$CN$32","v":" (**"},{"$f":"$CO$32","v":"0**"},null,{"$f":"Millwall!$CE$33","v":0},{"$f":"Millwall!$CJ$33","v":0},{"$f":"Millwall!$CO$33","v":0},{"$f":"Millwall!$CT$33","v":0}]
[null,null,0,29,null,{"$f":"Millwall!Z103","v":"1984-02-14"},null,{"$f":"Millwall!AA103","v":"Newport C"},{"$f":"Millwall!AB103","v":"(A)"},{"$f":"Millwall!AC103","v":"D 1-1"},{"$f":"MATCH(K$4,Millwall!$AD103:$AO103,0)","v":9},{"$f":"MATCH(L$4,Millwall!$AD103:$AO103,0)","v":{"$error":"#N/A"}},{"$f":"MATCH(M$4,Millwall!$AD103:$AO103,0)","v":{"$error":"#N/A"}},{"$f":"MATCH(N$4,Millwall!$AD103:$AO103,0)","v":{"$error":"#N/A"}},{"$f":"MATCH(O$4,Millwall!$AD103:$AO103,0)","v":{"$error":"#N/A"}},{"$f":"MATCH(P$4,Millwall!$AD103:$AO103,0)","v":6},{"$f":"MATCH(Q$4,Millwall!$AD103:$AO103,0)","v":2},{"$f":"MATCH(R$4,Millwall!$AD103:$AO103,0)","v":{"$error":"#N/A"}},{"$f":"MATCH(S$4,Millwall!$AD103:$AO103,0)","v":8},{"$f":"MATCH(T$4,Millwall!$AD103:$AO103,0)","v":7},{"$f":"MATCH(U$4,Millwall!$AD103:$AO103,0)","v":4},{"$f":"MATCH(V$4,Millwall!$AD103:$AO103,0)","v":12},{"$f":"MATCH(W$4,Millwall!$AD103:$AO103,0)","v":{"$error":"#N/A"}},{"$f":"MATCH(X$4,Millwall!$AD103:$AO103,0)","v":5},{"$f":"MATCH(Y$4,Millwall!$AD103:$AO103,0)","v":10},{"$f":"MATCH(Z$4,Millwall!$AD103:$AO103,0)","v":11},{"$f":"MATCH(AA$4,Millwall!$AD103:$AO103,0)","v":1},{"$f":"MATCH(AB$4,Millwall!$AD103:$AO103,0)","v":{"$error":"#N/A"}},{"$f":"MATCH(AC$4,Millwall!$AD103:$AO103,0)","v":{"$error":"#N/A"}},{"$f":"MATCH(AD$4,Millwall!$AD103:$AO103,0)","v":{"$error":"#N/A"}},{"$f":"MATCH(AE$4,Millwall!$AD103:$AO103,0)","v":3},{"$f":"MATCH(AF$4,Millwall!$AD103:$AO103,0)","v":{"$error":"#N/A"}},{"$f":"MATCH(AG$4,Millwall!$AD103:$AO103,0)","v":{"$error":"#N/A"}},{"$f":"MATCH(AH$4,Millwall!$AD103:$AO103,0)","v":{"$error":"#N/A"}},{"$f":"MATCH(AI$4,Millwall!$AD103:$AO103,0)","v":{"$error":"#N/A"}},{"$f":"MATCH(AJ$4,Millwall!$AD103:$AO103,0)","v":{"$error":"#N/A"}},{"$f":"MATCH(AK$4,Millwall!$AD103:$AO103,0)","v":{"$error":"#N/A"}},{"$f":"MATCH(AL$4,Millwall!$AD103:$AO103,0)","v":{"$error":"#N/A"}},{"$f":"MATCH(AM$4,Millwall!$AD103:$AO103,0)","v":{"$error":"#N/A"}},{"$f":"MATCH(AN$4,Millwall!$AD103:$AO103,0)","v":{"$error":"#N/A"}},{"$f":"MATCH(AO$4,Millwall!$AD103:$AO103,0)","v":{"$error":"#N/A"}},{"$f":"MATCH(AP$4,Millwall!$AD103:$AO103,0)","v":{"$error":"#N/A"}},{"$f":"MATCH(AQ$4,Millwall!$AD103:$AO103,0)","v":{"$error":"#N/A"}},{"$f":"MATCH(AR$4,Millwall!$AB103:$AM103,0)","v":{"$error":"#N/A"}},null,null,null,null,null,{"$f":"MATCH(AX$3,Millwall!$AD103:$AO103,0)","v":{"$error":"#N/A"}},{"$f":"MATCH(AY$3,Millwall!$AD103:$AO103,0)","v":{"$error":"#N/A"}},{"$f":"MATCH(AZ$3,Millwall!$AD103:$AO103,0)","v":{"$error":"#N/A"}},{"$f":"MATCH(BA$3,Millwall!$AD103:$AO103,0)","v":{"$error":"#N/A"}},{"$f":"MATCH(BB$3,Millwall!$AD103:$AO103,0)","v":{"$error":"#N/A"}},{"$f":"MATCH(BC$3,Millwall!$AD103:$AO103,0)","v":{"$error":"#N/A"}},{"$f":"MATCH(BD$3,Millwall!$AD103:$AO103,0)","v":{"$error":"#N/A"}},{"$f":"MATCH(BE$3,Millwall!$AD103:$AO103,0)","v":{"$error":"#N/A"}},{"$f":"MATCH(BF$3,Millwall!$AD103:$AO103,0)","v":{"$error":"#N/A"}},{"$f":"MATCH(BG$3,Millwall!$AD103:$AO103,0)","v":7},{"$f":"MATCH(BH$3,Millwall!$AD103:$AO103,0)","v":{"$error":"#N/A"}},{"$f":"MATCH(BI$3,Millwall!$AD103:$AO103,0)","v":12},{"$f":"MATCH(BJ$3,Millwall!$AD103:$AO103,0)","v":{"$error":"#N/A"}},{"$f":"MATCH(BK$3,Millwall!$AD103:$AO103,0)","v":{"$error":"#N/A"}},{"$f":"MATCH(BL$3,Millwall!$AD103:$AO103,0)","v":{"$error":"#N/A"}},{"$f":"MATCH(BM$3,Millwall!$AD103:$AO103,0)","v":{"$error":"#N/A"}},{"$f":"MATCH(BN$3,Millwall!$AD103:$AO103,0)","v":{"$error":"#N/A"}},{"$f":"MATCH(BO$3,Millwall!$AD103:$AO103,0)","v":{"$error":"#N/A"}},{"$f":"MATCH(BP$3,Millwall!$AD103:$AO103,0)","v":{"$error":"#N/A"}},{"$f":"MATCH(BQ$3,Millwall!$AD103:$AO103,0)","v":{"$error":"#N/A"}},{"$f":"MATCH(BR$3,Millwall!$AD103:$AO103,0)","v":{"$error":"#N/A"}},{"$f":"MATCH(BS$3,Millwall!$AD103:$AO103,0)","v":{"$error":"#N/A"}},{"$f":"MATCH(BT$3,Millwall!$AD103:$AO103,0)","v":{"$error":"#N/A"}},{"$f":"MATCH(BU$3,Millwall!$AD103:$AO103,0)","v":{"$error":"#N/A"}},{"$f":"MATCH(BV$3,Millwall!$AD103:$AO103,0)","v":{"$error":"#N/A"}},{"$f":"MATCH(BW$3,Millwall!$AD103:$AO103,0)","v":{"$error":"#N/A"}},{"$f":"MATCH(BX$3,Millwall!$AD103:$AO103,0)","v":{"$error":"#N/A"}},{"$f":"MATCH(BY$3,Millwall!$AD103:$AO103,0)","v":{"$error":"#N/A"}},{"$f":"MATCH(BZ$3,Millwall!$AD103:$AO103,0)","v":{"$error":"#N/A"}},{"$f":"MATCH(CA$3,Millwall!$AD103:$AO103,0)","v":{"$error":"#N/A"}},{"$f":"MATCH(CB$3,Millwall!$AD103:$AO103,0)","v":{"$error":"#N/A"}},{"$f":"MATCH(CC$3,Millwall!$AD103:$AO103,0)","v":{"$error":"#N/A"}},{"$f":"MATCH(CD$3,Millwall!$AD103:$AO103,0)","v":{"$error":"#N/A"}},{"$f":"MATCH(CE$3,Millwall!$AD103:$AO103,0)","v":{"$error":"#N/A"}},null,null,null,null,null,null,{"$f":"$CM$33&\" [**\"","v":"0 [**"},{"$f":"Millwall!$AA187","v":0},{"$f":"Millwall!$AA187&\" (**\"","v":" (**"},{"$f":"$CM$33&\"**\"","v":"0**"},null,{"$f":"$CM$33","v":0},{"$f":"$CN$33","v":" (**"},{"$f":"$CO$33","v":"0**"},null,{"$f":"Millwall!$CE$34","v":0},{"$f":"Millwall!$CJ$34","v":0},{"$f":"Millwall!$CO$34","v":0},{"$f":"Millwall!$CT$34","v":0}]
[null,null,0,30,null,{"$f":"Millwall!Z104","v":"1984-02-19"},null,{"$f":"Millwall!AA104","v":"Gillingham"},{"$f":"Millwall!AB104","v":"(H)"},{"$f":"Millwall!AC104","v":"D 2-2"},{"$f":"MATCH(K$4,Millwall!$AD104:$AO104,0)","v":9},{"$f":"MATCH(L$4,Millwall!$AD104:$AO104,0)","v":{"$error":"#N/A"}},{"$f":"MATCH(M$4,Millwall!$AD104:$AO104,0)","v":{"$error":"#N/A"}},{"$f":"MATCH(N$4,Millwall!$AD104:$AO104,0)","v":{"$error":"#N/A"}},{"$f":"MATCH(O$4,Millwall!$AD104:$AO104,0)","v":{"$error":"#N/A"}},{"$f":"MATCH(P$4,Millwall!$AD104:$AO104,0)","v":6},{"$f":"MATCH(Q$4,Millwall!$AD104:$AO104,0)","v":2},{"$f":"MATCH(R$4,Millwall!$AD104:$AO104,0)","v":{"$error":"#N/A"}},{"$f":"MATCH(S$4,Millwall!$AD104:$AO104,0)","v":8},{"$f":"MATCH(T$4,Millwall!$AD104:$AO104,0)","v":7},{"$f":"MATCH(U$4,Millwall!$AD104:$AO104,0)","v":4},{"$f":"MATCH(V$4,Millwall!$AD104:$AO104,0)","v":12},{"$f":"MATCH(W$4,Millwall!$AD104:$AO104,0)","v":{"$error":"#N/A"}},{"$f":"MATCH(X$4,Millwall!$AD104:$AO104,0)","v":5},{"$f":"MATCH(Y$4,Millwall!$AD104:$AO104,0)","v":10},{"$f":"MATCH(Z$4,Millwall!$AD104:$AO104,0)","v":11},{"$f":"MATCH(AA$4,Millwall!$AD104:$AO104,0)","v":1},{"$f":"MATCH(AB$4,Millwall!$AD104:$AO104,0)","v":{"$error":"#N/A"}},{"$f":"MATCH(AC$4,Millwall!$AD104:$AO104,0)","v":{"$error":"#N/A"}},{"$f":"MATCH(AD$4,Millwall!$AD104:$AO104,0)","v":{"$error":"#N/A"}},{"$f":"MATCH(AE$4,Millwall!$AD104:$AO104,0)","v":3},{"$f":"MATCH(AF$4,Millwall!$AD104:$AO104,0)","v":{"$error":"#N/A"}},{"$f":"MATCH(AG$4,Millwall!$AD104:$AO104,0)","v":{"$error":"#N/A"}},{"$f":"MATCH(AH$4,Millwall!$AD104:$AO104,0)","v":{"$error":"#N/A"}},{"$f":"MATCH(AI$4,Millwall!$AD104:$AO104,0)","v":{"$error":"#N/A"}},{"$f":"MATCH(AJ$4,Millwall!$AD104:$AO104,0)","v":{"$error":"#N/A"}},{"$f":"MATCH(AK$4,Millwall!$AD104:$AO104,0)","v":{"$error":"#N/A"}},{"$f":"MATCH(AL$4,Millwall!$AD104:$AO104,0)","v":{"$error":"#N/A"}},{"$f":"MATCH(AM$4,Millwall!$AD104:$AO104,0)","v":{"$error":"#N/A"}},{"$f":"MATCH(AN$4,Millwall!$AD104:$AO104,0)","v":{"$error":"#N/A"}},{"$f":"MATCH(AO$4,Millwall!$AD104:$AO104,0)","v":{"$error":"#N/A"}},{"$f":"MATCH(AP$4,Millwall!$AD104:$AO104,0)","v":{"$error":"#N/A"}},{"$f":"MATCH(AQ$4,Millwall!$AD104:$AO104,0)","v":{"$error":"#N/A"}},{"$f":"MATCH(AR$4,Millwall!$AB104:$AM104,0)","v":{"$error":"#N/A"}},null,null,null,null,null,{"$f":"MATCH(AX$3,Millwall!$AD104:$AO104,0)","v":{"$error":"#N/A"}},{"$f":"MATCH(AY$3,Millwall!$AD104:$AO104,0)","v":{"$error":"#N/A"}},{"$f":"MATCH(AZ$3,Millwall!$AD104:$AO104,0)","v":{"$error":"#N/A"}},{"$f":"MATCH(BA$3,Millwall!$AD104:$AO104,0)","v":{"$error":"#N/A"}},{"$f":"MATCH(BB$3,Millwall!$AD104:$AO104,0)","v":{"$error":"#N/A"}},{"$f":"MATCH(BC$3,Millwall!$AD104:$AO104,0)","v":{"$error":"#N/A"}},{"$f":"MATCH(BD$3,Millwall!$AD104:$AO104,0)","v":{"$error":"#N/A"}},{"$f":"MATCH(BE$3,Millwall!$AD104:$AO104,0)","v":{"$error":"#N/A"}},{"$f":"MATCH(BF$3,Millwall!$AD104:$AO104,0)","v":{"$error":"#N/A"}},{"$f":"MATCH(BG$3,Millwall!$AD104:$AO104,0)","v":7},{"$f":"MATCH(BH$3,Millwall!$AD104:$AO104,0)","v":{"$error":"#N/A"}},{"$f":"MATCH(BI$3,Millwall!$AD104:$AO104,0)","v":12},{"$f":"MATCH(BJ$3,Millwall!$AD104:$AO104,0)","v":{"$error":"#N/A"}},{"$f":"MATCH(BK$3,Millwall!$AD104:$AO104,0)","v":{"$error":"#N/A"}},{"$f":"MATCH(BL$3,Millwall!$AD104:$AO104,0)","v":{"$error":"#N/A"}},{"$f":"MATCH(BM$3,Millwall!$AD104:$AO104,0)","v":{"$error":"#N/A"}},{"$f":"MATCH(BN$3,Millwall!$AD104:$AO104,0)","v":{"$error":"#N/A"}},{"$f":"MATCH(BO$3,Millwall!$AD104:$AO104,0)","v":{"$error":"#N/A"}},{"$f":"MATCH(BP$3,Millwall!$AD104:$AO104,0)","v":{"$error":"#N/A"}},{"$f":"MATCH(BQ$3,Millwall!$AD104:$AO104,0)","v":{"$error":"#N/A"}},{"$f":"MATCH(BR$3,Millwall!$AD104:$AO104,0)","v":{"$error":"#N/A"}},{"$f":"MATCH(BS$3,Millwall!$AD104:$AO104,0)","v":{"$error":"#N/A"}},{"$f":"MATCH(BT$3,Millwall!$AD104:$AO104,0)","v":{"$error":"#N/A"}},{"$f":"MATCH(BU$3,Millwall!$AD104:$AO104,0)","v":{"$error":"#N/A"}},{"$f":"MATCH(BV$3,Millwall!$AD104:$AO104,0)","v":{"$error":"#N/A"}},{"$f":"MATCH(BW$3,Millwall!$AD104:$AO104,0)","v":{"$error":"#N/A"}},{"$f":"MATCH(BX$3,Millwall!$AD104:$AO104,0)","v":{"$error":"#N/A"}},{"$f":"MATCH(BY$3,Millwall!$AD104:$AO104,0)","v":{"$error":"#N/A"}},{"$f":"MATCH(BZ$3,Millwall!$AD104:$AO104,0)","v":{"$error":"#N/A"}},{"$f":"MATCH(CA$3,Millwall!$AD104:$AO104,0)","v":{"$error":"#N/A"}},{"$f":"MATCH(CB$3,Millwall!$AD104:$AO104,0)","v":{"$error":"#N/A"}},{"$f":"MATCH(CC$3,Millwall!$AD104:$AO104,0)","v":{"$error":"#N/A"}},{"$f":"MATCH(CD$3,Millwall!$AD104:$AO104,0)","v":{"$error":"#N/A"}},{"$f":"MATCH(CE$3,Millwall!$AD104:$AO104,0)","v":{"$error":"#N/A"}},null,null,null,null,null,null,{"$f":"$CM$34&\" [**\"","v":"0 [**"},{"$f":"Millwall!$AA188","v":0},{"$f":"Millwall!$AA188&\" (**\"","v":" (**"},{"$f":"$CM$34&\"**\"","v":"0**"},null,{"$f":"$CM$34","v":0},{"$f":"$CN$34","v":" (**"},{"$f":"$CO$34","v":"0**"},null,{"$f":"Millwall!$CE$35","v":0},{"$f":"Millwall!$CJ$35","v":0},{"$f":"Millwall!$CO$35","v":0},{"$f":"Millwall!$CT$35","v":0}]
[null,null,0,31,null,{"$f":"Millwall!Z105","v":"1984-02-25"},null,{"$f":"Millwall!AA105","v":"Preston"},{"$f":"Millwall!AB105","v":"(A)"},{"$f":"Millwall!AC105","v":"D 0-0"},{"$f":"MATCH(K$4,Millwall!$AD105:$AO105,0)","v":{"$error":"#N/A"}},{"$f":"MATCH(L$4,Millwall!$AD105:$AO105,0)","v":{"$error":"#N/A"}},{"$f":"MATCH(M$4,Millwall!$AD105:$AO105,0)","v":{"$error":"#N/A"}},{"$f":"MATCH(N$4,Millwall!$AD105:$AO105,0)","v":{"$error":"#N/A"}},{"$f":"MATCH(O$4,Millwall!$AD105:$AO105,0)","v":{"$error":"#N/A"}},{"$f":"MATCH(P$4,Millwall!$AD105:$AO105,0)","v":6},{"$f":"MATCH(Q$4,Millwall!$AD105:$AO105,0)","v":7},{"$f":"MATCH(R$4,Millwall!$AD105:$AO105,0)","v":{"$error":"#N/A"}},{"$f":"MATCH(S$4,Millwall!$AD105:$AO105,0)","v":8},{"$f":"MATCH(T$4,Millwall!$AD105:$AO105,0)","v":{"$error":"#N/A"}},{"$f":"MATCH(U$4,Millwall!$AD105:$AO105,0)","v":12},{"$f":"MATCH(V$4,Millwall!$AD105:$AO105,0)","v":9},{"$f":"MATCH(W$4,Millwall!$AD105:$AO105,0)","v":{"$error":"#N/A"}},{"$f":"MATCH(X$4,Millwall!$AD105:$AO105,0)","v":5},{"$f":"MATCH(Y$4,Millwall!$AD105:$AO105,0)","v":10},{"$f":"MATCH(Z$4,Millwall!$AD105:$AO105,0)","v":11},{"$f":"MATCH(AA$4,Millwall!$AD105:$AO105,0)","v":1},{"$f":"MATCH(AB$4,Millwall!$AD105:$AO105,0)","v":4},{"$f":"MATCH(AC$4,Millwall!$AD105:$AO105,0)","v":{"$error":"#N/A"}},{"$f":"MATCH(AD$4,Millwall!$AD105:$AO105,0)","v":2},{"$f":"MATCH(AE$4,Millwall!$AD105:$AO105,0)","v":3},{"$f":"MATCH(AF$4,Millwall!$AD105:$AO105,0)","v":{"$error":"#N/A"}},{"$f":"MATCH(AG$4,Millwall!$AD105:$AO105,0)","v":{"$error":"#N/A"}},{"$f":"MATCH(AH$4,Millwall!$AD105:$AO105,0)","v":{"$error":"#N/A"}},{"$f":"MATCH(AI$4,Millwall!$AD105:$AO105,0)","v":{"$error":"#N/A"}},{"$f":"MATCH(AJ$4,Millwall!$AD105:$AO105,0)","v":{"$error":"#N/A"}},{"$f":"MATCH(AK$4,Millwall!$AD105:$AO105,0)","v":{"$error":"#N/A"}},{"$f":"MATCH(AL$4,Millwall!$AD105:$AO105,0)","v":{"$error":"#N/A"}},{"$f":"MATCH(AM$4,Millwall!$AD105:$AO105,0)","v":{"$error":"#N/A"}},{"$f":"MATCH(AN$4,Millwall!$AD105:$AO105,0)","v":{"$error":"#N/A"}},{"$f":"MATCH(AO$4,Millwall!$AD105:$AO105,0)","v":{"$error":"#N/A"}},{"$f":"MATCH(AP$4,Millwall!$AD105:$AO105,0)","v":{"$error":"#N/A"}},{"$f":"MATCH(AQ$4,Millwall!$AD105:$AO105,0)","v":{"$error":"#N/A"}},{"$f":"MATCH(AR$4,Millwall!$AB105:$AM105,0)","v":{"$error":"#N/A"}},null,null,null,null,null,{"$f":"MATCH(AX$3,Millwall!$AD105:$AO105,0)","v":{"$error":"#N/A"}},{"$f":"MATCH(AY$3,Millwall!$AD105:$AO105,0)","v":{"$error":"#N/A"}},{"$f":"MATCH(AZ$3,Millwall!$AD105:$AO105,0)","v":{"$error":"#N/A"}},{"$f":"MATCH(BA$3,Millwall!$AD105:$AO105,0)","v":{"$error":"#N/A"}},{"$f":"MATCH(BB$3,Millwall!$AD105:$AO105,0)","v":{"$error":"#N/A"}},{"$f":"MATCH(BC$3,Millwall!$AD105:$AO105,0)","v":{"$error":"#N/A"}},{"$f":"MATCH(BD$3,Millwall!$AD105:$AO105,0)","v":{"$error":"#N/A"}},{"$f":"MATCH(BE$3,Millwall!$AD105:$AO105,0)","v":{"$error":"#N/A"}},{"$f":"MATCH(BF$3,Millwall!$AD105:$AO105,0)","v":{"$error":"#N/A"}},{"$f":"MATCH(BG$3,Millwall!$AD105:$AO105,0)","v":{"$error":"#N/A"}},{"$f":"MATCH(BH$3,Millwall!$AD105:$AO105,0)","v":12},{"$f":"MATCH(BI$3,Millwall!$AD105:$AO105,0)","v":{"$error":"#N/A"}},{"$f":"MATCH(BJ$3,Millwall!$AD105:$AO105,0)","v":{"$error":"#N/A"}},{"$f":"MATCH(BK$3,Millwall!$AD105:$AO105,0)","v":{"$error":"#N/A"}},{"$f":"MATCH(BL$3,Millwall!$AD105:$AO105,0)","v":{"$error":"#N/A"}},{"$f":"MATCH(BM$3,Millwall!$AD105:$AO105,0)","v":{"$error":"#N/A"}},{"$f":"MATCH(BN$3,Millwall!$AD105:$AO105,0)","v":{"$error":"#N/A"}},{"$f":"MATCH(BO$3,Millwall!$AD105:$AO105,0)","v":{"$error":"#N/A"}},{"$f":"MATCH(BP$3,Millwall!$AD105:$AO105,0)","v":{"$error":"#N/A"}},{"$f":"MATCH(BQ$3,Millwall!$AD105:$AO105,0)","v":{"$error":"#N/A"}},{"$f":"MATCH(BR$3,Millwall!$AD105:$AO105,0)","v":{"$error":"#N/A"}},{"$f":"MATCH(BS$3,Millwall!$AD105:$AO105,0)","v":{"$error":"#N/A"}},{"$f":"MATCH(BT$3,Millwall!$AD105:$AO105,0)","v":{"$error":"#N/A"}},{"$f":"MATCH(BU$3,Millwall!$AD105:$AO105,0)","v":{"$error":"#N/A"}},{"$f":"MATCH(BV$3,Millwall!$AD105:$AO105,0)","v":{"$error":"#N/A"}},{"$f":"MATCH(BW$3,Millwall!$AD105:$AO105,0)","v":{"$error":"#N/A"}},{"$f":"MATCH(BX$3,Millwall!$AD105:$AO105,0)","v":{"$error":"#N/A"}},{"$f":"MATCH(BY$3,Millwall!$AD105:$AO105,0)","v":{"$error":"#N/A"}},{"$f":"MATCH(BZ$3,Millwall!$AD105:$AO105,0)","v":{"$error":"#N/A"}},{"$f":"MATCH(CA$3,Millwall!$AD105:$AO105,0)","v":{"$error":"#N/A"}},{"$f":"MATCH(CB$3,Millwall!$AD105:$AO105,0)","v":{"$error":"#N/A"}},{"$f":"MATCH(CC$3,Millwall!$AD105:$AO105,0)","v":{"$error":"#N/A"}},{"$f":"MATCH(CD$3,Millwall!$AD105:$AO105,0)","v":{"$error":"#N/A"}},{"$f":"MATCH(CE$3,Millwall!$AD105:$AO105,0)","v":{"$error":"#N/A"}},null,null,null,null,null,null,{"$f":"$CM$35&\" [**\"","v":"0 [**"},{"$f":"Millwall!$AA189","v":0},{"$f":"Millwall!$AA189&\" (**\"","v":" (**"},{"$f":"$CM$35&\"**\"","v":"0**"},null,{"$f":"$CM$35","v":0},{"$f":"$CN$35","v":" (**"},{"$f":"$CO$35","v":"0**"},null,{"$f":"Millwall!$CE$36","v":0},{"$f":"Millwall!$CJ$36","v":0},{"$f":"Millwall!$CO$36","v":0},{"$f":"Millwall!$CT$36","v":0}]
[null,null,0,32,null,{"$f":"Millwall!Z106","v":"1984-03-03"},null,{"$f":"Millwall!AA106","v":"Rotherham"},{"$f":"Millwall!AB106","v":"(H)"},{"$f":"Millwall!AC106","v":"W 2-0"},{"$f":"MATCH(K$4,Millwall!$AD106:$AO106,0)","v":{"$error":"#N/A"}},{"$f":"MATCH(L$4,Millwall!$AD106:$AO106,0)","v":{"$error":"#N/A"}},{"$f":"MATCH(M$4,Millwall!$AD106:$AO106,0)","v":{"$error":"#N/A"}},{"$f":"MATCH(N$4,Millwall!$AD106:$AO106,0)","v":{"$error":"#N/A"}},{"$f":"MATCH(O$4,Millwall!$AD106:$AO106,0)","v":{"$error":"#N/A"}},{"$f":"MATCH(P$4,Millwall!$AD106:$AO106,0)","v":6},{"$f":"MATCH(Q$4,Millwall!$AD106:$AO106,0)","v":4},{"$f":"MATCH(R$4,Millwall!$AD106:$AO106,0)","v":{"$error":"#N/A"}},{"$f":"MATCH(S$4,Millwall!$AD106:$AO106,0)","v":8},{"$f":"MATCH(T$4,Millwall!$AD106:$AO106,0)","v":{"$error":"#N/A"}},{"$f":"MATCH(U$4,Millwall!$AD106:$AO106,0)","v":11},{"$f":"MATCH(V$4,Millwall!$AD106:$AO106,0)","v":9},{"$f":"MATCH(W$4,Millwall!$AD106:$AO106,0)","v":7},{"$f":"MATCH(X$4,Millwall!$AD106:$AO106,0)","v":5},{"$f":"MATCH(Y$4,Millwall!$AD106:$AO106,0)","v":10},{"$f":"MATCH(Z$4,Millwall!$AD106:$AO106,0)","v":12},{"$f":"MATCH(AA$4,Millwall!$AD106:$AO106,0)","v":1},{"$f":"MATCH(AB$4,Millwall!$AD106:$AO106,0)","v":{"$error":"#N/A"}},{"$f":"MATCH(AC$4,Millwall!$AD106:$AO106,0)","v":{"$error":"#N/A"}},{"$f":"MATCH(AD$4,Millwall!$AD106:$AO106,0)","v":2},{"$f":"MATCH(AE$4,Millwall!$AD106:$AO106,0)","v":3},{"$f":"MATCH(AF$4,Millwall!$AD106:$AO106,0)","v":{"$error":"#N/A"}},{"$f":"MATCH(AG$4,Millwall!$AD106:$AO106,0)","v":{"$error":"#N/A"}},{"$f":"MATCH(AH$4,Millwall!$AD106:$AO106,0)","v":{"$error":"#N/A"}},{"$f":"MATCH(AI$4,Millwall!$AD106:$AO106,0)","v":{"$error":"#N/A"}},{"$f":"MATCH(AJ$4,Millwall!$AD106:$AO106,0)","v":{"$error":"#N/A"}},{"$f":"MATCH(AK$4,Millwall!$AD106:$AO106,0)","v":{"$error":"#N/A"}},{"$f":"MATCH(AL$4,Millwall!$AD106:$AO106,0)","v":{"$error":"#N/A"}},{"$f":"MATCH(AM$4,Millwall!$AD106:$AO106,0)","v":{"$error":"#N/A"}},{"$f":"MATCH(AN$4,Millwall!$AD106:$AO106,0)","v":{"$error":"#N/A"}},{"$f":"MATCH(AO$4,Millwall!$AD106:$AO106,0)","v":{"$error":"#N/A"}},{"$f":"MATCH(AP$4,Millwall!$AD106:$AO106,0)","v":{"$error":"#N/A"}},{"$f":"MATCH(AQ$4,Millwall!$AD106:$AO106,0)","v":{"$error":"#N/A"}},{"$f":"MATCH(AR$4,Millwall!$AB106:$AM106,0)","v":{"$error":"#N/A"}},null,null,null,null,null,{"$f":"MATCH(AX$3,Millwall!$AD106:$AO106,0)","v":{"$error":"#N/A"}},{"$f":"MATCH(AY$3,Millwall!$AD106:$AO106,0)","v":{"$error":"#N/A"}},{"$f":"MATCH(AZ$3,Millwall!$AD106:$AO106,0)","v":{"$error":"#N/A"}},{"$f":"MATCH(BA$3,Millwall!$AD106:$AO106,0)","v":{"$error":"#N/A"}},{"$f":"MATCH(BB$3,Millwall!$AD106:$AO106,0)","v":{"$error":"#N/A"}},{"$f":"MATCH(BC$3,Millwall!$AD106:$AO106,0)","v":{"$error":"#N/A"}},{"$f":"MATCH(BD$3,Millwall!$AD106:$AO106,0)","v":{"$error":"#N/A"}},{"$f":"MATCH(BE$3,Millwall!$AD106:$AO106,0)","v":{"$error":"#N/A"}},{"$f":"MATCH(BF$3,Millwall!$AD106:$AO106,0)","v":{"$error":"#N/A"}},{"$f":"MATCH(BG$3,Millwall!$AD106:$AO106,0)","v":{"$error":"#N/A"}},{"$f":"MATCH(BH$3,Millwall!$AD106:$AO106,0)","v":{"$error":"#N/A"}},{"$f":"MATCH(BI$3,Millwall!$AD106:$AO106,0)","v":{"$error":"#N/A"}},{"$f":"MATCH(BJ$3,Millwall!$AD106:$AO106,0)","v":7},{"$f":"MATCH(BK$3,Millwall!$AD106:$AO106,0)","v":{"$error":"#N/A"}},{"$f":"MATCH(BL$3,Millwall!$AD106:$AO106,0)","v":{"$error":"#N/A"}},{"$f":"MATCH(BM$3,Millwall!$AD106:$AO106,0)","v":12},{"$f":"MATCH(BN$3,Millwall!$AD106:$AO106,0)","v":{"$error":"#N/A"}},{"$f":"MATCH(BO$3,Millwall!$AD106:$AO106,0)","v":{"$error":"#N/A"}},{"$f":"MATCH(BP$3,Millwall!$AD106:$AO106,0)","v":{"$error":"#N/A"}},{"$f":"MATCH(BQ$3,Millwall!$AD106:$AO106,0)","v":{"$error":"#N/A"}},{"$f":"MATCH(BR$3,Millwall!$AD106:$AO106,0)","v":{"$error":"#N/A"}},{"$f":"MATCH(BS$3,Millwall!$AD106:$AO106,0)","v":{"$error":"#N/A"}},{"$f":"MATCH(BT$3,Millwall!$AD106:$AO106,0)","v":{"$error":"#N/A"}},{"$f":"MATCH(BU$3,Millwall!$AD106:$AO106,0)","v":{"$error":"#N/A"}},{"$f":"MATCH(BV$3,Millwall!$AD106:$AO106,0)","v":{"$error":"#N/A"}},{"$f":"MATCH(BW$3,Millwall!$AD106:$AO106,0)","v":{"$error":"#N/A"}},{"$f":"MATCH(BX$3,Millwall!$AD106:$AO106,0)","v":{"$error":"#N/A"}},{"$f":"MATCH(BY$3,Millwall!$AD106:$AO106,0)","v":{"$error":"#N/A"}},{"$f":"MATCH(BZ$3,Millwall!$AD106:$AO106,0)","v":{"$error":"#N/A"}},{"$f":"MATCH(CA$3,Millwall!$AD106:$AO106,0)","v":{"$error":"#N/A"}},{"$f":"MATCH(CB$3,Millwall!$AD106:$AO106,0)","v":{"$error":"#N/A"}},{"$f":"MATCH(CC$3,Millwall!$AD106:$AO106,0)","v":{"$error":"#N/A"}},{"$f":"MATCH(CD$3,Millwall!$AD106:$AO106,0)","v":{"$error":"#N/A"}},{"$f":"MATCH(CE$3,Millwall!$AD106:$AO106,0)","v":{"$error":"#N/A"}},null,null,null,null,null,null,{"$f":"$CM$36&\" [**\"","v":"0 [**"},{"$f":"Millwall!$AA190","v":0},{"$f":"Millwall!$AA190&\" (**\"","v":" (**"},{"$f":"$CM$36&\"**\"","v":"0**"},null,{"$f":"$CM$36","v":0},{"$f":"$CN$36","v":" (**"},{"$f":"$CO$36","v":"0**"},null,{"$f":"Millwall!$CE$37","v":2},{"$f":"Millwall!$CJ$37","v":4},{"$f":"Millwall!$CO$37","v":6},{"$f":"Millwall!$CT$37","v":0}]
[null,null,0,33,null,{"$f":"Millwall!Z107","v":"1984-03-06"},null,{"$f":"Millwall!AA107","v":"Wigan"},{"$f":"Millwall!AB107","v":"(A)"},{"$f":"Millwall!AC107","v":"D 0-0"},{"$f":"MATCH(K$4,Millwall!$AD107:$AO107,0)","v":{"$error":"#N/A"}},{"$f":"MATCH(L$4,Millwall!$AD107:$AO107,0)","v":{"$error":"#N/A"}},{"$f":"MATCH(M$4,Millwall!$AD107:$AO107,0)","v":{"$error":"#N/A"}},{"$f":"MATCH(N$4,Millwall!$AD107:$AO107,0)","v":{"$error":"#N/A"}},{"$f":"MATCH(O$4,Millwall!$AD107:$AO107,0)","v":{"$error":"#N/A"}},{"$f":"MATCH(P$4,Millwall!$AD107:$AO107,0)","v":6},{"$f":"MATCH(Q$4,Millwall!$AD107:$AO107,0)","v":4},{"$f":"MATCH(R$4,Millwall!$AD107:$AO107,0)","v":{"$error":"#N/A"}},{"$f":"MATCH(S$4,Millwall!$AD107:$AO107,0)","v":8},{"$f":"MATCH(T$4,Millwall!$AD107:$AO107,0)","v":{"$error":"#N/A"}},{"$f":"MATCH(U$4,Millwall!$AD107:$AO107,0)","v":7},{"$f":"MATCH(V$4,Millwall!$AD107:$AO107,0)","v":9},{"$f":"MATCH(W$4,Millwall!$AD107:$AO107,0)","v":12},{"$f":"MATCH(X$4,Millwall!$AD107:$AO107,0)","v":5},{"$f":"MATCH(Y$4,Millwall!$AD107:$AO107,0)","v":10},{"$f":"MATCH(Z$4,Millwall!$AD107:$AO107,0)","v":11},{"$f":"MATCH(AA$4,Millwall!$AD107:$AO107,0)","v":1},{"$f":"MATCH(AB$4,Millwall!$AD107:$AO107,0)","v":{"$error":"#N/A"}},{"$f":"MATCH(AC$4,Millwall!$AD107:$AO107,0)","v":{"$error":"#N/A"}},{"$f":"MATCH(AD$4,Millwall!$AD107:$AO107,0)","v":2},{"$f":"MATCH(AE$4,Millwall!$AD107:$AO107,0)","v":3},{"$f":"MATCH(AF$4,Millwall!$AD107:$AO107,0)","v":{"$error":"#N/A"}},{"$f":"MATCH(AG$4,Millwall!$AD107:$AO107,0)","v":{"$error":"#N/A"}},{"$f":"MATCH(AH$4,Millwall!$AD107:$AO107,0)","v":{"$error":"#N/A"}},{"$f":"MATCH(AI$4,Millwall!$AD107:$AO107,0)","v":{"$error":"#N/A"}},{"$f":"MATCH(AJ$4,Millwall!$AD107:$AO107,0)","v":{"$error":"#N/A"}},{"$f":"MATCH(AK$4,Millwall!$AD107:$AO107,0)","v":{"$error":"#N/A"}},{"$f":"MATCH(AL$4,Millwall!$AD107:$AO107,0)","v":{"$error":"#N/A"}},{"$f":"MATCH(AM$4,Millwall!$AD107:$AO107,0)","v":{"$error":"#N/A"}},{"$f":"MATCH(AN$4,Millwall!$AD107:$AO107,0)","v":{"$error":"#N/A"}},{"$f":"MATCH(AO$4,Millwall!$AD107:$AO107,0)","v":{"$error":"#N/A"}},{"$f":"MATCH(AP$4,Millwall!$AD107:$AO107,0)","v":{"$error":"#N/A"}},{"$f":"MATCH(AQ$4,Millwall!$AD107:$AO107,0)","v":{"$error":"#N/A"}},{"$f":"MATCH(AR$4,Millwall!$AB107:$AM107,0)","v":{"$error":"#N/A"}},null,null,null,null,null,{"$f":"MATCH(AX$3,Millwall!$AD107:$AO107,0)","v":{"$error":"#N/A"}},{"$f":"MATCH(AY$3,Millwall!$AD107:$AO107,0)","v":{"$error":"#N/A"}},{"$f":"MATCH(AZ$3,Millwall!$AD107:$AO107,0)","v":{"$error":"#N/A"}},{"$f":"MATCH(BA$3,Millwall!$AD107:$AO107,0)","v":{"$error":"#N/A"}},{"$f":"MATCH(BB$3,Millwall!$AD107:$AO107,0)","v":{"$error":"#N/A"}},{"$f":"MATCH(BC$3,Millwall!$AD107:$AO107,0)","v":{"$error":"#N/A"}},{"$f":"MATCH(BD$3,Millwall!$AD107:$AO107,0)","v":{"$error":"#N/A"}},{"$f":"MATCH(BE$3,Millwall!$AD107:$AO107,0)","v":{"$error":"#N/A"}},{"$f":"MATCH(BF$3,Millwall!$AD107:$AO107,0)","v":8},{"$f":"MATCH(BG$3,Millwall!$AD107:$AO107,0)","v":{"$error":"#N/A"}},{"$f":"MATCH(BH$3,Millwall!$AD107:$AO107,0)","v":{"$error":"#N/A"}},{"$f":"MATCH(BI$3,Millwall!$AD107:$AO107,0)","v":{"$error":"#N/A"}},{"$f":"MATCH(BJ$3,Millwall!$AD107:$AO107,0)","v":12},{"$f":"MATCH(BK$3,Millwall!$AD107:$AO107,0)","v":{"$error":"#N/A"}},{"$f":"MATCH(BL$3,Millwall!$AD107:$AO107,0)","v":{"$error":"#N/A"}},{"$f":"MATCH(BM$3,Millwall!$AD107:$AO107,0)","v":{"$error":"#N/A"}},{"$f":"MATCH(BN$3,Millwall!$AD107:$AO107,0)","v":{"$error":"#N/A"}},{"$f":"MATCH(BO$3,Millwall!$AD107:$AO107,0)","v":{"$error":"#N/A"}},{"$f":"MATCH(BP$3,Millwall!$AD107:$AO107,0)","v":{"$error":"#N/A"}},{"$f":"MATCH(BQ$3,Millwall!$AD107:$AO107,0)","v":{"$error":"#N/A"}},{"$f":"MATCH(BR$3,Millwall!$AD107:$AO107,0)","v":{"$error":"#N/A"}},{"$f":"MATCH(BS$3,Millwall!$AD107:$AO107,0)","v":{"$error":"#N/A"}},{"$f":"MATCH(BT$3,Millwall!$AD107:$AO107,0)","v":{"$error":"#N/A"}},{"$f":"MATCH(BU$3,Millwall!$AD107:$AO107,0)","v":{"$error":"#N/A"}},{"$f":"MATCH(BV$3,Millwall!$AD107:$AO107,0)","v":{"$error":"#N/A"}},{"$f":"MATCH(BW$3,Millwall!$AD107:$AO107,0)","v":{"$error":"#N/A"}},{"$f":"MATCH(BX$3,Millwall!$AD107:$AO107,0)","v":{"$error":"#N/A"}},{"$f":"MATCH(BY$3,Millwall!$AD107:$AO107,0)","v":{"$error":"#N/A"}},{"$f":"MATCH(BZ$3,Millwall!$AD107:$AO107,0)","v":{"$error":"#N/A"}},{"$f":"MATCH(CA$3,Millwall!$AD107:$AO107,0)","v":{"$error":"#N/A"}},{"$f":"MATCH(CB$3,Millwall!$AD107:$AO107,0)","v":{"$error":"#N/A"}},{"$f":"MATCH(CC$3,Millwall!$AD107:$AO107,0)","v":{"$error":"#N/A"}},{"$f":"MATCH(CD$3,Millwall!$AD107:$AO107,0)","v":{"$error":"#N/A"}},{"$f":"MATCH(CE$3,Millwall!$AD107:$AO107,0)","v":{"$error":"#N/A"}},null,null,null,null,null,null,{"$f":"$CM$37&\" [**\"","v":"0 [**"},{"$f":"Millwall!$AA191","v":0},{"$f":"Millwall!$AA191&\" (**\"","v":" (**"},{"$f":"$CM$37&\"**\"","v":"0**"},null,{"$f":"$CM$37","v":0},{"$f":"$CN$37","v":" (**"},{"$f":"$CO$37","v":"0**"},null,{"$f":"Millwall!$CE$38","v":0},{"$f":"Millwall!$CJ$38","v":0},{"$f":"Millwall!$CO$38","v":0},{"$f":"Millwall!$CT$38","v":0}]
[null,null,0,34,null,{"$f":"Millwall!Z108","v":"1984-03-10"},null,{"$f":"Millwall!AA108","v":"Bradford"},{"$f":"Millwall!AB108","v":"(H)"},{"$f":"Millwall!AC108","v":"D 0-0"},{"$f":"MATCH(K$4,Millwall!$AD108:$AO108,0)","v":{"$error":"#N/A"}},{"$f":"MATCH(L$4,Millwall!$AD108:$AO108,0)","v":{"$error":"#N/A"}},{"$f":"MATCH(M$4,Millwall!$AD108:$AO108,0)","v":{"$error":"#N/A"}},{"$f":"MATCH(N$4,Millwall!$AD108:$AO108,0)","v":{"$error":"#N/A"}},{"$f":"MATCH(O$4,Millwall!$AD108:$AO108,0)","v":6},{"$f":"MATCH(P$4,Millwall!$AD108:$AO108,0)","v":{"$error":"#N/A"}},{"$f":"MATCH(Q$4,Millwall!$AD108:$AO108,0)","v":4},{"$f":"MATCH(R$4,Millwall!$AD108:$AO108,0)","v":{"$error":"#N/A"}},{"$f":"MATCH(S$4,Millwall!$AD108:$AO108,0)","v":8},{"$f":"MATCH(T$4,Millwall!$AD108:$AO108,0)","v":{"$error":"#N/A"}},{"$f":"MATCH(U$4,Millwall!$AD108:$AO108,0)","v":7},{"$f":"MATCH(V$4,Millwall!$AD108:$AO108,0)","v":9},{"$f":"MATCH(W$4,Millwall!$AD108:$AO108,0)","v":11},{"$f":"MATCH(X$4,Millwall!$AD108:$AO108,0)","v":5},{"$f":"MATCH(Y$4,Millwall!$AD108:$AO108,0)","v":{"$error":"#N/A"}},{"$f":"MATCH(Z$4,Millwall!$AD108:$AO108,0)","v":12},{"$f":"MATCH(AA$4,Millwall!$AD108:$AO108,0)","v":1},{"$f":"MATCH(AB$4,Millwall!$AD108:$AO108,0)","v":{"$error":"#N/A"}},{"$f":"MATCH(AC$4,Millwall!$AD108:$AO108,0)","v":{"$error":"#N/A"}},{"$f":"MATCH(AD$4,Millwall!$AD108:$AO108,0)","v":2},{"$f":"MATCH(AE$4,Millwall!$AD108:$AO108,0)","v":3},{"$f":"MATCH(AF$4,Millwall!$AD108:$AO108,0)","v":{"$error":"#N/A"}},{"$f":"MATCH(AG$4,Millwall!$AD108:$AO108,0)","v":10},{"$f":"MATCH(AH$4,Millwall!$AD108:$AO108,0)","v":{"$error":"#N/A"}},{"$f":"MATCH(AI$4,Millwall!$AD108:$AO108,0)","v":{"$error":"#N/A"}},{"$f":"MATCH(AJ$4,Millwall!$AD108:$AO108,0)","v":{"$error":"#N/A"}},{"$f":"MATCH(AK$4,Millwall!$AD108:$AO108,0)","v":{"$error":"#N/A"}},{"$f":"MATCH(AL$4,Millwall!$AD108:$AO108,0)","v":{"$error":"#N/A"}},{"$f":"MATCH(AM$4,Millwall!$AD108:$AO108,0)","v":{"$error":"#N/A"}},{"$f":"MATCH(AN$4,Millwall!$AD108:$AO108,0)","v":{"$error":"#N/A"}},{"$f":"MATCH(AO$4,Millwall!$AD108:$AO108,0)","v":{"$error":"#N/A"}},{"$f":"MATCH(AP$4,Millwall!$AD108:$AO108,0)","v":{"$error":"#N/A"}},{"$f":"MATCH(AQ$4,Millwall!$AD108:$AO108,0)","v":{"$error":"#N/A"}},{"$f":"MATCH(AR$4,Millwall!$AB108:$AM108,0)","v":{"$error":"#N/A"}},null,null,null,null,null,{"$f":"MATCH(AX$3,Millwall!$AD108:$AO108,0)","v":{"$error":"#N/A"}},{"$f":"MATCH(AY$3,Millwall!$AD108:$AO108,0)","v":{"$error":"#N/A"}},{"$f":"MATCH(AZ$3,Millwall!$AD108:$AO108,0)","v":{"$error":"#N/A"}},{"$f":"MATCH(BA$3,Millwall!$AD108:$AO108,0)","v":{"$error":"#N/A"}},{"$f":"MATCH(BB$3,Millwall!$AD108:$AO108,0)","v":{"$error":"#N/A"}},{"$f":"MATCH(BC$3,Millwall!$AD108:$AO108,0)","v":{"$error":"#N/A"}},{"$f":"MATCH(BD$3,Millwall!$AD108:$AO108,0)","v":{"$error":"#N/A"}},{"$f":"MATCH(BE$3,Millwall!$AD108:$AO108,0)","v":{"$error":"#N/A"}},{"$f":"MATCH(BF$3,Millwall!$AD108:$AO108,0)","v":{"$error":"#N/A"}},{"$f":"MATCH(BG$3,Millwall!$AD108:$AO108,0)","v":{"$error":"#N/A"}},{"$f":"MATCH(BH$3,Millwall!$AD108:$AO108,0)","v":{"$error":"#N/A"}},{"$f":"MATCH(BI$3,Millwall!$AD108:$AO108,0)","v":{"$error":"#N/A"}},{"$f":"MATCH(BJ$3,Millwall!$AD108:$AO108,0)","v":{"$error":"#N/A"}},{"$f":"MATCH(BK$3,Millwall!$AD108:$AO108,0)","v":{"$error":"#N/A"}},{"$f":"MATCH(BL$3,Millwall!$AD108:$AO108,0)","v":{"$error":"#N/A"}},{"$f":"MATCH(BM$3,Millwall!$AD108:$AO108,0)","v":{"$error":"#N/A"}},{"$f":"MATCH(BN$3,Millwall!$AD108:$AO108,0)","v":{"$error":"#N/A"}},{"$f":"MATCH(BO$3,Millwall!$AD108:$AO108,0)","v":{"$error":"#N/A"}},{"$f":"MATCH(BP$3,Millwall!$AD108:$AO108,0)","v":{"$error":"#N/A"}},{"$f":"MATCH(BQ$3,Millwall!$AD108:$AO108,0)","v":{"$error":"#N/A"}},{"$f":"MATCH(BR$3,Millwall!$AD108:$AO108,0)","v":{"$error":"#N/A"}},{"$f":"MATCH(BS$3,Millwall!$AD108:$AO108,0)","v":{"$error":"#N/A"}},{"$f":"MATCH(BT$3,Millwall!$AD108:$AO108,0)","v":{"$error":"#N/A"}},{"$f":"MATCH(BU$3,Millwall!$AD108:$AO108,0)","v":{"$error":"#N/A"}},{"$f":"MATCH(BV$3,Millwall!$AD108:$AO108,0)","v":{"$error":"#N/A"}},{"$f":"MATCH(BW$3,Millwall!$AD108:$AO108,0)","v":{"$error":"#N/A"}},{"$f":"MATCH(BX$3,Millwall!$AD108:$AO108,0)","v":{"$error":"#N/A"}},{"$f":"MATCH(BY$3,Millwall!$AD108:$AO108,0)","v":{"$error":"#N/A"}},{"$f":"MATCH(BZ$3,Millwall!$AD108:$AO108,0)","v":{"$error":"#N/A"}},{"$f":"MATCH(CA$3,Millwall!$AD108:$AO108,0)","v":{"$error":"#N/A"}},{"$f":"MATCH(CB$3,Millwall!$AD108:$AO108,0)","v":{"$error":"#N/A"}},{"$f":"MATCH(CC$3,Millwall!$AD108:$AO108,0)","v":{"$error":"#N/A"}},{"$f":"MATCH(CD$3,Millwall!$AD108:$AO108,0)","v":{"$error":"#N/A"}},{"$f":"MATCH(CE$3,Millwall!$AD108:$AO108,0)","v":{"$error":"#N/A"}},null,null,null,null,null,null,{"$f":"$CM$38&\" [**\"","v":" [**"},null,{"$f":"Millwall!$AA192&\" (**\"","v":" (**"},{"$f":"$CM$38&\"**\"","v":"**"},null,{"$f":"$CM$38","v":0},{"$f":"$CN$38","v":" (**"},{"$f":"$CO$38","v":"**"},null,{"$f":"Millwall!$CE$39","v":2},{"$f":"Millwall!$CJ$39","v":4},{"$f":"Millwall!$CO$39","v":6},{"$f":"Millwall!$CT$39","v":0}]
[null,null,0,35,null,{"$f":"Millwall!Z109","v":"1984-03-17"},null,{"$f":"Millwall!AA109","v":"Burnley"},{"$f":"Millwall!AB109","v":"(A)"},{"$f":"Millwall!AC109","v":"L 0-1"},{"$f":"MATCH(K$4,Millwall!$AD109:$AO109,0)","v":11},{"$f":"MATCH(L$4,Millwall!$AD109:$AO109,0)","v":{"$error":"#N/A"}},{"$f":"MATCH(M$4,Millwall!$AD109:$AO109,0)","v":{"$error":"#N/A"}},{"$f":"MATCH(N$4,Millwall!$AD109:$AO109,0)","v":{"$error":"#N/A"}},{"$f":"MATCH(O$4,Millwall!$AD109:$AO109,0)","v":6},{"$f":"MATCH(P$4,Millwall!$AD109:$AO109,0)","v":{"$error":"#N/A"}},{"$f":"MATCH(Q$4,Millwall!$AD109:$AO109,0)","v":4},{"$f":"MATCH(R$4,Millwall!$AD109:$AO109,0)","v":{"$error":"#N/A"}},{"$f":"MATCH(S$4,Millwall!$AD109:$AO109,0)","v":8},{"$f":"MATCH(T$4,Millwall!$AD109:$AO109,0)","v":{"$error":"#N/A"}},{"$f":"MATCH(U$4,Millwall!$AD109:$AO109,0)","v":7},{"$f":"MATCH(V$4,Millwall!$AD109:$AO109,0)","v":9},{"$f":"MATCH(W$4,Millwall!$AD109:$AO109,0)","v":{"$error":"#N/A"}},{"$f":"MATCH(X$4,Millwall!$AD109:$AO109,0)","v":5},{"$f":"MATCH(Y$4,Millwall!$AD109:$AO109,0)","v":{"$error":"#N/A"}},{"$f":"MATCH(Z$4,Millwall!$AD109:$AO109,0)","v":{"$error":"#N/A"}},{"$f":"MATCH(AA$4,Millwall!$AD109:$AO109,0)","v":1},{"$f":"MATCH(AB$4,Millwall!$AD109:$AO109,0)","v":12},{"$f":"MATCH(AC$4,Millwall!$AD109:$AO109,0)","v":{"$error":"#N/A"}},{"$f":"MATCH(AD$4,Millwall!$AD109:$AO109,0)","v":2},{"$f":"MATCH(AE$4,Millwall!$AD109:$AO109,0)","v":3},{"$f":"MATCH(AF$4,Millwall!$AD109:$AO109,0)","v":{"$error":"#N/A"}},{"$f":"MATCH(AG$4,Millwall!$AD109:$AO109,0)","v":10},{"$f":"MATCH(AH$4,Millwall!$AD109:$AO109,0)","v":{"$error":"#N/A"}},{"$f":"MATCH(AI$4,Millwall!$AD109:$AO109,0)","v":{"$error":"#N/A"}},{"$f":"MATCH(AJ$4,Millwall!$AD109:$AO109,0)","v":{"$error":"#N/A"}},{"$f":"MATCH(AK$4,Millwall!$AD109:$AO109,0)","v":{"$error":"#N/A"}},{"$f":"MATCH(AL$4,Millwall!$AD109:$AO109,0)","v":{"$error":"#N/A"}},{"$f":"MATCH(AM$4,Millwall!$AD109:$AO109,0)","v":{"$error":"#N/A"}},{"$f":"MATCH(AN$4,Millwall!$AD109:$AO109,0)","v":{"$error":"#N/A"}},{"$f":"MATCH(AO$4,Millwall!$AD109:$AO109,0)","v":{"$error":"#N/A"}},{"$f":"MATCH(AP$4,Millwall!$AD109:$AO109,0)","v":{"$error":"#N/A"}},{"$f":"MATCH(AQ$4,Millwall!$AD109:$AO109,0)","v":{"$error":"#N/A"}},{"$f":"MATCH(AR$4,Millwall!$AB109:$AM109,0)","v":{"$error":"#N/A"}},null,null,null,null,null,{"$f":"MATCH(AX$3,Millwall!$AD109:$AO109,0)","v":{"$error":"#N/A"}},{"$f":"MATCH(AY$3,Millwall!$AD109:$AO109,0)","v":{"$error":"#N/A"}},{"$f":"MATCH(AZ$3,Millwall!$AD109:$AO109,0)","v":{"$error":"#N/A"}},{"$f":"MATCH(BA$3,Millwall!$AD109:$AO109,0)","v":{"$error":"#N/A"}},{"$f":"MATCH(BB$3,Millwall!$AD109:$AO109,0)","v":{"$error":"#N/A"}},{"$f":"MATCH(BC$3,Millwall!$AD109:$AO109,0)","v":{"$error":"#N/A"}},{"$f":"MATCH(BD$3,Millwall!$AD109:$AO109,0)","v":{"$error":"#N/A"}},{"$f":"MATCH(BE$3,Millwall!$AD109:$AO109,0)","v":{"$error":"#N/A"}},{"$f":"MATCH(BF$3,Millwall!$AD109:$AO109,0)","v":8},{"$f":"MATCH(BG$3,Millwall!$AD109:$AO109,0)","v":{"$error":"#N/A"}},{"$f":"MATCH(BH$3,Millwall!$AD109:$AO109,0)","v":{"$error":"#N/A"}},{"$f":"MATCH(BI$3,Millwall!$AD109:$AO109,0)","v":{"$error":"#N/A"}},{"$f":"MATCH(BJ$3,Millwall!$AD109:$AO109,0)","v":{"$error":"#N/A"}},{"$f":"MATCH(BK$3,Millwall!$AD109:$AO109,0)","v":{"$error":"#N/A"}},{"$f":"MATCH(BL$3,Millwall!$AD109:$AO109,0)","v":{"$error":"#N/A"}},{"$f":"MATCH(BM$3,Millwall!$AD109:$AO109,0)","v":{"$error":"#N/A"}},{"$f":"MATCH(BN$3,Millwall!$AD109:$AO109,0)","v":{"$error":"#N/A"}},{"$f":"MATCH(BO$3,Millwall!$AD109:$AO109,0)","v":12},{"$f":"MATCH(BP$3,Millwall!$AD109:$AO109,0)","v":{"$error":"#N/A"}},{"$f":"MATCH(BQ$3,Millwall!$AD109:$AO109,0)","v":{"$error":"#N/A"}},{"$f":"MATCH(BR$3,Millwall!$AD109:$AO109,0)","v":{"$error":"#N/A"}},{"$f":"MATCH(BS$3,Millwall!$AD109:$AO109,0)","v":{"$error":"#N/A"}},{"$f":"MATCH(BT$3,Millwall!$AD109:$AO109,0)","v":{"$error":"#N/A"}},{"$f":"MATCH(BU$3,Millwall!$AD109:$AO109,0)","v":{"$error":"#N/A"}},{"$f":"MATCH(BV$3,Millwall!$AD109:$AO109,0)","v":{"$error":"#N/A"}},{"$f":"MATCH(BW$3,Millwall!$AD109:$AO109,0)","v":{"$error":"#N/A"}},{"$f":"MATCH(BX$3,Millwall!$AD109:$AO109,0)","v":{"$error":"#N/A"}},{"$f":"MATCH(BY$3,Millwall!$AD109:$AO109,0)","v":{"$error":"#N/A"}},{"$f":"MATCH(BZ$3,Millwall!$AD109:$AO109,0)","v":{"$error":"#N/A"}},{"$f":"MATCH(CA$3,Millwall!$AD109:$AO109,0)","v":{"$error":"#N/A"}},{"$f":"MATCH(CB$3,Millwall!$AD109:$AO109,0)","v":{"$error":"#N/A"}},{"$f":"MATCH(CC$3,Millwall!$AD109:$AO109,0)","v":{"$error":"#N/A"}},{"$f":"MATCH(CD$3,Millwall!$AD109:$AO109,0)","v":{"$error":"#N/A"}},{"$f":"MATCH(CE$3,Millwall!$AD109:$AO109,0)","v":{"$error":"#N/A"}}]
[null,null,0,36,null,{"$f":"Millwall!Z110","v":"1984-03-20"},null,{"$f":"Millwall!AA110","v":"Plymouth"},{"$f":"Millwall!AB110","v":"(A)"},{"$f":"Millwall!AC110","v":"W 1-0"},{"$f":"MATCH(K$4,Millwall!$AD110:$AO110,0)","v":11},{"$f":"MATCH(L$4,Millwall!$AD110:$AO110,0)","v":{"$error":"#N/A"}},{"$f":"MATCH(M$4,Millwall!$AD110:$AO110,0)","v":{"$error":"#N/A"}},{"$f":"MATCH(N$4,Millwall!$AD110:$AO110,0)","v":{"$error":"#N/A"}},{"$f":"MATCH(O$4,Millwall!$AD110:$AO110,0)","v":12},{"$f":"MATCH(P$4,Millwall!$AD110:$AO110,0)","v":6},{"$f":"MATCH(Q$4,Millwall!$AD110:$AO110,0)","v":4},{"$f":"MATCH(R$4,Millwall!$AD110:$AO110,0)","v":{"$error":"#N/A"}},{"$f":"MATCH(S$4,Millwall!$AD110:$AO110,0)","v":{"$error":"#N/A"}},{"$f":"MATCH(T$4,Millwall!$AD110:$AO110,0)","v":{"$error":"#N/A"}},{"$f":"MATCH(U$4,Millwall!$AD110:$AO110,0)","v":7},{"$f":"MATCH(V$4,Millwall!$AD110:$AO110,0)","v":9},{"$f":"MATCH(W$4,Millwall!$AD110:$AO110,0)","v":{"$error":"#N/A"}},{"$f":"MATCH(X$4,Millwall!$AD110:$AO110,0)","v":5},{"$f":"MATCH(Y$4,Millwall!$AD110:$AO110,0)","v":10},{"$f":"MATCH(Z$4,Millwall!$AD110:$AO110,0)","v":{"$error":"#N/A"}},{"$f":"MATCH(AA$4,Millwall!$AD110:$AO110,0)","v":1},{"$f":"MATCH(AB$4,Millwall!$AD110:$AO110,0)","v":{"$error":"#N/A"}},{"$f":"MATCH(AC$4,Millwall!$AD110:$AO110,0)","v":{"$error":"#N/A"}},{"$f":"MATCH(AD$4,Millwall!$AD110:$AO110,0)","v":2},{"$f":"MATCH(AE$4,Millwall!$AD110:$AO110,0)","v":3},{"$f":"MATCH(AF$4,Millwall!$AD110:$AO110,0)","v":{"$error":"#N/A"}},{"$f":"MATCH(AG$4,Millwall!$AD110:$AO110,0)","v":8},{"$f":"MATCH(AH$4,Millwall!$AD110:$AO110,0)","v":{"$error":"#N/A"}},{"$f":"MATCH(AI$4,Millwall!$AD110:$AO110,0)","v":{"$error":"#N/A"}},{"$f":"MATCH(AJ$4,Millwall!$AD110:$AO110,0)","v":{"$error":"#N/A"}},{"$f":"MATCH(AK$4,Millwall!$AD110:$AO110,0)","v":{"$error":"#N/A"}},{"$f":"MATCH(AL$4,Millwall!$AD110:$AO110,0)","v":{"$error":"#N/A"}},{"$f":"MATCH(AM$4,Millwall!$AD110:$AO110,0)","v":{"$error":"#N/A"}},{"$f":"MATCH(AN$4,Millwall!$AD110:$AO110,0)","v":{"$error":"#N/A"}},{"$f":"MATCH(AO$4,Millwall!$AD110:$AO110,0)","v":{"$error":"#N/A"}},{"$f":"MATCH(AP$4,Millwall!$AD110:$AO110,0)","v":{"$error":"#N/A"}},{"$f":"MATCH(AQ$4,Millwall!$AD110:$AO110,0)","v":{"$error":"#N/A"}},{"$f":"MATCH(AR$4,Millwall!$AB110:$AM110,0)","v":{"$error":"#N/A"}},null,null,null,null,null,{"$f":"MATCH(AX$3,Millwall!$AD110:$AO110,0)","v":{"$error":"#N/A"}},{"$f":"MATCH(AY$3,Millwall!$AD110:$AO110,0)","v":{"$error":"#N/A"}},{"$f":"MATCH(AZ$3,Millwall!$AD110:$AO110,0)","v":{"$error":"#N/A"}},{"$f":"MATCH(BA$3,Millwall!$AD110:$AO110,0)","v":{"$error":"#N/A"}},{"$f":"MATCH(BB$3,Millwall!$AD110:$AO110,0)","v":{"$error":"#N/A"}},{"$f":"MATCH(BC$3,Millwall!$AD110:$AO110,0)","v":{"$error":"#N/A"}},{"$f":"MATCH(BD$3,Millwall!$AD110:$AO110,0)","v":{"$error":"#N/A"}},{"$f":"MATCH(BE$3,Millwall!$AD110:$AO110,0)","v":{"$error":"#N/A"}},{"$f":"MATCH(BF$3,Millwall!$AD110:$AO110,0)","v":{"$error":"#N/A"}},{"$f":"MATCH(BG$3,Millwall!$AD110:$AO110,0)","v":{"$error":"#N/A"}},{"$f":"MATCH(BH$3,Millwall!$AD110:$AO110,0)","v":{"$error":"#N/A"}},{"$f":"MATCH(BI$3,Millwall!$AD110:$AO110,0)","v":{"$error":"#N/A"}},{"$f":"MATCH(BJ$3,Millwall!$AD110:$AO110,0)","v":{"$error":"#N/A"}},{"$f":"MATCH(BK$3,Millwall!$AD110:$AO110,0)","v":{"$error":"#N/A"}},{"$f":"MATCH(BL$3,Millwall!$AD110:$AO110,0)","v":{"$error":"#N/A"}},{"$f":"MATCH(BM$3,Millwall!$AD110:$AO110,0)","v":{"$error":"#N/A"}},{"$f":"MATCH(BN$3,Millwall!$AD110:$AO110,0)","v":{"$error":"#N/A"}},{"$f":"MATCH(BO$3,Millwall!$AD110:$AO110,0)","v":{"$error":"#N/A"}},{"$f":"MATCH(BP$3,Millwall!$AD110:$AO110,0)","v":{"$error":"#N/A"}},{"$f":"MATCH(BQ$3,Millwall!$AD110:$AO110,0)","v":{"$error":"#N/A"}},{"$f":"MATCH(BR$3,Millwall!$AD110:$AO110,0)","v":{"$error":"#N/A"}},{"$f":"MATCH(BS$3,Millwall!$AD110:$AO110,0)","v":{"$error":"#N/A"}},{"$f":"MATCH(BT$3,Millwall!$AD110:$AO110,0)","v":{"$error":"#N/A"}},{"$f":"MATCH(BU$3,Millwall!$AD110:$AO110,0)","v":{"$error":"#N/A"}},{"$f":"MATCH(BV$3,Millwall!$AD110:$AO110,0)","v":{"$error":"#N/A"}},{"$f":"MATCH(BW$3,Millwall!$AD110:$AO110,0)","v":{"$error":"#N/A"}},{"$f":"MATCH(BX$3,Millwall!$AD110:$AO110,0)","v":{"$error":"#N/A"}},{"$f":"MATCH(BY$3,Millwall!$AD110:$AO110,0)","v":{"$error":"#N/A"}},{"$f":"MATCH(BZ$3,Millwall!$AD110:$AO110,0)","v":{"$error":"#N/A"}},{"$f":"MATCH(CA$3,Millwall!$AD110:$AO110,0)","v":{"$error":"#N/A"}},{"$f":"MATCH(CB$3,Millwall!$AD110:$AO110,0)","v":{"$error":"#N/A"}},{"$f":"MATCH(CC$3,Millwall!$AD110:$AO110,0)","v":{"$error":"#N/A"}},{"$f":"MATCH(CD$3,Millwall!$AD110:$AO110,0)","v":{"$error":"#N/A"}},{"$f":"MATCH(CE$3,Millwall!$AD110:$AO110,0)","v":{"$error":"#N/A"}}]
[null,null,0,37,null,{"$f":"Millwall!Z111","v":"1984-04-14"},null,{"$f":"Millwall!AA111","v":"Walsall"},{"$f":"Millwall!AB111","v":"(H)"},{"$f":"Millwall!AC111","v":"W 2-0"},{"$f":"MATCH(K$4,Millwall!$AD111:$AO111,0)","v":8},{"$f":"MATCH(L$4,Millwall!$AD111:$AO111,0)","v":{"$error":"#N/A"}},{"$f":"MATCH(M$4,Millwall!$AD111:$AO111,0)","v":{"$error":"#N/A"}},{"$f":"MATCH(N$4,Millwall!$AD111:$AO111,0)","v":{"$error":"#N/A"}},{"$f":"MATCH(O$4,Millwall!$AD111:$AO111,0)","v":{"$error":"#N/A"}},{"$f":"MATCH(P$4,Millwall!$AD111:$AO111,0)","v":6},{"$f":"MATCH(Q$4,Millwall!$AD111:$AO111,0)","v":4},{"$f":"MATCH(R$4,Millwall!$AD111:$AO111,0)","v":{"$error":"#N/A"}},{"$f":"MATCH(S$4,Millwall!$AD111:$AO111,0)","v":{"$error":"#N/A"}},{"$f":"MATCH(T$4,Millwall!$AD111:$AO111,0)","v":{"$error":"#N/A"}},{"$f":"MATCH(U$4,Millwall!$AD111:$AO111,0)","v":7},{"$f":"MATCH(V$4,Millwall!$AD111:$AO111,0)","v":9},{"$f":"MATCH(W$4,Millwall!$AD111:$AO111,0)","v":11},{"$f":"MATCH(X$4,Millwall!$AD111:$AO111,0)","v":5},{"$f":"MATCH(Y$4,Millwall!$AD111:$AO111,0)","v":10},{"$f":"MATCH(Z$4,Millwall!$AD111:$AO111,0)","v":{"$error":"#N/A"}},{"$f":"MATCH(AA$4,Millwall!$AD111:$AO111,0)","v":1},{"$f":"MATCH(AB$4,Millwall!$AD111:$AO111,0)","v":12},{"$f":"MATCH(AC$4,Millwall!$AD111:$AO111,0)","v":{"$error":"#N/A"}},{"$f":"MATCH(AD$4,Millwall!$AD111:$AO111,0)","v":2},{"$f":"MATCH(AE$4,Millwall!$AD111:$AO111,0)","v":3},{"$f":"MATCH(AF$4,Millwall!$AD111:$AO111,0)","v":{"$error":"#N/A"}},{"$f":"MATCH(AG$4,Millwall!$AD111:$AO111,0)","v":{"$error":"#N/A"}},{"$f":"MATCH(AH$4,Millwall!$AD111:$AO111,0)","v":{"$error":"#N/A"}},{"$f":"MATCH(AI$4,Millwall!$AD111:$AO111,0)","v":{"$error":"#N/A"}},{"$f":"MATCH(AJ$4,Millwall!$AD111:$AO111,0)","v":{"$error":"#N/A"}},{"$f":"MATCH(AK$4,Millwall!$AD111:$AO111,0)","v":{"$error":"#N/A"}},{"$f":"MATCH(AL$4,Millwall!$AD111:$AO111,0)","v":{"$error":"#N/A"}},{"$f":"MATCH(AM$4,Millwall!$AD111:$AO111,0)","v":{"$error":"#N/A"}},{"$f":"MATCH(AN$4,Millwall!$AD111:$AO111,0)","v":{"$error":"#N/A"}},{"$f":"MATCH(AO$4,Millwall!$AD111:$AO111,0)","v":{"$error":"#N/A"}},{"$f":"MATCH(AP$4,Millwall!$AD111:$AO111,0)","v":{"$error":"#N/A"}},{"$f":"MATCH(AQ$4,Millwall!$AD111:$AO111,0)","v":{"$error":"#N/A"}},{"$f":"MATCH(AR$4,Millwall!$AB111:$AM111,0)","v":{"$error":"#N/A"}},null,null,null,null,null,{"$f":"MATCH(AX$3,Millwall!$AD111:$AO111,0)","v":{"$error":"#N/A"}},{"$f":"MATCH(AY$3,Millwall!$AD111:$AO111,0)","v":{"$error":"#N/A"}},{"$f":"MATCH(AZ$3,Millwall!$AD111:$AO111,0)","v":{"$error":"#N/A"}},{"$f":"MATCH(BA$3,Millwall!$AD111:$AO111,0)","v":{"$error":"#N/A"}},{"$f":"MATCH(BB$3,Millwall!$AD111:$AO111,0)","v":{"$error":"#N/A"}},{"$f":"MATCH(BC$3,Millwall!$AD111:$AO111,0)","v":6},{"$f":"MATCH(BD$3,Millwall!$AD111:$AO111,0)","v":{"$error":"#N/A"}},{"$f":"MATCH(BE$3,Millwall!$AD111:$AO111,0)","v":{"$error":"#N/A"}},{"$f":"MATCH(BF$3,Millwall!$AD111:$AO111,0)","v":{"$error":"#N/A"}},{"$f":"MATCH(BG$3,Millwall!$AD111:$AO111,0)","v":{"$error":"#N/A"}},{"$f":"MATCH(BH$3,Millwall!$AD111:$AO111,0)","v":{"$error":"#N/A"}},{"$f":"MATCH(BI$3,Millwall!$AD111:$AO111,0)","v":{"$error":"#N/A"}},{"$f":"MATCH(BJ$3,Millwall!$AD111:$AO111,0)","v":{"$error":"#N/A"}},{"$f":"MATCH(BK$3,Millwall!$AD111:$AO111,0)","v":{"$error":"#N/A"}},{"$f":"MATCH(BL$3,Millwall!$AD111:$AO111,0)","v":{"$error":"#N/A"}},{"$f":"MATCH(BM$3,Millwall!$AD111:$AO111,0)","v":{"$error":"#N/A"}},{"$f":"MATCH(BN$3,Millwall!$AD111:$AO111,0)","v":{"$error":"#N/A"}},{"$f":"MATCH(BO$3,Millwall!$AD111:$AO111,0)","v":12},{"$f":"MATCH(BP$3,Millwall!$AD111:$AO111,0)","v":{"$error":"#N/A"}},{"$f":"MATCH(BQ$3,Millwall!$AD111:$AO111,0)","v":{"$error":"#N/A"}},{"$f":"MATCH(BR$3,Millwall!$AD111:$AO111,0)","v":{"$error":"#N/A"}},{"$f":"MATCH(BS$3,Millwall!$AD111:$AO111,0)","v":{"$error":"#N/A"}},{"$f":"MATCH(BT$3,Millwall!$AD111:$AO111,0)","v":{"$error":"#N/A"}},{"$f":"MATCH(BU$3,Millwall!$AD111:$AO111,0)","v":{"$error":"#N/A"}},{"$f":"MATCH(BV$3,Millwall!$AD111:$AO111,0)","v":{"$error":"#N/A"}},{"$f":"MATCH(BW$3,Millwall!$AD111:$AO111,0)","v":{"$error":"#N/A"}},{"$f":"MATCH(BX$3,Millwall!$AD111:$AO111,0)","v":{"$error":"#N/A"}},{"$f":"MATCH(BY$3,Millwall!$AD111:$AO111,0)","v":{"$error":"#N/A"}},{"$f":"MATCH(BZ$3,Millwall!$AD111:$AO111,0)","v":{"$error":"#N/A"}},{"$f":"MATCH(CA$3,Millwall!$AD111:$AO111,0)","v":{"$error":"#N/A"}},{"$f":"MATCH(CB$3,Millwall!$AD111:$AO111,0)","v":{"$error":"#N/A"}},{"$f":"MATCH(CC$3,Millwall!$AD111:$AO111,0)","v":{"$error":"#N/A"}},{"$f":"MATCH(CD$3,Millwall!$AD111:$AO111,0)","v":{"$error":"#N/A"}},{"$f":"MATCH(CE$3,Millwall!$AD111:$AO111,0)","v":{"$error":"#N/A"}}]
[null,null,0,38,null,{"$f":"Millwall!Z112","v":"1984-04-18"},null,{"$f":"Millwall!AA112","v":"Southend"},{"$f":"Millwall!AB112","v":"(H)"},{"$f":"Millwall!AC112","v":"W 4-0"},{"$f":"MATCH(K$4,Millwall!$AD112:$AO112,0)","v":8},{"$f":"MATCH(L$4,Millwall!$AD112:$AO112,0)","v":{"$error":"#N/A"}},{"$f":"MATCH(M$4,Millwall!$AD112:$AO112,0)","v":{"$error":"#N/A"}},{"$f":"MATCH(N$4,Millwall!$AD112:$AO112,0)","v":{"$error":"#N/A"}},{"$f":"MATCH(O$4,Millwall!$AD112:$AO112,0)","v":{"$error":"#N/A"}},{"$f":"MATCH(P$4,Millwall!$AD112:$AO112,0)","v":6},{"$f":"MATCH(Q$4,Millwall!$AD112:$AO112,0)","v":4},{"$f":"MATCH(R$4,Millwall!$AD112:$AO112,0)","v":{"$error":"#N/A"}},{"$f":"MATCH(S$4,Millwall!$AD112:$AO112,0)","v":{"$error":"#N/A"}},{"$f":"MATCH(T$4,Millwall!$AD112:$AO112,0)","v":{"$error":"#N/A"}},{"$f":"MATCH(U$4,Millwall!$AD112:$AO112,0)","v":7},{"$f":"MATCH(V$4,Millwall!$AD112:$AO112,0)","v":9},{"$f":"MATCH(W$4,Millwall!$AD112:$AO112,0)","v":12},{"$f":"MATCH(X$4,Millwall!$AD112:$AO112,0)","v":5},{"$f":"MATCH(Y$4,Millwall!$AD112:$AO112,0)","v":10},{"$f":"MATCH(Z$4,Millwall!$AD112:$AO112,0)","v":11},{"$f":"MATCH(AA$4,Millwall!$AD112:$AO112,0)","v":1},{"$f":"MATCH(AB$4,Millwall!$AD112:$AO112,0)","v":{"$error":"#N/A"}},{"$f":"MATCH(AC$4,Millwall!$AD112:$AO112,0)","v":{"$error":"#N/A"}},{"$f":"MATCH(AD$4,Millwall!$AD112:$AO112,0)","v":2},{"$f":"MATCH(AE$4,Millwall!$AD112:$AO112,0)","v":3},{"$f":"MATCH(AF$4,Millwall!$AD112:$AO112,0)","v":{"$error":"#N/A"}},{"$f":"MATCH(AG$4,Millwall!$AD112:$AO112,0)","v":{"$error":"#N/A"}},{"$f":"MATCH(AH$4,Millwall!$AD112:$AO112,0)","v":{"$error":"#N/A"}},{"$f":"MATCH(AI$4,Millwall!$AD112:$AO112,0)","v":{"$error":"#N/A"}},{"$f":"MATCH(AJ$4,Millwall!$AD112:$AO112,0)","v":{"$error":"#N/A"}},{"$f":"MATCH(AK$4,Millwall!$AD112:$AO112,0)","v":{"$error":"#N/A"}},{"$f":"MATCH(AL$4,Millwall!$AD112:$AO112,0)","v":{"$error":"#N/A"}},{"$f":"MATCH(AM$4,Millwall!$AD112:$AO112,0)","v":{"$error":"#N/A"}},{"$f":"MATCH(AN$4,Millwall!$AD112:$AO112,0)","v":{"$error":"#N/A"}},{"$f":"MATCH(AO$4,Millwall!$AD112:$AO112,0)","v":{"$error":"#N/A"}},{"$f":"MATCH(AP$4,Millwall!$AD112:$AO112,0)","v":{"$error":"#N/A"}},{"$f":"MATCH(AQ$4,Millwall!$AD112:$AO112,0)","v":{"$error":"#N/A"}},{"$f":"MATCH(AR$4,Millwall!$AB112:$AM112,0)","v":{"$error":"#N/A"}},null,null,null,null,null,{"$f":"MATCH(AX$3,Millwall!$AD112:$AO112,0)","v":{"$error":"#N/A"}},{"$f":"MATCH(AY$3,Millwall!$AD112:$AO112,0)","v":{"$error":"#N/A"}},{"$f":"MATCH(AZ$3,Millwall!$AD112:$AO112,0)","v":{"$error":"#N/A"}},{"$f":"MATCH(BA$3,Millwall!$AD112:$AO112,0)","v":{"$error":"#N/A"}},{"$f":"MATCH(BB$3,Millwall!$AD112:$AO112,0)","v":{"$error":"#N/A"}},{"$f":"MATCH(BC$3,Millwall!$AD112:$AO112,0)","v":{"$error":"#N/A"}},{"$f":"MATCH(BD$3,Millwall!$AD112:$AO112,0)","v":{"$error":"#N/A"}},{"$f":"MATCH(BE$3,Millwall!$AD112:$AO112,0)","v":{"$error":"#N/A"}},{"$f":"MATCH(BF$3,Millwall!$AD112:$AO112,0)","v":{"$error":"#N/A"}},{"$f":"MATCH(BG$3,Millwall!$AD112:$AO112,0)","v":{"$error":"#N/A"}},{"$f":"MATCH(BH$3,Millwall!$AD112:$AO112,0)","v":7},{"$f":"MATCH(BI$3,Millwall!$AD112:$AO112,0)","v":{"$error":"#N/A"}},{"$f":"MATCH(BJ$3,Millwall!$AD112:$AO112,0)","v":12},{"$f":"MATCH(BK$3,Millwall!$AD112:$AO112,0)","v":{"$error":"#N/A"}},{"$f":"MATCH(BL$3,Millwall!$AD112:$AO112,0)","v":{"$error":"#N/A"}},{"$f":"MATCH(BM$3,Millwall!$AD112:$AO112,0)","v":{"$error":"#N/A"}},{"$f":"MATCH(BN$3,Millwall!$AD112:$AO112,0)","v":{"$error":"#N/A"}},{"$f":"MATCH(BO$3,Millwall!$AD112:$AO112,0)","v":{"$error":"#N/A"}},{"$f":"MATCH(BP$3,Millwall!$AD112:$AO112,0)","v":{"$error":"#N/A"}},{"$f":"MATCH(BQ$3,Millwall!$AD112:$AO112,0)","v":{"$error":"#N/A"}},{"$f":"MATCH(BR$3,Millwall!$AD112:$AO112,0)","v":{"$error":"#N/A"}},{"$f":"MATCH(BS$3,Millwall!$AD112:$AO112,0)","v":{"$error":"#N/A"}},{"$f":"MATCH(BT$3,Millwall!$AD112:$AO112,0)","v":{"$error":"#N/A"}},{"$f":"MATCH(BU$3,Millwall!$AD112:$AO112,0)","v":{"$error":"#N/A"}},{"$f":"MATCH(BV$3,Millwall!$AD112:$AO112,0)","v":{"$error":"#N/A"}},{"$f":"MATCH(BW$3,Millwall!$AD112:$AO112,0)","v":{"$error":"#N/A"}},{"$f":"MATCH(BX$3,Millwall!$AD112:$AO112,0)","v":{"$error":"#N/A"}},{"$f":"MATCH(BY$3,Millwall!$AD112:$AO112,0)","v":{"$error":"#N/A"}},{"$f":"MATCH(BZ$3,Millwall!$AD112:$AO112,0)","v":{"$error":"#N/A"}},{"$f":"MATCH(CA$3,Millwall!$AD112:$AO112,0)","v":{"$error":"#N/A"}},{"$f":"MATCH(CB$3,Millwall!$AD112:$AO112,0)","v":{"$error":"#N/A"}},{"$f":"MATCH(CC$3,Millwall!$AD112:$AO112,0)","v":{"$error":"#N/A"}},{"$f":"MATCH(CD$3,Millwall!$AD112:$AO112,0)","v":{"$error":"#N/A"}},{"$f":"MATCH(CE$3,Millwall!$AD112:$AO112,0)","v":{"$error":"#N/A"}}]
[null,null,0,39,null,{"$f":"Millwall!Z113","v":"1984-04-21"},null,{"$f":"Millwall!AA113","v":"Leton Orient"},{"$f":"Millwall!AB113","v":"(A)"},{"$f":"Millwall!AC113","v":"L 3-5"},{"$f":"MATCH(K$4,Millwall!$AD113:$AO113,0)","v":8},{"$f":"MATCH(L$4,Millwall!$AD113:$AO113,0)","v":{"$error":"#N/A"}},{"$f":"MATCH(M$4,Millwall!$AD113:$AO113,0)","v":{"$error":"#N/A"}},{"$f":"MATCH(N$4,Millwall!$AD113:$AO113,0)","v":{"$error":"#N/A"}},{"$f":"MATCH(O$4,Millwall!$AD113:$AO113,0)","v":{"$error":"#N/A"}},{"$f":"MATCH(P$4,Millwall!$AD113:$AO113,0)","v":6},{"$f":"MATCH(Q$4,Millwall!$AD113:$AO113,0)","v":4},{"$f":"MATCH(R$4,Millwall!$AD113:$AO113,0)","v":{"$error":"#N/A"}},{"$f":"MATCH(S$4,Millwall!$AD113:$AO113,0)","v":{"$error":"#N/A"}},{"$f":"MATCH(T$4,Millwall!$AD113:$AO113,0)","v":{"$error":"#N/A"}},{"$f":"MATCH(U$4,Millwall!$AD113:$AO113,0)","v":{"$error":"#N/A"}},{"$f":"MATCH(V$4,Millwall!$AD113:$AO113,0)","v":9},{"$f":"MATCH(W$4,Millwall!$AD113:$AO113,0)","v":12},{"$f":"MATCH(X$4,Millwall!$AD113:$AO113,0)","v":5},{"$f":"MATCH(Y$4,Millwall!$AD113:$AO113,0)","v":10},{"$f":"MATCH(Z$4,Millwall!$AD113:$AO113,0)","v":11},{"$f":"MATCH(AA$4,Millwall!$AD113:$AO113,0)","v":1},{"$f":"MATCH(AB$4,Millwall!$AD113:$AO113,0)","v":{"$error":"#N/A"}},{"$f":"MATCH(AC$4,Millwall!$AD113:$AO113,0)","v":{"$error":"#N/A"}},{"$f":"MATCH(AD$4,Millwall!$AD113:$AO113,0)","v":2},{"$f":"MATCH(AE$4,Millwall!$AD113:$AO113,0)","v":3},{"$f":"MATCH(AF$4,Millwall!$AD113:$AO113,0)","v":{"$error":"#N/A"}},{"$f":"MATCH(AG$4,Millwall!$AD113:$AO113,0)","v":7},{"$f":"MATCH(AH$4,Millwall!$AD113:$AO113,0)","v":{"$error":"#N/A"}},{"$f":"MATCH(AI$4,Millwall!$AD113:$AO113,0)","v":{"$error":"#N/A"}},{"$f":"MATCH(AJ$4,Millwall!$AD113:$AO113,0)","v":{"$error":"#N/A"}},{"$f":"MATCH(AK$4,Millwall!$AD113:$AO113,0)","v":{"$error":"#N/A"}},{"$f":"MATCH(AL$4,Millwall!$AD113:$AO113,0)","v":{"$error":"#N/A"}},{"$f":"MATCH(AM$4,Millwall!$AD113:$AO113,0)","v":{"$error":"#N/A"}},{"$f":"MATCH(AN$4,Millwall!$AD113:$AO113,0)","v":{"$error":"#N/A"}},{"$f":"MATCH(AO$4,Millwall!$AD113:$AO113,0)","v":{"$error":"#N/A"}},{"$f":"MATCH(AP$4,Millwall!$AD113:$AO113,0)","v":{"$error":"#N/A"}},{"$f":"MATCH(AQ$4,Millwall!$AD113:$AO113,0)","v":{"$error":"#N/A"}},{"$f":"MATCH(AR$4,Millwall!$AB113:$AM113,0)","v":{"$error":"#N/A"}},null,null,null,null,null,{"$f":"MATCH(AX$3,Millwall!$AD113:$AO113,0)","v":{"$error":"#N/A"}},{"$f":"MATCH(AY$3,Millwall!$AD113:$AO113,0)","v":{"$error":"#N/A"}},{"$f":"MATCH(AZ$3,Millwall!$AD113:$AO113,0)","v":{"$error":"#N/A"}},{"$f":"MATCH(BA$3,Millwall!$AD113:$AO113,0)","v":{"$error":"#N/A"}},{"$f":"MATCH(BB$3,Millwall!$AD113:$AO113,0)","v":{"$error":"#N/A"}},{"$f":"MATCH(BC$3,Millwall!$AD113:$AO113,0)","v":{"$error":"#N/A"}},{"$f":"MATCH(BD$3,Millwall!$AD113:$AO113,0)","v":{"$error":"#N/A"}},{"$f":"MATCH(BE$3,Millwall!$AD113:$AO113,0)","v":{"$error":"#N/A"}},{"$f":"MATCH(BF$3,Millwall!$AD113:$AO113,0)","v":{"$error":"#N/A"}},{"$f":"MATCH(BG$3,Millwall!$AD113:$AO113,0)","v":{"$error":"#N/A"}},{"$f":"MATCH(BH$3,Millwall!$AD113:$AO113,0)","v":{"$error":"#N/A"}},{"$f":"MATCH(BI$3,Millwall!$AD113:$AO113,0)","v":{"$error":"#N/A"}},{"$f":"MATCH(BJ$3,Millwall!$AD113:$AO113,0)","v":12},{"$f":"MATCH(BK$3,Millwall!$AD113:$AO113,0)","v":{"$error":"#N/A"}},{"$f":"MATCH(BL$3,Millwall!$AD113:$AO113,0)","v":{"$error":"#N/A"}},{"$f":"MATCH(BM$3,Millwall!$AD113:$AO113,0)","v":{"$error":"#N/A"}},{"$f":"MATCH(BN$3,Millwall!$AD113:$AO113,0)","v":{"$error":"#N/A"}},{"$f":"MATCH(BO$3,Millwall!$AD113:$AO113,0)","v":{"$error":"#N/A"}},{"$f":"MATCH(BP$3,Millwall!$AD113:$AO113,0)","v":{"$error":"#N/A"}},{"$f":"MATCH(BQ$3,Millwall!$AD113:$AO113,0)","v":{"$error":"#N/A"}},{"$f":"MATCH(BR$3,Millwall!$AD113:$AO113,0)","v":3},{"$f":"MATCH(BS$3,Millwall!$AD113:$AO113,0)","v":{"$error":"#N/A"}},{"$f":"MATCH(BT$3,Millwall!$AD113:$AO113,0)","v":{"$error":"#N/A"}},{"$f":"MATCH(BU$3,Millwall!$AD113:$AO113,0)","v":{"$error":"#N/A"}},{"$f":"MATCH(BV$3,Millwall!$AD113:$AO113,0)","v":{"$error":"#N/A"}},{"$f":"MATCH(BW$3,Millwall!$AD113:$AO113,0)","v":{"$error":"#N/A"}},{"$f":"MATCH(BX$3,Millwall!$AD113:$AO113,0)","v":{"$error":"#N/A"}},{"$f":"MATCH(BY$3,Millwall!$AD113:$AO113,0)","v":{"$error":"#N/A"}},{"$f":"MATCH(BZ$3,Millwall!$AD113:$AO113,0)","v":{"$error":"#N/A"}},{"$f":"MATCH(CA$3,Millwall!$AD113:$AO113,0)","v":{"$error":"#N/A"}},{"$f":"MATCH(CB$3,Millwall!$AD113:$AO113,0)","v":{"$error":"#N/A"}},{"$f":"MATCH(CC$3,Millwall!$AD113:$AO113,0)","v":{"$error":"#N/A"}},{"$f":"MATCH(CD$3,Millwall!$AD113:$AO113,0)","v":{"$error":"#N/A"}},{"$f":"MATCH(CE$3,Millwall!$AD113:$AO113,0)","v":{"$error":"#N/A"}}]
[null,null,0,40,null,{"$f":"Millwall!Z114","v":"1984-04-23"},null,{"$f":"Millwall!AA114","v":"Wimbledon"},{"$f":"Millwall!AB114","v":"(H)"},{"$f":"Millwall!AC114","v":"D 1-1"},{"$f":"MATCH(K$4,Millwall!$AD114:$AO114,0)","v":8},{"$f":"MATCH(L$4,Millwall!$AD114:$AO114,0)","v":{"$error":"#N/A"}},{"$f":"MATCH(M$4,Millwall!$AD114:$AO114,0)","v":{"$error":"#N/A"}},{"$f":"MATCH(N$4,Millwall!$AD114:$AO114,0)","v":{"$error":"#N/A"}},{"$f":"MATCH(O$4,Millwall!$AD114:$AO114,0)","v":{"$error":"#N/A"}},{"$f":"MATCH(P$4,Millwall!$AD114:$AO114,0)","v":{"$error":"#N/A"}},{"$f":"MATCH(Q$4,Millwall!$AD114:$AO114,0)","v":4},{"$f":"MATCH(R$4,Millwall!$AD114:$AO114,0)","v":{"$error":"#N/A"}},{"$f":"MATCH(S$4,Millwall!$AD114:$AO114,0)","v":6},{"$f":"MATCH(T$4,Millwall!$AD114:$AO114,0)","v":{"$error":"#N/A"}},{"$f":"MATCH(U$4,Millwall!$AD114:$AO114,0)","v":7},{"$f":"MATCH(V$4,Millwall!$AD114:$AO114,0)","v":9},{"$f":"MATCH(W$4,Millwall!$AD114:$AO114,0)","v":{"$error":"#N/A"}},{"$f":"MATCH(X$4,Millwall!$AD114:$AO114,0)","v":5},{"$f":"MATCH(Y$4,Millwall!$AD114:$AO114,0)","v":10},{"$f":"MATCH(Z$4,Millwall!$AD114:$AO114,0)","v":3},{"$f":"MATCH(AA$4,Millwall!$AD114:$AO114,0)","v":1},{"$f":"MATCH(AB$4,Millwall!$AD114:$AO114,0)","v":12},{"$f":"MATCH(AC$4,Millwall!$AD114:$AO114,0)","v":{"$error":"#N/A"}},{"$f":"MATCH(AD$4,Millwall!$AD114:$AO114,0)","v":2},{"$f":"MATCH(AE$4,Millwall!$AD114:$AO114,0)","v":{"$error":"#N/A"}},{"$f":"MATCH(AF$4,Millwall!$AD114:$AO114,0)","v":{"$error":"#N/A"}},{"$f":"MATCH(AG$4,Millwall!$AD114:$AO114,0)","v":11},{"$f":"MATCH(AH$4,Millwall!$AD114:$AO114,0)","v":{"$error":"#N/A"}},{"$f":"MATCH(AI$4,Millwall!$AD114:$AO114,0)","v":{"$error":"#N/A"}},{"$f":"MATCH(AJ$4,Millwall!$AD114:$AO114,0)","v":{"$error":"#N/A"}},{"$f":"MATCH(AK$4,Millwall!$AD114:$AO114,0)","v":{"$error":"#N/A"}},{"$f":"MATCH(AL$4,Millwall!$AD114:$AO114,0)","v":{"$error":"#N/A"}},{"$f":"MATCH(AM$4,Millwall!$AD114:$AO114,0)","v":{"$error":"#N/A"}},{"$f":"MATCH(AN$4,Millwall!$AD114:$AO114,0)","v":{"$error":"#N/A"}},{"$f":"MATCH(AO$4,Millwall!$AD114:$AO114,0)","v":{"$error":"#N/A"}},{"$f":"MATCH(AP$4,Millwall!$AD114:$AO114,0)","v":{"$error":"#N/A"}},{"$f":"MATCH(AQ$4,Millwall!$AD114:$AO114,0)","v":{"$error":"#N/A"}},{"$f":"MATCH(AR$4,Millwall!$AB114:$AM114,0)","v":{"$error":"#N/A"}},null,null,null,null,null,{"$f":"MATCH(AX$3,Millwall!$AD114:$AO114,0)","v":{"$error":"#N/A"}},{"$f":"MATCH(AY$3,Millwall!$AD114:$AO114,0)","v":{"$error":"#N/A"}},{"$f":"MATCH(AZ$3,Millwall!$AD114:$AO114,0)","v":{"$error":"#N/A"}},{"$f":"MATCH(BA$3,Millwall!$AD114:$AO114,0)","v":{"$error":"#N/A"}},{"$f":"MATCH(BB$3,Millwall!$AD114:$AO114,0)","v":{"$error":"#N/A"}},{"$f":"MATCH(BC$3,Millwall!$AD114:$AO114,0)","v":{"$error":"#N/A"}},{"$f":"MATCH(BD$3,Millwall!$AD114:$AO114,0)","v":{"$error":"#N/A"}},{"$f":"MATCH(BE$3,Millwall!$AD114:$AO114,0)","v":{"$error":"#N/A"}},{"$f":"MATCH(BF$3,Millwall!$AD114:$AO114,0)","v":{"$error":"#N/A"}},{"$f":"MATCH(BG$3,Millwall!$AD114:$AO114,0)","v":{"$error":"#N/A"}},{"$f":"MATCH(BH$3,Millwall!$AD114:$AO114,0)","v":{"$error":"#N/A"}},{"$f":"MATCH(BI$3,Millwall!$AD114:$AO114,0)","v":{"$error":"#N/A"}},{"$f":"MATCH(BJ$3,Millwall!$AD114:$AO114,0)","v":{"$error":"#N/A"}},{"$f":"MATCH(BK$3,Millwall!$AD114:$AO114,0)","v":{"$error":"#N/A"}},{"$f":"MATCH(BL$3,Millwall!$AD114:$AO114,0)","v":{"$error":"#N/A"}},{"$f":"MATCH(BM$3,Millwall!$AD114:$AO114,0)","v":3},{"$f":"MATCH(BN$3,Millwall!$AD114:$AO114,0)","v":{"$error":"#N/A"}},{"$f":"MATCH(BO$3,Millwall!$AD114:$AO114,0)","v":12},{"$f":"MATCH(BP$3,Millwall!$AD114:$AO114,0)","v":{"$error":"#N/A"}},{"$f":"MATCH(BQ$3,Millwall!$AD114:$AO114,0)","v":{"$error":"#N/A"}},{"$f":"MATCH(BR$3,Millwall!$AD114:$AO114,0)","v":{"$error":"#N/A"}},{"$f":"MATCH(BS$3,Millwall!$AD114:$AO114,0)","v":{"$error":"#N/A"}},{"$f":"MATCH(BT$3,Millwall!$AD114:$AO114,0)","v":{"$error":"#N/A"}},{"$f":"MATCH(BU$3,Millwall!$AD114:$AO114,0)","v":{"$error":"#N/A"}},{"$f":"MATCH(BV$3,Millwall!$AD114:$AO114,0)","v":{"$error":"#N/A"}},{"$f":"MATCH(BW$3,Millwall!$AD114:$AO114,0)","v":{"$error":"#N/A"}},{"$f":"MATCH(BX$3,Millwall!$AD114:$AO114,0)","v":{"$error":"#N/A"}},{"$f":"MATCH(BY$3,Millwall!$AD114:$AO114,0)","v":{"$error":"#N/A"}},{"$f":"MATCH(BZ$3,Millwall!$AD114:$AO114,0)","v":{"$error":"#N/A"}},{"$f":"MATCH(CA$3,Millwall!$AD114:$AO114,0)","v":{"$error":"#N/A"}},{"$f":"MATCH(CB$3,Millwall!$AD114:$AO114,0)","v":{"$error":"#N/A"}},{"$f":"MATCH(CC$3,Millwall!$AD114:$AO114,0)","v":{"$error":"#N/A"}},{"$f":"MATCH(CD$3,Millwall!$AD114:$AO114,0)","v":{"$error":"#N/A"}},{"$f":"MATCH(CE$3,Millwall!$AD114:$AO114,0)","v":{"$error":"#N/A"}}]
[null,null,0,41,null,{"$f":"Millwall!Z115","v":"1984-04-27"},null,{"$f":"Millwall!AA115","v":"Scunthorpe"},{"$f":"Millwall!AB115","v":"(A)"},{"$f":"Millwall!AC115","v":"W 1-0"},{"$f":"MATCH(K$4,Millwall!$AD115:$AO115,0)","v":8},{"$f":"MATCH(L$4,Millwall!$AD115:$AO115,0)","v":{"$error":"#N/A"}},{"$f":"MATCH(M$4,Millwall!$AD115:$AO115,0)","v":2},{"$f":"MATCH(N$4,Millwall!$AD115:$AO115,0)","v":{"$error":"#N/A"}},{"$f":"MATCH(O$4,Millwall!$AD115:$AO115,0)","v":{"$error":"#N/A"}},{"$f":"MATCH(P$4,Millwall!$AD115:$AO115,0)","v":{"$error":"#N/A"}},{"$f":"MATCH(Q$4,Millwall!$AD115:$AO115,0)","v":4},{"$f":"MATCH(R$4,Millwall!$AD115:$AO115,0)","v":{"$error":"#N/A"}},{"$f":"MATCH(S$4,Millwall!$AD115:$AO115,0)","v":{"$error":"#N/A"}},{"$f":"MATCH(T$4,Millwall!$AD115:$AO115,0)","v":{"$error":"#N/A"}},{"$f":"MATCH(U$4,Millwall!$AD115:$AO115,0)","v":7},{"$f":"MATCH(V$4,Millwall!$AD115:$AO115,0)","v":9},{"$f":"MATCH(W$4,Millwall!$AD115:$AO115,0)","v":{"$error":"#N/A"}},{"$f":"MATCH(X$4,Millwall!$AD115:$AO115,0)","v":5},{"$f":"MATCH(Y$4,Millwall!$AD115:$AO115,0)","v":10},{"$f":"MATCH(Z$4,Millwall!$AD115:$AO115,0)","v":3},{"$f":"MATCH(AA$4,Millwall!$AD115:$AO115,0)","v":1},{"$f":"MATCH(AB$4,Millwall!$AD115:$AO115,0)","v":12},{"$f":"MATCH(AC$4,Millwall!$AD115:$AO115,0)","v":{"$error":"#N/A"}},{"$f":"MATCH(AD$4,Millwall!$AD115:$AO115,0)","v":6},{"$f":"MATCH(AE$4,Millwall!$AD115:$AO115,0)","v":{"$error":"#N/A"}},{"$f":"MATCH(AF$4,Millwall!$AD115:$AO115,0)","v":{"$error":"#N/A"}},{"$f":"MATCH(AG$4,Millwall!$AD115:$AO115,0)","v":11},{"$f":"MATCH(AH$4,Millwall!$AD115:$AO115,0)","v":{"$error":"#N/A"}},{"$f":"MATCH(AI$4,Millwall!$AD115:$AO115,0)","v":{"$error":"#N/A"}},{"$f":"MATCH(AJ$4,Millwall!$AD115:$AO115,0)","v":{"$error":"#N/A"}},{"$f":"MATCH(AK$4,Millwall!$AD115:$AO115,0)","v":{"$error":"#N/A"}},{"$f":"MATCH(AL$4,Millwall!$AD115:$AO115,0)","v":{"$error":"#N/A"}},{"$f":"MATCH(AM$4,Millwall!$AD115:$AO115,0)","v":{"$error":"#N/A"}},{"$f":"MATCH(AN$4,Millwall!$AD115:$AO115,0)","v":{"$error":"#N/A"}},{"$f":"MATCH(AO$4,Millwall!$AD115:$AO115,0)","v":{"$error":"#N/A"}},{"$f":"MATCH(AP$4,Millwall!$AD115:$AO115,0)","v":{"$error":"#N/A"}},{"$f":"MATCH(AQ$4,Millwall!$AD115:$AO115,0)","v":{"$error":"#N/A"}},{"$f":"MATCH(AR$4,Millwall!$AB115:$AM115,0)","v":{"$error":"#N/A"}},null,null,null,null,null,{"$f":"MATCH(AX$3,Millwall!$AD115:$AO115,0)","v":{"$error":"#N/A"}},{"$f":"MATCH(AY$3,Millwall!$AD115:$AO115,0)","v":{"$error":"#N/A"}},{"$f":"MATCH(AZ$3,Millwall!$AD115:$AO115,0)","v":{"$error":"#N/A"}},{"$f":"MATCH(BA$3,Millwall!$AD115:$AO115,0)","v":{"$error":"#N/A"}},{"$f":"MATCH(BB$3,Millwall!$AD115:$AO115,0)","v":{"$error":"#N/A"}},{"$f":"MATCH(BC$3,Millwall!$AD115:$AO115,0)","v":{"$error":"#N/A"}},{"$f":"MATCH(BD$3,Millwall!$AD115:$AO115,0)","v":{"$error":"#N/A"}},{"$f":"MATCH(BE$3,Millwall!$AD115:$AO115,0)","v":{"$error":"#N/A"}},{"$f":"MATCH(BF$3,Millwall!$AD115:$AO115,0)","v":{"$error":"#N/A"}},{"$f":"MATCH(BG$3,Millwall!$AD115:$AO115,0)","v":{"$error":"#N/A"}},{"$f":"MATCH(BH$3,Millwall!$AD115:$AO115,0)","v":{"$error":"#N/A"}},{"$f":"MATCH(BI$3,Millwall!$AD115:$AO115,0)","v":{"$error":"#N/A"}},{"$f":"MATCH(BJ$3,Millwall!$AD115:$AO115,0)","v":{"$error":"#N/A"}},{"$f":"MATCH(BK$3,Millwall!$AD115:$AO115,0)","v":{"$error":"#N/A"}},{"$f":"MATCH(BL$3,Millwall!$AD115:$AO115,0)","v":{"$error":"#N/A"}},{"$f":"MATCH(BM$3,Millwall!$AD115:$AO115,0)","v":{"$error":"#N/A"}},{"$f":"MATCH(BN$3,Millwall!$AD115:$AO115,0)","v":{"$error":"#N/A"}},{"$f":"MATCH(BO$3,Millwall!$AD115:$AO115,0)","v":{"$error":"#N/A"}},{"$f":"MATCH(BP$3,Millwall!$AD115:$AO115,0)","v":{"$error":"#N/A"}},{"$f":"MATCH(BQ$3,Millwall!$AD115:$AO115,0)","v":{"$error":"#N/A"}},{"$f":"MATCH(BR$3,Millwall!$AD115:$AO115,0)","v":{"$error":"#N/A"}},{"$f":"MATCH(BS$3,Millwall!$AD115:$AO115,0)","v":{"$error":"#N/A"}},{"$f":"MATCH(BT$3,Millwall!$AD115:$AO115,0)","v":{"$error":"#N/A"}},{"$f":"MATCH(BU$3,Millwall!$AD115:$AO115,0)","v":{"$error":"#N/A"}},{"$f":"MATCH(BV$3,Millwall!$AD115:$AO115,0)","v":{"$error":"#N/A"}},{"$f":"MATCH(BW$3,Millwall!$AD115:$AO115,0)","v":{"$error":"#N/A"}},{"$f":"MATCH(BX$3,Millwall!$AD115:$AO115,0)","v":{"$error":"#N/A"}},{"$f":"MATCH(BY$3,Millwall!$AD115:$AO115,0)","v":{"$error":"#N/A"}},{"$f":"MATCH(BZ$3,Millwall!$AD115:$AO115,0)","v":{"$error":"#N/A"}},{"$f":"MATCH(CA$3,Millwall!$AD115:$AO115,0)","v":{"$error":"#N/A"}},{"$f":"MATCH(CB$3,Millwall!$AD115:$AO115,0)","v":{"$error":"#N/A"}},{"$f":"MATCH(CC$3,Millwall!$AD115:$AO115,0)","v":{"$error":"#N/A"}},{"$f":"MATCH(CD$3,Millwall!$AD115:$AO115,0)","v":{"$error":"#N/A"}},{"$f":"MATCH(CE$3,Millwall!$AD115:$AO115,0)","v":{"$error":"#N/A"}}]
[null,null,0,42,null,{"$f":"Millwall!Z116","v":"1984-05-01"},null,{"$f":"Millwall!AA116","v":"Lincoln"},{"$f":"Millwall!AB116","v":"(H)"},{"$f":"Millwall!AC116","v":"L 0-2"},{"$f":"MATCH(K$4,Millwall!$AD116:$AO116,0)","v":8},{"$f":"MATCH(L$4,Millwall!$AD116:$AO116,0)","v":{"$error":"#N/A"}},{"$f":"MATCH(M$4,Millwall!$AD116:$AO116,0)","v":2},{"$f":"MATCH(N$4,Millwall!$AD116:$AO116,0)","v":{"$error":"#N/A"}},{"$f":"MATCH(O$4,Millwall!$AD116:$AO116,0)","v":{"$error":"#N/A"}},{"$f":"MATCH(P$4,Millwall!$AD116:$AO116,0)","v":{"$error":"#N/A"}},{"$f":"MATCH(Q$4,Millwall!$AD116:$AO116,0)","v":4},{"$f":"MATCH(R$4,Millwall!$AD116:$AO116,0)","v":{"$error":"#N/A"}},{"$f":"MATCH(S$4,Millwall!$AD116:$AO116,0)","v":{"$error":"#N/A"}},{"$f":"MATCH(T$4,Millwall!$AD116:$AO116,0)","v":{"$error":"#N/A"}},{"$f":"MATCH(U$4,Millwall!$AD116:$AO116,0)","v":7},{"$f":"MATCH(V$4,Millwall!$AD116:$AO116,0)","v":9},{"$f":"MATCH(W$4,Millwall!$AD116:$AO116,0)","v":12},{"$f":"MATCH(X$4,Millwall!$AD116:$AO116,0)","v":5},{"$f":"MATCH(Y$4,Millwall!$AD116:$AO116,0)","v":10},{"$f":"MATCH(Z$4,Millwall!$AD116:$AO116,0)","v":3},{"$f":"MATCH(AA$4,Millwall!$AD116:$AO116,0)","v":1},{"$f":"MATCH(AB$4,Millwall!$AD116:$AO116,0)","v":{"$error":"#N/A"}},{"$f":"MATCH(AC$4,Millwall!$AD116:$AO116,0)","v":{"$error":"#N/A"}},{"$f":"MATCH(AD$4,Millwall!$AD116:$AO116,0)","v":6},{"$f":"MATCH(AE$4,Millwall!$AD116:$AO116,0)","v":{"$error":"#N/A"}},{"$f":"MATCH(AF$4,Millwall!$AD116:$AO116,0)","v":{"$error":"#N/A"}},{"$f":"MATCH(AG$4,Millwall!$AD116:$AO116,0)","v":11},{"$f":"MATCH(AH$4,Millwall!$AD116:$AO116,0)","v":{"$error":"#N/A"}},{"$f":"MATCH(AI$4,Millwall!$AD116:$AO116,0)","v":{"$error":"#N/A"}},{"$f":"MATCH(AJ$4,Millwall!$AD116:$AO116,0)","v":{"$error":"#N/A"}},{"$f":"MATCH(AK$4,Millwall!$AD116:$AO116,0)","v":{"$error":"#N/A"}},{"$f":"MATCH(AL$4,Millwall!$AD116:$AO116,0)","v":{"$error":"#N/A"}},{"$f":"MATCH(AM$4,Millwall!$AD116:$AO116,0)","v":{"$error":"#N/A"}},{"$f":"MATCH(AN$4,Millwall!$AD116:$AO116,0)","v":{"$error":"#N/A"}},{"$f":"MATCH(AO$4,Millwall!$AD116:$AO116,0)","v":{"$error":"#N/A"}},{"$f":"MATCH(AP$4,Millwall!$AD116:$AO116,0)","v":{"$error":"#N/A"}},{"$f":"MATCH(AQ$4,Millwall!$AD116:$AO116,0)","v":{"$error":"#N/A"}},{"$f":"MATCH(AR$4,Millwall!$AB116:$AM116,0)","v":{"$error":"#N/A"}},null,null,null,null,null,{"$f":"MATCH(AX$3,Millwall!$AD116:$AO116,0)","v":{"$error":"#N/A"}},{"$f":"MATCH(AY$3,Millwall!$AD116:$AO116,0)","v":{"$error":"#N/A"}},{"$f":"MATCH(AZ$3,Millwall!$AD116:$AO116,0)","v":{"$error":"#N/A"}},{"$f":"MATCH(BA$3,Millwall!$AD116:$AO116,0)","v":{"$error":"#N/A"}},{"$f":"MATCH(BB$3,Millwall!$AD116:$AO116,0)","v":{"$error":"#N/A"}},{"$f":"MATCH(BC$3,Millwall!$AD116:$AO116,0)","v":{"$error":"#N/A"}},{"$f":"MATCH(BD$3,Millwall!$AD116:$AO116,0)","v":{"$error":"#N/A"}},{"$f":"MATCH(BE$3,Millwall!$AD116:$AO116,0)","v":{"$error":"#N/A"}},{"$f":"MATCH(BF$3,Millwall!$AD116:$AO116,0)","v":{"$error":"#N/A"}},{"$f":"MATCH(BG$3,Millwall!$AD116:$AO116,0)","v":{"$error":"#N/A"}},{"$f":"MATCH(BH$3,Millwall!$AD116:$AO116,0)","v":{"$error":"#N/A"}},{"$f":"MATCH(BI$3,Millwall!$AD116:$AO116,0)","v":{"$error":"#N/A"}},{"$f":"MATCH(BJ$3,Millwall!$AD116:$AO116,0)","v":{"$error":"#N/A"}},{"$f":"MATCH(BK$3,Millwall!$AD116:$AO116,0)","v":{"$error":"#N/A"}},{"$f":"MATCH(BL$3,Millwall!$AD116:$AO116,0)","v":{"$error":"#N/A"}},{"$f":"MATCH(BM$3,Millwall!$AD116:$AO116,0)","v":{"$error":"#N/A"}},{"$f":"MATCH(BN$3,Millwall!$AD116:$AO116,0)","v":{"$error":"#N/A"}},{"$f":"MATCH(BO$3,Millwall!$AD116:$AO116,0)","v":{"$error":"#N/A"}},{"$f":"MATCH(BP$3,Millwall!$AD116:$AO116,0)","v":{"$error":"#N/A"}},{"$f":"MATCH(BQ$3,Millwall!$AD116:$AO116,0)","v":{"$error":"#N/A"}},{"$f":"MATCH(BR$3,Millwall!$AD116:$AO116,0)","v":{"$error":"#N/A"}},{"$f":"MATCH(BS$3,Millwall!$AD116:$AO116,0)","v":{"$error":"#N/A"}},{"$f":"MATCH(BT$3,Millwall!$AD116:$AO116,0)","v":{"$error":"#N/A"}},{"$f":"MATCH(BU$3,Millwall!$AD116:$AO116,0)","v":{"$error":"#N/A"}},{"$f":"MATCH(BV$3,Millwall!$AD116:$AO116,0)","v":{"$error":"#N/A"}},{"$f":"MATCH(BW$3,Millwall!$AD116:$AO116,0)","v":{"$error":"#N/A"}},{"$f":"MATCH(BX$3,Millwall!$AD116:$AO116,0)","v":{"$error":"#N/A"}},{"$f":"MATCH(BY$3,Millwall!$AD116:$AO116,0)","v":{"$error":"#N/A"}},{"$f":"MATCH(BZ$3,Millwall!$AD116:$AO116,0)","v":{"$error":"#N/A"}},{"$f":"MATCH(CA$3,Millwall!$AD116:$AO116,0)","v":{"$error":"#N/A"}},{"$f":"MATCH(CB$3,Millwall!$AD116:$AO116,0)","v":{"$error":"#N/A"}},{"$f":"MATCH(CC$3,Millwall!$AD116:$AO116,0)","v":{"$error":"#N/A"}},{"$f":"MATCH(CD$3,Millwall!$AD116:$AO116,0)","v":{"$error":"#N/A"}},{"$f":"MATCH(CE$3,Millwall!$AD116:$AO116,0)","v":{"$error":"#N/A"}}]
[null,null,0,43,null,{"$f":"Millwall!Z117","v":"1984-05-05"},null,{"$f":"Millwall!AA117","v":"Bolton"},{"$f":"Millwall!AB117","v":"(H)"},{"$f":"Millwall!AC117","v":"W 3-0"},{"$f":"MATCH(K$4,Millwall!$AD117:$AO117,0)","v":8},{"$f":"MATCH(L$4,Millwall!$AD117:$AO117,0)","v":{"$error":"#N/A"}},{"$f":"MATCH(M$4,Millwall!$AD117:$AO117,0)","v":12},{"$f":"MATCH(N$4,Millwall!$AD117:$AO117,0)","v":{"$error":"#N/A"}},{"$f":"MATCH(O$4,Millwall!$AD117:$AO117,0)","v":{"$error":"#N/A"}},{"$f":"MATCH(P$4,Millwall!$AD117:$AO117,0)","v":6},{"$f":"MATCH(Q$4,Millwall!$AD117:$AO117,0)","v":4},{"$f":"MATCH(R$4,Millwall!$AD117:$AO117,0)","v":{"$error":"#N/A"}},{"$f":"MATCH(S$4,Millwall!$AD117:$AO117,0)","v":{"$error":"#N/A"}},{"$f":"MATCH(T$4,Millwall!$AD117:$AO117,0)","v":{"$error":"#N/A"}},{"$f":"MATCH(U$4,Millwall!$AD117:$AO117,0)","v":7},{"$f":"MATCH(V$4,Millwall!$AD117:$AO117,0)","v":9},{"$f":"MATCH(W$4,Millwall!$AD117:$AO117,0)","v":{"$error":"#N/A"}},{"$f":"MATCH(X$4,Millwall!$AD117:$AO117,0)","v":5},{"$f":"MATCH(Y$4,Millwall!$AD117:$AO117,0)","v":10},{"$f":"MATCH(Z$4,Millwall!$AD117:$AO117,0)","v":3},{"$f":"MATCH(AA$4,Millwall!$AD117:$AO117,0)","v":1},{"$f":"MATCH(AB$4,Millwall!$AD117:$AO117,0)","v":{"$error":"#N/A"}},{"$f":"MATCH(AC$4,Millwall!$AD117:$AO117,0)","v":{"$error":"#N/A"}},{"$f":"MATCH(AD$4,Millwall!$AD117:$AO117,0)","v":2},{"$f":"MATCH(AE$4,Millwall!$AD117:$AO117,0)","v":{"$error":"#N/A"}},{"$f":"MATCH(AF$4,Millwall!$AD117:$AO117,0)","v":{"$error":"#N/A"}},{"$f":"MATCH(AG$4,Millwall!$AD117:$AO117,0)","v":11},{"$f":"MATCH(AH$4,Millwall!$AD117:$AO117,0)","v":{"$error":"#N/A"}},{"$f":"MATCH(AI$4,Millwall!$AD117:$AO117,0)","v":{"$error":"#N/A"}},{"$f":"MATCH(AJ$4,Millwall!$AD117:$AO117,0)","v":{"$error":"#N/A"}},{"$f":"MATCH(AK$4,Millwall!$AD117:$AO117,0)","v":{"$error":"#N/A"}},{"$f":"MATCH(AL$4,Millwall!$AD117:$AO117,0)","v":{"$error":"#N/A"}},{"$f":"MATCH(AM$4,Millwall!$AD117:$AO117,0)","v":{"$error":"#N/A"}},{"$f":"MATCH(AN$4,Millwall!$AD117:$AO117,0)","v":{"$error":"#N/A"}},{"$f":"MATCH(AO$4,Millwall!$AD117:$AO117,0)","v":{"$error":"#N/A"}},{"$f":"MATCH(AP$4,Millwall!$AD117:$AO117,0)","v":{"$error":"#N/A"}},{"$f":"MATCH(AQ$4,Millwall!$AD117:$AO117,0)","v":{"$error":"#N/A"}},{"$f":"MATCH(AR$4,Millwall!$AB117:$AM117,0)","v":{"$error":"#N/A"}},null,null,null,null,null,{"$f":"MATCH(AX$3,Millwall!$AD117:$AO117,0)","v":{"$error":"#N/A"}},{"$f":"MATCH(AY$3,Millwall!$AD117:$AO117,0)","v":{"$error":"#N/A"}},{"$f":"MATCH(AZ$3,Millwall!$AD117:$AO117,0)","v":{"$error":"#N/A"}},{"$f":"MATCH(BA$3,Millwall!$AD117:$AO117,0)","v":{"$error":"#N/A"}},{"$f":"MATCH(BB$3,Millwall!$AD117:$AO117,0)","v":{"$error":"#N/A"}},{"$f":"MATCH(BC$3,Millwall!$AD117:$AO117,0)","v":{"$error":"#N/A"}},{"$f":"MATCH(BD$3,Millwall!$AD117:$AO117,0)","v":{"$error":"#N/A"}},{"$f":"MATCH(BE$3,Millwall!$AD117:$AO117,0)","v":{"$error":"#N/A"}},{"$f":"MATCH(BF$3,Millwall!$AD117:$AO117,0)","v":{"$error":"#N/A"}},{"$f":"MATCH(BG$3,Millwall!$AD117:$AO117,0)","v":{"$error":"#N/A"}},{"$f":"MATCH(BH$3,Millwall!$AD117:$AO117,0)","v":{"$error":"#N/A"}},{"$f":"MATCH(BI$3,Millwall!$AD117:$AO117,0)","v":{"$error":"#N/A"}},{"$f":"MATCH(BJ$3,Millwall!$AD117:$AO117,0)","v":{"$error":"#N/A"}},{"$f":"MATCH(BK$3,Millwall!$AD117:$AO117,0)","v":{"$error":"#N/A"}},{"$f":"MATCH(BL$3,Millwall!$AD117:$AO117,0)","v":{"$error":"#N/A"}},{"$f":"MATCH(BM$3,Millwall!$AD117:$AO117,0)","v":{"$error":"#N/A"}},{"$f":"MATCH(BN$3,Millwall!$AD117:$AO117,0)","v":{"$error":"#N/A"}},{"$f":"MATCH(BO$3,Millwall!$AD117:$AO117,0)","v":{"$error":"#N/A"}},{"$f":"MATCH(BP$3,Millwall!$AD117:$AO117,0)","v":{"$error":"#N/A"}},{"$f":"MATCH(BQ$3,Millwall!$AD117:$AO117,0)","v":{"$error":"#N/A"}},{"$f":"MATCH(BR$3,Millwall!$AD117:$AO117,0)","v":{"$error":"#N/A"}},{"$f":"MATCH(BS$3,Millwall!$AD117:$AO117,0)","v":{"$error":"#N/A"}},{"$f":"MATCH(BT$3,Millwall!$AD117:$AO117,0)","v":{"$error":"#N/A"}},{"$f":"MATCH(BU$3,Millwall!$AD117:$AO117,0)","v":{"$error":"#N/A"}},{"$f":"MATCH(BV$3,Millwall!$AD117:$AO117,0)","v":{"$error":"#N/A"}},{"$f":"MATCH(BW$3,Millwall!$AD117:$AO117,0)","v":{"$error":"#N/A"}},{"$f":"MATCH(BX$3,Millwall!$AD117:$AO117,0)","v":{"$error":"#N/A"}},{"$f":"MATCH(BY$3,Millwall!$AD117:$AO117,0)","v":{"$error":"#N/A"}},{"$f":"MATCH(BZ$3,Millwall!$AD117:$AO117,0)","v":{"$error":"#N/A"}},{"$f":"MATCH(CA$3,Millwall!$AD117:$AO117,0)","v":{"$error":"#N/A"}},{"$f":"MATCH(CB$3,Millwall!$AD117:$AO117,0)","v":{"$error":"#N/A"}},{"$f":"MATCH(CC$3,Millwall!$AD117:$AO117,0)","v":{"$error":"#N/A"}},{"$f":"MATCH(CD$3,Millwall!$AD117:$AO117,0)","v":{"$error":"#N/A"}},{"$f":"MATCH(CE$3,Millwall!$AD117:$AO117,0)","v":{"$error":"#N/A"}}]
[null,null,0,44,null,{"$f":"Millwall!Z118","v":"1984-05-08"},null,{"$f":"Millwall!AA118","v":"Bristol R"},{"$f":"Millwall!AB118","v":"(A)"},{"$f":"Millwall!AC118","v":"L 2-3"},{"$f":"MATCH(K$4,Millwall!$AD118:$AO118,0)","v":8},{"$f":"MATCH(L$4,Millwall!$AD118:$AO118,0)","v":{"$error":"#N/A"}},{"$f":"MATCH(M$4,Millwall!$AD118:$AO118,0)","v":12},{"$f":"MATCH(N$4,Millwall!$AD118:$AO118,0)","v":{"$error":"#N/A"}},{"$f":"MATCH(O$4,Millwall!$AD118:$AO118,0)","v":{"$error":"#N/A"}},{"$f":"MATCH(P$4,Millwall!$AD118:$AO118,0)","v":6},{"$f":"MATCH(Q$4,Millwall!$AD118:$AO118,0)","v":4},{"$f":"MATCH(R$4,Millwall!$AD118:$AO118,0)","v":{"$error":"#N/A"}},{"$f":"MATCH(S$4,Millwall!$AD118:$AO118,0)","v":{"$error":"#N/A"}},{"$f":"MATCH(T$4,Millwall!$AD118:$AO118,0)","v":{"$error":"#N/A"}},{"$f":"MATCH(U$4,Millwall!$AD118:$AO118,0)","v":7},{"$f":"MATCH(V$4,Millwall!$AD118:$AO118,0)","v":9},{"$f":"MATCH(W$4,Millwall!$AD118:$AO118,0)","v":{"$error":"#N/A"}},{"$f":"MATCH(X$4,Millwall!$AD118:$AO118,0)","v":5},{"$f":"MATCH(Y$4,Millwall!$AD118:$AO118,0)","v":10},{"$f":"MATCH(Z$4,Millwall!$AD118:$AO118,0)","v":3},{"$f":"MATCH(AA$4,Millwall!$AD118:$AO118,0)","v":1},{"$f":"MATCH(AB$4,Millwall!$AD118:$AO118,0)","v":{"$error":"#N/A"}},{"$f":"MATCH(AC$4,Millwall!$AD118:$AO118,0)","v":{"$error":"#N/A"}},{"$f":"MATCH(AD$4,Millwall!$AD118:$AO118,0)","v":2},{"$f":"MATCH(AE$4,Millwall!$AD118:$AO118,0)","v":{"$error":"#N/A"}},{"$f":"MATCH(AF$4,Millwall!$AD118:$AO118,0)","v":{"$error":"#N/A"}},{"$f":"MATCH(AG$4,Millwall!$AD118:$AO118,0)","v":11},{"$f":"MATCH(AH$4,Millwall!$AD118:$AO118,0)","v":{"$error":"#N/A"}},{"$f":"MATCH(AI$4,Millwall!$AD118:$AO118,0)","v":{"$error":"#N/A"}},{"$f":"MATCH(AJ$4,Millwall!$AD118:$AO118,0)","v":{"$error":"#N/A"}},{"$f":"MATCH(AK$4,Millwall!$AD118:$AO118,0)","v":{"$error":"#N/A"}},{"$f":"MATCH(AL$4,Millwall!$AD118:$AO118,0)","v":{"$error":"#N/A"}},{"$f":"MATCH(AM$4,Millwall!$AD118:$AO118,0)","v":{"$error":"#N/A"}},{"$f":"MATCH(AN$4,Millwall!$AD118:$AO118,0)","v":{"$error":"#N/A"}},{"$f":"MATCH(AO$4,Millwall!$AD118:$AO118,0)","v":{"$error":"#N/A"}},{"$f":"MATCH(AP$4,Millwall!$AD118:$AO118,0)","v":{"$error":"#N/A"}},{"$f":"MATCH(AQ$4,Millwall!$AD118:$AO118,0)","v":{"$error":"#N/A"}},{"$f":"MATCH(AR$4,Millwall!$AB118:$AM118,0)","v":{"$error":"#N/A"}},null,null,null,null,null,{"$f":"MATCH(AX$3,Millwall!$AD118:$AO118,0)","v":{"$error":"#N/A"}},{"$f":"MATCH(AY$3,Millwall!$AD118:$AO118,0)","v":{"$error":"#N/A"}},{"$f":"MATCH(AZ$3,Millwall!$AD118:$AO118,0)","v":{"$error":"#N/A"}},{"$f":"MATCH(BA$3,Millwall!$AD118:$AO118,0)","v":{"$error":"#N/A"}},{"$f":"MATCH(BB$3,Millwall!$AD118:$AO118,0)","v":{"$error":"#N/A"}},{"$f":"MATCH(BC$3,Millwall!$AD118:$AO118,0)","v":{"$error":"#N/A"}},{"$f":"MATCH(BD$3,Millwall!$AD118:$AO118,0)","v":{"$error":"#N/A"}},{"$f":"MATCH(BE$3,Millwall!$AD118:$AO118,0)","v":{"$error":"#N/A"}},{"$f":"MATCH(BF$3,Millwall!$AD118:$AO118,0)","v":{"$error":"#N/A"}},{"$f":"MATCH(BG$3,Millwall!$AD118:$AO118,0)","v":{"$error":"#N/A"}},{"$f":"MATCH(BH$3,Millwall!$AD118:$AO118,0)","v":{"$error":"#N/A"}},{"$f":"MATCH(BI$3,Millwall!$AD118:$AO118,0)","v":{"$error":"#N/A"}},{"$f":"MATCH(BJ$3,Millwall!$AD118:$AO118,0)","v":{"$error":"#N/A"}},{"$f":"MATCH(BK$3,Millwall!$AD118:$AO118,0)","v":{"$error":"#N/A"}},{"$f":"MATCH(BL$3,Millwall!$AD118:$AO118,0)","v":{"$error":"#N/A"}},{"$f":"MATCH(BM$3,Millwall!$AD118:$AO118,0)","v":{"$error":"#N/A"}},{"$f":"MATCH(BN$3,Millwall!$AD118:$AO118,0)","v":{"$error":"#N/A"}},{"$f":"MATCH(BO$3,Millwall!$AD118:$AO118,0)","v":{"$error":"#N/A"}},{"$f":"MATCH(BP$3,Millwall!$AD118:$AO118,0)","v":{"$error":"#N/A"}},{"$f":"MATCH(BQ$3,Millwall!$AD118:$AO118,0)","v":{"$error":"#N/A"}},{"$f":"MATCH(BR$3,Millwall!$AD118:$AO118,0)","v":{"$error":"#N/A"}},{"$f":"MATCH(BS$3,Millwall!$AD118:$AO118,0)","v":{"$error":"#N/A"}},{"$f":"MATCH(BT$3,Millwall!$AD118:$AO118,0)","v":{"$error":"#N/A"}},{"$f":"MATCH(BU$3,Millwall!$AD118:$AO118,0)","v":{"$error":"#N/A"}},{"$f":"MATCH(BV$3,Millwall!$AD118:$AO118,0)","v":{"$error":"#N/A"}},{"$f":"MATCH(BW$3,Millwall!$AD118:$AO118,0)","v":{"$error":"#N/A"}},{"$f":"MATCH(BX$3,Millwall!$AD118:$AO118,0)","v":{"$error":"#N/A"}},{"$f":"MATCH(BY$3,Millwall!$AD118:$AO118,0)","v":{"$error":"#N/A"}},{"$f":"MATCH(BZ$3,Millwall!$AD118:$AO118,0)","v":{"$error":"#N/A"}},{"$f":"MATCH(CA$3,Millwall!$AD118:$AO118,0)","v":{"$error":"#N/A"}},{"$f":"MATCH(CB$3,Millwall!$AD118:$AO118,0)","v":{"$error":"#N/A"}},{"$f":"MATCH(CC$3,Millwall!$AD118:$AO118,0)","v":{"$error":"#N/A"}},{"$f":"MATCH(CD$3,Millwall!$AD118:$AO118,0)","v":{"$error":"#N/A"}},{"$f":"MATCH(CE$3,Millwall!$AD118:$AO118,0)","v":{"$error":"#N/A"}}]
[null,null,0,45,null,{"$f":"Millwall!Z119","v":"1984-05-12"},null,{"$f":"Millwall!AA119","v":"Exeter"},{"$f":"Millwall!AB119","v":"(H)"},{"$f":"Millwall!AC119","v":"W 3-0"},{"$f":"MATCH(K$4,Millwall!$AD119:$AO119,0)","v":8},{"$f":"MATCH(L$4,Millwall!$AD119:$AO119,0)","v":{"$error":"#N/A"}},{"$f":"MATCH(M$4,Millwall!$AD119:$AO119,0)","v":7},{"$f":"MATCH(N$4,Millwall!$AD119:$AO119,0)","v":{"$error":"#N/A"}},{"$f":"MATCH(O$4,Millwall!$AD119:$AO119,0)","v":{"$error":"#N/A"}},{"$f":"MATCH(P$4,Millwall!$AD119:$AO119,0)","v":6},{"$f":"MATCH(Q$4,Millwall!$AD119:$AO119,0)","v":4},{"$f":"MATCH(R$4,Millwall!$AD119:$AO119,0)","v":{"$error":"#N/A"}},{"$f":"MATCH(S$4,Millwall!$AD119:$AO119,0)","v":{"$error":"#N/A"}},{"$f":"MATCH(T$4,Millwall!$AD119:$AO119,0)","v":{"$error":"#N/A"}},{"$f":"MATCH(U$4,Millwall!$AD119:$AO119,0)","v":12},{"$f":"MATCH(V$4,Millwall!$AD119:$AO119,0)","v":9},{"$f":"MATCH(W$4,Millwall!$AD119:$AO119,0)","v":{"$error":"#N/A"}},{"$f":"MATCH(X$4,Millwall!$AD119:$AO119,0)","v":5},{"$f":"MATCH(Y$4,Millwall!$AD119:$AO119,0)","v":10},{"$f":"MATCH(Z$4,Millwall!$AD119:$AO119,0)","v":3},{"$f":"MATCH(AA$4,Millwall!$AD119:$AO119,0)","v":1},{"$f":"MATCH(AB$4,Millwall!$AD119:$AO119,0)","v":{"$error":"#N/A"}},{"$f":"MATCH(AC$4,Millwall!$AD119:$AO119,0)","v":{"$error":"#N/A"}},{"$f":"MATCH(AD$4,Millwall!$AD119:$AO119,0)","v":2},{"$f":"MATCH(AE$4,Millwall!$AD119:$AO119,0)","v":{"$error":"#N/A"}},{"$f":"MATCH(AF$4,Millwall!$AD119:$AO119,0)","v":{"$error":"#N/A"}},{"$f":"MATCH(AG$4,Millwall!$AD119:$AO119,0)","v":11},{"$f":"MATCH(AH$4,Millwall!$AD119:$AO119,0)","v":{"$error":"#N/A"}},{"$f":"MATCH(AI$4,Millwall!$AD119:$AO119,0)","v":{"$error":"#N/A"}},{"$f":"MATCH(AJ$4,Millwall!$AD119:$AO119,0)","v":{"$error":"#N/A"}},{"$f":"MATCH(AK$4,Millwall!$AD119:$AO119,0)","v":{"$error":"#N/A"}},{"$f":"MATCH(AL$4,Millwall!$AD119:$AO119,0)","v":{"$error":"#N/A"}},{"$f":"MATCH(AM$4,Millwall!$AD119:$AO119,0)","v":{"$error":"#N/A"}},{"$f":"MATCH(AN$4,Millwall!$AD119:$AO119,0)","v":{"$error":"#N/A"}},{"$f":"MATCH(AO$4,Millwall!$AD119:$AO119,0)","v":{"$error":"#N/A"}},{"$f":"MATCH(AP$4,Millwall!$AD119:$AO119,0)","v":{"$error":"#N/A"}},{"$f":"MATCH(AQ$4,Millwall!$AD119:$AO119,0)","v":{"$error":"#N/A"}},{"$f":"MATCH(AR$4,Millwall!$AB119:$AM119,0)","v":{"$error":"#N/A"}},null,null,null,null,null,{"$f":"MATCH(AX$3,Millwall!$AD119:$AO119,0)","v":{"$error":"#N/A"}},{"$f":"MATCH(AY$3,Millwall!$AD119:$AO119,0)","v":{"$error":"#N/A"}},{"$f":"MATCH(AZ$3,Millwall!$AD119:$AO119,0)","v":7},{"$f":"MATCH(BA$3,Millwall!$AD119:$AO119,0)","v":{"$error":"#N/A"}},{"$f":"MATCH(BB$3,Millwall!$AD119:$AO119,0)","v":{"$error":"#N/A"}},{"$f":"MATCH(BC$3,Millwall!$AD119:$AO119,0)","v":{"$error":"#N/A"}},{"$f":"MATCH(BD$3,Millwall!$AD119:$AO119,0)","v":{"$error":"#N/A"}},{"$f":"MATCH(BE$3,Millwall!$AD119:$AO119,0)","v":{"$error":"#N/A"}},{"$f":"MATCH(BF$3,Millwall!$AD119:$AO119,0)","v":{"$error":"#N/A"}},{"$f":"MATCH(BG$3,Millwall!$AD119:$AO119,0)","v":{"$error":"#N/A"}},{"$f":"MATCH(BH$3,Millwall!$AD119:$AO119,0)","v":12},{"$f":"MATCH(BI$3,Millwall!$AD119:$AO119,0)","v":{"$error":"#N/A"}},{"$f":"MATCH(BJ$3,Millwall!$AD119:$AO119,0)","v":{"$error":"#N/A"}},{"$f":"MATCH(BK$3,Millwall!$AD119:$AO119,0)","v":{"$error":"#N/A"}},{"$f":"MATCH(BL$3,Millwall!$AD119:$AO119,0)","v":{"$error":"#N/A"}},{"$f":"MATCH(BM$3,Millwall!$AD119:$AO119,0)","v":{"$error":"#N/A"}},{"$f":"MATCH(BN$3,Millwall!$AD119:$AO119,0)","v":{"$error":"#N/A"}},{"$f":"MATCH(BO$3,Millwall!$AD119:$AO119,0)","v":{"$error":"#N/A"}},{"$f":"MATCH(BP$3,Millwall!$AD119:$AO119,0)","v":{"$error":"#N/A"}},{"$f":"MATCH(BQ$3,Millwall!$AD119:$AO119,0)","v":{"$error":"#N/A"}},{"$f":"MATCH(BR$3,Millwall!$AD119:$AO119,0)","v":{"$error":"#N/A"}},{"$f":"MATCH(BS$3,Millwall!$AD119:$AO119,0)","v":{"$error":"#N/A"}},{"$f":"MATCH(BT$3,Millwall!$AD119:$AO119,0)","v":{"$error":"#N/A"}},{"$f":"MATCH(BU$3,Millwall!$AD119:$AO119,0)","v":{"$error":"#N/A"}},{"$f":"MATCH(BV$3,Millwall!$AD119:$AO119,0)","v":{"$error":"#N/A"}},{"$f":"MATCH(BW$3,Millwall!$AD119:$AO119,0)","v":{"$error":"#N/A"}},{"$f":"MATCH(BX$3,Millwall!$AD119:$AO119,0)","v":{"$error":"#N/A"}},{"$f":"MATCH(BY$3,Millwall!$AD119:$AO119,0)","v":{"$error":"#N/A"}},{"$f":"MATCH(BZ$3,Millwall!$AD119:$AO119,0)","v":{"$error":"#N/A"}},{"$f":"MATCH(CA$3,Millwall!$AD119:$AO119,0)","v":{"$error":"#N/A"}},{"$f":"MATCH(CB$3,Millwall!$AD119:$AO119,0)","v":{"$error":"#N/A"}},{"$f":"MATCH(CC$3,Millwall!$AD119:$AO119,0)","v":{"$error":"#N/A"}},{"$f":"MATCH(CD$3,Millwall!$AD119:$AO119,0)","v":{"$error":"#N/A"}},{"$f":"MATCH(CE$3,Millwall!$AD119:$AO119,0)","v":{"$error":"#N/A"}}]
[null,null,{"$f":"IF(J50=0,1,0)","v":0},46,null,{"$f":"Millwall!Z120","v":"1984-05-14"},null,{"$f":"Millwall!AA120","v":"Port Vale"},{"$f":"Millwall!AB120","v":"(A)"},{"$f":"Millwall!AC120","v":"L 0-1"},{"$f":"MATCH(K$4,Millwall!$AD120:$AO120,0)","v":8},{"$f":"MATCH(L$4,Millwall!$AD120:$AO120,0)","v":{"$error":"#N/A"}},{"$f":"MATCH(M$4,Millwall!$AD120:$AO120,0)","v":7},{"$f":"MATCH(N$4,Millwall!$AD120:$AO120,0)","v":{"$error":"#N/A"}},{"$f":"MATCH(O$4,Millwall!$AD120:$AO120,0)","v":{"$error":"#N/A"}},{"$f":"MATCH(P$4,Millwall!$AD120:$AO120,0)","v":6},{"$f":"MATCH(Q$4,Millwall!$AD120:$AO120,0)","v":4},{"$f":"MATCH(R$4,Millwall!$AD120:$AO120,0)","v":{"$error":"#N/A"}},{"$f":"MATCH(S$4,Millwall!$AD120:$AO120,0)","v":{"$error":"#N/A"}},{"$f":"MATCH(T$4,Millwall!$AD120:$AO120,0)","v":{"$error":"#N/A"}},{"$f":"MATCH(U$4,Millwall!$AD120:$AO120,0)","v":12},{"$f":"MATCH(V$4,Millwall!$AD120:$AO120,0)","v":9},{"$f":"MATCH(W$4,Millwall!$AD120:$AO120,0)","v":{"$error":"#N/A"}},{"$f":"MATCH(X$4,Millwall!$AD120:$AO120,0)","v":5},{"$f":"MATCH(Y$4,Millwall!$AD120:$AO120,0)","v":10},{"$f":"MATCH(Z$4,Millwall!$AD120:$AO120,0)","v":3},{"$f":"MATCH(AA$4,Millwall!$AD120:$AO120,0)","v":1},{"$f":"MATCH(AB$4,Millwall!$AD120:$AO120,0)","v":{"$error":"#N/A"}},{"$f":"MATCH(AC$4,Millwall!$AD120:$AO120,0)","v":{"$error":"#N/A"}},{"$f":"MATCH(AD$4,Millwall!$AD120:$AO120,0)","v":2},{"$f":"MATCH(AE$4,Millwall!$AD120:$AO120,0)","v":{"$error":"#N/A"}},{"$f":"MATCH(AF$4,Millwall!$AD120:$AO120,0)","v":{"$error":"#N/A"}},{"$f":"MATCH(AG$4,Millwall!$AD120:$AO120,0)","v":11},{"$f":"MATCH(AH$4,Millwall!$AD120:$AO120,0)","v":{"$error":"#N/A"}},{"$f":"MATCH(AI$4,Millwall!$AD120:$AO120,0)","v":{"$error":"#N/A"}},{"$f":"MATCH(AJ$4,Millwall!$AD120:$AO120,0)","v":{"$error":"#N/A"}},{"$f":"MATCH(AK$4,Millwall!$AD120:$AO120,0)","v":{"$error":"#N/A"}},{"$f":"MATCH(AL$4,Millwall!$AD120:$AO120,0)","v":{"$error":"#N/A"}},{"$f":"MATCH(AM$4,Millwall!$AD120:$AO120,0)","v":{"$error":"#N/A"}},{"$f":"MATCH(AN$4,Millwall!$AD120:$AO120,0)","v":{"$error":"#N/A"}},{"$f":"MATCH(AO$4,Millwall!$AD120:$AO120,0)","v":{"$error":"#N/A"}},{"$f":"MATCH(AP$4,Millwall!$AD120:$AO120,0)","v":{"$error":"#N/A"}},{"$f":"MATCH(AQ$4,Millwall!$AD120:$AO120,0)","v":{"$error":"#N/A"}},{"$f":"MATCH(AR$4,Millwall!$AB120:$AM120,0)","v":{"$error":"#N/A"}},null,null,null,null,null,{"$f":"MATCH(AX$3,Millwall!$AD120:$AO120,0)","v":{"$error":"#N/A"}},{"$f":"MATCH(AY$3,Millwall!$AD120:$AO120,0)","v":{"$error":"#N/A"}},{"$f":"MATCH(AZ$3,Millwall!$AD120:$AO120,0)","v":{"$error":"#N/A"}},{"$f":"MATCH(BA$3,Millwall!$AD120:$AO120,0)","v":{"$error":"#N/A"}},{"$f":"MATCH(BB$3,Millwall!$AD120:$AO120,0)","v":{"$error":"#N/A"}},{"$f":"MATCH(BC$3,Millwall!$AD120:$AO120,0)","v":{"$error":"#N/A"}},{"$f":"MATCH(BD$3,Millwall!$AD120:$AO120,0)","v":{"$error":"#N/A"}},{"$f":"MATCH(BE$3,Millwall!$AD120:$AO120,0)","v":{"$error":"#N/A"}},{"$f":"MATCH(BF$3,Millwall!$AD120:$AO120,0)","v":{"$error":"#N/A"}},{"$f":"MATCH(BG$3,Millwall!$AD120:$AO120,0)","v":{"$error":"#N/A"}},{"$f":"MATCH(BH$3,Millwall!$AD120:$AO120,0)","v":12},{"$f":"MATCH(BI$3,Millwall!$AD120:$AO120,0)","v":{"$error":"#N/A"}},{"$f":"MATCH(BJ$3,Millwall!$AD120:$AO120,0)","v":{"$error":"#N/A"}},{"$f":"MATCH(BK$3,Millwall!$AD120:$AO120,0)","v":5},{"$f":"MATCH(BL$3,Millwall!$AD120:$AO120,0)","v":{"$error":"#N/A"}},{"$f":"MATCH(BM$3,Millwall!$AD120:$AO120,0)","v":{"$error":"#N/A"}},{"$f":"MATCH(BN$3,Millwall!$AD120:$AO120,0)","v":{"$error":"#N/A"}},{"$f":"MATCH(BO$3,Millwall!$AD120:$AO120,0)","v":{"$error":"#N/A"}},{"$f":"MATCH(BP$3,Millwall!$AD120:$AO120,0)","v":{"$error":"#N/A"}},{"$f":"MATCH(BQ$3,Millwall!$AD120:$AO120,0)","v":{"$error":"#N/A"}},{"$f":"MATCH(BR$3,Millwall!$AD120:$AO120,0)","v":{"$error":"#N/A"}},{"$f":"MATCH(BS$3,Millwall!$AD120:$AO120,0)","v":{"$error":"#N/A"}},{"$f":"MATCH(BT$3,Millwall!$AD120:$AO120,0)","v":{"$error":"#N/A"}},{"$f":"MATCH(BU$3,Millwall!$AD120:$AO120,0)","v":{"$error":"#N/A"}},{"$f":"MATCH(BV$3,Millwall!$AD120:$AO120,0)","v":{"$error":"#N/A"}},{"$f":"MATCH(BW$3,Millwall!$AD120:$AO120,0)","v":{"$error":"#N/A"}},{"$f":"MATCH(BX$3,Millwall!$AD120:$AO120,0)","v":{"$error":"#N/A"}},{"$f":"MATCH(BY$3,Millwall!$AD120:$AO120,0)","v":{"$error":"#N/A"}},{"$f":"MATCH(BZ$3,Millwall!$AD120:$AO120,0)","v":{"$error":"#N/A"}},{"$f":"MATCH(CA$3,Millwall!$AD120:$AO120,0)","v":{"$error":"#N/A"}},{"$f":"MATCH(CB$3,Millwall!$AD120:$AO120,0)","v":{"$error":"#N/A"}},{"$f":"MATCH(CC$3,Millwall!$AD120:$AO120,0)","v":{"$error":"#N/A"}},{"$f":"MATCH(CD$3,Millwall!$AD120:$AO120,0)","v":{"$error":"#N/A"}},{"$f":"MATCH(CE$3,Millwall!$AD120:$AO120,0)","v":{"$error":"#N/A"}}]
[]
[null,null,null,null,null,null,null,null,null,"Total League Apperances",{"$f":"COUNT(K5:K50)-K53-K54","v":41},{"$f":"COUNT(L5:L50)-L53-L54","v":7},26,0,2,39,46,20,26,8,24,29,3,43,33,32,31,4,5,17,28,15,27,0,{"$f":"COUNT(AI5:AI50)-AI53","v":0},0,0,0,0,0,0,0,0,0]
[null,null,null,null,null,null,null,null,null,"Total League Substitute Appearences ",{"$f":"AX$53","v":1},0,1,0,1,0,0,0,5,5,6,5,3,0,0,1,0,3,0,0,0,0,0,0,{"$f":"BV53","v":0},0,0,0,0,0,0,0,0,0,null,null,null,null,null,{"$f":"COUNTIF(AX5:AX50,12)","v":1},{"$f":"COUNTIF(AY5:AY50,12)","v":0},1,0,1,0,0,0,5,5,6,5,3,0,0,1,0,3,0,0,0,0,0,0,0,0,0,0,0,0,0,0,0,0]
[null,null,null,null,null,null,null,null,null,"Non Playing Substitute",{"$f":"COUNTIF(K5:K50,12)-K53","v":0},{"$f":"COUNTIF(L5:L50,12)-L53","v":0},2,0,1,0,0,0,2,0,4,1,1,0,0,2,0,1,0,1,0,0,0,0,0,0,0,0,0,0,0,0,0,0]
[null,null,null,null,null,null,null,null,null,"Goals",{"$f":"Millwall!$CB$7","v":15},{"$f":"Millwall!$CB$8","v":1},{"$f":"Millwall!$CB$9","v":6},{"$f":"Millwall!$CB$10","v":0},{"$f":"Millwall!$CB$11","v":0},{"$f":"Millwall!$CB$12","v":0},{"$f":"Millwall!$CB$13","v":7},{"$f":"Millwall!$CB$14","v":3},{"$f":"Millwall!$CB$15","v":3},{"$f":"Millwall!$CB$16","v":1},{"$f":"Millwall!$CB$17","v":0},{"$f":"Millwall!$CB$18","v":13},{"$f":"Millwall!$CB$19","v":1},{"$f":"Millwall!$CB$20","v":3},{"$f":"Millwall!$CB$21","v":7},{"$f":"Millwall!$CB$22","v":2},{"$f":"Millwall!$CB$23","v":0},{"$f":"Millwall!$CB$24","v":1},{"$f":"Millwall!$CB$25","v":2},{"$f":"Millwall!$CB$26","v":0},{"$f":"Millwall!$CB$27","v":2},{"$f":"Millwall!$CB$28","v":0},{"$f":"Millwall!$CB$29","v":0},{"$f":"Millwall!$CB$30","v":0},{"$f":"Millwall!$CB$31","v":4},{"$f":"Millwall!$CB$32","v":0},{"$f":"Millwall!$CB$33","v":71},{"$f":"Millwall!$CB$34","v":0},{"$f":"Millwall!$CB$35","v":0},{"$f":"Millwall!$CB$36","v":0},{"$f":"Millwall!$CB$37","v":0},{"$f":"Millwall!$CB$38","v":0},{"$f":"Millwall!$CB$39","v":0},{"$f":"Millwall!$CB$40","v":0}]
[null,null,0]
[null,null,null,null,null,null,null,"FA Cup"]
[null,null,{"$f":"IF(J58=0,1,0)","v":0},1,null,{"$f":"Millwall!Z126","v":"1983-11-19"},null,{"$f":"Millwall!AA126","v":"Dartford"},{"$f":"Millwall!AB126","v":"(H)"},{"$f":"Millwall!AC126","v":"W 2-1"},{"$f":"MATCH(K$4,Millwall!$AD126:$AO126,0)","v":8},{"$f":"MATCH(L$4,Millwall!$AD126:$AO126,0)","v":{"$error":"#N/A"}},{"$f":"MATCH(M$4,Millwall!$AD126:$AO126,0)","v":11},{"$f":"MATCH(N$4,Millwall!$AD126:$AO126,0)","v":{"$error":"#N/A"}},{"$f":"MATCH(O$4,Millwall!$AD126:$AO126,0)","v":{"$error":"#N/A"}},{"$f":"MATCH(P$4,Millwall!$AD126:$AO126,0)","v":6},{"$f":"MATCH(Q$4,Millwall!$AD126:$AO126,0)","v":2},{"$f":"MATCH(R$4,Millwall!$AD126:$AO126,0)","v":{"$error":"#N/A"}},{"$f":"MATCH(S$4,Millwall!$AD126:$AO126,0)","v":9},{"$f":"MATCH(T$4,Millwall!$AD126:$AO126,0)","v":7},{"$f":"MATCH(U$4,Millwall!$AD126:$AO126,0)","v":4},{"$f":"MATCH(V$4,Millwall!$AD126:$AO126,0)","v":10},{"$f":"MATCH(W$4,Millwall!$AD126:$AO126,0)","v":{"$error":"#N/A"}},{"$f":"MATCH(X$4,Millwall!$AD126:$AO126,0)","v":5},{"$f":"MATCH(Y$4,Millwall!$AD126:$AO126,0)","v":{"$error":"#N/A"}},{"$f":"MATCH(Z$4,Millwall!$AD126:$AO126,0)","v":3},{"$f":"MATCH(AA$4,Millwall!$AD126:$AO126,0)","v":{"$error":"#N/A"}},{"$f":"MATCH(AB$4,Millwall!$AD126:$AO126,0)","v":12},{"$f":"MATCH(AC$4,Millwall!$AD126:$AO126,0)","v":{"$error":"#N/A"}},{"$f":"MATCH(AD$4,Millwall!$AD126:$AO126,0)","v":{"$error":"#N/A"}},{"$f":"MATCH(AE$4,Millwall!$AD126:$AO126,0)","v":{"$error":"#N/A"}},{"$f":"MATCH(AF$4,Millwall!$AD126:$AO126,0)","v":1},{"$f":"MATCH(AG$4,Millwall!$AD126:$AO126,0)","v":{"$error":"#N/A"}},{"$f":"MATCH(AH$4,Millwall!$AD126:$AO126,0)","v":{"$error":"#N/A"}},{"$f":"MATCH(AI$4,Millwall!$AD126:$AO126,0)","v":{"$error":"#N/A"}},{"$f":"MATCH(AJ$4,Millwall!$AD126:$AO126,0)","v":{"$error":"#N/A"}},{"$f":"MATCH(AK$4,Millwall!$AD126:$AO126,0)","v":{"$error":"#N/A"}},{"$f":"MATCH(AL$4,Millwall!$AD126:$AO126,0)","v":{"$error":"#N/A"}},{"$f":"MATCH(AM$4,Millwall!$AD126:$AO126,0)","v":{"$error":"#N/A"}},{"$f":"MATCH(AN$4,Millwall!$AD126:$AO126,0)","v":{"$error":"#N/A"}},{"$f":"MATCH(AO$4,Millwall!$AD126:$AO126,0)","v":{"$error":"#N/A"}},{"$f":"MATCH(AP$4,Millwall!$AD126:$AO126,0)","v":{"$error":"#N/A"}},{"$f":"MATCH(AQ$4,Millwall!$AD126:$AO126,0)","v":{"$error":"#N/A"}},{"$f":"MATCH(AR$4,Millwall!$AD126:$AO126,0)","v":{"$error":"#N/A"}},null,null,null,null,null,{"$f":"MATCH(AX$3,Millwall!$AD126:$AO126,0)","v":{"$error":"#N/A"}},{"$f":"MATCH(AY$3,Millwall!$AD126:$AO126,0)","v":{"$error":"#N/A"}},{"$f":"MATCH(AZ$3,Millwall!$AD126:$AO126,0)","v":{"$error":"#N/A"}},{"$f":"MATCH(BA$3,Millwall!$AD126:$AO126,0)","v":{"$error":"#N/A"}},{"$f":"MATCH(BB$3,Millwall!$AD126:$AO126,0)","v":{"$error":"#N/A"}},{"$f":"MATCH(BC$3,Millwall!$AD126:$AO126,0)","v":{"$error":"#N/A"}},{"$f":"MATCH(BD$3,Millwall!$AD126:$AO126,0)","v":{"$error":"#N/A"}},{"$f":"MATCH(BE$3,Millwall!$AD126:$AO126,0)","v":{"$error":"#N/A"}},{"$f":"MATCH(BF$3,Millwall!$AD126:$AO126,0)","v":{"$error":"#N/A"}},{"$f":"MATCH(BG$3,Millwall!$AD126:$AO126,0)","v":{"$error":"#N/A"}},{"$f":"MATCH(BH$3,Millwall!$AD126:$AO126,0)","v":{"$error":"#N/A"}},{"$f":"MATCH(BI$3,Millwall!$AD126:$AO126,0)","v":{"$error":"#N/A"}},{"$f":"MATCH(BJ$3,Millwall!$AD126:$AO126,0)","v":{"$error":"#N/A"}},{"$f":"MATCH(BK$3,Millwall!$AD126:$AO126,0)","v":{"$error":"#N/A"}},{"$f":"MATCH(BL$3,Millwall!$AD126:$AO126,0)","v":{"$error":"#N/A"}},{"$f":"MATCH(BM$3,Millwall!$AD126:$AO126,0)","v":{"$error":"#N/A"}},{"$f":"MATCH(BN$3,Millwall!$AD126:$AO126,0)","v":{"$error":"#N/A"}},{"$f":"MATCH(BO$3,Millwall!$AD126:$AO126,0)","v":{"$error":"#N/A"}},{"$f":"MATCH(BP$3,Millwall!$AD126:$AO126,0)","v":{"$error":"#N/A"}},{"$f":"MATCH(BQ$3,Millwall!$AD126:$AO126,0)","v":{"$error":"#N/A"}},{"$f":"MATCH(BR$3,Millwall!$AD126:$AO126,0)","v":{"$error":"#N/A"}},{"$f":"MATCH(BS$3,Millwall!$AD126:$AO126,0)","v":{"$error":"#N/A"}},{"$f":"MATCH(BT$3,Millwall!$AD126:$AO126,0)","v":{"$error":"#N/A"}},{"$f":"MATCH(BU$3,Millwall!$AD126:$AO126,0)","v":{"$error":"#N/A"}},{"$f":"MATCH(BV$3,Millwall!$AD126:$AO126,0)","v":{"$error":"#N/A"}},{"$f":"MATCH(BW$3,Millwall!$AD126:$AO126,0)","v":{"$error":"#N/A"}},{"$f":"MATCH(BX$3,Millwall!$AD126:$AO126,0)","v":{"$error":"#N/A"}},{"$f":"MATCH(BY$3,Millwall!$AD126:$AO126,0)","v":{"$error":"#N/A"}},{"$f":"MATCH(BZ$3,Millwall!$AD126:$AO126,0)","v":{"$error":"#N/A"}},{"$f":"MATCH(CA$3,Millwall!$AD126:$AO126,0)","v":{"$error":"#N/A"}},{"$f":"MATCH(CB$3,Millwall!$AD126:$AO126,0)","v":{"$error":"#N/A"}},{"$f":"MATCH(CC$3,Millwall!$AD126:$AO126,0)","v":{"$error":"#N/A"}},{"$f":"MATCH(CD$3,Millwall!$AD126:$AO126,0)","v":{"$error":"#N/A"}},{"$f":"MATCH(CE$3,Millwall!$AD126:$AO126,0)","v":{"$error":"#N/A"}}]
[null,null,0,"1R",null,{"$f":"Millwall!Z127","v":"1983-11-19"},null,{"$f":"Millwall!AA127","v":"Swindon"},{"$f":"Millwall!AB127","v":"(H)"},{"$f":"Millwall!AC127","v":"L 2-3"},{"$f":"MATCH(K$4,Millwall!$AD127:$AO127,0)","v":8},{"$f":"MATCH(L$4,Millwall!$AD127:$AO127,0)","v":{"$error":"#N/A"}},{"$f":"MATCH(M$4,Millwall!$AD127:$AO127,0)","v":11},{"$f":"MATCH(N$4,Millwall!$AD127:$AO127,0)","v":{"$error":"#N/A"}},{"$f":"MATCH(O$4,Millwall!$AD127:$AO127,0)","v":{"$error":"#N/A"}},{"$f":"MATCH(P$4,Millwall!$AD127:$AO127,0)","v":6},{"$f":"MATCH(Q$4,Millwall!$AD127:$AO127,0)","v":2},{"$f":"MATCH(R$4,Millwall!$AD127:$AO127,0)","v":7},{"$f":"MATCH(S$4,Millwall!$AD127:$AO127,0)","v":9},{"$f":"MATCH(T$4,Millwall!$AD127:$AO127,0)","v":10},{"$f":"MATCH(U$4,Millwall!$AD127:$AO127,0)","v":4},{"$f":"MATCH(V$4,Millwall!$AD127:$AO127,0)","v":12},{"$f":"MATCH(W$4,Millwall!$AD127:$AO127,0)","v":{"$error":"#N/A"}},{"$f":"MATCH(X$4,Millwall!$AD127:$AO127,0)","v":5},{"$f":"MATCH(Y$4,Millwall!$AD127:$AO127,0)","v":{"$error":"#N/A"}},{"$f":"MATCH(Z$4,Millwall!$AD127:$AO127,0)","v":3},{"$f":"MATCH(AA$4,Millwall!$AD127:$AO127,0)","v":{"$error":"#N/A"}},{"$f":"MATCH(AB$4,Millwall!$AD127:$AO127,0)","v":{"$error":"#N/A"}},{"$f":"MATCH(AC$4,Millwall!$AD127:$AO127,0)","v":{"$error":"#N/A"}},{"$f":"MATCH(AD$4,Millwall!$AD127:$AO127,0)","v":{"$error":"#N/A"}},{"$f":"MATCH(AE$4,Millwall!$AD127:$AO127,0)","v":{"$error":"#N/A"}},{"$f":"MATCH(AF$4,Millwall!$AD127:$AO127,0)","v":1},{"$f":"MATCH(AG$4,Millwall!$AD127:$AO127,0)","v":{"$error":"#N/A"}},{"$f":"MATCH(AH$4,Millwall!$AD127:$AO127,0)","v":{"$error":"#N/A"}},{"$f":"MATCH(AI$4,Millwall!$AD127:$AO127,0)","v":{"$error":"#N/A"}},{"$f":"MATCH(AJ$4,Millwall!$AD127:$AO127,0)","v":{"$error":"#N/A"}},{"$f":"MATCH(AK$4,Millwall!$AD127:$AO127,0)","v":{"$error":"#N/A"}},{"$f":"MATCH(AL$4,Millwall!$AD127:$AO127,0)","v":{"$error":"#N/A"}},{"$f":"MATCH(AM$4,Millwall!$AD127:$AO127,0)","v":{"$error":"#N/A"}},{"$f":"MATCH(AN$4,Millwall!$AD127:$AO127,0)","v":{"$error":"#N/A"}},{"$f":"MATCH(AO$4,Millwall!$AD127:$AO127,0)","v":{"$error":"#N/A"}},{"$f":"MATCH(AP$4,Millwall!$AD127:$AO127,0)","v":{"$error":"#N/A"}},{"$f":"MATCH(AQ$4,Millwall!$AD127:$AO127,0)","v":{"$error":"#N/A"}},{"$f":"MATCH(AR$4,Millwall!$AD127:$AO127,0)","v":{"$error":"#N/A"}},null,null,null,null,null,{"$f":"MATCH(AX$3,Millwall!$AD127:$AO127,0)","v":{"$error":"#N/A"}},{"$f":"MATCH(AY$3,Millwall!$AD127:$AO127,0)","v":{"$error":"#N/A"}},{"$f":"MATCH(AZ$3,Millwall!$AD127:$AO127,0)","v":{"$error":"#N/A"}},{"$f":"MATCH(BA$3,Millwall!$AD127:$AO127,0)","v":{"$error":"#N/A"}},{"$f":"MATCH(BB$3,Millwall!$AD127:$AO127,0)","v":{"$error":"#N/A"}},{"$f":"MATCH(BC$3,Millwall!$AD127:$AO127,0)","v":{"$error":"#N/A"}},{"$f":"MATCH(BD$3,Millwall!$AD127:$AO127,0)","v":{"$error":"#N/A"}},{"$f":"MATCH(BE$3,Millwall!$AD127:$AO127,0)","v":{"$error":"#N/A"}},{"$f":"MATCH(BF$3,Millwall!$AD127:$AO127,0)","v":{"$error":"#N/A"}},{"$f":"MATCH(BG$3,Millwall!$AD127:$AO127,0)","v":{"$error":"#N/A"}},{"$f":"MATCH(BH$3,Millwall!$AD127:$AO127,0)","v":4},{"$f":"MATCH(BI$3,Millwall!$AD127:$AO127,0)","v":12},{"$f":"MATCH(BJ$3,Millwall!$AD127:$AO127,0)","v":{"$error":"#N/A"}},{"$f":"MATCH(BK$3,Millwall!$AD127:$AO127,0)","v":{"$error":"#N/A"}},{"$f":"MATCH(BL$3,Millwall!$AD127:$AO127,0)","v":{"$error":"#N/A"}},{"$f":"MATCH(BM$3,Millwall!$AD127:$AO127,0)","v":{"$error":"#N/A"}},{"$f":"MATCH(BN$3,Millwall!$AD127:$AO127,0)","v":{"$error":"#N/A"}},{"$f":"MATCH(BO$3,Millwall!$AD127:$AO127,0)","v":{"$error":"#N/A"}},{"$f":"MATCH(BP$3,Millwall!$AD127:$AO127,0)","v":{"$error":"#N/A"}},{"$f":"MATCH(BQ$3,Millwall!$AD127:$AO127,0)","v":{"$error":"#N/A"}},{"$f":"MATCH(BR$3,Millwall!$AD127:$AO127,0)","v":{"$error":"#N/A"}},{"$f":"MATCH(BS$3,Millwall!$AD127:$AO127,0)","v":{"$error":"#N/A"}},{"$f":"MATCH(BT$3,Millwall!$AD127:$AO127,0)","v":{"$error":"#N/A"}},{"$f":"MATCH(BU$3,Millwall!$AD127:$AO127,0)","v":{"$error":"#N/A"}},{"$f":"MATCH(BV$3,Millwall!$AD127:$AO127,0)","v":{"$error":"#N/A"}},{"$f":"MATCH(BW$3,Millwall!$AD127:$AO127,0)","v":{"$error":"#N/A"}},{"$f":"MATCH(BX$3,Millwall!$AD127:$AO127,0)","v":{"$error":"#N/A"}},{"$f":"MATCH(BY$3,Millwall!$AD127:$AO127,0)","v":{"$error":"#N/A"}},{"$f":"MATCH(BZ$3,Millwall!$AD127:$AO127,0)","v":{"$error":"#N/A"}},{"$f":"MATCH(CA$3,Millwall!$AD127:$AO127,0)","v":{"$error":"#N/A"}},{"$f":"MATCH(CB$3,Millwall!$AD127:$AO127,0)","v":{"$error":"#N/A"}},{"$f":"MATCH(CC$3,Millwall!$AD127:$AO127,0)","v":{"$error":"#N/A"}},{"$f":"MATCH(CD$3,Millwall!$AD127:$AO127,0)","v":{"$error":"#N/A"}},{"$f":"MATCH(CE$3,Millwall!$AD127:$AO127,0)","v":{"$error":"#N/A"}}]
[null,null,1,2,null,{"$f":"Millwall!Z128","v":"00:00:00"},null,{"$f":"Millwall!AA128","v":"00:00:00"},{"$f":"Millwall!AB128","v":"00:00:00"},{"$f":"Millwall!AC128","v":0},{"$f":"MATCH(K$4,Millwall!$AD128:$AO128,0)","v":{"$error":"#N/A"}},{"$f":"MATCH(L$4,Millwall!$AD128:$AO128,0)","v":{"$error":"#N/A"}},{"$f":"MATCH(M$4,Millwall!$AD128:$AO128,0)","v":{"$error":"#N/A"}},{"$f":"MATCH(N$4,Millwall!$AD128:$AO128,0)","v":{"$error":"#N/A"}},{"$f":"MATCH(O$4,Millwall!$AD128:$AO128,0)","v":{"$error":"#N/A"}},{"$f":"MATCH(P$4,Millwall!$AD128:$AO128,0)","v":{"$error":"#N/A"}},{"$f":"MATCH(Q$4,Millwall!$AD128:$AO128,0)","v":{"$error":"#N/A"}},{"$f":"MATCH(R$4,Millwall!$AD128:$AO128,0)","v":{"$error":"#N/A"}},{"$f":"MATCH(S$4,Millwall!$AD128:$AO128,0)","v":{"$error":"#N/A"}},{"$f":"MATCH(T$4,Millwall!$AD128:$AO128,0)","v":{"$error":"#N/A"}},{"$f":"MATCH(U$4,Millwall!$AD128:$AO128,0)","v":{"$error":"#N/A"}},{"$f":"MATCH(V$4,Millwall!$AD128:$AO128,0)","v":{"$error":"#N/A"}},{"$f":"MATCH(W$4,Millwall!$AD128:$AO128,0)","v":{"$error":"#N/A"}},{"$f":"MATCH(X$4,Millwall!$AD128:$AO128,0)","v":{"$error":"#N/A"}},{"$f":"MATCH(Y$4,Millwall!$AD128:$AO128,0)","v":{"$error":"#N/A"}},{"$f":"MATCH(Z$4,Millwall!$AD128:$AO128,0)","v":{"$error":"#N/A"}},{"$f":"MATCH(AA$4,Millwall!$AD128:$AO128,0)","v":{"$error":"#N/A"}},{"$f":"MATCH(AB$4,Millwall!$AD128:$AO128,0)","v":{"$error":"#N/A"}},{"$f":"MATCH(AC$4,Millwall!$AD128:$AO128,0)","v":{"$error":"#N/A"}},{"$f":"MATCH(AD$4,Millwall!$AD128:$AO128,0)","v":{"$error":"#N/A"}},{"$f":"MATCH(AE$4,Millwall!$AD128:$AO128,0)","v":{"$error":"#N/A"}},{"$f":"MATCH(AF$4,Millwall!$AD128:$AO128,0)","v":{"$error":"#N/A"}},{"$f":"MATCH(AG$4,Millwall!$AD128:$AO128,0)","v":{"$error":"#N/A"}},{"$f":"MATCH(AH$4,Millwall!$AD128:$AO128,0)","v":{"$error":"#N/A"}},{"$f":"MATCH(AI$4,Millwall!$AD128:$AO128,0)","v":{"$error":"#N/A"}},{"$f":"MATCH(AJ$4,Millwall!$AD128:$AO128,0)","v":{"$error":"#N/A"}},{"$f":"MATCH(AK$4,Millwall!$AD128:$AO128,0)","v":{"$error":"#N/A"}},{"$f":"MATCH(AL$4,Millwall!$AD128:$AO128,0)","v":{"$error":"#N/A"}},{"$f":"MATCH(AM$4,Millwall!$AD128:$AO128,0)","v":{"$error":"#N/A"}},{"$f":"MATCH(AN$4,Millwall!$AD128:$AO128,0)","v":{"$error":"#N/A"}},{"$f":"MATCH(AO$4,Millwall!$AD128:$AO128,0)","v":{"$error":"#N/A"}},{"$f":"MATCH(AP$4,Millwall!$AD128:$AO128,0)","v":{"$error":"#N/A"}},{"$f":"MATCH(AQ$4,Millwall!$AD128:$AO128,0)","v":{"$error":"#N/A"}},{"$f":"MATCH(AR$4,Millwall!$AD128:$AO128,0)","v":{"$error":"#N/A"}},null,null,null,null,null,{"$f":"MATCH(AX$3,Millwall!$AD128:$AO128,0)","v":{"$error":"#N/A"}},{"$f":"MATCH(AY$3,Millwall!$AD128:$AO128,0)","v":{"$error":"#N/A"}},{"$f":"MATCH(AZ$3,Millwall!$AD128:$AO128,0)","v":{"$error":"#N/A"}},{"$f":"MATCH(BA$3,Millwall!$AD128:$AO128,0)","v":{"$error":"#N/A"}},{"$f":"MATCH(BB$3,Millwall!$AD128:$AO128,0)","v":{"$error":"#N/A"}},{"$f":"MATCH(BC$3,Millwall!$AD128:$AO128,0)","v":{"$error":"#N/A"}},{"$f":"MATCH(BD$3,Millwall!$AD128:$AO128,0)","v":{"$error":"#N/A"}},{"$f":"MATCH(BE$3,Millwall!$AD128:$AO128,0)","v":{"$error":"#N/A"}},{"$f":"MATCH(BF$3,Millwall!$AD128:$AO128,0)","v":{"$error":"#N/A"}},{"$f":"MATCH(BG$3,Millwall!$AD128:$AO128,0)","v":{"$error":"#N/A"}},{"$f":"MATCH(BH$3,Millwall!$AD128:$AO128,0)","v":{"$error":"#N/A"}},{"$f":"MATCH(BI$3,Millwall!$AD128:$AO128,0)","v":{"$error":"#N/A"}},{"$f":"MATCH(BJ$3,Millwall!$AD128:$AO128,0)","v":{"$error":"#N/A"}},{"$f":"MATCH(BK$3,Millwall!$AD128:$AO128,0)","v":{"$error":"#N/A"}},{"$f":"MATCH(BL$3,Millwall!$AD128:$AO128,0)","v":{"$error":"#N/A"}},{"$f":"MATCH(BM$3,Millwall!$AD128:$AO128,0)","v":{"$error":"#N/A"}},{"$f":"MATCH(BN$3,Millwall!$AD128:$AO128,0)","v":{"$error":"#N/A"}},{"$f":"MATCH(BO$3,Millwall!$AD128:$AO128,0)","v":{"$error":"#N/A"}},{"$f":"MATCH(BP$3,Millwall!$AD128:$AO128,0)","v":{"$error":"#N/A"}},{"$f":"MATCH(BQ$3,Millwall!$AD128:$AO128,0)","v":{"$error":"#N/A"}},{"$f":"MATCH(BR$3,Millwall!$AD128:$AO128,0)","v":{"$error":"#N/A"}},{"$f":"MATCH(BS$3,Millwall!$AD128:$AO128,0)","v":{"$error":"#N/A"}},{"$f":"MATCH(BT$3,Millwall!$AD128:$AO128,0)","v":{"$error":"#N/A"}},{"$f":"MATCH(BU$3,Millwall!$AD128:$AO128,0)","v":{"$error":"#N/A"}},{"$f":"MATCH(BV$3,Millwall!$AD128:$AO128,0)","v":{"$error":"#N/A"}},{"$f":"MATCH(BW$3,Millwall!$AD128:$AO128,0)","v":{"$error":"#N/A"}},{"$f":"MATCH(BX$3,Millwall!$AD128:$AO128,0)","v":{"$error":"#N/A"}},{"$f":"MATCH(BY$3,Millwall!$AD128:$AO128,0)","v":{"$error":"#N/A"}},{"$f":"MATCH(BZ$3,Millwall!$AD128:$AO128,0)","v":{"$error":"#N/A"}},{"$f":"MATCH(CA$3,Millwall!$AD128:$AO128,0)","v":{"$error":"#N/A"}},{"$f":"MATCH(CB$3,Millwall!$AD128:$AO128,0)","v":{"$error":"#N/A"}},{"$f":"MATCH(CC$3,Millwall!$AD128:$AO128,0)","v":{"$error":"#N/A"}},{"$f":"MATCH(CD$3,Millwall!$AD128:$AO128,0)","v":{"$error":"#N/A"}},{"$f":"MATCH(CE$3,Millwall!$AD128:$AO128,0)","v":{"$error":"#N/A"}}]
[null,null,1,3,null,{"$f":"Millwall!Z129","v":"00:00:00"},null,{"$f":"Millwall!AA129","v":"00:00:00"},{"$f":"Millwall!AB129","v":"00:00:00"},{"$f":"Millwall!AC129","v":0},{"$f":"MATCH(K$4,Millwall!$AD129:$AO129,0)","v":{"$error":"#N/A"}},{"$f":"MATCH(L$4,Millwall!$AD129:$AO129,0)","v":{"$error":"#N/A"}},{"$f":"MATCH(M$4,Millwall!$AD129:$AO129,0)","v":{"$error":"#N/A"}},{"$f":"MATCH(N$4,Millwall!$AD129:$AO129,0)","v":{"$error":"#N/A"}},{"$f":"MATCH(O$4,Millwall!$AD129:$AO129,0)","v":{"$error":"#N/A"}},{"$f":"MATCH(P$4,Millwall!$AD129:$AO129,0)","v":{"$error":"#N/A"}},{"$f":"MATCH(Q$4,Millwall!$AD129:$AO129,0)","v":{"$error":"#N/A"}},{"$f":"MATCH(R$4,Millwall!$AD129:$AO129,0)","v":{"$error":"#N/A"}},{"$f":"MATCH(S$4,Millwall!$AD129:$AO129,0)","v":{"$error":"#N/A"}},{"$f":"MATCH(T$4,Millwall!$AD129:$AO129,0)","v":{"$error":"#N/A"}},{"$f":"MATCH(U$4,Millwall!$AD129:$AO129,0)","v":{"$error":"#N/A"}},{"$f":"MATCH(V$4,Millwall!$AD129:$AO129,0)","v":{"$error":"#N/A"}},{"$f":"MATCH(W$4,Millwall!$AD129:$AO129,0)","v":{"$error":"#N/A"}},{"$f":"MATCH(X$4,Millwall!$AD129:$AO129,0)","v":{"$error":"#N/A"}},{"$f":"MATCH(Y$4,Millwall!$AD129:$AO129,0)","v":{"$error":"#N/A"}},{"$f":"MATCH(Z$4,Millwall!$AD129:$AO129,0)","v":{"$error":"#N/A"}},{"$f":"MATCH(AA$4,Millwall!$AD129:$AO129,0)","v":{"$error":"#N/A"}},{"$f":"MATCH(AB$4,Millwall!$AD129:$AO129,0)","v":{"$error":"#N/A"}},{"$f":"MATCH(AC$4,Millwall!$AD129:$AO129,0)","v":{"$error":"#N/A"}},{"$f":"MATCH(AD$4,Millwall!$AD129:$AO129,0)","v":{"$error":"#N/A"}},{"$f":"MATCH(AE$4,Millwall!$AD129:$AO129,0)","v":{"$error":"#N/A"}},{"$f":"MATCH(AF$4,Millwall!$AD129:$AO129,0)","v":{"$error":"#N/A"}},{"$f":"MATCH(AG$4,Millwall!$AD129:$AO129,0)","v":{"$error":"#N/A"}},{"$f":"MATCH(AH$4,Millwall!$AD129:$AO129,0)","v":{"$error":"#N/A"}},{"$f":"MATCH(AI$4,Millwall!$AD129:$AO129,0)","v":{"$error":"#N/A"}},{"$f":"MATCH(AJ$4,Millwall!$AD129:$AO129,0)","v":{"$error":"#N/A"}},{"$f":"MATCH(AK$4,Millwall!$AD129:$AO129,0)","v":{"$error":"#N/A"}},{"$f":"MATCH(AL$4,Millwall!$AD129:$AO129,0)","v":{"$error":"#N/A"}},{"$f":"MATCH(AM$4,Millwall!$AD129:$AO129,0)","v":{"$error":"#N/A"}},{"$f":"MATCH(AN$4,Millwall!$AD129:$AO129,0)","v":{"$error":"#N/A"}},{"$f":"MATCH(AO$4,Millwall!$AD129:$AO129,0)","v":{"$error":"#N/A"}},{"$f":"MATCH(AP$4,Millwall!$AD129:$AO129,0)","v":{"$error":"#N/A"}},{"$f":"MATCH(AQ$4,Millwall!$AD129:$AO129,0)","v":{"$error":"#N/A"}},{"$f":"MATCH(AR$4,Millwall!$AD129:$AO129,0)","v":{"$error":"#N/A"}},null,null,null,null,null,{"$f":"MATCH(AX$3,Millwall!$AD129:$AO129,0)","v":{"$error":"#N/A"}},{"$f":"MATCH(AY$3,Millwall!$AD129:$AO129,0)","v":{"$error":"#N/A"}},{"$f":"MATCH(AZ$3,Millwall!$AD129:$AO129,0)","v":{"$error":"#N/A"}},{"$f":"MATCH(BA$3,Millwall!$AD129:$AO129,0)","v":{"$error":"#N/A"}},{"$f":"MATCH(BB$3,Millwall!$AD129:$AO129,0)","v":{"$error":"#N/A"}},{"$f":"MATCH(BC$3,Millwall!$AD129:$AO129,0)","v":{"$error":"#N/A"}},{"$f":"MATCH(BD$3,Millwall!$AD129:$AO129,0)","v":{"$error":"#N/A"}},{"$f":"MATCH(BE$3,Millwall!$AD129:$AO129,0)","v":{"$error":"#N/A"}},{"$f":"MATCH(BF$3,Millwall!$AD129:$AO129,0)","v":{"$error":"#N/A"}},{"$f":"MATCH(BG$3,Millwall!$AD129:$AO129,0)","v":{"$error":"#N/A"}},{"$f":"MATCH(BH$3,Millwall!$AD129:$AO129,0)","v":{"$error":"#N/A"}},{"$f":"MATCH(BI$3,Millwall!$AD129:$AO129,0)","v":{"$error":"#N/A"}},{"$f":"MATCH(BJ$3,Millwall!$AD129:$AO129,0)","v":{"$error":"#N/A"}},{"$f":"MATCH(BK$3,Millwall!$AD129:$AO129,0)","v":{"$error":"#N/A"}},{"$f":"MATCH(BL$3,Millwall!$AD129:$AO129,0)","v":{"$error":"#N/A"}},{"$f":"MATCH(BM$3,Millwall!$AD129:$AO129,0)","v":{"$error":"#N/A"}},{"$f":"MATCH(BN$3,Millwall!$AD129:$AO129,0)","v":{"$error":"#N/A"}},{"$f":"MATCH(BO$3,Millwall!$AD129:$AO129,0)","v":{"$error":"#N/A"}},{"$f":"MATCH(BP$3,Millwall!$AD129:$AO129,0)","v":{"$error":"#N/A"}},{"$f":"MATCH(BQ$3,Millwall!$AD129:$AO129,0)","v":{"$error":"#N/A"}},{"$f":"MATCH(BR$3,Millwall!$AD129:$AO129,0)","v":{"$error":"#N/A"}},{"$f":"MATCH(BS$3,Millwall!$AD129:$AO129,0)","v":{"$error":"#N/A"}},{"$f":"MATCH(BT$3,Millwall!$AD129:$AO129,0)","v":{"$error":"#N/A"}},{"$f":"MATCH(BU$3,Millwall!$AD129:$AO129,0)","v":{"$error":"#N/A"}},{"$f":"MATCH(BV$3,Millwall!$AD129:$AO129,0)","v":{"$error":"#N/A"}},{"$f":"MATCH(BW$3,Millwall!$AD129:$AO129,0)","v":{"$error":"#N/A"}},{"$f":"MATCH(BX$3,Millwall!$AD129:$AO129,0)","v":{"$error":"#N/A"}},{"$f":"MATCH(BY$3,Millwall!$AD129:$AO129,0)","v":{"$error":"#N/A"}},{"$f":"MATCH(BZ$3,Millwall!$AD129:$AO129,0)","v":{"$error":"#N/A"}},{"$f":"MATCH(CA$3,Millwall!$AD129:$AO129,0)","v":{"$error":"#N/A"}},{"$f":"MATCH(CB$3,Millwall!$AD129:$AO129,0)","v":{"$error":"#N/A"}},{"$f":"MATCH(CC$3,Millwall!$AD129:$AO129,0)","v":{"$error":"#N/A"}},{"$f":"MATCH(CD$3,Millwall!$AD129:$AO129,0)","v":{"$error":"#N/A"}},{"$f":"MATCH(CE$3,Millwall!$AD129:$AO129,0)","v":{"$error":"#N/A"}}]
[null,null,1,null,null,{"$f":"Millwall!Z130","v":"00:00:00"},null,{"$f":"Millwall!AA130","v":"00:00:00"},{"$f":"Millwall!AB130","v":"00:00:00"},{"$f":"Millwall!AC130","v":0},{"$f":"MATCH(K$4,Millwall!$AD130:$AO130,0)","v":{"$error":"#N/A"}},{"$f":"MATCH(L$4,Millwall!$AD130:$AO130,0)","v":{"$error":"#N/A"}},{"$f":"MATCH(M$4,Millwall!$AD130:$AO130,0)","v":{"$error":"#N/A"}},{"$f":"MATCH(N$4,Millwall!$AD130:$AO130,0)","v":{"$error":"#N/A"}},{"$f":"MATCH(O$4,Millwall!$AD130:$AO130,0)","v":{"$error":"#N/A"}},{"$f":"MATCH(P$4,Millwall!$AD130:$AO130,0)","v":{"$error":"#N/A"}},{"$f":"MATCH(Q$4,Millwall!$AD130:$AO130,0)","v":{"$error":"#N/A"}},{"$f":"MATCH(R$4,Millwall!$AD130:$AO130,0)","v":{"$error":"#N/A"}},{"$f":"MATCH(S$4,Millwall!$AD130:$AO130,0)","v":{"$error":"#N/A"}},{"$f":"MATCH(T$4,Millwall!$AD130:$AO130,0)","v":{"$error":"#N/A"}},{"$f":"MATCH(U$4,Millwall!$AD130:$AO130,0)","v":{"$error":"#N/A"}},{"$f":"MATCH(V$4,Millwall!$AD130:$AO130,0)","v":{"$error":"#N/A"}},{"$f":"MATCH(W$4,Millwall!$AD130:$AO130,0)","v":{"$error":"#N/A"}},{"$f":"MATCH(X$4,Millwall!$AD130:$AO130,0)","v":{"$error":"#N/A"}},{"$f":"MATCH(Y$4,Millwall!$AD130:$AO130,0)","v":{"$error":"#N/A"}},{"$f":"MATCH(Z$4,Millwall!$AD130:$AO130,0)","v":{"$error":"#N/A"}},{"$f":"MATCH(AA$4,Millwall!$AD130:$AO130,0)","v":{"$error":"#N/A"}},{"$f":"MATCH(AB$4,Millwall!$AD130:$AO130,0)","v":{"$error":"#N/A"}},{"$f":"MATCH(AC$4,Millwall!$AD130:$AO130,0)","v":{"$error":"#N/A"}},{"$f":"MATCH(AD$4,Millwall!$AD130:$AO130,0)","v":{"$error":"#N/A"}},{"$f":"MATCH(AE$4,Millwall!$AD130:$AO130,0)","v":{"$error":"#N/A"}},{"$f":"MATCH(AF$4,Millwall!$AD130:$AO130,0)","v":{"$error":"#N/A"}},{"$f":"MATCH(AG$4,Millwall!$AD130:$AO130,0)","v":{"$error":"#N/A"}},{"$f":"MATCH(AH$4,Millwall!$AD130:$AO130,0)","v":{"$error":"#N/A"}},{"$f":"MATCH(AI$4,Millwall!$AD130:$AO130,0)","v":{"$error":"#N/A"}},{"$f":"MATCH(AJ$4,Millwall!$AD130:$AO130,0)","v":{"$error":"#N/A"}},{"$f":"MATCH(AK$4,Millwall!$AD130:$AO130,0)","v":{"$error":"#N/A"}},{"$f":"MATCH(AL$4,Millwall!$AD130:$AO130,0)","v":{"$error":"#N/A"}},{"$f":"MATCH(AM$4,Millwall!$AD130:$AO130,0)","v":{"$error":"#N/A"}},{"$f":"MATCH(AN$4,Millwall!$AD130:$AO130,0)","v":{"$error":"#N/A"}},{"$f":"MATCH(AO$4,Millwall!$AD130:$AO130,0)","v":{"$error":"#N/A"}},{"$f":"MATCH(AP$4,Millwall!$AD130:$AO130,0)","v":{"$error":"#N/A"}},{"$f":"MATCH(AQ$4,Millwall!$AD130:$AO130,0)","v":{"$error":"#N/A"}},{"$f":"MATCH(AR$4,Millwall!$AD130:$AO130,0)","v":{"$error":"#N/A"}},null,null,null,null,null,{"$f":"MATCH(AX$3,Millwall!$AD130:$AO130,0)","v":{"$error":"#N/A"}},{"$f":"MATCH(AY$3,Millwall!$AD130:$AO130,0)","v":{"$error":"#N/A"}},{"$f":"MATCH(AZ$3,Millwall!$AD130:$AO130,0)","v":{"$error":"#N/A"}},{"$f":"MATCH(BA$3,Millwall!$AD130:$AO130,0)","v":{"$error":"#N/A"}},{"$f":"MATCH(BB$3,Millwall!$AD130:$AO130,0)","v":{"$error":"#N/A"}},{"$f":"MATCH(BC$3,Millwall!$AD130:$AO130,0)","v":{"$error":"#N/A"}},{"$f":"MATCH(BD$3,Millwall!$AD130:$AO130,0)","v":{"$error":"#N/A"}},{"$f":"MATCH(BE$3,Millwall!$AD130:$AO130,0)","v":{"$error":"#N/A"}},{"$f":"MATCH(BF$3,Millwall!$AD130:$AO130,0)","v":{"$error":"#N/A"}},{"$f":"MATCH(BG$3,Millwall!$AD130:$AO130,0)","v":{"$error":"#N/A"}},{"$f":"MATCH(BH$3,Millwall!$AD130:$AO130,0)","v":{"$error":"#N/A"}},{"$f":"MATCH(BI$3,Millwall!$AD130:$AO130,0)","v":{"$error":"#N/A"}},{"$f":"MATCH(BJ$3,Millwall!$AD130:$AO130,0)","v":{"$error":"#N/A"}},{"$f":"MATCH(BK$3,Millwall!$AD130:$AO130,0)","v":{"$error":"#N/A"}},{"$f":"MATCH(BL$3,Millwall!$AD130:$AO130,0)","v":{"$error":"#N/A"}},{"$f":"MATCH(BM$3,Millwall!$AD130:$AO130,0)","v":{"$error":"#N/A"}},{"$f":"MATCH(BN$3,Millwall!$AD130:$AO130,0)","v":{"$error":"#N/A"}},{"$f":"MATCH(BO$3,Millwall!$AD130:$AO130,0)","v":{"$error":"#N/A"}},{"$f":"MATCH(BP$3,Millwall!$AD130:$AO130,0)","v":{"$error":"#N/A"}},{"$f":"MATCH(BQ$3,Millwall!$AD130:$AO130,0)","v":{"$error":"#N/A"}},{"$f":"MATCH(BR$3,Millwall!$AD130:$AO130,0)","v":{"$error":"#N/A"}},{"$f":"MATCH(BS$3,Millwall!$AD130:$AO130,0)","v":{"$error":"#N/A"}},{"$f":"MATCH(BT$3,Millwall!$AD130:$AO130,0)","v":{"$error":"#N/A"}},{"$f":"MATCH(BU$3,Millwall!$AD130:$AO130,0)","v":{"$error":"#N/A"}},{"$f":"MATCH(BV$3,Millwall!$AD130:$AO130,0)","v":{"$error":"#N/A"}},{"$f":"MATCH(BW$3,Millwall!$AD130:$AO130,0)","v":{"$error":"#N/A"}},{"$f":"MATCH(BX$3,Millwall!$AD130:$AO130,0)","v":{"$error":"#N/A"}},{"$f":"MATCH(BY$3,Millwall!$AD130:$AO130,0)","v":{"$error":"#N/A"}},{"$f":"MATCH(BZ$3,Millwall!$AD130:$AO130,0)","v":{"$error":"#N/A"}},{"$f":"MATCH(CA$3,Millwall!$AD130:$AO130,0)","v":{"$error":"#N/A"}},{"$f":"MATCH(CB$3,Millwall!$AD130:$AO130,0)","v":{"$error":"#N/A"}},{"$f":"MATCH(CC$3,Millwall!$AD130:$AO130,0)","v":{"$error":"#N/A"}},{"$f":"MATCH(CD$3,Millwall!$AD130:$AO130,0)","v":{"$error":"#N/A"}},{"$f":"MATCH(CE$3,Millwall!$AD130:$AO130,0)","v":{"$error":"#N/A"}}]
[null,null,1,null,null,{"$f":"Millwall!Z131","v":"00:00:00"},null,{"$f":"Millwall!AA131","v":"00:00:00"},{"$f":"Millwall!AB131","v":"00:00:00"},{"$f":"Millwall!AC131","v":0},{"$f":"MATCH(K$4,Millwall!$AD131:$AO131,0)","v":{"$error":"#N/A"}},{"$f":"MATCH(L$4,Millwall!$AD131:$AO131,0)","v":{"$error":"#N/A"}},{"$f":"MATCH(M$4,Millwall!$AD131:$AO131,0)","v":{"$error":"#N/A"}},{"$f":"MATCH(N$4,Millwall!$AD131:$AO131,0)","v":{"$error":"#N/A"}},{"$f":"MATCH(O$4,Millwall!$AD131:$AO131,0)","v":{"$error":"#N/A"}},{"$f":"MATCH(P$4,Millwall!$AD131:$AO131,0)","v":{"$error":"#N/A"}},{"$f":"MATCH(Q$4,Millwall!$AD131:$AO131,0)","v":{"$error":"#N/A"}},{"$f":"MATCH(R$4,Millwall!$AD131:$AO131,0)","v":{"$error":"#N/A"}},{"$f":"MATCH(S$4,Millwall!$AD131:$AO131,0)","v":{"$error":"#N/A"}},{"$f":"MATCH(T$4,Millwall!$AD131:$AO131,0)","v":{"$error":"#N/A"}},{"$f":"MATCH(U$4,Millwall!$AD131:$AO131,0)","v":{"$error":"#N/A"}},{"$f":"MATCH(V$4,Millwall!$AD131:$AO131,0)","v":{"$error":"#N/A"}},{"$f":"MATCH(W$4,Millwall!$AD131:$AO131,0)","v":{"$error":"#N/A"}},{"$f":"MATCH(X$4,Millwall!$AD131:$AO131,0)","v":{"$error":"#N/A"}},{"$f":"MATCH(Y$4,Millwall!$AD131:$AO131,0)","v":{"$error":"#N/A"}},{"$f":"MATCH(Z$4,Millwall!$AD131:$AO131,0)","v":{"$error":"#N/A"}},{"$f":"MATCH(AA$4,Millwall!$AD131:$AO131,0)","v":{"$error":"#N/A"}},{"$f":"MATCH(AB$4,Millwall!$AD131:$AO131,0)","v":{"$error":"#N/A"}},{"$f":"MATCH(AC$4,Millwall!$AD131:$AO131,0)","v":{"$error":"#N/A"}},{"$f":"MATCH(AD$4,Millwall!$AD131:$AO131,0)","v":{"$error":"#N/A"}},{"$f":"MATCH(AE$4,Millwall!$AD131:$AO131,0)","v":{"$error":"#N/A"}},{"$f":"MATCH(AF$4,Millwall!$AD131:$AO131,0)","v":{"$error":"#N/A"}},{"$f":"MATCH(AG$4,Millwall!$AD131:$AO131,0)","v":{"$error":"#N/A"}},{"$f":"MATCH(AH$4,Millwall!$AD131:$AO131,0)","v":{"$error":"#N/A"}},{"$f":"MATCH(AI$4,Millwall!$AD131:$AO131,0)","v":{"$error":"#N/A"}},{"$f":"MATCH(AJ$4,Millwall!$AD131:$AO131,0)","v":{"$error":"#N/A"}},{"$f":"MATCH(AK$4,Millwall!$AD131:$AO131,0)","v":{"$error":"#N/A"}},{"$f":"MATCH(AL$4,Millwall!$AD131:$AO131,0)","v":{"$error":"#N/A"}},{"$f":"MATCH(AM$4,Millwall!$AD131:$AO131,0)","v":{"$error":"#N/A"}},{"$f":"MATCH(AN$4,Millwall!$AD131:$AO131,0)","v":{"$error":"#N/A"}},{"$f":"MATCH(AO$4,Millwall!$AD131:$AO131,0)","v":{"$error":"#N/A"}},{"$f":"MATCH(AP$4,Millwall!$AD131:$AO131,0)","v":{"$error":"#N/A"}},{"$f":"MATCH(AQ$4,Millwall!$AD131:$AO131,0)","v":{"$error":"#N/A"}},{"$f":"MATCH(AR$4,Millwall!$AD131:$AO131,0)","v":{"$error":"#N/A"}},null,null,null,null,null,{"$f":"MATCH(AX$3,Millwall!$AD131:$AO131,0)","v":{"$error":"#N/A"}},{"$f":"MATCH(AY$3,Millwall!$AD131:$AO131,0)","v":{"$error":"#N/A"}},{"$f":"MATCH(AZ$3,Millwall!$AD131:$AO131,0)","v":{"$error":"#N/A"}},{"$f":"MATCH(BA$3,Millwall!$AD131:$AO131,0)","v":{"$error":"#N/A"}},{"$f":"MATCH(BB$3,Millwall!$AD131:$AO131,0)","v":{"$error":"#N/A"}},{"$f":"MATCH(BC$3,Millwall!$AD131:$AO131,0)","v":{"$error":"#N/A"}},{"$f":"MATCH(BD$3,Millwall!$AD131:$AO131,0)","v":{"$error":"#N/A"}},{"$f":"MATCH(BE$3,Millwall!$AD131:$AO131,0)","v":{"$error":"#N/A"}},{"$f":"MATCH(BF$3,Millwall!$AD131:$AO131,0)","v":{"$error":"#N/A"}},{"$f":"MATCH(BG$3,Millwall!$AD131:$AO131,0)","v":{"$error":"#N/A"}},{"$f":"MATCH(BH$3,Millwall!$AD131:$AO131,0)","v":{"$error":"#N/A"}},{"$f":"MATCH(BI$3,Millwall!$AD131:$AO131,0)","v":{"$error":"#N/A"}},{"$f":"MATCH(BJ$3,Millwall!$AD131:$AO131,0)","v":{"$error":"#N/A"}},{"$f":"MATCH(BK$3,Millwall!$AD131:$AO131,0)","v":{"$error":"#N/A"}},{"$f":"MATCH(BL$3,Millwall!$AD131:$AO131,0)","v":{"$error":"#N/A"}},{"$f":"MATCH(BM$3,Millwall!$AD131:$AO131,0)","v":{"$error":"#N/A"}},{"$f":"MATCH(BN$3,Millwall!$AD131:$AO131,0)","v":{"$error":"#N/A"}},{"$f":"MATCH(BO$3,Millwall!$AD131:$AO131,0)","v":{"$error":"#N/A"}},{"$f":"MATCH(BP$3,Millwall!$AD131:$AO131,0)","v":{"$error":"#N/A"}},{"$f":"MATCH(BQ$3,Millwall!$AD131:$AO131,0)","v":{"$error":"#N/A"}},{"$f":"MATCH(BR$3,Millwall!$AD131:$AO131,0)","v":{"$error":"#N/A"}},{"$f":"MATCH(BS$3,Millwall!$AD131:$AO131,0)","v":{"$error":"#N/A"}},{"$f":"MATCH(BT$3,Millwall!$AD131:$AO131,0)","v":{"$error":"#N/A"}},{"$f":"MATCH(BU$3,Millwall!$AD131:$AO131,0)","v":{"$error":"#N/A"}},{"$f":"MATCH(BV$3,Millwall!$AD131:$AO131,0)","v":{"$error":"#N/A"}},{"$f":"MATCH(BW$3,Millwall!$AD131:$AO131,0)","v":{"$error":"#N/A"}},{"$f":"MATCH(BX$3,Millwall!$AD131:$AO131,0)","v":{"$error":"#N/A"}},{"$f":"MATCH(BY$3,Millwall!$AD131:$AO131,0)","v":{"$error":"#N/A"}},{"$f":"MATCH(BZ$3,Millwall!$AD131:$AO131,0)","v":{"$error":"#N/A"}},{"$f":"MATCH(CA$3,Millwall!$AD131:$AO131,0)","v":{"$error":"#N/A"}},{"$f":"MATCH(CB$3,Millwall!$AD131:$AO131,0)","v":{"$error":"#N/A"}},{"$f":"MATCH(CC$3,Millwall!$AD131:$AO131,0)","v":{"$error":"#N/A"}},{"$f":"MATCH(CD$3,Millwall!$AD131:$AO131,0)","v":{"$error":"#N/A"}},{"$f":"MATCH(CE$3,Millwall!$AD131:$AO131,0)","v":{"$error":"#N/A"}}]
[null,null,1,null,null,{"$f":"Millwall!Z132","v":"00:00:00"},null,{"$f":"Millwall!AA132","v":"00:00:00"},{"$f":"Millwall!AB132","v":"00:00:00"},{"$f":"Millwall!AC132","v":0},{"$f":"MATCH(K$4,Millwall!$AD132:$AO132,0)","v":{"$error":"#N/A"}},{"$f":"MATCH(L$4,Millwall!$AD132:$AO132,0)","v":{"$error":"#N/A"}},{"$f":"MATCH(M$4,Millwall!$AD132:$AO132,0)","v":{"$error":"#N/A"}},{"$f":"MATCH(N$4,Millwall!$AD132:$AO132,0)","v":{"$error":"#N/A"}},{"$f":"MATCH(O$4,Millwall!$AD132:$AO132,0)","v":{"$error":"#N/A"}},{"$f":"MATCH(P$4,Millwall!$AD132:$AO132,0)","v":{"$error":"#N/A"}},{"$f":"MATCH(Q$4,Millwall!$AD132:$AO132,0)","v":{"$error":"#N/A"}},{"$f":"MATCH(R$4,Millwall!$AD132:$AO132,0)","v":{"$error":"#N/A"}},{"$f":"MATCH(S$4,Millwall!$AD132:$AO132,0)","v":{"$error":"#N/A"}},{"$f":"MATCH(T$4,Millwall!$AD132:$AO132,0)","v":{"$error":"#N/A"}},{"$f":"MATCH(U$4,Millwall!$AD132:$AO132,0)","v":{"$error":"#N/A"}},{"$f":"MATCH(V$4,Millwall!$AD132:$AO132,0)","v":{"$error":"#N/A"}},{"$f":"MATCH(W$4,Millwall!$AD132:$AO132,0)","v":{"$error":"#N/A"}},{"$f":"MATCH(X$4,Millwall!$AD132:$AO132,0)","v":{"$error":"#N/A"}},{"$f":"MATCH(Y$4,Millwall!$AD132:$AO132,0)","v":{"$error":"#N/A"}},{"$f":"MATCH(Z$4,Millwall!$AD132:$AO132,0)","v":{"$error":"#N/A"}},{"$f":"MATCH(AA$4,Millwall!$AD132:$AO132,0)","v":{"$error":"#N/A"}},{"$f":"MATCH(AB$4,Millwall!$AD132:$AO132,0)","v":{"$error":"#N/A"}},{"$f":"MATCH(AC$4,Millwall!$AD132:$AO132,0)","v":{"$error":"#N/A"}},{"$f":"MATCH(AD$4,Millwall!$AD132:$AO132,0)","v":{"$error":"#N/A"}},{"$f":"MATCH(AE$4,Millwall!$AD132:$AO132,0)","v":{"$error":"#N/A"}},{"$f":"MATCH(AF$4,Millwall!$AD132:$AO132,0)","v":{"$error":"#N/A"}},{"$f":"MATCH(AG$4,Millwall!$AD132:$AO132,0)","v":{"$error":"#N/A"}},{"$f":"MATCH(AH$4,Millwall!$AD132:$AO132,0)","v":{"$error":"#N/A"}},{"$f":"MATCH(AI$4,Millwall!$AD132:$AO132,0)","v":{"$error":"#N/A"}},{"$f":"MATCH(AJ$4,Millwall!$AD132:$AO132,0)","v":{"$error":"#N/A"}},{"$f":"MATCH(AK$4,Millwall!$AD132:$AO132,0)","v":{"$error":"#N/A"}},{"$f":"MATCH(AL$4,Millwall!$AD132:$AO132,0)","v":{"$error":"#N/A"}},{"$f":"MATCH(AM$4,Millwall!$AD132:$AO132,0)","v":{"$error":"#N/A"}},{"$f":"MATCH(AN$4,Millwall!$AD132:$AO132,0)","v":{"$error":"#N/A"}},{"$f":"MATCH(AO$4,Millwall!$AD132:$AO132,0)","v":{"$error":"#N/A"}},{"$f":"MATCH(AP$4,Millwall!$AD132:$AO132,0)","v":{"$error":"#N/A"}},{"$f":"MATCH(AQ$4,Millwall!$AD132:$AO132,0)","v":{"$error":"#N/A"}},{"$f":"MATCH(AR$4,Millwall!$AD132:$AO132,0)","v":{"$error":"#N/A"}},null,null,null,null,null,{"$f":"MATCH(AX$3,Millwall!$AD132:$AO132,0)","v":{"$error":"#N/A"}},{"$f":"MATCH(AY$3,Millwall!$AD132:$AO132,0)","v":{"$error":"#N/A"}},{"$f":"MATCH(AZ$3,Millwall!$AD132:$AO132,0)","v":{"$error":"#N/A"}},{"$f":"MATCH(BA$3,Millwall!$AD132:$AO132,0)","v":{"$error":"#N/A"}},{"$f":"MATCH(BB$3,Millwall!$AD132:$AO132,0)","v":{"$error":"#N/A"}},{"$f":"MATCH(BC$3,Millwall!$AD132:$AO132,0)","v":{"$error":"#N/A"}},{"$f":"MATCH(BD$3,Millwall!$AD132:$AO132,0)","v":{"$error":"#N/A"}},{"$f":"MATCH(BE$3,Millwall!$AD132:$AO132,0)","v":{"$error":"#N/A"}},{"$f":"MATCH(BF$3,Millwall!$AD132:$AO132,0)","v":{"$error":"#N/A"}},{"$f":"MATCH(BG$3,Millwall!$AD132:$AO132,0)","v":{"$error":"#N/A"}},{"$f":"MATCH(BH$3,Millwall!$AD132:$AO132,0)","v":{"$error":"#N/A"}},{"$f":"MATCH(BI$3,Millwall!$AD132:$AO132,0)","v":{"$error":"#N/A"}},{"$f":"MATCH(BJ$3,Millwall!$AD132:$AO132,0)","v":{"$error":"#N/A"}},{"$f":"MATCH(BK$3,Millwall!$AD132:$AO132,0)","v":{"$error":"#N/A"}},{"$f":"MATCH(BL$3,Millwall!$AD132:$AO132,0)","v":{"$error":"#N/A"}},{"$f":"MATCH(BM$3,Millwall!$AD132:$AO132,0)","v":{"$error":"#N/A"}},{"$f":"MATCH(BN$3,Millwall!$AD132:$AO132,0)","v":{"$error":"#N/A"}},{"$f":"MATCH(BO$3,Millwall!$AD132:$AO132,0)","v":{"$error":"#N/A"}},{"$f":"MATCH(BP$3,Millwall!$AD132:$AO132,0)","v":{"$error":"#N/A"}},{"$f":"MATCH(BQ$3,Millwall!$AD132:$AO132,0)","v":{"$error":"#N/A"}},{"$f":"MATCH(BR$3,Millwall!$AD132:$AO132,0)","v":{"$error":"#N/A"}},{"$f":"MATCH(BS$3,Millwall!$AD132:$AO132,0)","v":{"$error":"#N/A"}},{"$f":"MATCH(BT$3,Millwall!$AD132:$AO132,0)","v":{"$error":"#N/A"}},{"$f":"MATCH(BU$3,Millwall!$AD132:$AO132,0)","v":{"$error":"#N/A"}},{"$f":"MATCH(BV$3,Millwall!$AD132:$AO132,0)","v":{"$error":"#N/A"}},{"$f":"MATCH(BW$3,Millwall!$AD132:$AO132,0)","v":{"$error":"#N/A"}},{"$f":"MATCH(BX$3,Millwall!$AD132:$AO132,0)","v":{"$error":"#N/A"}},{"$f":"MATCH(BY$3,Millwall!$AD132:$AO132,0)","v":{"$error":"#N/A"}},{"$f":"MATCH(BZ$3,Millwall!$AD132:$AO132,0)","v":{"$error":"#N/A"}},{"$f":"MATCH(CA$3,Millwall!$AD132:$AO132,0)","v":{"$error":"#N/A"}},{"$f":"MATCH(CB$3,Millwall!$AD132:$AO132,0)","v":{"$error":"#N/A"}},{"$f":"MATCH(CC$3,Millwall!$AD132:$AO132,0)","v":{"$error":"#N/A"}},{"$f":"MATCH(CD$3,Millwall!$AD132:$AO132,0)","v":{"$error":"#N/A"}},{"$f":"MATCH(CE$3,Millwall!$AD132:$AO132,0)","v":{"$error":"#N/A"}}]
[]
[null,null,null,null,null,null,null,null,null,"Total FA Cup Apperances",{"$f":"COUNT(K58:K64)-K67-K68","v":2},{"$f":"COUNT(L58:L64)-L67-L68","v":0},2,0,0,2,2,1,2,2,2,1,0,2,0,2,0,0,0,0,0,2,0,0,0,0,0,0,0,0,0,0,0,0]
[null,null,null,null,null,null,null,null,null,"Total FA Cup Substitute Appearences ",{"$f":"AX67","v":0},{"$f":"AY67","v":0},0,0,0,0,0,0,0,0,0,1,0,0,0,0,0,0,0,0,0,0,0,0,0,0,0,0,0,0,0,0,0,0,null,null,null,null,null,{"$f":"COUNTIF(AX58:AX64,12)","v":0},{"$f":"COUNTIF(AY58:AY64,12)","v":0},0,0,0,0,0,0,0,0,0,1,0,0,0,0,0,0,0,0,0,0,0,0,0,0,0,0,0,0,0,0,0,0]
[null,null,null,null,null,null,null,null,null,"Non Playing Substitute",{"$f":"COUNTIF(K58:K64,12)-K67","v":0},{"$f":"COUNTIF(L58:L64,12)-L67","v":0},0,0,0,0,0,0,0,0,0,0,0,0,0,0,0,1,0,0,0,0,0,0,0,0,0,0,0,0,0,0,0,0]
[null,null,null,null,null,null,null,null,null,"Goals",{"$f":"Millwall!$CG$7","v":0},{"$f":"Millwall!$CG$8","v":0},{"$f":"Millwall!$CG$9","v":0},{"$f":"Millwall!$CG$10","v":0},{"$f":"Millwall!$CG$11","v":0},{"$f":"Millwall!$CG$12","v":1},{"$f":"Millwall!$CG$13","v":1},{"$f":"Millwall!$CG$14","v":0},{"$f":"Millwall!$CG$15","v":1},{"$f":"Millwall!$CG$16","v":1},{"$f":"Millwall!$CG$17","v":0},{"$f":"Millwall!$CG$18","v":0},{"$f":"Millwall!$CG$19","v":0},{"$f":"Millwall!$CG$20","v":0},{"$f":"Millwall!$CG$21","v":0},{"$f":"Millwall!$CG$22","v":0},{"$f":"Millwall!$CG$23","v":0},{"$f":"Millwall!$CG$24","v":0},{"$f":"Millwall!$CG$25","v":0},{"$f":"Millwall!$CG$26","v":0},{"$f":"Millwall!$CG$27","v":0},{"$f":"Millwall!$CG$28","v":0},{"$f":"Millwall!$CG$29","v":0},{"$f":"Millwall!$CG$30","v":0},{"$f":"Millwall!$CG$31","v":0},{"$f":"Millwall!$CG$32","v":0},{"$f":"Millwall!$CG$33","v":4},{"$f":"Millwall!$CG$34","v":0},{"$f":"Millwall!$CG$35","v":0},{"$f":"Millwall!$CG$36","v":0},{"$f":"Millwall!$CG$37","v":0},{"$f":"Millwall!$CG$38","v":0},{"$f":"Millwall!$CG$39","v":0},{"$f":"Millwall!$CG$40","v":0}]
[null,null,1]
[null,null,null,null,null,null,null,"League Cup"]
[null,null,{"$f":"IF(J72=0,1,0)","v":0},1,null,{"$f":"Millwall!Z136","v":"1983-08-29"},null,{"$f":"Millwall!AA136","v":"Northampton"},{"$f":"Millwall!AB136","v":"(H)"},{"$f":"Millwall!AC136","v":"W 3-0"},{"$f":"MATCH(K$4,Millwall!$AD136:$AO136,0)","v":7},{"$f":"MATCH(L$4,Millwall!$AD136:$AO136,0)","v":{"$error":"#N/A"}},{"$f":"MATCH(M$4,Millwall!$AD136:$AO136,0)","v":11},{"$f":"MATCH(N$4,Millwall!$AD136:$AO136,0)","v":{"$error":"#N/A"}},{"$f":"MATCH(O$4,Millwall!$AD136:$AO136,0)","v":{"$error":"#N/A"}},{"$f":"MATCH(P$4,Millwall!$AD136:$AO136,0)","v":6},{"$f":"MATCH(Q$4,Millwall!$AD136:$AO136,0)","v":2},{"$f":"MATCH(R$4,Millwall!$AD136:$AO136,0)","v":8},{"$f":"MATCH(S$4,Millwall!$AD136:$AO136,0)","v":9},{"$f":"MATCH(T$4,Millwall!$AD136:$AO136,0)","v":{"$error":"#N/A"}},{"$f":"MATCH(U$4,Millwall!$AD136:$AO136,0)","v":{"$error":"#N/A"}},{"$f":"MATCH(V$4,Millwall!$AD136:$AO136,0)","v":12},{"$f":"MATCH(W$4,Millwall!$AD136:$AO136,0)","v":{"$error":"#N/A"}},{"$f":"MATCH(X$4,Millwall!$AD136:$AO136,0)","v":5},{"$f":"MATCH(Y$4,Millwall!$AD136:$AO136,0)","v":10},{"$f":"MATCH(Z$4,Millwall!$AD136:$AO136,0)","v":4},{"$f":"MATCH(AA$4,Millwall!$AD136:$AO136,0)","v":1},{"$f":"MATCH(AB$4,Millwall!$AD136:$AO136,0)","v":{"$error":"#N/A"}},{"$f":"MATCH(AC$4,Millwall!$AD136:$AO136,0)","v":{"$error":"#N/A"}},{"$f":"MATCH(AD$4,Millwall!$AD136:$AO136,0)","v":{"$error":"#N/A"}},{"$f":"MATCH(AE$4,Millwall!$AD136:$AO136,0)","v":3},{"$f":"MATCH(AF$4,Millwall!$AD136:$AO136,0)","v":{"$error":"#N/A"}},{"$f":"MATCH(AG$4,Millwall!$AD136:$AO136,0)","v":{"$error":"#N/A"}},{"$f":"MATCH(AH$4,Millwall!$AD136:$AO136,0)","v":{"$error":"#N/A"}},{"$f":"MATCH(AI$4,Millwall!$AD136:$AO136,0)","v":{"$error":"#N/A"}},{"$f":"MATCH(AJ$4,Millwall!$AD136:$AO136,0)","v":{"$error":"#N/A"}},{"$f":"MATCH(AK$4,Millwall!$AD136:$AO136,0)","v":{"$error":"#N/A"}},{"$f":"MATCH(AL$4,Millwall!$AD136:$AO136,0)","v":{"$error":"#N/A"}},{"$f":"MATCH(AM$4,Millwall!$AD136:$AO136,0)","v":{"$error":"#N/A"}},{"$f":"MATCH(AN$4,Millwall!$AD136:$AO136,0)","v":{"$error":"#N/A"}},{"$f":"MATCH(AO$4,Millwall!$AD136:$AO136,0)","v":{"$error":"#N/A"}},{"$f":"MATCH(AP$4,Millwall!$AD136:$AO136,0)","v":{"$error":"#N/A"}},{"$f":"MATCH(AQ$4,Millwall!$AD136:$AO136,0)","v":{"$error":"#N/A"}},{"$f":"MATCH(AR$4,Millwall!$AD136:$AO136,0)","v":{"$error":"#N/A"}},null,null,null,null,null,{"$f":"MATCH(AX$3,Millwall!$AD136:$AO136,0)","v":{"$error":"#N/A"}},{"$f":"MATCH(AY$3,Millwall!$AD136:$AO136,0)","v":{"$error":"#N/A"}},{"$f":"MATCH(AZ$3,Millwall!$AD136:$AO136,0)","v":{"$error":"#N/A"}},{"$f":"MATCH(BA$3,Millwall!$AD136:$AO136,0)","v":{"$error":"#N/A"}},{"$f":"MATCH(BB$3,Millwall!$AD136:$AO136,0)","v":{"$error":"#N/A"}},{"$f":"MATCH(BC$3,Millwall!$AD136:$AO136,0)","v":{"$error":"#N/A"}},{"$f":"MATCH(BD$3,Millwall!$AD136:$AO136,0)","v":{"$error":"#N/A"}},{"$f":"MATCH(BE$3,Millwall!$AD136:$AO136,0)","v":{"$error":"#N/A"}},{"$f":"MATCH(BF$3,Millwall!$AD136:$AO136,0)","v":{"$error":"#N/A"}},{"$f":"MATCH(BG$3,Millwall!$AD136:$AO136,0)","v":{"$error":"#N/A"}},{"$f":"MATCH(BH$3,Millwall!$AD136:$AO136,0)","v":{"$error":"#N/A"}},{"$f":"MATCH(BI$3,Millwall!$AD136:$AO136,0)","v":12},{"$f":"MATCH(BJ$3,Millwall!$AD136:$AO136,0)","v":{"$error":"#N/A"}},{"$f":"MATCH(BK$3,Millwall!$AD136:$AO136,0)","v":{"$error":"#N/A"}},{"$f":"MATCH(BL$3,Millwall!$AD136:$AO136,0)","v":{"$error":"#N/A"}},{"$f":"MATCH(BM$3,Millwall!$AD136:$AO136,0)","v":{"$error":"#N/A"}},{"$f":"MATCH(BN$3,Millwall!$AD136:$AO136,0)","v":{"$error":"#N/A"}},{"$f":"MATCH(BO$3,Millwall!$AD136:$AO136,0)","v":{"$error":"#N/A"}},{"$f":"MATCH(BP$3,Millwall!$AD136:$AO136,0)","v":{"$error":"#N/A"}},{"$f":"MATCH(BQ$3,Millwall!$AD136:$AO136,0)","v":{"$error":"#N/A"}},{"$f":"MATCH(BR$3,Millwall!$AD136:$AO136,0)","v":3},{"$f":"MATCH(BS$3,Millwall!$AD136:$AO136,0)","v":{"$error":"#N/A"}},{"$f":"MATCH(BT$3,Millwall!$AD136:$AO136,0)","v":{"$error":"#N/A"}},{"$f":"MATCH(BU$3,Millwall!$AD136:$AO136,0)","v":{"$error":"#N/A"}},{"$f":"MATCH(BV$3,Millwall!$AD136:$AO136,0)","v":{"$error":"#N/A"}},{"$f":"MATCH(BW$3,Millwall!$AD136:$AO136,0)","v":{"$error":"#N/A"}},{"$f":"MATCH(BX$3,Millwall!$AD136:$AO136,0)","v":{"$error":"#N/A"}},{"$f":"MATCH(BY$3,Millwall!$AD136:$AO136,0)","v":{"$error":"#N/A"}},{"$f":"MATCH(BZ$3,Millwall!$AD136:$AO136,0)","v":{"$error":"#N/A"}},{"$f":"MATCH(CA$3,Millwall!$AD136:$AO136,0)","v":{"$error":"#N/A"}},{"$f":"MATCH(CB$3,Millwall!$AD136:$AO136,0)","v":{"$error":"#N/A"}},{"$f":"MATCH(CC$3,Millwall!$AD136:$AO136,0)","v":{"$error":"#N/A"}},{"$f":"MATCH(CD$3,Millwall!$AD136:$AO136,0)","v":{"$error":"#N/A"}},{"$f":"MATCH(CE$3,Millwall!$AD136:$AO136,0)","v":{"$error":"#N/A"}}]
[null,null,{"$f":"IF(J73=0,1,0)","v":0},1,null,{"$f":"Millwall!Z137","v":"1983-09-14"},null,{"$f":"Millwall!AA137","v":"Northampton"},{"$f":"Millwall!AB137","v":"(A)"},{"$f":"Millwall!AC137","v":"W 2-1"},{"$f":"MATCH(K$4,Millwall!$AD137:$AO137,0)","v":7},{"$f":"MATCH(L$4,Millwall!$AD137:$AO137,0)","v":{"$error":"#N/A"}},{"$f":"MATCH(M$4,Millwall!$AD137:$AO137,0)","v":11},{"$f":"MATCH(N$4,Millwall!$AD137:$AO137,0)","v":{"$error":"#N/A"}},{"$f":"MATCH(O$4,Millwall!$AD137:$AO137,0)","v":{"$error":"#N/A"}},{"$f":"MATCH(P$4,Millwall!$AD137:$AO137,0)","v":6},{"$f":"MATCH(Q$4,Millwall!$AD137:$AO137,0)","v":2},{"$f":"MATCH(R$4,Millwall!$AD137:$AO137,0)","v":8},{"$f":"MATCH(S$4,Millwall!$AD137:$AO137,0)","v":{"$error":"#N/A"}},{"$f":"MATCH(T$4,Millwall!$AD137:$AO137,0)","v":{"$error":"#N/A"}},{"$f":"MATCH(U$4,Millwall!$AD137:$AO137,0)","v":{"$error":"#N/A"}},{"$f":"MATCH(V$4,Millwall!$AD137:$AO137,0)","v":9},{"$f":"MATCH(W$4,Millwall!$AD137:$AO137,0)","v":{"$error":"#N/A"}},{"$f":"MATCH(X$4,Millwall!$AD137:$AO137,0)","v":5},{"$f":"MATCH(Y$4,Millwall!$AD137:$AO137,0)","v":10},{"$f":"MATCH(Z$4,Millwall!$AD137:$AO137,0)","v":12},{"$f":"MATCH(AA$4,Millwall!$AD137:$AO137,0)","v":1},{"$f":"MATCH(AB$4,Millwall!$AD137:$AO137,0)","v":{"$error":"#N/A"}},{"$f":"MATCH(AC$4,Millwall!$AD137:$AO137,0)","v":{"$error":"#N/A"}},{"$f":"MATCH(AD$4,Millwall!$AD137:$AO137,0)","v":{"$error":"#N/A"}},{"$f":"MATCH(AE$4,Millwall!$AD137:$AO137,0)","v":3},{"$f":"MATCH(AF$4,Millwall!$AD137:$AO137,0)","v":{"$error":"#N/A"}},{"$f":"MATCH(AG$4,Millwall!$AD137:$AO137,0)","v":4},{"$f":"MATCH(AH$4,Millwall!$AD137:$AO137,0)","v":{"$error":"#N/A"}},{"$f":"MATCH(AI$4,Millwall!$AD137:$AO137,0)","v":{"$error":"#N/A"}},{"$f":"MATCH(AJ$4,Millwall!$AD137:$AO137,0)","v":{"$error":"#N/A"}},{"$f":"MATCH(AK$4,Millwall!$AD137:$AO137,0)","v":{"$error":"#N/A"}},{"$f":"MATCH(AL$4,Millwall!$AD137:$AO137,0)","v":{"$error":"#N/A"}},{"$f":"MATCH(AM$4,Millwall!$AD137:$AO137,0)","v":{"$error":"#N/A"}},{"$f":"MATCH(AN$4,Millwall!$AD137:$AO137,0)","v":{"$error":"#N/A"}},{"$f":"MATCH(AO$4,Millwall!$AD137:$AO137,0)","v":{"$error":"#N/A"}},{"$f":"MATCH(AP$4,Millwall!$AD137:$AO137,0)","v":{"$error":"#N/A"}},{"$f":"MATCH(AQ$4,Millwall!$AD137:$AO137,0)","v":{"$error":"#N/A"}},{"$f":"MATCH(AR$4,Millwall!$AD137:$AO137,0)","v":{"$error":"#N/A"}},null,null,null,null,null,{"$f":"MATCH(AX$3,Millwall!$AD137:$AO137,0)","v":{"$error":"#N/A"}},{"$f":"MATCH(AY$3,Millwall!$AD137:$AO137,0)","v":{"$error":"#N/A"}},{"$f":"MATCH(AZ$3,Millwall!$AD137:$AO137,0)","v":{"$error":"#N/A"}},{"$f":"MATCH(BA$3,Millwall!$AD137:$AO137,0)","v":{"$error":"#N/A"}},{"$f":"MATCH(BB$3,Millwall!$AD137:$AO137,0)","v":{"$error":"#N/A"}},{"$f":"MATCH(BC$3,Millwall!$AD137:$AO137,0)","v":{"$error":"#N/A"}},{"$f":"MATCH(BD$3,Millwall!$AD137:$AO137,0)","v":{"$error":"#N/A"}},{"$f":"MATCH(BE$3,Millwall!$AD137:$AO137,0)","v":{"$error":"#N/A"}},{"$f":"MATCH(BF$3,Millwall!$AD137:$AO137,0)","v":{"$error":"#N/A"}},{"$f":"MATCH(BG$3,Millwall!$AD137:$AO137,0)","v":{"$error":"#N/A"}},{"$f":"MATCH(BH$3,Millwall!$AD137:$AO137,0)","v":{"$error":"#N/A"}},{"$f":"MATCH(BI$3,Millwall!$AD137:$AO137,0)","v":{"$error":"#N/A"}},{"$f":"MATCH(BJ$3,Millwall!$AD137:$AO137,0)","v":{"$error":"#N/A"}},{"$f":"MATCH(BK$3,Millwall!$AD137:$AO137,0)","v":{"$error":"#N/A"}},{"$f":"MATCH(BL$3,Millwall!$AD137:$AO137,0)","v":{"$error":"#N/A"}},{"$f":"MATCH(BM$3,Millwall!$AD137:$AO137,0)","v":{"$error":"#N/A"}},{"$f":"MATCH(BN$3,Millwall!$AD137:$AO137,0)","v":{"$error":"#N/A"}},{"$f":"MATCH(BO$3,Millwall!$AD137:$AO137,0)","v":{"$error":"#N/A"}},{"$f":"MATCH(BP$3,Millwall!$AD137:$AO137,0)","v":{"$error":"#N/A"}},{"$f":"MATCH(BQ$3,Millwall!$AD137:$AO137,0)","v":{"$error":"#N/A"}},{"$f":"MATCH(BR$3,Millwall!$AD137:$AO137,0)","v":{"$error":"#N/A"}},{"$f":"MATCH(BS$3,Millwall!$AD137:$AO137,0)","v":{"$error":"#N/A"}},{"$f":"MATCH(BT$3,Millwall!$AD137:$AO137,0)","v":{"$error":"#N/A"}},{"$f":"MATCH(BU$3,Millwall!$AD137:$AO137,0)","v":{"$error":"#N/A"}},{"$f":"MATCH(BV$3,Millwall!$AD137:$AO137,0)","v":{"$error":"#N/A"}},{"$f":"MATCH(BW$3,Millwall!$AD137:$AO137,0)","v":{"$error":"#N/A"}},{"$f":"MATCH(BX$3,Millwall!$AD137:$AO137,0)","v":{"$error":"#N/A"}},{"$f":"MATCH(BY$3,Millwall!$AD137:$AO137,0)","v":{"$error":"#N/A"}},{"$f":"MATCH(BZ$3,Millwall!$AD137:$AO137,0)","v":{"$error":"#N/A"}},{"$f":"MATCH(CA$3,Millwall!$AD137:$AO137,0)","v":{"$error":"#N/A"}},{"$f":"MATCH(CB$3,Millwall!$AD137:$AO137,0)","v":{"$error":"#N/A"}},{"$f":"MATCH(CC$3,Millwall!$AD137:$AO137,0)","v":{"$error":"#N/A"}},{"$f":"MATCH(CD$3,Millwall!$AD137:$AO137,0)","v":{"$error":"#N/A"}},{"$f":"MATCH(CE$3,Millwall!$AD137:$AO137,0)","v":{"$error":"#N/A"}}]
[null,null,0,2,null,{"$f":"Millwall!Z138","v":"1983-10-04"},null,{"$f":"Millwall!AA138","v":"West Brom"},{"$f":"Millwall!AB138","v":"(H)"},{"$f":"Millwall!AC138","v":"W 3-0"},{"$f":"MATCH(K$4,Millwall!$AD138:$AO138,0)","v":7},{"$f":"MATCH(L$4,Millwall!$AD138:$AO138,0)","v":{"$error":"#N/A"}},{"$f":"MATCH(M$4,Millwall!$AD138:$AO138,0)","v":11},{"$f":"MATCH(N$4,Millwall!$AD138:$AO138,0)","v":{"$error":"#N/A"}},{"$f":"MATCH(O$4,Millwall!$AD138:$AO138,0)","v":{"$error":"#N/A"}},{"$f":"MATCH(P$4,Millwall!$AD138:$AO138,0)","v":6},{"$f":"MATCH(Q$4,Millwall!$AD138:$AO138,0)","v":2},{"$f":"MATCH(R$4,Millwall!$AD138:$AO138,0)","v":8},{"$f":"MATCH(S$4,Millwall!$AD138:$AO138,0)","v":12},{"$f":"MATCH(T$4,Millwall!$AD138:$AO138,0)","v":{"$error":"#N/A"}},{"$f":"MATCH(U$4,Millwall!$AD138:$AO138,0)","v":{"$error":"#N/A"}},{"$f":"MATCH(V$4,Millwall!$AD138:$AO138,0)","v":9},{"$f":"MATCH(W$4,Millwall!$AD138:$AO138,0)","v":{"$error":"#N/A"}},{"$f":"MATCH(X$4,Millwall!$AD138:$AO138,0)","v":5},{"$f":"MATCH(Y$4,Millwall!$AD138:$AO138,0)","v":10},{"$f":"MATCH(Z$4,Millwall!$AD138:$AO138,0)","v":3},{"$f":"MATCH(AA$4,Millwall!$AD138:$AO138,0)","v":{"$error":"#N/A"}},{"$f":"MATCH(AB$4,Millwall!$AD138:$AO138,0)","v":{"$error":"#N/A"}},{"$f":"MATCH(AC$4,Millwall!$AD138:$AO138,0)","v":{"$error":"#N/A"}},{"$f":"MATCH(AD$4,Millwall!$AD138:$AO138,0)","v":{"$error":"#N/A"}},{"$f":"MATCH(AE$4,Millwall!$AD138:$AO138,0)","v":{"$error":"#N/A"}},{"$f":"MATCH(AF$4,Millwall!$AD138:$AO138,0)","v":1},{"$f":"MATCH(AG$4,Millwall!$AD138:$AO138,0)","v":4},{"$f":"MATCH(AH$4,Millwall!$AD138:$AO138,0)","v":{"$error":"#N/A"}},{"$f":"MATCH(AI$4,Millwall!$AD138:$AO138,0)","v":{"$error":"#N/A"}},{"$f":"MATCH(AJ$4,Millwall!$AD138:$AO138,0)","v":{"$error":"#N/A"}},{"$f":"MATCH(AK$4,Millwall!$AD138:$AO138,0)","v":{"$error":"#N/A"}},{"$f":"MATCH(AL$4,Millwall!$AD138:$AO138,0)","v":{"$error":"#N/A"}},{"$f":"MATCH(AM$4,Millwall!$AD138:$AO138,0)","v":{"$error":"#N/A"}},{"$f":"MATCH(AN$4,Millwall!$AD138:$AO138,0)","v":{"$error":"#N/A"}},{"$f":"MATCH(AO$4,Millwall!$AD138:$AO138,0)","v":{"$error":"#N/A"}},{"$f":"MATCH(AP$4,Millwall!$AD138:$AO138,0)","v":{"$error":"#N/A"}},{"$f":"MATCH(AQ$4,Millwall!$AD138:$AO138,0)","v":{"$error":"#N/A"}},{"$f":"MATCH(AR$4,Millwall!$AD138:$AO138,0)","v":{"$error":"#N/A"}},null,null,null,null,null,{"$f":"MATCH(AX$3,Millwall!$AD138:$AO138,0)","v":{"$error":"#N/A"}},{"$f":"MATCH(AY$3,Millwall!$AD138:$AO138,0)","v":{"$error":"#N/A"}},{"$f":"MATCH(AZ$3,Millwall!$AD138:$AO138,0)","v":{"$error":"#N/A"}},{"$f":"MATCH(BA$3,Millwall!$AD138:$AO138,0)","v":{"$error":"#N/A"}},{"$f":"MATCH(BB$3,Millwall!$AD138:$AO138,0)","v":{"$error":"#N/A"}},{"$f":"MATCH(BC$3,Millwall!$AD138:$AO138,0)","v":{"$error":"#N/A"}},{"$f":"MATCH(BD$3,Millwall!$AD138:$AO138,0)","v":{"$error":"#N/A"}},{"$f":"MATCH(BE$3,Millwall!$AD138:$AO138,0)","v":{"$error":"#N/A"}},{"$f":"MATCH(BF$3,Millwall!$AD138:$AO138,0)","v":12},{"$f":"MATCH(BG$3,Millwall!$AD138:$AO138,0)","v":{"$error":"#N/A"}},{"$f":"MATCH(BH$3,Millwall!$AD138:$AO138,0)","v":{"$error":"#N/A"}},{"$f":"MATCH(BI$3,Millwall!$AD138:$AO138,0)","v":{"$error":"#N/A"}},{"$f":"MATCH(BJ$3,Millwall!$AD138:$AO138,0)","v":{"$error":"#N/A"}},{"$f":"MATCH(BK$3,Millwall!$AD138:$AO138,0)","v":5},{"$f":"MATCH(BL$3,Millwall!$AD138:$AO138,0)","v":{"$error":"#N/A"}},{"$f":"MATCH(BM$3,Millwall!$AD138:$AO138,0)","v":{"$error":"#N/A"}},{"$f":"MATCH(BN$3,Millwall!$AD138:$AO138,0)","v":{"$error":"#N/A"}},{"$f":"MATCH(BO$3,Millwall!$AD138:$AO138,0)","v":{"$error":"#N/A"}},{"$f":"MATCH(BP$3,Millwall!$AD138:$AO138,0)","v":{"$error":"#N/A"}},{"$f":"MATCH(BQ$3,Millwall!$AD138:$AO138,0)","v":{"$error":"#N/A"}},{"$f":"MATCH(BR$3,Millwall!$AD138:$AO138,0)","v":{"$error":"#N/A"}},{"$f":"MATCH(BS$3,Millwall!$AD138:$AO138,0)","v":{"$error":"#N/A"}},{"$f":"MATCH(BT$3,Millwall!$AD138:$AO138,0)","v":{"$error":"#N/A"}},{"$f":"MATCH(BU$3,Millwall!$AD138:$AO138,0)","v":{"$error":"#N/A"}},{"$f":"MATCH(BV$3,Millwall!$AD138:$AO138,0)","v":{"$error":"#N/A"}},{"$f":"MATCH(BW$3,Millwall!$AD138:$AO138,0)","v":{"$error":"#N/A"}},{"$f":"MATCH(BX$3,Millwall!$AD138:$AO138,0)","v":{"$error":"#N/A"}},{"$f":"MATCH(BY$3,Millwall!$AD138:$AO138,0)","v":{"$error":"#N/A"}},{"$f":"MATCH(BZ$3,Millwall!$AD138:$AO138,0)","v":{"$error":"#N/A"}},{"$f":"MATCH(CA$3,Millwall!$AD138:$AO138,0)","v":{"$error":"#N/A"}},{"$f":"MATCH(CB$3,Millwall!$AD138:$AO138,0)","v":{"$error":"#N/A"}},{"$f":"MATCH(CC$3,Millwall!$AD138:$AO138,0)","v":{"$error":"#N/A"}},{"$f":"MATCH(CD$3,Millwall!$AD138:$AO138,0)","v":{"$error":"#N/A"}},{"$f":"MATCH(CE$3,Millwall!$AD138:$AO138,0)","v":{"$error":"#N/A"}}]
[null,null,0,null,null,{"$f":"Millwall!Z139","v":"1983-10-25"},null,{"$f":"Millwall!AA139","v":"West Brom"},{"$f":"Millwall!AB139","v":"(H)"},{"$f":"Millwall!AC139","v":"L 1-5"},{"$f":"MATCH(K$4,Millwall!$AD139:$AO139,0)","v":7},{"$f":"MATCH(L$4,Millwall!$AD139:$AO139,0)","v":{"$error":"#N/A"}},{"$f":"MATCH(M$4,Millwall!$AD139:$AO139,0)","v":11},{"$f":"MATCH(N$4,Millwall!$AD139:$AO139,0)","v":{"$error":"#N/A"}},{"$f":"MATCH(O$4,Millwall!$AD139:$AO139,0)","v":{"$error":"#N/A"}},{"$f":"MATCH(P$4,Millwall!$AD139:$AO139,0)","v":6},{"$f":"MATCH(Q$4,Millwall!$AD139:$AO139,0)","v":2},{"$f":"MATCH(R$4,Millwall!$AD139:$AO139,0)","v":8},{"$f":"MATCH(S$4,Millwall!$AD139:$AO139,0)","v":12},{"$f":"MATCH(T$4,Millwall!$AD139:$AO139,0)","v":{"$error":"#N/A"}},{"$f":"MATCH(U$4,Millwall!$AD139:$AO139,0)","v":{"$error":"#N/A"}},{"$f":"MATCH(V$4,Millwall!$AD139:$AO139,0)","v":9},{"$f":"MATCH(W$4,Millwall!$AD139:$AO139,0)","v":{"$error":"#N/A"}},{"$f":"MATCH(X$4,Millwall!$AD139:$AO139,0)","v":5},{"$f":"MATCH(Y$4,Millwall!$AD139:$AO139,0)","v":{"$error":"#N/A"}},{"$f":"MATCH(Z$4,Millwall!$AD139:$AO139,0)","v":10},{"$f":"MATCH(AA$4,Millwall!$AD139:$AO139,0)","v":{"$error":"#N/A"}},{"$f":"MATCH(AB$4,Millwall!$AD139:$AO139,0)","v":{"$error":"#N/A"}},{"$f":"MATCH(AC$4,Millwall!$AD139:$AO139,0)","v":{"$error":"#N/A"}},{"$f":"MATCH(AD$4,Millwall!$AD139:$AO139,0)","v":{"$error":"#N/A"}},{"$f":"MATCH(AE$4,Millwall!$AD139:$AO139,0)","v":3},{"$f":"MATCH(AF$4,Millwall!$AD139:$AO139,0)","v":1},{"$f":"MATCH(AG$4,Millwall!$AD139:$AO139,0)","v":4},{"$f":"MATCH(AH$4,Millwall!$AD139:$AO139,0)","v":{"$error":"#N/A"}},{"$f":"MATCH(AI$4,Millwall!$AD139:$AO139,0)","v":{"$error":"#N/A"}},{"$f":"MATCH(AJ$4,Millwall!$AD139:$AO139,0)","v":{"$error":"#N/A"}},{"$f":"MATCH(AK$4,Millwall!$AD139:$AO139,0)","v":{"$error":"#N/A"}},{"$f":"MATCH(AL$4,Millwall!$AD139:$AO139,0)","v":{"$error":"#N/A"}},{"$f":"MATCH(AM$4,Millwall!$AD139:$AO139,0)","v":{"$error":"#N/A"}},{"$f":"MATCH(AN$4,Millwall!$AD139:$AO139,0)","v":{"$error":"#N/A"}},{"$f":"MATCH(AO$4,Millwall!$AD139:$AO139,0)","v":{"$error":"#N/A"}},{"$f":"MATCH(AP$4,Millwall!$AD139:$AO139,0)","v":{"$error":"#N/A"}},{"$f":"MATCH(AQ$4,Millwall!$AD139:$AO139,0)","v":{"$error":"#N/A"}},{"$f":"MATCH(AR$4,Millwall!$AD139:$AO139,0)","v":{"$error":"#N/A"}},null,null,null,null,null,{"$f":"MATCH(AX$3,Millwall!$AD139:$AO139,0)","v":{"$error":"#N/A"}},{"$f":"MATCH(AY$3,Millwall!$AD139:$AO139,0)","v":{"$error":"#N/A"}},{"$f":"MATCH(AZ$3,Millwall!$AD139:$AO139,0)","v":{"$error":"#N/A"}},{"$f":"MATCH(BA$3,Millwall!$AD139:$AO139,0)","v":{"$error":"#N/A"}},{"$f":"MATCH(BB$3,Millwall!$AD139:$AO139,0)","v":{"$error":"#N/A"}},{"$f":"MATCH(BC$3,Millwall!$AD139:$AO139,0)","v":{"$error":"#N/A"}},{"$f":"MATCH(BD$3,Millwall!$AD139:$AO139,0)","v":{"$error":"#N/A"}},{"$f":"MATCH(BE$3,Millwall!$AD139:$AO139,0)","v":{"$error":"#N/A"}},{"$f":"MATCH(BF$3,Millwall!$AD139:$AO139,0)","v":12},{"$f":"MATCH(BG$3,Millwall!$AD139:$AO139,0)","v":{"$error":"#N/A"}},{"$f":"MATCH(BH$3,Millwall!$AD139:$AO139,0)","v":{"$error":"#N/A"}},{"$f":"MATCH(BI$3,Millwall!$AD139:$AO139,0)","v":{"$error":"#N/A"}},{"$f":"MATCH(BJ$3,Millwall!$AD139:$AO139,0)","v":{"$error":"#N/A"}},{"$f":"MATCH(BK$3,Millwall!$AD139:$AO139,0)","v":{"$error":"#N/A"}},{"$f":"MATCH(BL$3,Millwall!$AD139:$AO139,0)","v":{"$error":"#N/A"}},{"$f":"MATCH(BM$3,Millwall!$AD139:$AO139,0)","v":10},{"$f":"MATCH(BN$3,Millwall!$AD139:$AO139,0)","v":{"$error":"#N/A"}},{"$f":"MATCH(BO$3,Millwall!$AD139:$AO139,0)","v":{"$error":"#N/A"}},{"$f":"MATCH(BP$3,Millwall!$AD139:$AO139,0)","v":{"$error":"#N/A"}},{"$f":"MATCH(BQ$3,Millwall!$AD139:$AO139,0)","v":{"$error":"#N/A"}},{"$f":"MATCH(BR$3,Millwall!$AD139:$AO139,0)","v":{"$error":"#N/A"}},{"$f":"MATCH(BS$3,Millwall!$AD139:$AO139,0)","v":{"$error":"#N/A"}},{"$f":"MATCH(BT$3,Millwall!$AD139:$AO139,0)","v":{"$error":"#N/A"}},{"$f":"MATCH(BU$3,Millwall!$AD139:$AO139,0)","v":{"$error":"#N/A"}},{"$f":"MATCH(BV$3,Millwall!$AD139:$AO139,0)","v":{"$error":"#N/A"}},{"$f":"MATCH(BW$3,Millwall!$AD139:$AO139,0)","v":{"$error":"#N/A"}},{"$f":"MATCH(BX$3,Millwall!$AD139:$AO139,0)","v":{"$error":"#N/A"}},{"$f":"MATCH(BY$3,Millwall!$AD139:$AO139,0)","v":{"$error":"#N/A"}},{"$f":"MATCH(BZ$3,Millwall!$AD139:$AO139,0)","v":{"$error":"#N/A"}},{"$f":"MATCH(CA$3,Millwall!$AD139:$AO139,0)","v":{"$error":"#N/A"}},{"$f":"MATCH(CB$3,Millwall!$AD139:$AO139,0)","v":{"$error":"#N/A"}},{"$f":"MATCH(CC$3,Millwall!$AD139:$AO139,0)","v":{"$error":"#N/A"}},{"$f":"MATCH(CD$3,Millwall!$AD139:$AO139,0)","v":{"$error":"#N/A"}},{"$f":"MATCH(CE$3,Millwall!$AD139:$AO139,0)","v":{"$error":"#N/A"}}]
[null,null,1,null,null,{"$f":"Millwall!Z140","v":"00:00:00"},null,{"$f":"Millwall!AA140","v":"00:00:00"},{"$f":"Millwall!AB140","v":"00:00:00"},{"$f":"Millwall!AC140","v":0},{"$f":"MATCH(K$4,Millwall!$AD140:$AO140,0)","v":{"$error":"#N/A"}},{"$f":"MATCH(L$4,Millwall!$AD140:$AO140,0)","v":{"$error":"#N/A"}},{"$f":"MATCH(M$4,Millwall!$AD140:$AO140,0)","v":{"$error":"#N/A"}},{"$f":"MATCH(N$4,Millwall!$AD140:$AO140,0)","v":{"$error":"#N/A"}},{"$f":"MATCH(O$4,Millwall!$AD140:$AO140,0)","v":{"$error":"#N/A"}},{"$f":"MATCH(P$4,Millwall!$AD140:$AO140,0)","v":{"$error":"#N/A"}},{"$f":"MATCH(Q$4,Millwall!$AD140:$AO140,0)","v":{"$error":"#N/A"}},{"$f":"MATCH(R$4,Millwall!$AD140:$AO140,0)","v":{"$error":"#N/A"}},{"$f":"MATCH(S$4,Millwall!$AD140:$AO140,0)","v":{"$error":"#N/A"}},{"$f":"MATCH(T$4,Millwall!$AD140:$AO140,0)","v":{"$error":"#N/A"}},{"$f":"MATCH(U$4,Millwall!$AD140:$AO140,0)","v":{"$error":"#N/A"}},{"$f":"MATCH(V$4,Millwall!$AD140:$AO140,0)","v":{"$error":"#N/A"}},{"$f":"MATCH(W$4,Millwall!$AD140:$AO140,0)","v":{"$error":"#N/A"}},{"$f":"MATCH(X$4,Millwall!$AD140:$AO140,0)","v":{"$error":"#N/A"}},{"$f":"MATCH(Y$4,Millwall!$AD140:$AO140,0)","v":{"$error":"#N/A"}},{"$f":"MATCH(Z$4,Millwall!$AD140:$AO140,0)","v":{"$error":"#N/A"}},{"$f":"MATCH(AA$4,Millwall!$AD140:$AO140,0)","v":{"$error":"#N/A"}},{"$f":"MATCH(AB$4,Millwall!$AD140:$AO140,0)","v":{"$error":"#N/A"}},{"$f":"MATCH(AC$4,Millwall!$AD140:$AO140,0)","v":{"$error":"#N/A"}},{"$f":"MATCH(AD$4,Millwall!$AD140:$AO140,0)","v":{"$error":"#N/A"}},{"$f":"MATCH(AE$4,Millwall!$AD140:$AO140,0)","v":{"$error":"#N/A"}},{"$f":"MATCH(AF$4,Millwall!$AD140:$AO140,0)","v":{"$error":"#N/A"}},{"$f":"MATCH(AG$4,Millwall!$AD140:$AO140,0)","v":{"$error":"#N/A"}},{"$f":"MATCH(AH$4,Millwall!$AD140:$AO140,0)","v":{"$error":"#N/A"}},{"$f":"MATCH(AI$4,Millwall!$AD140:$AO140,0)","v":{"$error":"#N/A"}},{"$f":"MATCH(AJ$4,Millwall!$AD140:$AO140,0)","v":{"$error":"#N/A"}},{"$f":"MATCH(AK$4,Millwall!$AD140:$AO140,0)","v":{"$error":"#N/A"}},{"$f":"MATCH(AL$4,Millwall!$AD140:$AO140,0)","v":{"$error":"#N/A"}},{"$f":"MATCH(AM$4,Millwall!$AD140:$AO140,0)","v":{"$error":"#N/A"}},{"$f":"MATCH(AN$4,Millwall!$AD140:$AO140,0)","v":{"$error":"#N/A"}},{"$f":"MATCH(AO$4,Millwall!$AD140:$AO140,0)","v":{"$error":"#N/A"}},{"$f":"MATCH(AP$4,Millwall!$AD140:$AO140,0)","v":{"$error":"#N/A"}},{"$f":"MATCH(AQ$4,Millwall!$AD140:$AO140,0)","v":{"$error":"#N/A"}},{"$f":"MATCH(AR$4,Millwall!$AD140:$AO140,0)","v":{"$error":"#N/A"}},null,null,null,null,null,{"$f":"MATCH(AX$3,Millwall!$AD140:$AO140,0)","v":{"$error":"#N/A"}},{"$f":"MATCH(AY$3,Millwall!$AD140:$AO140,0)","v":{"$error":"#N/A"}},{"$f":"MATCH(AZ$3,Millwall!$AD140:$AO140,0)","v":{"$error":"#N/A"}},{"$f":"MATCH(BA$3,Millwall!$AD140:$AO140,0)","v":{"$error":"#N/A"}},{"$f":"MATCH(BB$3,Millwall!$AD140:$AO140,0)","v":{"$error":"#N/A"}},{"$f":"MATCH(BC$3,Millwall!$AD140:$AO140,0)","v":{"$error":"#N/A"}},{"$f":"MATCH(BD$3,Millwall!$AD140:$AO140,0)","v":{"$error":"#N/A"}},{"$f":"MATCH(BE$3,Millwall!$AD140:$AO140,0)","v":{"$error":"#N/A"}},{"$f":"MATCH(BF$3,Millwall!$AD140:$AO140,0)","v":{"$error":"#N/A"}},{"$f":"MATCH(BG$3,Millwall!$AD140:$AO140,0)","v":{"$error":"#N/A"}},{"$f":"MATCH(BH$3,Millwall!$AD140:$AO140,0)","v":{"$error":"#N/A"}},{"$f":"MATCH(BI$3,Millwall!$AD140:$AO140,0)","v":{"$error":"#N/A"}},{"$f":"MATCH(BJ$3,Millwall!$AD140:$AO140,0)","v":{"$error":"#N/A"}},{"$f":"MATCH(BK$3,Millwall!$AD140:$AO140,0)","v":{"$error":"#N/A"}},{"$f":"MATCH(BL$3,Millwall!$AD140:$AO140,0)","v":{"$error":"#N/A"}},{"$f":"MATCH(BM$3,Millwall!$AD140:$AO140,0)","v":{"$error":"#N/A"}},{"$f":"MATCH(BN$3,Millwall!$AD140:$AO140,0)","v":{"$error":"#N/A"}},{"$f":"MATCH(BO$3,Millwall!$AD140:$AO140,0)","v":{"$error":"#N/A"}},{"$f":"MATCH(BP$3,Millwall!$AD140:$AO140,0)","v":{"$error":"#N/A"}},{"$f":"MATCH(BQ$3,Millwall!$AD140:$AO140,0)","v":{"$error":"#N/A"}},{"$f":"MATCH(BR$3,Millwall!$AD140:$AO140,0)","v":{"$error":"#N/A"}},{"$f":"MATCH(BS$3,Millwall!$AD140:$AO140,0)","v":{"$error":"#N/A"}},{"$f":"MATCH(BT$3,Millwall!$AD140:$AO140,0)","v":{"$error":"#N/A"}},{"$f":"MATCH(BU$3,Millwall!$AD140:$AO140,0)","v":{"$error":"#N/A"}},{"$f":"MATCH(BV$3,Millwall!$AD140:$AO140,0)","v":{"$error":"#N/A"}},{"$f":"MATCH(BW$3,Millwall!$AD140:$AO140,0)","v":{"$error":"#N/A"}},{"$f":"MATCH(BX$3,Millwall!$AD140:$AO140,0)","v":{"$error":"#N/A"}},{"$f":"MATCH(BY$3,Millwall!$AD140:$AO140,0)","v":{"$error":"#N/A"}},{"$f":"MATCH(BZ$3,Millwall!$AD140:$AO140,0)","v":{"$error":"#N/A"}},{"$f":"MATCH(CA$3,Millwall!$AD140:$AO140,0)","v":{"$error":"#N/A"}},{"$f":"MATCH(CB$3,Millwall!$AD140:$AO140,0)","v":{"$error":"#N/A"}},{"$f":"MATCH(CC$3,Millwall!$AD140:$AO140,0)","v":{"$error":"#N/A"}},{"$f":"MATCH(CD$3,Millwall!$AD140:$AO140,0)","v":{"$error":"#N/A"}},{"$f":"MATCH(CE$3,Millwall!$AD140:$AO140,0)","v":{"$error":"#N/A"}}]
[null,null,1,null,null,{"$f":"Millwall!Z141","v":"00:00:00"},null,{"$f":"Millwall!AA141","v":"00:00:00"},{"$f":"Millwall!AB141","v":"00:00:00"},{"$f":"Millwall!AC141","v":0},{"$f":"MATCH(K$4,Millwall!$AD141:$AO141,0)","v":{"$error":"#N/A"}},{"$f":"MATCH(L$4,Millwall!$AD141:$AO141,0)","v":{"$error":"#N/A"}},{"$f":"MATCH(M$4,Millwall!$AD141:$AO141,0)","v":{"$error":"#N/A"}},{"$f":"MATCH(N$4,Millwall!$AD141:$AO141,0)","v":{"$error":"#N/A"}},{"$f":"MATCH(O$4,Millwall!$AD141:$AO141,0)","v":{"$error":"#N/A"}},{"$f":"MATCH(P$4,Millwall!$AD141:$AO141,0)","v":{"$error":"#N/A"}},{"$f":"MATCH(Q$4,Millwall!$AD141:$AO141,0)","v":{"$error":"#N/A"}},{"$f":"MATCH(R$4,Millwall!$AD141:$AO141,0)","v":{"$error":"#N/A"}},{"$f":"MATCH(S$4,Millwall!$AD141:$AO141,0)","v":{"$error":"#N/A"}},{"$f":"MATCH(T$4,Millwall!$AD141:$AO141,0)","v":{"$error":"#N/A"}},{"$f":"MATCH(U$4,Millwall!$AD141:$AO141,0)","v":{"$error":"#N/A"}},{"$f":"MATCH(V$4,Millwall!$AD141:$AO141,0)","v":{"$error":"#N/A"}},{"$f":"MATCH(W$4,Millwall!$AD141:$AO141,0)","v":{"$error":"#N/A"}},{"$f":"MATCH(X$4,Millwall!$AD141:$AO141,0)","v":{"$error":"#N/A"}},{"$f":"MATCH(Y$4,Millwall!$AD141:$AO141,0)","v":{"$error":"#N/A"}},{"$f":"MATCH(Z$4,Millwall!$AD141:$AO141,0)","v":{"$error":"#N/A"}},{"$f":"MATCH(AA$4,Millwall!$AD141:$AO141,0)","v":{"$error":"#N/A"}},{"$f":"MATCH(AB$4,Millwall!$AD141:$AO141,0)","v":{"$error":"#N/A"}},{"$f":"MATCH(AC$4,Millwall!$AD141:$AO141,0)","v":{"$error":"#N/A"}},{"$f":"MATCH(AD$4,Millwall!$AD141:$AO141,0)","v":{"$error":"#N/A"}},{"$f":"MATCH(AE$4,Millwall!$AD141:$AO141,0)","v":{"$error":"#N/A"}},{"$f":"MATCH(AF$4,Millwall!$AD141:$AO141,0)","v":{"$error":"#N/A"}},{"$f":"MATCH(AG$4,Millwall!$AD141:$AO141,0)","v":{"$error":"#N/A"}},{"$f":"MATCH(AH$4,Millwall!$AD141:$AO141,0)","v":{"$error":"#N/A"}},{"$f":"MATCH(AI$4,Millwall!$AD141:$AO141,0)","v":{"$error":"#N/A"}},{"$f":"MATCH(AJ$4,Millwall!$AD141:$AO141,0)","v":{"$error":"#N/A"}},{"$f":"MATCH(AK$4,Millwall!$AD141:$AO141,0)","v":{"$error":"#N/A"}},{"$f":"MATCH(AL$4,Millwall!$AD141:$AO141,0)","v":{"$error":"#N/A"}},{"$f":"MATCH(AM$4,Millwall!$AD141:$AO141,0)","v":{"$error":"#N/A"}},{"$f":"MATCH(AN$4,Millwall!$AD141:$AO141,0)","v":{"$error":"#N/A"}},{"$f":"MATCH(AO$4,Millwall!$AD141:$AO141,0)","v":{"$error":"#N/A"}},{"$f":"MATCH(AP$4,Millwall!$AD141:$AO141,0)","v":{"$error":"#N/A"}},{"$f":"MATCH(AQ$4,Millwall!$AD141:$AO141,0)","v":{"$error":"#N/A"}},{"$f":"MATCH(AR$4,Millwall!$AD141:$AO141,0)","v":{"$error":"#N/A"}},null,null,null,null,null,{"$f":"MATCH(AX$3,Millwall!$AD141:$AO141,0)","v":{"$error":"#N/A"}},{"$f":"MATCH(AY$3,Millwall!$AD141:$AO141,0)","v":{"$error":"#N/A"}},{"$f":"MATCH(AZ$3,Millwall!$AD141:$AO141,0)","v":{"$error":"#N/A"}},{"$f":"MATCH(BA$3,Millwall!$AD141:$AO141,0)","v":{"$error":"#N/A"}},{"$f":"MATCH(BB$3,Millwall!$AD141:$AO141,0)","v":{"$error":"#N/A"}},{"$f":"MATCH(BC$3,Millwall!$AD141:$AO141,0)","v":{"$error":"#N/A"}},{"$f":"MATCH(BD$3,Millwall!$AD141:$AO141,0)","v":{"$error":"#N/A"}},{"$f":"MATCH(BE$3,Millwall!$AD141:$AO141,0)","v":{"$error":"#N/A"}},{"$f":"MATCH(BF$3,Millwall!$AD141:$AO141,0)","v":{"$error":"#N/A"}},{"$f":"MATCH(BG$3,Millwall!$AD141:$AO141,0)","v":{"$error":"#N/A"}},{"$f":"MATCH(BH$3,Millwall!$AD141:$AO141,0)","v":{"$error":"#N/A"}},{"$f":"MATCH(BI$3,Millwall!$AD141:$AO141,0)","v":{"$error":"#N/A"}},{"$f":"MATCH(BJ$3,Millwall!$AD141:$AO141,0)","v":{"$error":"#N/A"}},{"$f":"MATCH(BK$3,Millwall!$AD141:$AO141,0)","v":{"$error":"#N/A"}},{"$f":"MATCH(BL$3,Millwall!$AD141:$AO141,0)","v":{"$error":"#N/A"}},{"$f":"MATCH(BM$3,Millwall!$AD141:$AO141,0)","v":{"$error":"#N/A"}},{"$f":"MATCH(BN$3,Millwall!$AD141:$AO141,0)","v":{"$error":"#N/A"}},{"$f":"MATCH(BO$3,Millwall!$AD141:$AO141,0)","v":{"$error":"#N/A"}},{"$f":"MATCH(BP$3,Millwall!$AD141:$AO141,0)","v":{"$error":"#N/A"}},{"$f":"MATCH(BQ$3,Millwall!$AD141:$AO141,0)","v":{"$error":"#N/A"}},{"$f":"MATCH(BR$3,Millwall!$AD141:$AO141,0)","v":{"$error":"#N/A"}},{"$f":"MATCH(BS$3,Millwall!$AD141:$AO141,0)","v":{"$error":"#N/A"}},{"$f":"MATCH(BT$3,Millwall!$AD141:$AO141,0)","v":{"$error":"#N/A"}},{"$f":"MATCH(BU$3,Millwall!$AD141:$AO141,0)","v":{"$error":"#N/A"}},{"$f":"MATCH(BV$3,Millwall!$AD141:$AO141,0)","v":{"$error":"#N/A"}},{"$f":"MATCH(BW$3,Millwall!$AD141:$AO141,0)","v":{"$error":"#N/A"}},{"$f":"MATCH(BX$3,Millwall!$AD141:$AO141,0)","v":{"$error":"#N/A"}},{"$f":"MATCH(BY$3,Millwall!$AD141:$AO141,0)","v":{"$error":"#N/A"}},{"$f":"MATCH(BZ$3,Millwall!$AD141:$AO141,0)","v":{"$error":"#N/A"}},{"$f":"MATCH(CA$3,Millwall!$AD141:$AO141,0)","v":{"$error":"#N/A"}},{"$f":"MATCH(CB$3,Millwall!$AD141:$AO141,0)","v":{"$error":"#N/A"}},{"$f":"MATCH(CC$3,Millwall!$AD141:$AO141,0)","v":{"$error":"#N/A"}},{"$f":"MATCH(CD$3,Millwall!$AD141:$AO141,0)","v":{"$error":"#N/A"}},{"$f":"MATCH(CE$3,Millwall!$AD141:$AO141,0)","v":{"$error":"#N/A"}}]
[null,null,1,null,null,{"$f":"Millwall!Z142","v":"00:00:00"},null,{"$f":"Millwall!AA142","v":"00:00:00"},{"$f":"Millwall!AB142","v":"00:00:00"},{"$f":"Millwall!AC142","v":0},{"$f":"MATCH(K$4,Millwall!$AD142:$AO142,0)","v":{"$error":"#N/A"}},{"$f":"MATCH(L$4,Millwall!$AD142:$AO142,0)","v":{"$error":"#N/A"}},{"$f":"MATCH(M$4,Millwall!$AD142:$AO142,0)","v":{"$error":"#N/A"}},{"$f":"MATCH(N$4,Millwall!$AD142:$AO142,0)","v":{"$error":"#N/A"}},{"$f":"MATCH(O$4,Millwall!$AD142:$AO142,0)","v":{"$error":"#N/A"}},{"$f":"MATCH(P$4,Millwall!$AD142:$AO142,0)","v":{"$error":"#N/A"}},{"$f":"MATCH(Q$4,Millwall!$AD142:$AO142,0)","v":{"$error":"#N/A"}},{"$f":"MATCH(R$4,Millwall!$AD142:$AO142,0)","v":{"$error":"#N/A"}},{"$f":"MATCH(S$4,Millwall!$AD142:$AO142,0)","v":{"$error":"#N/A"}},{"$f":"MATCH(T$4,Millwall!$AD142:$AO142,0)","v":{"$error":"#N/A"}},{"$f":"MATCH(U$4,Millwall!$AD142:$AO142,0)","v":{"$error":"#N/A"}},{"$f":"MATCH(V$4,Millwall!$AD142:$AO142,0)","v":{"$error":"#N/A"}},{"$f":"MATCH(W$4,Millwall!$AD142:$AO142,0)","v":{"$error":"#N/A"}},{"$f":"MATCH(X$4,Millwall!$AD142:$AO142,0)","v":{"$error":"#N/A"}},{"$f":"MATCH(Y$4,Millwall!$AD142:$AO142,0)","v":{"$error":"#N/A"}},{"$f":"MATCH(Z$4,Millwall!$AD142:$AO142,0)","v":{"$error":"#N/A"}},{"$f":"MATCH(AA$4,Millwall!$AD142:$AO142,0)","v":{"$error":"#N/A"}},{"$f":"MATCH(AB$4,Millwall!$AD142:$AO142,0)","v":{"$error":"#N/A"}},{"$f":"MATCH(AC$4,Millwall!$AD142:$AO142,0)","v":{"$error":"#N/A"}},{"$f":"MATCH(AD$4,Millwall!$AD142:$AO142,0)","v":{"$error":"#N/A"}},{"$f":"MATCH(AE$4,Millwall!$AD142:$AO142,0)","v":{"$error":"#N/A"}},{"$f":"MATCH(AF$4,Millwall!$AD142:$AO142,0)","v":{"$error":"#N/A"}},{"$f":"MATCH(AG$4,Millwall!$AD142:$AO142,0)","v":{"$error":"#N/A"}},{"$f":"MATCH(AH$4,Millwall!$AD142:$AO142,0)","v":{"$error":"#N/A"}},{"$f":"MATCH(AI$4,Millwall!$AD142:$AO142,0)","v":{"$error":"#N/A"}},{"$f":"MATCH(AJ$4,Millwall!$AD142:$AO142,0)","v":{"$error":"#N/A"}},{"$f":"MATCH(AK$4,Millwall!$AD142:$AO142,0)","v":{"$error":"#N/A"}},{"$f":"MATCH(AL$4,Millwall!$AD142:$AO142,0)","v":{"$error":"#N/A"}},{"$f":"MATCH(AM$4,Millwall!$AD142:$AO142,0)","v":{"$error":"#N/A"}},{"$f":"MATCH(AN$4,Millwall!$AD142:$AO142,0)","v":{"$error":"#N/A"}},{"$f":"MATCH(AO$4,Millwall!$AD142:$AO142,0)","v":{"$error":"#N/A"}},{"$f":"MATCH(AP$4,Millwall!$AD142:$AO142,0)","v":{"$error":"#N/A"}},{"$f":"MATCH(AQ$4,Millwall!$AD142:$AO142,0)","v":{"$error":"#N/A"}},{"$f":"MATCH(AR$4,Millwall!$AD142:$AO142,0)","v":{"$error":"#N/A"}},null,null,null,null,null,{"$f":"MATCH(AX$3,Millwall!$AD142:$AO142,0)","v":{"$error":"#N/A"}},{"$f":"MATCH(AY$3,Millwall!$AD142:$AO142,0)","v":{"$error":"#N/A"}},{"$f":"MATCH(AZ$3,Millwall!$AD142:$AO142,0)","v":{"$error":"#N/A"}},{"$f":"MATCH(BA$3,Millwall!$AD142:$AO142,0)","v":{"$error":"#N/A"}},{"$f":"MATCH(BB$3,Millwall!$AD142:$AO142,0)","v":{"$error":"#N/A"}},{"$f":"MATCH(BC$3,Millwall!$AD142:$AO142,0)","v":{"$error":"#N/A"}},{"$f":"MATCH(BD$3,Millwall!$AD142:$AO142,0)","v":{"$error":"#N/A"}},{"$f":"MATCH(BE$3,Millwall!$AD142:$AO142,0)","v":{"$error":"#N/A"}},{"$f":"MATCH(BF$3,Millwall!$AD142:$AO142,0)","v":{"$error":"#N/A"}},{"$f":"MATCH(BG$3,Millwall!$AD142:$AO142,0)","v":{"$error":"#N/A"}},{"$f":"MATCH(BH$3,Millwall!$AD142:$AO142,0)","v":{"$error":"#N/A"}},{"$f":"MATCH(BI$3,Millwall!$AD142:$AO142,0)","v":{"$error":"#N/A"}},{"$f":"MATCH(BJ$3,Millwall!$AD142:$AO142,0)","v":{"$error":"#N/A"}},{"$f":"MATCH(BK$3,Millwall!$AD142:$AO142,0)","v":{"$error":"#N/A"}},{"$f":"MATCH(BL$3,Millwall!$AD142:$AO142,0)","v":{"$error":"#N/A"}},{"$f":"MATCH(BM$3,Millwall!$AD142:$AO142,0)","v":{"$error":"#N/A"}},{"$f":"MATCH(BN$3,Millwall!$AD142:$AO142,0)","v":{"$error":"#N/A"}},{"$f":"MATCH(BO$3,Millwall!$AD142:$AO142,0)","v":{"$error":"#N/A"}},{"$f":"MATCH(BP$3,Millwall!$AD142:$AO142,0)","v":{"$error":"#N/A"}},{"$f":"MATCH(BQ$3,Millwall!$AD142:$AO142,0)","v":{"$error":"#N/A"}},{"$f":"MATCH(BR$3,Millwall!$AD142:$AO142,0)","v":{"$error":"#N/A"}},{"$f":"MATCH(BS$3,Millwall!$AD142:$AO142,0)","v":{"$error":"#N/A"}},{"$f":"MATCH(BT$3,Millwall!$AD142:$AO142,0)","v":{"$error":"#N/A"}},{"$f":"MATCH(BU$3,Millwall!$AD142:$AO142,0)","v":{"$error":"#N/A"}},{"$f":"MATCH(BV$3,Millwall!$AD142:$AO142,0)","v":{"$error":"#N/A"}},{"$f":"MATCH(BW$3,Millwall!$AD142:$AO142,0)","v":{"$error":"#N/A"}},{"$f":"MATCH(BX$3,Millwall!$AD142:$AO142,0)","v":{"$error":"#N/A"}},{"$f":"MATCH(BY$3,Millwall!$AD142:$AO142,0)","v":{"$error":"#N/A"}},{"$f":"MATCH(BZ$3,Millwall!$AD142:$AO142,0)","v":{"$error":"#N/A"}},{"$f":"MATCH(CA$3,Millwall!$AD142:$AO142,0)","v":{"$error":"#N/A"}},{"$f":"MATCH(CB$3,Millwall!$AD142:$AO142,0)","v":{"$error":"#N/A"}},{"$f":"MATCH(CC$3,Millwall!$AD142:$AO142,0)","v":{"$error":"#N/A"}},{"$f":"MATCH(CD$3,Millwall!$AD142:$AO142,0)","v":{"$error":"#N/A"}},{"$f":"MATCH(CE$3,Millwall!$AD142:$AO142,0)","v":{"$error":"#N/A"}}]
[null,null,1,null,null,{"$f":"Millwall!Z143","v":"00:00:00"},null,{"$f":"Millwall!AA143","v":"00:00:00"},{"$f":"Millwall!AB143","v":"00:00:00"},{"$f":"Millwall!AC143","v":0},{"$f":"MATCH(K$4,Millwall!$AD143:$AO143,0)","v":{"$error":"#N/A"}},{"$f":"MATCH(L$4,Millwall!$AD143:$AO143,0)","v":{"$error":"#N/A"}},{"$f":"MATCH(M$4,Millwall!$AD143:$AO143,0)","v":{"$error":"#N/A"}},{"$f":"MATCH(N$4,Millwall!$AD143:$AO143,0)","v":{"$error":"#N/A"}},{"$f":"MATCH(O$4,Millwall!$AD143:$AO143,0)","v":{"$error":"#N/A"}},{"$f":"MATCH(P$4,Millwall!$AD143:$AO143,0)","v":{"$error":"#N/A"}},{"$f":"MATCH(Q$4,Millwall!$AD143:$AO143,0)","v":{"$error":"#N/A"}},{"$f":"MATCH(R$4,Millwall!$AD143:$AO143,0)","v":{"$error":"#N/A"}},{"$f":"MATCH(S$4,Millwall!$AD143:$AO143,0)","v":{"$error":"#N/A"}},{"$f":"MATCH(T$4,Millwall!$AD143:$AO143,0)","v":{"$error":"#N/A"}},{"$f":"MATCH(U$4,Millwall!$AD143:$AO143,0)","v":{"$error":"#N/A"}},{"$f":"MATCH(V$4,Millwall!$AD143:$AO143,0)","v":{"$error":"#N/A"}},{"$f":"MATCH(W$4,Millwall!$AD143:$AO143,0)","v":{"$error":"#N/A"}},{"$f":"MATCH(X$4,Millwall!$AD143:$AO143,0)","v":{"$error":"#N/A"}},{"$f":"MATCH(Y$4,Millwall!$AD143:$AO143,0)","v":{"$error":"#N/A"}},{"$f":"MATCH(Z$4,Millwall!$AD143:$AO143,0)","v":{"$error":"#N/A"}},{"$f":"MATCH(AA$4,Millwall!$AD143:$AO143,0)","v":{"$error":"#N/A"}},{"$f":"MATCH(AB$4,Millwall!$AD143:$AO143,0)","v":{"$error":"#N/A"}},{"$f":"MATCH(AC$4,Millwall!$AD143:$AO143,0)","v":{"$error":"#N/A"}},{"$f":"MATCH(AD$4,Millwall!$AD143:$AO143,0)","v":{"$error":"#N/A"}},{"$f":"MATCH(AE$4,Millwall!$AD143:$AO143,0)","v":{"$error":"#N/A"}},{"$f":"MATCH(AF$4,Millwall!$AD143:$AO143,0)","v":{"$error":"#N/A"}},{"$f":"MATCH(AG$4,Millwall!$AD143:$AO143,0)","v":{"$error":"#N/A"}},{"$f":"MATCH(AH$4,Millwall!$AD143:$AO143,0)","v":{"$error":"#N/A"}},{"$f":"MATCH(AI$4,Millwall!$AD143:$AO143,0)","v":{"$error":"#N/A"}},{"$f":"MATCH(AJ$4,Millwall!$AD143:$AO143,0)","v":{"$error":"#N/A"}},{"$f":"MATCH(AK$4,Millwall!$AD143:$AO143,0)","v":{"$error":"#N/A"}},{"$f":"MATCH(AL$4,Millwall!$AD143:$AO143,0)","v":{"$error":"#N/A"}},{"$f":"MATCH(AM$4,Millwall!$AD143:$AO143,0)","v":{"$error":"#N/A"}},{"$f":"MATCH(AN$4,Millwall!$AD143:$AO143,0)","v":{"$error":"#N/A"}},{"$f":"MATCH(AO$4,Millwall!$AD143:$AO143,0)","v":{"$error":"#N/A"}},{"$f":"MATCH(AP$4,Millwall!$AD143:$AO143,0)","v":{"$error":"#N/A"}},{"$f":"MATCH(AQ$4,Millwall!$AD143:$AO143,0)","v":{"$error":"#N/A"}},{"$f":"MATCH(AR$4,Millwall!$AD143:$AO143,0)","v":{"$error":"#N/A"}},null,null,null,null,null,{"$f":"MATCH(AX$3,Millwall!$AD143:$AO143,0)","v":{"$error":"#N/A"}},{"$f":"MATCH(AY$3,Millwall!$AD143:$AO143,0)","v":{"$error":"#N/A"}},{"$f":"MATCH(AZ$3,Millwall!$AD143:$AO143,0)","v":{"$error":"#N/A"}},{"$f":"MATCH(BA$3,Millwall!$AD143:$AO143,0)","v":{"$error":"#N/A"}},{"$f":"MATCH(BB$3,Millwall!$AD143:$AO143,0)","v":{"$error":"#N/A"}},{"$f":"MATCH(BC$3,Millwall!$AD143:$AO143,0)","v":{"$error":"#N/A"}},{"$f":"MATCH(BD$3,Millwall!$AD143:$AO143,0)","v":{"$error":"#N/A"}},{"$f":"MATCH(BE$3,Millwall!$AD143:$AO143,0)","v":{"$error":"#N/A"}},{"$f":"MATCH(BF$3,Millwall!$AD143:$AO143,0)","v":{"$error":"#N/A"}},{"$f":"MATCH(BG$3,Millwall!$AD143:$AO143,0)","v":{"$error":"#N/A"}},{"$f":"MATCH(BH$3,Millwall!$AD143:$AO143,0)","v":{"$error":"#N/A"}},{"$f":"MATCH(BI$3,Millwall!$AD143:$AO143,0)","v":{"$error":"#N/A"}},{"$f":"MATCH(BJ$3,Millwall!$AD143:$AO143,0)","v":{"$error":"#N/A"}},{"$f":"MATCH(BK$3,Millwall!$AD143:$AO143,0)","v":{"$error":"#N/A"}},{"$f":"MATCH(BL$3,Millwall!$AD143:$AO143,0)","v":{"$error":"#N/A"}},{"$f":"MATCH(BM$3,Millwall!$AD143:$AO143,0)","v":{"$error":"#N/A"}},{"$f":"MATCH(BN$3,Millwall!$AD143:$AO143,0)","v":{"$error":"#N/A"}},{"$f":"MATCH(BO$3,Millwall!$AD143:$AO143,0)","v":{"$error":"#N/A"}},{"$f":"MATCH(BP$3,Millwall!$AD143:$AO143,0)","v":{"$error":"#N/A"}},{"$f":"MATCH(BQ$3,Millwall!$AD143:$AO143,0)","v":{"$error":"#N/A"}},{"$f":"MATCH(BR$3,Millwall!$AD143:$AO143,0)","v":{"$error":"#N/A"}},{"$f":"MATCH(BS$3,Millwall!$AD143:$AO143,0)","v":{"$error":"#N/A"}},{"$f":"MATCH(BT$3,Millwall!$AD143:$AO143,0)","v":{"$error":"#N/A"}},{"$f":"MATCH(BU$3,Millwall!$AD143:$AO143,0)","v":{"$error":"#N/A"}},{"$f":"MATCH(BV$3,Millwall!$AD143:$AO143,0)","v":{"$error":"#N/A"}},{"$f":"MATCH(BW$3,Millwall!$AD143:$AO143,0)","v":{"$error":"#N/A"}},{"$f":"MATCH(BX$3,Millwall!$AD143:$AO143,0)","v":{"$error":"#N/A"}},{"$f":"MATCH(BY$3,Millwall!$AD143:$AO143,0)","v":{"$error":"#N/A"}},{"$f":"MATCH(BZ$3,Millwall!$AD143:$AO143,0)","v":{"$error":"#N/A"}},{"$f":"MATCH(CA$3,Millwall!$AD143:$AO143,0)","v":{"$error":"#N/A"}},{"$f":"MATCH(CB$3,Millwall!$AD143:$AO143,0)","v":{"$error":"#N/A"}},{"$f":"MATCH(CC$3,Millwall!$AD143:$AO143,0)","v":{"$error":"#N/A"}},{"$f":"MATCH(CD$3,Millwall!$AD143:$AO143,0)","v":{"$error":"#N/A"}},{"$f":"MATCH(CE$3,Millwall!$AD143:$AO143,0)","v":{"$error":"#N/A"}}]
[null,null,1,null,null,{"$f":"Millwall!Z144","v":"00:00:00"},null,{"$f":"Millwall!AA144","v":"00:00:00"},{"$f":"Millwall!AB144","v":"00:00:00"},{"$f":"Millwall!AC144","v":0},{"$f":"MATCH(K$4,Millwall!$AD144:$AO144,0)","v":{"$error":"#N/A"}},{"$f":"MATCH(L$4,Millwall!$AD144:$AO144,0)","v":{"$error":"#N/A"}},{"$f":"MATCH(M$4,Millwall!$AD144:$AO144,0)","v":{"$error":"#N/A"}},{"$f":"MATCH(N$4,Millwall!$AD144:$AO144,0)","v":{"$error":"#N/A"}},{"$f":"MATCH(O$4,Millwall!$AD144:$AO144,0)","v":{"$error":"#N/A"}},{"$f":"MATCH(P$4,Millwall!$AD144:$AO144,0)","v":{"$error":"#N/A"}},{"$f":"MATCH(Q$4,Millwall!$AD144:$AO144,0)","v":{"$error":"#N/A"}},{"$f":"MATCH(R$4,Millwall!$AD144:$AO144,0)","v":{"$error":"#N/A"}},{"$f":"MATCH(S$4,Millwall!$AD144:$AO144,0)","v":{"$error":"#N/A"}},{"$f":"MATCH(T$4,Millwall!$AD144:$AO144,0)","v":{"$error":"#N/A"}},{"$f":"MATCH(U$4,Millwall!$AD144:$AO144,0)","v":{"$error":"#N/A"}},{"$f":"MATCH(V$4,Millwall!$AD144:$AO144,0)","v":{"$error":"#N/A"}},{"$f":"MATCH(W$4,Millwall!$AD144:$AO144,0)","v":{"$error":"#N/A"}},{"$f":"MATCH(X$4,Millwall!$AD144:$AO144,0)","v":{"$error":"#N/A"}},{"$f":"MATCH(Y$4,Millwall!$AD144:$AO144,0)","v":{"$error":"#N/A"}},{"$f":"MATCH(Z$4,Millwall!$AD144:$AO144,0)","v":{"$error":"#N/A"}},{"$f":"MATCH(AA$4,Millwall!$AD144:$AO144,0)","v":{"$error":"#N/A"}},{"$f":"MATCH(AB$4,Millwall!$AD144:$AO144,0)","v":{"$error":"#N/A"}},{"$f":"MATCH(AC$4,Millwall!$AD144:$AO144,0)","v":{"$error":"#N/A"}},{"$f":"MATCH(AD$4,Millwall!$AD144:$AO144,0)","v":{"$error":"#N/A"}},{"$f":"MATCH(AE$4,Millwall!$AD144:$AO144,0)","v":{"$error":"#N/A"}},{"$f":"MATCH(AF$4,Millwall!$AD144:$AO144,0)","v":{"$error":"#N/A"}},{"$f":"MATCH(AG$4,Millwall!$AD144:$AO144,0)","v":{"$error":"#N/A"}},{"$f":"MATCH(AH$4,Millwall!$AD144:$AO144,0)","v":{"$error":"#N/A"}},{"$f":"MATCH(AI$4,Millwall!$AD144:$AO144,0)","v":{"$error":"#N/A"}},{"$f":"MATCH(AJ$4,Millwall!$AD144:$AO144,0)","v":{"$error":"#N/A"}},{"$f":"MATCH(AK$4,Millwall!$AD144:$AO144,0)","v":{"$error":"#N/A"}},{"$f":"MATCH(AL$4,Millwall!$AD144:$AO144,0)","v":{"$error":"#N/A"}},{"$f":"MATCH(AM$4,Millwall!$AD144:$AO144,0)","v":{"$error":"#N/A"}},{"$f":"MATCH(AN$4,Millwall!$AD144:$AO144,0)","v":{"$error":"#N/A"}},{"$f":"MATCH(AO$4,Millwall!$AD144:$AO144,0)","v":{"$error":"#N/A"}},{"$f":"MATCH(AP$4,Millwall!$AD144:$AO144,0)","v":{"$error":"#N/A"}},{"$f":"MATCH(AQ$4,Millwall!$AD144:$AO144,0)","v":{"$error":"#N/A"}},{"$f":"MATCH(AR$4,Millwall!$AD144:$AO144,0)","v":{"$error":"#N/A"}},null,null,null,null,null,{"$f":"MATCH(AX$3,Millwall!$AD144:$AO144,0)","v":{"$error":"#N/A"}},{"$f":"MATCH(AY$3,Millwall!$AD144:$AO144,0)","v":{"$error":"#N/A"}},{"$f":"MATCH(AZ$3,Millwall!$AD144:$AO144,0)","v":{"$error":"#N/A"}},{"$f":"MATCH(BA$3,Millwall!$AD144:$AO144,0)","v":{"$error":"#N/A"}},{"$f":"MATCH(BB$3,Millwall!$AD144:$AO144,0)","v":{"$error":"#N/A"}},{"$f":"MATCH(BC$3,Millwall!$AD144:$AO144,0)","v":{"$error":"#N/A"}},{"$f":"MATCH(BD$3,Millwall!$AD144:$AO144,0)","v":{"$error":"#N/A"}},{"$f":"MATCH(BE$3,Millwall!$AD144:$AO144,0)","v":{"$error":"#N/A"}},{"$f":"MATCH(BF$3,Millwall!$AD144:$AO144,0)","v":{"$error":"#N/A"}},{"$f":"MATCH(BG$3,Millwall!$AD144:$AO144,0)","v":{"$error":"#N/A"}},{"$f":"MATCH(BH$3,Millwall!$AD144:$AO144,0)","v":{"$error":"#N/A"}},{"$f":"MATCH(BI$3,Millwall!$AD144:$AO144,0)","v":{"$error":"#N/A"}},{"$f":"MATCH(BJ$3,Millwall!$AD144:$AO144,0)","v":{"$error":"#N/A"}},{"$f":"MATCH(BK$3,Millwall!$AD144:$AO144,0)","v":{"$error":"#N/A"}},{"$f":"MATCH(BL$3,Millwall!$AD144:$AO144,0)","v":{"$error":"#N/A"}},{"$f":"MATCH(BM$3,Millwall!$AD144:$AO144,0)","v":{"$error":"#N/A"}},{"$f":"MATCH(BN$3,Millwall!$AD144:$AO144,0)","v":{"$error":"#N/A"}},{"$f":"MATCH(BO$3,Millwall!$AD144:$AO144,0)","v":{"$error":"#N/A"}},{"$f":"MATCH(BP$3,Millwall!$AD144:$AO144,0)","v":{"$error":"#N/A"}},{"$f":"MATCH(BQ$3,Millwall!$AD144:$AO144,0)","v":{"$error":"#N/A"}},{"$f":"MATCH(BR$3,Millwall!$AD144:$AO144,0)","v":{"$error":"#N/A"}},{"$f":"MATCH(BS$3,Millwall!$AD144:$AO144,0)","v":{"$error":"#N/A"}},{"$f":"MATCH(BT$3,Millwall!$AD144:$AO144,0)","v":{"$error":"#N/A"}},{"$f":"MATCH(BU$3,Millwall!$AD144:$AO144,0)","v":{"$error":"#N/A"}},{"$f":"MATCH(BV$3,Millwall!$AD144:$AO144,0)","v":{"$error":"#N/A"}},{"$f":"MATCH(BW$3,Millwall!$AD144:$AO144,0)","v":{"$error":"#N/A"}},{"$f":"MATCH(BX$3,Millwall!$AD144:$AO144,0)","v":{"$error":"#N/A"}},{"$f":"MATCH(BY$3,Millwall!$AD144:$AO144,0)","v":{"$error":"#N/A"}},{"$f":"MATCH(BZ$3,Millwall!$AD144:$AO144,0)","v":{"$error":"#N/A"}},{"$f":"MATCH(CA$3,Millwall!$AD144:$AO144,0)","v":{"$error":"#N/A"}},{"$f":"MATCH(CB$3,Millwall!$AD144:$AO144,0)","v":{"$error":"#N/A"}},{"$f":"MATCH(CC$3,Millwall!$AD144:$AO144,0)","v":{"$error":"#N/A"}},{"$f":"MATCH(CD$3,Millwall!$AD144:$AO144,0)","v":{"$error":"#N/A"}},{"$f":"MATCH(CE$3,Millwall!$AD144:$AO144,0)","v":{"$error":"#N/A"}}]
[]
[null,null,null,null,null,null,null,null,null,"Total League Cup Apperances",{"$f":"COUNT(K72:K80)-K84-K83","v":4},{"$f":"COUNT(L72:L80)-L84-L83","v":0},4,0,0,4,4,4,1,0,0,3,0,4,3,3,2,0,0,0,3,2,3,0,0,0,0,0,0,0,0,0,0,0]
[null,null,null,null,null,null,null,null,null,"Total League Cup Substitute Appearences ",{"$f":"AX83","v":0},{"$f":"AY83","v":0},0,0,0,0,0,0,2,0,0,1,0,0,0,0,0,0,0,0,0,0,0,0,0,0,0,0,0,0,0,0,0,0,null,null,null,null,null,{"$f":"COUNTIF(AX72:AX80,12)","v":0},{"$f":"COUNTIF(AY72:AY80,12)","v":0},0,0,0,0,0,0,2,0,0,1,0,0,0,0,0,0,0,0,0,0,0,0,0,0,0,0,0,0,0,0,0,0]
[null,null,null,null,null,null,null,null,null,"Non Playing Substitute",{"$f":"COUNTIF(K72:K80,12)-K83","v":0},{"$f":"COUNTIF(L72:L80,12)-L83","v":0},0,0,0,0,0,0,0,0,0,0,0,0,0,1,0,0,0,0,0,0,0,0,0,0,0,0,0,0,0,0,0,0]
[null,null,null,null,null,null,null,null,null,"Goals",{"$f":"Millwall!$CL$7","v":0},{"$f":"Millwall!$CL$8","v":0},{"$f":"Millwall!$CL$9","v":2},{"$f":"Millwall!$CL$10","v":0},{"$f":"Millwall!$CL$11","v":0},{"$f":"Millwall!$CL$12","v":0},{"$f":"Millwall!$CL$13","v":0},{"$f":"Millwall!$CL$14","v":1},{"$f":"Millwall!$CL$15","v":2},{"$f":"Millwall!$CL$16","v":0},{"$f":"Millwall!$CL$17","v":0},{"$f":"Millwall!$CL$18","v":3},{"$f":"Millwall!$CL$19","v":0},{"$f":"Millwall!$CL$20","v":0},{"$f":"Millwall!$CL$21","v":1},{"$f":"Millwall!$CL$22","v":0},{"$f":"Millwall!$CL$23","v":0},{"$f":"Millwall!$CL$24","v":0},{"$f":"Millwall!$CL$25","v":0},{"$f":"Millwall!$CL$26","v":0},{"$f":"Millwall!$CL$27","v":0},{"$f":"Millwall!$CL$28","v":0},{"$f":"Millwall!$CL$29","v":0},{"$f":"Millwall!$CL$30","v":0},{"$f":"Millwall!$CL$31","v":0},{"$f":"Millwall!$CL$32","v":0},{"$f":"Millwall!$CL$33","v":9},{"$f":"Millwall!$CL$34","v":0},{"$f":"Millwall!$CL$35","v":0},{"$f":"Millwall!$CL$36","v":0},{"$f":"Millwall!$CL$37","v":0},{"$f":"Millwall!$CL$38","v":0},{"$f":"Millwall!$CL$39","v":0},{"$f":"Millwall!$CL$40","v":0}]
[]
[null,null,null,null,null,null,null,"Associate Members Cup"]
[null,null,{"$f":"IF(J88=0,1,0)","v":0},1,null,{"$f":"Millwall!Z146","v":"1984-02-28"},null,{"$f":"Millwall!AA146","v":"Gillingham"},{"$f":"Millwall!AB146","v":"(H)"},{"$f":"Millwall!AC146","v":"W 4-3"},{"$f":"MATCH(K$4,Millwall!$AD146:$AQ146,0)","v":{"$error":"#N/A"}},{"$f":"MATCH(L$4,Millwall!$AD146:$AQ146,0)","v":{"$error":"#N/A"}},{"$f":"MATCH(M$4,Millwall!$AD146:$AQ146,0)","v":{"$error":"#N/A"}},{"$f":"MATCH(N$4,Millwall!$AD146:$AQ146,0)","v":{"$error":"#N/A"}},{"$f":"MATCH(O$4,Millwall!$AD146:$AQ146,0)","v":{"$error":"#N/A"}},{"$f":"MATCH(P$4,Millwall!$AD146:$AQ146,0)","v":6},{"$f":"MATCH(Q$4,Millwall!$AD146:$AQ146,0)","v":4},{"$f":"MATCH(R$4,Millwall!$AD146:$AQ146,0)","v":{"$error":"#N/A"}},{"$f":"MATCH(S$4,Millwall!$AD146:$AQ146,0)","v":9},{"$f":"MATCH(T$4,Millwall!$AD146:$AQ146,0)","v":{"$error":"#N/A"}},{"$f":"MATCH(U$4,Millwall!$AD146:$AQ146,0)","v":10},{"$f":"MATCH(V$4,Millwall!$AD146:$AQ146,0)","v":8},{"$f":"MATCH(W$4,Millwall!$AD146:$AQ146,0)","v":7},{"$f":"MATCH(X$4,Millwall!$AD146:$AQ146,0)","v":5},{"$f":"MATCH(Y$4,Millwall!$AD146:$AQ146,0)","v":{"$error":"#N/A"}},{"$f":"MATCH(Z$4,Millwall!$AD146:$AQ146,0)","v":11},{"$f":"MATCH(AA$4,Millwall!$AD146:$AQ146,0)","v":1},{"$f":"MATCH(AB$4,Millwall!$AD146:$AQ146,0)","v":14},{"$f":"MATCH(AC$4,Millwall!$AD146:$AQ146,0)","v":{"$error":"#N/A"}},{"$f":"MATCH(AD$4,Millwall!$AD146:$AQ146,0)","v":2},{"$f":"MATCH(AE$4,Millwall!$AD146:$AQ146,0)","v":3},{"$f":"MATCH(AF$4,Millwall!$AD146:$AQ146,0)","v":{"$error":"#N/A"}},{"$f":"MATCH(AG$4,Millwall!$AD146:$AQ146,0)","v":12},{"$f":"MATCH(AH$4,Millwall!$AD146:$AQ146,0)","v":{"$error":"#N/A"}},{"$f":"MATCH(AI$4,Millwall!$AD146:$AQ146,0)","v":{"$error":"#N/A"}},{"$f":"MATCH(AJ$4,Millwall!$AD146:$AQ146,0)","v":{"$error":"#N/A"}},{"$f":"MATCH(AK$4,Millwall!$AD146:$AQ146,0)","v":{"$error":"#N/A"}},{"$f":"MATCH(AL$4,Millwall!$AD146:$AQ146,0)","v":{"$error":"#N/A"}},{"$f":"MATCH(AM$4,Millwall!$AD146:$AQ146,0)","v":{"$error":"#N/A"}},{"$f":"MATCH(AN$4,Millwall!$AD146:$AQ146,0)","v":{"$error":"#N/A"}},{"$f":"MATCH(AO$4,Millwall!$AD146:$AQ146,0)","v":{"$error":"#N/A"}},{"$f":"MATCH(AP$4,Millwall!$AD146:$AQ146,0)","v":{"$error":"#N/A"}},{"$f":"MATCH(AQ$4,Millwall!$AD146:$AQ146,0)","v":{"$error":"#N/A"}},{"$f":"MATCH(AR$4,Millwall!$AD146:$AQ146,0)","v":{"$error":"#N/A"}},null,null,null,null,null,{"$f":"MATCH(AX$3,Millwall!$AD146:$AO146,0)","v":{"$error":"#N/A"}},{"$f":"MATCH(AY$3,Millwall!$AD146:$AO146,0)","v":{"$error":"#N/A"}},{"$f":"MATCH(AZ$3,Millwall!$AD146:$AO146,0)","v":{"$error":"#N/A"}},{"$f":"MATCH(BA$3,Millwall!$AD146:$AO146,0)","v":{"$error":"#N/A"}},{"$f":"MATCH(BB$3,Millwall!$AD146:$AO146,0)","v":{"$error":"#N/A"}},{"$f":"MATCH(BC$3,Millwall!$AD146:$AO146,0)","v":{"$error":"#N/A"}},{"$f":"MATCH(BD$3,Millwall!$AD146:$AO146,0)","v":{"$error":"#N/A"}},{"$f":"MATCH(BE$3,Millwall!$AD146:$AO146,0)","v":{"$error":"#N/A"}},{"$f":"MATCH(BF$3,Millwall!$AD146:$AO146,0)","v":{"$error":"#N/A"}},{"$f":"MATCH(BG$3,Millwall!$AD146:$AO146,0)","v":{"$error":"#N/A"}},{"$f":"MATCH(BH$3,Millwall!$AD146:$AO146,0)","v":{"$error":"#N/A"}},{"$f":"MATCH(BI$3,Millwall!$AD146:$AO146,0)","v":{"$error":"#N/A"}},{"$f":"MATCH(BJ$3,Millwall!$AD146:$AO146,0)","v":{"$error":"#N/A"}},{"$f":"MATCH(BK$3,Millwall!$AD146:$AO146,0)","v":{"$error":"#N/A"}},{"$f":"MATCH(BL$3,Millwall!$AD146:$AO146,0)","v":{"$error":"#N/A"}},{"$f":"MATCH(BM$3,Millwall!$AD146:$AO146,0)","v":11},{"$f":"MATCH(BN$3,Millwall!$AD146:$AO146,0)","v":{"$error":"#N/A"}},{"$f":"MATCH(BO$3,Millwall!$AD146:$AO146,0)","v":{"$error":"#N/A"}},{"$f":"MATCH(BP$3,Millwall!$AD146:$AO146,0)","v":{"$error":"#N/A"}},{"$f":"MATCH(BQ$3,Millwall!$AD146:$AO146,0)","v":{"$error":"#N/A"}},{"$f":"MATCH(BR$3,Millwall!$AD146:$AO146,0)","v":{"$error":"#N/A"}},{"$f":"MATCH(BS$3,Millwall!$AD146:$AO146,0)","v":{"$error":"#N/A"}},{"$f":"MATCH(BT$3,Millwall!$AD146:$AO146,0)","v":12},{"$f":"MATCH(BU$3,Millwall!$AD146:$AO146,0)","v":{"$error":"#N/A"}},{"$f":"MATCH(BV$3,Millwall!$AD146:$AO146,0)","v":{"$error":"#N/A"}},{"$f":"MATCH(BW$3,Millwall!$AD146:$AO146,0)","v":{"$error":"#N/A"}},{"$f":"MATCH(BX$3,Millwall!$AD146:$AO146,0)","v":{"$error":"#N/A"}},{"$f":"MATCH(BY$3,Millwall!$AD146:$AO146,0)","v":{"$error":"#N/A"}},{"$f":"MATCH(BZ$3,Millwall!$AD146:$AO146,0)","v":{"$error":"#N/A"}},{"$f":"MATCH(CA$3,Millwall!$AD146:$AO146,0)","v":{"$error":"#N/A"}},{"$f":"MATCH(CB$3,Millwall!$AD146:$AO146,0)","v":{"$error":"#N/A"}},{"$f":"MATCH(CC$3,Millwall!$AD146:$AO146,0)","v":{"$error":"#N/A"}},{"$f":"MATCH(CD$3,Millwall!$AD146:$AO146,0)","v":{"$error":"#N/A"}},{"$f":"MATCH(CE$3,Millwall!$AD146:$AO146,0)","v":{"$error":"#N/A"}},null,null,{"$f":"MATCH(CH$3,Millwall!$AD146:AQ146,0)","v":{"$error":"#N/A"}},{"$f":"MATCH(CI$3,Millwall!$AD146:AQ146,0)","v":{"$error":"#N/A"}},{"$f":"MATCH(CJ$3,Millwall!$AD146:AQ146,0)","v":{"$error":"#N/A"}},{"$f":"MATCH(CK$3,Millwall!$AD146:AQ146,0)","v":{"$error":"#N/A"}},{"$f":"MATCH(CL$3,Millwall!$AD146:AQ146,0)","v":{"$error":"#N/A"}},{"$f":"MATCH(CM$3,Millwall!$AD146:AQ146,0)","v":{"$error":"#N/A"}},{"$f":"MATCH(CN$3,Millwall!$AD146:AQ146,0)","v":{"$error":"#N/A"}},{"$f":"MATCH(CO$3,Millwall!$AD146:AQ146,0)","v":{"$error":"#N/A"}},{"$f":"MATCH(CP$3,Millwall!$AD146:AQ146,0)","v":{"$error":"#N/A"}},{"$f":"MATCH(CQ$3,Millwall!$AD146:AQ146,0)","v":{"$error":"#N/A"}},{"$f":"MATCH(CR$3,Millwall!$AD146:AQ146,0)","v":{"$error":"#N/A"}},{"$f":"MATCH(CS$3,Millwall!$AD146:AQ146,0)","v":{"$error":"#N/A"}},{"$f":"MATCH(CT$3,Millwall!$AD146:AQ146,0)","v":7},{"$f":"MATCH(CU$3,Millwall!$AD146:AQ146,0)","v":{"$error":"#N/A"}},{"$f":"MATCH(CV$3,Millwall!$AD146:AQ146,0)","v":{"$error":"#N/A"}},{"$f":"MATCH(CW$3,Millwall!$AD146:AQ146,0)","v":{"$error":"#N/A"}},{"$f":"MATCH(CX$3,Millwall!$AD146:AQ146,0)","v":{"$error":"#N/A"}},{"$f":"MATCH(CY$3,Millwall!$AD146:AQ146,0)","v":14},{"$f":"MATCH(CZ$3,Millwall!$AD146:AQ146,0)","v":{"$error":"#N/A"}},{"$f":"MATCH(DA$3,Millwall!$AD146:AQ146,0)","v":{"$error":"#N/A"}},{"$f":"MATCH(DB$3,Millwall!$AD146:AQ146,0)","v":{"$error":"#N/A"}},{"$f":"MATCH(DC$3,Millwall!$AD146:AQ146,0)","v":{"$error":"#N/A"}},{"$f":"MATCH(DD$3,Millwall!$AD146:AQ146,0)","v":{"$error":"#N/A"}},{"$f":"MATCH(DE$3,Millwall!$AD146:AQ146,0)","v":{"$error":"#N/A"}},{"$f":"MATCH(DF$3,Millwall!$AD146:AQ146,0)","v":{"$error":"#N/A"}},{"$f":"MATCH(DG$3,Millwall!$AD146:AQ146,0)","v":{"$error":"#N/A"}},{"$f":"MATCH(DH$3,Millwall!$AD146:AQ146,0)","v":{"$error":"#N/A"}},{"$f":"MATCH(DI$3,Millwall!$AD146:AQ146,0)","v":{"$error":"#N/A"}},{"$f":"MATCH(DJ$3,Millwall!$AD146:AQ146,0)","v":{"$error":"#N/A"}},{"$f":"MATCH(DK$3,Millwall!$AD146:AQ146,0)","v":{"$error":"#N/A"}},{"$f":"MATCH(DL$3,Millwall!$AD146:AQ146,0)","v":{"$error":"#N/A"}},{"$f":"MATCH(DM$3,Millwall!$AD146:AQ146,0)","v":{"$error":"#N/A"}},{"$f":"MATCH(DN$3,Millwall!$AD146:AQ146,0)","v":{"$error":"#N/A"}},{"$f":"MATCH(DO$3,Millwall!$AD146:AQ146,0)","v":{"$error":"#N/A"}}]
[null,null,{"$f":"IF(J89=0,1,0)","v":0},2,null,{"$f":"Millwall!Z147","v":"1984-03-13"},null,{"$f":"Millwall!AA147","v":"Bournemouth"},{"$f":"Millwall!AB147","v":"(H)"},{"$f":"Millwall!AC147","v":"D 2-2*"},{"$f":"MATCH(K$4,Millwall!$AD147:$AQ147,0)","v":14},{"$f":"MATCH(L$4,Millwall!$AD147:$AQ147,0)","v":{"$error":"#N/A"}},{"$f":"MATCH(M$4,Millwall!$AD147:$AQ147,0)","v":{"$error":"#N/A"}},{"$f":"MATCH(N$4,Millwall!$AD147:$AQ147,0)","v":{"$error":"#N/A"}},{"$f":"MATCH(O$4,Millwall!$AD147:$AQ147,0)","v":6},{"$f":"MATCH(P$4,Millwall!$AD147:$AQ147,0)","v":{"$error":"#N/A"}},{"$f":"MATCH(Q$4,Millwall!$AD147:$AQ147,0)","v":4},{"$f":"MATCH(R$4,Millwall!$AD147:$AQ147,0)","v":{"$error":"#N/A"}},{"$f":"MATCH(S$4,Millwall!$AD147:$AQ147,0)","v":9},{"$f":"MATCH(T$4,Millwall!$AD147:$AQ147,0)","v":{"$error":"#N/A"}},{"$f":"MATCH(U$4,Millwall!$AD147:$AQ147,0)","v":7},{"$f":"MATCH(V$4,Millwall!$AD147:$AQ147,0)","v":8},{"$f":"MATCH(W$4,Millwall!$AD147:$AQ147,0)","v":11},{"$f":"MATCH(X$4,Millwall!$AD147:$AQ147,0)","v":5},{"$f":"MATCH(Y$4,Millwall!$AD147:$AQ147,0)","v":{"$error":"#N/A"}},{"$f":"MATCH(Z$4,Millwall!$AD147:$AQ147,0)","v":12},{"$f":"MATCH(AA$4,Millwall!$AD147:$AQ147,0)","v":1},{"$f":"MATCH(AB$4,Millwall!$AD147:$AQ147,0)","v":{"$error":"#N/A"}},{"$f":"MATCH(AC$4,Millwall!$AD147:$AQ147,0)","v":{"$error":"#N/A"}},{"$f":"MATCH(AD$4,Millwall!$AD147:$AQ147,0)","v":2},{"$f":"MATCH(AE$4,Millwall!$AD147:$AQ147,0)","v":3},{"$f":"MATCH(AF$4,Millwall!$AD147:$AQ147,0)","v":{"$error":"#N/A"}},{"$f":"MATCH(AG$4,Millwall!$AD147:$AQ147,0)","v":10},{"$f":"MATCH(AH$4,Millwall!$AD147:$AQ147,0)","v":{"$error":"#N/A"}},{"$f":"MATCH(AI$4,Millwall!$AD147:$AQ147,0)","v":{"$error":"#N/A"}},{"$f":"MATCH(AJ$4,Millwall!$AD147:$AQ147,0)","v":{"$error":"#N/A"}},{"$f":"MATCH(AK$4,Millwall!$AD147:$AQ147,0)","v":{"$error":"#N/A"}},{"$f":"MATCH(AL$4,Millwall!$AD147:$AQ147,0)","v":{"$error":"#N/A"}},{"$f":"MATCH(AM$4,Millwall!$AD147:$AQ147,0)","v":{"$error":"#N/A"}},{"$f":"MATCH(AN$4,Millwall!$AD147:$AQ147,0)","v":{"$error":"#N/A"}},{"$f":"MATCH(AO$4,Millwall!$AD147:$AQ147,0)","v":{"$error":"#N/A"}},{"$f":"MATCH(AP$4,Millwall!$AD147:$AQ147,0)","v":{"$error":"#N/A"}},{"$f":"MATCH(AQ$4,Millwall!$AD147:$AQ147,0)","v":{"$error":"#N/A"}},{"$f":"MATCH(AR$4,Millwall!$AD147:$AQ147,0)","v":{"$error":"#N/A"}},null,null,null,null,null,{"$f":"MATCH(AX$3,Millwall!$AD147:$AO147,0)","v":{"$error":"#N/A"}},{"$f":"MATCH(AY$3,Millwall!$AD147:$AO147,0)","v":{"$error":"#N/A"}},{"$f":"MATCH(AZ$3,Millwall!$AD147:$AO147,0)","v":{"$error":"#N/A"}},{"$f":"MATCH(BA$3,Millwall!$AD147:$AO147,0)","v":{"$error":"#N/A"}},{"$f":"MATCH(BB$3,Millwall!$AD147:$AO147,0)","v":{"$error":"#N/A"}},{"$f":"MATCH(BC$3,Millwall!$AD147:$AO147,0)","v":{"$error":"#N/A"}},{"$f":"MATCH(BD$3,Millwall!$AD147:$AO147,0)","v":{"$error":"#N/A"}},{"$f":"MATCH(BE$3,Millwall!$AD147:$AO147,0)","v":{"$error":"#N/A"}},{"$f":"MATCH(BF$3,Millwall!$AD147:$AO147,0)","v":{"$error":"#N/A"}},{"$f":"MATCH(BG$3,Millwall!$AD147:$AO147,0)","v":{"$error":"#N/A"}},{"$f":"MATCH(BH$3,Millwall!$AD147:$AO147,0)","v":7},{"$f":"MATCH(BI$3,Millwall!$AD147:$AO147,0)","v":{"$error":"#N/A"}},{"$f":"MATCH(BJ$3,Millwall!$AD147:$AO147,0)","v":{"$error":"#N/A"}},{"$f":"MATCH(BK$3,Millwall!$AD147:$AO147,0)","v":{"$error":"#N/A"}},{"$f":"MATCH(BL$3,Millwall!$AD147:$AO147,0)","v":{"$error":"#N/A"}},{"$f":"MATCH(BM$3,Millwall!$AD147:$AO147,0)","v":12},{"$f":"MATCH(BN$3,Millwall!$AD147:$AO147,0)","v":{"$error":"#N/A"}},{"$f":"MATCH(BO$3,Millwall!$AD147:$AO147,0)","v":{"$error":"#N/A"}},{"$f":"MATCH(BP$3,Millwall!$AD147:$AO147,0)","v":{"$error":"#N/A"}},{"$f":"MATCH(BQ$3,Millwall!$AD147:$AO147,0)","v":{"$error":"#N/A"}},{"$f":"MATCH(BR$3,Millwall!$AD147:$AO147,0)","v":{"$error":"#N/A"}},{"$f":"MATCH(BS$3,Millwall!$AD147:$AO147,0)","v":{"$error":"#N/A"}},{"$f":"MATCH(BT$3,Millwall!$AD147:$AO147,0)","v":{"$error":"#N/A"}},{"$f":"MATCH(BU$3,Millwall!$AD147:$AO147,0)","v":{"$error":"#N/A"}},{"$f":"MATCH(BV$3,Millwall!$AD147:$AO147,0)","v":{"$error":"#N/A"}},{"$f":"MATCH(BW$3,Millwall!$AD147:$AO147,0)","v":{"$error":"#N/A"}},{"$f":"MATCH(BX$3,Millwall!$AD147:$AO147,0)","v":{"$error":"#N/A"}},{"$f":"MATCH(BY$3,Millwall!$AD147:$AO147,0)","v":{"$error":"#N/A"}},{"$f":"MATCH(BZ$3,Millwall!$AD147:$AO147,0)","v":{"$error":"#N/A"}},{"$f":"MATCH(CA$3,Millwall!$AD147:$AO147,0)","v":{"$error":"#N/A"}},{"$f":"MATCH(CB$3,Millwall!$AD147:$AO147,0)","v":{"$error":"#N/A"}},{"$f":"MATCH(CC$3,Millwall!$AD147:$AO147,0)","v":{"$error":"#N/A"}},{"$f":"MATCH(CD$3,Millwall!$AD147:$AO147,0)","v":{"$error":"#N/A"}},{"$f":"MATCH(CE$3,Millwall!$AD147:$AO147,0)","v":{"$error":"#N/A"}},null,null,{"$f":"MATCH(CH$3,Millwall!$AD147:AQ147,0)","v":14},{"$f":"MATCH(CI$3,Millwall!$AD147:AQ147,0)","v":{"$error":"#N/A"}},{"$f":"MATCH(CJ$3,Millwall!$AD147:AQ147,0)","v":{"$error":"#N/A"}},{"$f":"MATCH(CK$3,Millwall!$AD147:AQ147,0)","v":{"$error":"#N/A"}},{"$f":"MATCH(CL$3,Millwall!$AD147:AQ147,0)","v":{"$error":"#N/A"}},{"$f":"MATCH(CM$3,Millwall!$AD147:AQ147,0)","v":{"$error":"#N/A"}},{"$f":"MATCH(CN$3,Millwall!$AD147:AQ147,0)","v":{"$error":"#N/A"}},{"$f":"MATCH(CO$3,Millwall!$AD147:AQ147,0)","v":{"$error":"#N/A"}},{"$f":"MATCH(CP$3,Millwall!$AD147:AQ147,0)","v":9},{"$f":"MATCH(CQ$3,Millwall!$AD147:AQ147,0)","v":{"$error":"#N/A"}},{"$f":"MATCH(CR$3,Millwall!$AD147:AQ147,0)","v":{"$error":"#N/A"}},{"$f":"MATCH(CS$3,Millwall!$AD147:AQ147,0)","v":{"$error":"#N/A"}},{"$f":"MATCH(CT$3,Millwall!$AD147:AQ147,0)","v":{"$error":"#N/A"}},{"$f":"MATCH(CU$3,Millwall!$AD147:AQ147,0)","v":{"$error":"#N/A"}},{"$f":"MATCH(CV$3,Millwall!$AD147:AQ147,0)","v":{"$error":"#N/A"}},{"$f":"MATCH(CW$3,Millwall!$AD147:AQ147,0)","v":{"$error":"#N/A"}},{"$f":"MATCH(CX$3,Millwall!$AD147:AQ147,0)","v":{"$error":"#N/A"}},{"$f":"MATCH(CY$3,Millwall!$AD147:AQ147,0)","v":{"$error":"#N/A"}},{"$f":"MATCH(CZ$3,Millwall!$AD147:AQ147,0)","v":{"$error":"#N/A"}},{"$f":"MATCH(DA$3,Millwall!$AD147:AQ147,0)","v":{"$error":"#N/A"}},{"$f":"MATCH(DB$3,Millwall!$AD147:AQ147,0)","v":{"$error":"#N/A"}},{"$f":"MATCH(DC$3,Millwall!$AD147:AQ147,0)","v":{"$error":"#N/A"}},{"$f":"MATCH(DD$3,Millwall!$AD147:AQ147,0)","v":{"$error":"#N/A"}},{"$f":"MATCH(DE$3,Millwall!$AD147:AQ147,0)","v":{"$error":"#N/A"}},{"$f":"MATCH(DF$3,Millwall!$AD147:AQ147,0)","v":{"$error":"#N/A"}},{"$f":"MATCH(DG$3,Millwall!$AD147:AQ147,0)","v":{"$error":"#N/A"}},{"$f":"MATCH(DH$3,Millwall!$AD147:AQ147,0)","v":{"$error":"#N/A"}},{"$f":"MATCH(DI$3,Millwall!$AD147:AQ147,0)","v":{"$error":"#N/A"}},{"$f":"MATCH(DJ$3,Millwall!$AD147:AQ147,0)","v":{"$error":"#N/A"}},{"$f":"MATCH(DK$3,Millwall!$AD147:AQ147,0)","v":{"$error":"#N/A"}},{"$f":"MATCH(DL$3,Millwall!$AD147:AQ147,0)","v":{"$error":"#N/A"}},{"$f":"MATCH(DM$3,Millwall!$AD147:AQ147,0)","v":{"$error":"#N/A"}},{"$f":"MATCH(DN$3,Millwall!$AD147:AQ147,0)","v":{"$error":"#N/A"}},{"$f":"MATCH(DO$3,Millwall!$AD147:AQ147,0)","v":{"$error":"#N/A"}}]
[null,null,0,3,null,{"$f":"Millwall!Z148","v":"1984-03-27"},null,{"$f":"Millwall!AA148","v":"Swindon"},{"$f":"Millwall!AB148","v":"(H)"},{"$f":"Millwall!AC148","v":"W 3-1"},{"$f":"MATCH(K$4,Millwall!$AD148:$AQ148,0)","v":8},{"$f":"MATCH(L$4,Millwall!$AD148:$AQ148,0)","v":{"$error":"#N/A"}},{"$f":"MATCH(M$4,Millwall!$AD148:$AQ148,0)","v":{"$error":"#N/A"}},{"$f":"MATCH(N$4,Millwall!$AD148:$AQ148,0)","v":3},{"$f":"MATCH(O$4,Millwall!$AD148:$AQ148,0)","v":{"$error":"#N/A"}},{"$f":"MATCH(P$4,Millwall!$AD148:$AQ148,0)","v":6},{"$f":"MATCH(Q$4,Millwall!$AD148:$AQ148,0)","v":4},{"$f":"MATCH(R$4,Millwall!$AD148:$AQ148,0)","v":{"$error":"#N/A"}},{"$f":"MATCH(S$4,Millwall!$AD148:$AQ148,0)","v":{"$error":"#N/A"}},{"$f":"MATCH(T$4,Millwall!$AD148:$AQ148,0)","v":{"$error":"#N/A"}},{"$f":"MATCH(U$4,Millwall!$AD148:$AQ148,0)","v":7},{"$f":"MATCH(V$4,Millwall!$AD148:$AQ148,0)","v":9},{"$f":"MATCH(W$4,Millwall!$AD148:$AQ148,0)","v":{"$error":"#N/A"}},{"$f":"MATCH(X$4,Millwall!$AD148:$AQ148,0)","v":5},{"$f":"MATCH(Y$4,Millwall!$AD148:$AQ148,0)","v":10},{"$f":"MATCH(Z$4,Millwall!$AD148:$AQ148,0)","v":14},{"$f":"MATCH(AA$4,Millwall!$AD148:$AQ148,0)","v":1},{"$f":"MATCH(AB$4,Millwall!$AD148:$AQ148,0)","v":12},{"$f":"MATCH(AC$4,Millwall!$AD148:$AQ148,0)","v":{"$error":"#N/A"}},{"$f":"MATCH(AD$4,Millwall!$AD148:$AQ148,0)","v":2},{"$f":"MATCH(AE$4,Millwall!$AD148:$AQ148,0)","v":{"$error":"#N/A"}},{"$f":"MATCH(AF$4,Millwall!$AD148:$AQ148,0)","v":{"$error":"#N/A"}},{"$f":"MATCH(AG$4,Millwall!$AD148:$AQ148,0)","v":11},{"$f":"MATCH(AH$4,Millwall!$AD148:$AQ148,0)","v":{"$error":"#N/A"}},{"$f":"MATCH(AI$4,Millwall!$AD148:$AQ148,0)","v":{"$error":"#N/A"}},{"$f":"MATCH(AJ$4,Millwall!$AD148:$AQ148,0)","v":{"$error":"#N/A"}},{"$f":"MATCH(AK$4,Millwall!$AD148:$AQ148,0)","v":{"$error":"#N/A"}},{"$f":"MATCH(AL$4,Millwall!$AD148:$AQ148,0)","v":{"$error":"#N/A"}},{"$f":"MATCH(AM$4,Millwall!$AD148:$AQ148,0)","v":{"$error":"#N/A"}},{"$f":"MATCH(AN$4,Millwall!$AD148:$AQ148,0)","v":{"$error":"#N/A"}},{"$f":"MATCH(AO$4,Millwall!$AD148:$AQ148,0)","v":{"$error":"#N/A"}},{"$f":"MATCH(AP$4,Millwall!$AD148:$AQ148,0)","v":{"$error":"#N/A"}},{"$f":"MATCH(AQ$4,Millwall!$AD148:$AQ148,0)","v":{"$error":"#N/A"}},{"$f":"MATCH(AR$4,Millwall!$AD148:$AQ148,0)","v":{"$error":"#N/A"}},null,null,null,null,null,{"$f":"MATCH(AX$3,Millwall!$AD148:$AO148,0)","v":8},{"$f":"MATCH(AY$3,Millwall!$AD148:$AO148,0)","v":{"$error":"#N/A"}},{"$f":"MATCH(AZ$3,Millwall!$AD148:$AO148,0)","v":{"$error":"#N/A"}},{"$f":"MATCH(BA$3,Millwall!$AD148:$AO148,0)","v":{"$error":"#N/A"}},{"$f":"MATCH(BB$3,Millwall!$AD148:$AO148,0)","v":{"$error":"#N/A"}},{"$f":"MATCH(BC$3,Millwall!$AD148:$AO148,0)","v":{"$error":"#N/A"}},{"$f":"MATCH(BD$3,Millwall!$AD148:$AO148,0)","v":{"$error":"#N/A"}},{"$f":"MATCH(BE$3,Millwall!$AD148:$AO148,0)","v":{"$error":"#N/A"}},{"$f":"MATCH(BF$3,Millwall!$AD148:$AO148,0)","v":{"$error":"#N/A"}},{"$f":"MATCH(BG$3,Millwall!$AD148:$AO148,0)","v":{"$error":"#N/A"}},{"$f":"MATCH(BH$3,Millwall!$AD148:$AO148,0)","v":{"$error":"#N/A"}},{"$f":"MATCH(BI$3,Millwall!$AD148:$AO148,0)","v":{"$error":"#N/A"}},{"$f":"MATCH(BJ$3,Millwall!$AD148:$AO148,0)","v":{"$error":"#N/A"}},{"$f":"MATCH(BK$3,Millwall!$AD148:$AO148,0)","v":{"$error":"#N/A"}},{"$f":"MATCH(BL$3,Millwall!$AD148:$AO148,0)","v":{"$error":"#N/A"}},{"$f":"MATCH(BM$3,Millwall!$AD148:$AO148,0)","v":{"$error":"#N/A"}},{"$f":"MATCH(BN$3,Millwall!$AD148:$AO148,0)","v":{"$error":"#N/A"}},{"$f":"MATCH(BO$3,Millwall!$AD148:$AO148,0)","v":12},{"$f":"MATCH(BP$3,Millwall!$AD148:$AO148,0)","v":{"$error":"#N/A"}},{"$f":"MATCH(BQ$3,Millwall!$AD148:$AO148,0)","v":{"$error":"#N/A"}},{"$f":"MATCH(BR$3,Millwall!$AD148:$AO148,0)","v":{"$error":"#N/A"}},{"$f":"MATCH(BS$3,Millwall!$AD148:$AO148,0)","v":{"$error":"#N/A"}},{"$f":"MATCH(BT$3,Millwall!$AD148:$AO148,0)","v":{"$error":"#N/A"}},{"$f":"MATCH(BU$3,Millwall!$AD148:$AO148,0)","v":{"$error":"#N/A"}},{"$f":"MATCH(BV$3,Millwall!$AD148:$AO148,0)","v":{"$error":"#N/A"}},{"$f":"MATCH(BW$3,Millwall!$AD148:$AO148,0)","v":{"$error":"#N/A"}},{"$f":"MATCH(BX$3,Millwall!$AD148:$AO148,0)","v":{"$error":"#N/A"}},{"$f":"MATCH(BY$3,Millwall!$AD148:$AO148,0)","v":{"$error":"#N/A"}},{"$f":"MATCH(BZ$3,Millwall!$AD148:$AO148,0)","v":{"$error":"#N/A"}},{"$f":"MATCH(CA$3,Millwall!$AD148:$AO148,0)","v":{"$error":"#N/A"}},{"$f":"MATCH(CB$3,Millwall!$AD148:$AO148,0)","v":{"$error":"#N/A"}},{"$f":"MATCH(CC$3,Millwall!$AD148:$AO148,0)","v":{"$error":"#N/A"}},{"$f":"MATCH(CD$3,Millwall!$AD148:$AO148,0)","v":{"$error":"#N/A"}},{"$f":"MATCH(CE$3,Millwall!$AD148:$AO148,0)","v":{"$error":"#N/A"}},null,null,{"$f":"MATCH(CH$3,Millwall!$AD148:AQ148,0)","v":{"$error":"#N/A"}},{"$f":"MATCH(CI$3,Millwall!$AD148:AQ148,0)","v":{"$error":"#N/A"}},{"$f":"MATCH(CJ$3,Millwall!$AD148:AQ148,0)","v":{"$error":"#N/A"}},{"$f":"MATCH(CK$3,Millwall!$AD148:AQ148,0)","v":{"$error":"#N/A"}},{"$f":"MATCH(CL$3,Millwall!$AD148:AQ148,0)","v":{"$error":"#N/A"}},{"$f":"MATCH(CM$3,Millwall!$AD148:AQ148,0)","v":{"$error":"#N/A"}},{"$f":"MATCH(CN$3,Millwall!$AD148:AQ148,0)","v":{"$error":"#N/A"}},{"$f":"MATCH(CO$3,Millwall!$AD148:AQ148,0)","v":{"$error":"#N/A"}},{"$f":"MATCH(CP$3,Millwall!$AD148:AQ148,0)","v":{"$error":"#N/A"}},{"$f":"MATCH(CQ$3,Millwall!$AD148:AQ148,0)","v":{"$error":"#N/A"}},{"$f":"MATCH(CR$3,Millwall!$AD148:AQ148,0)","v":7},{"$f":"MATCH(CS$3,Millwall!$AD148:AQ148,0)","v":{"$error":"#N/A"}},{"$f":"MATCH(CT$3,Millwall!$AD148:AQ148,0)","v":{"$error":"#N/A"}},{"$f":"MATCH(CU$3,Millwall!$AD148:AQ148,0)","v":{"$error":"#N/A"}},{"$f":"MATCH(CV$3,Millwall!$AD148:AQ148,0)","v":{"$error":"#N/A"}},{"$f":"MATCH(CW$3,Millwall!$AD148:AQ148,0)","v":14},{"$f":"MATCH(CX$3,Millwall!$AD148:AQ148,0)","v":{"$error":"#N/A"}},{"$f":"MATCH(CY$3,Millwall!$AD148:AQ148,0)","v":{"$error":"#N/A"}},{"$f":"MATCH(CZ$3,Millwall!$AD148:AQ148,0)","v":{"$error":"#N/A"}},{"$f":"MATCH(DA$3,Millwall!$AD148:AQ148,0)","v":{"$error":"#N/A"}},{"$f":"MATCH(DB$3,Millwall!$AD148:AQ148,0)","v":{"$error":"#N/A"}},{"$f":"MATCH(DC$3,Millwall!$AD148:AQ148,0)","v":{"$error":"#N/A"}},{"$f":"MATCH(DD$3,Millwall!$AD148:AQ148,0)","v":{"$error":"#N/A"}},{"$f":"MATCH(DE$3,Millwall!$AD148:AQ148,0)","v":{"$error":"#N/A"}},{"$f":"MATCH(DF$3,Millwall!$AD148:AQ148,0)","v":{"$error":"#N/A"}},{"$f":"MATCH(DG$3,Millwall!$AD148:AQ148,0)","v":{"$error":"#N/A"}},{"$f":"MATCH(DH$3,Millwall!$AD148:AQ148,0)","v":{"$error":"#N/A"}},{"$f":"MATCH(DI$3,Millwall!$AD148:AQ148,0)","v":{"$error":"#N/A"}},{"$f":"MATCH(DJ$3,Millwall!$AD148:AQ148,0)","v":{"$error":"#N/A"}},{"$f":"MATCH(DK$3,Millwall!$AD148:AQ148,0)","v":{"$error":"#N/A"}},{"$f":"MATCH(DL$3,Millwall!$AD148:AQ148,0)","v":{"$error":"#N/A"}},{"$f":"MATCH(DM$3,Millwall!$AD148:AQ148,0)","v":{"$error":"#N/A"}},{"$f":"MATCH(DN$3,Millwall!$AD148:AQ148,0)","v":{"$error":"#N/A"}},{"$f":"MATCH(DO$3,Millwall!$AD148:AQ148,0)","v":{"$error":"#N/A"}}]
[null,null,0,"Sth SF",null,{"$f":"Millwall!Z149","v":"1984-05-17"},null,{"$f":"Millwall!AA149","v":"Plymouth"},{"$f":"Millwall!AB149","v":"(H)"},{"$f":"Millwall!AC149","v":"W 1-0"},{"$f":"MATCH(K$4,Millwall!$AD149:$AN149,0)","v":8},{"$f":"MATCH(L$4,Millwall!$AD149:$AN149,0)","v":{"$error":"#N/A"}},{"$f":"MATCH(M$4,Millwall!$AD149:$AN149,0)","v":11},{"$f":"MATCH(N$4,Millwall!$AD149:$AN149,0)","v":{"$error":"#N/A"}},{"$f":"MATCH(O$4,Millwall!$AD149:$AN149,0)","v":{"$error":"#N/A"}},{"$f":"MATCH(P$4,Millwall!$AD149:$AN149,0)","v":6},{"$f":"MATCH(Q$4,Millwall!$AD149:$AN149,0)","v":4},{"$f":"MATCH(R$4,Millwall!$AD149:$AN149,0)","v":{"$error":"#N/A"}},{"$f":"MATCH(S$4,Millwall!$AD149:$AN149,0)","v":5},{"$f":"MATCH(T$4,Millwall!$AD149:$AN149,0)","v":{"$error":"#N/A"}},{"$f":"MATCH(U$4,Millwall!$AD149:$AN149,0)","v":7},{"$f":"MATCH(V$4,Millwall!$AD149:$AN149,0)","v":{"$error":"#N/A"}},{"$f":"MATCH(W$4,Millwall!$AD149:$AN149,0)","v":{"$error":"#N/A"}},{"$f":"MATCH(X$4,Millwall!$AD149:$AN149,0)","v":{"$error":"#N/A"}},{"$f":"MATCH(Y$4,Millwall!$AD149:$AN149,0)","v":10},{"$f":"MATCH(Z$4,Millwall!$AD149:$AN149,0)","v":3},{"$f":"MATCH(AA$4,Millwall!$AD149:$AN149,0)","v":1},{"$f":"MATCH(AB$4,Millwall!$AD149:$AN149,0)","v":9},{"$f":"MATCH(AC$4,Millwall!$AD149:$AN149,0)","v":{"$error":"#N/A"}},{"$f":"MATCH(AD$4,Millwall!$AD149:$AN149,0)","v":2},{"$f":"MATCH(AE$4,Millwall!$AD149:$AN149,0)","v":{"$error":"#N/A"}},{"$f":"MATCH(AF$4,Millwall!$AD149:$AN149,0)","v":{"$error":"#N/A"}},{"$f":"MATCH(AG$4,Millwall!$AD149:$AN149,0)","v":{"$error":"#N/A"}},{"$f":"MATCH(AH$4,Millwall!$AD149:$AN149,0)","v":{"$error":"#N/A"}},{"$f":"MATCH(AI$4,Millwall!$AD149:$AN149,0)","v":{"$error":"#N/A"}},{"$f":"MATCH(AJ$4,Millwall!$AD149:$AN149,0)","v":{"$error":"#N/A"}},{"$f":"MATCH(AK$4,Millwall!$AD149:$AN149,0)","v":{"$error":"#N/A"}},{"$f":"MATCH(AL$4,Millwall!$AD149:$AN149,0)","v":{"$error":"#N/A"}},{"$f":"MATCH(AM$4,Millwall!$AD149:$AN149,0)","v":{"$error":"#N/A"}},{"$f":"MATCH(AN$4,Millwall!$AD149:$AN149,0)","v":{"$error":"#N/A"}},{"$f":"MATCH(AO$4,Millwall!$AD149:$AN149,0)","v":{"$error":"#N/A"}},{"$f":"MATCH(AP$4,Millwall!$AD149:$AN149,0)","v":{"$error":"#N/A"}},{"$f":"MATCH(AQ$4,Millwall!$AD149:$AN149,0)","v":{"$error":"#N/A"}},{"$f":"MATCH(AR$4,Millwall!$AD149:$AN149,0)","v":{"$error":"#N/A"}},null,null,null,null,null,{"$f":"MATCH(AX$3,Millwall!$AD149:$AO149,0)","v":{"$error":"#N/A"}},{"$f":"MATCH(AY$3,Millwall!$AD149:$AO149,0)","v":{"$error":"#N/A"}},{"$f":"MATCH(AZ$3,Millwall!$AD149:$AO149,0)","v":{"$error":"#N/A"}},{"$f":"MATCH(BA$3,Millwall!$AD149:$AO149,0)","v":{"$error":"#N/A"}},{"$f":"MATCH(BB$3,Millwall!$AD149:$AO149,0)","v":{"$error":"#N/A"}},{"$f":"MATCH(BC$3,Millwall!$AD149:$AO149,0)","v":{"$error":"#N/A"}},{"$f":"MATCH(BD$3,Millwall!$AD149:$AO149,0)","v":{"$error":"#N/A"}},{"$f":"MATCH(BE$3,Millwall!$AD149:$AO149,0)","v":{"$error":"#N/A"}},{"$f":"MATCH(BF$3,Millwall!$AD149:$AO149,0)","v":{"$error":"#N/A"}},{"$f":"MATCH(BG$3,Millwall!$AD149:$AO149,0)","v":{"$error":"#N/A"}},{"$f":"MATCH(BH$3,Millwall!$AD149:$AO149,0)","v":{"$error":"#N/A"}},{"$f":"MATCH(BI$3,Millwall!$AD149:$AO149,0)","v":{"$error":"#N/A"}},{"$f":"MATCH(BJ$3,Millwall!$AD149:$AO149,0)","v":{"$error":"#N/A"}},{"$f":"MATCH(BK$3,Millwall!$AD149:$AO149,0)","v":{"$error":"#N/A"}},{"$f":"MATCH(BL$3,Millwall!$AD149:$AO149,0)","v":{"$error":"#N/A"}},{"$f":"MATCH(BM$3,Millwall!$AD149:$AO149,0)","v":{"$error":"#N/A"}},{"$f":"MATCH(BN$3,Millwall!$AD149:$AO149,0)","v":{"$error":"#N/A"}},{"$f":"MATCH(BO$3,Millwall!$AD149:$AO149,0)","v":{"$error":"#N/A"}},{"$f":"MATCH(BP$3,Millwall!$AD149:$AO149,0)","v":{"$error":"#N/A"}},{"$f":"MATCH(BQ$3,Millwall!$AD149:$AO149,0)","v":{"$error":"#N/A"}},{"$f":"MATCH(BR$3,Millwall!$AD149:$AO149,0)","v":{"$error":"#N/A"}},{"$f":"MATCH(BS$3,Millwall!$AD149:$AO149,0)","v":{"$error":"#N/A"}},{"$f":"MATCH(BT$3,Millwall!$AD149:$AO149,0)","v":{"$error":"#N/A"}},{"$f":"MATCH(BU$3,Millwall!$AD149:$AO149,0)","v":{"$error":"#N/A"}},{"$f":"MATCH(BV$3,Millwall!$AD149:$AO149,0)","v":{"$error":"#N/A"}},{"$f":"MATCH(BW$3,Millwall!$AD149:$AO149,0)","v":{"$error":"#N/A"}},{"$f":"MATCH(BX$3,Millwall!$AD149:$AO149,0)","v":{"$error":"#N/A"}},{"$f":"MATCH(BY$3,Millwall!$AD149:$AO149,0)","v":{"$error":"#N/A"}},{"$f":"MATCH(BZ$3,Millwall!$AD149:$AO149,0)","v":{"$error":"#N/A"}},{"$f":"MATCH(CA$3,Millwall!$AD149:$AO149,0)","v":{"$error":"#N/A"}},{"$f":"MATCH(CB$3,Millwall!$AD149:$AO149,0)","v":{"$error":"#N/A"}},{"$f":"MATCH(CC$3,Millwall!$AD149:$AO149,0)","v":{"$error":"#N/A"}},{"$f":"MATCH(CD$3,Millwall!$AD149:$AO149,0)","v":{"$error":"#N/A"}},{"$f":"MATCH(CE$3,Millwall!$AD149:$AO149,0)","v":{"$error":"#N/A"}},null,null,{"$f":"MATCH(CH$3,Millwall!$AD149:AN149,0)","v":{"$error":"#N/A"}},{"$f":"MATCH(CI$3,Millwall!$AD149:AN149,0)","v":{"$error":"#N/A"}},{"$f":"MATCH(CJ$3,Millwall!$AD149:AN149,0)","v":{"$error":"#N/A"}},{"$f":"MATCH(CK$3,Millwall!$AD149:AN149,0)","v":{"$error":"#N/A"}},{"$f":"MATCH(CL$3,Millwall!$AD149:AN149,0)","v":{"$error":"#N/A"}},{"$f":"MATCH(CM$3,Millwall!$AD149:AN149,0)","v":{"$error":"#N/A"}},{"$f":"MATCH(CN$3,Millwall!$AD149:AN149,0)","v":{"$error":"#N/A"}},{"$f":"MATCH(CO$3,Millwall!$AD149:AN149,0)","v":{"$error":"#N/A"}},{"$f":"MATCH(CP$3,Millwall!$AD149:AN149,0)","v":{"$error":"#N/A"}},{"$f":"MATCH(CQ$3,Millwall!$AD149:AN149,0)","v":{"$error":"#N/A"}},{"$f":"MATCH(CR$3,Millwall!$AD149:AN149,0)","v":{"$error":"#N/A"}},{"$f":"MATCH(CS$3,Millwall!$AD149:AN149,0)","v":{"$error":"#N/A"}},{"$f":"MATCH(CT$3,Millwall!$AD149:AN149,0)","v":{"$error":"#N/A"}},{"$f":"MATCH(CU$3,Millwall!$AD149:AN149,0)","v":{"$error":"#N/A"}},{"$f":"MATCH(CV$3,Millwall!$AD149:AN149,0)","v":{"$error":"#N/A"}},{"$f":"MATCH(CW$3,Millwall!$AD149:AN149,0)","v":{"$error":"#N/A"}},{"$f":"MATCH(CX$3,Millwall!$AD149:AN149,0)","v":{"$error":"#N/A"}},{"$f":"MATCH(CY$3,Millwall!$AD149:AN149,0)","v":{"$error":"#N/A"}},{"$f":"MATCH(CZ$3,Millwall!$AD149:AN149,0)","v":{"$error":"#N/A"}},{"$f":"MATCH(DA$3,Millwall!$AD149:AN149,0)","v":{"$error":"#N/A"}},{"$f":"MATCH(DB$3,Millwall!$AD149:AN149,0)","v":{"$error":"#N/A"}},{"$f":"MATCH(DC$3,Millwall!$AD149:AN149,0)","v":{"$error":"#N/A"}},{"$f":"MATCH(DD$3,Millwall!$AD149:AN149,0)","v":{"$error":"#N/A"}},{"$f":"MATCH(DE$3,Millwall!$AD149:AN149,0)","v":{"$error":"#N/A"}},{"$f":"MATCH(DF$3,Millwall!$AD149:AN149,0)","v":{"$error":"#N/A"}},{"$f":"MATCH(DG$3,Millwall!$AD149:AN149,0)","v":{"$error":"#N/A"}},{"$f":"MATCH(DH$3,Millwall!$AD149:AN149,0)","v":{"$error":"#N/A"}},{"$f":"MATCH(DI$3,Millwall!$AD149:AN149,0)","v":{"$error":"#N/A"}},{"$f":"MATCH(DJ$3,Millwall!$AD149:AN149,0)","v":{"$error":"#N/A"}},{"$f":"MATCH(DK$3,Millwall!$AD149:AN149,0)","v":{"$error":"#N/A"}},{"$f":"MATCH(DL$3,Millwall!$AD149:AN149,0)","v":{"$error":"#N/A"}},{"$f":"MATCH(DM$3,Millwall!$AD149:AN149,0)","v":{"$error":"#N/A"}},{"$f":"MATCH(DN$3,Millwall!$AD149:AN149,0)","v":{"$error":"#N/A"}},{"$f":"MATCH(DO$3,Millwall!$AD149:AN149,0)","v":{"$error":"#N/A"}}]
[null,null,0,"Sth F",null,{"$f":"Millwall!Z150","v":"1984-05-21"},null,{"$f":"Millwall!AA150","v":"Bournemouth"},{"$f":"Millwall!AB150","v":"(A)"},{"$f":"Millwall!AC150","v":"L 1-2"},{"$f":"MATCH(K$4,Millwall!$AD150:$AN150,0)","v":8},{"$f":"MATCH(L$4,Millwall!$AD150:$AN150,0)","v":{"$error":"#N/A"}},{"$f":"MATCH(M$4,Millwall!$AD150:$AN150,0)","v":11},{"$f":"MATCH(N$4,Millwall!$AD150:$AN150,0)","v":{"$error":"#N/A"}},{"$f":"MATCH(O$4,Millwall!$AD150:$AN150,0)","v":{"$error":"#N/A"}},{"$f":"MATCH(P$4,Millwall!$AD150:$AN150,0)","v":6},{"$f":"MATCH(Q$4,Millwall!$AD150:$AN150,0)","v":4},{"$f":"MATCH(R$4,Millwall!$AD150:$AN150,0)","v":{"$error":"#N/A"}},{"$f":"MATCH(S$4,Millwall!$AD150:$AN150,0)","v":5},{"$f":"MATCH(T$4,Millwall!$AD150:$AN150,0)","v":{"$error":"#N/A"}},{"$f":"MATCH(U$4,Millwall!$AD150:$AN150,0)","v":7},{"$f":"MATCH(V$4,Millwall!$AD150:$AN150,0)","v":9},{"$f":"MATCH(W$4,Millwall!$AD150:$AN150,0)","v":{"$error":"#N/A"}},{"$f":"MATCH(X$4,Millwall!$AD150:$AN150,0)","v":{"$error":"#N/A"}},{"$f":"MATCH(Y$4,Millwall!$AD150:$AN150,0)","v":10},{"$f":"MATCH(Z$4,Millwall!$AD150:$AN150,0)","v":3},{"$f":"MATCH(AA$4,Millwall!$AD150:$AN150,0)","v":1},{"$f":"MATCH(AB$4,Millwall!$AD150:$AN150,0)","v":{"$error":"#N/A"}},{"$f":"MATCH(AC$4,Millwall!$AD150:$AN150,0)","v":{"$error":"#N/A"}},{"$f":"MATCH(AD$4,Millwall!$AD150:$AN150,0)","v":2},{"$f":"MATCH(AE$4,Millwall!$AD150:$AN150,0)","v":{"$error":"#N/A"}},{"$f":"MATCH(AF$4,Millwall!$AD150:$AN150,0)","v":{"$error":"#N/A"}},{"$f":"MATCH(AG$4,Millwall!$AD150:$AN150,0)","v":{"$error":"#N/A"}},{"$f":"MATCH(AH$4,Millwall!$AD150:$AN150,0)","v":{"$error":"#N/A"}},{"$f":"MATCH(AI$4,Millwall!$AD150:$AN150,0)","v":{"$error":"#N/A"}},{"$f":"MATCH(AJ$4,Millwall!$AD150:$AN150,0)","v":{"$error":"#N/A"}},{"$f":"MATCH(AK$4,Millwall!$AD150:$AN150,0)","v":{"$error":"#N/A"}},{"$f":"MATCH(AL$4,Millwall!$AD150:$AN150,0)","v":{"$error":"#N/A"}},{"$f":"MATCH(AM$4,Millwall!$AD150:$AN150,0)","v":{"$error":"#N/A"}},{"$f":"MATCH(AN$4,Millwall!$AD150:$AN150,0)","v":{"$error":"#N/A"}},{"$f":"MATCH(AO$4,Millwall!$AD150:$AN150,0)","v":{"$error":"#N/A"}},{"$f":"MATCH(AP$4,Millwall!$AD150:$AN150,0)","v":{"$error":"#N/A"}},{"$f":"MATCH(AQ$4,Millwall!$AD150:$AN150,0)","v":{"$error":"#N/A"}},{"$f":"MATCH(AR$4,Millwall!$AD150:$AN150,0)","v":{"$error":"#N/A"}},null,null,null,null,null,{"$f":"MATCH(AX$3,Millwall!$AD150:$AO150,0)","v":{"$error":"#N/A"}},{"$f":"MATCH(AY$3,Millwall!$AD150:$AO150,0)","v":{"$error":"#N/A"}},{"$f":"MATCH(AZ$3,Millwall!$AD150:$AO150,0)","v":{"$error":"#N/A"}},{"$f":"MATCH(BA$3,Millwall!$AD150:$AO150,0)","v":{"$error":"#N/A"}},{"$f":"MATCH(BB$3,Millwall!$AD150:$AO150,0)","v":{"$error":"#N/A"}},{"$f":"MATCH(BC$3,Millwall!$AD150:$AO150,0)","v":{"$error":"#N/A"}},{"$f":"MATCH(BD$3,Millwall!$AD150:$AO150,0)","v":{"$error":"#N/A"}},{"$f":"MATCH(BE$3,Millwall!$AD150:$AO150,0)","v":{"$error":"#N/A"}},{"$f":"MATCH(BF$3,Millwall!$AD150:$AO150,0)","v":{"$error":"#N/A"}},{"$f":"MATCH(BG$3,Millwall!$AD150:$AO150,0)","v":{"$error":"#N/A"}},{"$f":"MATCH(BH$3,Millwall!$AD150:$AO150,0)","v":{"$error":"#N/A"}},{"$f":"MATCH(BI$3,Millwall!$AD150:$AO150,0)","v":{"$error":"#N/A"}},{"$f":"MATCH(BJ$3,Millwall!$AD150:$AO150,0)","v":{"$error":"#N/A"}},{"$f":"MATCH(BK$3,Millwall!$AD150:$AO150,0)","v":{"$error":"#N/A"}},{"$f":"MATCH(BL$3,Millwall!$AD150:$AO150,0)","v":{"$error":"#N/A"}},{"$f":"MATCH(BM$3,Millwall!$AD150:$AO150,0)","v":{"$error":"#N/A"}},{"$f":"MATCH(BN$3,Millwall!$AD150:$AO150,0)","v":{"$error":"#N/A"}},{"$f":"MATCH(BO$3,Millwall!$AD150:$AO150,0)","v":{"$error":"#N/A"}},{"$f":"MATCH(BP$3,Millwall!$AD150:$AO150,0)","v":{"$error":"#N/A"}},{"$f":"MATCH(BQ$3,Millwall!$AD150:$AO150,0)","v":{"$error":"#N/A"}},{"$f":"MATCH(BR$3,Millwall!$AD150:$AO150,0)","v":{"$error":"#N/A"}},{"$f":"MATCH(BS$3,Millwall!$AD150:$AO150,0)","v":{"$error":"#N/A"}},{"$f":"MATCH(BT$3,Millwall!$AD150:$AO150,0)","v":{"$error":"#N/A"}},{"$f":"MATCH(BU$3,Millwall!$AD150:$AO150,0)","v":{"$error":"#N/A"}},{"$f":"MATCH(BV$3,Millwall!$AD150:$AO150,0)","v":{"$error":"#N/A"}},{"$f":"MATCH(BW$3,Millwall!$AD150:$AO150,0)","v":{"$error":"#N/A"}},{"$f":"MATCH(BX$3,Millwall!$AD150:$AO150,0)","v":{"$error":"#N/A"}},{"$f":"MATCH(BY$3,Millwall!$AD150:$AO150,0)","v":{"$error":"#N/A"}},{"$f":"MATCH(BZ$3,Millwall!$AD150:$AO150,0)","v":{"$error":"#N/A"}},{"$f":"MATCH(CA$3,Millwall!$AD150:$AO150,0)","v":{"$error":"#N/A"}},{"$f":"MATCH(CB$3,Millwall!$AD150:$AO150,0)","v":{"$error":"#N/A"}},{"$f":"MATCH(CC$3,Millwall!$AD150:$AO150,0)","v":{"$error":"#N/A"}},{"$f":"MATCH(CD$3,Millwall!$AD150:$AO150,0)","v":{"$error":"#N/A"}},{"$f":"MATCH(CE$3,Millwall!$AD150:$AO150,0)","v":{"$error":"#N/A"}},null,null,{"$f":"MATCH(CH$3,Millwall!$AD150:AN150,0)","v":{"$error":"#N/A"}},{"$f":"MATCH(CI$3,Millwall!$AD150:AN150,0)","v":{"$error":"#N/A"}},{"$f":"MATCH(CJ$3,Millwall!$AD150:AN150,0)","v":{"$error":"#N/A"}},{"$f":"MATCH(CK$3,Millwall!$AD150:AN150,0)","v":{"$error":"#N/A"}},{"$f":"MATCH(CL$3,Millwall!$AD150:AN150,0)","v":{"$error":"#N/A"}},{"$f":"MATCH(CM$3,Millwall!$AD150:AN150,0)","v":{"$error":"#N/A"}},{"$f":"MATCH(CN$3,Millwall!$AD150:AN150,0)","v":{"$error":"#N/A"}},{"$f":"MATCH(CO$3,Millwall!$AD150:AN150,0)","v":{"$error":"#N/A"}},{"$f":"MATCH(CP$3,Millwall!$AD150:AN150,0)","v":{"$error":"#N/A"}},{"$f":"MATCH(CQ$3,Millwall!$AD150:AN150,0)","v":{"$error":"#N/A"}},{"$f":"MATCH(CR$3,Millwall!$AD150:AN150,0)","v":{"$error":"#N/A"}},{"$f":"MATCH(CS$3,Millwall!$AD150:AN150,0)","v":{"$error":"#N/A"}},{"$f":"MATCH(CT$3,Millwall!$AD150:AN150,0)","v":{"$error":"#N/A"}},{"$f":"MATCH(CU$3,Millwall!$AD150:AN150,0)","v":{"$error":"#N/A"}},{"$f":"MATCH(CV$3,Millwall!$AD150:AN150,0)","v":{"$error":"#N/A"}},{"$f":"MATCH(CW$3,Millwall!$AD150:AN150,0)","v":{"$error":"#N/A"}},{"$f":"MATCH(CX$3,Millwall!$AD150:AN150,0)","v":{"$error":"#N/A"}},{"$f":"MATCH(CY$3,Millwall!$AD150:AN150,0)","v":{"$error":"#N/A"}},{"$f":"MATCH(CZ$3,Millwall!$AD150:AN150,0)","v":{"$error":"#N/A"}},{"$f":"MATCH(DA$3,Millwall!$AD150:AN150,0)","v":{"$error":"#N/A"}},{"$f":"MATCH(DB$3,Millwall!$AD150:AN150,0)","v":{"$error":"#N/A"}},{"$f":"MATCH(DC$3,Millwall!$AD150:AN150,0)","v":{"$error":"#N/A"}},{"$f":"MATCH(DD$3,Millwall!$AD150:AN150,0)","v":{"$error":"#N/A"}},{"$f":"MATCH(DE$3,Millwall!$AD150:AN150,0)","v":{"$error":"#N/A"}},{"$f":"MATCH(DF$3,Millwall!$AD150:AN150,0)","v":{"$error":"#N/A"}},{"$f":"MATCH(DG$3,Millwall!$AD150:AN150,0)","v":{"$error":"#N/A"}},{"$f":"MATCH(DH$3,Millwall!$AD150:AN150,0)","v":{"$error":"#N/A"}},{"$f":"MATCH(DI$3,Millwall!$AD150:AN150,0)","v":{"$error":"#N/A"}},{"$f":"MATCH(DJ$3,Millwall!$AD150:AN150,0)","v":{"$error":"#N/A"}},{"$f":"MATCH(DK$3,Millwall!$AD150:AN150,0)","v":{"$error":"#N/A"}},{"$f":"MATCH(DL$3,Millwall!$AD150:AN150,0)","v":{"$error":"#N/A"}},{"$f":"MATCH(DM$3,Millwall!$AD150:AN150,0)","v":{"$error":"#N/A"}},{"$f":"MATCH(DN$3,Millwall!$AD150:AN150,0)","v":{"$error":"#N/A"}},{"$f":"MATCH(DO$3,Millwall!$AD150:AN150,0)","v":{"$error":"#N/A"}}]
[null,null,1,"F",null,{"$f":"Millwall!Z151","v":"00:00:00"},null,{"$f":"Millwall!AA151","v":"00:00:00"},{"$f":"Millwall!AB151","v":"00:00:00"},{"$f":"Millwall!AC151","v":0},{"$f":"MATCH(K$4,Millwall!$AD151:$AQ151,0)","v":{"$error":"#N/A"}},{"$f":"MATCH(L$4,Millwall!$AD151:$AQ151,0)","v":{"$error":"#N/A"}},{"$f":"MATCH(M$4,Millwall!$AD151:$AQ151,0)","v":{"$error":"#N/A"}},{"$f":"MATCH(N$4,Millwall!$AD151:$AQ151,0)","v":{"$error":"#N/A"}},{"$f":"MATCH(O$4,Millwall!$AD151:$AQ151,0)","v":{"$error":"#N/A"}},{"$f":"MATCH(P$4,Millwall!$AD151:$AQ151,0)","v":{"$error":"#N/A"}},{"$f":"MATCH(Q$4,Millwall!$AD151:$AQ151,0)","v":{"$error":"#N/A"}},{"$f":"MATCH(R$4,Millwall!$AD151:$AQ151,0)","v":{"$error":"#N/A"}},{"$f":"MATCH(S$4,Millwall!$AD151:$AQ151,0)","v":{"$error":"#N/A"}},{"$f":"MATCH(T$4,Millwall!$AD151:$AQ151,0)","v":{"$error":"#N/A"}},{"$f":"MATCH(U$4,Millwall!$AD151:$AQ151,0)","v":{"$error":"#N/A"}},{"$f":"MATCH(V$4,Millwall!$AD151:$AQ151,0)","v":{"$error":"#N/A"}},{"$f":"MATCH(W$4,Millwall!$AD151:$AQ151,0)","v":{"$error":"#N/A"}},{"$f":"MATCH(X$4,Millwall!$AD151:$AQ151,0)","v":{"$error":"#N/A"}},{"$f":"MATCH(Y$4,Millwall!$AD151:$AQ151,0)","v":{"$error":"#N/A"}},{"$f":"MATCH(Z$4,Millwall!$AD151:$AQ151,0)","v":{"$error":"#N/A"}},{"$f":"MATCH(AA$4,Millwall!$AD151:$AQ151,0)","v":{"$error":"#N/A"}},{"$f":"MATCH(AB$4,Millwall!$AD151:$AQ151,0)","v":{"$error":"#N/A"}},{"$f":"MATCH(AC$4,Millwall!$AD151:$AQ151,0)","v":{"$error":"#N/A"}},{"$f":"MATCH(AD$4,Millwall!$AD151:$AQ151,0)","v":{"$error":"#N/A"}},{"$f":"MATCH(AE$4,Millwall!$AD151:$AQ151,0)","v":{"$error":"#N/A"}},{"$f":"MATCH(AF$4,Millwall!$AD151:$AQ151,0)","v":{"$error":"#N/A"}},{"$f":"MATCH(AG$4,Millwall!$AD151:$AQ151,0)","v":{"$error":"#N/A"}},{"$f":"MATCH(AH$4,Millwall!$AD151:$AQ151,0)","v":{"$error":"#N/A"}},{"$f":"MATCH(AI$4,Millwall!$AD151:$AQ151,0)","v":{"$error":"#N/A"}},{"$f":"MATCH(AJ$4,Millwall!$AD151:$AQ151,0)","v":{"$error":"#N/A"}},{"$f":"MATCH(AK$4,Millwall!$AD151:$AQ151,0)","v":{"$error":"#N/A"}},{"$f":"MATCH(AL$4,Millwall!$AD151:$AQ151,0)","v":{"$error":"#N/A"}},{"$f":"MATCH(AM$4,Millwall!$AD151:$AQ151,0)","v":{"$error":"#N/A"}},{"$f":"MATCH(AN$4,Millwall!$AD151:$AQ151,0)","v":{"$error":"#N/A"}},{"$f":"MATCH(AO$4,Millwall!$AD151:$AQ151,0)","v":{"$error":"#N/A"}},{"$f":"MATCH(AP$4,Millwall!$AD151:$AQ151,0)","v":{"$error":"#N/A"}},{"$f":"MATCH(AQ$4,Millwall!$AD151:$AQ151,0)","v":{"$error":"#N/A"}},{"$f":"MATCH(AR$4,Millwall!$AD151:$AQ151,0)","v":{"$error":"#N/A"}},null,null,null,null,null,{"$f":"MATCH(AX$3,Millwall!$AD151:$AO151,0)","v":{"$error":"#N/A"}},{"$f":"MATCH(AY$3,Millwall!$AD151:$AO151,0)","v":{"$error":"#N/A"}},{"$f":"MATCH(AZ$3,Millwall!$AD151:$AO151,0)","v":{"$error":"#N/A"}},{"$f":"MATCH(BA$3,Millwall!$AD151:$AO151,0)","v":{"$error":"#N/A"}},{"$f":"MATCH(BB$3,Millwall!$AD151:$AO151,0)","v":{"$error":"#N/A"}},{"$f":"MATCH(BC$3,Millwall!$AD151:$AO151,0)","v":{"$error":"#N/A"}},{"$f":"MATCH(BD$3,Millwall!$AD151:$AO151,0)","v":{"$error":"#N/A"}},{"$f":"MATCH(BE$3,Millwall!$AD151:$AO151,0)","v":{"$error":"#N/A"}},{"$f":"MATCH(BF$3,Millwall!$AD151:$AO151,0)","v":{"$error":"#N/A"}},{"$f":"MATCH(BG$3,Millwall!$AD151:$AO151,0)","v":{"$error":"#N/A"}},{"$f":"MATCH(BH$3,Millwall!$AD151:$AO151,0)","v":{"$error":"#N/A"}},{"$f":"MATCH(BI$3,Millwall!$AD151:$AO151,0)","v":{"$error":"#N/A"}},{"$f":"MATCH(BJ$3,Millwall!$AD151:$AO151,0)","v":{"$error":"#N/A"}},{"$f":"MATCH(BK$3,Millwall!$AD151:$AO151,0)","v":{"$error":"#N/A"}},{"$f":"MATCH(BL$3,Millwall!$AD151:$AO151,0)","v":{"$error":"#N/A"}},{"$f":"MATCH(BM$3,Millwall!$AD151:$AO151,0)","v":{"$error":"#N/A"}},{"$f":"MATCH(BN$3,Millwall!$AD151:$AO151,0)","v":{"$error":"#N/A"}},{"$f":"MATCH(BO$3,Millwall!$AD151:$AO151,0)","v":{"$error":"#N/A"}},{"$f":"MATCH(BP$3,Millwall!$AD151:$AO151,0)","v":{"$error":"#N/A"}},{"$f":"MATCH(BQ$3,Millwall!$AD151:$AO151,0)","v":{"$error":"#N/A"}},{"$f":"MATCH(BR$3,Millwall!$AD151:$AO151,0)","v":{"$error":"#N/A"}},{"$f":"MATCH(BS$3,Millwall!$AD151:$AO151,0)","v":{"$error":"#N/A"}},{"$f":"MATCH(BT$3,Millwall!$AD151:$AO151,0)","v":{"$error":"#N/A"}},{"$f":"MATCH(BU$3,Millwall!$AD151:$AO151,0)","v":{"$error":"#N/A"}},{"$f":"MATCH(BV$3,Millwall!$AD151:$AO151,0)","v":{"$error":"#N/A"}},{"$f":"MATCH(BW$3,Millwall!$AD151:$AO151,0)","v":{"$error":"#N/A"}},{"$f":"MATCH(BX$3,Millwall!$AD151:$AO151,0)","v":{"$error":"#N/A"}},{"$f":"MATCH(BY$3,Millwall!$AD151:$AO151,0)","v":{"$error":"#N/A"}},{"$f":"MATCH(BZ$3,Millwall!$AD151:$AO151,0)","v":{"$error":"#N/A"}},{"$f":"MATCH(CA$3,Millwall!$AD151:$AO151,0)","v":{"$error":"#N/A"}},{"$f":"MATCH(CB$3,Millwall!$AD151:$AO151,0)","v":{"$error":"#N/A"}},{"$f":"MATCH(CC$3,Millwall!$AD151:$AO151,0)","v":{"$error":"#N/A"}},{"$f":"MATCH(CD$3,Millwall!$AD151:$AO151,0)","v":{"$error":"#N/A"}},{"$f":"MATCH(CE$3,Millwall!$AD151:$AO151,0)","v":{"$error":"#N/A"}},null,null,{"$f":"MATCH(CH$3,Millwall!$AD151:AQ151,0)","v":{"$error":"#N/A"}},{"$f":"MATCH(CI$3,Millwall!$AD151:AQ151,0)","v":{"$error":"#N/A"}},{"$f":"MATCH(CJ$3,Millwall!$AD151:AQ151,0)","v":{"$error":"#N/A"}},{"$f":"MATCH(CK$3,Millwall!$AD151:AQ151,0)","v":{"$error":"#N/A"}},{"$f":"MATCH(CL$3,Millwall!$AD151:AQ151,0)","v":{"$error":"#N/A"}},{"$f":"MATCH(CM$3,Millwall!$AD151:AQ151,0)","v":{"$error":"#N/A"}},{"$f":"MATCH(CN$3,Millwall!$AD151:AQ151,0)","v":{"$error":"#N/A"}},{"$f":"MATCH(CO$3,Millwall!$AD151:AQ151,0)","v":{"$error":"#N/A"}},{"$f":"MATCH(CP$3,Millwall!$AD151:AQ151,0)","v":{"$error":"#N/A"}},{"$f":"MATCH(CQ$3,Millwall!$AD151:AQ151,0)","v":{"$error":"#N/A"}},{"$f":"MATCH(CR$3,Millwall!$AD151:AQ151,0)","v":{"$error":"#N/A"}},{"$f":"MATCH(CS$3,Millwall!$AD151:AQ151,0)","v":{"$error":"#N/A"}},{"$f":"MATCH(CT$3,Millwall!$AD151:AQ151,0)","v":{"$error":"#N/A"}},{"$f":"MATCH(CU$3,Millwall!$AD151:AQ151,0)","v":{"$error":"#N/A"}},{"$f":"MATCH(CV$3,Millwall!$AD151:AQ151,0)","v":{"$error":"#N/A"}},{"$f":"MATCH(CW$3,Millwall!$AD151:AQ151,0)","v":{"$error":"#N/A"}},{"$f":"MATCH(CX$3,Millwall!$AD151:AQ151,0)","v":{"$error":"#N/A"}},{"$f":"MATCH(CY$3,Millwall!$AD151:AQ151,0)","v":{"$error":"#N/A"}},{"$f":"MATCH(CZ$3,Millwall!$AD151:AQ151,0)","v":{"$error":"#N/A"}},{"$f":"MATCH(DA$3,Millwall!$AD151:AQ151,0)","v":{"$error":"#N/A"}},{"$f":"MATCH(DB$3,Millwall!$AD151:AQ151,0)","v":{"$error":"#N/A"}},{"$f":"MATCH(DC$3,Millwall!$AD151:AQ151,0)","v":{"$error":"#N/A"}},{"$f":"MATCH(DD$3,Millwall!$AD151:AQ151,0)","v":{"$error":"#N/A"}},{"$f":"MATCH(DE$3,Millwall!$AD151:AQ151,0)","v":{"$error":"#N/A"}},{"$f":"MATCH(DF$3,Millwall!$AD151:AQ151,0)","v":{"$error":"#N/A"}},{"$f":"MATCH(DG$3,Millwall!$AD151:AQ151,0)","v":{"$error":"#N/A"}},{"$f":"MATCH(DH$3,Millwall!$AD151:AQ151,0)","v":{"$error":"#N/A"}},{"$f":"MATCH(DI$3,Millwall!$AD151:AQ151,0)","v":{"$error":"#N/A"}},{"$f":"MATCH(DJ$3,Millwall!$AD151:AQ151,0)","v":{"$error":"#N/A"}},{"$f":"MATCH(DK$3,Millwall!$AD151:AQ151,0)","v":{"$error":"#N/A"}},{"$f":"MATCH(DL$3,Millwall!$AD151:AQ151,0)","v":{"$error":"#N/A"}},{"$f":"MATCH(DM$3,Millwall!$AD151:AQ151,0)","v":{"$error":"#N/A"}},{"$f":"MATCH(DN$3,Millwall!$AD151:AQ151,0)","v":{"$error":"#N/A"}},{"$f":"MATCH(DO$3,Millwall!$AD151:AQ151,0)","v":{"$error":"#N/A"}}]
[null,null,1,1,null,{"$f":"Millwall!X152","v":"00:00:00"},null,{"$f":"Millwall!Y152","v":"00:00:00"},{"$f":"Millwall!Z152","v":"00:00:00"},{"$f":"Millwall!AA152","v":0},{"$f":"MATCH(K$4,Millwall!$AD152:$AQ152,0)","v":{"$error":"#N/A"}},{"$f":"MATCH(L$4,Millwall!$AD152:$AQ152,0)","v":{"$error":"#N/A"}},{"$f":"MATCH(M$4,Millwall!$AD152:$AQ152,0)","v":{"$error":"#N/A"}},{"$f":"MATCH(N$4,Millwall!$AD152:$AQ152,0)","v":{"$error":"#N/A"}},{"$f":"MATCH(O$4,Millwall!$AD152:$AQ152,0)","v":{"$error":"#N/A"}},{"$f":"MATCH(P$4,Millwall!$AD152:$AQ152,0)","v":{"$error":"#N/A"}},{"$f":"MATCH(Q$4,Millwall!$AD152:$AQ152,0)","v":{"$error":"#N/A"}},{"$f":"MATCH(R$4,Millwall!$AD152:$AQ152,0)","v":{"$error":"#N/A"}},{"$f":"MATCH(S$4,Millwall!$AD152:$AQ152,0)","v":{"$error":"#N/A"}},{"$f":"MATCH(T$4,Millwall!$AD152:$AQ152,0)","v":{"$error":"#N/A"}},{"$f":"MATCH(U$4,Millwall!$AD152:$AQ152,0)","v":{"$error":"#N/A"}},{"$f":"MATCH(V$4,Millwall!$AD152:$AQ152,0)","v":{"$error":"#N/A"}},{"$f":"MATCH(W$4,Millwall!$AD152:$AQ152,0)","v":{"$error":"#N/A"}},{"$f":"MATCH(X$4,Millwall!$AD152:$AQ152,0)","v":{"$error":"#N/A"}},{"$f":"MATCH(Y$4,Millwall!$AD152:$AQ152,0)","v":{"$error":"#N/A"}},{"$f":"MATCH(Z$4,Millwall!$AD152:$AQ152,0)","v":{"$error":"#N/A"}},{"$f":"MATCH(AA$4,Millwall!$AD152:$AQ152,0)","v":{"$error":"#N/A"}},{"$f":"MATCH(AB$4,Millwall!$AD152:$AQ152,0)","v":{"$error":"#N/A"}},{"$f":"MATCH(AC$4,Millwall!$AD152:$AQ152,0)","v":{"$error":"#N/A"}},{"$f":"MATCH(AD$4,Millwall!$AD152:$AQ152,0)","v":{"$error":"#N/A"}},{"$f":"MATCH(AE$4,Millwall!$AD152:$AQ152,0)","v":{"$error":"#N/A"}},{"$f":"MATCH(AF$4,Millwall!$AD152:$AQ152,0)","v":{"$error":"#N/A"}},{"$f":"MATCH(AG$4,Millwall!$AD152:$AQ152,0)","v":{"$error":"#N/A"}},{"$f":"MATCH(AH$4,Millwall!$AD152:$AQ152,0)","v":{"$error":"#N/A"}},{"$f":"MATCH(AI$4,Millwall!$AD152:$AQ152,0)","v":{"$error":"#N/A"}},{"$f":"MATCH(AJ$4,Millwall!$AD152:$AQ152,0)","v":{"$error":"#N/A"}},{"$f":"MATCH(AK$4,Millwall!$AD152:$AQ152,0)","v":{"$error":"#N/A"}},{"$f":"MATCH(AL$4,Millwall!$AD152:$AQ152,0)","v":{"$error":"#N/A"}},{"$f":"MATCH(AM$4,Millwall!$AD152:$AQ152,0)","v":{"$error":"#N/A"}},{"$f":"MATCH(AN$4,Millwall!$AD152:$AQ152,0)","v":{"$error":"#N/A"}},{"$f":"MATCH(AO$4,Millwall!$AD152:$AQ152,0)","v":{"$error":"#N/A"}},{"$f":"MATCH(AP$4,Millwall!$AD152:$AQ152,0)","v":{"$error":"#N/A"}},{"$f":"MATCH(AQ$4,Millwall!$AD152:$AQ152,0)","v":{"$error":"#N/A"}},{"$f":"MATCH(AR$4,Millwall!$AD152:$AQ152,0)","v":{"$error":"#N/A"}},null,null,null,null,null,{"$f":"MATCH(AX$3,Millwall!$AD152:$AO152,0)","v":{"$error":"#N/A"}},{"$f":"MATCH(AY$3,Millwall!$AD152:$AO152,0)","v":{"$error":"#N/A"}},{"$f":"MATCH(AZ$3,Millwall!$AD152:$AO152,0)","v":{"$error":"#N/A"}},{"$f":"MATCH(BA$3,Millwall!$AD152:$AO152,0)","v":{"$error":"#N/A"}},{"$f":"MATCH(BB$3,Millwall!$AD152:$AO152,0)","v":{"$error":"#N/A"}},{"$f":"MATCH(BC$3,Millwall!$AD152:$AO152,0)","v":{"$error":"#N/A"}},{"$f":"MATCH(BD$3,Millwall!$AD152:$AO152,0)","v":{"$error":"#N/A"}},{"$f":"MATCH(BE$3,Millwall!$AD152:$AO152,0)","v":{"$error":"#N/A"}},{"$f":"MATCH(BF$3,Millwall!$AD152:$AO152,0)","v":{"$error":"#N/A"}},{"$f":"MATCH(BG$3,Millwall!$AD152:$AO152,0)","v":{"$error":"#N/A"}},{"$f":"MATCH(BH$3,Millwall!$AD152:$AO152,0)","v":{"$error":"#N/A"}},{"$f":"MATCH(BI$3,Millwall!$AD152:$AO152,0)","v":{"$error":"#N/A"}},{"$f":"MATCH(BJ$3,Millwall!$AD152:$AO152,0)","v":{"$error":"#N/A"}},{"$f":"MATCH(BK$3,Millwall!$AD152:$AO152,0)","v":{"$error":"#N/A"}},{"$f":"MATCH(BL$3,Millwall!$AD152:$AO152,0)","v":{"$error":"#N/A"}},{"$f":"MATCH(BM$3,Millwall!$AD152:$AO152,0)","v":{"$error":"#N/A"}},{"$f":"MATCH(BN$3,Millwall!$AD152:$AO152,0)","v":{"$error":"#N/A"}},{"$f":"MATCH(BO$3,Millwall!$AD152:$AO152,0)","v":{"$error":"#N/A"}},{"$f":"MATCH(BP$3,Millwall!$AD152:$AO152,0)","v":{"$error":"#N/A"}},{"$f":"MATCH(BQ$3,Millwall!$AD152:$AO152,0)","v":{"$error":"#N/A"}},{"$f":"MATCH(BR$3,Millwall!$AD152:$AO152,0)","v":{"$error":"#N/A"}},{"$f":"MATCH(BS$3,Millwall!$AD152:$AO152,0)","v":{"$error":"#N/A"}},{"$f":"MATCH(BT$3,Millwall!$AD152:$AO152,0)","v":{"$error":"#N/A"}},{"$f":"MATCH(BU$3,Millwall!$AD152:$AO152,0)","v":{"$error":"#N/A"}},{"$f":"MATCH(BV$3,Millwall!$AD152:$AO152,0)","v":{"$error":"#N/A"}},{"$f":"MATCH(BW$3,Millwall!$AD152:$AO152,0)","v":{"$error":"#N/A"}},{"$f":"MATCH(BX$3,Millwall!$AD152:$AO152,0)","v":{"$error":"#N/A"}},{"$f":"MATCH(BY$3,Millwall!$AD152:$AO152,0)","v":{"$error":"#N/A"}},{"$f":"MATCH(BZ$3,Millwall!$AD152:$AO152,0)","v":{"$error":"#N/A"}},{"$f":"MATCH(CA$3,Millwall!$AD152:$AO152,0)","v":{"$error":"#N/A"}},{"$f":"MATCH(CB$3,Millwall!$AD152:$AO152,0)","v":{"$error":"#N/A"}},{"$f":"MATCH(CC$3,Millwall!$AD152:$AO152,0)","v":{"$error":"#N/A"}},{"$f":"MATCH(CD$3,Millwall!$AD152:$AO152,0)","v":{"$error":"#N/A"}},{"$f":"MATCH(CE$3,Millwall!$AD152:$AO152,0)","v":{"$error":"#N/A"}},null,null,{"$f":"MATCH(CH$3,Millwall!$AD152:AN152,0)","v":{"$error":"#N/A"}},{"$f":"MATCH(CI$3,Millwall!$AD152:AN152,0)","v":{"$error":"#N/A"}},{"$f":"MATCH(CJ$3,Millwall!$AD152:AN152,0)","v":{"$error":"#N/A"}},{"$f":"MATCH(CK$3,Millwall!$AD152:AN152,0)","v":{"$error":"#N/A"}},{"$f":"MATCH(CL$3,Millwall!$AD152:AN152,0)","v":{"$error":"#N/A"}},{"$f":"MATCH(CM$3,Millwall!$AD152:AN152,0)","v":{"$error":"#N/A"}},{"$f":"MATCH(CN$3,Millwall!$AD152:AN152,0)","v":{"$error":"#N/A"}},{"$f":"MATCH(CO$3,Millwall!$AD152:AN152,0)","v":{"$error":"#N/A"}},{"$f":"MATCH(CP$3,Millwall!$AD152:AN152,0)","v":{"$error":"#N/A"}},{"$f":"MATCH(CQ$3,Millwall!$AD152:AN152,0)","v":{"$error":"#N/A"}},{"$f":"MATCH(CR$3,Millwall!$AD152:AN152,0)","v":{"$error":"#N/A"}},{"$f":"MATCH(CS$3,Millwall!$AD152:AN152,0)","v":{"$error":"#N/A"}},{"$f":"MATCH(CT$3,Millwall!$AD152:AN152,0)","v":{"$error":"#N/A"}},{"$f":"MATCH(CU$3,Millwall!$AD152:AN152,0)","v":{"$error":"#N/A"}},{"$f":"MATCH(CV$3,Millwall!$AD152:AN152,0)","v":{"$error":"#N/A"}},{"$f":"MATCH(CW$3,Millwall!$AD152:AN152,0)","v":{"$error":"#N/A"}},{"$f":"MATCH(CX$3,Millwall!$AD152:AN152,0)","v":{"$error":"#N/A"}},{"$f":"MATCH(CY$3,Millwall!$AD152:AN152,0)","v":{"$error":"#N/A"}},{"$f":"MATCH(CZ$3,Millwall!$AD152:AN152,0)","v":{"$error":"#N/A"}},{"$f":"MATCH(DA$3,Millwall!$AD152:AN152,0)","v":{"$error":"#N/A"}},{"$f":"MATCH(DB$3,Millwall!$AD152:AN152,0)","v":{"$error":"#N/A"}},{"$f":"MATCH(DC$3,Millwall!$AD152:AN152,0)","v":{"$error":"#N/A"}},{"$f":"MATCH(DD$3,Millwall!$AD152:AN152,0)","v":{"$error":"#N/A"}},{"$f":"MATCH(DE$3,Millwall!$AD152:AN152,0)","v":{"$error":"#N/A"}},{"$f":"MATCH(DF$3,Millwall!$AD152:AN152,0)","v":{"$error":"#N/A"}},{"$f":"MATCH(DG$3,Millwall!$AD152:AN152,0)","v":{"$error":"#N/A"}},{"$f":"MATCH(DH$3,Millwall!$AD152:AN152,0)","v":{"$error":"#N/A"}},{"$f":"MATCH(DI$3,Millwall!$AD152:AN152,0)","v":{"$error":"#N/A"}},{"$f":"MATCH(DJ$3,Millwall!$AD152:AN152,0)","v":{"$error":"#N/A"}},{"$f":"MATCH(DK$3,Millwall!$AD152:AN152,0)","v":{"$error":"#N/A"}},{"$f":"MATCH(DL$3,Millwall!$AD152:AN152,0)","v":{"$error":"#N/A"}},{"$f":"MATCH(DM$3,Millwall!$AD152:AN152,0)","v":{"$error":"#N/A"}},{"$f":"MATCH(DN$3,Millwall!$AD152:AN152,0)","v":{"$error":"#N/A"}},{"$f":"MATCH(DO$3,Millwall!$AD152:AN152,0)","v":{"$error":"#N/A"}}]
[null,null,1,1,null,{"$f":"Millwall!X153","v":"00:00:00"},null,{"$f":"Millwall!Y153","v":"00:00:00"},{"$f":"Millwall!Z153","v":"00:00:00"},{"$f":"Millwall!AA153","v":0},{"$f":"MATCH(K$4,Millwall!$AD153:$AQ153,0)","v":{"$error":"#N/A"}},{"$f":"MATCH(L$4,Millwall!$AD153:$AQ153,0)","v":{"$error":"#N/A"}},{"$f":"MATCH(M$4,Millwall!$AD153:$AQ153,0)","v":{"$error":"#N/A"}},{"$f":"MATCH(N$4,Millwall!$AD153:$AQ153,0)","v":{"$error":"#N/A"}},{"$f":"MATCH(O$4,Millwall!$AD153:$AQ153,0)","v":{"$error":"#N/A"}},{"$f":"MATCH(P$4,Millwall!$AD153:$AQ153,0)","v":{"$error":"#N/A"}},{"$f":"MATCH(Q$4,Millwall!$AD153:$AQ153,0)","v":{"$error":"#N/A"}},{"$f":"MATCH(R$4,Millwall!$AD153:$AQ153,0)","v":{"$error":"#N/A"}},{"$f":"MATCH(S$4,Millwall!$AD153:$AQ153,0)","v":{"$error":"#N/A"}},{"$f":"MATCH(T$4,Millwall!$AD153:$AQ153,0)","v":{"$error":"#N/A"}},{"$f":"MATCH(U$4,Millwall!$AD153:$AQ153,0)","v":{"$error":"#N/A"}},{"$f":"MATCH(V$4,Millwall!$AD153:$AQ153,0)","v":{"$error":"#N/A"}},{"$f":"MATCH(W$4,Millwall!$AD153:$AQ153,0)","v":{"$error":"#N/A"}},{"$f":"MATCH(X$4,Millwall!$AD153:$AQ153,0)","v":{"$error":"#N/A"}},{"$f":"MATCH(Y$4,Millwall!$AD153:$AQ153,0)","v":{"$error":"#N/A"}},{"$f":"MATCH(Z$4,Millwall!$AD153:$AQ153,0)","v":{"$error":"#N/A"}},{"$f":"MATCH(AA$4,Millwall!$AD153:$AQ153,0)","v":{"$error":"#N/A"}},{"$f":"MATCH(AB$4,Millwall!$AD153:$AQ153,0)","v":{"$error":"#N/A"}},{"$f":"MATCH(AC$4,Millwall!$AD153:$AQ153,0)","v":{"$error":"#N/A"}},{"$f":"MATCH(AD$4,Millwall!$AD153:$AQ153,0)","v":{"$error":"#N/A"}},{"$f":"MATCH(AE$4,Millwall!$AD153:$AQ153,0)","v":{"$error":"#N/A"}},{"$f":"MATCH(AF$4,Millwall!$AD153:$AQ153,0)","v":{"$error":"#N/A"}},{"$f":"MATCH(AG$4,Millwall!$AD153:$AQ153,0)","v":{"$error":"#N/A"}},{"$f":"MATCH(AH$4,Millwall!$AD153:$AQ153,0)","v":{"$error":"#N/A"}},{"$f":"MATCH(AI$4,Millwall!$AD153:$AQ153,0)","v":{"$error":"#N/A"}},{"$f":"MATCH(AJ$4,Millwall!$AD153:$AQ153,0)","v":{"$error":"#N/A"}},{"$f":"MATCH(AK$4,Millwall!$AD153:$AQ153,0)","v":{"$error":"#N/A"}},{"$f":"MATCH(AL$4,Millwall!$AD153:$AQ153,0)","v":{"$error":"#N/A"}},{"$f":"MATCH(AM$4,Millwall!$AD153:$AQ153,0)","v":{"$error":"#N/A"}},{"$f":"MATCH(AN$4,Millwall!$AD153:$AQ153,0)","v":{"$error":"#N/A"}},{"$f":"MATCH(AO$4,Millwall!$AD153:$AQ153,0)","v":{"$error":"#N/A"}},{"$f":"MATCH(AP$4,Millwall!$AD153:$AQ153,0)","v":{"$error":"#N/A"}},{"$f":"MATCH(AQ$4,Millwall!$AD153:$AQ153,0)","v":{"$error":"#N/A"}},{"$f":"MATCH(AR$4,Millwall!$AD153:$AQ153,0)","v":{"$error":"#N/A"}},null,null,null,null,null,{"$f":"MATCH(AX$3,Millwall!$AD153:$AO153,0)","v":{"$error":"#N/A"}},{"$f":"MATCH(AY$3,Millwall!$AD153:$AO153,0)","v":{"$error":"#N/A"}},{"$f":"MATCH(AZ$3,Millwall!$AD153:$AO153,0)","v":{"$error":"#N/A"}},{"$f":"MATCH(BA$3,Millwall!$AD153:$AO153,0)","v":{"$error":"#N/A"}},{"$f":"MATCH(BB$3,Millwall!$AD153:$AO153,0)","v":{"$error":"#N/A"}},{"$f":"MATCH(BC$3,Millwall!$AD153:$AO153,0)","v":{"$error":"#N/A"}},{"$f":"MATCH(BD$3,Millwall!$AD153:$AO153,0)","v":{"$error":"#N/A"}},{"$f":"MATCH(BE$3,Millwall!$AD153:$AO153,0)","v":{"$error":"#N/A"}},{"$f":"MATCH(BF$3,Millwall!$AD153:$AO153,0)","v":{"$error":"#N/A"}},{"$f":"MATCH(BG$3,Millwall!$AD153:$AO153,0)","v":{"$error":"#N/A"}},{"$f":"MATCH(BH$3,Millwall!$AD153:$AO153,0)","v":{"$error":"#N/A"}},{"$f":"MATCH(BI$3,Millwall!$AD153:$AO153,0)","v":{"$error":"#N/A"}},{"$f":"MATCH(BJ$3,Millwall!$AD153:$AO153,0)","v":{"$error":"#N/A"}},{"$f":"MATCH(BK$3,Millwall!$AD153:$AO153,0)","v":{"$error":"#N/A"}},{"$f":"MATCH(BL$3,Millwall!$AD153:$AO153,0)","v":{"$error":"#N/A"}},{"$f":"MATCH(BM$3,Millwall!$AD153:$AO153,0)","v":{"$error":"#N/A"}},{"$f":"MATCH(BN$3,Millwall!$AD153:$AO153,0)","v":{"$error":"#N/A"}},{"$f":"MATCH(BO$3,Millwall!$AD153:$AO153,0)","v":{"$error":"#N/A"}},{"$f":"MATCH(BP$3,Millwall!$AD153:$AO153,0)","v":{"$error":"#N/A"}},{"$f":"MATCH(BQ$3,Millwall!$AD153:$AO153,0)","v":{"$error":"#N/A"}},{"$f":"MATCH(BR$3,Millwall!$AD153:$AO153,0)","v":{"$error":"#N/A"}},{"$f":"MATCH(BS$3,Millwall!$AD153:$AO153,0)","v":{"$error":"#N/A"}},{"$f":"MATCH(BT$3,Millwall!$AD153:$AO153,0)","v":{"$error":"#N/A"}},{"$f":"MATCH(BU$3,Millwall!$AD153:$AO153,0)","v":{"$error":"#N/A"}},{"$f":"MATCH(BV$3,Millwall!$AD153:$AO153,0)","v":{"$error":"#N/A"}},{"$f":"MATCH(BW$3,Millwall!$AD153:$AO153,0)","v":{"$error":"#N/A"}},{"$f":"MATCH(BX$3,Millwall!$AD153:$AO153,0)","v":{"$error":"#N/A"}},{"$f":"MATCH(BY$3,Millwall!$AD153:$AO153,0)","v":{"$error":"#N/A"}},{"$f":"MATCH(BZ$3,Millwall!$AD153:$AO153,0)","v":{"$error":"#N/A"}},{"$f":"MATCH(CA$3,Millwall!$AD153:$AO153,0)","v":{"$error":"#N/A"}},{"$f":"MATCH(CB$3,Millwall!$AD153:$AO153,0)","v":{"$error":"#N/A"}},{"$f":"MATCH(CC$3,Millwall!$AD153:$AO153,0)","v":{"$error":"#N/A"}},{"$f":"MATCH(CD$3,Millwall!$AD153:$AO153,0)","v":{"$error":"#N/A"}},{"$f":"MATCH(CE$3,Millwall!$AD153:$AO153,0)","v":{"$error":"#N/A"}},null,null,{"$f":"MATCH(CH$3,Millwall!$AD153:AN153,0)","v":{"$error":"#N/A"}},{"$f":"MATCH(CI$3,Millwall!$AD153:AN153,0)","v":{"$error":"#N/A"}},{"$f":"MATCH(CJ$3,Millwall!$AD153:AN153,0)","v":{"$error":"#N/A"}},{"$f":"MATCH(CK$3,Millwall!$AD153:AN153,0)","v":{"$error":"#N/A"}},{"$f":"MATCH(CL$3,Millwall!$AD153:AN153,0)","v":{"$error":"#N/A"}},{"$f":"MATCH(CM$3,Millwall!$AD153:AN153,0)","v":{"$error":"#N/A"}},{"$f":"MATCH(CN$3,Millwall!$AD153:AN153,0)","v":{"$error":"#N/A"}},{"$f":"MATCH(CO$3,Millwall!$AD153:AN153,0)","v":{"$error":"#N/A"}},{"$f":"MATCH(CP$3,Millwall!$AD153:AN153,0)","v":{"$error":"#N/A"}},{"$f":"MATCH(CQ$3,Millwall!$AD153:AN153,0)","v":{"$error":"#N/A"}},{"$f":"MATCH(CR$3,Millwall!$AD153:AN153,0)","v":{"$error":"#N/A"}},{"$f":"MATCH(CS$3,Millwall!$AD153:AN153,0)","v":{"$error":"#N/A"}},{"$f":"MATCH(CT$3,Millwall!$AD153:AN153,0)","v":{"$error":"#N/A"}},{"$f":"MATCH(CU$3,Millwall!$AD153:AN153,0)","v":{"$error":"#N/A"}},{"$f":"MATCH(CV$3,Millwall!$AD153:AN153,0)","v":{"$error":"#N/A"}},{"$f":"MATCH(CW$3,Millwall!$AD153:AN153,0)","v":{"$error":"#N/A"}},{"$f":"MATCH(CX$3,Millwall!$AD153:AN153,0)","v":{"$error":"#N/A"}},{"$f":"MATCH(CY$3,Millwall!$AD153:AN153,0)","v":{"$error":"#N/A"}},{"$f":"MATCH(CZ$3,Millwall!$AD153:AN153,0)","v":{"$error":"#N/A"}},{"$f":"MATCH(DA$3,Millwall!$AD153:AN153,0)","v":{"$error":"#N/A"}},{"$f":"MATCH(DB$3,Millwall!$AD153:AN153,0)","v":{"$error":"#N/A"}},{"$f":"MATCH(DC$3,Millwall!$AD153:AN153,0)","v":{"$error":"#N/A"}},{"$f":"MATCH(DD$3,Millwall!$AD153:AN153,0)","v":{"$error":"#N/A"}},{"$f":"MATCH(DE$3,Millwall!$AD153:AN153,0)","v":{"$error":"#N/A"}},{"$f":"MATCH(DF$3,Millwall!$AD153:AN153,0)","v":{"$error":"#N/A"}},{"$f":"MATCH(DG$3,Millwall!$AD153:AN153,0)","v":{"$error":"#N/A"}},{"$f":"MATCH(DH$3,Millwall!$AD153:AN153,0)","v":{"$error":"#N/A"}},{"$f":"MATCH(DI$3,Millwall!$AD153:AN153,0)","v":{"$error":"#N/A"}},{"$f":"MATCH(DJ$3,Millwall!$AD153:AN153,0)","v":{"$error":"#N/A"}},{"$f":"MATCH(DK$3,Millwall!$AD153:AN153,0)","v":{"$error":"#N/A"}},{"$f":"MATCH(DL$3,Millwall!$AD153:AN153,0)","v":{"$error":"#N/A"}},{"$f":"MATCH(DM$3,Millwall!$AD153:AN153,0)","v":{"$error":"#N/A"}},{"$f":"MATCH(DN$3,Millwall!$AD153:AN153,0)","v":{"$error":"#N/A"}},{"$f":"MATCH(DO$3,Millwall!$AD153:AN153,0)","v":{"$error":"#N/A"}}]
[null,null,1,1,null,{"$f":"Millwall!X154","v":"00:00:00"},null,{"$f":"Millwall!Y154","v":"00:00:00"},{"$f":"Millwall!Z154","v":"00:00:00"},{"$f":"Millwall!AA154","v":0},{"$f":"MATCH(K$4,Millwall!$AD154:$AQ154,0)","v":{"$error":"#N/A"}},{"$f":"MATCH(L$4,Millwall!$AD154:$AQ154,0)","v":{"$error":"#N/A"}},{"$f":"MATCH(M$4,Millwall!$AD154:$AQ154,0)","v":{"$error":"#N/A"}},{"$f":"MATCH(N$4,Millwall!$AD154:$AQ154,0)","v":{"$error":"#N/A"}},{"$f":"MATCH(O$4,Millwall!$AD154:$AQ154,0)","v":{"$error":"#N/A"}},{"$f":"MATCH(P$4,Millwall!$AD154:$AQ154,0)","v":{"$error":"#N/A"}},{"$f":"MATCH(Q$4,Millwall!$AD154:$AQ154,0)","v":{"$error":"#N/A"}},{"$f":"MATCH(R$4,Millwall!$AD154:$AQ154,0)","v":{"$error":"#N/A"}},{"$f":"MATCH(S$4,Millwall!$AD154:$AQ154,0)","v":{"$error":"#N/A"}},{"$f":"MATCH(T$4,Millwall!$AD154:$AQ154,0)","v":{"$error":"#N/A"}},{"$f":"MATCH(U$4,Millwall!$AD154:$AQ154,0)","v":{"$error":"#N/A"}},{"$f":"MATCH(V$4,Millwall!$AD154:$AQ154,0)","v":{"$error":"#N/A"}},{"$f":"MATCH(W$4,Millwall!$AD154:$AQ154,0)","v":{"$error":"#N/A"}},{"$f":"MATCH(X$4,Millwall!$AD154:$AQ154,0)","v":{"$error":"#N/A"}},{"$f":"MATCH(Y$4,Millwall!$AD154:$AQ154,0)","v":{"$error":"#N/A"}},{"$f":"MATCH(Z$4,Millwall!$AD154:$AQ154,0)","v":{"$error":"#N/A"}},{"$f":"MATCH(AA$4,Millwall!$AD154:$AQ154,0)","v":{"$error":"#N/A"}},{"$f":"MATCH(AB$4,Millwall!$AD154:$AQ154,0)","v":{"$error":"#N/A"}},{"$f":"MATCH(AC$4,Millwall!$AD154:$AQ154,0)","v":{"$error":"#N/A"}},{"$f":"MATCH(AD$4,Millwall!$AD154:$AQ154,0)","v":{"$error":"#N/A"}},{"$f":"MATCH(AE$4,Millwall!$AD154:$AQ154,0)","v":{"$error":"#N/A"}},{"$f":"MATCH(AF$4,Millwall!$AD154:$AQ154,0)","v":{"$error":"#N/A"}},{"$f":"MATCH(AG$4,Millwall!$AD154:$AQ154,0)","v":{"$error":"#N/A"}},{"$f":"MATCH(AH$4,Millwall!$AD154:$AQ154,0)","v":{"$error":"#N/A"}},{"$f":"MATCH(AI$4,Millwall!$AD154:$AQ154,0)","v":{"$error":"#N/A"}},{"$f":"MATCH(AJ$4,Millwall!$AD154:$AQ154,0)","v":{"$error":"#N/A"}},{"$f":"MATCH(AK$4,Millwall!$AD154:$AQ154,0)","v":{"$error":"#N/A"}},{"$f":"MATCH(AL$4,Millwall!$AD154:$AQ154,0)","v":{"$error":"#N/A"}},{"$f":"MATCH(AM$4,Millwall!$AD154:$AQ154,0)","v":{"$error":"#N/A"}},{"$f":"MATCH(AN$4,Millwall!$AD154:$AQ154,0)","v":{"$error":"#N/A"}},{"$f":"MATCH(AO$4,Millwall!$AD154:$AQ154,0)","v":{"$error":"#N/A"}},{"$f":"MATCH(AP$4,Millwall!$AD154:$AQ154,0)","v":{"$error":"#N/A"}},{"$f":"MATCH(AQ$4,Millwall!$AD154:$AQ154,0)","v":{"$error":"#N/A"}},{"$f":"MATCH(AR$4,Millwall!$AD154:$AQ154,0)","v":{"$error":"#N/A"}},null,null,null,null,null,{"$f":"MATCH(AX$3,Millwall!$AD154:$AO154,0)","v":{"$error":"#N/A"}},{"$f":"MATCH(AY$3,Millwall!$AD154:$AO154,0)","v":{"$error":"#N/A"}},{"$f":"MATCH(AZ$3,Millwall!$AD154:$AO154,0)","v":{"$error":"#N/A"}},{"$f":"MATCH(BA$3,Millwall!$AD154:$AO154,0)","v":{"$error":"#N/A"}},{"$f":"MATCH(BB$3,Millwall!$AD154:$AO154,0)","v":{"$error":"#N/A"}},{"$f":"MATCH(BC$3,Millwall!$AD154:$AO154,0)","v":{"$error":"#N/A"}},{"$f":"MATCH(BD$3,Millwall!$AD154:$AO154,0)","v":{"$error":"#N/A"}},{"$f":"MATCH(BE$3,Millwall!$AD154:$AO154,0)","v":{"$error":"#N/A"}},{"$f":"MATCH(BF$3,Millwall!$AD154:$AO154,0)","v":{"$error":"#N/A"}},{"$f":"MATCH(BG$3,Millwall!$AD154:$AO154,0)","v":{"$error":"#N/A"}},{"$f":"MATCH(BH$3,Millwall!$AD154:$AO154,0)","v":{"$error":"#N/A"}},{"$f":"MATCH(BI$3,Millwall!$AD154:$AO154,0)","v":{"$error":"#N/A"}},{"$f":"MATCH(BJ$3,Millwall!$AD154:$AO154,0)","v":{"$error":"#N/A"}},{"$f":"MATCH(BK$3,Millwall!$AD154:$AO154,0)","v":{"$error":"#N/A"}},{"$f":"MATCH(BL$3,Millwall!$AD154:$AO154,0)","v":{"$error":"#N/A"}},{"$f":"MATCH(BM$3,Millwall!$AD154:$AO154,0)","v":{"$error":"#N/A"}},{"$f":"MATCH(BN$3,Millwall!$AD154:$AO154,0)","v":{"$error":"#N/A"}},{"$f":"MATCH(BO$3,Millwall!$AD154:$AO154,0)","v":{"$error":"#N/A"}},{"$f":"MATCH(BP$3,Millwall!$AD154:$AO154,0)","v":{"$error":"#N/A"}},{"$f":"MATCH(BQ$3,Millwall!$AD154:$AO154,0)","v":{"$error":"#N/A"}},{"$f":"MATCH(BR$3,Millwall!$AD154:$AO154,0)","v":{"$error":"#N/A"}},{"$f":"MATCH(BS$3,Millwall!$AD154:$AO154,0)","v":{"$error":"#N/A"}},{"$f":"MATCH(BT$3,Millwall!$AD154:$AO154,0)","v":{"$error":"#N/A"}},{"$f":"MATCH(BU$3,Millwall!$AD154:$AO154,0)","v":{"$error":"#N/A"}},{"$f":"MATCH(BV$3,Millwall!$AD154:$AO154,0)","v":{"$error":"#N/A"}},{"$f":"MATCH(BW$3,Millwall!$AD154:$AO154,0)","v":{"$error":"#N/A"}},{"$f":"MATCH(BX$3,Millwall!$AD154:$AO154,0)","v":{"$error":"#N/A"}},{"$f":"MATCH(BY$3,Millwall!$AD154:$AO154,0)","v":{"$error":"#N/A"}},{"$f":"MATCH(BZ$3,Millwall!$AD154:$AO154,0)","v":{"$error":"#N/A"}},{"$f":"MATCH(CA$3,Millwall!$AD154:$AO154,0)","v":{"$error":"#N/A"}},{"$f":"MATCH(CB$3,Millwall!$AD154:$AO154,0)","v":{"$error":"#N/A"}},{"$f":"MATCH(CC$3,Millwall!$AD154:$AO154,0)","v":{"$error":"#N/A"}},{"$f":"MATCH(CD$3,Millwall!$AD154:$AO154,0)","v":{"$error":"#N/A"}},{"$f":"MATCH(CE$3,Millwall!$AD154:$AO154,0)","v":{"$error":"#N/A"}},null,null,{"$f":"MATCH(CH$3,Millwall!$AD154:AN154,0)","v":{"$error":"#N/A"}},{"$f":"MATCH(CI$3,Millwall!$AD154:AN154,0)","v":{"$error":"#N/A"}},{"$f":"MATCH(CJ$3,Millwall!$AD154:AN154,0)","v":{"$error":"#N/A"}},{"$f":"MATCH(CK$3,Millwall!$AD154:AN154,0)","v":{"$error":"#N/A"}},{"$f":"MATCH(CL$3,Millwall!$AD154:AN154,0)","v":{"$error":"#N/A"}},{"$f":"MATCH(CM$3,Millwall!$AD154:AN154,0)","v":{"$error":"#N/A"}},{"$f":"MATCH(CN$3,Millwall!$AD154:AN154,0)","v":{"$error":"#N/A"}},{"$f":"MATCH(CO$3,Millwall!$AD154:AN154,0)","v":{"$error":"#N/A"}},{"$f":"MATCH(CP$3,Millwall!$AD154:AN154,0)","v":{"$error":"#N/A"}},{"$f":"MATCH(CQ$3,Millwall!$AD154:AN154,0)","v":{"$error":"#N/A"}},{"$f":"MATCH(CR$3,Millwall!$AD154:AN154,0)","v":{"$error":"#N/A"}},{"$f":"MATCH(CS$3,Millwall!$AD154:AN154,0)","v":{"$error":"#N/A"}},{"$f":"MATCH(CT$3,Millwall!$AD154:AN154,0)","v":{"$error":"#N/A"}},{"$f":"MATCH(CU$3,Millwall!$AD154:AN154,0)","v":{"$error":"#N/A"}},{"$f":"MATCH(CV$3,Millwall!$AD154:AN154,0)","v":{"$error":"#N/A"}},{"$f":"MATCH(CW$3,Millwall!$AD154:AN154,0)","v":{"$error":"#N/A"}},{"$f":"MATCH(CX$3,Millwall!$AD154:AN154,0)","v":{"$error":"#N/A"}},{"$f":"MATCH(CY$3,Millwall!$AD154:AN154,0)","v":{"$error":"#N/A"}},{"$f":"MATCH(CZ$3,Millwall!$AD154:AN154,0)","v":{"$error":"#N/A"}},{"$f":"MATCH(DA$3,Millwall!$AD154:AN154,0)","v":{"$error":"#N/A"}},{"$f":"MATCH(DB$3,Millwall!$AD154:AN154,0)","v":{"$error":"#N/A"}},{"$f":"MATCH(DC$3,Millwall!$AD154:AN154,0)","v":{"$error":"#N/A"}},{"$f":"MATCH(DD$3,Millwall!$AD154:AN154,0)","v":{"$error":"#N/A"}},{"$f":"MATCH(DE$3,Millwall!$AD154:AN154,0)","v":{"$error":"#N/A"}},{"$f":"MATCH(DF$3,Millwall!$AD154:AN154,0)","v":{"$error":"#N/A"}},{"$f":"MATCH(DG$3,Millwall!$AD154:AN154,0)","v":{"$error":"#N/A"}},{"$f":"MATCH(DH$3,Millwall!$AD154:AN154,0)","v":{"$error":"#N/A"}},{"$f":"MATCH(DI$3,Millwall!$AD154:AN154,0)","v":{"$error":"#N/A"}},{"$f":"MATCH(DJ$3,Millwall!$AD154:AN154,0)","v":{"$error":"#N/A"}},{"$f":"MATCH(DK$3,Millwall!$AD154:AN154,0)","v":{"$error":"#N/A"}},{"$f":"MATCH(DL$3,Millwall!$AD154:AN154,0)","v":{"$error":"#N/A"}},{"$f":"MATCH(DM$3,Millwall!$AD154:AN154,0)","v":{"$error":"#N/A"}},{"$f":"MATCH(DN$3,Millwall!$AD154:AN154,0)","v":{"$error":"#N/A"}},{"$f":"MATCH(DO$3,Millwall!$AD154:AN154,0)","v":{"$error":"#N/A"}}]
[]
[null,null,null,null,null,null,null,null,null,"Total Associate Members Cup Apperances",{"$f":"COUNT(K88:K96)-K99-K100","v":3},{"$f":"COUNT(L88:L96)-L99-L100","v":0},2,1,1,4,5,0,4,0,5,4,2,3,3,3,5,1,0,5,2,0,2,0,0,0,0,0,0,0,0,0,0,0]
[null,null,null,null,null,null,null,null,null,"Total Associate Members Cup Sub Appearences ",{"$f":"$AX$99+$CH$99","v":0},{"$f":"$AY$99+$CI$99","v":0},{"$f":"$AZ$99+$CJ$99","v":0},{"$f":"$BA$99+$CK$99","v":0},{"$f":"$BB$99+$CL$99","v":0},{"$f":"$BC$99+$CM$99","v":0},{"$f":"$BD$99+$CN$99","v":0},{"$f":"$BE$99+$CO$99","v":0},{"$f":"$BF$99+$CP$99","v":0},{"$f":"$BG$99+$CQ$99","v":0},{"$f":"$BH$99+$CR$99","v":0},{"$f":"$BI$99+$CS$99","v":0},{"$f":"$BJ$99+$CT$99","v":0},{"$f":"$BK$99+$CU$99","v":0},{"$f":"$BL$99+$CV$99","v":0},{"$f":"$BM$99+$CW$99","v":1},{"$f":"$BN$99+$CX$99","v":0},{"$f":"$BO$99+$CY$99","v":1},{"$f":"$BP$99+$CZ$99","v":0},{"$f":"$BQ$99+$DA$99","v":0},{"$f":"$BR$99+$DB$99","v":0},{"$f":"$BS$99+$DC$99","v":0},{"$f":"$BT$99+$DD$99","v":1},{"$f":"$BU$99+$DE$99","v":0},{"$f":"$BV$99+$DF$99","v":0},{"$f":"$BW$99+$DG$99","v":0},{"$f":"$BX$99+$DH$99","v":0},{"$f":"$BY$99+$DI$99","v":0},{"$f":"$BZ$99+$DJ$99","v":0},{"$f":"$CA$99+$DK$99","v":0},{"$f":"$CB$99+$DL$99","v":0},{"$f":"$CC$99+$DM$99","v":0},{"$f":"$CD$99+$DN$99","v":0},{"$f":"CE99+DO99","v":0},null,null,null,null,null,{"$f":"COUNTIF(AX88:AX96,12)","v":0},{"$f":"COUNTIF(AY88:AY96,12)","v":0},0,0,0,0,0,0,0,0,0,0,0,0,0,1,0,1,0,0,0,0,1,0,0,0,0,0,0,0,0,0,0,0,null,null,{"$f":"COUNTIF(CH88:CH96,13)","v":0},{"$f":"COUNTIF(CI88:CI96,13)","v":0},0,0,0,0,0,0,0,0,0,0,0,0,0,0,0,0,0,0,0,0,0,0,0,0,0,0,0,0,0,0,0,0]
[null,null,null,null,null,null,null,null,null,"Non Playing Substitute",{"$f":"COUNTIF(K88:K96,\">=12\")-K99","v":1},{"$f":"COUNTIF(L88:L96,\">=12\")-L99","v":0},0,0,0,0,0,0,0,0,0,0,0,0,0,1,0,1,0,0,0,0,0,0,0,0,0,0,0,0,0,0,0,0]
[null,null,null,null,null,null,null,null,null,"Goals",{"$f":"Millwall!$CN$7","v":3},{"$f":"Millwall!$CN$8","v":0},{"$f":"Millwall!$CN$9","v":2},{"$f":"Millwall!$CN$10","v":1},{"$f":"Millwall!$CN$11","v":1},{"$f":"Millwall!$CN$12","v":4},{"$f":"Millwall!$CN$13","v":5},{"$f":"Millwall!$CN$14","v":0},{"$f":"Millwall!$CN$15","v":4},{"$f":"Millwall!$CN$16","v":0},{"$f":"Millwall!$CN$17","v":5},{"$f":"Millwall!$CN$18","v":4},{"$f":"Millwall!$CN$19","v":2},{"$f":"Millwall!$CN$20","v":3},{"$f":"Millwall!$CN$21","v":3},{"$f":"Millwall!$CN$22","v":3},{"$f":"Millwall!$CN$23","v":5},{"$f":"Millwall!$CN$24","v":1},{"$f":"Millwall!$CN$25","v":0},{"$f":"Millwall!$CN$26","v":5},{"$f":"Millwall!$CN$27","v":2},{"$f":"Millwall!$CN$28","v":0},{"$f":"Millwall!$CN$29","v":2},{"$f":"Millwall!$CN$30","v":0},{"$f":"Millwall!$CN$31","v":"-"},{"$f":"Millwall!$CN$32","v":0},{"$f":"Millwall!$CN$33","v":0},{"$f":"Millwall!$CN$34","v":0},{"$f":"Millwall!$CN$35","v":0},{"$f":"Millwall!$CN$36","v":0},{"$f":"Millwall!$CN$37","v":55},{"$f":"Millwall!$CN$38","v":0},{"$f":"Millwall!$CN$39","v":5},{"$f":"Millwall!$CN$40","v":0}]
[null,null,1]
[null,null,1]
[null,null,1]
[]
[]
[null,null,null,null,null,null,null,"Checks",null,null,null,null,null,null,null,null,null,null,1]
[]
["Manual Input",null,null,null,null,null,null,"Opponents","Venue/Result",null,{"$f":"K3","v":"Bremner"},"Burke","Chatterton","Coleman","Cowley","Cusack","Lovell","Lowndes","Martin","Massey","McLeary","D Neal","J Neal","Nutton","Otulakowski","Robinson","Sansome","Sheringham","Sparrow","Stevens","Stride","Wells","White",0,0,0,0,0,0,0,0,0,0,0]
[null,null,{"$f":"IF(J110=0,1,0)","v":0},1,null,{"$f":"F5","v":"1983-08-27"},null,{"$f":"H5","v":"Brentford"},"(A)","D 2-2",7,null,11,null,null,6,2,8,9,12,null,null,null,5,10,4,1,null,null,null,3]
[null,null,0,2,null,"1983-09-03",null,"Plymouth","(H)","W 1-0",7,null,11,null,null,6,2,8,9,null,null,12,null,5,10,4,1,null,null,null,3]
[null,null,0,3,null,"1983-09-06",null,"Port Vale","(H)","W 3-2",7,null,11,null,null,6,2,8,12,null,null,9,null,5,10,4,1,null,null,null,3]
[null,null,0,4,null,"1983-09-10",null,"Hull City","(A)","L 0-5",7,null,11,null,null,6,2,8,12,null,null,9,null,5,10,4,null,null,null,null,3,1]
[null,null,0,5,null,"1983-09-17",null,"Bournemouth","(H)","W 3-1",7,null,11,null,null,6,2,8,12,null,null,9,null,5,10,null,1,null,null,null,3,null,4]
[null,null,0,6,null,"1983-09-19",null,"Southend","(A)","L 2-3",7,null,11,null,null,6,2,8,12,null,null,9,null,5,10,null,1,null,null,null,3,null,4]
[null,null,0,7,null,"1983-09-24",null,"Oxford","(A)","L 2-4",7,null,11,null,null,6,2,8,null,null,null,9,null,5,10,12,1,null,null,null,3,null,4]
[null,null,0,8,null,"1983-10-01",null,"Sheff Utd","(H)","L 1-2",12,null,11,null,null,6,2,7,9,null,null,8,null,5,10,3,null,null,null,null,null,1,4]
[null,null,0,9,null,"1983-10-09",null,"Burnley","(H)","W 2-0",9,null,11,null,null,6,2,7,5,null,12,8,null,null,null,10,null,null,null,null,3,1,4]
[null,null,0,10,null,"1983-10-15",null,"Lincoln","(A)","D 2-2",9,null,11,null,null,6,2,7,5,null,12,8,null,null,null,10,null,null,null,null,3,1,4]
[null,null,0,11,null,"1983-10-18",null,"Rotherham","(A)","L 0-1",9,null,11,null,null,6,2,7,5,null,12,8,null,null,null,10,null,null,null,null,3,1,4]
[null,null,0,12,null,"1983-10-21",null,"Preston","(H)","W 1-0",9,10,11,null,null,6,2,7,12,null,null,8,null,5,null,null,null,null,null,null,3,1,4]
[null,null,0,13,null,"1983-10-29",null,"Gillingham","(A)","D 3-3",9,10,11,null,null,6,2,7,8,null,12,null,null,5,null,3,null,null,null,null,null,1,4]
[null,null,0,14,null,"1983-11-01",null,"Newport C","(H)","D 1-1",9,10,11,null,null,6,2,7,8,null,12,null,null,5,null,3,null,null,null,null,null,1,4]
[null,null,0,15,null,"1983-11-05",null,"Wigan","(H)","W 2-0",9,10,11,null,null,6,2,7,8,null,12,null,null,5,null,null,null,null,null,null,3,1,4]
[null,null,0,16,null,"1983-11-12",null,"Bradford","(A)","D 3-3",9,10,11,null,null,6,2,7,8,12,null,null,null,5,null,null,null,null,null,null,3,1,4]
[null,null,0,17,null,"1983-11-26",null,{"$f":"H21","v":"Scunthorpe"},"(H)","W 2-1",9,7,11,null,null,6,2,null,8,12,4,10,null,5,null,3,null,null,null,null,null,1]
[null,null,0,18,null,"1983-12-03",null,"Walsall","(A)","D 1-1",9,7,11,null,null,6,2,null,8,10,4,12,null,5,null,3,null,null,null,null,null,1]
[null,null,0,19,null,"1983-12-17",null,"Exeter","(A)","L 2-3",9,null,11,null,null,6,2,7,12,null,null,8,null,5,null,4,null,null,3,null,null,1,10]
[null,null,0,20,null,"1983-12-26",null,"Leton Orient","(H)","W 4-3",9,null,null,null,null,6,2,7,4,null,12,8,null,5,10,null,null,null,3,null,null,1,11]
[null,null,0,21,null,"1983-12-27",null,"Wimbledon","(A)","L 3-4",9,null,7,null,null,6,2,null,8,12,4,null,null,5,10,null,null,null,3,null,null,1,11]
[null,null,0,22,null,"1983-12-30",null,"Bristol R","(H)","W 1-0",9,null,12,null,null,6,2,7,8,null,4,null,null,5,10,null,1,null,3,null,null,null,11]
[null,null,0,23,null,"1984-01-02",null,"Bolton","(A)","L 0-2",9,null,11,null,12,null,2,7,4,8,6,null,null,5,10,3,1]
[null,null,0,24,null,"1984-01-15",null,"Brentford","(H)","L 1-2",9,null,11,null,null,null,2,null,null,12,6,null,null,5,10,4,1,8,3,7]
[null,null,0,25,null,"1984-01-21",null,"Bournemouth","(A)","D 1-1",9,null,null,null,null,6,2,null,null,7,4,null,null,5,10,11,1,8,null,12,3]
[null,null,0,26,null,"1984-01-28",null,"Hull City","(H)","W 1-0",9,null,null,null,null,6,2,null,12,7,4,null,null,5,10,11,1,8,null,null,3]
[null,null,0,27,null,"1984-02-04",null,"Sheff Utd","(A)","L 0-2",9,null,null,null,null,6,2,null,8,7,4,12,null,5,10,11,1,null,null,null,3]
[null,null,0,28,null,"1984-02-11",null,"Oxford","(H)","W 2-1",9,null,null,null,null,6,2,null,8,7,4,12,null,5,10,11,1,null,null,null,3]
[null,null,0,29,null,"1984-02-14",null,"Newport C","(A)","D 1-1",9,null,null,null,null,6,2,null,8,7,4,12,null,5,10,11,1,null,null,null,3]
[null,null,0,30,null,"1984-02-19",null,"Gillingham","(H)","D 2-2",9,null,null,null,null,6,2,null,8,7,4,12,null,5,10,11,1,null,null,null,3]
[null,null,0,31,null,"1984-02-25",null,"Preston","(A)","D 0-0",null,null,null,null,null,6,7,null,8,null,12,9,null,5,10,11,1,4,null,2,3]
[null,null,0,32,null,"1984-03-03",null,"Rotherham","(H)","W 2-0",null,null,null,null,null,6,4,null,8,null,11,9,7,5,10,12,1,null,null,2,3]
[null,null,0,33,null,"1984-03-06",null,{"$f":"H37","v":"Wigan"},"(A)","D 0-0",null,null,null,null,null,6,4,null,8,null,7,9,12,5,10,11,1,null,null,2,3]
[null,null,0,34,null,"1984-03-10",null,"Bradford","(H)","D 0-0",null,null,null,null,null,6,4,null,8,null,7,9,11,5,null,12,1,null,null,2,3,null,10]
[null,null,0,35,null,"1984-03-17",null,"Burnley","(A)","L 0-1",11,null,null,null,null,6,4,null,8,null,7,9,null,5,null,null,1,12,null,2,3,null,10]
[null,null,0,36,null,"1984-03-20",null,"Plymouth","(A)","W 1-0",11,null,null,null,12,6,4,null,null,null,7,9,null,5,10,null,1,null,null,2,3,null,8]
[null,null,0,37,null,"1984-04-14",null,"Walsall","(H)","W 2-0",8,null,null,null,null,6,4,null,null,null,7,9,11,5,10,null,1,12,null,2,3]
[null,null,0,38,null,"1984-04-18",null,"Southend","(H)","W 4-0",8,null,null,null,null,6,4,null,null,null,7,9,12,5,10,11,1,null,null,2,3]
[null,null,0,39,null,"1984-04-21",null,"Leton Orient","(A)","L 3-5",8,null,null,null,null,6,4,null,null,null,null,9,12,5,10,11,1,null,null,2,3,null,7]
[null,null,0,40,null,"1984-04-23",null,"Wimbledon","(H)","D 1-1",8,null,null,null,null,null,4,null,6,null,7,9,null,5,10,3,1,12,null,2,null,null,11]
[null,null,0,41,null,"1984-04-27",null,"Scunthorpe","(A)","W 1-0",8,null,2,null,null,null,4,null,null,null,7,9,null,5,10,3,1,12,null,6,null,null,11]
[null,null,0,42,null,"1984-05-01",null,"Lincoln","(H)","L 0-2",8,null,2,null,null,null,4,null,null,null,7,9,12,5,10,3,1,null,null,6,null,null,11]
[null,null,0,43,null,"1984-05-05",null,"Bolton","(H)","W 3-0",8,null,12,null,null,6,4,null,null,null,7,9,null,5,10,3,1,null,null,2,null,null,11]
[null,null,0,44,null,"1984-05-08",null,"Bristol R","(A)","L 2-3",8,null,12,null,null,6,4,null,null,null,7,9,null,5,10,3,1,null,null,2,null,null,11]
[null,null,{"$f":"IF(J154=0,1,0)","v":0},45,null,"1984-05-12",null,"Exeter","(H)","W 3-0",8,null,7,null,null,6,4,null,null,null,12,9,null,5,10,3,1,null,null,2,null,null,11]
[null,null,{"$f":"IF(J155=0,1,0)","v":0},46,null,"1984-05-14",null,"Port Vale","(A)","L 0-1",8,null,7,null,null,6,4,null,null,null,12,9,null,5,10,3,1,null,null,2,null,null,11]
[]
[null,null,null,null,null,null,null,null,null,"Total League Apperances",{"$f":"COUNT(K110:K155)-K158-K159","v":41},{"$f":"COUNT(L110:L155)-L158-L159","v":7},26,0,2,39,46,20,26,8,24,29,3,43,33,32,31,4,5,17,28,15,27,0,{"$f":"COUNT(AI110:AI155)-AI158","v":0},0,0,0,0,0,0,0,0,0]
[null,null,null,null,null,null,null,null,null,"Total League Substitute Appearences ",{"$f":"AX$53","v":1},0,1,0,1,0,0,0,5,5,6,5,3,0,0,1,0,3,0,0,0,0,0,0,{"$f":"COUNTIF(AI110:AI155,\">=12\")","v":0},0,0,0,0,0,0,0,0,0]
[null,null,null,null,null,null,null,null,null,"Non Playing Substitute",{"$f":"COUNTIF(K110:K155,12)-K158","v":0},{"$f":"COUNTIF(L110:L155,12)-L158","v":0},2,0,1,0,0,0,2,0,4,1,1,0,0,2,0,1,0,1,0,0,0,0]
[null,null,null,null,null,null,null,null,null,"Goals",15,1,6,0,0,0,7,3,3,1,0,13,1,3,7,2,0,1,2,0,2,0,0,0,4,0,71,0,0,0,0,0,0,0]
[]
[null,null,null,null,null,null,null,"FA Cup"]
[null,null,{"$f":"IF(J163=0,1,0)","v":0},{"$f":"D58","v":1},null,{"$f":"F58","v":"1983-11-19"},null,{"$f":"H58","v":"Dartford"},"(H)","W 2-1",8,null,11,null,null,6,2,null,9,7,4,10,null,5,null,3,null,12,null,null,null,1]
[null,null,0,{"$f":"D59","v":"1R"},null,"1983-11-19",null,"Swindon","(H)","L 2-3",8,null,11,null,null,6,2,7,9,10,4,12,null,5,null,3,null,null,null,null,null,1]
[null,null,1,2,null,"00:00:00",null,"00:00:00","00:00:00",0]
[null,null,1,3,null,"00:00:00",null,"00:00:00","00:00:00",0]
[null,null,1,0,null,"00:00:00",null,"00:00:00","00:00:00",0]
[null,null,1,0,null,"00:00:00",null,"00:00:00","00:00:00",0]
[null,null,1,0,null,"00:00:00",null,"00:00:00","00:00:00",0]
[]
[null,null,null,null,null,null,null,null,null,"Total FA Cup Apperances",{"$f":"COUNT(K163:K169)-K172-K173","v":2},{"$f":"COUNT(L163:L169)-L172-L173","v":0},2,0,0,2,2,1,2,2,2,1,0,2,0,2,0,0,0,0,0,2,0,0,0,0,0,0,0,0,0,0,0,0]
[null,null,null,null,null,null,null,null,null,"Total FA Cup Substitute Appearences ",{"$f":"AX$67","v":0},{"$f":"AY$67","v":0},0,0,0,0,0,0,0,0,0,1,0,0,0,0,0,0,0,0,0,0,0,0,0,0,0,0,0,0,0,0,0,0]
[null,null,null,null,null,null,null,null,null,"Non Playing Substitute",{"$f":"COUNTIF(K163:K169,12)-K172","v":0},{"$f":"COUNTIF(L163:L169,12)-L172","v":0},0,0,0,0,0,0,0,0,0,0,0,0,0,0,0,1,0,0,0,0,0,0,0,0,0,0,0,0,0,0,0,0]
[null,null,null,null,null,null,null,null,null,"Goals",0,0,0,0,0,1,1,0,1,1,0,0,0,0,0,0,0,0,0,0,0,0,0,0,0,0,4,0,0,0,0,0,0,0]
[]
[null,null,null,null,null,null,null,"League Cup"]
[null,null,{"$f":"IF(J177=0,1,0)","v":0},{"$f":"D72","v":1},null,{"$f":"F72","v":"1983-08-29"},null,{"$f":"H72","v":"Northampton"},"(H)","W 3-0",7,null,11,null,null,6,2,8,9,null,null,12,null,5,10,4,1,null,null,null,3]
[null,null,0,{"$f":"D73","v":1},null,"1983-09-14",null,"Northampton","(A)","W 2-1",7,null,11,null,null,6,2,8,null,null,null,9,null,5,10,12,null,null,null,null,3,1,4]
[null,null,0,2,null,"1983-10-04",null,"West Brom","(H)","W 3-0",7,null,11,null,null,6,2,8,12,null,null,9,null,5,10,3,null,null,null,null,null,1,4]
[null,null,0,0,null,"1983-10-25",null,"West Brom","(H)","L 1-5",7,null,11,null,null,6,2,8,12,null,null,9,null,5,null,10,null,null,null,null,3,1,4]
[null,null,1,0,null,"00:00:00",null,"00:00:00","00:00:00",0]
[null,null,1,0,null,"00:00:00",null,"00:00:00","00:00:00",0]
[null,null,1,0,null,"00:00:00",null,"00:00:00","00:00:00",0]
[null,null,1,0,null,"00:00:00",null,"00:00:00","00:00:00",0]
[null,null,1,0,null,"00:00:00",null,"00:00:00","00:00:00",0]
[]
[null,null,null,null,null,null,null,null,null,"Total League Cup Apperances",{"$f":"COUNT(K177:K185)-K189-K188","v":4},{"$f":"COUNT(L177:L185)-L189-L188","v":0},4,0,0,4,4,4,1,0,0,3,0,4,3,3,1,0,0,0,3,3,3,0,0,0,0,0,0,0,0,0,0,0]
[null,null,null,null,null,null,null,null,null,"Total League Cup Substitute Appearences ",{"$f":"AX$83","v":0},0,0,0,0,0,0,0,2,0,0,1,0,0,0,0,0,0,0,0,0,0,0,0,0,0,0,0,0,0,0,0,0,0]
[null,null,null,null,null,null,null,null,null,"Non Playing Substitute",{"$f":"COUNTIF(K177:K185,12)-K188","v":0},{"$f":"COUNTIF(L177:L185,12)-L188","v":0},0,0,0,0,0,0,0,0,0,0,0,0,0,1,0,0,0,0,0,0,0,0,0,0,0,0,0,0,0,0,0,0]
[null,null,null,null,null,null,null,null,null,"Goals",0,0,2,0,0,0,0,1,2,0,0,3,0,0,1,0,0,0,0,0,0,0,0,0,0,0,9,0,0,0,0,0,0,0]
[null,null,1]
[null,null,null,null,null,null,null,"Associate Members Cup"]
[null,null,{"$f":"IF(J193=0,1,0)","v":0},{"$f":"D88","v":1},null,{"$f":"F88","v":"1984-02-28"},null,{"$f":"H88","v":"Gillingham"},"(H)","W 4-3",null,null,null,null,null,6,4,null,9,null,10,8,7,5,null,11,1,14,null,2,3,null,12,null,null,null,null,null,null,null,null,null,null,null,null,null,null,"Errors: Sansome v Northampton (A) League"]
[null,null,{"$f":"IF(J194=0,1,0)","v":0},{"$f":"D89","v":2},null,"1984-03-13",null,"Bournemouth","(H)","D 2-2*",14,null,null,null,null,6,4,null,9,null,7,8,11,5,null,12,1,null,null,2,3,null,10,null,null,null,null,null,null,null,null,null,null,null,null,null,null,"Cup rather than Wells"]
[null,null,0,3,null,"1984-03-27",null,"Swindon","(H)","W 3-1",8,null,null,3,null,6,4,null,null,null,7,9,null,5,10,14,1,12,null,2,null,null,11]
[null,null,0,"Sth SF",null,"1984-05-17",null,"Plymouth","(H)","W 1-0",8,null,11,null,null,6,4,null,5,null,7,null,null,null,10,3,1,9,null,2,null,null,null,null,null,null,null,null,null,null,null,null,null,null,null,null,null,"Carl Cowley's League apps in Cusack's"]
[null,null,0,"Sth F",null,"1984-05-21",null,"Bournemouth","(A)","L 1-2",8,null,11,null,null,6,4,null,5,null,7,9,null,null,10,3,1,null,null,2,null,null,null,null,null,null,null,null,null,null,null,null,null,null,null,null,null," column, Totals Correct"]
[null,null,1,"F",null,"00:00:00",null,"00:00:00","00:00:00",0]
[null,null,1,1,null,"00:00:00",null,"00:00:00","00:00:00",0]
[null,null,1,1,null,"00:00:00",null,"00:00:00","00:00:00",0]
[null,null,1,1,null,"00:00:00",null,"00:00:00","00:00:00",0]
[]
[null,null,null,null,null,null,null,null,null,"Total Associate Members Cup Apperances",{"$f":"COUNT(K193:K201)-K204-K205","v":3},{"$f":"COUNT(L193:L201)-L204-L205","v":0},2,1,0,5,5,0,4,0,5,4,2,3,3,3,5,1,0,5,2,0,2,0,0,0,0,{"$f":"COUNT(AL193:AL201)-AL204-AL205","v":0},0,0,0,0,0,0,null,null,null,"Error in Apps for Carl Cowley in AM Cup, "]
[null,null,null,null,null,null,null,null,null,"Total Associate Members Cup Sub Appearences ",{"$f":"$AX$99+$CH$99","v":0},{"$f":"$AY$99+$CI$99","v":0},{"$f":"$AZ$99+$CJ$99","v":0},{"$f":"$BA$99+$CK$99","v":0},{"$f":"$BB$99+$CL$99","v":0},{"$f":"$BC$99+$CM$99","v":0},{"$f":"$BD$99+$CN$99","v":0},{"$f":"$BE$99+$CO$99","v":0},{"$f":"$BF$99+$CP$99","v":0},{"$f":"$BG$99+$CQ$99","v":0},{"$f":"$BH$99+$CR$99","v":0},{"$f":"$BI$99+$CS$99","v":0},{"$f":"$BJ$99+$CT$99","v":0},{"$f":"$BK$99+$CU$99","v":0},{"$f":"$BL$99+$CV$99","v":0},{"$f":"$BM$99+$CW$99","v":1},{"$f":"$BN$99+$CX$99","v":0},{"$f":"$BO$99+$CY$99","v":1},{"$f":"$BP$99+$CZ$99","v":0},{"$f":"$BQ$99+$DA$99","v":0},{"$f":"$BR$99+$DB$99","v":0},{"$f":"$BS$99+$DC$99","v":0},{"$f":"$BT$99+$DD$99","v":1},{"$f":"$BU$99+$DE$99","v":0},{"$f":"$BV$99+$DF$99","v":0},{"$f":"$BW$99+$DG$99","v":0},{"$f":"$BX$99+$DH$99","v":0},{"$f":"$BY$99+$DI$99","v":0},{"$f":"$BZ$99+$DJ$99","v":0},{"$f":"$CA$99+$DK$99","v":0},{"$f":"$CB$99+$DL$99","v":0},{"$f":"$CC$99+$DM$99","v":0},{"$f":"$CD$99+$DN$99","v":0},{"$f":"CE204+DO204","v":0},null,null,null,"wrongly credited to Cusack"]
[null,null,null,null,null,null,null,null,null,"Non Playing Substitute",{"$f":"COUNTIF(K193:K201,\">=12\")-K204","v":1},{"$f":"COUNTIF(L193:L201,\">=12\")-L204","v":0},0,0,0,0,0,0,0,0,0,0,0,0,0,1,0,1,0,0,0,0,0,0,0,0,0,0,0,0,0,0,0,0]
[null,null,null,null,null,null,null,null,null,"Goals",3,0,2,1,1,4,5,0,4,0,5,4,2,3,3,3,5,1,0,5,2,0,2,0,"-",0,0,0,0,0,55,0,5,0]
[null,null,1]
[null,null,1]
[]
[]
[]
[]
["Manual Input",null,null,null,null,null,null,"Opponents","Venue/Result",null,{"$f":"K3","v":"Bremner"},{"$f":"L3","v":"Burke"},{"$f":"M3","v":"Chatterton"},"Coleman","Cowley","Cusack","Lovell","Lowndes","Martin","Massey","McLeary","D Neal","J Neal","Nutton","Otulakowski","Robinson","Sansome","Sheringham","Sparrow","Stevens","Stride","Wells","White",0,0,0,0,0,0,0,0,0,0,0]
[null,null,{"$f":"IF(J214=0,1,0)","v":0},1,null,{"$f":"F5","v":"1983-08-27"},null,{"$f":"H5","v":"Brentford"},"(A)","D 2-2",7,null,11,null,null,6,2,8,9,12,null,null,null,5,10,4,1,null,null,null,3]
[null,null,0,2,null,"1983-09-03",null,"Plymouth","(H)","W 1-0",7,null,11,null,null,6,2,8,9,null,null,12,null,5,10,4,1,null,null,null,3]
[null,null,0,3,null,"1983-09-06",null,"Port Vale","(H)","W 3-2",7,null,11,null,null,6,2,8,12,null,null,9,null,5,10,4,1,null,null,null,3]
[null,null,0,4,null,"1983-09-10",null,"Hull City","(A)","L 0-5",7,null,11,null,null,6,2,8,12,null,null,9,null,5,10,4,null,null,null,null,3,1]
[null,null,0,5,null,"1983-09-17",null,"Bournemouth","(H)","W 3-1",7,null,11,null,null,6,2,8,12,null,null,9,null,5,10,null,1,null,null,null,3,null,4]
[null,null,0,6,null,"1983-09-19",null,"Southend","(A)","L 2-3",7,null,11,null,null,6,2,8,12,null,null,9,null,5,10,null,1,null,null,null,3,null,4]
[null,null,0,7,null,"1983-09-24",null,"Oxford","(A)","L 2-4",7,null,11,null,null,6,2,8,null,null,null,9,null,5,10,12,1,null,null,null,3,null,4]
[null,null,0,8,null,"1983-10-01",null,"Sheff Utd","(H)","L 1-2",12,null,11,null,null,6,2,7,9,null,null,8,null,5,10,3,null,null,null,null,null,1,4]
[null,null,0,9,null,"1983-10-09",null,"Burnley","(H)","W 2-0",9,null,11,null,null,6,2,7,5,null,12,8,null,null,null,10,null,null,null,null,3,1,4]
[null,null,0,10,null,"1983-10-15",null,"Lincoln","(A)","D 2-2",9,null,11,null,null,6,2,7,5,null,12,8,null,null,null,10,null,null,null,null,3,1,4]
[null,null,0,11,null,"1983-10-18",null,"Rotherham","(A)","L 0-1",9,null,11,null,null,6,2,7,5,null,12,8,null,null,null,10,null,null,null,null,3,1,4]
[null,null,0,12,null,"1983-10-21",null,"Preston","(H)","W 1-0",9,10,11,null,null,6,2,7,12,null,null,8,null,5,null,null,null,null,null,null,3,1,4]
[null,null,0,13,null,"1983-10-29",null,"Gillingham","(A)","D 3-3",9,10,11,null,null,6,2,7,8,null,12,null,null,5,null,3,null,null,null,null,null,1,4]
[null,null,0,14,null,"1983-11-01",null,"Newport C","(H)","D 1-1",9,10,11,null,null,6,2,7,8,null,12,null,null,5,null,3,null,null,null,null,null,1,4]
[null,null,0,15,null,"1983-11-05",null,"Wigan","(H)","W 2-0",9,10,11,null,null,6,2,7,8,null,12,null,null,5,null,null,null,null,null,null,3,1,4]
[null,null,0,16,null,"1983-11-12",null,"Bradford","(A)","D 3-3",9,10,11,null,null,6,2,7,8,12,null,null,null,5,null,null,null,null,null,null,3,1,4]
[null,null,0,17,null,"1983-11-26",null,{"$f":"H21","v":"Scunthorpe"},"(H)","W 2-1",9,7,11,null,null,6,2,null,8,12,4,10,null,5,null,3,null,null,null,null,null,1]
[null,null,0,18,null,"1983-12-03",null,"Walsall","(A)","D 1-1",9,7,11,null,null,6,2,null,8,10,4,12,null,5,null,3,null,null,null,null,null,1]
[null,null,0,19,null,"1983-12-17",null,"Exeter","(A)","L 2-3",9,null,11,null,null,6,2,7,12,null,null,8,null,5,null,4,null,null,3,null,null,1,10]
[null,null,0,20,null,"1983-12-26",null,"Leton Orient","(H)","W 4-3",9,null,null,null,null,6,2,7,4,null,12,8,null,5,10,null,null,null,3,null,null,1,11]
[null,null,0,21,null,"1983-12-27",null,"Wimbledon","(A)","L 3-4",9,null,7,null,null,6,2,null,8,12,4,null,null,5,10,null,null,null,3,null,null,1,11]
[null,null,0,22,null,"1983-12-30",null,"Bristol R","(H)","W 1-0",9,null,12,null,null,6,2,7,8,null,4,null,null,5,10,null,1,null,3,null,null,null,11]
[null,null,0,23,null,"1984-01-02",null,"Bolton","(A)","L 0-2",9,null,11,null,12,null,2,7,4,8,6,null,null,5,10,3,1]
[null,null,0,24,null,"1984-01-15",null,"Brentford","(H)","L 1-2",9,null,11,null,null,null,2,null,null,12,6,null,null,5,10,4,1,8,3,7]
[null,null,0,25,null,"1984-01-21",null,"Bournemouth","(A)","D 1-1",9,null,null,null,null,6,2,null,null,7,4,null,null,5,10,11,1,8,null,12,3]
[null,null,0,26,null,"1984-01-28",null,"Hull City","(H)","W 1-0",9,null,null,null,null,6,2,null,12,7,4,null,null,5,10,11,1,8,null,null,3]
[null,null,0,27,null,"1984-02-04",null,"Sheff Utd","(A)","L 0-2",9,null,null,null,null,6,2,null,8,7,4,12,null,5,10,11,1,null,null,null,3]
[null,null,0,28,null,"1984-02-11",null,"Oxford","(H)","W 2-1",9,null,null,null,null,6,2,null,8,7,4,12,null,5,10,11,1,null,null,null,3]
[null,null,0,29,null,"1984-02-14",null,"Newport C","(A)","D 1-1",9,null,null,null,null,6,2,null,8,7,4,12,null,5,10,11,1,null,null,null,3]
[null,null,0,30,null,"1984-02-19",null,"Gillingham","(H)","D 2-2",9,null,null,null,null,6,2,null,8,7,4,12,null,5,10,11,1,null,null,null,3]
[null,null,0,31,null,"1984-02-25",null,"Preston","(A)","D 0-0",null,null,null,null,null,6,7,null,8,null,12,9,null,5,10,11,1,4,null,2,3]
[null,null,0,32,null,"1984-03-03",null,"Rotherham","(H)","W 2-0",null,null,null,null,null,6,4,null,8,null,11,9,7,5,10,12,1,null,null,2,3]
[null,null,0,33,null,"1984-03-06",null,{"$f":"H37","v":"Wigan"},"(A)","D 0-0",null,null,null,null,null,6,4,null,8,null,7,9,12,5,10,11,1,null,null,2,3]
[null,null,0,34,null,"1984-03-10",null,"Bradford","(H)","D 0-0",null,null,null,null,6,null,4,null,8,null,7,9,11,5,null,12,1,null,null,2,3,null,10]
[null,null,0,35,null,"1984-03-17",null,"Burnley","(A)","L 0-1",11,null,null,null,6,null,4,null,8,null,7,9,null,5,null,null,1,12,null,2,3,null,10]
[null,null,0,36,null,"1984-03-20",null,"Plymouth","(A)","W 1-0",11,null,null,null,12,6,4,null,null,null,7,9,null,5,10,null,1,null,null,2,3,null,8]
[null,null,0,37,null,"1984-04-14",null,"Walsall","(H)","W 2-0",8,null,null,null,null,6,4,null,null,null,7,9,11,5,10,null,1,12,null,2,3]
[null,null,0,38,null,"1984-04-18",null,"Southend","(H)","W 4-0",8,null,null,null,null,6,4,null,null,null,7,9,12,5,10,11,1,null,null,2,3]
[null,null,0,39,null,"1984-04-21",null,"Leton Orient","(A)","L 3-5",8,null,null,null,null,6,4,null,null,null,null,9,12,5,10,11,1,null,null,2,3,null,7]
[null,null,0,40,null,"1984-04-23",null,"Wimbledon","(H)","D 1-1",8,null,null,null,null,null,4,null,6,null,7,9,null,5,10,3,1,12,null,2,null,null,11]
[null,null,0,41,null,"1984-04-27",null,"Scunthorpe","(A)","W 1-0",8,null,2,null,null,null,4,null,null,null,7,9,null,5,10,3,1,12,null,6,null,null,11]
[null,null,0,42,null,"1984-05-01",null,"Lincoln","(H)","L 0-2",8,null,2,null,null,null,4,null,null,null,7,9,12,5,10,3,1,null,null,6,null,null,11]
[null,null,0,43,null,"1984-05-05",null,"Bolton","(H)","W 3-0",8,null,12,null,null,6,4,null,null,null,7,9,null,5,10,3,1,null,null,2,null,null,11]
[null,null,0,44,null,"1984-05-08",null,"Bristol R","(A)","L 2-3",8,null,12,null,null,6,4,null,null,null,7,9,null,5,10,3,1,null,null,2,null,null,11]
[null,null,{"$f":"IF(J258=0,1,0)","v":0},45,null,"1984-05-12",null,"Exeter","(H)","W 3-0",8,null,7,null,null,6,4,null,null,null,12,9,null,5,10,3,1,null,null,2,null,null,11]
[null,null,{"$f":"IF(J259=0,1,0)","v":0},46,null,"1984-05-14",null,"Port Vale","(A)","L 0-1",8,null,7,null,null,6,4,null,null,null,12,9,null,5,10,3,1,null,null,2,null,null,11]
[]
[null,null,null,null,null,null,null,null,null,"Total League Apperances",{"$f":"COUNT(K214:K259)-K262-K263","v":41},{"$f":"COUNT(L214:L259)-L262-L263","v":7},26,0,2,39,46,20,26,8,24,29,3,43,33,32,31,4,5,17,28,15,27,0,{"$f":"COUNT(AI214:AI259)-AI262","v":0},0,0,0,0,0,0,0,0,0]
[null,null,null,null,null,null,null,null,null,"Total League Substitute Appearences ",{"$f":"AX$53","v":1},0,1,0,1,0,0,0,5,5,6,5,3,0,0,1,0,3,0,0,0,0,0,0,{"$f":"COUNTIF(AI214:AI259,\">=12\")","v":0},0,0,0,0,0,0,0,0,0]
[null,null,null,null,null,null,null,null,null,"Non Playing Substitute",{"$f":"COUNTIF(K214:K259,12)-K262","v":0},{"$f":"COUNTIF(L214:L259,12)-L262","v":0},2,0,1,0,0,0,2,0,4,1,1,0,0,2,0,1,0,1,0,0,0,0]
[null,null,null,null,null,null,null,null,null,"Goals",15,1,6,0,0,0,7,3,3,1,0,13,1,3,7,2,0,1,2,0,2,0,0,0,4,0,71,0,0,0,0,0,0,0]
[]
[null,null,null,null,null,null,null,"FA Cup"]
[null,null,{"$f":"IF(J267=0,1,0)","v":0},{"$f":"D58","v":1},null,{"$f":"F58","v":"1983-11-19"},null,{"$f":"H58","v":"Dartford"},"(H)","W 2-1",8,null,11,null,null,6,2,null,9,7,4,10,null,5,null,3,null,12,null,null,null,1]
[null,null,0,{"$f":"D59","v":"1R"},null,"1983-11-19",null,"Swindon","(H)","L 2-3",8,null,11,null,null,6,2,7,9,10,4,12,null,5,null,3,null,null,null,null,null,1]
[null,null,1,2,null,"00:00:00",null,"00:00:00","00:00:00",0]
[null,null,1,3,null,"00:00:00",null,"00:00:00","00:00:00",0]
[null,null,1,0,null,"00:00:00",null,"00:00:00","00:00:00",0]
[null,null,1,0,null,"00:00:00",null,"00:00:00","00:00:00",0]
[null,null,1,0,null,"00:00:00",null,"00:00:00","00:00:00",0]
[]
[null,null,null,null,null,null,null,null,null,"Total FA Cup Apperances",{"$f":"COUNT(K267:K273)-K276-K277","v":2},{"$f":"COUNT(L267:L273)-L276-L277","v":0},2,0,0,2,2,1,2,2,2,1,0,2,0,2,0,0,0,0,0,2,0,0,0,0,0,0,0,0,0,0,0,0]
[null,null,null,null,null,null,null,null,null,"Total FA Cup Substitute Appearences ",{"$f":"AX$67","v":0},{"$f":"AY$67","v":0},0,0,0,0,0,0,0,0,0,1,0,0,0,0,0,0,0,0,0,0,0,0,0,0,0,0,0,0,0,0,0,0]
[null,null,null,null,null,null,null,null,null,"Non Playing Substitute",{"$f":"COUNTIF(K267:K273,12)-K276","v":0},{"$f":"COUNTIF(L267:L273,12)-L276","v":0},0,0,0,0,0,0,0,0,0,0,0,0,0,0,0,1,0,0,0,0,0,0,0,0,0,0,0,0,0,0,0,0]
[null,null,null,null,null,null,null,null,null,"Goals",0,0,0,0,0,1,1,0,1,1,0,0,0,0,0,0,0,0,0,0,0,0,0,0,0,0,4,0,0,0,0,0,0,0]
[]
[null,null,null,null,null,null,null,"League Cup"]
[null,null,{"$f":"IF(J281=0,1,0)","v":0},{"$f":"D72","v":1},null,{"$f":"F72","v":"1983-08-29"},null,{"$f":"H72","v":"Northampton"},{"$f":"I72","v":"(H)"},{"$f":"J72","v":"W 3-0"},7,null,11,null,null,6,2,8,9,null,null,12,null,5,10,4,1,null,null,null,3]
[null,null,0,{"$f":"D73","v":1},null,{"$f":"F73","v":"1983-09-14"},null,{"$f":"H73","v":"Northampton"},"(A)","W 2-1",7,null,11,null,null,6,2,8,null,null,null,9,null,5,10,12,null,null,null,null,3,1,4]
[null,null,0,2,null,"1983-10-04",null,"West Brom","(H)","W 3-0",7,null,11,null,null,6,2,8,12,null,null,9,null,5,10,3,null,null,null,null,null,1,4]
[null,null,0,0,null,"1983-10-25",null,"West Brom","(H)","L 1-5",7,null,11,null,null,6,2,8,12,null,null,9,null,5,null,10,null,null,null,null,3,1,4]
[null,null,1,0,null,"00:00:00",null,"00:00:00","00:00:00",0]
[null,null,1,0,null,"00:00:00",null,"00:00:00","00:00:00",0]
[null,null,1,0,null,"00:00:00",null,"00:00:00","00:00:00",0]
[null,null,1,0,null,"00:00:00",null,"00:00:00","00:00:00",0]
[null,null,1,0,null,"00:00:00",null,"00:00:00","00:00:00",0]
[]
[null,null,null,null,null,null,null,null,null,"Total League Cup Apperances",{"$f":"COUNT(K281:K289)-K293-K292","v":4},{"$f":"COUNT(L281:L289)-L293-L292","v":0},4,0,0,4,4,4,1,0,0,3,0,4,3,3,1,0,0,0,3,3,3,0,0,0,0,0,0,0,0,0,0,0]
[null,null,null,null,null,null,null,null,null,"Total League Cup Substitute Appearences ",{"$f":"AX$83","v":0},0,0,0,0,0,0,0,2,0,0,1,0,0,0,0,0,0,0,0,0,0,0,0,0,0,0,0,0,0,0,0,0,0]
[null,null,null,null,null,null,null,null,null,"Non Playing Substitute",{"$f":"COUNTIF(K281:K289,12)-K292","v":0},{"$f":"COUNTIF(L281:L289,12)-L292","v":0},0,0,0,0,0,0,0,0,0,0,0,0,0,1,0,0,0,0,0,0,0,0,0,0,0,0,0,0,0,0,0,0]
[null,null,null,null,null,null,null,null,null,"Goals",0,0,2,0,0,0,0,1,2,0,0,3,0,0,1,0,0,0,0,0,0,0,0,0,0,0,9,0,0,0,0,0,0,0]
[null,null,1]
[null,null,null,null,null,null,null,"Associate Members Cup"]
[null,null,{"$f":"IF(J297=0,1,0)","v":0},{"$f":"D88","v":1},null,{"$f":"F88","v":"1984-02-28"},null,{"$f":"H88","v":"Gillingham"},"(H)","W 4-3",null,null,null,null,null,6,4,null,9,null,10,8,7,5,null,11,1,14,null,2,3,null,12]
[null,null,{"$f":"IF(J298=0,1,0)","v":0},2,null,"1984-03-13",null,"Bournemouth","(H)","D 2-2*",14,null,null,null,6,null,4,null,9,null,7,8,11,5,null,12,1,null,null,2,3,null,10]
[null,null,0,3,null,"1984-03-27",null,"Swindon","(H)","W 3-1",8,null,null,3,null,6,4,null,null,null,7,9,null,5,10,14,1,12,null,2,null,null,11]
[null,null,0,"Sth SF",null,"1984-05-17",null,"Plymouth","(H)","W 1-0",8,null,11,null,null,6,4,null,5,null,7,null,null,null,10,3,1,9,null,2]
[null,null,0,"Sth F",null,"1984-05-21",null,"Bournemouth","(A)","L 1-2",8,null,11,null,null,6,4,null,5,null,7,9,null,null,10,3,1,null,null,2]
[null,null,1,"F",null,"00:00:00",null,"00:00:00","00:00:00",0]
[null,null,1,1,null,"00:00:00",null,"00:00:00","00:00:00",0]
[null,null,1,1,null,"00:00:00",null,"00:00:00","00:00:00",0]
[null,null,1,1,null,"00:00:00",null,"00:00:00","00:00:00",0]
[]
[null,null,null,null,null,null,null,null,null,"Total Associate Members Cup Apperances",{"$f":"COUNT(K297:K305)-K308-K309","v":3},{"$f":"COUNT(L297:L305)-L308-L309","v":0},2,1,1,4,5,0,4,0,5,4,2,3,3,3,5,1,0,5,2,0,2,0,0,0,0,0,0,0,0,0,0,0]
[null,null,null,null,null,null,null,null,null,"Total Associate Members Cup Sub Appearences ",{"$f":"$AX$99+$CH$99","v":0},{"$f":"$AY$99+$CI$99","v":0},{"$f":"$AZ$99+$CJ$99","v":0},{"$f":"$BA$99+$CK$99","v":0},{"$f":"$BB$99+$CL$99","v":0},{"$f":"$BC$99+$CM$99","v":0},{"$f":"$BD$99+$CN$99","v":0},{"$f":"$BE$99+$CO$99","v":0},{"$f":"$BF$99+$CP$99","v":0},{"$f":"$BG$99+$CQ$99","v":0},{"$f":"$BH$99+$CR$99","v":0},{"$f":"$BI$99+$CS$99","v":0},{"$f":"$BJ$99+$CT$99","v":0},{"$f":"$BK$99+$CU$99","v":0},{"$f":"$BL$99+$CV$99","v":0},{"$f":"$BM$99+$CW$99","v":1},{"$f":"$BN$99+$CX$99","v":0},{"$f":"$BO$99+$CY$99","v":1},{"$f":"$BP$99+$CZ$99","v":0},{"$f":"$BQ$99+$DA$99","v":0},{"$f":"$BR$99+$DB$99","v":0},{"$f":"$BS$99+$DC$99","v":0},{"$f":"$BT$99+$DD$99","v":1},{"$f":"$BU$99+$DE$99","v":0},{"$f":"$BV$99+$DF$99","v":0},{"$f":"$BW$99+$DG$99","v":0},{"$f":"$BX$99+$DH$99","v":0},{"$f":"$BY$99+$DI$99","v":0},{"$f":"$BZ$99+$DJ$99","v":0},{"$f":"$CA$99+$DK$99","v":0},{"$f":"$CB$99+$DL$99","v":0},{"$f":"$CC$99+$DM$99","v":0},{"$f":"$CD$99+$DN$99","v":0},{"$f":"CE308+DO308","v":0}]
[null,null,null,null,null,null,null,null,null,"Non Playing Substitute",{"$f":"COUNTIF(K297:K305,\">=12\")-K308","v":1},{"$f":"COUNTIF(L297:L305,\">=12\")-L308","v":0},0,0,0,0,0,0,0,0,0,0,0,0,0,1,0,1,0,0,0,0,0,0,0,0,0,0,0,0,0,0,0,0]
[null,null,null,null,null,null,null,null,null,"Goals",3,0,2,1,1,4,5,0,4,0,5,4,2,3,3,3,5,1,0,5,2,0,2,0,"-",0,0,0,0,0,55,0,5,0]
[null,null,1]
[]
[]
[]
[]
["Manual Input",null,null,null,null,null,null,"Opponents","Venue/Result",null,{"$f":"K3","v":"Bremner"},{"$f":"L3","v":"Burke"},"Chatterton","Coleman","Cowley","Cusack","Lovell","Lowndes","Martin","Massey","McLeary","D Neal","J Neal","Nutton","Otulakowski","Robinson","Sansome","Sheringham","Sparrow","Stevens","Stride","Wells","White",0,0,0,0,0,0,0,0,0,0,0]
[null,null,{"$f":"IF(J317=0,1,0)","v":0},1,null,{"$f":"F5","v":"1983-08-27"},null,{"$f":"H5","v":"Brentford"},{"$f":"I5","v":"(A)"},{"$f":"J5","v":"D 2-2"},7,null,11,null,null,6,2,8,9,12,null,null,null,5,10,4,1,null,null,null,3]
[null,null,0,2,null,{"$f":"F6","v":"1983-09-03"},null,{"$f":"H6","v":"Plymouth"},"(H)","W 1-0",7,null,11,null,null,6,2,8,9,null,null,12,null,5,10,4,1,null,null,null,3]
[null,null,0,3,null,"1983-09-06",null,"Port Vale","(H)","W 3-2",7,null,11,null,null,6,2,8,12,null,null,9,null,5,10,4,1,null,null,null,3]
[null,null,0,4,null,"1983-09-10",null,"Hull City","(A)","L 0-5",7,null,11,null,null,6,2,8,12,null,null,9,null,5,10,4,null,null,null,null,3,1]
[null,null,0,5,null,"1983-09-17",null,"Bournemouth","(H)","W 3-1",7,null,11,null,null,6,2,8,12,null,null,9,null,5,10,null,1,null,null,null,3,null,4]
[null,null,0,6,null,"1983-09-19",null,"Southend","(A)","L 2-3",7,null,11,null,null,6,2,8,12,null,null,9,null,5,10,null,1,null,null,null,3,null,4]
[null,null,0,7,null,"1983-09-24",null,"Oxford","(A)","L 2-4",7,null,11,null,null,6,2,8,null,null,null,9,null,5,10,12,1,null,null,null,3,null,4]
[null,null,0,8,null,"1983-10-01",null,"Sheff Utd","(H)","L 1-2",12,null,11,null,null,6,2,7,9,null,null,8,null,5,10,3,null,null,null,null,null,1,4]
[null,null,0,9,null,"1983-10-09",null,"Burnley","(H)","W 2-0",9,null,11,null,null,6,2,7,5,null,12,8,null,null,null,10,null,null,null,null,3,1,4]
[null,null,0,10,null,"1983-10-15",null,"Lincoln","(A)","D 2-2",9,null,11,null,null,6,2,7,5,null,12,8,null,null,null,10,null,null,null,null,3,1,4]
[null,null,0,11,null,"1983-10-18",null,"Rotherham","(A)","L 0-1",9,null,11,null,null,6,2,7,5,null,12,8,null,null,null,10,null,null,null,null,3,1,4]
[null,null,0,12,null,"1983-10-21",null,"Preston","(H)","W 1-0",9,10,11,null,null,6,2,7,12,null,null,8,null,5,null,null,null,null,null,null,3,1,4]
[null,null,0,13,null,"1983-10-29",null,"Gillingham","(A)","D 3-3",9,10,11,null,null,6,2,7,8,null,12,null,null,5,null,3,null,null,null,null,null,1,4]
[null,null,0,14,null,"1983-11-01",null,"Newport C","(H)","D 1-1",9,10,11,null,null,6,2,7,8,null,12,null,null,5,null,3,null,null,null,null,null,1,4]
[null,null,0,15,null,"1983-11-05",null,"Wigan","(H)","W 2-0",9,10,11,null,null,6,2,7,8,null,12,null,null,5,null,null,null,null,null,null,3,1,4]
[null,null,0,16,null,"1983-11-12",null,"Bradford","(A)","D 3-3",9,10,11,null,null,6,2,7,8,12,null,null,null,5,null,null,null,null,null,null,3,1,4]
[null,null,0,17,null,"1983-11-26",null,"Scunthorpe","(H)","W 2-1",8,7,11,null,null,6,2,null,8,12,4,10,null,5,null,3,null,null,null,null,null,1]
[null,null,0,18,null,"1983-12-03",null,{"$f":"H22","v":"Walsall"},"(A)","D 1-1",8,7,11,null,null,6,2,null,8,10,4,12,null,5,null,3,null,null,null,null,null,1]
[null,null,0,19,null,"1983-12-17",null,"Exeter","(A)","L 2-3",8,null,11,null,null,6,2,7,12,null,null,9,null,5,null,4,null,null,3,null,null,1,10]
[null,null,0,20,null,"1983-12-26",null,"Leton Orient","(H)","W 4-3",8,null,null,null,null,6,2,7,4,null,12,9,null,5,10,null,null,null,3,null,null,1,11]
[null,null,0,21,null,"1983-12-27",null,"Wimbledon","(A)","L 3-4",8,null,7,null,null,6,2,null,9,12,4,null,null,5,10,null,null,null,3,null,null,1,11]
[null,null,0,22,null,"1983-12-30",null,"Bristol R","(H)","W 1-0",8,null,12,null,null,6,2,7,9,null,4,null,null,5,10,null,1,null,3,null,null,null,11]
[null,null,0,23,null,"1984-01-02",null,"Bolton","(A)","L 0-2",8,null,11,null,12,null,2,7,4,9,6,null,null,5,10,3,1]
[null,null,0,24,null,"1984-01-15",null,"Brentford","(H)","L 1-2",8,null,11,null,null,null,2,null,null,12,6,null,null,5,10,4,1,9,3,7]
[null,null,0,25,null,"1984-01-21",null,"Bournemouth","(A)","D 1-1",8,null,null,null,null,6,2,null,null,7,4,null,null,5,10,11,1,9,null,12,3]
[null,null,0,26,null,"1984-01-28",null,"Hull City","(H)","W 1-0",8,null,null,null,null,6,2,null,12,7,4,null,null,5,10,11,1,9,null,null,3]
[null,null,0,27,null,"1984-02-04",null,"Sheff Utd","(A)","L 0-2",8,null,null,null,null,6,2,null,9,7,4,12,null,5,10,11,1,null,null,null,3]
[null,null,0,28,null,"1984-02-11",null,"Oxford","(H)","W 2-1",8,null,null,null,null,6,2,null,9,7,4,12,null,5,10,11,1,null,null,null,3]
[null,null,0,29,null,"1984-02-14",null,"Newport C","(A)","D 1-1",8,null,null,null,null,6,2,null,9,7,4,12,null,5,10,11,1,null,null,null,3]
[null,null,0,30,null,"1984-02-19",null,"Gillingham","(H)","D 2-2",8,null,null,null,null,6,2,null,9,7,4,12,null,5,10,11,1,null,null,null,3]
[null,null,0,31,null,"1984-02-25",null,"Preston","(A)","D 0-0",null,null,null,null,null,6,7,null,9,null,12,8,null,5,10,11,1,4,null,2,3]
[null,null,0,32,null,"1984-03-03",null,"Rotherham","(H)","W 2-0",null,null,null,null,null,6,4,null,9,null,11,8,7,5,10,12,1,null,null,2,3]
[null,null,0,33,null,"1984-03-06",null,"Wigan","(A)","D 0-0",null,null,null,null,null,6,4,null,9,null,7,8,12,5,10,11,1,null,null,2,3]
[null,null,0,34,null,"1984-03-10",null,{"$f":"H38","v":"Bradford"},"(H)","D 0-0",null,null,null,null,6,null,4,null,9,null,7,8,11,5,null,12,1,null,null,2,3,null,10]
[null,null,0,35,null,"1984-03-17",null,"Burnley","(A)","L 0-1",7,null,null,null,6,null,4,null,9,null,11,8,null,5,null,null,1,12,null,2,3,null,10]
[null,null,0,36,null,"1984-03-20",null,"Plymouth","(A)","W 1-0",11,null,null,null,12,6,4,null,null,null,7,8,null,5,10,null,1,null,null,2,3,null,9]
[null,null,0,37,null,"1984-04-14",null,"Walsall","(H)","W 2-0",8,null,null,null,null,6,4,null,null,null,7,9,11,5,10,null,1,12,null,2,3]
[null,null,0,38,null,"1984-04-18",null,"Southend","(H)","W 4-0",8,null,null,null,null,6,4,null,null,null,7,9,12,5,10,11,1,null,null,2,3]
[null,null,0,39,null,"1984-04-21",null,"Leton Orient","(A)","L 3-5",8,null,null,null,null,6,4,null,null,null,null,9,12,5,10,11,1,null,null,2,3,null,7]
[null,null,0,40,null,"1984-04-23",null,"Wimbledon","(H)","D 1-1",8,null,null,null,null,null,4,null,6,null,7,9,null,5,10,3,1,12,null,2,null,null,11]
[null,null,0,41,null,"1984-04-27",null,"Scunthorpe","(A)","W 1-0",8,null,2,null,null,null,4,null,null,null,7,9,null,5,10,3,1,12,null,6,null,null,11]
[null,null,0,42,null,"1984-05-01",null,"Lincoln","(H)","L 0-2",8,null,2,null,null,null,4,null,null,null,7,9,12,5,10,3,1,null,null,6,null,null,11]
[null,null,0,43,null,"1984-05-05",null,"Bolton","(H)","W 3-0",8,null,12,null,null,6,4,null,null,null,7,9,null,5,10,3,1,null,null,2,null,null,11]
[null,null,0,44,null,"1984-05-08",null,"Bristol R","(A)","L 2-3",8,null,12,null,null,6,4,null,null,null,7,9,null,5,10,3,1,null,null,2,null,null,11]
[null,null,{"$f":"IF(J361=0,1,0)","v":0},45,null,"1984-05-12",null,"Exeter","(H)","W 3-0",8,null,7,null,null,6,4,null,null,null,12,9,null,5,10,3,1,null,null,2,null,null,11]
[null,null,{"$f":"IF(J362=0,1,0)","v":0},46,null,"1984-05-14",null,"Port Vale","(A)","L 0-1",8,null,7,null,null,6,4,null,null,null,12,9,null,5,10,3,1,null,null,2,null,null,11]
[]
[null,null,null,null,null,null,null,null,null,"Total League Apperances",{"$f":"COUNT(K317:K362)-K365-K366","v":41},{"$f":"COUNT(L317:L362)-L365-L366","v":7},26,0,2,39,46,20,26,8,24,29,3,43,33,32,31,4,5,17,28,15,27,0,{"$f":"COUNT(AI317:AI362)-AI365","v":0},0,0,0,0,0,0,0,0,0]
[null,null,null,null,null,null,null,null,null,"Total League Substitute Appearences ",{"$f":"AX$53","v":1},0,1,0,1,0,0,0,5,5,6,5,3,0,0,1,0,3,0,0,0,0,0,0,{"$f":"COUNTIF(AI317:AI362,\">=12\")","v":0},0,0,0,0,0,0,0,0,0]
[null,null,null,null,null,null,null,null,null,"Non Playing Substitute",{"$f":"COUNTIF(K317:K362,12)-K365","v":0},{"$f":"COUNTIF(L317:L362,12)-L365","v":0},2,0,1,0,0,0,2,0,4,1,1,0,0,2,0,1,0,1,0,0,0,0]
[null,null,null,null,null,null,null,null,null,"Goals",15,1,6,0,0,0,7,3,3,1,0,13,1,3,7,2,0,1,2,0,2,0,0,0,4,0,71,0,0,0,0,0,0,0]
[]
[null,null,null,null,null,null,null,"FA Cup"]
[null,null,{"$f":"IF(J370=0,1,0)","v":0},{"$f":"D58","v":1},null,{"$f":"F58","v":"1983-11-19"},null,{"$f":"H58","v":"Dartford"},{"$f":"I58","v":"(H)"},{"$f":"J58","v":"W 2-1"},8,null,11,null,null,6,2,null,9,7,4,10,null,5,null,3,null,12,null,null,null,1]
[null,null,0,{"$f":"D59","v":"1R"},null,{"$f":"F59","v":"1983-11-19"},null,{"$f":"H59","v":"Swindon"},"(H)","L 2-3",8,null,11,null,null,6,2,7,9,10,4,12,null,5,null,3,null,null,null,null,null,1]
[null,null,1,2,null,"00:00:00",null,"00:00:00","00:00:00",0]
[null,null,1,3,null,"00:00:00",null,"00:00:00","00:00:00",0]
[null,null,1,0,null,"00:00:00",null,"00:00:00","00:00:00",0]
[null,null,1,0,null,"00:00:00",null,"00:00:00","00:00:00",0]
[null,null,1,0,null,"00:00:00",null,"00:00:00","00:00:00",0]
[]
[null,null,null,null,null,null,null,null,null,"Total FA Cup Apperances",{"$f":"COUNT(K370:K376)-K379-K380","v":2},{"$f":"COUNT(L370:L376)-L379-L380","v":0},2,0,0,2,2,1,2,2,2,1,0,2,0,2,0,0,0,0,0,2,0,0,0,0,0,0,0,0,0,0,0,0]
[null,null,null,null,null,null,null,null,null,"Total FA Cup Substitute Appearences ",{"$f":"AX$67","v":0},{"$f":"AY$67","v":0},0,0,0,0,0,0,0,0,0,1,0,0,0,0,0,0,0,0,0,0,0,0,0,0,0,0,0,0,0,0,0,0]
[null,null,null,null,null,null,null,null,null,"Non Playing Substitute",{"$f":"COUNTIF(K370:K376,12)-K379","v":0},{"$f":"COUNTIF(L370:L376,12)-L379","v":0},0,0,0,0,0,0,0,0,0,0,0,0,0,0,0,1,0,0,0,0,0,0,0,0,0,0,0,0,0,0,0,0]
[null,null,null,null,null,null,null,null,null,"Goals",0,0,0,0,0,1,1,0,1,1,0,0,0,0,0,0,0,0,0,0,0,0,0,0,0,0,4,0,0,0,0,0,0,0]
[]
[null,null,null,null,null,null,null,"League Cup"]
[null,null,{"$f":"IF(J384=0,1,0)","v":0},{"$f":"D72","v":1},null,{"$f":"F72","v":"1983-08-29"},null,{"$f":"H72","v":"Northampton"},{"$f":"I72","v":"(H)"},{"$f":"J72","v":"W 3-0"},7,null,11,null,null,6,2,8,9,null,null,12,null,5,10,4,1,null,null,null,3]
[null,null,0,{"$f":"D73","v":1},null,{"$f":"F73","v":"1983-09-14"},null,{"$f":"H73","v":"Northampton"},"(A)","W 2-1",7,null,11,null,null,6,2,8,null,null,null,9,null,5,10,12,1,null,null,null,3,null,4]
[null,null,0,2,null,"1983-10-04",null,"West Brom","(H)","W 3-0",7,null,11,null,null,6,2,8,12,null,null,9,null,5,10,3,null,null,null,null,null,1,4]
[null,null,0,0,null,"1983-10-25",null,"West Brom","(H)","L 1-5",7,null,11,null,null,6,2,8,12,null,null,9,null,5,null,10,null,null,null,null,3,1,4]
[null,null,1,0,null,"00:00:00",null,"00:00:00","00:00:00",0]
[null,null,1,0,null,"00:00:00",null,"00:00:00","00:00:00",0]
[null,null,1,0,null,"00:00:00",null,"00:00:00","00:00:00",0]
[null,null,1,0,null,"00:00:00",null,"00:00:00","00:00:00",0]
[null,null,1,0,null,"00:00:00",null,"00:00:00","00:00:00",0]
[]
[null,null,null,null,null,null,null,null,null,"Total League Cup Apperances",{"$f":"COUNT(K384:K392)-K396-K395","v":4},{"$f":"COUNT(L384:L392)-L396-L395","v":0},4,0,0,4,4,4,1,0,0,3,0,4,3,3,2,0,0,0,3,2,3,0,0,0,0,0,0,0,0,0,0,0]
[null,null,null,null,null,null,null,null,null,"Total League Cup Substitute Appearences ",{"$f":"AX$83","v":0},0,0,0,0,0,0,0,2,0,0,1,0,0,0,0,0,0,0,0,0,0,0,0,0,0,0,0,0,0,0,0,0,0]
[null,null,null,null,null,null,null,null,null,"Non Playing Substitute",{"$f":"COUNTIF(K384:K392,12)-K395","v":0},{"$f":"COUNTIF(L384:L392,12)-L395","v":0},0,0,0,0,0,0,0,0,0,0,0,0,0,1,0,0,0,0,0,0,0,0,0,0,0,0,0,0,0,0,0,0]
[null,null,null,null,null,null,null,null,null,"Goals",0,0,2,0,0,0,0,1,2,0,0,3,0,0,1,0,0,0,0,0,0,0,0,0,0,0,9,0,0,0,0,0,0,0]
[null,null,1]
[null,null,null,null,null,null,null,"Associate Members Cup"]
[null,null,{"$f":"IF(J400=0,1,0)","v":0},{"$f":"D88","v":1},null,{"$f":"F88","v":"1984-02-28"},null,{"$f":"H88","v":"Gillingham"},"(H)","W 4-3",null,null,null,null,null,6,4,null,9,null,10,8,7,5,null,11,1,14,null,2,3,null,12]
[null,null,{"$f":"IF(J401=0,1,0)","v":0},2,null,"1984-03-13",null,"Bournemouth","(H)","D 2-2*",14,null,null,null,6,null,4,null,9,null,7,8,11,5,null,12,1,null,null,2,3,null,10]
[null,null,0,3,null,"1984-03-27",null,"Swindon","(H)","W 3-1",8,null,null,3,null,6,4,null,null,null,7,9,null,5,10,14,1,12,null,2,null,null,11]
[null,null,0,"Sth SF",null,"1984-05-17",null,"Plymouth","(H)","W 1-0",8,null,11,null,null,6,4,null,5,null,7,null,null,null,10,3,1,9,null,2]
[null,null,0,"Sth F",null,"1984-05-21",null,"Bournemouth","(A)","L 1-2",8,null,11,null,null,6,4,null,5,null,7,9,null,null,10,3,1,null,null,2]
[null,null,1,"F",null,"00:00:00",null,"00:00:00","00:00:00",0]
[null,null,1,1,null,"00:00:00",null,"00:00:00","00:00:00",0]
[null,null,1,1,null,"00:00:00",null,"00:00:00","00:00:00",0]
[null,null,1,1,null,"00:00:00",null,"00:00:00","00:00:00",0]
[]
[null,null,null,null,null,null,null,null,null,"Total Associate Members Cup Apperances",{"$f":"COUNT(K400:K408)-K411-K412","v":3},{"$f":"COUNT(L400:L408)-L411-L412","v":0},2,1,1,4,5,0,4,0,5,4,2,3,3,3,5,1,0,5,2,0,2,0,0,0,0,0,0,0,0,0,0,0]
[null,null,null,null,null,null,null,null,null,"Total Associate Members Cup Sub Appearences ",{"$f":"$AX$99+$CH$99","v":0},{"$f":"$AY$99+$CI$99","v":0},{"$f":"$AZ$99+$CJ$99","v":0},{"$f":"$BA$99+$CK$99","v":0},{"$f":"$BB$99+$CL$99","v":0},{"$f":"$BC$99+$CM$99","v":0},{"$f":"$BD$99+$CN$99","v":0},{"$f":"$BE$99+$CO$99","v":0},{"$f":"$BF$99+$CP$99","v":0},{"$f":"$BG$99+$CQ$99","v":0},{"$f":"$BH$99+$CR$99","v":0},{"$f":"$BI$99+$CS$99","v":0},{"$f":"$BJ$99+$CT$99","v":0},{"$f":"$BK$99+$CU$99","v":0},{"$f":"$BL$99+$CV$99","v":0},{"$f":"$BM$99+$CW$99","v":1},{"$f":"$BN$99+$CX$99","v":0},{"$f":"$BO$99+$CY$99","v":1},{"$f":"$BP$99+$CZ$99","v":0},{"$f":"$BQ$99+$DA$99","v":0},{"$f":"$BR$99+$DB$99","v":0},{"$f":"$BS$99+$DC$99","v":0},{"$f":"$BT$99+$DD$99","v":1},{"$f":"$BU$99+$DE$99","v":0},{"$f":"$BV$99+$DF$99","v":0},{"$f":"$BW$99+$DG$99","v":0},{"$f":"$BX$99+$DH$99","v":0},{"$f":"$BY$99+$DI$99","v":0},{"$f":"$BZ$99+$DJ$99","v":0},{"$f":"$CA$99+$DK$99","v":0},{"$f":"$CB$99+$DL$99","v":0},{"$f":"$CC$99+$DM$99","v":0},{"$f":"$CD$99+$DN$99","v":0},{"$f":"CE411+DO411","v":0}]
[null,null,null,null,null,null,null,null,null,"Non Playing Substitute",{"$f":"COUNTIF(K400:K408,\">=12\")-K411","v":1},{"$f":"COUNTIF(L400:L408,\">=12\")-L411","v":0},0,0,0,0,0,0,0,0,0,0,0,0,0,1,0,1,0,0,0,0,0,0,0,0,0,0,0,0,0,0,0,0]
[null,null,null,null,null,null,null,null,null,"Goals",3,0,2,1,1,4,5,0,4,0,5,4,2,3,3,3,5,1,0,5,2,0,2,0,"-",0,0,0,0,0,55,0,5,0]

{"sheet":"Sheet1","index":2,"n_rows":265,"n_cols":63,"rows_kept":265,"cut":false,"hidden":false,"merged":[[34,1,39,1],[34,52,39,52],[35,53,38,53],[44,1,49,1],[44,52,49,52],[45,53,48,53],[94,1,99,1],[94,52,99,52],[54,1,59,1],[54,52,59,52],[56,53,59,53],[64,1,69,1],[64,52,69,52],[65,53,68,53],[74,1,79,1],[74,52,79,52],[75,53,77,53],[84,1,89,1],[84,52,89,52],[104,1,109,1],[104,52,109,52],[114,1,119,1],[114,52,119,52],[124,1,129,1],[124,52,129,52],[134,1,139,1],[134,52,139,52],[144,1,149,1],[144,52,149,52],[154,1,159,1],[154,52,159,52],[164,1,169,1],[164,52,169,52],[174,1,179,1],[174,52,179,52],[184,1,189,1],[184,52,189,52],[224,1,228,1],[224,52,228,52],[270,13,270,14],[271,13,271,14],[194,1,199,1],[194,52,199,52],[204,1,209,1],[204,52,209,52],[214,1,219,1],[214,52,219,52]]}
[]
[null,null,null,null,null,null,null,null,null,null,null,null,null,null,null,null,null,null,null,null,null,null,null,null,null,null,null,null,null,null,null,null,null,null,null,null,null,null,null,null,null,null,null,null,null,null,null,null,null,null,null,null,null,null,null,null,null,null,null,null,null,null,{"$f":"158-70","v":88}]
[]
[]
[]
[]
[]
[]
[]
[]
[]
[]
[]
[]
[]
[null,105,null,null,null,null,null,null,null,null,null,null,null,null,null,null,null,null,null,null,null,null,null,null,null,null,null,null,null,null,null,null,null,null,null,null,null,null,null,null,null,null,null,null,null,null,null,null,null,null,null,null,105]
[]
[]
[]
[]
[]
[]
[]
[]
[]
[]
[null,100,null,null,null,null,null,null,null,null,null,null,null,null,null,null,null,null,null,null,null,null,null,null,null,null,null,null,null,null,null,null,null,null,null,null,null,null,null,null,null,null,null,null,null,null,null,null,null,null,null,null,100]
[]
[]
[]
[]
[]
[]
[]
[null,95,null,null,null,null,null,null,null,null,null,null,null,null,null,null,null,null,null,null,null,null,null,null,null,null,null,null,null,null,null,null,null,null,null,null,null,null,null,null,null,null,null,null,null,null,null,null,null,null,null,null,95]
[]
[]
[]
[]
[]
[]
[]
[]
[]
[null,90,null,null,null,null,null,null,null,null,null,null,null,null,null,null,null,null,null,null,null,null,null,null,null,null,null,null,null,null,null,null,null,null,null,null,null,null,null,null,null,null,null,null,null,null,null,null,null,null,null,null,90]
[]
[]
[]
[]
[]
[]
[]
[]
[]
[null,85,null,null,null,null,null,null,null,null,null,null,null,null,null,null,null,null,null,null,null,null,null,null,null,null,null,null,null,null,null,null,null,null,null,null,null,null,null,null,null,null,null,null,null,null,null,null,null,null,null,null,85]
[]
[]
[]
[]
[]
[]
[]
[]
[]
[null,80,null,null,null,null,null,null,null,null,null,null,null,null,null,null,null,null,null,null,null,null,null,null,null,null,null,null,null,null,null,null,null,null,null,null,null,null,null,null,null,null,null,null,null,null,null,null,null,null,null,null,80]
[]
[]
[]
[]
[]
[]
[]
[]
[]
[null,75,null,null,null,null,null,null,null,null,null,null,null,null,null,null,null,null,null,null,null,null,null,null,null,null,null,null,null,null,null,null,null,null,null,null,null,null,null,null,null,null,null,null,null,null,null,null,null,null,null,null,75]
[]
[]
[]
[]
[]
[]
[]
[]
[]
[null,70,null,null,null,null,null,null,null,null,null,null,null,null,null,null,null,null,null,null,null,null,null,null,null,null,null,null,null,null,null,null,null,null,null,null,null,null,null,null,null,null,null,null,null,null,null,null,null,null,null,null,70]
[]
[]
[]
[]
[]
[]
[]
[]
[]
[null,65,null,null,null,null,null,null,null,null,null,null,null,null,null,null,null,null,null,null,null,null,null,null,null,null,null,null,null,null,null,null,null,null,null,null,null,null,null,null,null,null,null,null,null,null,null,null,null,null,null,null,65]
[]
[]
[]
[]
[]
[]
[]
[]
[]
[null,60,null,null,null,null,null,null,null,null,null,null,null,null,null,null,null,null,null,null,null,null,null,null,null,null,null,null,null,null,null,null,null,null,null,null,null,null,null,null,null,null,null,null,null,null,null,null,null,null,null,null,60]
[]
[]
[]
[]
[]
[]
[]
[]
[]
[null,55,null,null,null,null,null,null,null,null,null,null,null,null,null,null,null,null,null,null,null,null,null,null,null,null,null,null,null,null,null,null,null,null,null,null,null,null,null,null,null,null,null,null,null,null,null,null,null,null,null,null,55]
[]
[]
[]
[]
[]
[]
[]
[]
[]
[null,50,null,null,null,null,null,null,null,null,null,null,null,null,null,null,null,null,null,null,null,null,null,null,null,null,null,null,null,null,null,null,null,null,null,null,null,null,null,null,null,null,null,null,null,null,null,null,null,null,null,null,50]
[]
[]
[]
[]
[]
[]
[]
[]
[]
[null,45,null,null,null,null,null,null,null,null,null,null,null,null,null,null,null,null,null,null,null,null,null,null,null,null,null,null,null,null,null,null,null,null,null,null,null,null,null,null,null,null,null,null,null,null,null,null,null,null,null,null,45]
[]
[]
[]
[]
[]
[]
[]
[]
[]
[null,40,null,null,null,null,null,null,null,null,null,null,null,null,null,null,null,null,null,null,null,null,null,null,null,null,null,null,null,null,null,null,null,null,null,null,null,null,null,null,null,null,null,null,null,null,null,null,null,null,null,null,40]
[]
[]
[]
[]
[]
[]
[]
[]
[]
[null,35,null,null,null,null,null,null,null,null,null,null,null,null,null,null,null,null,null,null,null,null,null,null,null,null,null,null,null,null,null,null,null,null,null,null,null,null,null,null,null,null,null,null,null,null,null,null,null,null,null,null,35]
[]
[]
[]
[]
[]
[]
[]
[]
[]
[null,30,null,null,null,null,null,null,null,null,null,null,null,null,null,null,null,null,null,null,null,null,null,null,null,null,null,null,null,null,null,null,null,null,null,null,null,null,null,null,null,null,null,null,null,null,null,null,null,null,null,null,30]
[]
[]
[]
[]
[]
[]
[]
[]
[]
[null,25,null,null,null,null,null,null,null,null,null,null,null,null,null,null,null,null,null,null,null,null,null,null,null,null,null,null,null,null,null,null,null,null,null,null,null,null,null,null,null,null,null,null,null,null,null,null,null,null,null,null,25]
[]
[]
[]
[]
[]
[]
[]
[]
[]
[null,20,null,null,null,null,null,null,null,null,null,null,null,null,null,null,null,null,null,null,null,null,null,null,null,null,null,null,null,null,null,null,null,null,null,null,null,null,null,null,null,null,null,null,null,null,null,null,null,null,null,null,20]
[]
[]
[]
[]
[]
[]
[]
[]
[]
[null,15,null,null,null,null,null,null,null,null,null,null,null,null,null,null,null,null,null,null,null,null,null,null,null,null,null,null,null,null,null,null,null,null,null,null,null,null,null,null,null,null,null,null,null,null,null,null,null,null,null,null,15]
[]
[]
[]
[]
[]
[]
[]
[]
[]
[null,10,null,null,null,null,null,null,null,null,null,null,null,null,null,null,null,null,null,null,null,null,null,null,null,null,null,null,null,null,null,null,null,null,null,null,null,null,null,null,null,null,null,null,null,null,null,null,null,null,null,null,10]
[]
[]
[]
[]
[]
[]
[]
[]
[]
[null,5,null,null,null,null,null,null,null,null,null,null,null,null,null,null,null,null,null,null,null,null,null,null,null,null,null,null,null,null,null,null,null,null,null,null,null,null,null,null,null,null,null,null,null,null,null,null,null,null,null,null,5]
[]
[]
[]
[]
[]
[]
[]
[]
[]
[null,0,null,null,null,null,null,null,null,null,null,null,null,null,null,null,null,null,null,null,null,null,null,null,null,null,null,null,null,null,null,null,null,null,null,null,null,null,null,null,null,null,null,null,null,null,null,null,null,null,null,null,0]
[]
[]
[]
[]
[null,null,null,"Brentford (A) D 2-2","Plymouth (H) W 1-0","Port Vale (H) W 3-2","Hull City (A) L 0-5","Bournemouth (H) W 3-1","Southend (A) L 2-3","Oxford (A) L 2-4","Sheff Utd (H) L 1-2","Burnley (H) W 2-0","Lincoln (A) D 2-2","Rotherham (A) L 0-1","Preston (H) W 1-0","Gillingham (A) D 3-3","Newport C (H) D 1-1","Wigan (H) W 2-0","Bradford (A) D 3-3","Scunthorpe (H) W 2-1","Walsall (A) D 1-1","Exeter (A) L 2-3","Leyton Orient (H) W 4-3","Wimbledon (A) L 3-4","Bristol R (H) W 1-0","Bolton (A) L 0-2","Brentford (H) L 1-2","Bournemouth (A) D 1-1","Hull City (H) W 1-0","Sheff Utd (A) L 0-2","Oxford (H) W 2-1","Newport C (A) D 1-1","Gillingham (H) D 2-2","Preston (A) D 0-0","Rotherham (H) W 2-0","Wigan (A) D 0-0","Bradford (H) D 0-0","Burnley (A) L 0-1","Plymouth (A) W 1-0","Walsall (H) W 2-0","Southend (H) W 4-0","Leyton Orient (A) L 3-5","Wimbledon (H) D 1-1","Scunthorpe (A) W 1-0","Lincoln (H) L 0-2","Bolton (H) W 3-0","Bristol R (A) L 2-3","Exeter (H) W 3-0","Port Vale (A) L 0-1"]
[]
[]
[]
[]
[]
[]
[null,null,null,{"$f":"D257-D244","v":0},0,0,1,1,1,1,1,2,2,3,3,0,2,0,0,0,1,0,3,2,2,0,0,1,0,2,1,1,2,4,0,0,1,1,1,1,2,1,2,1,4,1,1,3,3,0]
[null,null,null,4,5,6,7,8,9,10,11,12,13,14,15,16,17,18,19,20,21,22,23,24,25,26,27,28,29,30,31,32,33,34,35,36,37,38,39,40,41,42,43,44,45,46,47,48,49,50]
[null,null,null,{"$f":"D246-D259","v":0},{"$f":"E246-E259","v":0},0,0,1,2,1,1,0,1,2,2,0,2,2,0,2,0,1,0,0,0,0,0,1,1,2,2,1,0,0,2,1,1,1,1,1,3,0,1,1,1,1,0,3,3,0]
[]
[]
[null,"Top Y",null,{"$f":"Sheet2!$I$6","v":3},{"$f":"Sheet2!$I$7","v":6},{"$f":"Sheet2!$I$8","v":9},{"$f":"Sheet2!$I$9","v":10},{"$f":"Sheet2!$I$10","v":12},{"$f":"Sheet2!$I$11","v":12},{"$f":"Sheet2!$I$12","v":14},{"$f":"Sheet2!$I$13","v":20},{"$f":"Sheet2!$I$14","v":23},{"$f":"Sheet2!$I$15","v":23},{"$f":"Sheet2!$I$16","v":23},{"$f":"Sheet2!$I$17","v":26},{"$f":"Sheet2!$I$18","v":27},{"$f":"Sheet2!$I$19","v":29},{"$f":"Sheet2!$I$20","v":30},{"$f":"Sheet2!$I$21","v":33},{"$f":"Sheet2!$I$22","v":34},{"$f":"Sheet2!$I$23","v":37},{"$f":"Sheet2!$I$24","v":40},{"$f":"Sheet2!$I$25","v":43},{"$f":"Sheet2!$I$26","v":43},{"$f":"Sheet2!$I$27","v":43},{"$f":"Sheet2!$I$28","v":46},{"$f":"Sheet2!$I$29","v":48},{"$f":"Sheet2!$I$30","v":48},{"$f":"Sheet2!$I$31","v":51},{"$f":"Sheet2!$I$32","v":54},{"$f":"Sheet2!$I$33","v":57},{"$f":"Sheet2!$I$34","v":57},{"$f":"Sheet2!$I$35","v":57},{"$f":"Sheet2!$I$36","v":58},{"$f":"Sheet2!$I$37","v":60},{"$f":"Sheet2!$I$38","v":63},{"$f":"Sheet2!$I$39","v":66},{"$f":"Sheet2!$I$40","v":69},{"$f":"Sheet2!$I$41","v":69},{"$f":"Sheet2!$I$42","v":82},{"$f":"Sheet2!$I$43","v":82},{"$f":"Sheet2!$I$44","v":86},{"$f":"Sheet2!$I$45","v":86},{"$f":"Sheet2!$I$46","v":86},{"$f":"Sheet2!$I$47","v":87},{"$f":"Sheet2!$I$48","v":89},{"$f":"Sheet2!$I$49","v":92},{"$f":"Sheet2!$I$50","v":95},{"$f":"Sheet2!$I$51","v":95},{"$f":"Sheet2!$I$52","v":0}]
[]
[null,"4th a",null,{"$f":"Sheet2!$K$6","v":3},{"$f":"Sheet2!$K$7","v":6},{"$f":"Sheet2!$K$8","v":7},{"$f":"Sheet2!$K$9","v":9},{"$f":"Sheet2!$K$10","v":10},{"$f":"Sheet2!$K$11","v":10},{"$f":"Sheet2!$K$12","v":12},{"$f":"Sheet2!$K$13","v":17},{"$f":"Sheet2!$K$14","v":17},{"$f":"Sheet2!$K$15","v":20},{"$f":"Sheet2!$K$16","v":20},{"$f":"Sheet2!$K$17","v":20},{"$f":"Sheet2!$K$18","v":24},{"$f":"Sheet2!$K$19","v":25},{"$f":"Sheet2!$K$20","v":28},{"$f":"Sheet2!$K$21","v":29},{"$f":"Sheet2!$K$22","v":32},{"$f":"Sheet2!$K$23","v":32},{"$f":"Sheet2!$K$24","v":35},{"$f":"Sheet2!$K$25","v":35},{"$f":"Sheet2!$K$26","v":37},{"$f":"Sheet2!$K$27","v":37},{"$f":"Sheet2!$K$28","v":42},{"$f":"Sheet2!$K$29","v":45},{"$f":"Sheet2!$K$30","v":45},{"$f":"Sheet2!$K$31","v":47},{"$f":"Sheet2!$K$32","v":48},{"$f":"Sheet2!$K$33","v":50},{"$f":"Sheet2!$K$34","v":50},{"$f":"Sheet2!$K$35","v":51},{"$f":"Sheet2!$K$36","v":52},{"$f":"Sheet2!$K$37","v":57},{"$f":"Sheet2!$K$38","v":58},{"$f":"Sheet2!$K$39","v":60},{"$f":"Sheet2!$K$40","v":61},{"$f":"Sheet2!$K$41","v":61},{"$f":"Sheet2!$K$42","v":71},{"$f":"Sheet2!$K$43","v":71},{"$f":"Sheet2!$K$44","v":73},{"$f":"Sheet2!$K$45","v":74},{"$f":"Sheet2!$K$46","v":76},{"$f":"Sheet2!$K$47","v":76},{"$f":"Sheet2!$K$48","v":79},{"$f":"Sheet2!$K$49","v":79},{"$f":"Sheet2!$K$50","v":80},{"$f":"Sheet2!$K$51","v":80},{"$f":"Sheet2!$K$52","v":0}]
[]
[null,"20th b",null,{"$f":"Sheet2!$M$6","v":0},{"$f":"Sheet2!$M$7","v":0},{"$f":"Sheet2!$M$8","v":1},{"$f":"Sheet2!$M$9","v":2},{"$f":"Sheet2!$M$10","v":3},{"$f":"Sheet2!$M$11","v":4},{"$f":"Sheet2!$M$12","v":5},{"$f":"Sheet2!$M$13","v":6},{"$f":"Sheet2!$M$14","v":6},{"$f":"Sheet2!$M$15","v":8},{"$f":"Sheet2!$M$16","v":10},{"$f":"Sheet2!$M$17","v":10},{"$f":"Sheet2!$M$18","v":10},{"$f":"Sheet2!$M$19","v":12},{"$f":"Sheet2!$M$20","v":13},{"$f":"Sheet2!$M$21","v":13},{"$f":"Sheet2!$M$22","v":15},{"$f":"Sheet2!$M$23","v":15},{"$f":"Sheet2!$M$24","v":18},{"$f":"Sheet2!$M$25","v":19},{"$f":"Sheet2!$M$26","v":19},{"$f":"Sheet2!$M$27","v":19},{"$f":"Sheet2!$M$28","v":22},{"$f":"Sheet2!$M$29","v":22},{"$f":"Sheet2!$M$30","v":23},{"$f":"Sheet2!$M$31","v":23},{"$f":"Sheet2!$M$32","v":25},{"$f":"Sheet2!$M$33","v":26},{"$f":"Sheet2!$M$34","v":26},{"$f":"Sheet2!$M$35","v":26},{"$f":"Sheet2!$M$36","v":26},{"$f":"Sheet2!$M$37","v":28},{"$f":"Sheet2!$M$38","v":28},{"$f":"Sheet2!$M$39","v":28},{"$f":"Sheet2!$M$40","v":29},{"$f":"Sheet2!$M$41","v":30},{"$f":"Sheet2!$M$42","v":36},{"$f":"Sheet2!$M$43","v":39},{"$f":"Sheet2!$M$44","v":39},{"$f":"Sheet2!$M$45","v":40},{"$f":"Sheet2!$M$46","v":40},{"$f":"Sheet2!$M$47","v":43},{"$f":"Sheet2!$M$48","v":44},{"$f":"Sheet2!$M$49","v":45},{"$f":"Sheet2!$M$50","v":49},{"$f":"Sheet2!$M$51","v":49},{"$f":"Sheet2!$M$52","v":0}]
[]
[null,"24th c",null,{"$f":"Sheet2!$O$6","v":0},{"$f":"Sheet2!$O$7","v":0},{"$f":"Sheet2!$O$8","v":0},{"$f":"Sheet2!$O$9","v":0},{"$f":"Sheet2!$O$10","v":0},{"$f":"Sheet2!$O$11","v":0},{"$f":"Sheet2!$O$12","v":1},{"$f":"Sheet2!$O$13","v":3},{"$f":"Sheet2!$O$14","v":5},{"$f":"Sheet2!$O$15","v":5},{"$f":"Sheet2!$O$16","v":5},{"$f":"Sheet2!$O$17","v":5},{"$f":"Sheet2!$O$18","v":5},{"$f":"Sheet2!$O$19","v":5},{"$f":"Sheet2!$O$20","v":6},{"$f":"Sheet2!$O$21","v":6},{"$f":"Sheet2!$O$22","v":6},{"$f":"Sheet2!$O$23","v":6},{"$f":"Sheet2!$O$24","v":6},{"$f":"Sheet2!$O$25","v":6},{"$f":"Sheet2!$O$26","v":9},{"$f":"Sheet2!$O$27","v":9},{"$f":"Sheet2!$O$28","v":12},{"$f":"Sheet2!$O$29","v":12},{"$f":"Sheet2!$O$30","v":15},{"$f":"Sheet2!$O$31","v":16},{"$f":"Sheet2!$O$32","v":19},{"$f":"Sheet2!$O$33","v":20},{"$f":"Sheet2!$O$34","v":20},{"$f":"Sheet2!$O$35","v":22},{"$f":"Sheet2!$O$36","v":22},{"$f":"Sheet2!$O$37","v":23},{"$f":"Sheet2!$O$38","v":24},{"$f":"Sheet2!$O$39","v":24},{"$f":"Sheet2!$O$40","v":24},{"$f":"Sheet2!$O$41","v":24},{"$f":"Sheet2!$O$42","v":28},{"$f":"Sheet2!$O$43","v":28},{"$f":"Sheet2!$O$44","v":29},{"$f":"Sheet2!$O$45","v":29},{"$f":"Sheet2!$O$46","v":29},{"$f":"Sheet2!$O$47","v":32},{"$f":"Sheet2!$O$48","v":33},{"$f":"Sheet2!$O$49","v":33},{"$f":"Sheet2!$O$50","v":33},{"$f":"Sheet2!$O$51","v":33},{"$f":"Sheet2!$O$52","v":0}]
[]
[null,"d"]
[]
[null,"Millwall e",null,{"$f":"Sheet2!$G$6","v":1},{"$f":"Sheet2!$G$7","v":4},{"$f":"Sheet2!$G$8","v":7},{"$f":"Sheet2!$G$9","v":7},{"$f":"Sheet2!$G$10","v":10},{"$f":"Sheet2!$G$11","v":10},{"$f":"Sheet2!$G$12","v":10},{"$f":"Sheet2!$G$13","v":10},{"$f":"Sheet2!$G$14","v":13},{"$f":"Sheet2!$G$15","v":14},{"$f":"Sheet2!$G$16","v":14},{"$f":"Sheet2!$G$17","v":17},{"$f":"Sheet2!$G$18","v":18},{"$f":"Sheet2!$G$19","v":19},{"$f":"Sheet2!$G$20","v":22},{"$f":"Sheet2!$G$21","v":23},{"$f":"Sheet2!$G$22","v":26},{"$f":"Sheet2!$G$23","v":27},{"$f":"Sheet2!$G$24","v":27},{"$f":"Sheet2!$G$25","v":30},{"$f":"Sheet2!$G$26","v":30},{"$f":"Sheet2!$G$27","v":33},{"$f":"Sheet2!$G$28","v":33},{"$f":"Sheet2!$G$29","v":33},{"$f":"Sheet2!$G$30","v":34},{"$f":"Sheet2!$G$31","v":37},{"$f":"Sheet2!$G$32","v":37},{"$f":"Sheet2!$G$33","v":40},{"$f":"Sheet2!$G$34","v":41},{"$f":"Sheet2!$G$35","v":42},{"$f":"Sheet2!$G$36","v":43},{"$f":"Sheet2!$G$37","v":46},{"$f":"Sheet2!$G$38","v":47},{"$f":"Sheet2!$G$39","v":48},{"$f":"Sheet2!$G$40","v":48},{"$f":"Sheet2!$G$41","v":51},{"$f":"Sheet2!$G$42","v":54},{"$f":"Sheet2!$G$43","v":57},{"$f":"Sheet2!$G$44","v":57},{"$f":"Sheet2!$G$45","v":58},{"$f":"Sheet2!$G$46","v":61},{"$f":"Sheet2!$G$47","v":61},{"$f":"Sheet2!$G$48","v":64},{"$f":"Sheet2!$G$49","v":64},{"$f":"Sheet2!$G$50","v":67},{"$f":"Sheet2!$G$51","v":67},{"$f":"Sheet2!$G$52","v":0}]
[]
[]
[]
[]
[null,"3rd f",null,{"$f":"(Sheet2!$T$6)","v":3},{"$f":"(Sheet2!$T$7)","v":6},{"$f":"(Sheet2!$T$8)","v":7},{"$f":"(Sheet2!$T$9)","v":10},{"$f":"(Sheet2!$T$10)","v":11},{"$f":"(Sheet2!$T$11)","v":11},{"$f":"(Sheet2!$T$12)","v":13},{"$f":"(Sheet2!$T$13)","v":18},{"$f":"(Sheet2!$T$14)","v":19},{"$f":"(Sheet2!$T$15)","v":22},{"$f":"(Sheet2!$T$16)","v":23},{"$f":"(Sheet2!$T$17)","v":23},{"$f":"(Sheet2!$T$18)","v":24},{"$f":"(Sheet2!$T$19)","v":27},{"$f":"(Sheet2!$T$20)","v":28},{"$f":"(Sheet2!$T$21)","v":29},{"$f":"(Sheet2!$T$22)","v":32},{"$f":"(Sheet2!$T$23)","v":33},{"$f":"(Sheet2!$T$24)","v":35},{"$f":"(Sheet2!$T$25)","v":38},{"$f":"(Sheet2!$T$26)","v":39},{"$f":"(Sheet2!$T$27)","v":39},{"$f":"(Sheet2!$T$28)","v":42},{"$f":"(Sheet2!$T$29)","v":45},{"$f":"(Sheet2!$T$30)","v":46},{"$f":"(Sheet2!$T$31)","v":47},{"$f":"(Sheet2!$T$32)","v":50},{"$f":"(Sheet2!$T$33)","v":51},{"$f":"(Sheet2!$T$34)","v":51},{"$f":"(Sheet2!$T$35)","v":53},{"$f":"(Sheet2!$T$36)","v":56},{"$f":"(Sheet2!$T$37)","v":57},{"$f":"(Sheet2!$T$38)","v":58},{"$f":"(Sheet2!$T$39)","v":61},{"$f":"(Sheet2!$T$40)","v":62},{"$f":"(Sheet2!$T$41)","v":62},{"$f":"(Sheet2!$T$42)","v":72},{"$f":"(Sheet2!$T$43)","v":73},{"$f":"(Sheet2!$T$44)","v":74},{"$f":"(Sheet2!$T$45)","v":76},{"$f":"(Sheet2!$T$46)","v":77},{"$f":"(Sheet2!$T$47)","v":80},{"$f":"(Sheet2!$T$48)","v":80},{"$f":"(Sheet2!$T$49)","v":80},{"$f":"(Sheet2!$T$50)","v":83},{"$f":"(Sheet2!$T$51)","v":83},{"$f":"(Sheet2!$T$52)","v":0}]
[]
[null,"21st g",null,{"$f":"(Sheet2!$V$6)","v":0},{"$f":"(Sheet2!$V$7)","v":0},{"$f":"(Sheet2!$V$8)","v":1},{"$f":"(Sheet2!$V$9)","v":2},{"$f":"(Sheet2!$V$10)","v":2},{"$f":"(Sheet2!$V$11)","v":2},{"$f":"(Sheet2!$V$12)","v":4},{"$f":"(Sheet2!$V$13)","v":5},{"$f":"(Sheet2!$V$14)","v":6},{"$f":"(Sheet2!$V$15)","v":7},{"$f":"(Sheet2!$V$16)","v":8},{"$f":"(Sheet2!$V$17)","v":8},{"$f":"(Sheet2!$V$18)","v":10},{"$f":"(Sheet2!$V$19)","v":10},{"$f":"(Sheet2!$V$20)","v":11},{"$f":"(Sheet2!$V$21)","v":13},{"$f":"(Sheet2!$V$22)","v":13},{"$f":"(Sheet2!$V$23)","v":15},{"$f":"(Sheet2!$V$24)","v":17},{"$f":"(Sheet2!$V$25)","v":19},{"$f":"(Sheet2!$V$26)","v":19},{"$f":"(Sheet2!$V$27)","v":19},{"$f":"(Sheet2!$V$28)","v":22},{"$f":"(Sheet2!$V$29)","v":22},{"$f":"(Sheet2!$V$30)","v":22},{"$f":"(Sheet2!$V$31)","v":22},{"$f":"(Sheet2!$V$32)","v":23},{"$f":"(Sheet2!$V$33)","v":24},{"$f":"(Sheet2!$V$34)","v":25},{"$f":"(Sheet2!$V$35)","v":26},{"$f":"(Sheet2!$V$36)","v":26},{"$f":"(Sheet2!$V$37)","v":26},{"$f":"(Sheet2!$V$38)","v":27},{"$f":"(Sheet2!$V$39)","v":27},{"$f":"(Sheet2!$V$40)","v":28},{"$f":"(Sheet2!$V$41)","v":29},{"$f":"(Sheet2!$V$42)","v":35},{"$f":"(Sheet2!$V$43)","v":36},{"$f":"(Sheet2!$V$44)","v":39},{"$f":"(Sheet2!$V$45)","v":39},{"$f":"(Sheet2!$V$46)","v":39},{"$f":"(Sheet2!$V$47)","v":42},{"$f":"(Sheet2!$V$48)","v":43},{"$f":"(Sheet2!$V$49)","v":45},{"$f":"(Sheet2!$V$50)","v":46},{"$f":"(Sheet2!$V$51)","v":46},{"$f":"(Sheet2!$V$52)","v":0}]
[]
[]
[]
[]
[null,null,null,5,6,7,8,9,10,11,12,13,14,15,16,17,18,19,20,21,22,23,24,25,26,27,28,29,30,31,32,33,34,35,36,37,38,39,40,41,42,43,44,45,46,47,48,48,48,48]
[null,null,null,{"$f":"D246-D259","v":0},{"$f":"E246-E259","v":0},0,0,1,2,1,1,0,1,2,2,0,2,2,0,2,0,1,0,0,0,0,0,1,1,2,2,1,0,0,2,1,1,1,1,1,3,0,1,1,1,1,{"$f":"AU246-AU259","v":0},3,3,0,0]

{"sheet":"Sheet2","index":3,"n_rows":51,"n_cols":26,"rows_kept":51,"cut":false,"hidden":false,"merged":[]}
[null,null,"Millwall 1983/84 results and fixtures ",null,null,null,{"$f":"[5]Summary!$AP$66","v":67},{"$f":"[5]Summary!$Q$22","v":9},{"$f":"[5]Summary!$AP$10","v":95},1,{"$f":"[5]Summary!$AP$13","v":83},4,{"$f":"[5]Summary!$AP$29","v":49},20,{"$f":"[5]Summary!$AP$33","v":33},24,null,null,{"$f":"[5]Summary!$T$5","v":111},{"$f":"[5]Summary!$AP$12","v":83},3,{"$f":"[5]Summary!$AP$30","v":46},21,null,null,{"$f":"[5]Summary!$U$7","v":"Port Vale (A) L 0-1"}]
[]
[]
[null,null,null,null,null,null,"x"]
[null,"Game","Competition",null,"Pts","Pos","Millwall","Pos","top","Pos","4th","Pos","20th","Pos","Bottom","Pos","Bottom","Pos","Day","3rd","Pos","20th","Pos",null,null,"Vesus"]
[null,1,"Division 3","Brentford (A) D 2-2",null,null,1,10,3,1,3,4,0,20,0,24,null,null,1,3,3,0,21,null,null,"Brentford (A) D 2-2"]
[null,2,"Division 3","Plymouth (H) W 1-0",null,null,4,9,6,1,6,4,0,20,0,24,null,null,2,6,3,0,21,null,null,"Plymouth (H) W 1-0"]
[null,3,"Division 3","Port Vale (H) W 3-2",null,null,7,4,9,1,7,4,1,20,0,24,null,null,3,7,3,1,21,null,null,"Port Vale (H) W 3-2"]
[null,4,"Division 3","Hull City (A) L 0-5",null,null,7,10,10,1,9,4,2,20,0,24,null,null,6,10,3,2,21,null,null,"Hull City (A) L 0-5"]
[null,5,"Division 3","Bournemouth (H) W 3-1",null,null,10,7,12,1,10,4,3,20,0,24,null,null,8,11,3,2,21,null,null,"Bournemouth (H) W 3-1"]
[null,6,"Division 3","Southend (A) L 2-3",null,null,10,7,12,1,10,4,4,20,0,24,null,null,9,11,3,2,21,null,null,"Southend (A) L 2-3"]
[null,7,"Division 3","Oxford (A) L 2-4",null,null,10,9,14,1,12,4,5,20,1,24,null,null,11,13,3,4,21,null,null,"Oxford (A) L 2-4"]
[null,8,"Division 3","Sheff Utd (H) L 1-2",null,null,10,15,20,1,17,4,6,20,3,24,null,null,16,18,3,5,21,null,null,"Sheff Utd (H) L 1-2"]
[null,9,"Division 3","Burnley (H) W 2-0",null,null,13,9,23,1,17,4,6,20,5,24,null,null,18,19,3,6,21,null,null,"Burnley (H) W 2-0"]
[null,10,"Division 3","Lincoln (A) D 2-2",null,null,14,11,23,1,20,4,8,20,5,24,null,null,20,22,3,7,21,null,null,"Lincoln (A) D 2-2"]
[null,11,"Division 3","Rotherham (A) L 0-1",null,null,14,14,23,1,20,4,10,20,5,24,null,null,21,23,3,8,21,null,null,"Rotherham (A) L 0-1"]
[null,12,"Division 3","Preston (H) W 1-0",null,null,17,10,26,1,20,4,10,20,5,24,null,null,23,23,3,8,21,null,null,"Preston (H) W 1-0"]
[null,13,"Division 3","Gillingham (A) D 3-3",null,null,18,15,27,1,24,4,10,20,5,24,null,null,26,24,3,10,21,null,null,"Gillingham (A) D 3-3"]
[null,14,"Division 3","Newport C (H) D 1-1",null,null,19,13,29,1,25,4,12,20,5,24,null,null,28,27,3,10,21,null,null,"Newport C (H) D 1-1"]
[null,15,"Division 3","Wigan (H) W 2-0",null,null,22,12,30,1,28,4,13,20,6,24,null,null,30,28,3,11,21,null,null,"Wigan (H) W 2-0"]
[null,16,"Division 3","Bradford (A) D 3-3",null,null,23,12,33,1,29,4,13,20,6,24,null,null,33,29,3,13,21,null,null,"Bradford (A) D 3-3"]
[null,17,"Division 3","Scunthorpe (H) W 2-1",null,null,26,13,34,1,32,4,15,20,6,24,null,null,34,32,3,13,21,null,null,"Scunthorpe (H) W 2-1"]
[null,18,"Division 3","Walsall (A) D 1-1",null,null,27,12,37,1,32,4,15,20,6,24,null,null,36,33,3,15,21,null,null,"Walsall (A) D 1-1"]
[null,19,"Division 3","Exeter (A) L 2-3",null,null,27,13,40,1,35,4,18,20,6,24,null,null,37,35,3,17,21,null,null,"Exeter (A) L 2-3"]
[null,20,"Division 3","Leyton Orient (H) W 4-3",null,null,30,13,43,1,35,4,19,20,6,24,null,null,39,38,3,19,21,null,null,"Leyton Orient (H) W 4-3"]
[null,21,"Division 3","Wimbledon (A) L 3-4",null,null,30,13,43,1,37,4,19,20,9,24,null,null,40,39,3,19,21,null,null,"Wimbledon (A) L 3-4"]
[null,22,"Division 3","Bristol R (H) W 1-0",null,null,33,12,43,1,37,4,19,20,9,24,null,null,41,39,3,19,21,null,null,"Bristol R (H) W 1-0"]
[null,23,"Division 3","Bolton (A) L 0-2",null,null,33,13,46,1,42,4,22,20,12,24,null,null,43,42,3,22,21,null,null,"Bolton (A) L 0-2"]
[null,24,"Division 3","Brentford (H) L 1-2",null,null,33,14,48,1,45,4,22,20,12,24,null,null,47,45,3,22,21,null,null,"Brentford (H) L 1-2"]
[null,25,"Division 3","Bournemouth (A) D 1-1",null,null,34,13,48,1,45,4,23,20,15,24,null,null,48,46,3,22,21,null,null,"Bournemouth (A) D 1-1"]
[null,26,"Division 3","Hull City (H) W 1-0",null,null,37,10,51,1,47,4,23,20,16,24,null,null,51,47,3,22,21,null,null,"Hull City (H) W 1-0"]
[null,27,"Division 3","Sheff Utd (A) L 0-2",null,null,37,13,54,1,48,4,25,20,19,24,null,null,56,50,3,23,21,null,null,"Sheff Utd (A) L 0-2"]
[null,28,"Division 3","Oxford (H) W 2-1",null,null,40,11,57,1,50,4,26,20,20,24,null,null,60,51,3,24,21,null,null,"Oxford (H) W 2-1"]
[null,29,"Division 3","Newport C (A) D 1-1",null,null,41,12,57,1,50,4,26,20,20,24,null,null,61,51,3,25,21,null,null,"Newport C (A) D 1-1"]
[null,30,"Division 3","Gillingham (H) D 2-2",null,null,42,13,57,1,51,4,26,20,22,24,null,null,64,53,3,26,21,null,null,"Gillingham (H) D 2-2"]
[null,31,"Division 3","Preston (A) D 0-0",null,null,43,13,58,1,52,4,26,20,22,24,null,null,65,56,3,26,21,null,null,"Preston (A) D 0-0"]
[null,32,"Division 3","Rotherham (H) W 2-0",null,null,46,12,60,1,57,4,28,20,23,24,null,null,69,57,3,26,21,null,null,"Rotherham (H) W 2-0"]
[null,33,"Division 3","Wigan (A) D 0-0",null,null,47,12,63,1,58,4,28,20,24,24,null,null,71,58,3,27,21,null,null,"Wigan (A) D 0-0"]
[null,34,"Division 3","Bradford (H) D 0-0",null,null,48,13,66,1,60,4,28,20,24,24,null,null,73,61,3,27,21,null,null,"Bradford (H) D 0-0"]
[null,35,"Division 3","Burnley (A) L 0-1",null,null,48,13,69,1,61,4,29,20,24,24,null,null,75,62,3,28,21,null,null,"Burnley (A) L 0-1"]
[null,36,"Division 3","Plymouth (A) W 1-0",null,null,51,11,69,1,61,4,30,20,24,24,null,null,77,62,3,29,21,null,null,"Plymouth (A) W 1-0"]
[null,37,"Division 3","Walsall (H) W 2-0",null,null,54,11,82,1,71,4,36,20,28,24,null,null,90,72,3,35,21,null,null,"Walsall (H) W 2-0"]
[null,38,"Division 3","Southend (H) W 4-0",null,null,57,11,82,1,71,4,39,20,28,24,null,null,93,73,3,36,21,null,null,"Southend (H) W 4-0"]
[null,39,"Division 3","Leyton Orient (A) L 3-5",null,null,57,12,86,1,73,4,39,20,29,24,null,null,95,74,3,39,21,null,null,"Leyton Orient (A) L 3-5"]
[null,40,"Division 3","Wimbledon (H) D 1-1",null,null,58,12,86,1,74,4,40,20,29,24,null,null,96,76,3,39,21,null,null,"Wimbledon (H) D 1-1"]
[null,41,"Division 3","Scunthorpe (A) W 1-0",null,null,61,8,86,1,76,4,40,20,29,24,null,null,99,77,3,39,21,null,null,"Scunthorpe (A) W 1-0"]
[null,42,"Division 3","Lincoln (H) L 0-2",null,null,61,10,87,1,76,4,43,20,32,24,null,null,102,80,3,42,21,null,null,"Lincoln (H) L 0-2"]
[null,43,"Division 3","Bolton (H) W 3-0",null,null,64,9,89,1,79,4,44,20,33,24,null,null,104,80,3,43,21,null,null,"Bolton (H) W 3-0"]
[null,44,"Division 3","Bristol R (A) L 2-3",null,null,64,9,92,1,79,4,45,20,33,24,null,null,106,80,3,45,21,null,null,"Bristol R (A) L 2-3"]
[null,45,"Division 3","Exeter (H) W 3-0",null,null,67,9,95,1,80,4,49,20,33,24,null,null,108,83,3,46,21,null,null,"Exeter (H) W 3-0"]
[null,46,"Division 3","Port Vale (A) L 0-1",null,null,67,9,95,1,80,4,49,20,33,24,null,null,109,83,3,46,21,null,null,"Port Vale (A) L 0-1"]

{"sheet":"Sheet3","index":4,"n_rows":121,"n_cols":57,"rows_kept":121,"cut":false,"hidden":false,"merged":[[105,1,106,1],[80,1,82,1],[81,50,83,50],[85,1,87,1],[85,50,87,50],[89,50,91,50],[90,1,92,1],[93,50,95,50],[95,1,97,1],[97,50,99,50],[100,1,102,1],[101,50,103,50],[65,1,67,1],[65,50,67,50],[69,50,71,50],[70,1,72,1],[73,50,75,50],[75,1,77,1],[77,50,79,50],[60,1,62,1],[61,50,63,50],[33,50,35,50],[35,1,37,1],[37,50,39,50],[40,1,42,1],[41,50,43,50],[45,1,47,1],[45,50,47,50],[49,50,51,50],[50,1,52,1],[53,50,55,50],[55,1,57,1],[57,50,59,50],[20,1,22,1],[21,50,23,50],[25,1,27,1],[25,50,27,50],[29,50,31,50],[30,1,32,1],[5,1,7,1],[5,49,7,51],[9,50,10,50],[11,1,12,1],[13,50,15,50],[15,1,17,1],[17,50,19,50]]}
[]
[null,null,null,null,null,null,null,null,null,null,null,null,null,null,null,null,null,null,null,null,null,null,null,null,null,null,null,null,null,null,null,null,null,null,null,null,null,null,null,null,null,null,null,null,null,null,null,null,null,null,null,null,null,null,null,4,{"$f":"COUNT(D115:AW115)+3","v":49}]
[]
[]
[null,null,"Points"]
[null,100,null,null,null,null,null,null,null,null,null,null,null,null,null,null,null,null,null,null,null,null,null,null,null,null,null,null,null,null,null,null,null,null,null,null,null,null,null,null,null,null,null,null,null,null,null,null,null,"Position"]
[]
[]
[]
[null,null,null,null,null,null,null,null,null,null,null,null,null,null,null,null,null,null,null,null,null,null,null,null,null,null,null,null,null,null,null,null,null,null,null,null,null,null,null,null,null,null,null,null,null,null,null,null,null,null,1]
[]
[null,95]
[]
[null,null,null,null,null,null,null,null,null,null,null,null,null,null,null,null,null,null,null,null,null,null,null,null,null,null,null,null,null,null,null,null,null,null,null,null,null,null,null,null,null,null,null,null,null,null,null,null,null,null,2]
[]
[null,90]
[]
[null,null,null,null,null,null,null,null,null,null,null,null,null,null,null,null,null,null,null,null,null,null,null,null,null,null,null,null,null,null,null,null,null,null,null,null,null,null,null,null,null,null,null,null,null,null,null,null,null,null,3]
[]
[]
[null,85]
[null,null,null,null,null,null,null,null,null,null,null,null,null,null,null,null,null,null,null,null,null,null,null,null,null,null,null,null,null,null,null,null,null,null,null,null,null,null,null,null,null,null,null,null,null,null,null,null,null,null,4]
[]
[]
[]
[null,80,null,null,null,null,null,null,null,null,null,null,null,null,null,null,null,null,null,null,null,null,null,null,null,null,null,null,null,null,null,null,null,null,null,null,null,null,null,null,null,null,null,null,null,null,null,null,null,null,5]
[]
[]
[]
[null,null,null,null,null,null,null,null,null,null,null,null,null,null,null,null,null,null,null,null,null,null,null,null,null,null,null,null,null,null,null,null,null,null,null,null,null,null,null,null,null,null,null,null,null,null,null,null,null,null,6]
[null,75]
[]
[]
[null,null,null,null,null,null,null,null,null,null,null,null,null,null,null,null,null,null,null,null,null,null,null,null,null,null,null,null,null,null,null,null,null,null,null,null,null,null,null,null,null,null,null,null,null,null,null,null,null,null,7]
[]
[null,70]
[]
[null,null,null,null,null,null,null,null,null,null,null,null,null,null,null,null,null,null,null,null,null,null,null,null,null,null,null,null,null,null,null,null,null,null,null,null,null,null,null,null,null,null,null,null,null,null,null,null,null,null,8]
[]
[]
[null,65]
[null,null,null,null,null,null,null,null,null,null,null,null,null,null,null,null,null,null,null,null,null,null,null,null,null,null,null,null,null,null,null,null,null,null,null,null,null,null,null,null,null,null,null,null,null,null,null,null,null,null,9]
[]
[]
[]
[null,60,null,null,null,null,null,null,null,null,null,null,null,null,null,null,null,null,null,null,null,null,null,null,null,null,null,null,null,null,null,null,null,null,null,null,null,null,null,null,null,null,null,null,null,null,null,null,null,null,10]
[]
[]
[]
[null,null,null,null,null,null,null,null,null,null,null,null,null,null,null,null,null,null,null,null,null,null,null,null,null,null,null,null,null,null,null,null,null,null,null,null,null,null,null,null,null,null,null,null,null,null,null,null,null,null,11]
[null,55]
[]
[]
[null,null,null,null,null,null,null,null,null,null,null,null,null,null,null,null,null,null,null,null,null,null,null,null,null,null,null,null,null,null,null,null,null,null,null,null,null,null,null,null,null,null,null,null,null,null,null,null,null,null,12]
[]
[null,50]
[]
[null,null,null,null,null,null,null,null,null,null,null,null,null,null,null,null,null,null,null,null,null,null,null,null,null,null,null,null,null,null,null,null,null,null,null,null,null,null,null,null,null,null,null,null,null,null,null,null,null,null,13]
[]
[]
[null,45]
[null,null,null,null,null,null,null,null,null,null,null,null,null,null,null,null,null,null,null,null,null,null,null,null,null,null,null,null,null,null,null,null,null,null,null,null,null,null,null,null,null,null,null,null,null,null,null,null,null,null,14]
[]
[]
[]
[null,40,null,null,null,null,null,null,null,null,null,null,null,null,null,null,null,null,null,null,null,null,null,null,null,null,null,null,null,null,null,null,null,null,null,null,null,null,null,null,null,null,null,null,null,null,null,null,null,null,15]
[]
[]
[]
[null,null,null,null,null,null,null,null,null,null,null,null,null,null,null,null,null,null,null,null,null,null,null,null,null,null,null,null,null,null,null,null,null,null,null,null,null,null,null,null,null,null,null,null,null,null,null,null,null,null,16]
[null,35]
[]
[]
[null,null,null,null,null,null,null,null,null,null,null,null,null,null,null,null,null,null,null,null,null,null,null,null,null,null,null,null,null,null,null,null,null,null,null,null,null,null,null,null,null,null,null,null,null,null,null,null,null,null,17]
[]
[null,30]
[]
[null,null,null,null,null,null,null,null,null,null,null,null,null,null,null,null,null,null,null,null,null,null,null,null,null,null,null,null,null,null,null,null,null,null,null,null,null,null,null,null,null,null,null,null,null,null,null,null,null,null,18]
[]
[]
[null,25]
[null,null,null,null,null,null,null,null,null,null,null,null,null,null,null,null,null,null,null,null,null,null,null,null,null,null,null,null,null,null,null,null,null,null,null,null,null,null,null,null,null,null,null,null,null,null,null,null,null,null,19]
[]
[]
[]
[null,20,null,null,null,null,null,null,null,null,null,null,null,null,null,null,null,null,null,null,null,null,null,null,null,null,null,null,null,null,null,null,null,null,null,null,null,null,null,null,null,null,null,null,null,null,null,null,null,null,20]
[]
[]
[]
[null,null,null,null,null,null,null,null,null,null,null,null,null,null,null,null,null,null,null,null,null,null,null,null,null,null,null,null,null,null,null,null,null,null,null,null,null,null,null,null,null,null,null,null,null,null,null,null,null,null,21]
[null,15]
[]
[]
[null,null,null,null,null,null,null,null,null,null,null,null,null,null,null,null,null,null,null,null,null,null,null,null,null,null,null,null,null,null,null,null,null,null,null,null,null,null,null,null,null,null,null,null,null,null,null,null,null,null,22]
[]
[null,10]
[]
[null,null,null,null,null,null,null,null,null,null,null,null,null,null,null,null,null,null,null,null,null,null,null,null,null,null,null,null,null,null,null,null,null,null,null,null,null,null,null,null,null,null,null,null,null,null,null,null,null,null,23]
[]
[]
[null,5]
[null,null,null,null,null,null,null,null,null,null,null,null,null,null,null,null,null,null,null,null,null,null,null,null,null,null,null,null,null,null,null,null,null,null,null,null,null,null,null,null,null,null,null,null,null,null,null,null,null,null,24]
[]
[]
[]
[null,0]
[]
[]
[null,null,null,{"$f":"#REF!","v":{"$error":"#REF!"}},{"$f":"#REF!","v":{"$error":"#REF!"}},{"$f":"#REF!","v":{"$error":"#REF!"}},{"$f":"#REF!","v":{"$error":"#REF!"}},{"$f":"#REF!","v":{"$error":"#REF!"}},{"$f":"#REF!","v":{"$error":"#REF!"}},{"$f":"#REF!","v":{"$error":"#REF!"}},{"$f":"#REF!","v":{"$error":"#REF!"}},{"$f":"#REF!","v":{"$error":"#REF!"}},{"$f":"#REF!","v":{"$error":"#REF!"}},{"$f":"#REF!","v":{"$error":"#REF!"}},{"$f":"#REF!","v":{"$error":"#REF!"}},{"$f":"#REF!","v":{"$error":"#REF!"}},{"$f":"#REF!","v":{"$error":"#REF!"}},{"$f":"#REF!","v":{"$error":"#REF!"}},{"$f":"#REF!","v":{"$error":"#REF!"}},{"$f":"#REF!","v":{"$error":"#REF!"}},{"$f":"#REF!","v":{"$error":"#REF!"}},{"$f":"#REF!","v":{"$error":"#REF!"}},{"$f":"#REF!","v":{"$error":"#REF!"}},{"$f":"#REF!","v":{"$error":"#REF!"}},{"$f":"#REF!","v":{"$error":"#REF!"}},{"$f":"#REF!","v":{"$error":"#REF!"}},{"$f":"#REF!","v":{"$error":"#REF!"}},{"$f":"#REF!","v":{"$error":"#REF!"}},{"$f":"#REF!","v":{"$error":"#REF!"}},{"$f":"#REF!","v":{"$error":"#REF!"}},{"$f":"#REF!","v":{"$error":"#REF!"}},{"$f":"#REF!","v":{"$error":"#REF!"}},{"$f":"#REF!","v":{"$error":"#REF!"}},{"$f":"#REF!","v":{"$error":"#REF!"}},{"$f":"#REF!","v":{"$error":"#REF!"}},{"$f":"#REF!","v":{"$error":"#REF!"}},{"$f":"#REF!","v":{"$error":"#REF!"}},{"$f":"#REF!","v":{"$error":"#REF!"}},{"$f":"#REF!","v":{"$error":"#REF!"}},{"$f":"#REF!","v":{"$error":"#REF!"}},{"$f":"#REF!","v":{"$error":"#REF!"}},{"$f":"#REF!","v":{"$error":"#REF!"}},{"$f":"#REF!","v":{"$error":"#REF!"}},{"$f":"#REF!","v":{"$error":"#REF!"}},{"$f":"#REF!","v":{"$error":"#REF!"}},{"$f":"#REF!","v":{"$error":"#REF!"}},{"$f":"#REF!","v":{"$error":"#REF!"}},{"$f":"#REF!","v":{"$error":"#REF!"}},{"$f":"#REF!","v":{"$error":"#REF!"}}]
[]
[]
[]
[]
[]
[null,"Millwall",null,{"$f":"Sheet2!$G$6","v":1},{"$f":"Sheet2!$G$7","v":4},{"$f":"Sheet2!$G$8","v":7},{"$f":"Sheet2!$G$9","v":7},{"$f":"Sheet2!$G$10","v":10},{"$f":"Sheet2!$G$11","v":10},{"$f":"Sheet2!$G$12","v":10},{"$f":"Sheet2!$G$13","v":10},{"$f":"Sheet2!$G$14","v":13},{"$f":"Sheet2!$G$15","v":14},{"$f":"Sheet2!$G$16","v":14},{"$f":"Sheet2!$G$17","v":17},{"$f":"Sheet2!$G$18","v":18},{"$f":"Sheet2!$G$19","v":19},{"$f":"Sheet2!$G$20","v":22},{"$f":"Sheet2!$G$21","v":23},{"$f":"Sheet2!$G$22","v":26},{"$f":"Sheet2!$G$23","v":27},{"$f":"Sheet2!$G$24","v":27},{"$f":"Sheet2!$G$25","v":30},{"$f":"Sheet2!$G$26","v":30},{"$f":"Sheet2!$G$27","v":33},{"$f":"Sheet2!$G$28","v":33},{"$f":"Sheet2!$G$29","v":33},{"$f":"Sheet2!$G$30","v":34},{"$f":"Sheet2!$G$31","v":37},{"$f":"Sheet2!$G$32","v":37},{"$f":"Sheet2!$G$33","v":40},{"$f":"Sheet2!$G$34","v":41},{"$f":"Sheet2!$G$35","v":42},{"$f":"Sheet2!$G$36","v":43},{"$f":"Sheet2!$G$37","v":46},{"$f":"Sheet2!$G$38","v":47},{"$f":"Sheet2!$G$39","v":48},{"$f":"Sheet2!$G$40","v":48},{"$f":"Sheet2!$G$41","v":51},{"$f":"Sheet2!$G$42","v":54},{"$f":"Sheet2!$G$43","v":57},{"$f":"Sheet2!$G$44","v":57},{"$f":"Sheet2!$G$45","v":58},{"$f":"Sheet2!$G$46","v":61},{"$f":"Sheet2!$G$47","v":61},{"$f":"Sheet2!$G$48","v":64},{"$f":"Sheet2!$G$49","v":64},{"$f":"Sheet2!$G$50","v":67},{"$f":"Sheet2!$G$51","v":67}]
[]
[null,"Position",null,{"$f":"100-(D121*4)","v":60},64,84,60,72,72,64,40,64,56,44,60,40,48,52,52,48,52,48,48,48,52,48,44,48,60,48,56,52,48,48,52,52,48,48,56,56,56,52,52,68,60,64,64,64,64]
[]
[]
[]
[null,null,null,{"$f":"Sheet2!$H$6","v":10},{"$f":"Sheet2!$H$7","v":9},{"$f":"Sheet2!$H$8","v":4},{"$f":"Sheet2!$H$9","v":10},{"$f":"Sheet2!$H$10","v":7},{"$f":"Sheet2!$H$11","v":7},{"$f":"Sheet2!$H$12","v":9},{"$f":"Sheet2!$H$13","v":15},{"$f":"Sheet2!$H$14","v":9},{"$f":"Sheet2!$H$15","v":11},{"$f":"Sheet2!$H$16","v":14},{"$f":"Sheet2!$H$17","v":10},{"$f":"Sheet2!$H$18","v":15},{"$f":"Sheet2!$H$19","v":13},{"$f":"Sheet2!$H$20","v":12},{"$f":"Sheet2!$H$21","v":12},{"$f":"Sheet2!$H$22","v":13},{"$f":"Sheet2!$H$23","v":12},{"$f":"Sheet2!$H$24","v":13},{"$f":"Sheet2!$H$25","v":13},{"$f":"Sheet2!$H$26","v":13},{"$f":"Sheet2!$H$27","v":12},{"$f":"Sheet2!$H$28","v":13},{"$f":"Sheet2!$H$29","v":14},{"$f":"Sheet2!$H$30","v":13},{"$f":"Sheet2!$H$31","v":10},{"$f":"Sheet2!$H$32","v":13},{"$f":"Sheet2!$H$33","v":11},{"$f":"Sheet2!$H$34","v":12},{"$f":"Sheet2!$H$35","v":13},{"$f":"Sheet2!$H$36","v":13},{"$f":"Sheet2!$H$37","v":12},{"$f":"Sheet2!$H$38","v":12},{"$f":"Sheet2!$H$39","v":13},{"$f":"Sheet2!$H$40","v":13},{"$f":"Sheet2!$H$41","v":11},{"$f":"Sheet2!$H$42","v":11},{"$f":"Sheet2!$H$43","v":11},{"$f":"Sheet2!$H$44","v":12},{"$f":"Sheet2!$H$45","v":12},{"$f":"Sheet2!$H$46","v":8},{"$f":"Sheet2!$H$47","v":10},{"$f":"Sheet2!$H$48","v":9},{"$f":"Sheet2!$H$49","v":9},{"$f":"Sheet2!$H$50","v":9},{"$f":"Sheet2!$H$51","v":9}]