{"text_format":"1","workbook":"xlsx","n_sheets":5,"sheets":["Millwall","Comparisons","Sheet1","Sheet2","Sheet3"],"not_rendered":{"charts":1,"images":2,"macros":1,"external_links":5,"defined_names":12,"comments":0,"pivot_tables":0},"unopened":[],"bounds":{"document_bytes":16777216,"sheet_cells":100000,"rows_first":2000,"rows_last":500,"rows_between":2000,"halvings":0,"cell_chars":16384,"cell_head_chars":4096},"cells_cut":0,"cells_raw":0,"read":"whole","date_system":"1900"}

{"sheet":"Millwall","index":0,"n_rows":147,"n_cols":147,"rows_kept":147,"cut":false,"hidden":false,"merged":[[2,146,2,158],[69,68,69,70],[69,72,69,74],[69,76,69,78],[50,84,50,86],[54,62,54,96],[50,79,50,81],[2,79,2,82],[2,67,2,70],[2,71,2,74],[4,65,4,66],[50,67,50,69],[50,71,50,73],[50,75,50,77],[2,76,2,78]]}
[null,null,1,"Competition","Date",null,"Us & Them","Opponents",null,null,null,"Score","HT",null,null,null,null,null,null,null,null,null,null,"Att",null,"Pts","Pos","Goal Scorers"]
[]
[null,null,null,null,null,null,null,null,null,null,null,null,null,null,null,null,null,null,null,null,null,null,null,null,null,null,null,null,null,null,null,null,null,null,null,null,null,null,null,null,null,null,null,null,null,null,null,null,null,null,null,null,null,null,null,null,"Check with Complete History 2010",null,null,null,null,null,null,null,null,null,null,"All",null,null,null,"Division Two",null,null,null,null,"FA Cup",null,null,"League Cup",null,null,null,null,null,null,null,null,null,null,null,null,null,null,null,null,null,null,null,null,null,null,null,null,null,null,null,null,null,null,null,null,null,null,null,null,null,null,null,null,null,null,null,null,null,null,null,null,null,null,null,null,null,null,null,null,null,null,null,null,null,null,null,null,null,null,"Millwall Progress Season 1970/71"]
[null,null,"Game","Competition","Date",null,"Us & Them","Opponents",null,null,null,"Score","HT",null,null,null,null,null,null,null,null,null,null,"Att","Away","Pts","Pos","Goal Scorers",null,null,null,null,"Game","Competition","Date",null,"Opponents",null,null,null,"Score",1,2,3,4,5,6,7,8,9,10,11,12,null,null,null,null,null,null,null,null,null,null,null,null,null,null,null,{"$f":"BP51","v":"Max (46)"},null,null,null,{"$f":"BT51","v":"Max (42)"},null,null,null,{"$f":"BX51","v":"Max (1)"},null,null,null,{"$f":"CB51","v":"Max (3)"},null,null,null,null,null,null,null,null,null,null,null,null,null,null,null,null,1,2,3,4,5,6,7,8,9,10,11,null,11,12,13,14,15,16,17,18,null,null,null,null,null,null,null,null,null,null,null,null,null,null,null,null,null,null,null,null,null,null,"Opposition","Pts","Pos"]
[1,null,1,"Division 2","1970-08-15",null,"- -","Oxford","(H)",null,null,"L 1-2","1-1",null,null,null,null,null,null,null,null,null,null,9895,null,0,18,"Bolland",null,null,1,null,1,{"$f":"D5","v":"Division 2"},{"$f":"E5","v":"1970-08-15"},null,{"$f":"H5","v":"Oxford"},{"$f":"I5","v":"(H)"},null,null,{"$f":"L5","v":"L 1-2"},"King","B Brown","Cripps","Dorney","Kitchener","Burnett","Possee","Jacks","Bolland","Dunphy","Allder",null,null,null,null,null,null,null,null,null,null,null,null,null,"Player      ",null,"Apps","Sub","Nps","Goals","Apps","Sub","Nps","Goals","Apps","Sub","Nps","Goals","Apps","Sub","Nps","Goals",null,null,null,null,null,null,null,null,null,null,null,null,null,null,"King","B Brown","Cripps","Dorney","Kitchener","Burnett","S Brown","Dunphy","Bolland","Possee","Allder",null,null,null,null,null,null,null,null,null,null,null,null,null,null,null,null,null,null,null,null,null,null,null,null,null,null,null,null,null,null,null,"Oxford (H) L 1-2",0,18]
[{"$f":"IF(A5=0,1,IF(A5=2,1,2))","v":2},null,2,"Division 2","1970-08-22",null,"18th v 2nd","Cardiff","(A)",null,null,"D 2-2","0-1",null,null,null,null,null,null,null,null,null,null,25299,null,1,16,"Possee, Cripps",null,null,{"$f":"IF(AE5=0,1,IF(AE5=2,1,2))","v":2},null,2,{"$f":"D6","v":"Division 2"},{"$f":"E6","v":"1970-08-22"},null,{"$f":"H6","v":"Cardiff"},{"$f":"I6","v":"(A)"},null,null,{"$f":"L6","v":"D 2-2"},"King","B Brown","Cripps","Dorney","Kitchener","Burnett","Possee","Jacks ()","Bolland","Dunphy","Allder","S Brown ()",null,null,null,"Apps","Sub","Apps","Sub","Apps","Sub",null,null,null,null,null,null,null,null,null,null,null,null,null,null,null,null,null,null,null,null,null,null,null,null,null,null,null,null,null,null,null,null,null,null,null,null,null,null,null,null,null,null,null,null,null,null,null,null,null,null,null,null,null,null,null,null,null,null,null,null,null,null,null,null,null,null,null,null,null,null,null,null,null,null,null,null,null,"Cardiff (A) D 2-2",1,16]
[1,null,3,"Division 2","1970-08-29",null,"16th v 4th","Portsmouth","(H)",null,null,"D 0-0","0-0",null,null,null,null,null,null,null,null,null,null,8908,null,2,14,null,null,null,{"$f":"IF(AE6=0,1,IF(AE6=2,1,2))","v":1},null,3,"Division 2","1970-08-29",null,"Portsmouth","(H)",null,null,"D 0-0","King","B Brown","Cripps","Dorney","Kitchener","Burnett","Possee","Jacks","Bolland ()","Dunphy","Allder","S Brown ()",null,null,{"$f":"IF(BE7=BT7,IF(BF7=BU7,IF(BG7=BX7,IF(BH7=BY7,IF(BI7=CB7,IF(BJ7=CC7,\"OK\",\"Error\"),\"Error\"),\"Error\"),\"Error\"),\"Error\"),\"Error\")","v":"OK"},38,0,1,0,3,0,null,1,null,{"$f":"CM7&\" \"&CN7","v":"Doug Allder"},null,{"$f":"BT7+BX7+CB7+CF7","v":42},{"$f":"BU7+BY7+CC7+CG7","v":0},{"$f":"BV7+BZ7+CD7+CH7","v":0},{"$f":"BW7+CA7+CE7+CI7","v":3},{"$f":"BQ72","v":38},{"$f":"BR72","v":0},{"$f":"BS72","v":0},{"$f":"BT72","v":3},{"$f":"BY72","v":1},{"$f":"BZ72","v":0},{"$f":"CA72","v":0},{"$f":"CB72","v":0},{"$f":"BU72","v":3},{"$f":"BV72","v":0},{"$f":"BW72","v":0},{"$f":"BX72","v":0},null,null,null,null,null,null,{"$f":"CL72","v":72},"Doug","Allder",1,7,null,"Allder",null,"King","B Brown","Cripps","Dorney","Kitchener","Burnett","S Brown","Dunphy","Bolland","Possee","Allder",null,null,null,null,null,null,null,null,null,null,null,null,null,null,null,null,null,null,null,null,null,null,null,null,null,null,null,null,null,null,null,"Portsmouth (H) D 0-0",2,14]
[2,null,4,"Division 2","1970-09-02",null,"17th v 9th","Norwich","(A)",null,null,"L 0-1","0-1",null,null,null,null,null,null,null,null,null,null,15360,null,2,20,null,null,null,2,null,4,"Division 2","1970-09-02",null,"Norwich","(A)",null,null,"L 0-1","King","B Brown","Cripps","Dorney","Kitchener","Burnett","Possee","Jacks ()","Bolland","Dunphy","Allder","S Brown ()",null,null,{"$f":"IF(BE8=BT8,IF(BF8=BU8,IF(BG8=BX8,IF(BH8=BY8,IF(BI8=CB8,IF(BJ8=CC8,\"OK\",\"Error\"),\"Error\"),\"Error\"),\"Error\"),\"Error\"),\"Error\")","v":"OK"},42,0,1,0,3,0,null,{"$f":"IF(BL7=0,1,IF(BL7=2,1,2))","v":2},null,"Gordon Bolland",null,46,0,0,5,{"$f":"BQ73","v":42},0,0,4,{"$f":"BY73","v":1},0,0,0,{"$f":"BU73","v":3},0,0,1,null,null,null,null,null,null,73,"Gordon","Bolland",2,8,null,"Bolland",null,null,null,null,null,null,null,null,null,null,null,null,null,null,null,null,null,null,null,null,null,null,null,null,null,null,null,null,null,null,null,null,null,null,null,null,null,null,null,null,null,null,null,"Norwich (A) L 0-1",2,20]
[1,null,5,"Division 2","1970-09-05",null,"20th v 22nd","Charlton","(A)",null,null,"W 3-1","1-0",null,null,null,null,null,null,null,null,null,null,15867,null,4,16,"Possee (3)",null,null,1,null,5,"Division 2","1970-09-05",null,"Charlton","(A)",null,null,"W 3-1","King","B Brown","Cripps","Jacks","Kitchener","Burnett","Possee","Neil","Bolland","Dunphy","Allder",null,null,null,"OK",35,0,1,0,0,0,null,1,null,"Barry Bridges",null,36,0,0,15,{"$f":"BQ74","v":35},0,0,15,{"$f":"BY74","v":1},0,0,0,{"$f":"BU74","v":0},0,0,0,null,null,null,null,null,null,74,"Barry","Bridges",3,9,null,"Bridges",null,null,null,null,null,null,null,null,null,null,null,null,null,null,null,null,null,null,null,null,null,null,null,null,null,null,null,null,null,null,null,null,null,null,null,null,null,null,null,null,null,null,null,"Charlton (A) W 3-1",4,16]
[2,null,6,"League Cup 2","1970-09-09",null,"- -","Stoke City","(A)",null,null,"D 0-0","0-0",null,null,null,null,null,null,null,null,null,null,10230,null,"-","-",null,null,null,2,null,6,"League Cup 2","1970-09-09",null,"Stoke City","(A)",null,null,"D 0-0","King","B Brown","Cripps","Dorney","Kitchener","Burnett","S Brown","Jacks","Bolland","Dunphy","Allder",null,null,null,"OK",42,0,1,0,3,0,null,2,null,"Brian Brown",null,46,0,0,2,{"$f":"BQ75","v":42},0,0,2,{"$f":"BY75","v":1},0,0,0,{"$f":"BU75","v":3},0,0,0,null,null,null,null,null,null,75,"Brian","Brown",4,10,null,"B Brown",null,null,null,null,null,null,null,null,null,null,null,null,null,null,null,null,null,null,null,null,null,null,null,null,null,null,null,null,null,null,null,null,null,null,null,null,null,null,null,null,null,null,null,"Sheff Utd (H) L 1-2",4,20]
[1,null,7,"Division 2","1970-09-14",null,"19th v 21st","Sheff Utd","(H)",null,null,"L 1-2","0-2",null,null,null,null,null,null,null,null,null,null,5363,null,4,20,"Possee",null,null,1,null,7,"Division 2","1970-09-14",null,"Sheff Utd","(H)",null,null,"L 1-2","King","B Brown","Cripps","Dorney","Kitchener","Burnett","Possee","Jacks ()","Bolland","Dunphy","Allder","S Brown ()",null,null,"OK",1,13,0,0,3,0,null,1,null,"Steve Brown",null,4,13,0,1,{"$f":"BQ76","v":1},13,0,1,{"$f":"BY76","v":0},0,0,0,{"$f":"BU76","v":3},0,0,0,null,null,null,null,null,null,76,"Steve","Brown",5,11,null,"S Brown",null,null,null,null,null,null,null,null,null,null,null,null,null,null,null,null,null,null,null,null,null,null,null,null,null,null,null,null,null,null,null,null,null,null,null,null,null,null,null,null,null,null,null,"Hull (A) L 0-2",4,21]
[2,null,8,"Division 2","1970-09-19",null,"20th v 3rd","Hull","(A)",null,null,"L 0-2","0-0",null,null,null,null,null,null,null,null,null,null,15593,null,4,21,null,null,null,2,null,8,"Division 2","1970-09-19",null,"Hull","(A)",null,null,"L 0-2","King","B Brown","Cripps","Dorney","Kitchener","Burnett","Possee","Jacks","Bolland","Dunphy ()","Allder","S Brown ()",null,null,"OK",40,0,1,0,3,0,null,2,null,"Dennis Burnett",null,44,0,0,1,{"$f":"BQ77","v":40},0,0,1,{"$f":"BY77","v":1},0,0,0,{"$f":"BU77","v":3},0,0,0,null,null,null,null,null,null,77,"Dennis","Burnett",6,12,null,"Burnett",null,null,null,null,null,null,null,null,null,null,null,null,null,null,null,null,null,null,null,null,null,null,null,null,null,null,null,null,null,null,null,null,null,null,null,null,null,null,null,null,null,null,null,"Sunderland (H) D 0-0",5,21]
[1,null,9,"League Cup 2 R","1970-09-21",null,"- -","Stoke City","(H)",null,null,"W 2-1","0-0",null,null,null,null,null,null,null,null,null,null,12789,null,"-","-","Possee, Allder",null,null,1,null,9,"League Cup 2 R","1970-09-21",null,"Stoke City","(H)",null,null,"W 2-1","King","B Brown","Cripps","Dorney","Kitchener","Burnett","S Brown","Dunphy","Bolland","Possee","Allder",null,null,null,"OK",2,1,0,0,0,0,null,1,null,"David Coxhill",null,2,1,0,0,{"$f":"BQ78","v":2},1,0,0,{"$f":"BY78","v":0},0,0,0,{"$f":"BU78","v":0},0,0,0,null,null,null,null,null,null,78,"David","Coxhill",7,13,null,"Coxhill",null,null,null,null,null,null,null,null,null,null,null,null,null,null,null,null,null,null,null,null,null,null,null,null,null,null,null,null,null,null,null,null,null,null,null,null,null,null,null,null,null,null,null,"Swindon (A) L 0-3",5,21]
[2,null,10,"Division 2","1970-09-26",null,"21st v 10th","Sunderland","(H)",null,null,"D 0-0","0-0",null,null,null,null,null,null,null,null,null,null,12196,null,5,21,null,null,null,2,null,10,"Division 2","1970-09-26",null,"Sunderland","(H)",null,null,"D 0-0","King","B Brown","Cripps","Dorney","Kitchener","Burnett","Bridges","Dunphy","Bolland","Possee","Allder",null,null,null,"OK",42,0,1,0,3,0,null,2,null,"Harry Cripps",null,46,0,0,10,{"$f":"BQ79","v":42},0,0,10,{"$f":"BY79","v":1},0,0,0,{"$f":"BU79","v":3},0,0,0,null,null,null,null,null,null,79,"Harry","Cripps",8,14,null,"Cripps",null,null,null,null,null,null,null,null,null,null,null,null,null,null,null,null,null,null,null,null,null,null,null,null,null,null,null,null,null,null,null,null,null,null,null,null,null,null,null,null,null,null,null,"Carlisle (A) L 0-3",5,21]
[1,null,11,"Division 2","1970-09-29",null,"21st v 17th","Swindon","(A)",null,null,"L 0-3","0-1",null,null,null,null,null,null,null,null,null,null,14389,null,5,21,null,null,null,1,null,11,"Division 2","1970-09-29",null,"Swindon","(A)",null,null,"L 0-3","King","B Brown","Cripps","Dorney","Kitchener","Burnett","Bridges","Dunphy","Bolland","Possee","Allder ()","S Brown ()",null,null,"OK",39,0,1,0,3,0,null,1,null,"Alan Dorney",null,43,0,0,0,{"$f":"BQ80","v":39},0,0,0,{"$f":"BY80","v":1},0,0,0,{"$f":"BU80","v":3},0,0,0,null,null,null,null,null,null,80,"Alan","Dorney",9,15,null,"Dorney",null,null,null,null,null,null,null,null,null,null,null,null,null,null,null,null,null,null,null,null,null,null,null,null,null,null,null,null,null,null,null,null,null,null,null,null,null,null,null,null,null,null,null,"Blackburn (H) W 2-0",7,21]
[2,null,12,"Division 2","1970-10-02",null,"21st v 14th","Carlisle","(A)",null,null,"L 0-3","0-2",null,null,null,null,null,null,null,null,null,null,8424,null,5,21,null,null,null,2,null,12,"Division 2","1970-10-02",null,"Carlisle","(A)",null,null,"L 0-3","King","B Brown","Cripps","Dorney","Kitchener","Burnett","Bridges","Dunphy","Bolland ()","Possee","Allder","S Brown ()",null,null,"OK",39,1,1,0,3,0,null,2,null,"Eamon Dunphy",null,43,1,0,3,{"$f":"BQ81","v":39},1,0,3,{"$f":"BY81","v":1},0,0,0,{"$f":"BU81","v":3},0,0,0,null,null,null,null,null,null,81,"Eamon","Dunphy",10,16,null,"Dunphy",null,null,null,null,null,null,null,null,null,null,null,null,null,null,null,null,null,null,null,null,null,null,null,null,null,null,null,null,null,null,null,null,null,null,null,null,null,null,null,null,null,null,null,"Oxford (A) W 3-2",9,20]
[1,null,13,"League Cup 3","1970-10-07",null,"- -","Derby Co","(A)",null,null,"L 2-4","2-2",null,null,null,null,null,null,null,null,null,null,25537,null,"-","-","Possee, Bolland",null,null,1,null,13,"League Cup 3","1970-10-07",null,"Derby Co","(A)",null,null,"L 2-4","King","B Brown","Cripps","Dorney","Kitchener","Burnett","S Brown","Dunphy","Bolland","Possee","Allder",null,null,null,"OK",2,0,0,0,0,0,null,1,null,"Alan Garner",null,{"$f":"BT17+BX17+CB17+CF17","v":2},0,0,0,{"$f":"BQ82","v":2},0,0,0,{"$f":"BY82","v":0},0,0,0,{"$f":"BU82","v":0},0,0,0,null,null,null,null,null,null,89,"Alan","Garner",11,17,null,"Garner",null,null,null,null,null,null,null,null,null,null,null,null,null,null,null,null,null,null,null,null,null,null,null,null,null,null,null,null,null,null,null,null,null,null,null,null,null,null,null,null,null,null,null,"Watford (H) W 3-0",11,14]
[2,null,14,"Division 2","1970-10-10",null,"22nd v 19th","Blackburn","(H)",null,null,"W 2-0","1-0",null,null,null,null,null,null,null,null,null,null,8280,null,7,21,"Own Goal, Bridges",null,null,2,null,14,"Division 2","1970-10-10",null,"Blackburn","(H)",null,null,"W 2-0","King","B Brown","Cripps","Garner","Kitchener","Burnett","Bridges","Dunphy","Bolland","Possee","Allder",null,null,null,"OK",0,1,0,0,0,0,null,2,null,"Billy Holmes",null,0,1,0,0,{"$f":"BQ83","v":0},1,0,0,{"$f":"BY83","v":0},0,0,0,{"$f":"BU83","v":0},0,0,0,null,null,null,null,null,null,90,"Billy","Holmes",12,18,null,"Holmes",null,null,null,null,null,null,null,null,null,null,null,null,null,null,null,null,null,null,null,null,null,null,null,null,null,null,null,null,null,null,null,null,null,null,null,null,null,null,null,null,null,null,null,"Leyton Orient (A) D 0-0",12,15]
[1,null,15,"Division 2","1970-10-17",null,"21st v 3rd","Oxford","(A)",null,null,"W 3-2","1-1",null,null,null,null,null,null,null,null,null,null,13715,null,9,20,"Possee, Cripps (pen) Bridges",null,null,1,null,15,"Division 2","1970-10-17",null,"Oxford","(A)",null,null,"W 3-2","King","B Brown","Cripps","Dorney","Kitchener","Burnett","Bridges","Dunphy","Bolland","Possee","Allder",null,null,null,"OK",10,0,0,0,1,0,null,1,null,"George Jacks",null,11,0,0,0,{"$f":"BQ84","v":10},0,0,0,{"$f":"BY84","v":0},0,0,0,{"$f":"BU84","v":1},0,0,0,null,null,null,null,null,null,88,"George","Jacks",13,19,null,"Jacks",null,null,null,null,null,null,null,null,null,null,null,null,null,null,null,null,null,null,null,null,null,null,null,null,null,null,null,null,null,null,null,null,null,null,null,null,null,null,null,null,null,null,null,"QPR (H) W 3-0",14,12]
[2,null,16,"Division 2","1970-10-19",null,"20th v 13th","Watford","(H)",null,null,"W 3-0","1-0",null,null,null,null,null,null,null,null,null,null,11988,null,11,14,"Dunphy, Possee, Bridges",null,null,2,null,16,"Division 2","1970-10-19",null,"Watford","(H)",null,null,"W 3-0","King","B Brown","Cripps","Dorney","Kitchener","Burnett","Bridges","Dunphy","Bolland","Possee","Allder",null,null,null,"OK",42,0,1,0,3,0,null,2,null,"Bryan King",null,46,0,0,0,{"$f":"BQ85","v":42},0,0,0,{"$f":"BY85","v":1},0,0,0,{"$f":"BU85","v":3},0,0,0,null,null,null,null,null,null,82,"Bryan","King",14,20,null,"King",null,null,null,null,null,null,null,null,null,null,null,null,null,null,null,null,null,null,null,null,null,null,null,null,null,null,null,null,null,null,null,null,null,null,null,null,null,null,null,null,null,null,null,"Sheff Wed (A) L 0-1",14,15]
[1,null,17,"Division 2","1970-10-24",null,"15th v 18th","Leyton Orient","(A)",null,null,"D 0-0","0-0",null,null,null,null,null,null,null,null,null,null,14282,null,12,15,null,null,null,1,null,17,"Division 2","1970-10-24",null,"Leyton Orient","(A)",null,null,"D 0-0","King","B Brown","Cripps","Dorney","Kitchener","Burnett","Bridges","Dunphy","Bolland","Possee","Allder",null,null,null,"OK",42,0,1,0,3,0,null,1,null,"Barry Kitchener",null,46,0,0,3,{"$f":"BQ86","v":42},0,0,3,{"$f":"BY86","v":1},0,0,0,{"$f":"BU86","v":3},0,0,0,null,null,null,null,null,null,83,"Barry","Kitchener",15,21,null,"Kitchener",null,null,null,null,null,null,null,null,null,null,null,null,null,null,null,null,null,null,null,null,null,null,null,null,null,null,null,null,null,null,null,null,null,null,null,null,null,null,null,null,null,null,null,"Bolton (H) W 2-0",16,13]
[2,null,18,"Division 2","1970-10-31",null,"15th v 9th","QPR","(H)",null,null,"W 3-0","2-0",null,null,null,null,null,null,null,null,null,null,16012,null,14,12,"Cripps, Bridges, S Brown",null,null,2,null,18,"Division 2","1970-10-31",null,"QPR","(H)",null,null,"W 3-0","King","B Brown","Cripps","Dorney","Kitchener","Burnett","Bridges","Dunphy","Bolland","Possee ()","Allder","S Brown ()",null,null,"OK",5,1,0,0,0,0,null,2,null,"Billy Neil",null,5,1,0,1,{"$f":"BQ87","v":5},1,0,1,{"$f":"BY87","v":0},0,0,0,{"$f":"BU87","v":0},0,0,0,null,null,null,null,null,null,84,"Billy","Neil",16,22,null,"Neil",null,null,null,null,null,null,null,null,null,null,null,null,null,null,null,null,null,null,null,null,null,null,null,null,null,null,null,null,null,null,null,null,null,null,null,null,null,null,null,null,null,null,null,"Bristol C (H) W 2-0",18,11]
[1,null,19,"Division 2","1970-11-07",null,"12th v 14th","Sheff Wed","(A)",null,null,"L 0-1","0-1",null,null,null,null,null,null,null,null,null,null,12668,null,14,15,null,null,null,1,null,19,"Division 2","1970-11-07",null,"Sheff Wed","(A)",null,null,"L 0-1","King","B Brown","Cripps","Dorney","Kitchener","Burnett","Bridges","Dunphy","Bolland ()","Possee","Allder","S Brown ()",null,null,"OK",41,0,1,0,2,0,null,1,null,"Derek Possee",null,44,0,0,17,{"$f":"BQ88","v":41},0,0,14,{"$f":"BY88","v":1},0,0,1,{"$f":"BU88","v":2},0,0,2,null,null,null,null,null,null,85,"Derek","Possee",17,23,null,"Possee",null,null,null,null,null,null,null,null,null,null,null,null,null,null,null,null,null,null,null,null,null,null,null,null,null,null,null,null,null,null,null,null,null,null,null,null,null,null,null,null,null,null,null,"Middlesbro (A) L 0-1",18,13]
[2,null,20,"Division 2","1970-11-14",null,"15th v 17th","Bolton","(H)",null,null,"W 2-0","1-0",null,null,null,null,null,null,null,null,null,null,6410,null,16,13,"Bolland, Bridges",null,null,2,null,20,"Division 2","1970-11-14",null,"Bolton","(H)",null,null,"W 2-0","King","B Brown","Cripps","Dorney","Kitchener","Burnett","Bridges","Dunphy","Bolland","Possee","Allder",null,null,null,null,null,null,null,null,null,null,null,2,null,null,null,null,null,null,null,null,null,null,null,null,null,null,null,null,null,null,null,null,null,null,null,null,null,86,null,null,18,24,null,null,null,null,null,null,null,null,null,null,null,null,null,null,null,null,null,null,null,null,null,null,null,null,null,null,null,null,null,null,null,null,null,null,null,null,null,null,null,null,null,null,null,null,null,"Birmingham (H) W 2-1",20,13]
[1,null,21,"Division 2","1970-11-21",null,"13th v 20th","Bristol C","(H)",null,null,"W 2-0","2-0",null,null,null,null,null,null,null,null,null,null,9173,null,18,11,"Cripps, Allder",null,null,1,null,21,"Division 2","1970-11-21",null,"Bristol C","(H)",null,null,"W 2-0","King","B Brown","Cripps","Dorney","Kitchener","Burnett","Bridges","Dunphy","Bolland","Possee","Allder",null,null,null,null,null,null,null,null,null,null,null,1,null,"Own Goals",null,null,null,null,{"$f":"BW25+CA25+CE25+CI25","v":2},null,null,null,{"$f":"BT92","v":2},null,null,null,{"$f":"BX92","v":0},null,null,null,{"$f":"CB92","v":0},null,null,null,null,null,null,87,null,null,19,25,null,null,null,null,null,null,null,null,null,null,null,null,null,null,null,null,null,null,null,null,null,null,null,null,null,null,null,null,null,null,null,null,null,null,null,null,null,null,null,null,null,null,null,null,null,"Leicester (A) L 1-2",20,13]
[2,null,22,"Division 2","1970-11-28",null,"11th v 12th","Middlesbro","(A)",null,null,"L 0-1","0-0",null,null,null,null,null,null,null,null,null,null,13036,null,18,13,null,null,null,2,null,22,"Division 2","1970-11-28",null,"Middlesbro","(A)",null,null,"L 0-1","King","B Brown","Cripps","Dorney","Kitchener","Burnett","Bridges","Dunphy","Bolland","Possee","Allder",null,null,null,null,null,null,null,null,null,null,null,2,null,null,null,null,null,null,null,null,null,null,null,null,null,null,null,null,null,null,null,null,null,null,null,null,null,92,null,null,20,26,null,null,null,null,null,null,null,null,null,null,null,null,null,null,null,null,null,null,null,null,null,null,null,null,null,null,null,null,null,null,null,null,null,null,null,null,null,null,null,null,null,null,null,null,null,"Cardiff (H) W 2-1",22,12]
[1,null,23,"Division 2","1970-12-05",null,"13th v 18th","Birmingham","(H)",null,null,"W 2-1","2-0",null,null,null,null,null,null,null,null,null,null,8560,null,20,13,"Cripps, Bridges",null,null,1,null,23,"Division 2","1970-12-05",null,"Birmingham","(H)",null,null,"W 2-1","King","B Brown","Cripps","Jacks","Kitchener","Burnett","Bridges","Dunphy","Bolland","Possee","Allder",null,null,null,null,null,null,null,null,null,null,null,1,null,"Goals",null,null,null,null,{"$f":"SUM(BS7:BS25)","v":63},null,null,null,{"$f":"SUM(BW7:BW25)","v":59},null,null,null,{"$f":"SUM(CA7:CA25)","v":1},null,null,null,{"$f":"SUM(CE7:CE25)","v":3},null,null,null,null,null,null,{"$f":"CL91","v":0},null,null,21,27,null,null,null,null,null,null,null,null,null,null,null,null,null,null,null,null,null,null,null,null,null,null,null,null,null,null,null,null,null,null,null,null,null,null,null,null,null,null,null,null,null,null,null,null,null,"Swindon (H) D 2-2",23,12]
[2,null,24,"Division 2","1970-12-12",null,"13th v 1st","Leicester","(A)",null,null,"L 1-2","1-2",null,null,null,null,null,null,null,null,null,null,22060,null,20,13,"Cripps",null,null,2,null,24,"Division 2","1970-12-12",null,"Leicester","(A)",null,null,"L 1-2","King","B Brown","Cripps","Dorney","Kitchener","Burnett","Possee","Bolland","Bridges","Dunphy","Allder ()","S Brown ()",null,null,null,null,null,null,null,null,null,null,2,null,null,null,null,null,null,null,null,null,null,null,null,null,null,null,null,null,null,null,null,null,null,null,null,null,{"$f":"CL91","v":0},null,null,22,28,null,null,null,null,null,null,null,null,null,null,null,null,null,null,null,null,null,null,null,null,null,null,null,null,null,null,null,null,null,null,null,null,null,null,null,null,null,null,null,null,null,null,null,null,null,"Watford (A) W 4-0",25,12]
[1,null,25,"Division 2","1970-12-19",null,"13th v 4th","Cardiff","(H)",null,null,"W 2-1","1-0",null,null,null,null,null,null,null,null,null,null,8591,null,22,12,"Bridges (2)",null,null,1,null,25,"Division 2","1970-12-19",null,"Cardiff","(H)",null,null,"W 2-1","King","B Brown","Cripps","Dorney","Kitchener","Burnett","Possee ()","Bolland","Bridges","Dunphy","Allder","S Brown ()",null,null,null,null,null,null,null,null,null,null,null,null,{"$f":"CM29&\" \"&CN29","v":" "},null,null,null,null,null,null,null,null,null,null,null,null,null,null,null,null,null,null,null,null,null,null,null,null,null,null,23,29,null,null,null,null,null,null,null,null,null,null,null,null,null,null,null,null,null,null,null,null,null,null,null,null,null,null,null,null,null,null,null,null,null,null,null,null,null,null,null,null,null,null,null,null,null,"Norwich (H) D 2-2",26,10]
[2,null,26,"FA Cup 3","1971-01-02",null,"- -","Stoke City","(A)",null,null,"L 1-2","1-1",null,null,null,null,null,null,null,null,null,null,21400,null,"-","-","Possee",null,null,2,null,26,"FA Cup 3","1971-01-02",null,"Stoke City","(A)",null,null,"L 1-2","King","B Brown","Cripps","Dorney","Kitchener","Burnett","Bridges","Dunphy","Bolland","Possee","Allder",null,null,null,null,null,null,null,null,null,null,null,null,null,null,null,null,"Check",null,null,{"$f":"SUM(BT7:BT23)","v":462},null,null,null,{"$f":"SUM(BX7:BX23)","v":11},null,null,null,{"$f":"SUM(CB7:CB23)","v":33},null,null,null,null,null,null,null,null,null,null,null,null,24,30,null,null,null,null,null,null,null,null,null,null,null,null,null,null,null,null,null,null,null,null,null,null,null,null,null,null,null,null,null,null,null,null,null,null,null,null,null,null,null,null,null,null,null,null,null,"Middlesbro (H) W 1-0",28,10]
[1,null,27,"Division 2","1971-01-09",null,"13th v 19th","Swindon","(H)",null,null,"D 2-2","0-0",null,null,null,null,null,null,null,null,null,null,10120,null,23,12,"Bridges, Possee",null,null,1,null,27,"Division 2","1971-01-09",null,"Swindon","(H)",null,null,"D 2-2","King","B Brown ()","Cripps","Dorney","Kitchener","Burnett","Possee","Bolland","Bridges","Dunphy","Allder","S Brown ()",null,null,null,null,null,null,null,null,null,null,null,null,{"$f":"44/17","v":2.5882352941176472},null,null,null,null,null,null,null,null,null,null,null,null,null,null,null,null,null,null,null,null,null,null,null,null,null,null,25,31,null,null,null,null,null,null,null,null,null,null,null,null,null,null,null,null,null,null,null,null,null,null,null,null,null,null,null,null,null,null,null,null,null,null,null,null,null,null,null,null,null,null,null,null,null,"Birmingham (A) L 1-3",28,10]
[2,null,28,"Division 2","1971-01-16",null,"12th v 19th","Watford","(A)",null,null,"W 4-0","2-0",null,null,null,null,null,null,null,null,null,null,14072,null,25,12,"Bridges, Cripps, Burnett, Dunphy",null,null,2,null,28,"Division 2","1971-01-16",null,"Watford","(A)",null,null,"W 4-0","King","B Brown","Cripps","Dorney","Kitchener","Burnett","Possee","Bolland","Bridges","Dunphy","Allder",null,null,null,null,null,null,null,null,null,null,null,null,null,null,null,null,null,null,null,null,null,null,null,null,null,null,null,null,null,null,null,null,null,null,null,null,null,null,null,null,26,32,null,null,null,null,null,null,null,null,null,null,null,null,null,null,null,null,null,null,null,null,null,null,null,null,null,null,null,null,null,null,null,null,null,null,null,null,null,null,null,null,null,null,null,null,null,"Bristol C (A) L 2-3",28,11]
[1,null,29,"Division 2","1971-01-23",null,"12th v 8th","Norwich","(H)",null,null,"D 2-2","1-1",null,null,null,null,null,null,null,null,null,null,9842,null,26,10,"Possee, Cripps",null,null,1,null,29,"Division 2","1971-01-23",null,"Norwich","(H)",null,null,"D 2-2","King","B Brown","Cripps","Dorney","Kitchener","Burnett","Possee","Dunphy","Bridges","Bolland","Allder",null,null,null,null,null,null,null,null,null,null,null,null,null,null,null,null,null,null,null,{"$f":"BT30/11","v":42},null,null,null,{"$f":"BX30/11","v":1},null,null,null,{"$f":"CB30/11","v":3},null,null,null,null,null,null,null,null,null,null,null,null,28,33,null,null,null,null,null,null,null,null,null,null,null,null,null,null,null,null,null,null,null,null,null,null,null,null,null,null,null,null,null,null,null,null,null,null,null,null,null,null,null,null,null,null,null,null,null,"QPR (A) L 0-2",28,13]
[2,null,30,"Division 2","1971-01-30",null,"10th v 6th","Middlesbro","(H)",null,null,"W 1-0","0-0",null,null,null,null,null,null,null,null,null,null,10180,null,28,10,"Kitchener",null,null,2,null,30,"Division 2","1971-01-30",null,"Middlesbro","(H)",null,null,"W 1-0","King","B Brown","Cripps","Dorney","Kitchener","Burnett","Possee","Bolland","Bridges","Dunphy","Neil ()","S Brown ()",null,null,null,null,null,null,null,null,null,null,null,null,null,null,null,null,null,null,null,null,null,null,null,null,null,null,null,null,null,null,null,null,null,null,null,null,null,null,null,29,34,null,null,null,null,null,null,null,null,null,null,null,null,null,null,null,null,null,null,null,null,null,null,null,null,null,null,null,null,null,null,null,null,null,null,null,null,null,null,null,null,null,null,null,null,null,"Leicester (H) D 0-0",29,11]
[1,null,31,"Division 2","1971-02-06",null,"10th v 14th","Birmingham","(A)",null,null,"L 1-3","1-2",null,null,null,null,null,null,null,null,null,null,21893,null,28,10,"Neil",null,null,1,null,31,"Division 2","1971-02-06",null,"Birmingham","(A)",null,null,"L 1-3","King","B Brown","Cripps","Dorney","Kitchener","Burnett","Possee","Bolland","Bridges","Dunphy","Neil ()","Holmes ()",null,null,null,null,null,null,null,null,null,null,null,null,null,null,null,null,null,null,null,null,null,null,null,null,null,null,null,null,null,null,null,null,null,null,null,null,null,null,null,30,35,null,null,null,null,null,null,null,null,null,null,null,null,null,null,null,null,null,null,null,null,null,null,null,null,null,null,null,null,null,null,null,null,null,null,null,null,null,null,null,null,null,null,null,null,null,"Leyton Orient (H) L 0-1",29,12]
[2,null,32,"Division 2","1971-02-20",null,"10th v 21st","Bristol C","(A)",null,null,"L 2-3","0-2",null,null,null,null,null,null,null,null,null,null,10259,null,28,11,"Cripps, Bridges",null,null,2,null,32,"Division 2","1971-02-20",null,"Bristol C","(A)",null,null,"L 2-3","King","B Brown","Cripps","Dorney","Kitchener","Garner","S Brown ()","Bolland","Bridges","Dunphy","Allder","Neil ()",null,null,null,null,null,null,null,null,null,null,null,null,null,null,null,null,null,null,{"$f":"42*11","v":462},null,null,null,null,null,null,null,null,null,null,null,null,null,null,null,null,null,null,null,null,31,36,null,null,null,null,null,null,null,null,null,null,null,null,null,null,null,null,null,null,null,null,null,null,null,null,null,null,null,null,null,null,null,null,null,null,null,null,null,null,null,null,null,null,null,null,null,"Bolton (A) D 1-1",30,13]
[1,null,33,"Division 2","1971-02-27",null,"11th v 16th","QPR","(A)",null,null,"L 0-2","0-0",null,null,null,null,null,null,null,null,null,null,15698,null,28,13,null,null,null,1,null,33,"Division 2","1971-02-27",null,"QPR","(A)",null,null,"L 0-2","King","B Brown","Cripps","Dorney","Kitchener","Bolland","Possee","Jacks","Bridges","Neil","Allder",null,null,null,null,null,null,null,null,null,null,null,null,null,null,null,null,null,null,null,null,null,null,null,null,null,null,null,null,null,null,null,null,null,null,null,null,null,null,null,null,null,null,null,null,null,null,null,null,null,null,null,null,null,null,null,null,null,null,null,null,null,null,null,null,null,null,null,null,null,null,null,null,null,null,null,null,null,null,null,null,null,null,null,null,null,null,null,"Sheff Wed (H) W 1-0",32,11]
[2,null,34,"Division 2","1971-03-01",null,"13th v 6th","Leicester","(H)",null,null,"D 0-0","0-0",null,null,null,null,null,null,null,null,null,null,10738,null,29,11,null,null,null,2,null,34,"Division 2","1971-03-01",null,"Leicester","(H)",null,null,"D 0-0","King","B Brown","Cripps","Dorney","Kitchener","Burnett","Possee","Jacks","Bridges","Bolland","Allder",null,null,null,null,null,null,null,null,null,null,null,null,null,null,null,null,null,null,null,null,null,null,null,null,null,null,null,null,null,null,null,null,null,null,null,null,null,null,null,null,null,null,null,null,null,null,null,null,null,null,null,null,null,null,null,null,null,null,null,null,null,null,null,null,null,null,null,null,null,null,null,null,null,null,null,null,null,null,null,null,null,null,null,null,null,null,null,"Charlton (H) W 2-0",34,11]
[1,null,35,"Division 2","1971-03-06",null,"11th v 17th","Leyton Orient","(H)",null,null,"L 0-1","0-1",null,null,null,null,null,null,null,null,null,null,7168,null,29,12,null,null,null,1,null,35,"Division 2","1971-03-06",null,"Leyton Orient","(H)",null,null,"L 0-1","King","B Brown","Cripps","Dorney","Kitchener","Burnett","Possee","Neil ()","Bridges","Bolland","Allder","Dunphy ()",null,null,null,null,null,null,null,null,null,null,null,null,null,null,null,null,null,null,null,null,null,null,null,null,null,null,null,null,null,null,null,null,null,null,null,null,null,null,null,null,null,null,null,null,null,null,null,null,null,null,null,null,null,null,null,null,null,null,null,null,null,null,null,null,null,null,null,null,null,null,null,null,null,null,null,null,null,null,null,null,null,null,null,null,null,null,"Luton (A) D 1-1",35,10]
[2,null,36,"Division 2","1971-03-13",null,"12th v 21st","Bolton","(A)",null,null,"D 1-1","1-1",null,null,null,null,null,null,null,null,null,null,6021,null,30,13,"Possee",null,null,2,null,36,"Division 2","1971-03-13",null,"Bolton","(A)",null,null,"D 1-1","King","B Brown","Cripps","Dorney","Kitchener","Burnett","Possee","Bolland","Bridges","Dunphy","Allder",null,null,null,null,null,null,null,null,null,null,null,null,null,null,null,null,null,null,null,null,null,null,null,null,null,null,null,null,null,null,null,null,null,null,null,null,null,null,null,null,null,null,null,null,null,null,null,null,null,null,null,null,null,null,null,null,null,null,null,null,null,null,null,null,null,null,null,null,null,null,null,null,null,null,null,null,null,null,null,null,null,null,null,null,null,null,null,"Portsmouth (A) W 2-0",37,10]
[1,null,37,"Division 2","1971-03-20",null,"13th v 12th","Sheff Wed","(H)",null,null,"W 1-0","0-0",null,null,null,null,null,null,null,null,null,null,7284,null,32,11,"Allder (pen)",null,null,1,null,37,"Division 2","1971-03-20",null,"Sheff Wed","(H)",null,null,"W 1-0","King","B Brown","Cripps","Dorney","Kitchener","Burnett","Possee","Bolland","Bridges","Dunphy","Allder",null,null,null,null,null,null,null,null,null,null,null,null,null,null,null,null,null,null,null,null,null,null,null,null,null,null,null,null,null,null,null,null,null,null,null,null,null,null,null,null,null,null,null,null,null,null,null,null,null,null,null,null,null,null,null,null,null,null,null,null,null,null,null,null,null,null,null,null,null,null,null,null,null,null,null,null,null,null,null,null,null,null,null,null,null,null,null,"Carlisle (H) W 2-1",39,10]
[2,null,38,"Division 2","1971-03-27",null,"11th v 22nd","Charlton","(H)",null,null,"W 2-0","1-0",null,null,null,null,null,null,null,null,null,null,13399,null,34,11,"Possee, Kitchener",null,null,2,null,38,"Division 2","1971-03-27",null,"Charlton","(H)",null,null,"W 2-0","King","B Brown","Cripps","Dorney","Kitchener","Burnett","Possee","Bolland","Bridges","Dunphy","Allder",null,null,null,null,null,null,null,null,null,null,null,null,null,{"$f":"CM42&\" \"&CN42","v":" "},null,null,null,null,null,null,null,null,null,null,null,null,null,null,null,null,null,null,null,null,null,null,null,null,null,null,null,null,null,null,null,null,null,null,null,null,null,null,null,null,null,null,null,null,null,null,null,null,null,null,null,null,null,null,null,null,null,null,null,null,null,null,null,null,null,null,null,null,null,null,null,null,null,"Luton (H) W 4-0",41,10]
[1,null,39,"Division 2","1971-03-30",null,"11th v 6th","Luton","(A)",null,null,"D 1-1","0-1",null,null,null,null,null,null,null,null,null,null,17578,null,35,10,"B Brown",null,null,1,null,39,"Division 2","1971-03-30",null,"Luton","(A)",null,null,"D 1-1","King","B Brown","Cripps","Dorney","Kitchener","Burnett","Possee","Bolland","Bridges","Dunphy","Allder",null,null,null,null,null,null,null,null,null,null,null,null,null," ",null,null,null,null,null,null,null,null,null,null,null,null,null,null,null,null,null,null,null,null,null,null,null,null,null,null,null,null,null,null,null,null,null,null,null,null,null,null,null,null,null,null,null,null,null,null,null,null,null,null,null,null,null,null,null,null,null,null,null,null,null,null,null,null,null,null,null,null,null,null,null,null,null,"Sheff Utd (A) L 0-2",41,10]
[2,null,40,"Division 2","1971-04-03",null,"10th v 16th","Portsmouth","(A)",null,null,"W 2-0","0-0",null,null,null,null,null,null,null,null,null,null,9668,null,37,10,"Bridges, Bolland",null,null,2,null,40,"Division 2","1971-04-03",null,"Portsmouth","(A)",null,null,"W 2-0","King","B Brown","Cripps","Dorney","Kitchener","Burnett","Possee","Bolland","Bridges","Dunphy","Coxhill",null,null,null,null,null,null,null,null,null,null,null,null,null," ",null,null,null,null,null,null,null,null,null,null,null,null,null,null,null,null,null,null,null,null,null,null,null,null,null,null,null,null,null,null,null,null,null,null,null,null,null,null,null,null,null,null,null,null,null,null,null,null,null,null,null,null,null,null,null,null,null,null,null,null,null,null,null,null,null,null,null,null,null,null,null,null,null,"Blackburn (A) W 2-0",43,9]
[1,null,41,"Division 2","1971-04-05",null,"10th v 6th","Carlisle","(H)",null,null,"W 2-1","0-1",null,null,null,null,null,null,null,null,null,null,8201,null,39,10,"Bridges, Bolland",null,null,1,null,41,"Division 2","1971-04-05",null,"Carlisle","(H)",null,null,"W 2-1","King","B Brown","Cripps","Dorney","Kitchener","Burnett","Possee","Bolland","Bridges","Dunphy","Allder",null,null,null,null,null,null,null,null,null,null,null,null,null," ",null,null,null,null,null,null,null,null,null,null,null,null,null,null,null,null,null,null,null,null,null,null,null,null,null,null,null,null,null,null,null,null,null,null,null,null,null,null,null,null,null,null,null,null,null,null,null,null,null,null,null,null,null,null,null,null,null,null,null,null,null,null,null,null,null,null,null,null,null,null,null,null,null,"Hull (H) W 4-0",45,8]
[2,null,42,"Division 2","1971-04-10",null,"10th v 4th","Luton","(H)",null,null,"W 4-0","3-0",null,null,null,null,null,null,null,null,null,null,13842,null,41,10,"Possee (2), Bridges, B Brown",null,null,2,null,42,"Division 2","1971-04-10",null,"Luton","(H)",null,null,"W 4-0","King","B Brown","Cripps","Dorney","Kitchener","Burnett","Possee","Bolland","Bridges","Dunphy","Allder",null,null,null,null,null,null,null,null,null,null,null,null,null," ",null,null,null,null,null,null,null,null,null,null,null,null,null,null,null,null,null,null,null,null,null,null,null,null,null,null,null,null,null,null,null,null,null,null,null,null,null,null,null,null,null,null,null,null,null,null,null,null,null,null,null,null,null,null,null,null,null,null,null,null,null,null,null,null,null,null,null,null,null,null,null,null,null,"Sunderland (A) W 1-0",47,7]
[1,null,43,"Division 2","1971-04-13",null,"10th v 3rd","Sheff Utd","(A)",null,null,"L 0-2","0-0",null,null,null,null,null,null,null,null,null,null,24711,null,41,10,null,null,null,1,null,43,"Division 2","1971-04-13",null,"Sheff Utd","(A)",null,null,"L 0-2","King","B Brown","Cripps","Dorney","Kitchener","Burnett","Possee","Bolland","Bridges","Dunphy","Allder ()","Coxhill ()",null,null,null,null,null,null,null,null,null,null,null,null," "]
[2,null,44,"Division 2","1971-04-17",null,"10th v 21st","Blackburn","(A)",null,null,"W 2-0","0-0",null,null,null,null,null,null,null,null,null,null,7939,null,43,9,"Allder, Dunphy",null,null,2,null,44,"Division 2","1971-04-17",null,"Blackburn","(A)",null,null,"W 2-0","King","B Brown","Cripps","Dorney","Kitchener","Burnett","Possee","Bolland","Bridges","Dunphy","Allder",null,null,null,null,null,null,null,null,null,null,null,null,null," "]
[1,null,45,"Division 2","1971-04-24",null,"9th v 4th","Hull","(H)",null,null,"W 4-0","2-0",null,null,null,null,null,null,null,null,null,null,10376,null,45,8,"Possee, Cripps (pen), Bridges, Kitchener",null,null,1,null,45,"Division 2","1971-04-24",null,"Hull","(H)",null,null,"W 4-0","King","B Brown","Cripps","Dorney","Kitchener","Burnett","Possee","Bolland","Bridges","Dunphy","Allder",null,null,null,null,null,null,null,null,null,null,null,null,null," "]
[2,null,46,"Division 2","1971-05-01",null,"8th v 12th","Sunderland","(A)",null,null,"W 1-0","1-0",null,null,null,null,null,null,null,null,null,null,11960,null,47,7,"Own Goal",null,null,2,null,46,"Division 2","1971-05-01",null,"Sunderland","(A)",null,null,"W 1-0","King","B Brown","Cripps","Dorney","Kitchener","Burnett","Possee","Bolland","Bridges","Dunphy","Coxhill",null,null,null,null,null,null,null,null,null,null,null,null,null," "]
[1,null,null,null,null,null,null,null,null,null,null,null,null,null,null,null,null,null,null,null,null,null,null,null,null,null,null,null,null,null,1,null,null,null,null,null,null,null,null,null,null,null,null,null,null,null,null,null,null,null,null,null,null,null,null,null,null,null,null,null,null,null,null,null,null," ",null,{"$f":"\"Max (\"&BN63&\")\"","v":"Max (46)"},null,null,null,{"$f":"\"Max (\"&BN59&\")\"","v":"Max (42)"},null,null,null,{"$f":"\"Max (\"&BN60&\")\"","v":"Max (1)"},null,null,null,{"$f":"\"Max (\"&BN61&\")\"","v":"Max (3)"},null,null,null,null,{"$f":"\"Max (\"&BN133&\")\"","v":"Max ()"}]
[2,null,null,null,null,null,null,null,null,null,null,null,null,null,null,null,null,null,null,null,null,null,null,null,null,null,null,null,null,null,2,null,null,null,null,null,null,null,null,null,null,null,null,null,null,null,null,null,null,null,null,null,null,null,null,null,null,null,null,null,null,null,null,{"$f":"IF(BL51=0,1,IF(BL51=2,1,2))","v":1}]
[1,null,null,null,null,null,null,null,null,null,null,null,null,null,null,null,null,null,null,null,null,null,null,"Final Positon",null,null,"8th",null,null,null,1,null,null,null,null,null,null,null,null,null,null,null,null,null,null,null,null,null,null,null,null,null,null,null,null,null,null,null,null,null,null,null,null,{"$f":"IF(BL52=0,1,IF(BL52=2,1,2))","v":2}]
[2,null,null,null,null,null,null,null,null,null,null,null,null,null,null,null,null,null,null,null,null,null,null,null,null,null,null,null,null,null,null,null,null,null,null,null,null,null,null,null,null,null,null,null,null,null,null,null,null,null,null,null,null,null,null,null,null,null,null,null,null,null,null,{"$f":"IF(BL53=0,1,IF(BL53=2,1,2))","v":1}]
[1]
[2]
[1,null,null,null,null,null,null,null,null,null,null,null,null,null,null,null,null,null,null,null,null,null,null,null,null,null,null,null,null,null,{"$f":"IF(AE56=0,1,IF(AE56=2,1,2))","v":1}]
[2]
[1,null,null,null,null,null,null,null,null,null,null,null,null,null,null,null,null,null,null,null,null,null,null,null,null,null,null,null,null,null,null,null,null,null,null,null,null,null,null,null,null,null,null,null,null,null,null,null,null,null,null,null,null,null,null,null,null,null,null,null,null,null,null,null,null,{"$f":"SUMIF(AH75:AH146,BP59,BC75:BC146)","v":42},null,"Division 2*"]
[2,null,null,null,null,null,null,null,null,null,null,null,null,null,null,null,null,null,null,null,null,null,null,null,null,null,null,null,null,null,null,null,null,null,null,null,null,null,null,null,null,null,null,null,null,null,null,null,null,null,null,null,null,null,null,null,null,null,null,null,null,null,null,null,null,{"$f":"SUMIF(AH75:AH146,BP60,BC75:BC146)","v":1},null,"FA Cup*"]
[1,null,null,null,null,null,null,null,null,null,null,null,null,null,null,null,null,null,null,null,null,null,null,null,null,null,null,null,null,null,null,null,null,null,null,null,null,null,null,null,null,null,null,null,null,null,null,null,null,null,null,null,null,null,null,null,null,null,null,null,null,null,null,null,null,3,null,"League Cup*",null,null,null,null,null,null,{"$f":"42*11","v":462}]
[]
[null,null,null,null,null,null,null,null,null,null,null,null,null,null,null,null,null,null,null,null,null,null,null,null,null,null,null,null,null,null,null,null,null,null,null,null,null,null,null,null,null,null,null,null,null,null,null,null,null,null,null,null,null,null,null,null,null,null,null,null,null,null,null,null,null,{"$f":"SUM(BN59:BN62)","v":46}]
[null,null,null,null,null,null,null,null,null,null,null,null,null,null,null,null,null,null,null,null,null,null,null,null,null,null,null,null,null,null,null,null,null,null,null,null,null,null,null,null,null,null,null,null,null,null,null,null,null,null,null,null,null,null,null,null,null,null,null,null,null,null,null,null,null,null,null,null,null,null,null,null,null,null,{"$f":"SUM(BW7:BW25)","v":59},null,null,null,{"$f":"SUM(CA7:CA25)","v":1},null,null,null,{"$f":"SUM(CE7:CE25)","v":3},null,null,null,{"$f":"SUM(CI7:CI25)","v":0}]
[null,null,null,null,null,null,null,"1970-08-15",null,null,null,null,null,null,null,null,null,null,null,null,null,null,null,9895,null,"w"]
[null,null,null,null,null,null,null,"1970-08-29",null,null,null,null,null,null,null,null,null,null,null,null,null,null,null,8908,null,"w",null,"Av Attendance League Games Only"]
[null,null,null,null,null,null,null,"1970-09-14",null,null,null,null,null,null,null,null,null,null,null,null,null,null,null,5363,null,"m",null,{"$f":"COUNTIFS($I$5:$I$58,$AC$67,$D$5:$D$58,$D$5,$X$5:$X$58,\">0\")","v":21},"(H)"]
[null,null,null,null,null,null,null,"1970-09-26",null,null,null,null,null,null,null,null,null,null,null,null,null,null,null,12196,null,"w",null,{"$f":"SUMIFS($X$5:$X$58,$I$5:$I$58,$AC$68,$D$5:$D$58,$D$5)","v":206526},"(H)"]
[null,null,null,null,null,null,null,"1970-10-10",null,null,null,null,null,null,null,null,null,null,null,null,null,null,null,8280,null,"w",null,{"$f":"AB68/AB67","v":9834.5714285714294}]
[null,null,null,null,null,null,null,"1970-10-19",null,null,null,null,null,null,null,null,null,null,null,null,null,null,null,11988,null,"m",null,null,null,null,null,null,null,null,null,null,null,null,null,null,null,null,null,null,null,null,null,null,null,null,null,null,null,null,null,null,null,null,null,null,null,null,null,null,null,{"$f":"SUM(BQ72:BQ116)","v":1386},null,null,"League",null,null,null,"League Cup",null,null,null,"FA Cup"]
[null,null,null,null,null,null,null,"1970-10-31",null,null,null,null,null,null,null,null,null,null,null,null,null,null,null,16012,null,"w",null,null,null,null,null,null,null,null,null,null,null,null,null,null,null,null,null,null,null,null,null,null,null,null,null,null,null,null,null,null,null,null,null,null,null,null,null,null,null,null,null,null,"P","Sub","NPS","Gls","P","Sub","NPS","Gls","P","Sub","NPS","Gls"]
[null,null,null,null,null,null,null,"1970-11-14",null,null,null,null,null,null,null,null,null,null,null,null,null,null,null,6410,null,"w",null,"Av AttendanceAway League Games",null,null,null,null,null,null,null,null,null,null,null,null,null,null,null,null,null,null,null,null,null,null,null,null,null,null,null,null,null,null,null,null,null,1,1,{"$f":"BO72&\" (**\"","v":"Allder (**"},null,{"$f":"BO72&\"**\"","v":"Allder**"},"Allder",null,{"$f":"COUNTIF(LeagueStarts,$BN72)","v":38},{"$f":"COUNTIF(LeagueSubs,$BL72)","v":0},{"$f":"COUNTIF(LeagueSubs,$BO72)","v":0},{"$f":"COUNTIF($CY$76:$DH$125,BO72)","v":3},{"$f":"COUNTIF($AP$121:$AZ$131,$BN72)","v":3},{"$f":"COUNTIF($BA$121:$BA$131,$BL72)","v":0},{"$f":"COUNTIF($BA$128:$BH$131,$BO72)","v":0},{"$f":"COUNTIF($CY$145:$DH$155,BO72)","v":0},{"$f":"COUNTIF($AP$134:$AZ$137,$BN72)","v":1},{"$f":"COUNTIF($BA$134:$BA$137,$BL72)","v":0},{"$f":"COUNTIF($BA$133:$BH$137,$BO72)","v":0},{"$f":"COUNTIF($CY$134:$DH$140,BO72)","v":0},null,null,null,null,null,null,null,null,null,{"$f":"ROW(CK72)","v":72},null,"Doug","Allder",{"$f":"BK72","v":1},{"$f":"CN72&\" \"&CO72","v":"Doug Allder"}]
[null,null,null,null,null,null,null,"1970-11-21",null,null,null,null,null,null,null,null,null,null,null,null,null,null,null,9173,null,"w",null,{"$f":"COUNTIFS($I$5:$I$58,$AC$73,$D$5:$D$58,$D$5,$X$5:$X$58,\">0\")","v":21},"(A)",null,null,null,null,null,null,null,null,null,null,null,null,null,null,null,null,null,null,null,null,null,null,null,null,null,null,null,null,null,null,null,null,1,2,"Bolland (**",null,"Bolland**","Bolland",null,42,0,0,4,3,0,0,1,1,{"$f":"COUNTIF($BA$133:$BC$137,$BL73)","v":0},0,0,null,null,null,null,null,null,null,null,null,73,null,"Gordon","Bolland",2,"Gordon Bolland"]
[null,null,null,null,null,null,null,"1970-12-05",null,null,null,null,null,null,null,null,null,null,null,null,null,null,null,8560,null,"w",null,{"$f":"SUMIFS($X$5:$X$58,$I$5:$I$58,$AC$74,$D$5:$D$58,$D$5)","v":310492},"(A)",null,null,null,"Game","Competition","Date",null,"Opponents",null,null,null,"Score",1,2,3,4,5,6,7,8,9,10,11,12,null,null,null,null,null,null,null,null,1,3,"Bridges (**",null,"Bridges**","Bridges",null,35,0,0,15,0,0,0,0,1,0,0,0,null,null,null,null,null,null,null,null,null,74,null,"Barry","Bridges",3,"Barry Bridges",null,null,null,null,null,null,null,"Goals League"]
[null,null,null,null,null,null,null,"1970-12-19",null,null,null,null,null,null,null,null,null,null,null,null,null,null,null,8591,null,"w",null,{"$f":"AB74/AB73","v":14785.333333333334},null,null,1,null,null,null,null,null,null,null,null,null,null,null,null,null,null,null,null,null,null,null,null,null,null,null,null,null,null,null,null,null,null,1,4,"B Brown (**",null,"B Brown**","B Brown",null,42,0,0,2,3,0,0,0,1,0,0,0,null,null,null,null,null,null,null,null,null,75,null,"Brian","Brown",4,"Brian Brown",null,null,null,null,null,null,null,1,2,3,4,5,6,7,8,7,8,9]
[null,null,null,null,null,null,null,"1971-01-09",null,null,null,null,null,null,null,null,null,null,null,null,null,null,null,10120,null,"w",null,null,null,null,{"$f":"IF(AE75=0,1,IF(AE75=2,1,2))","v":2},null,null,null,null,null,null,null,null,null,null,null,null,null,null,null,null,null,null,null,null,null,null,null,null,null,null,null,null,null,null,1,5,"S Brown (**",null,"S Brown**","S Brown",null,1,13,0,1,3,0,0,0,0,0,0,0,null,null,null,null,null,null,null,null,null,76,null,"Steve","Brown",5,"Steve Brown",null,null,null,null,"Oxford","(H)","L 1-2","Bolland"]
[null,null,null,null,null,null,null,"1971-01-23",null,null,null,null,null,null,null,null,null,null,null,null,null,null,null,9842,null,"w",null,null,null,null,1,null,null,null,null,null,null,null,null,null,null,null,null,null,null,null,null,null,null,null,null,null,null,null,null,null,null,null,null,null,null,1,6,"Burnett (**",null,"Burnett**","Burnett",null,40,0,0,1,3,0,0,0,1,0,0,0,null,null,null,null,null,null,null,null,null,77,null,"Dennis","Burnett",6,"Dennis Burnett",null,null,null,null,"Cardiff","(A)","D 2-2","Possee","Cripps"]
[null,null,null,null,null,null,null,"1971-01-30",null,null,null,null,null,null,null,null,null,null,null,null,null,null,null,10180,null,"w",null,null,null,null,2,null,1,"Division 2","1970-08-15",null,"Oxford","(H)",null,null,"L 1-2","King","B Brown","Cripps","Dorney","Kitchener","Burnett","Possee","Jacks","Bolland","Dunphy","Allder",null,null,1,null,null,null,null,null,null,1,7,"Coxhill (**",null,"Coxhill**","Coxhill",null,2,1,0,0,0,0,0,0,0,0,0,0,null,null,null,null,null,null,null,null,null,78,null,"David","Coxhill",7,"David Coxhill",null,null,null,null,"Portsmouth","(H)","D 0-0"]
[null,null,null,null,null,null,null,"1971-03-01",null,null,null,null,null,null,null,null,null,null,null,null,null,null,null,10738,null,"m",null,null,null,null,3,null,2,"Division 2","1970-08-22",null,"Cardiff","(A)",null,null,"D 2-2","King","B Brown","Cripps","Dorney","Kitchener","Burnett","Possee","Jacks ()","Bolland","Dunphy","Allder","S Brown ()",null,1,null,null,null,null,null,null,1,8,"Cripps (**",null,"Cripps**","Cripps",null,42,0,0,10,3,0,0,0,1,0,0,0,null,null,null,null,null,null,null,null,null,79,null,"Harry","Cripps",8,"Harry Cripps",null,null,null,null,"Norwich","(A)","L 0-1"]
[null,null,null,null,null,null,null,"1971-03-06",null,null,null,null,null,null,null,null,null,null,null,null,null,null,null,7168,null,"w",null,null,null,null,2,null,3,"Division 2","1970-08-29",null,"Portsmouth","(H)",null,null,"D 0-0","King","B Brown","Cripps","Dorney","Kitchener","Burnett","Possee","Jacks","Bolland ()","Dunphy","Allder","S Brown ()",null,1,null,null,null,null,null,null,1,9,"Dorney (**",null,"Dorney**","Dorney",null,39,0,0,0,3,0,0,0,1,0,0,0,null,null,null,null,null,null,null,null,null,80,null,"Alan","Dorney",9,"Alan Dorney",null,null,null,null,"Charlton","(A)","W 3-1","Possee","Possee","Possee"]
[null,null,null,null,null,null,null,"1971-03-20",null,null,null,null,null,null,null,null,null,null,null,null,null,null,null,7284,null,"w",null,null,null,null,4,null,4,"Division 2","1970-09-02",null,"Norwich","(A)",null,null,"L 0-1","King","B Brown","Cripps","Dorney","Kitchener","Burnett","Possee","Jacks ()","Bolland","Dunphy","Allder","S Brown ()",null,1,null,null,null,null,null,null,1,10,"Dunphy (**",null,"Dunphy**","Dunphy",null,39,1,0,3,3,0,0,0,1,0,0,0,null,null,null,null,null,null,null,null,null,81,null,"Eamon","Dunphy",10,"Eamon Dunphy",null,null,null,null,"Sheff Utd","(H)","L 1-2","Possee"]
[null,null,null,null,null,null,null,"1971-03-27",null,null,null,null,null,null,null,null,null,null,null,null,null,null,null,13399,null,"w",null,null,null,null,2,null,5,"Division 2","1970-09-05",null,"Charlton","(A)",null,null,"W 3-1","King","B Brown","Cripps","Jacks","Kitchener","Burnett","Possee","Neil","Bolland","Dunphy","Allder",null,null,1,null,null,null,null,null,null,1,11,"Garner (**",null,"Garner**","Garner",null,2,0,0,0,0,0,0,0,0,0,0,0,null,null,null,null,null,null,null,null,null,89,null,"Alan","Garner",18,"Alan Garner",null,null,null,null,"Hull","(A)","L 0-2"]
[null,null,null,null,null,null,null,"1971-04-05",null,null,null,null,null,null,null,null,null,null,null,null,null,null,null,8201,null,"m",null,null,null,null,5,null,6,"Division 2","1970-09-14",null,"Sheff Utd","(H)",null,null,"L 1-2","King","B Brown","Cripps","Dorney","Kitchener","Burnett","Possee","Jacks ()","Bolland","Dunphy","Allder","S Brown ()",null,1,null,null,null,null,null,null,1,12,"Holmes (**",null,"Holmes**","Holmes",null,0,1,0,0,0,0,0,0,0,0,0,0,null,null,null,null,null,null,null,null,null,{"$f":"ROW(CK83)","v":83},null,"Billy","Holmes",{"$f":"BK83","v":12},"Billy Holmes",null,null,null,null,"Sunderland","(H)","D 0-0"]
[null,null,null,null,null,null,null,"1971-04-10",null,null,null,null,null,null,null,null,null,null,null,null,null,null,null,13842,null,"w",null,null,null,null,2,null,7,"Division 2","1970-09-19",null,"Hull","(A)",null,null,"L 0-2","King","B Brown","Cripps","Dorney","Kitchener","Burnett","Possee","Jacks","Bolland","Dunphy ()","Allder","S Brown ()",null,1,null,null,null,null,null,null,1,13,"Jacks (**",null,"Jacks**","Jacks",null,10,0,0,0,1,0,0,0,0,0,0,0,null,null,null,null,null,null,null,null,null,90,null,"George","Jacks",13,"George Jacks",null,null,null,null,"Swindon","(A)","L 0-3"]
[null,null,null,null,null,null,null,"1971-04-24",null,null,null,null,null,null,null,null,null,null,null,null,null,null,null,10376,null,"w",null,null,null,null,6,null,8,"Division 2","1970-09-26",null,"Sunderland","(H)",null,null,"D 0-0","King","B Brown","Cripps","Dorney","Kitchener","Burnett","Bridges","Dunphy","Bolland","Possee","Allder",null,null,1,null,null,null,null,null,null,1,14,"King (**",null,"King**","King",null,42,0,0,0,3,0,0,0,1,0,0,0,null,null,null,null,null,null,null,null,null,{"$f":"ROW(CK85)","v":85},null,"Bryan","King",14,"Bryan King",null,null,null,null,"Carlisle","(A)","L 0-3"]
[null,null,null,null,null,null,null,null,null,null,null,null,null,null,null,null,null,null,null,null,null,null,null,null,null,null,null,null,null,null,2,null,9,"Division 2","1970-09-29",null,"Swindon","(A)",null,null,"L 0-3","King","B Brown","Cripps","Dorney","Kitchener","Burnett","Bridges","Dunphy","Bolland","Possee","Allder ()","S Brown ()",null,1,null,null,null,null,null,null,1,15,"Kitchener (**",null,"Kitchener**","Kitchener",null,42,0,0,3,3,0,0,0,1,0,0,0,null,null,null,null,null,null,null,null,null,88,null,"Barry","Kitchener",15,"Barry Kitchener",null,null,null,null,"Blackburn","(H)","W 2-0","Own Goal","Bridges"]
[null,null,null,null,null,null,null,null,null,null,null,null,null,null,null,null,null,null,null,null,null,null,null,null,null,null,null,null,null,null,7,null,10,"Division 2","1970-10-02",null,"Carlisle","(A)",null,null,"L 0-3","King","B Brown","Cripps","Dorney","Kitchener","Burnett","Bridges","Dunphy","Bolland ()","Possee","Allder","S Brown ()",null,1,null,null,null,null,null,null,1,16,"Neil (**",null,"Neil**","Neil",null,5,1,0,1,0,0,0,0,0,0,0,0,null,null,null,null,null,null,null,null,null,{"$f":"ROW(CK87)","v":87},null,"Billy","Neil",16,"Billy Neil",null,null,null,null,"Oxford","(A)","W 3-2","Possee","Cripps","Bridges"]
[null,null,null,null,null,null,null,null,null,null,null,null,null,null,null,null,null,null,null,null,null,null,null,null,null,null,null,null,null,null,2,null,11,"Division 2","1970-10-10",null,"Blackburn","(H)",null,null,"W 2-0","King","B Brown","Cripps","Garner","Kitchener","Burnett","Bridges","Dunphy","Bolland","Possee","Allder",null,null,1,null,null,null,null,null,null,1,17,"Possee (**",null,"Possee**","Possee",null,41,0,0,14,2,0,0,2,1,0,0,1,null,null,null,null,null,null,null,null,null,{"$f":"ROW(CK88)","v":88},null,"Derek","Possee",17,"Derek Possee",null,null,null,null,"Watford","(H)","W 3-0","Dunphy","Possee","Bridges"]
[null,null,null,null,null,null,null,null,null,null,null,null,null,null,null,null,null,null,null,null,null,null,null,null,null,null,null,null,null,null,8,null,12,"Division 2","1970-10-17",null,"Oxford","(A)",null,null,"W 3-2","King","B Brown","Cripps","Dorney","Kitchener","Burnett","Bridges","Dunphy","Bolland","Possee","Allder",null,null,1,null,null,null,null,null,null,1,18,null,null,null,null,null,null,null,null,null,null,null,null,null,null,null,null,null,null,null,null,null,null,null,null,null,null,null,null,null,null,null,null,null,null,null,null,"Leyton Orient","(A)","D 0-0"]
[null,null,null,null,null,null,null,null,null,null,null,null,null,null,null,null,null,null,null,null,null,null,null,null,null,null,null,null,null,null,2,null,13,"Division 2","1970-10-19",null,"Watford","(H)",null,null,"W 3-0","King","B Brown","Cripps","Dorney","Kitchener","Burnett","Bridges","Dunphy","Bolland","Possee","Allder",null,null,1,null,null,null,null,null,null,1,19,null,null,null,null,null,null,null,null,null,null,null,null,null,null,null,null,null,null,null,null,null,null,null,null,null,null,null,null,null,null,null,null,null,null,null,null,"QPR","(H)","W 3-0","Cripps","Bridges","S Brown"]
[null,null,null,null,null,null,null,null,null,null,null,"Agg",null,null,null,null,null,null,null,null,null,null,{"$f":"SUBTOTAL(9,W65:W87)","v":0},{"$f":"SUBTOTAL(9,X65:X85)","v":206526},null,null,null,null,null,null,9,null,14,"Division 2","1970-10-24",null,"Leyton Orient","(A)",null,null,"D 0-0","King","B Brown","Cripps","Dorney","Kitchener","Burnett","Bridges","Dunphy","Bolland","Possee","Allder",null,null,1,null,null,null,null,null,null,1,20,null,null,null,null,null,null,null,null,null,null,null,null,null,null,null,null,null,null,null,null,null,null,null,null,null,null,null,null,null,null,null,null,null,null,null,null,"Sheff Wed","(A)","L 0-1"]
[null,null,null,null,null,null,null,null,null,null,null,"Max",null,null,null,null,null,null,null,null,null,null,{"$f":"MAX(W65:W87)","v":0},{"$f":"MAX(X65:X87)","v":16012},null,null,null,null,null,null,2,null,15,"Division 2","1970-10-31",null,"QPR","(H)",null,null,"W 3-0","King","B Brown","Cripps","Dorney","Kitchener","Burnett","Bridges","Dunphy","Bolland","Possee ()","Allder","S Brown ()",null,1,null,null,null,null,null,null,1,21,null,null,null,"Own Goal",null,null,null,null,{"$f":"COUNTIF($CY$76:$DH$125,BO92)","v":2},null,null,null,{"$f":"COUNTIF($CY$76:$DH$125,BS92)","v":0},null,null,null,{"$f":"COUNTIF($CY$76:$DH$125,BW92)","v":0},null,null,null,null,null,null,null,null,null,null,null,null,null,null,null,null,null,null,null,"Bolton","(H)","W 2-0","Bolland","Bridges"]
[null,null,null,null,null,null,null,null,null,null,null,"Min",null,null,null,null,null,null,null,null,null,null,{"$f":"MIN(W65:W87)","v":0},{"$f":"MIN(X65:X87)","v":5363},null,null,null,null,null,null,10,null,16,"Division 2","1970-11-07",null,"Sheff Wed","(A)",null,null,"L 0-1","King","B Brown","Cripps","Dorney","Kitchener","Burnett","Bridges","Dunphy","Bolland ()","Possee","Allder","S Brown ()",null,1,null,null,null,null,null,null,1,22,null,null,null,null,null,null,null,null,null,null,null,null,null,null,null,null,null,null,null,null,null,null,null,null,null,null,null,null,null,null,null,null,null,null,null,null,"Bristol C","(H)","W 2-0","Cripps","Allder"]
[null,null,null,null,null,null,null,null,null,null,null,null,null,null,null,null,null,null,null,null,null,null,null,null,null,null,null,null,null,null,2,null,17,"Division 2","1970-11-14",null,"Bolton","(H)",null,null,"W 2-0","King","B Brown","Cripps","Dorney","Kitchener","Burnett","Bridges","Dunphy","Bolland","Possee","Allder",null,null,1,null,null,null,null,null,null,1,23,null,null,null,null,null,null,null,null,null,null,null,null,null,null,null,null,null,null,null,null,null,null,null,null,null,null,null,null,null,null,null,null,null,null,null,null,"Middlesbro","(A)","L 0-1"]
[null,null,null,null,null,null,null,null,null,null,null,"Av",null,null,null,null,null,null,null,null,null,null,{"$f":"AVERAGE(W65:W87)","v":{"$error":"#DIV/0!"}},{"$f":"AVERAGE(X65:X87)","v":9834.5714285714294},null,null,null,null,null,null,11,null,18,"Division 2","1970-11-21",null,"Bristol C","(H)",null,null,"W 2-0","King","B Brown","Cripps","Dorney","Kitchener","Burnett","Bridges","Dunphy","Bolland","Possee","Allder",null,null,1,null,null,null,null,null,null,1,24,null,null,null,null,null,null,null,null,null,null,null,null,null,null,null,null,null,null,null,null,null,null,null,null,null,null,null,null,null,null,null,null,null,null,null,null,"Birmingham","(H)","W 2-1","Cripps","Bridges"]
[null,null,null,null,null,null,null,null,null,null,null,null,null,null,null,null,null,null,null,null,null,null,null,null,null,null,null,null,null,null,2,null,19,"Division 2","1970-11-28",null,"Middlesbro","(A)",null,null,"L 0-1","King","B Brown","Cripps","Dorney","Kitchener","Burnett","Bridges","Dunphy","Bolland","Possee","Allder",null,null,1,null,null,null,null,null,null,1,25,null,null,null,null,null,null,null,null,null,null,null,null,null,null,null,null,null,null,null,null,null,null,null,null,null,null,null,null,null,null,null,null,null,null,null,null,"Leicester","(A)","L 1-2","Cripps"]
[null,null,null,null,null,null,null,null,null,null,null,"Weekend",null,null,null,null,null,null,null,null,null,null,{"$f":"SUMIF(Y65:Y88,\"w\",W65:W88)","v":0},{"$f":"SUMIF(Z65:Z88,\"w\",X65:X88)","v":170236},null,{"$f":"COUNTIF(Z65:Z90,\"w\")","v":17},null,null,null,null,12,null,20,"Division 2","1970-12-05",null,"Birmingham","(H)",null,null,"W 2-1","King","B Brown","Cripps","Jacks","Kitchener","Burnett","Bridges","Dunphy","Bolland","Possee","Allder",null,null,1,null,null,null,null,null,null,1,26,null,null,null,null,null,null,null,null,null,null,null,null,null,null,null,null,null,null,null,null,null,null,null,null,null,null,null,null,null,null,null,null,null,null,null,null,"Cardiff","(H)","W 2-1","Bridges","Bridges"]
[null,null,null,null,null,null,null,null,null,null,null,"Midweek",null,null,null,null,null,null,null,null,null,null,{"$f":"SUMIF(Y65:Y88,\"m\",W65:W88)","v":0},{"$f":"SUMIF(Z65:Z88,\"m\",X65:X88)","v":36290},null,{"$f":"COUNTIF(Z65:Z90,\"m\")","v":4},null,null,null,null,2,null,21,"Division 2","1970-12-12",null,"Leicester","(A)",null,null,"L 1-2","King","B Brown","Cripps","Dorney","Kitchener","Burnett","Possee","Bolland","Bridges","Dunphy","Allder ()","S Brown ()",null,1,null,null,null,null,null,null,1,28,null,null,null,null,null,null,null,null,null,null,null,null,null,null,null,null,null,null,null,null,null,null,null,null,null,null,null,null,null,null,null,null,null,null,null,null,"Swindon","(H)","D 2-2","Bridges","Possee"]
[null,null,null,null,null,null,null,null,null,null,null,null,null,null,null,null,null,null,null,null,null,null,null,null,null,null,null,null,null,null,13,null,22,"Division 2","1970-12-19",null,"Cardiff","(H)",null,null,"W 2-1","King","B Brown","Cripps","Dorney","Kitchener","Burnett","Possee ()","Bolland","Bridges","Dunphy","Allder","S Brown ()",null,1,null,null,null,null,null,null,1,29,null,null,null,null,null,null,null,null,null,null,null,null,null,null,null,null,null,null,null,null,null,null,null,null,null,null,null,null,null,null,null,null,null,null,null,null,"Watford","(A)","W 4-0","Bridges","Cripps","Burnett","Dunphy"]
[null,null,null,null,null,null,null,null,null,null,null,"Weekend",null,null,null,null,null,null,null,null,null,null,{"$f":"W97/Y97","v":{"$error":"#DIV/0!"}},{"$f":"X97/Z97","v":10013.882352941177},null,null,null,null,null,null,2,null,23,"Division 2","1971-01-09",null,"Swindon","(H)",null,null,"D 2-2","King","B Brown ()","Cripps","Dorney","Kitchener","Burnett","Possee","Bolland","Bridges","Dunphy","Allder","S Brown ()",null,1,null,null,null,null,null,null,1,30,null,null,null,null,null,null,null,null,null,null,null,null,null,null,null,null,null,null,null,null,null,null,null,null,null,null,null,null,null,null,null,null,null,null,null,null,"Norwich","(H)","D 2-2","Possee","Cripps"]
[null,null,null,null,null,null,null,null,null,null,null,"Midweek",null,null,null,null,null,null,null,null,null,null,{"$f":"W98/Y98","v":{"$error":"#DIV/0!"}},{"$f":"X98/Z98","v":9072.5},null,null,null,null,null,null,14,null,24,"Division 2","1971-01-16",null,"Watford","(A)",null,null,"W 4-0","King","B Brown","Cripps","Dorney","Kitchener","Burnett","Possee","Bolland","Bridges","Dunphy","Allder",null,null,1,null,null,null,null,null,null,1,31,null,null,null,null,null,null,null,null,null,null,null,null,null,null,null,null,null,null,null,null,null,null,null,null,null,null,null,null,null,null,null,null,null,null,null,null,"Middlesbro","(H)","W 1-0","Kitchener"]
[null,null,null,null,null,null,null,null,null,null,null,null,null,null,null,null,null,null,null,null,null,null,null,null,null,null,null,null,null,null,2,null,25,"Division 2","1971-01-23",null,"Norwich","(H)",null,null,"D 2-2","King","B Brown","Cripps","Dorney","Kitchener","Burnett","Possee","Dunphy","Bridges","Bolland","Allder",null,null,1,null,null,null,null,null,null,1,null,null,null,null,null,null,null,null,null,null,null,null,null,null,null,null,null,null,null,null,null,null,null,null,null,null,null,null,null,null,null,null,null,null,null,null,null,"Birmingham","(A)","L 1-3","Neil"]
[null,null,null,null,null,null,null,null,null,null,null,null,null,null,null,null,null,null,null,null,null,null,null,null,null,null,null,null,null,null,15,null,26,"Division 2","1971-01-30",null,"Middlesbro","(H)",null,null,"W 1-0","King","B Brown","Cripps","Dorney","Kitchener","Burnett","Possee","Bolland","Bridges","Dunphy","Neil ()","S Brown ()",null,1,null,null,null,null,null,null,1,null,null,null,null,null,null,null,null,null,null,null,null,null,null,null,null,null,null,null,null,null,null,null,null,null,null,null,null,null,null,null,null,null,null,null,null,null,"Bristol C","(A)","L 2-3","Cripps","Bridges"]
[null,null,null,null,null,null,null,null,null,null,null,null,null,null,null,null,null,null,null,null,null,null,null,null,null,null,null,null,null,null,2,null,27,"Division 2","1971-02-06",null,"Birmingham","(A)",null,null,"L 1-3","King","B Brown","Cripps","Dorney","Kitchener","Burnett","Possee","Bolland","Bridges","Dunphy","Neil ()","Holmes ()",null,1,null,null,null,null,null,null,1,null,null,null,null,null,null,null,null,null,null,null,null,null,null,null,null,null,null,null,null,null,null,null,null,null,null,null,null,null,null,null,null,null,null,null,null,null,"QPR","(A)","L 0-2"]
[null,null,null,null,null,null,null,null,null,null,null,null,null,null,null,null,null,null,null,null,null,null,null,null,null,null,null,null,null,null,16,null,28,"Division 2","1971-02-20",null,"Bristol C","(A)",null,null,"L 2-3","King","B Brown","Cripps","Dorney","Kitchener","Garner","S Brown ()","Bolland","Bridges","Dunphy","Allder","Neil ()",null,1,null,null,null,null,null,null,1,null,null,null,null,null,null,null,null,null,null,null,null,null,null,null,null,null,null,null,null,null,null,null,null,null,null,null,null,null,null,null,null,null,null,null,null,null,"Leicester","(H)","D 0-0"]
[null,null,null,null,null,null,null,null,null,null,null,null,null,null,null,null,null,null,null,null,null,null,null,null,null,null,null,null,null,null,2,null,29,"Division 2","1971-02-27",null,"QPR","(A)",null,null,"L 0-2","King","B Brown","Cripps","Dorney","Kitchener","Bolland","Possee","Jacks","Bridges","Neil","Allder",null,null,1,null,null,null,null,null,null,1,null,null,null,null,"Check",null,{"$f":"SUM(BQ72:BQ88)","v":462},null,null,null,null,null,null,null,null,null,null,null,null,null,null,null,null,null,null,null,null,null,null,null,null,null,null,null,null,null,null,"Leyton Orient","(H)","L 0-1"]
[null,null,null,null,null,null,null,null,null,null,null,null,null,null,null,null,null,null,null,null,null,null,null,null,null,null,null,null,null,null,17,null,30,"Division 2","1971-03-01",null,"Leicester","(H)",null,null,"D 0-0","King","B Brown","Cripps","Dorney","Kitchener","Burnett","Possee","Jacks","Bridges","Bolland","Allder",null,null,1,null,null,null,null,null,null,1,null,null,null,null,null,null,null,null,null,null,null,null,null,null,null,null,null,null,null,null,null,null,null,null,null,null,null,null,null,null,null,null,null,null,null,null,null,"Bolton","(A)","D 1-1","Possee"]
[null,null,null,null,null,null,null,null,null,null,null,null,null,null,null,null,null,null,null,null,null,null,null,null,null,null,null,null,null,null,2,null,31,"Division 2","1971-03-06",null,"Leyton Orient","(H)",null,null,"L 0-1","King","B Brown","Cripps","Dorney","Kitchener","Burnett","Possee","Neil ()","Bridges","Bolland","Allder","Dunphy ()",null,1,null,null,null,null,null,null,1,null,null,null,null,null,null,{"$f":"42*11","v":462},null,null,null,null,null,null,null,null,null,null,null,null,null,null,null,null,null,null,null,null,null,null,null,null,null,null,null,null,null,null,"Sheff Wed","(H)","W 1-0","Allder"]
[null,null,null,null,null,null,null,null,null,null,null,null,null,null,null,null,null,null,null,null,null,null,null,null,null,null,null,null,null,null,18,null,32,"Division 2","1971-03-13",null,"Bolton","(A)",null,null,"D 1-1","King","B Brown","Cripps","Dorney","Kitchener","Burnett","Possee","Bolland","Bridges","Dunphy","Allder",null,null,1,null,null,null,null,null,null,1,null,null,null,null,null,null,null,null,null,null,null,null,null,null,null,null,null,null,null,null,null,null,null,null,null,null,null,null,null,null,null,null,null,null,null,null,null,"Charlton","(H)","W 2-0","Possee","Kitchener"]
[null,null,null,null,null,null,null,null,null,null,null,null,null,null,null,null,null,null,null,null,null,null,null,null,null,null,null,null,null,null,2,null,33,"Division 2","1971-03-20",null,"Sheff Wed","(H)",null,null,"W 1-0","King","B Brown","Cripps","Dorney","Kitchener","Burnett","Possee","Bolland","Bridges","Dunphy","Allder",null,null,1,null,null,null,null,null,null,1,null,null,null,null,null,null,null,null,null,null,null,null,null,null,null,null,null,null,null,null,null,null,null,null,null,null,null,null,null,null,null,null,null,null,null,null,null,"Luton","(A)","D 1-1","B Brown"]
[null,null,null,null,null,null,null,null,null,null,null,null,null,null,null,null,null,null,null,null,null,null,null,null,null,null,null,null,null,null,19,null,34,"Division 2","1971-03-27",null,"Charlton","(H)",null,null,"W 2-0","King","B Brown","Cripps","Dorney","Kitchener","Burnett","Possee","Bolland","Bridges","Dunphy","Allder",null,null,1,null,null,null,null,null,null,1,null,null,null,null,null,null,null,null,null,null,null,null,null,null,null,null,null,null,null,null,null,null,null,null,null,null,null,null,null,null,null,null,null,null,null,null,null,"Portsmouth","(A)","W 2-0","Bridges","Bolland"]
[null,null,null,null,null,null,null,null,null,null,null,null,null,null,null,null,null,null,null,null,null,null,null,null,null,null,null,null,null,null,2,null,35,"Division 2","1971-03-30",null,"Luton","(A)",null,null,"D 1-1","King","B Brown","Cripps","Dorney","Kitchener","Burnett","Possee","Bolland","Bridges","Dunphy","Allder",null,null,1,null,null,null,null,null,null,1,null,null,null,null,null,null,null,null,null,null,null,null,null,null,null,null,null,null,null,null,null,null,null,null,null,null,null,null,null,null,null,null,null,null,null,null,null,"Carlisle","(H)","W 2-1","Bridges","Bolland"]
[null,null,null,null,null,null,null,null,null,null,null,null,null,null,null,null,null,null,null,null,null,null,null,null,null,null,null,null,null,null,20,null,36,"Division 2","1971-04-03",null,"Portsmouth","(A)",null,null,"W 2-0","King","B Brown","Cripps","Dorney","Kitchener","Burnett","Possee","Bolland","Bridges","Dunphy","Coxhill",null,null,1,null,null,null,null,null,null,1,null,null,null,null,null,null,null,null,null,null,null,null,null,null,null,null,null,null,null,null,null,null,null,null,null,null,null,null,null,null,null,null,null,null,null,null,null,"Luton","(H)","W 4-0","Possee","Possee","Bridges","B Brown"]
[null,null,null,null,null,null,null,null,null,null,null,null,null,null,null,null,null,null,null,null,null,null,null,null,null,null,null,null,null,null,2,null,37,"Division 2","1971-04-05",null,"Carlisle","(H)",null,null,"W 2-1","King","B Brown","Cripps","Dorney","Kitchener","Burnett","Possee","Bolland","Bridges","Dunphy","Allder",null,null,1,null,null,null,null,null,null,1,null,null,null,null,null,null,null,null,null,null,null,null,null,null,null,null,null,null,null,null,null,null,null,null,null,null,null,null,null,null,null,null,null,null,null,null,null,"Sheff Utd","(A)","L 0-2"]
[null,null,null,null,null,null,null,null,null,null,null,null,null,null,null,null,null,null,null,null,null,null,null,null,null,null,null,null,null,null,21,null,38,"Division 2","1971-04-10",null,"Luton","(H)",null,null,"W 4-0","King","B Brown","Cripps","Dorney","Kitchener","Burnett","Possee","Bolland","Bridges","Dunphy","Allder",null,null,1,null,null,null,null,null,null,1,null,null,null,null,null,null,null,null,null,null,null,null,null,null,null,null,null,null,null,null,null,null,null,null,null,null,null,null,null,null,null,null,null,null,null,null,null,"Blackburn","(A)","W 2-0","Allder","Dunphy"]
[null,null,null,null,null,null,null,null,null,null,null,null,null,null,null,null,null,null,null,null,null,null,null,null,null,null,null,null,null,null,2,null,39,"Division 2","1971-04-13",null,"Sheff Utd","(A)",null,null,"L 0-2","King","B Brown","Cripps","Dorney","Kitchener","Burnett","Possee","Bolland","Bridges","Dunphy","Allder ()","Coxhill ()",null,1,null,null,null,null,null,null,1,null,null,null,null,null,null,null,null,null,null,null,null,null,null,null,null,null,null,null,null,null,null,null,null,null,null,null,null,null,null,null,null,null,null,null,null,null,"Hull","(H)","W 4-0","Possee","Cripps","Bridges","Kitchener"]
[null,null,null,null,null,null,null,null,null,null,null,null,null,null,null,null,null,null,null,null,null,null,null,null,null,null,null,null,null,null,22,null,40,"Division 2","1971-04-17",null,"Blackburn","(A)",null,null,"W 2-0","King","B Brown","Cripps","Dorney","Kitchener","Burnett","Possee","Bolland","Bridges","Dunphy","Allder",null,null,1,null,null,null,null,null,null,1,null,null,null,null,null,null,null,null,null,null,null,null,null,null,null,null,null,null,null,null,null,null,null,null,null,null,null,null,null,null,null,null,null,null,null,null,null,"Sunderland","(A)","W 1-0","Own Goal"]
[null,null,null,null,null,null,null,null,null,null,null,null,null,null,null,null,null,null,null,null,null,null,null,null,null,null,null,null,null,null,2,null,41,"Division 2","1971-04-24",null,"Hull","(H)",null,null,"W 4-0","King","B Brown","Cripps","Dorney","Kitchener","Burnett","Possee","Bolland","Bridges","Dunphy","Allder",null,null,1]
[null,null,null,null,null,null,null,null,null,null,null,null,null,null,null,null,null,null,null,null,null,null,null,null,null,null,null,null,null,null,23,null,42,"Division 2","1971-05-01",null,"Sunderland","(A)",null,null,"W 1-0","King","B Brown","Cripps","Dorney","Kitchener","Burnett","Possee","Bolland","Bridges","Dunphy","Coxhill",null,null,1]
[null,null,null,null,null,null,null,null,null,null,null,null,null,null,null,null,null,null,null,null,null,null,null,null,null,null,null,null,null,null,2]
[null,null,null,null,null,null,null,null,null,null,null,null,null,null,null,null,null,null,null,null,null,null,null,null,null,null,null,null,null,null,24]
[null,null,null,null,null,null,null,null,null,null,null,null,null,null,null,null,null,null,null,null,null,null,null,null,null,null,null,null,null,null,2]
[null,null,null,null,null,null,null,null,null,null,null,null,null,null,null,null,null,null,null,null,null,null,null,null,null,null,null,null,null,null,1]
[null,null,null,null,null,null,null,null,null,null,null,null,null,null,null,null,null,null,null,null,null,null,null,null,null,null,null,null,null,null,2]
[null,null,null,null,null,null,null,null,null,null,null,null,null,null,null,null,null,null,null,null,null,null,null,null,null,null,null,null,null,null,1]
[null,null,null,null,null,null,null,null,null,null,null,null,null,null,null,null,null,null,null,null,null,null,null,null,null,null,null,null,null,null,2,null,30,"League Cup 2","1970-09-09",null,"Stoke City","(A)",null,null,"D 0-0","King","B Brown","Cripps","Dorney","Kitchener","Burnett","S Brown","Jacks","Bolland","Dunphy","Allder",null,null,1]
[null,null,null,null,null,null,null,null,null,null,null,null,null,null,null,null,null,null,null,null,null,null,null,null,null,null,null,null,null,null,1,null,31,"League Cup 2 R","1970-09-21",null,"Stoke City","(H)",null,null,"W 2-1","King","B Brown","Cripps","Dorney","Kitchener","Burnett","S Brown","Dunphy","Bolland","Possee","Allder",null,null,1]
[null,null,null,null,null,null,null,null,null,null,null,null,null,null,null,null,null,null,null,null,null,null,null,null,null,null,null,null,null,null,2,null,6,"League Cup 3","1970-10-07",null,"Derby Co","(A)",null,null,"L 2-4","King","B Brown","Cripps","Dorney","Kitchener","Burnett","S Brown","Dunphy","Bolland","Possee","Allder",null,null,1]
[null,null,null,null,null,null,null,null,null,null,null,null,null,null,null,null,null,null,null,null,null,null,null,null,null,null,null,null,null,null,1,null,null,null,null,null,null,null,null,null,null,null,null,null,null,null,null,null,null,null,null,null,null,null,null,null,null,null,null,null,null,null,null,null,null,null,null,null,null,null,null,null,null,null,null,null,null,null,null,null,null,null,null,null,null,null,null,null,null,null,null,null,null,null,{"$f":"CO130&\" \"&BO126","v":" "}]
[null,null,null,null,null,null,null,null,null,null,null,null,null,null,null,null,null,null,null,null,null,null,null,null,null,null,null,null,null,null,2]
[null,null,null,null,null,null,null,null,null,null,null,null,null,null,null,null,null,null,null,null,null,null,null,null,null,null,null,null,null,null,1,null,null,null,null,null,null,null,null,null,null,null,null,null,null,null,null,null,null,null,null,null,null,null,null,null,null,null,null,null,null,null,null,null,null,null,null,null,null,null,null,null,null,null,null,null,null,null,null,null,null,null,null,null,null,null,null,null,null,null,null,null,null,null,null,null,null,null,null,null,null,null,"Goals FA Cup"]
[null,null,null,null,null,null,null,null,null,null,null,null,null,null,null,null,null,null,null,null,null,null,null,null,null,null,null,null,null,null,2,null,null,null,null,null,null,null,null,null,null,null,null,null,null,null,null,null,null,null,null,null,null,null,null,null,null,null,null,null,null,null,null,null,null,null,null,null,null,null,null,null,null,null,null,null,null,null,null,null,null,null,null,null,null,null,null,null,null,null,null,null,null,null,null,null,null,null,null,null,null,null,1,2,3,4,5,6,7,8,7,8,9]
[null,null,null,null,null,null,null,null,null,null,null,null,null,null,null,null,null,null,null,null,null,null,null,null,null,null,null,null,null,null,1]
[null,null,null,null,null,null,null,null,null,null,null,null,null,null,null,null,null,null,null,null,null,null,null,null,null,null,null,null,null,null,2,null,null,null,null,null,null,null,null,null,null,null,null,null,null,null,null,null,null,null,null,null,null,null,null,null,null,null,null,null,null,null,null,null,null,null,null,null,null,null,null,null,null,null,null,null,null,null,null,null,null,null,null,null,null,null,null,null,null,null,null,null,null,null,null,null,null,null,null,"Stoke","(A)","L 1-2","Possee",null,null,null,null,null,null,null,null,null,null,null,null,null,"Bolland","Smethurst","Possee"]
[null,null,null,null,null,null,null,null,null,null,null,null,null,null,null,null,null,null,null,null,null,null,null,null,null,null,null,null,null,null,1,null,null,null,null,null,null,null,null,null,null,null,null,null,null,null,null,null,null,null,null,null,null,null,null,null,null,null,null,null,null,null,null,null,null,null,null,null,null,null,null,null,null,null,null,null,null,null,null,null,null,null,null,null,null,null,null,null,null,null,null,null,null,null,null,null,null,null,null,null,null,null,null,null,null,null,null,null,null,null,null,null,null,null,null,null,"Smethurst","Possee"]
[null,null,null,null,null,null,null,null,null,null,null,null,null,null,null,null,null,null,null,null,null,null,null,null,null,null,null,null,null,null,2,null,27,"FA Cup 3","1971-01-02",null,"Stoke City","(A)",null,null,"L 1-2","King","B Brown","Cripps","Dorney","Kitchener","Burnett","Bridges","Dunphy","Bolland","Possee","Allder",null,null,1,null,null,null,null,null,null,null,null,null,null,null,null,null,null,null,null,null,null,null,null,null,null,null,null,null,null,null,null,null,null,null,null,null,null,null,null,null,null,null,null,null,null,null,null,null,null,null,null,null,null,null,null,null,null,null,null,null,null,null,null,null,"Burnett"]
[null,null,null,null,null,null,null,null,null,null,null,null,null,null,null,null,null,null,null,null,null,null,null,null,null,null,null,null,null,null,1]
[null,null,null,null,null,null,null,null,null,null,null,null,null,null,null,null,null,null,null,null,null,null,null,null,null,null,null,null,null,null,2]
[null,null,null,null,null,null,null,null,null,null,null,null,null,null,null,null,null,null,null,null,null,null,null,null,null,null,null,null,null,null,1]
[null,null,null,null,null,null,null,null,null,null,null,null,null,null,null,null,null,null,null,null,null,null,null,null,null,null,null,null,null,null,{"$f":"IF(AE139=0,1,IF(AE139=2,1,2))","v":2}]
[null,null,null,null,null,null,null,null,null,null,null,null,null,null,null,null,null,null,null,null,null,null,null,null,null,null,null,null,null,null,1]
[null,null,null,null,null,null,null,null,null,null,null,null,null,null,null,null,null,null,null,null,null,null,null,null,null,null,null,null,null,null,2,null,null,null,null,null,null,null,null,null,null,null,null,null,null,null,null,null,null,null,null,null,null,null,null,null,null,null,null,null,null,null,null,null,null,null,null,null,null,null,null,null,null,null,null,null,null,null,null,null,null,null,null,null,null,null,null,null,null,null,null,null,null,null,null,null,null,null,null,null,null,null,"League Cup Goals"]
[null,null,null,null,null,null,null,null,null,null,null,null,null,null,null,null,null,null,null,null,null,null,null,null,null,null,null,null,null,null,1,null,null,null,null,null,null,null,null,null,null,null,null,null,null,null,null,null,null,null,null,null,null,null,null,null,null,null,null,null,null,null,null,null,null,null,null,null,null,null,null,null,null,null,null,null,null,null,null,null,null,null,null,null,null,null,null,null,null,null,null,null,null,null,null,null,null,null,null,null,null,null,1,2,3,4,5,6,7,8,7,8,9]
[null,null,null,null,null,null,null,null,null,null,null,null,null,null,null,null,null,null,null,null,null,null,null,null,null,null,null,null,null,null,{"$f":"IF(AE143=0,1,IF(AE143=2,1,2))","v":2}]
[null,null,null,null,null,null,null,null,null,null,null,null,null,null,null,null,null,null,null,null,null,null,null,null,null,null,null,null,null,null,1,null,null,null,null,null,null,null,null,null,null,null,null,null,null,null,null,null,null,null,null,null,null,null,null,null,null,null,null,null,null,null,null,null,null,null,null,null,null,null,null,null,null,null,null,null,null,null,null,null,null,null,null,null,null,null,null,null,null,null,null,null,null,null,null,null,null,null,null,"Stoke","(A)","D 0-0"]
[null,null,null,null,null,null,null,null,null,null,null,null,null,null,null,null,null,null,null,null,null,null,null,null,null,null,null,null,null,null,null,null,null,null,null,null,null,null,null,null,null,null,null,null,null,null,null,null,null,null,null,null,null,null,null,null,null,null,null,null,null,null,null,null,null,null,null,null,null,null,null,null,null,null,null,null,null,null,null,null,null,null,null,null,null,null,null,null,null,null,null,null,null,null,null,null,null,null,null,"Stoke","(A)","W 2-1","Possee"]
[null,null,null,null,null,null,null,null,null,null,null,null,null,null,null,null,null,null,null,null,null,null,null,null,null,null,null,null,null,null,null,null,null,null,null,null,null,null,null,null,null,null,null,null,null,null,null,null,null,null,null,null,null,null,null,null,null,null,null,null,null,null,null,null,null,null,null,null,null,null,null,null,null,null,null,null,null,null,null,null,null,null,null,null,null,null,null,null,null,null,null,null,null,null,null,null,null,null,null,"Derby","(A)","L 2-4","Possee","Bolland"]

{"sheet":"Comparisons","index":1,"n_rows":265,"n_cols":93,"rows_kept":265,"cut":false,"hidden":false,"merged":[]}
[]
[null,null,null,null,null,null,null,null,null,null,{"$f":"IF(K3=0,0,1)","v":1},{"$f":"IF(L3=0,0,1)","v":1},1,1,1,1,1,1,1,1,1,1,1,1,1,1,1,0,0,0,1,0,0,0,0,0,0,0,0,0,0,0,0,0,null,null,null,null,null,null,null,null,null,null,null,null,null,null,null,null,null,null,null,null,null,null,null,null,null,null,null,{"$f":"IF(BT3=0,0,1)","v":1},0,0,0,0,0,0,0,0,0,0,0]
["Formulas",null,null,null,null,"Date",null,"Opponents","Venue / Result",null,{"$f":"Millwall!$BO$72","v":"Allder"},{"$f":"Millwall!$BO$73","v":"Bolland"},{"$f":"Millwall!$BO$74","v":"Bridges"},{"$f":"Millwall!$BO$75","v":"B Brown"},{"$f":"Millwall!$BO$76","v":"S Brown"},{"$f":"Millwall!$BO$77","v":"Burnett"},{"$f":"Millwall!$BO$78","v":"Coxhill"},{"$f":"Millwall!$BO$79","v":"Cripps"},{"$f":"Millwall!$BO$80","v":"Dorney"},{"$f":"Millwall!$BO$81","v":"Dunphy"},{"$f":"Millwall!$BO$82","v":"Garner"},{"$f":"Millwall!$BO$83","v":"Holmes"},{"$f":"Millwall!$BO$84","v":"Jacks"},{"$f":"Millwall!$BO$85","v":"King"},{"$f":"Millwall!$BO$86","v":"Kitchener"},{"$f":"Millwall!$BO$87","v":"Neil"},{"$f":"Millwall!$BO$88","v":"Possee"},{"$f":"Millwall!$BO$89","v":0},{"$f":"Millwall!$BO$90","v":0},{"$f":"Millwall!$BO$91","v":0},{"$f":"Millwall!$BO$92","v":"Own Goal"},{"$f":"Millwall!$BO$93","v":0},{"$f":"Millwall!$BO$94","v":0},{"$f":"Millwall!$BO$95","v":0},{"$f":"Millwall!$BO$96","v":0},{"$f":"Millwall!$BO$97","v":0},{"$f":"Millwall!$BO$98","v":0},{"$f":"Millwall!$BO$99","v":0},{"$f":"Millwall!$BO$100","v":0},{"$f":"Millwall!$BO$101","v":0},{"$f":"Millwall!$BO$102","v":0},{"$f":"Millwall!$BO$103","v":0},{"$f":"Millwall!$BO$104","v":0},{"$f":"Millwall!$BO$105","v":0},null,null,null,null,null,{"$f":"Millwall!$BN72&\" (**\"","v":"Allder** (**"},{"$f":"Millwall!$BN73&\" (**\"","v":"Bolland** (**"},{"$f":"Millwall!$BN74&\" (**\"","v":"Bridges** (**"},{"$f":"Millwall!$BN75&\" (**\"","v":"B Brown** (**"},{"$f":"Millwall!$BN76&\" (**\"","v":"S Brown** (**"},{"$f":"Millwall!$BN77&\" (**\"","v":"Burnett** (**"},{"$f":"Millwall!$BN78&\" (**\"","v":"Coxhill** (**"},{"$f":"Millwall!$BN79&\" (**\"","v":"Cripps** (**"},{"$f":"Millwall!$BN80&\" (**\"","v":"Dorney** (**"},{"$f":"Millwall!$BN81&\" (**\"","v":"Dunphy** (**"},{"$f":"Millwall!$BN82&\" (**\"","v":"Garner** (**"},{"$f":"Millwall!$BN83&\" (**\"","v":"Holmes** (**"},{"$f":"Millwall!$BN84&\" (**\"","v":"Jacks** (**"},{"$f":"Millwall!$BN85&\" (**\"","v":"King** (**"},{"$f":"Millwall!$BN86&\" (**\"","v":"Kitchener** (**"},{"$f":"Millwall!$BN87&\" (**\"","v":"Neil** (**"},{"$f":"Millwall!$BN88&\" (**\"","v":"Possee** (**"},{"$f":"Millwall!$BN89&\" (**\"","v":" (**"},{"$f":"Millwall!$BN90&\" (**\"","v":" (**"},{"$f":"Millwall!$BN91&\" (**\"","v":" (**"},{"$f":"Millwall!$BN92&\" (**\"","v":" (**"},{"$f":"Millwall!$BN93&\" (**\"","v":" (**"},{"$f":"Millwall!$BN94&\" (**\"","v":" (**"}]
[null,null,1,null,null,null,null,null,null,null,"Allder**","Bolland**","Bridges**","B Brown**","S Brown**","Burnett**","Coxhill**","Cripps**","Dorney**","Dunphy**","Garner**","Holmes**","Jacks**","King**","Kitchener**","Neil**","Possee**"]
[null,null,{"$f":"IF(J5=0,1,0)","v":0},1,null,{"$f":"Millwall!AI78","v":"1970-08-15"},null,{"$f":"Millwall!AK78","v":"Oxford"},{"$f":"Millwall!AL78","v":"(H)"},{"$f":"Millwall!AO78","v":"L 1-2"},{"$f":"MATCH(K$4,Millwall!$AP78:$BA78,0)","v":11},{"$f":"MATCH(L$4,Millwall!$AP78:$BA78,0)","v":9},{"$f":"MATCH(M$4,Millwall!$AP78:$BA78,0)","v":{"$error":"#N/A"}},{"$f":"MATCH(N$4,Millwall!$AP78:$BA78,0)","v":2},{"$f":"MATCH(O$4,Millwall!$AP78:$BA78,0)","v":{"$error":"#N/A"}},{"$f":"MATCH(P$4,Millwall!$AP78:$BA78,0)","v":6},{"$f":"MATCH(Q$4,Millwall!$AP78:$BA78,0)","v":{"$error":"#N/A"}},{"$f":"MATCH(R$4,Millwall!$AP78:$BA78,0)","v":3},{"$f":"MATCH(S$4,Millwall!$AP78:$BA78,0)","v":4},{"$f":"MATCH(T$4,Millwall!$AP78:$BA78,0)","v":10},{"$f":"MATCH(U$4,Millwall!$AP78:$BA78,0)","v":{"$error":"#N/A"}},{"$f":"MATCH(V$4,Millwall!$AP78:$BA78,0)","v":{"$error":"#N/A"}},{"$f":"MATCH(W$4,Millwall!$AP78:$BA78,0)","v":8},{"$f":"MATCH(X$4,Millwall!$AP78:$BA78,0)","v":1},{"$f":"MATCH(Y$4,Millwall!$AP78:$BA78,0)","v":5},{"$f":"MATCH(Z$4,Millwall!$AP78:$BA78,0)","v":{"$error":"#N/A"}},{"$f":"MATCH(AA$4,Millwall!$AP78:$BA78,0)","v":7},{"$f":"MATCH(AB$4,Millwall!$AP78:$BA78,0)","v":{"$error":"#N/A"}},{"$f":"MATCH(AC$4,Millwall!$AP78:$BA78,0)","v":{"$error":"#N/A"}},{"$f":"MATCH(AD$4,Millwall!$AP78:$BA78,0)","v":{"$error":"#N/A"}},{"$f":"MATCH(AE$4,Millwall!$AP78:$BA78,0)","v":{"$error":"#N/A"}},{"$f":"MATCH(AF$4,Millwall!$AP78:$BA78,0)","v":{"$error":"#N/A"}},{"$f":"MATCH(AG$4,Millwall!$AP78:$BA78,0)","v":{"$error":"#N/A"}},{"$f":"MATCH(AH$3,Millwall!$AP78:$BA78,0)","v":{"$error":"#N/A"}},{"$f":"MATCH(AI$3,Millwall!$AP78:$BA78,0)","v":{"$error":"#N/A"}},{"$f":"MATCH(AJ$3,Millwall!$AP78:$BA78,0)","v":{"$error":"#N/A"}},{"$f":"MATCH(AK$3,Millwall!$AP78:$BA78,0)","v":{"$error":"#N/A"}},{"$f":"MATCH(AL$3,Millwall!$AP78:$BA78,0)","v":{"$error":"#N/A"}},{"$f":"MATCH(AM$3,Millwall!$AP78:$BA78,0)","v":{"$error":"#N/A"}},{"$f":"MATCH(AN$3,Millwall!$AP78:$BA78,0)","v":{"$error":"#N/A"}},{"$f":"MATCH(AO$3,Millwall!$AP78:$BA78,0)","v":{"$error":"#N/A"}},{"$f":"MATCH(AP$3,Millwall!$AP78:$BA78,0)","v":{"$error":"#N/A"}},{"$f":"MATCH(AQ$3,Millwall!$AP78:$BA78,0)","v":{"$error":"#N/A"}},{"$f":"MATCH(AR$3,Millwall!$AP78:$BA78,0)","v":{"$error":"#N/A"}},null,null,null,null,null,{"$f":"MATCH(AX$3,Millwall!$AP78:$BA78,0)","v":{"$error":"#N/A"}},{"$f":"MATCH(AY$3,Millwall!$AP78:$BA78,0)","v":{"$error":"#N/A"}},{"$f":"MATCH(AZ$3,Millwall!$AP78:$BA78,0)","v":{"$error":"#N/A"}},{"$f":"MATCH(BA$3,Millwall!$AP78:$BA78,0)","v":{"$error":"#N/A"}},{"$f":"MATCH(BB$3,Millwall!$AP78:$BA78,0)","v":{"$error":"#N/A"}},{"$f":"MATCH(BC$3,Millwall!$AP78:$BA78,0)","v":{"$error":"#N/A"}},{"$f":"MATCH(BD$3,Millwall!$AP78:$BA78,0)","v":{"$error":"#N/A"}},{"$f":"MATCH(BE$3,Millwall!$AP78:$BA78,0)","v":{"$error":"#N/A"}},{"$f":"MATCH(BF$3,Millwall!$AP78:$BA78,0)","v":{"$error":"#N/A"}},{"$f":"MATCH(BG$3,Millwall!$AP78:$BA78,0)","v":{"$error":"#N/A"}},{"$f":"MATCH(BH$3,Millwall!$AP78:$BA78,0)","v":{"$error":"#N/A"}},{"$f":"MATCH(BI$3,Millwall!$AP78:$BA78,0)","v":{"$error":"#N/A"}},{"$f":"MATCH(BJ$3,Millwall!$AP78:$BA78,0)","v":{"$error":"#N/A"}},{"$f":"MATCH(BK$3,Millwall!$AP78:$BA78,0)","v":{"$error":"#N/A"}},{"$f":"MATCH(BL$3,Millwall!$AP78:$BA78,0)","v":{"$error":"#N/A"}},{"$f":"MATCH(BM$3,Millwall!$AP78:$BA78,0)","v":{"$error":"#N/A"}},{"$f":"MATCH(BN$3,Millwall!$AP78:$BA78,0)","v":{"$error":"#N/A"}},{"$f":"MATCH(BO$3,Millwall!$AP78:$BA78,0)","v":{"$error":"#N/A"}},{"$f":"MATCH(BP$3,Millwall!$AP78:$BA78,0)","v":{"$error":"#N/A"}},{"$f":"MATCH(BQ$3,Millwall!$AP78:$BA78,0)","v":{"$error":"#N/A"}},{"$f":"MATCH(BR$3,Millwall!$AP78:$BA78,0)","v":{"$error":"#N/A"}},{"$f":"MATCH(BS$3,Millwall!$AP78:$BA78,0)","v":{"$error":"#N/A"}},{"$f":"MATCH(BT$3,Millwall!$AP78:$BA78,0)","v":{"$error":"#N/A"}},{"$f":"MATCH(BU$3,Millwall!$AP78:$BA78,0)","v":{"$error":"#N/A"}},{"$f":"MATCH(BV$3,Millwall!$AP78:$BA78,0)","v":{"$error":"#N/A"}},{"$f":"MATCH(BW$3,Millwall!$AP78:$BA78,0)","v":{"$error":"#N/A"}},{"$f":"MATCH(BX$3,Millwall!$AP78:$BA78,0)","v":{"$error":"#N/A"}},{"$f":"MATCH(BY$3,Millwall!$AP78:$BA78,0)","v":{"$error":"#N/A"}},{"$f":"MATCH(BZ$3,Millwall!$AP78:$BA78,0)","v":{"$error":"#N/A"}},{"$f":"MATCH(CA$3,Millwall!$AP78:$BA78,0)","v":{"$error":"#N/A"}},{"$f":"MATCH(CB$3,Millwall!$AP78:$BA78,0)","v":{"$error":"#N/A"}},{"$f":"MATCH(CC$3,Millwall!$AP78:$BA78,0)","v":{"$error":"#N/A"}},{"$f":"MATCH(CD$3,Millwall!$AP78:$BA78,0)","v":{"$error":"#N/A"}},{"$f":"MATCH(CE$3,Millwall!$AP78:$BA78,0)","v":{"$error":"#N/A"}},null,null,null,null,null,null,null,{"$f":"Millwall!$BO72","v":"Allder"},{"$f":"Millwall!$BN72&\" (**\"","v":"Allder** (**"},{"$f":"Millwall!$BN72&\"**\"","v":"Allder****"}]
[null,null,0,2,null,{"$f":"Millwall!AI79","v":"1970-08-22"},null,{"$f":"Millwall!AK79","v":"Cardiff"},{"$f":"Millwall!AL79","v":"(A)"},{"$f":"Millwall!AO79","v":"D 2-2"},{"$f":"MATCH(K$4,Millwall!$AP79:$BA79,0)","v":11},{"$f":"MATCH(L$4,Millwall!$AP79:$BA79,0)","v":9},{"$f":"MATCH(M$4,Millwall!$AP79:$BA79,0)","v":{"$error":"#N/A"}},{"$f":"MATCH(N$4,Millwall!$AP79:$BA79,0)","v":2},{"$f":"MATCH(O$4,Millwall!$AP79:$BA79,0)","v":12},{"$f":"MATCH(P$4,Millwall!$AP79:$BA79,0)","v":6},{"$f":"MATCH(Q$4,Millwall!$AP79:$BA79,0)","v":{"$error":"#N/A"}},{"$f":"MATCH(R$4,Millwall!$AP79:$BA79,0)","v":3},{"$f":"MATCH(S$4,Millwall!$AP79:$BA79,0)","v":4},{"$f":"MATCH(T$4,Millwall!$AP79:$BA79,0)","v":10},{"$f":"MATCH(U$4,Millwall!$AP79:$BA79,0)","v":{"$error":"#N/A"}},{"$f":"MATCH(V$4,Millwall!$AP79:$BA79,0)","v":{"$error":"#N/A"}},{"$f":"MATCH(W$4,Millwall!$AP79:$BA79,0)","v":8},{"$f":"MATCH(X$4,Millwall!$AP79:$BA79,0)","v":1},{"$f":"MATCH(Y$4,Millwall!$AP79:$BA79,0)","v":5},{"$f":"MATCH(Z$4,Millwall!$AP79:$BA79,0)","v":{"$error":"#N/A"}},{"$f":"MATCH(AA$4,Millwall!$AP79:$BA79,0)","v":7},{"$f":"MATCH(AB$4,Millwall!$AP79:$BA79,0)","v":{"$error":"#N/A"}},{"$f":"MATCH(AC$4,Millwall!$AP79:$BA79,0)","v":{"$error":"#N/A"}},{"$f":"MATCH(AD$4,Millwall!$AP79:$BA79,0)","v":{"$error":"#N/A"}},{"$f":"MATCH(AE$4,Millwall!$AP79:$BA79,0)","v":{"$error":"#N/A"}},{"$f":"MATCH(AF$4,Millwall!$AP79:$BA79,0)","v":{"$error":"#N/A"}},{"$f":"MATCH(AG$4,Millwall!$AP79:$BA79,0)","v":{"$error":"#N/A"}},{"$f":"MATCH(AH$3,Millwall!$AP79:$BA79,0)","v":{"$error":"#N/A"}},{"$f":"MATCH(AI$3,Millwall!$AP79:$BA79,0)","v":{"$error":"#N/A"}},{"$f":"MATCH(AJ$3,Millwall!$AP79:$BA79,0)","v":{"$error":"#N/A"}},{"$f":"MATCH(AK$3,Millwall!$AP79:$BA79,0)","v":{"$error":"#N/A"}},{"$f":"MATCH(AL$3,Millwall!$AP79:$BA79,0)","v":{"$error":"#N/A"}},{"$f":"MATCH(AM$3,Millwall!$AP79:$BA79,0)","v":{"$error":"#N/A"}},{"$f":"MATCH(AN$3,Millwall!$AP79:$BA79,0)","v":{"$error":"#N/A"}},{"$f":"MATCH(AO$3,Millwall!$AP79:$BA79,0)","v":{"$error":"#N/A"}},{"$f":"MATCH(AP$3,Millwall!$AP79:$BA79,0)","v":{"$error":"#N/A"}},{"$f":"MATCH(AQ$3,Millwall!$AP79:$BA79,0)","v":{"$error":"#N/A"}},{"$f":"MATCH(AR$3,Millwall!$AP79:$BA79,0)","v":{"$error":"#N/A"}},null,null,null,null,null,{"$f":"MATCH(AX$3,Millwall!$AP79:$BA79,0)","v":{"$error":"#N/A"}},{"$f":"MATCH(AY$3,Millwall!$AP79:$BA79,0)","v":{"$error":"#N/A"}},{"$f":"MATCH(AZ$3,Millwall!$AP79:$BA79,0)","v":{"$error":"#N/A"}},{"$f":"MATCH(BA$3,Millwall!$AP79:$BA79,0)","v":{"$error":"#N/A"}},{"$f":"MATCH(BB$3,Millwall!$AP79:$BA79,0)","v":12},{"$f":"MATCH(BC$3,Millwall!$AP79:$BA79,0)","v":{"$error":"#N/A"}},{"$f":"MATCH(BD$3,Millwall!$AP79:$BA79,0)","v":{"$error":"#N/A"}},{"$f":"MATCH(BE$3,Millwall!$AP79:$BA79,0)","v":{"$error":"#N/A"}},{"$f":"MATCH(BF$3,Millwall!$AP79:$BA79,0)","v":{"$error":"#N/A"}},{"$f":"MATCH(BG$3,Millwall!$AP79:$BA79,0)","v":{"$error":"#N/A"}},{"$f":"MATCH(BH$3,Millwall!$AP79:$BA79,0)","v":{"$error":"#N/A"}},{"$f":"MATCH(BI$3,Millwall!$AP79:$BA79,0)","v":{"$error":"#N/A"}},{"$f":"MATCH(BJ$3,Millwall!$AP79:$BA79,0)","v":8},{"$f":"MATCH(BK$3,Millwall!$AP79:$BA79,0)","v":{"$error":"#N/A"}},{"$f":"MATCH(BL$3,Millwall!$AP79:$BA79,0)","v":{"$error":"#N/A"}},{"$f":"MATCH(BM$3,Millwall!$AP79:$BA79,0)","v":{"$error":"#N/A"}},{"$f":"MATCH(BN$3,Millwall!$AP79:$BA79,0)","v":{"$error":"#N/A"}},{"$f":"MATCH(BO$3,Millwall!$AP79:$BA79,0)","v":{"$error":"#N/A"}},{"$f":"MATCH(BP$3,Millwall!$AP79:$BA79,0)","v":{"$error":"#N/A"}},{"$f":"MATCH(BQ$3,Millwall!$AP79:$BA79,0)","v":{"$error":"#N/A"}},{"$f":"MATCH(BR$3,Millwall!$AP79:$BA79,0)","v":{"$error":"#N/A"}},{"$f":"MATCH(BS$3,Millwall!$AP79:$BA79,0)","v":{"$error":"#N/A"}},{"$f":"MATCH(BT$3,Millwall!$AP79:$BA79,0)","v":{"$error":"#N/A"}},{"$f":"MATCH(BU$3,Millwall!$AP79:$BA79,0)","v":{"$error":"#N/A"}},{"$f":"MATCH(BV$3,Millwall!$AP79:$BA79,0)","v":{"$error":"#N/A"}},{"$f":"MATCH(BW$3,Millwall!$AP79:$BA79,0)","v":{"$error":"#N/A"}},{"$f":"MATCH(BX$3,Millwall!$AP79:$BA79,0)","v":{"$error":"#N/A"}},{"$f":"MATCH(BY$3,Millwall!$AP79:$BA79,0)","v":{"$error":"#N/A"}},{"$f":"MATCH(BZ$3,Millwall!$AP79:$BA79,0)","v":{"$error":"#N/A"}},{"$f":"MATCH(CA$3,Millwall!$AP79:$BA79,0)","v":{"$error":"#N/A"}},{"$f":"MATCH(CB$3,Millwall!$AP79:$BA79,0)","v":{"$error":"#N/A"}},{"$f":"MATCH(CC$3,Millwall!$AP79:$BA79,0)","v":{"$error":"#N/A"}},{"$f":"MATCH(CD$3,Millwall!$AP79:$BA79,0)","v":{"$error":"#N/A"}},{"$f":"MATCH(CE$3,Millwall!$AP79:$BA79,0)","v":{"$error":"#N/A"}},null,null,null,null,null,null,null,{"$f":"Millwall!$BO73","v":"Bolland"},{"$f":"Millwall!$BN73&\" (**\"","v":"Bolland** (**"},{"$f":"Millwall!$BN73&\"**\"","v":"Bolland****"}]
[null,null,0,3,null,{"$f":"Millwall!AI80","v":"1970-08-29"},null,{"$f":"Millwall!AK80","v":"Portsmouth"},{"$f":"Millwall!AL80","v":"(H)"},{"$f":"Millwall!AO80","v":"D 0-0"},{"$f":"MATCH(K$4,Millwall!$AP80:$BA80,0)","v":11},{"$f":"MATCH(L$4,Millwall!$AP80:$BA80,0)","v":9},{"$f":"MATCH(M$4,Millwall!$AP80:$BA80,0)","v":{"$error":"#N/A"}},{"$f":"MATCH(N$4,Millwall!$AP80:$BA80,0)","v":2},{"$f":"MATCH(O$4,Millwall!$AP80:$BA80,0)","v":12},{"$f":"MATCH(P$4,Millwall!$AP80:$BA80,0)","v":6},{"$f":"MATCH(Q$4,Millwall!$AP80:$BA80,0)","v":{"$error":"#N/A"}},{"$f":"MATCH(R$4,Millwall!$AP80:$BA80,0)","v":3},{"$f":"MATCH(S$4,Millwall!$AP80:$BA80,0)","v":4},{"$f":"MATCH(T$4,Millwall!$AP80:$BA80,0)","v":10},{"$f":"MATCH(U$4,Millwall!$AP80:$BA80,0)","v":{"$error":"#N/A"}},{"$f":"MATCH(V$4,Millwall!$AP80:$BA80,0)","v":{"$error":"#N/A"}},{"$f":"MATCH(W$4,Millwall!$AP80:$BA80,0)","v":8},{"$f":"MATCH(X$4,Millwall!$AP80:$BA80,0)","v":1},{"$f":"MATCH(Y$4,Millwall!$AP80:$BA80,0)","v":5},{"$f":"MATCH(Z$4,Millwall!$AP80:$BA80,0)","v":{"$error":"#N/A"}},{"$f":"MATCH(AA$4,Millwall!$AP80:$BA80,0)","v":7},{"$f":"MATCH(AB$4,Millwall!$AP80:$BA80,0)","v":{"$error":"#N/A"}},{"$f":"MATCH(AC$4,Millwall!$AP80:$BA80,0)","v":{"$error":"#N/A"}},{"$f":"MATCH(AD$4,Millwall!$AP80:$BA80,0)","v":{"$error":"#N/A"}},{"$f":"MATCH(AE$4,Millwall!$AP80:$BA80,0)","v":{"$error":"#N/A"}},{"$f":"MATCH(AF$4,Millwall!$AP80:$BA80,0)","v":{"$error":"#N/A"}},{"$f":"MATCH(AG$4,Millwall!$AP80:$BA80,0)","v":{"$error":"#N/A"}},{"$f":"MATCH(AH$3,Millwall!$AP80:$BA80,0)","v":{"$error":"#N/A"}},{"$f":"MATCH(AI$3,Millwall!$AP80:$BA80,0)","v":{"$error":"#N/A"}},{"$f":"MATCH(AJ$3,Millwall!$AP80:$BA80,0)","v":{"$error":"#N/A"}},{"$f":"MATCH(AK$3,Millwall!$AP80:$BA80,0)","v":{"$error":"#N/A"}},{"$f":"MATCH(AL$3,Millwall!$AP80:$BA80,0)","v":{"$error":"#N/A"}},{"$f":"MATCH(AM$3,Millwall!$AP80:$BA80,0)","v":{"$error":"#N/A"}},{"$f":"MATCH(AN$3,Millwall!$AP80:$BA80,0)","v":{"$error":"#N/A"}},{"$f":"MATCH(AO$3,Millwall!$AP80:$BA80,0)","v":{"$error":"#N/A"}},{"$f":"MATCH(AP$3,Millwall!$AP80:$BA80,0)","v":{"$error":"#N/A"}},{"$f":"MATCH(AQ$3,Millwall!$AP80:$BA80,0)","v":{"$error":"#N/A"}},{"$f":"MATCH(AR$3,Millwall!$AP80:$BA80,0)","v":{"$error":"#N/A"}},null,null,null,null,null,{"$f":"MATCH(AX$3,Millwall!$AP80:$BA80,0)","v":{"$error":"#N/A"}},{"$f":"MATCH(AY$3,Millwall!$AP80:$BA80,0)","v":9},{"$f":"MATCH(AZ$3,Millwall!$AP80:$BA80,0)","v":{"$error":"#N/A"}},{"$f":"MATCH(BA$3,Millwall!$AP80:$BA80,0)","v":{"$error":"#N/A"}},{"$f":"MATCH(BB$3,Millwall!$AP80:$BA80,0)","v":12},{"$f":"MATCH(BC$3,Millwall!$AP80:$BA80,0)","v":{"$error":"#N/A"}},{"$f":"MATCH(BD$3,Millwall!$AP80:$BA80,0)","v":{"$error":"#N/A"}},{"$f":"MATCH(BE$3,Millwall!$AP80:$BA80,0)","v":{"$error":"#N/A"}},{"$f":"MATCH(BF$3,Millwall!$AP80:$BA80,0)","v":{"$error":"#N/A"}},{"$f":"MATCH(BG$3,Millwall!$AP80:$BA80,0)","v":{"$error":"#N/A"}},{"$f":"MATCH(BH$3,Millwall!$AP80:$BA80,0)","v":{"$error":"#N/A"}},{"$f":"MATCH(BI$3,Millwall!$AP80:$BA80,0)","v":{"$error":"#N/A"}},{"$f":"MATCH(BJ$3,Millwall!$AP80:$BA80,0)","v":{"$error":"#N/A"}},{"$f":"MATCH(BK$3,Millwall!$AP80:$BA80,0)","v":{"$error":"#N/A"}},{"$f":"MATCH(BL$3,Millwall!$AP80:$BA80,0)","v":{"$error":"#N/A"}},{"$f":"MATCH(BM$3,Millwall!$AP80:$BA80,0)","v":{"$error":"#N/A"}},{"$f":"MATCH(BN$3,Millwall!$AP80:$BA80,0)","v":{"$error":"#N/A"}},{"$f":"MATCH(BO$3,Millwall!$AP80:$BA80,0)","v":{"$error":"#N/A"}},{"$f":"MATCH(BP$3,Millwall!$AP80:$BA80,0)","v":{"$error":"#N/A"}},{"$f":"MATCH(BQ$3,Millwall!$AP80:$BA80,0)","v":{"$error":"#N/A"}},{"$f":"MATCH(BR$3,Millwall!$AP80:$BA80,0)","v":{"$error":"#N/A"}},{"$f":"MATCH(BS$3,Millwall!$AP80:$BA80,0)","v":{"$error":"#N/A"}},{"$f":"MATCH(BT$3,Millwall!$AP80:$BA80,0)","v":{"$error":"#N/A"}},{"$f":"MATCH(BU$3,Millwall!$AP80:$BA80,0)","v":{"$error":"#N/A"}},{"$f":"MATCH(BV$3,Millwall!$AP80:$BA80,0)","v":{"$error":"#N/A"}},{"$f":"MATCH(BW$3,Millwall!$AP80:$BA80,0)","v":{"$error":"#N/A"}},{"$f":"MATCH(BX$3,Millwall!$AP80:$BA80,0)","v":{"$error":"#N/A"}},{"$f":"MATCH(BY$3,Millwall!$AP80:$BA80,0)","v":{"$error":"#N/A"}},{"$f":"MATCH(BZ$3,Millwall!$AP80:$BA80,0)","v":{"$error":"#N/A"}},{"$f":"MATCH(CA$3,Millwall!$AP80:$BA80,0)","v":{"$error":"#N/A"}},{"$f":"MATCH(CB$3,Millwall!$AP80:$BA80,0)","v":{"$error":"#N/A"}},{"$f":"MATCH(CC$3,Millwall!$AP80:$BA80,0)","v":{"$error":"#N/A"}},{"$f":"MATCH(CD$3,Millwall!$AP80:$BA80,0)","v":{"$error":"#N/A"}},{"$f":"MATCH(CE$3,Millwall!$AP80:$BA80,0)","v":{"$error":"#N/A"}},null,null,null,null,null,null,null,{"$f":"Millwall!$BO74","v":"Bridges"},{"$f":"Millwall!$BN74&\" (**\"","v":"Bridges** (**"},{"$f":"Millwall!$BN74&\"**\"","v":"Bridges****"}]
[null,null,0,4,null,{"$f":"Millwall!AI81","v":"1970-09-02"},null,{"$f":"Millwall!AK81","v":"Norwich"},{"$f":"Millwall!AL81","v":"(A)"},{"$f":"Millwall!AO81","v":"L 0-1"},{"$f":"MATCH(K$4,Millwall!$AP81:$BA81,0)","v":11},{"$f":"MATCH(L$4,Millwall!$AP81:$BA81,0)","v":9},{"$f":"MATCH(M$4,Millwall!$AP81:$BA81,0)","v":{"$error":"#N/A"}},{"$f":"MATCH(N$4,Millwall!$AP81:$BA81,0)","v":2},{"$f":"MATCH(O$4,Millwall!$AP81:$BA81,0)","v":12},{"$f":"MATCH(P$4,Millwall!$AP81:$BA81,0)","v":6},{"$f":"MATCH(Q$4,Millwall!$AP81:$BA81,0)","v":{"$error":"#N/A"}},{"$f":"MATCH(R$4,Millwall!$AP81:$BA81,0)","v":3},{"$f":"MATCH(S$4,Millwall!$AP81:$BA81,0)","v":4},{"$f":"MATCH(T$4,Millwall!$AP81:$BA81,0)","v":10},{"$f":"MATCH(U$4,Millwall!$AP81:$BA81,0)","v":{"$error":"#N/A"}},{"$f":"MATCH(V$4,Millwall!$AP81:$BA81,0)","v":{"$error":"#N/A"}},{"$f":"MATCH(W$4,Millwall!$AP81:$BA81,0)","v":8},{"$f":"MATCH(X$4,Millwall!$AP81:$BA81,0)","v":1},{"$f":"MATCH(Y$4,Millwall!$AP81:$BA81,0)","v":5},{"$f":"MATCH(Z$4,Millwall!$AP81:$BA81,0)","v":{"$error":"#N/A"}},{"$f":"MATCH(AA$4,Millwall!$AP81:$BA81,0)","v":7},{"$f":"MATCH(AB$4,Millwall!$AP81:$BA81,0)","v":{"$error":"#N/A"}},{"$f":"MATCH(AC$4,Millwall!$AP81:$BA81,0)","v":{"$error":"#N/A"}},{"$f":"MATCH(AD$4,Millwall!$AP81:$BA81,0)","v":{"$error":"#N/A"}},{"$f":"MATCH(AE$4,Millwall!$AP81:$BA81,0)","v":{"$error":"#N/A"}},{"$f":"MATCH(AF$4,Millwall!$AP81:$BA81,0)","v":{"$error":"#N/A"}},{"$f":"MATCH(AG$4,Millwall!$AP81:$BA81,0)","v":{"$error":"#N/A"}},{"$f":"MATCH(AH$3,Millwall!$AP81:$BA81,0)","v":{"$error":"#N/A"}},{"$f":"MATCH(AI$3,Millwall!$AP81:$BA81,0)","v":{"$error":"#N/A"}},{"$f":"MATCH(AJ$3,Millwall!$AP81:$BA81,0)","v":{"$error":"#N/A"}},{"$f":"MATCH(AK$3,Millwall!$AP81:$BA81,0)","v":{"$error":"#N/A"}},{"$f":"MATCH(AL$3,Millwall!$AP81:$BA81,0)","v":{"$error":"#N/A"}},{"$f":"MATCH(AM$3,Millwall!$AP81:$BA81,0)","v":{"$error":"#N/A"}},{"$f":"MATCH(AN$3,Millwall!$AP81:$BA81,0)","v":{"$error":"#N/A"}},{"$f":"MATCH(AO$3,Millwall!$AP81:$BA81,0)","v":{"$error":"#N/A"}},{"$f":"MATCH(AP$3,Millwall!$AP81:$BA81,0)","v":{"$error":"#N/A"}},{"$f":"MATCH(AQ$3,Millwall!$AP81:$BA81,0)","v":{"$error":"#N/A"}},{"$f":"MATCH(AR$3,Millwall!$AP81:$BA81,0)","v":{"$error":"#N/A"}},null,null,null,null,null,{"$f":"MATCH(AX$3,Millwall!$AP81:$BA81,0)","v":{"$error":"#N/A"}},{"$f":"MATCH(AY$3,Millwall!$AP81:$BA81,0)","v":{"$error":"#N/A"}},{"$f":"MATCH(AZ$3,Millwall!$AP81:$BA81,0)","v":{"$error":"#N/A"}},{"$f":"MATCH(BA$3,Millwall!$AP81:$BA81,0)","v":{"$error":"#N/A"}},{"$f":"MATCH(BB$3,Millwall!$AP81:$BA81,0)","v":12},{"$f":"MATCH(BC$3,Millwall!$AP81:$BA81,0)","v":{"$error":"#N/A"}},{"$f":"MATCH(BD$3,Millwall!$AP81:$BA81,0)","v":{"$error":"#N/A"}},{"$f":"MATCH(BE$3,Millwall!$AP81:$BA81,0)","v":{"$error":"#N/A"}},{"$f":"MATCH(BF$3,Millwall!$AP81:$BA81,0)","v":{"$error":"#N/A"}},{"$f":"MATCH(BG$3,Millwall!$AP81:$BA81,0)","v":{"$error":"#N/A"}},{"$f":"MATCH(BH$3,Millwall!$AP81:$BA81,0)","v":{"$error":"#N/A"}},{"$f":"MATCH(BI$3,Millwall!$AP81:$BA81,0)","v":{"$error":"#N/A"}},{"$f":"MATCH(BJ$3,Millwall!$AP81:$BA81,0)","v":8},{"$f":"MATCH(BK$3,Millwall!$AP81:$BA81,0)","v":{"$error":"#N/A"}},{"$f":"MATCH(BL$3,Millwall!$AP81:$BA81,0)","v":{"$error":"#N/A"}},{"$f":"MATCH(BM$3,Millwall!$AP81:$BA81,0)","v":{"$error":"#N/A"}},{"$f":"MATCH(BN$3,Millwall!$AP81:$BA81,0)","v":{"$error":"#N/A"}},{"$f":"MATCH(BO$3,Millwall!$AP81:$BA81,0)","v":{"$error":"#N/A"}},{"$f":"MATCH(BP$3,Millwall!$AP81:$BA81,0)","v":{"$error":"#N/A"}},{"$f":"MATCH(BQ$3,Millwall!$AP81:$BA81,0)","v":{"$error":"#N/A"}},{"$f":"MATCH(BR$3,Millwall!$AP81:$BA81,0)","v":{"$error":"#N/A"}},{"$f":"MATCH(BS$3,Millwall!$AP81:$BA81,0)","v":{"$error":"#N/A"}},{"$f":"MATCH(BT$3,Millwall!$AP81:$BA81,0)","v":{"$error":"#N/A"}},{"$f":"MATCH(BU$3,Millwall!$AP81:$BA81,0)","v":{"$error":"#N/A"}},{"$f":"MATCH(BV$3,Millwall!$AP81:$BA81,0)","v":{"$error":"#N/A"}},{"$f":"MATCH(BW$3,Millwall!$AP81:$BA81,0)","v":{"$error":"#N/A"}},{"$f":"MATCH(BX$3,Millwall!$AP81:$BA81,0)","v":{"$error":"#N/A"}},{"$f":"MATCH(BY$3,Millwall!$AP81:$BA81,0)","v":{"$error":"#N/A"}},{"$f":"MATCH(BZ$3,Millwall!$AP81:$BA81,0)","v":{"$error":"#N/A"}},{"$f":"MATCH(CA$3,Millwall!$AP81:$BA81,0)","v":{"$error":"#N/A"}},{"$f":"MATCH(CB$3,Millwall!$AP81:$BA81,0)","v":{"$error":"#N/A"}},{"$f":"MATCH(CC$3,Millwall!$AP81:$BA81,0)","v":{"$error":"#N/A"}},{"$f":"MATCH(CD$3,Millwall!$AP81:$BA81,0)","v":{"$error":"#N/A"}},{"$f":"MATCH(CE$3,Millwall!$AP81:$BA81,0)","v":{"$error":"#N/A"}},null,null,null,null,null,null,null,{"$f":"Millwall!$BO75","v":"B Brown"},{"$f":"Millwall!$BN75&\" (**\"","v":"B Brown** (**"},{"$f":"Millwall!$BN75&\"**\"","v":"B Brown****"}]
[null,null,0,5,null,{"$f":"Millwall!AI82","v":"1970-09-05"},null,{"$f":"Millwall!AK82","v":"Charlton"},{"$f":"Millwall!AL82","v":"(A)"},{"$f":"Millwall!AO82","v":"W 3-1"},{"$f":"MATCH(K$4,Millwall!$AP82:$BA82,0)","v":11},{"$f":"MATCH(L$4,Millwall!$AP82:$BA82,0)","v":9},{"$f":"MATCH(M$4,Millwall!$AP82:$BA82,0)","v":{"$error":"#N/A"}},{"$f":"MATCH(N$4,Millwall!$AP82:$BA82,0)","v":2},{"$f":"MATCH(O$4,Millwall!$AP82:$BA82,0)","v":{"$error":"#N/A"}},{"$f":"MATCH(P$4,Millwall!$AP82:$BA82,0)","v":6},{"$f":"MATCH(Q$4,Millwall!$AP82:$BA82,0)","v":{"$error":"#N/A"}},{"$f":"MATCH(R$4,Millwall!$AP82:$BA82,0)","v":3},{"$f":"MATCH(S$4,Millwall!$AP82:$BA82,0)","v":{"$error":"#N/A"}},{"$f":"MATCH(T$4,Millwall!$AP82:$BA82,0)","v":10},{"$f":"MATCH(U$4,Millwall!$AP82:$BA82,0)","v":{"$error":"#N/A"}},{"$f":"MATCH(V$4,Millwall!$AP82:$BA82,0)","v":{"$error":"#N/A"}},{"$f":"MATCH(W$4,Millwall!$AP82:$BA82,0)","v":4},{"$f":"MATCH(X$4,Millwall!$AP82:$BA82,0)","v":1},{"$f":"MATCH(Y$4,Millwall!$AP82:$BA82,0)","v":5},{"$f":"MATCH(Z$4,Millwall!$AP82:$BA82,0)","v":8},{"$f":"MATCH(AA$4,Millwall!$AP82:$BA82,0)","v":7},{"$f":"MATCH(AB$4,Millwall!$AP82:$BA82,0)","v":{"$error":"#N/A"}},{"$f":"MATCH(AC$4,Millwall!$AP82:$BA82,0)","v":{"$error":"#N/A"}},{"$f":"MATCH(AD$4,Millwall!$AP82:$BA82,0)","v":{"$error":"#N/A"}},{"$f":"MATCH(AE$4,Millwall!$AP82:$BA82,0)","v":{"$error":"#N/A"}},{"$f":"MATCH(AF$4,Millwall!$AP82:$BA82,0)","v":{"$error":"#N/A"}},{"$f":"MATCH(AG$4,Millwall!$AP82:$BA82,0)","v":{"$error":"#N/A"}},{"$f":"MATCH(AH$3,Millwall!$AP82:$BA82,0)","v":{"$error":"#N/A"}},{"$f":"MATCH(AI$3,Millwall!$AP82:$BA82,0)","v":{"$error":"#N/A"}},{"$f":"MATCH(AJ$3,Millwall!$AP82:$BA82,0)","v":{"$error":"#N/A"}},{"$f":"MATCH(AK$3,Millwall!$AP82:$BA82,0)","v":{"$error":"#N/A"}},{"$f":"MATCH(AL$3,Millwall!$AP82:$BA82,0)","v":{"$error":"#N/A"}},{"$f":"MATCH(AM$3,Millwall!$AP82:$BA82,0)","v":{"$error":"#N/A"}},{"$f":"MATCH(AN$3,Millwall!$AP82:$BA82,0)","v":{"$error":"#N/A"}},{"$f":"MATCH(AO$3,Millwall!$AP82:$BA82,0)","v":{"$error":"#N/A"}},{"$f":"MATCH(AP$3,Millwall!$AP82:$BA82,0)","v":{"$error":"#N/A"}},{"$f":"MATCH(AQ$3,Millwall!$AP82:$BA82,0)","v":{"$error":"#N/A"}},{"$f":"MATCH(AR$3,Millwall!$AP82:$BA82,0)","v":{"$error":"#N/A"}},null,null,null,null,null,{"$f":"MATCH(AX$3,Millwall!$AP82:$BA82,0)","v":{"$error":"#N/A"}},{"$f":"MATCH(AY$3,Millwall!$AP82:$BA82,0)","v":{"$error":"#N/A"}},{"$f":"MATCH(AZ$3,Millwall!$AP82:$BA82,0)","v":{"$error":"#N/A"}},{"$f":"MATCH(BA$3,Millwall!$AP82:$BA82,0)","v":{"$error":"#N/A"}},{"$f":"MATCH(BB$3,Millwall!$AP82:$BA82,0)","v":{"$error":"#N/A"}},{"$f":"MATCH(BC$3,Millwall!$AP82:$BA82,0)","v":{"$error":"#N/A"}},{"$f":"MATCH(BD$3,Millwall!$AP82:$BA82,0)","v":{"$error":"#N/A"}},{"$f":"MATCH(BE$3,Millwall!$AP82:$BA82,0)","v":{"$error":"#N/A"}},{"$f":"MATCH(BF$3,Millwall!$AP82:$BA82,0)","v":{"$error":"#N/A"}},{"$f":"MATCH(BG$3,Millwall!$AP82:$BA82,0)","v":{"$error":"#N/A"}},{"$f":"MATCH(BH$3,Millwall!$AP82:$BA82,0)","v":{"$error":"#N/A"}},{"$f":"MATCH(BI$3,Millwall!$AP82:$BA82,0)","v":{"$error":"#N/A"}},{"$f":"MATCH(BJ$3,Millwall!$AP82:$BA82,0)","v":{"$error":"#N/A"}},{"$f":"MATCH(BK$3,Millwall!$AP82:$BA82,0)","v":{"$error":"#N/A"}},{"$f":"MATCH(BL$3,Millwall!$AP82:$BA82,0)","v":{"$error":"#N/A"}},{"$f":"MATCH(BM$3,Millwall!$AP82:$BA82,0)","v":{"$error":"#N/A"}},{"$f":"MATCH(BN$3,Millwall!$AP82:$BA82,0)","v":{"$error":"#N/A"}},{"$f":"MATCH(BO$3,Millwall!$AP82:$BA82,0)","v":{"$error":"#N/A"}},{"$f":"MATCH(BP$3,Millwall!$AP82:$BA82,0)","v":{"$error":"#N/A"}},{"$f":"MATCH(BQ$3,Millwall!$AP82:$BA82,0)","v":{"$error":"#N/A"}},{"$f":"MATCH(BR$3,Millwall!$AP82:$BA82,0)","v":{"$error":"#N/A"}},{"$f":"MATCH(BS$3,Millwall!$AP82:$BA82,0)","v":{"$error":"#N/A"}},{"$f":"MATCH(BT$3,Millwall!$AP82:$BA82,0)","v":{"$error":"#N/A"}},{"$f":"MATCH(BU$3,Millwall!$AP82:$BA82,0)","v":{"$error":"#N/A"}},{"$f":"MATCH(BV$3,Millwall!$AP82:$BA82,0)","v":{"$error":"#N/A"}},{"$f":"MATCH(BW$3,Millwall!$AP82:$BA82,0)","v":{"$error":"#N/A"}},{"$f":"MATCH(BX$3,Millwall!$AP82:$BA82,0)","v":{"$error":"#N/A"}},{"$f":"MATCH(BY$3,Millwall!$AP82:$BA82,0)","v":{"$error":"#N/A"}},{"$f":"MATCH(BZ$3,Millwall!$AP82:$BA82,0)","v":{"$error":"#N/A"}},{"$f":"MATCH(CA$3,Millwall!$AP82:$BA82,0)","v":{"$error":"#N/A"}},{"$f":"MATCH(CB$3,Millwall!$AP82:$BA82,0)","v":{"$error":"#N/A"}},{"$f":"MATCH(CC$3,Millwall!$AP82:$BA82,0)","v":{"$error":"#N/A"}},{"$f":"MATCH(CD$3,Millwall!$AP82:$BA82,0)","v":{"$error":"#N/A"}},{"$f":"MATCH(CE$3,Millwall!$AP82:$BA82,0)","v":{"$error":"#N/A"}},null,null,null,null,null,null,null,{"$f":"Millwall!$BO76","v":"S Brown"},{"$f":"Millwall!$BN76&\" (**\"","v":"S Brown** (**"},{"$f":"Millwall!$BN76&\"**\"","v":"S Brown****"}]
[null,null,0,6,null,{"$f":"Millwall!AI83","v":"1970-09-14"},null,{"$f":"Millwall!AK83","v":"Sheff Utd"},{"$f":"Millwall!AL83","v":"(H)"},{"$f":"Millwall!AO83","v":"L 1-2"},{"$f":"MATCH(K$4,Millwall!$AP83:$BA83,0)","v":11},{"$f":"MATCH(L$4,Millwall!$AP83:$BA83,0)","v":9},{"$f":"MATCH(M$4,Millwall!$AP83:$BA83,0)","v":{"$error":"#N/A"}},{"$f":"MATCH(N$4,Millwall!$AP83:$BA83,0)","v":2},{"$f":"MATCH(O$4,Millwall!$AP83:$BA83,0)","v":12},{"$f":"MATCH(P$4,Millwall!$AP83:$BA83,0)","v":6},{"$f":"MATCH(Q$4,Millwall!$AP83:$BA83,0)","v":{"$error":"#N/A"}},{"$f":"MATCH(R$4,Millwall!$AP83:$BA83,0)","v":3},{"$f":"MATCH(S$4,Millwall!$AP83:$BA83,0)","v":4},{"$f":"MATCH(T$4,Millwall!$AP83:$BA83,0)","v":10},{"$f":"MATCH(U$4,Millwall!$AP83:$BA83,0)","v":{"$error":"#N/A"}},{"$f":"MATCH(V$4,Millwall!$AP83:$BA83,0)","v":{"$error":"#N/A"}},{"$f":"MATCH(W$4,Millwall!$AP83:$BA83,0)","v":8},{"$f":"MATCH(X$4,Millwall!$AP83:$BA83,0)","v":1},{"$f":"MATCH(Y$4,Millwall!$AP83:$BA83,0)","v":5},{"$f":"MATCH(Z$4,Millwall!$AP83:$BA83,0)","v":{"$error":"#N/A"}},{"$f":"MATCH(AA$4,Millwall!$AP83:$BA83,0)","v":7},{"$f":"MATCH(AB$4,Millwall!$AP83:$BA83,0)","v":{"$error":"#N/A"}},{"$f":"MATCH(AC$4,Millwall!$AP83:$BA83,0)","v":{"$error":"#N/A"}},{"$f":"MATCH(AD$4,Millwall!$AP83:$BA83,0)","v":{"$error":"#N/A"}},{"$f":"MATCH(AE$4,Millwall!$AP83:$BA83,0)","v":{"$error":"#N/A"}},{"$f":"MATCH(AF$4,Millwall!$AP83:$BA83,0)","v":{"$error":"#N/A"}},{"$f":"MATCH(AG$4,Millwall!$AP83:$BA83,0)","v":{"$error":"#N/A"}},{"$f":"MATCH(AH$3,Millwall!$AP83:$BA83,0)","v":{"$error":"#N/A"}},{"$f":"MATCH(AI$3,Millwall!$AP83:$BA83,0)","v":{"$error":"#N/A"}},{"$f":"MATCH(AJ$3,Millwall!$AP83:$BA83,0)","v":{"$error":"#N/A"}},{"$f":"MATCH(AK$3,Millwall!$AP83:$BA83,0)","v":{"$error":"#N/A"}},{"$f":"MATCH(AL$3,Millwall!$AP83:$BA83,0)","v":{"$error":"#N/A"}},{"$f":"MATCH(AM$3,Millwall!$AP83:$BA83,0)","v":{"$error":"#N/A"}},{"$f":"MATCH(AN$3,Millwall!$AP83:$BA83,0)","v":{"$error":"#N/A"}},{"$f":"MATCH(AO$3,Millwall!$AP83:$BA83,0)","v":{"$error":"#N/A"}},{"$f":"MATCH(AP$3,Millwall!$AP83:$BA83,0)","v":{"$error":"#N/A"}},{"$f":"MATCH(AQ$3,Millwall!$AP83:$BA83,0)","v":{"$error":"#N/A"}},{"$f":"MATCH(AR$3,Millwall!$AP83:$BA83,0)","v":{"$error":"#N/A"}},null,null,null,null,null,{"$f":"MATCH(AX$3,Millwall!$AP83:$BA83,0)","v":{"$error":"#N/A"}},{"$f":"MATCH(AY$3,Millwall!$AP83:$BA83,0)","v":{"$error":"#N/A"}},{"$f":"MATCH(AZ$3,Millwall!$AP83:$BA83,0)","v":{"$error":"#N/A"}},{"$f":"MATCH(BA$3,Millwall!$AP83:$BA83,0)","v":{"$error":"#N/A"}},{"$f":"MATCH(BB$3,Millwall!$AP83:$BA83,0)","v":12},{"$f":"MATCH(BC$3,Millwall!$AP83:$BA83,0)","v":{"$error":"#N/A"}},{"$f":"MATCH(BD$3,Millwall!$AP83:$BA83,0)","v":{"$error":"#N/A"}},{"$f":"MATCH(BE$3,Millwall!$AP83:$BA83,0)","v":{"$error":"#N/A"}},{"$f":"MATCH(BF$3,Millwall!$AP83:$BA83,0)","v":{"$error":"#N/A"}},{"$f":"MATCH(BG$3,Millwall!$AP83:$BA83,0)","v":{"$error":"#N/A"}},{"$f":"MATCH(BH$3,Millwall!$AP83:$BA83,0)","v":{"$error":"#N/A"}},{"$f":"MATCH(BI$3,Millwall!$AP83:$BA83,0)","v":{"$error":"#N/A"}},{"$f":"MATCH(BJ$3,Millwall!$AP83:$BA83,0)","v":8},{"$f":"MATCH(BK$3,Millwall!$AP83:$BA83,0)","v":{"$error":"#N/A"}},{"$f":"MATCH(BL$3,Millwall!$AP83:$BA83,0)","v":{"$error":"#N/A"}},{"$f":"MATCH(BM$3,Millwall!$AP83:$BA83,0)","v":{"$error":"#N/A"}},{"$f":"MATCH(BN$3,Millwall!$AP83:$BA83,0)","v":{"$error":"#N/A"}},{"$f":"MATCH(BO$3,Millwall!$AP83:$BA83,0)","v":{"$error":"#N/A"}},{"$f":"MATCH(BP$3,Millwall!$AP83:$BA83,0)","v":{"$error":"#N/A"}},{"$f":"MATCH(BQ$3,Millwall!$AP83:$BA83,0)","v":{"$error":"#N/A"}},{"$f":"MATCH(BR$3,Millwall!$AP83:$BA83,0)","v":{"$error":"#N/A"}},{"$f":"MATCH(BS$3,Millwall!$AP83:$BA83,0)","v":{"$error":"#N/A"}},{"$f":"MATCH(BT$3,Millwall!$AP83:$BA83,0)","v":{"$error":"#N/A"}},{"$f":"MATCH(BU$3,Millwall!$AP83:$BA83,0)","v":{"$error":"#N/A"}},{"$f":"MATCH(BV$3,Millwall!$AP83:$BA83,0)","v":{"$error":"#N/A"}},{"$f":"MATCH(BW$3,Millwall!$AP83:$BA83,0)","v":{"$error":"#N/A"}},{"$f":"MATCH(BX$3,Millwall!$AP83:$BA83,0)","v":{"$error":"#N/A"}},{"$f":"MATCH(BY$3,Millwall!$AP83:$BA83,0)","v":{"$error":"#N/A"}},{"$f":"MATCH(BZ$3,Millwall!$AP83:$BA83,0)","v":{"$error":"#N/A"}},{"$f":"MATCH(CA$3,Millwall!$AP83:$BA83,0)","v":{"$error":"#N/A"}},{"$f":"MATCH(CB$3,Millwall!$AP83:$BA83,0)","v":{"$error":"#N/A"}},{"$f":"MATCH(CC$3,Millwall!$AP83:$BA83,0)","v":{"$error":"#N/A"}},{"$f":"MATCH(CD$3,Millwall!$AP83:$BA83,0)","v":{"$error":"#N/A"}},{"$f":"MATCH(CE$3,Millwall!$AP83:$BA83,0)","v":{"$error":"#N/A"}},null,null,null,null,null,null,null,{"$f":"Millwall!$BO77","v":"Burnett"},{"$f":"Millwall!$BN77&\" (**\"","v":"Burnett** (**"},{"$f":"Millwall!$BN77&\"**\"","v":"Burnett****"}]
[null,null,0,7,null,{"$f":"Millwall!AI84","v":"1970-09-19"},null,{"$f":"Millwall!AK84","v":"Hull"},{"$f":"Millwall!AL84","v":"(A)"},{"$f":"Millwall!AO84","v":"L 0-2"},{"$f":"MATCH(K$4,Millwall!$AP84:$BA84,0)","v":11},{"$f":"MATCH(L$4,Millwall!$AP84:$BA84,0)","v":9},{"$f":"MATCH(M$4,Millwall!$AP84:$BA84,0)","v":{"$error":"#N/A"}},{"$f":"MATCH(N$4,Millwall!$AP84:$BA84,0)","v":2},{"$f":"MATCH(O$4,Millwall!$AP84:$BA84,0)","v":12},{"$f":"MATCH(P$4,Millwall!$AP84:$BA84,0)","v":6},{"$f":"MATCH(Q$4,Millwall!$AP84:$BA84,0)","v":{"$error":"#N/A"}},{"$f":"MATCH(R$4,Millwall!$AP84:$BA84,0)","v":3},{"$f":"MATCH(S$4,Millwall!$AP84:$BA84,0)","v":4},{"$f":"MATCH(T$4,Millwall!$AP84:$BA84,0)","v":10},{"$f":"MATCH(U$4,Millwall!$AP84:$BA84,0)","v":{"$error":"#N/A"}},{"$f":"MATCH(V$4,Millwall!$AP84:$BA84,0)","v":{"$error":"#N/A"}},{"$f":"MATCH(W$4,Millwall!$AP84:$BA84,0)","v":8},{"$f":"MATCH(X$4,Millwall!$AP84:$BA84,0)","v":1},{"$f":"MATCH(Y$4,Millwall!$AP84:$BA84,0)","v":5},{"$f":"MATCH(Z$4,Millwall!$AP84:$BA84,0)","v":{"$error":"#N/A"}},{"$f":"MATCH(AA$4,Millwall!$AP84:$BA84,0)","v":7},{"$f":"MATCH(AB$4,Millwall!$AP84:$BA84,0)","v":{"$error":"#N/A"}},{"$f":"MATCH(AC$4,Millwall!$AP84:$BA84,0)","v":{"$error":"#N/A"}},{"$f":"MATCH(AD$4,Millwall!$AP84:$BA84,0)","v":{"$error":"#N/A"}},{"$f":"MATCH(AE$4,Millwall!$AP84:$BA84,0)","v":{"$error":"#N/A"}},{"$f":"MATCH(AF$4,Millwall!$AP84:$BA84,0)","v":{"$error":"#N/A"}},{"$f":"MATCH(AG$4,Millwall!$AP84:$BA84,0)","v":{"$error":"#N/A"}},{"$f":"MATCH(AH$3,Millwall!$AP84:$BA84,0)","v":{"$error":"#N/A"}},{"$f":"MATCH(AI$3,Millwall!$AP84:$BA84,0)","v":{"$error":"#N/A"}},{"$f":"MATCH(AJ$3,Millwall!$AP84:$BA84,0)","v":{"$error":"#N/A"}},{"$f":"MATCH(AK$3,Millwall!$AP84:$BA84,0)","v":{"$error":"#N/A"}},{"$f":"MATCH(AL$3,Millwall!$AP84:$BA84,0)","v":{"$error":"#N/A"}},{"$f":"MATCH(AM$3,Millwall!$AP84:$BA84,0)","v":{"$error":"#N/A"}},{"$f":"MATCH(AN$3,Millwall!$AP84:$BA84,0)","v":{"$error":"#N/A"}},{"$f":"MATCH(AO$3,Millwall!$AP84:$BA84,0)","v":{"$error":"#N/A"}},{"$f":"MATCH(AP$3,Millwall!$AP84:$BA84,0)","v":{"$error":"#N/A"}},{"$f":"MATCH(AQ$3,Millwall!$AP84:$BA84,0)","v":{"$error":"#N/A"}},{"$f":"MATCH(AR$3,Millwall!$AP84:$BA84,0)","v":{"$error":"#N/A"}},null,null,null,null,null,{"$f":"MATCH(AX$3,Millwall!$AP84:$BA84,0)","v":{"$error":"#N/A"}},{"$f":"MATCH(AY$3,Millwall!$AP84:$BA84,0)","v":{"$error":"#N/A"}},{"$f":"MATCH(AZ$3,Millwall!$AP84:$BA84,0)","v":{"$error":"#N/A"}},{"$f":"MATCH(BA$3,Millwall!$AP84:$BA84,0)","v":{"$error":"#N/A"}},{"$f":"MATCH(BB$3,Millwall!$AP84:$BA84,0)","v":12},{"$f":"MATCH(BC$3,Millwall!$AP84:$BA84,0)","v":{"$error":"#N/A"}},{"$f":"MATCH(BD$3,Millwall!$AP84:$BA84,0)","v":{"$error":"#N/A"}},{"$f":"MATCH(BE$3,Millwall!$AP84:$BA84,0)","v":{"$error":"#N/A"}},{"$f":"MATCH(BF$3,Millwall!$AP84:$BA84,0)","v":{"$error":"#N/A"}},{"$f":"MATCH(BG$3,Millwall!$AP84:$BA84,0)","v":10},{"$f":"MATCH(BH$3,Millwall!$AP84:$BA84,0)","v":{"$error":"#N/A"}},{"$f":"MATCH(BI$3,Millwall!$AP84:$BA84,0)","v":{"$error":"#N/A"}},{"$f":"MATCH(BJ$3,Millwall!$AP84:$BA84,0)","v":{"$error":"#N/A"}},{"$f":"MATCH(BK$3,Millwall!$AP84:$BA84,0)","v":{"$error":"#N/A"}},{"$f":"MATCH(BL$3,Millwall!$AP84:$BA84,0)","v":{"$error":"#N/A"}},{"$f":"MATCH(BM$3,Millwall!$AP84:$BA84,0)","v":{"$error":"#N/A"}},{"$f":"MATCH(BN$3,Millwall!$AP84:$BA84,0)","v":{"$error":"#N/A"}},{"$f":"MATCH(BO$3,Millwall!$AP84:$BA84,0)","v":{"$error":"#N/A"}},{"$f":"MATCH(BP$3,Millwall!$AP84:$BA84,0)","v":{"$error":"#N/A"}},{"$f":"MATCH(BQ$3,Millwall!$AP84:$BA84,0)","v":{"$error":"#N/A"}},{"$f":"MATCH(BR$3,Millwall!$AP84:$BA84,0)","v":{"$error":"#N/A"}},{"$f":"MATCH(BS$3,Millwall!$AP84:$BA84,0)","v":{"$error":"#N/A"}},{"$f":"MATCH(BT$3,Millwall!$AP84:$BA84,0)","v":{"$error":"#N/A"}},{"$f":"MATCH(BU$3,Millwall!$AP84:$BA84,0)","v":{"$error":"#N/A"}},{"$f":"MATCH(BV$3,Millwall!$AP84:$BA84,0)","v":{"$error":"#N/A"}},{"$f":"MATCH(BW$3,Millwall!$AP84:$BA84,0)","v":{"$error":"#N/A"}},{"$f":"MATCH(BX$3,Millwall!$AP84:$BA84,0)","v":{"$error":"#N/A"}},{"$f":"MATCH(BY$3,Millwall!$AP84:$BA84,0)","v":{"$error":"#N/A"}},{"$f":"MATCH(BZ$3,Millwall!$AP84:$BA84,0)","v":{"$error":"#N/A"}},{"$f":"MATCH(CA$3,Millwall!$AP84:$BA84,0)","v":{"$error":"#N/A"}},{"$f":"MATCH(CB$3,Millwall!$AP84:$BA84,0)","v":{"$error":"#N/A"}},{"$f":"MATCH(CC$3,Millwall!$AP84:$BA84,0)","v":{"$error":"#N/A"}},{"$f":"MATCH(CD$3,Millwall!$AP84:$BA84,0)","v":{"$error":"#N/A"}},{"$f":"MATCH(CE$3,Millwall!$AP84:$BA84,0)","v":{"$error":"#N/A"}},null,null,null,null,null,null,null,{"$f":"Millwall!$BO78","v":"Coxhill"},{"$f":"Millwall!$BN78&\" (**\"","v":"Coxhill** (**"},{"$f":"Millwall!$BN78&\"**\"","v":"Coxhill****"}]
[null,null,0,8,null,{"$f":"Millwall!AI85","v":"1970-09-26"},null,{"$f":"Millwall!AK85","v":"Sunderland"},{"$f":"Millwall!AL85","v":"(H)"},{"$f":"Millwall!AO85","v":"D 0-0"},{"$f":"MATCH(K$4,Millwall!$AP85:$BA85,0)","v":11},{"$f":"MATCH(L$4,Millwall!$AP85:$BA85,0)","v":9},{"$f":"MATCH(M$4,Millwall!$AP85:$BA85,0)","v":7},{"$f":"MATCH(N$4,Millwall!$AP85:$BA85,0)","v":2},{"$f":"MATCH(O$4,Millwall!$AP85:$BA85,0)","v":{"$error":"#N/A"}},{"$f":"MATCH(P$4,Millwall!$AP85:$BA85,0)","v":6},{"$f":"MATCH(Q$4,Millwall!$AP85:$BA85,0)","v":{"$error":"#N/A"}},{"$f":"MATCH(R$4,Millwall!$AP85:$BA85,0)","v":3},{"$f":"MATCH(S$4,Millwall!$AP85:$BA85,0)","v":4},{"$f":"MATCH(T$4,Millwall!$AP85:$BA85,0)","v":8},{"$f":"MATCH(U$4,Millwall!$AP85:$BA85,0)","v":{"$error":"#N/A"}},{"$f":"MATCH(V$4,Millwall!$AP85:$BA85,0)","v":{"$error":"#N/A"}},{"$f":"MATCH(W$4,Millwall!$AP85:$BA85,0)","v":{"$error":"#N/A"}},{"$f":"MATCH(X$4,Millwall!$AP85:$BA85,0)","v":1},{"$f":"MATCH(Y$4,Millwall!$AP85:$BA85,0)","v":5},{"$f":"MATCH(Z$4,Millwall!$AP85:$BA85,0)","v":{"$error":"#N/A"}},{"$f":"MATCH(AA$4,Millwall!$AP85:$BA85,0)","v":10},{"$f":"MATCH(AB$4,Millwall!$AP85:$BA85,0)","v":{"$error":"#N/A"}},{"$f":"MATCH(AC$4,Millwall!$AP85:$BA85,0)","v":{"$error":"#N/A"}},{"$f":"MATCH(AD$4,Millwall!$AP85:$BA85,0)","v":{"$error":"#N/A"}},{"$f":"MATCH(AE$4,Millwall!$AP85:$BA85,0)","v":{"$error":"#N/A"}},{"$f":"MATCH(AF$4,Millwall!$AP85:$BA85,0)","v":{"$error":"#N/A"}},{"$f":"MATCH(AG$4,Millwall!$AP85:$BA85,0)","v":{"$error":"#N/A"}},{"$f":"MATCH(AH$3,Millwall!$AP85:$BA85,0)","v":{"$error":"#N/A"}},{"$f":"MATCH(AI$3,Millwall!$AP85:$BA85,0)","v":{"$error":"#N/A"}},{"$f":"MATCH(AJ$3,Millwall!$AP85:$BA85,0)","v":{"$error":"#N/A"}},{"$f":"MATCH(AK$3,Millwall!$AP85:$BA85,0)","v":{"$error":"#N/A"}},{"$f":"MATCH(AL$3,Millwall!$AP85:$BA85,0)","v":{"$error":"#N/A"}},{"$f":"MATCH(AM$3,Millwall!$AP85:$BA85,0)","v":{"$error":"#N/A"}},{"$f":"MATCH(AN$3,Millwall!$AP85:$BA85,0)","v":{"$error":"#N/A"}},{"$f":"MATCH(AO$3,Millwall!$AP85:$BA85,0)","v":{"$error":"#N/A"}},{"$f":"MATCH(AP$3,Millwall!$AP85:$BA85,0)","v":{"$error":"#N/A"}},{"$f":"MATCH(AQ$3,Millwall!$AP85:$BA85,0)","v":{"$error":"#N/A"}},{"$f":"MATCH(AR$3,Millwall!$AP85:$BA85,0)","v":{"$error":"#N/A"}},null,null,null,null,null,{"$f":"MATCH(AX$3,Millwall!$AP85:$BA85,0)","v":{"$error":"#N/A"}},{"$f":"MATCH(AY$3,Millwall!$AP85:$BA85,0)","v":{"$error":"#N/A"}},{"$f":"MATCH(AZ$3,Millwall!$AP85:$BA85,0)","v":{"$error":"#N/A"}},{"$f":"MATCH(BA$3,Millwall!$AP85:$BA85,0)","v":{"$error":"#N/A"}},{"$f":"MATCH(BB$3,Millwall!$AP85:$BA85,0)","v":{"$error":"#N/A"}},{"$f":"MATCH(BC$3,Millwall!$AP85:$BA85,0)","v":{"$error":"#N/A"}},{"$f":"MATCH(BD$3,Millwall!$AP85:$BA85,0)","v":{"$error":"#N/A"}},{"$f":"MATCH(BE$3,Millwall!$AP85:$BA85,0)","v":{"$error":"#N/A"}},{"$f":"MATCH(BF$3,Millwall!$AP85:$BA85,0)","v":{"$error":"#N/A"}},{"$f":"MATCH(BG$3,Millwall!$AP85:$BA85,0)","v":{"$error":"#N/A"}},{"$f":"MATCH(BH$3,Millwall!$AP85:$BA85,0)","v":{"$error":"#N/A"}},{"$f":"MATCH(BI$3,Millwall!$AP85:$BA85,0)","v":{"$error":"#N/A"}},{"$f":"MATCH(BJ$3,Millwall!$AP85:$BA85,0)","v":{"$error":"#N/A"}},{"$f":"MATCH(BK$3,Millwall!$AP85:$BA85,0)","v":{"$error":"#N/A"}},{"$f":"MATCH(BL$3,Millwall!$AP85:$BA85,0)","v":{"$error":"#N/A"}},{"$f":"MATCH(BM$3,Millwall!$AP85:$BA85,0)","v":{"$error":"#N/A"}},{"$f":"MATCH(BN$3,Millwall!$AP85:$BA85,0)","v":{"$error":"#N/A"}},{"$f":"MATCH(BO$3,Millwall!$AP85:$BA85,0)","v":{"$error":"#N/A"}},{"$f":"MATCH(BP$3,Millwall!$AP85:$BA85,0)","v":{"$error":"#N/A"}},{"$f":"MATCH(BQ$3,Millwall!$AP85:$BA85,0)","v":{"$error":"#N/A"}},{"$f":"MATCH(BR$3,Millwall!$AP85:$BA85,0)","v":{"$error":"#N/A"}},{"$f":"MATCH(BS$3,Millwall!$AP85:$BA85,0)","v":{"$error":"#N/A"}},{"$f":"MATCH(BT$3,Millwall!$AP85:$BA85,0)","v":{"$error":"#N/A"}},{"$f":"MATCH(BU$3,Millwall!$AP85:$BA85,0)","v":{"$error":"#N/A"}},{"$f":"MATCH(BV$3,Millwall!$AP85:$BA85,0)","v":{"$error":"#N/A"}},{"$f":"MATCH(BW$3,Millwall!$AP85:$BA85,0)","v":{"$error":"#N/A"}},{"$f":"MATCH(BX$3,Millwall!$AP85:$BA85,0)","v":{"$error":"#N/A"}},{"$f":"MATCH(BY$3,Millwall!$AP85:$BA85,0)","v":{"$error":"#N/A"}},{"$f":"MATCH(BZ$3,Millwall!$AP85:$BA85,0)","v":{"$error":"#N/A"}},{"$f":"MATCH(CA$3,Millwall!$AP85:$BA85,0)","v":{"$error":"#N/A"}},{"$f":"MATCH(CB$3,Millwall!$AP85:$BA85,0)","v":{"$error":"#N/A"}},{"$f":"MATCH(CC$3,Millwall!$AP85:$BA85,0)","v":{"$error":"#N/A"}},{"$f":"MATCH(CD$3,Millwall!$AP85:$BA85,0)","v":{"$error":"#N/A"}},{"$f":"MATCH(CE$3,Millwall!$AP85:$BA85,0)","v":{"$error":"#N/A"}},null,null,null,null,null,null,null,{"$f":"Millwall!$BO79","v":"Cripps"},{"$f":"Millwall!$BN79&\" (**\"","v":"Cripps** (**"},{"$f":"Millwall!$BN79&\"**\"","v":"Cripps****"}]
[null,null,0,9,null,{"$f":"Millwall!AI86","v":"1970-09-29"},null,{"$f":"Millwall!AK86","v":"Swindon"},{"$f":"Millwall!AL86","v":"(A)"},{"$f":"Millwall!AO86","v":"L 0-3"},{"$f":"MATCH(K$4,Millwall!$AP86:$BA86,0)","v":11},{"$f":"MATCH(L$4,Millwall!$AP86:$BA86,0)","v":9},{"$f":"MATCH(M$4,Millwall!$AP86:$BA86,0)","v":7},{"$f":"MATCH(N$4,Millwall!$AP86:$BA86,0)","v":2},{"$f":"MATCH(O$4,Millwall!$AP86:$BA86,0)","v":12},{"$f":"MATCH(P$4,Millwall!$AP86:$BA86,0)","v":6},{"$f":"MATCH(Q$4,Millwall!$AP86:$BA86,0)","v":{"$error":"#N/A"}},{"$f":"MATCH(R$4,Millwall!$AP86:$BA86,0)","v":3},{"$f":"MATCH(S$4,Millwall!$AP86:$BA86,0)","v":4},{"$f":"MATCH(T$4,Millwall!$AP86:$BA86,0)","v":8},{"$f":"MATCH(U$4,Millwall!$AP86:$BA86,0)","v":{"$error":"#N/A"}},{"$f":"MATCH(V$4,Millwall!$AP86:$BA86,0)","v":{"$error":"#N/A"}},{"$f":"MATCH(W$4,Millwall!$AP86:$BA86,0)","v":{"$error":"#N/A"}},{"$f":"MATCH(X$4,Millwall!$AP86:$BA86,0)","v":1},{"$f":"MATCH(Y$4,Millwall!$AP86:$BA86,0)","v":5},{"$f":"MATCH(Z$4,Millwall!$AP86:$BA86,0)","v":{"$error":"#N/A"}},{"$f":"MATCH(AA$4,Millwall!$AP86:$BA86,0)","v":10},{"$f":"MATCH(AB$4,Millwall!$AP86:$BA86,0)","v":{"$error":"#N/A"}},{"$f":"MATCH(AC$4,Millwall!$AP86:$BA86,0)","v":{"$error":"#N/A"}},{"$f":"MATCH(AD$4,Millwall!$AP86:$BA86,0)","v":{"$error":"#N/A"}},{"$f":"MATCH(AE$4,Millwall!$AP86:$BA86,0)","v":{"$error":"#N/A"}},{"$f":"MATCH(AF$4,Millwall!$AP86:$BA86,0)","v":{"$error":"#N/A"}},{"$f":"MATCH(AG$4,Millwall!$AP86:$BA86,0)","v":{"$error":"#N/A"}},{"$f":"MATCH(AH$3,Millwall!$AP86:$BA86,0)","v":{"$error":"#N/A"}},{"$f":"MATCH(AI$3,Millwall!$AP86:$BA86,0)","v":{"$error":"#N/A"}},{"$f":"MATCH(AJ$3,Millwall!$AP86:$BA86,0)","v":{"$error":"#N/A"}},{"$f":"MATCH(AK$3,Millwall!$AP86:$BA86,0)","v":{"$error":"#N/A"}},{"$f":"MATCH(AL$3,Millwall!$AP86:$BA86,0)","v":{"$error":"#N/A"}},{"$f":"MATCH(AM$3,Millwall!$AP86:$BA86,0)","v":{"$error":"#N/A"}},{"$f":"MATCH(AN$3,Millwall!$AP86:$BA86,0)","v":{"$error":"#N/A"}},{"$f":"MATCH(AO$3,Millwall!$AP86:$BA86,0)","v":{"$error":"#N/A"}},{"$f":"MATCH(AP$3,Millwall!$AP86:$BA86,0)","v":{"$error":"#N/A"}},{"$f":"MATCH(AQ$3,Millwall!$AP86:$BA86,0)","v":{"$error":"#N/A"}},{"$f":"MATCH(AR$3,Millwall!$AP86:$BA86,0)","v":{"$error":"#N/A"}},null,null,null,null,null,{"$f":"MATCH(AX$3,Millwall!$AP86:$BA86,0)","v":11},{"$f":"MATCH(AY$3,Millwall!$AP86:$BA86,0)","v":{"$error":"#N/A"}},{"$f":"MATCH(AZ$3,Millwall!$AP86:$BA86,0)","v":{"$error":"#N/A"}},{"$f":"MATCH(BA$3,Millwall!$AP86:$BA86,0)","v":{"$error":"#N/A"}},{"$f":"MATCH(BB$3,Millwall!$AP86:$BA86,0)","v":12},{"$f":"MATCH(BC$3,Millwall!$AP86:$BA86,0)","v":{"$error":"#N/A"}},{"$f":"MATCH(BD$3,Millwall!$AP86:$BA86,0)","v":{"$error":"#N/A"}},{"$f":"MATCH(BE$3,Millwall!$AP86:$BA86,0)","v":{"$error":"#N/A"}},{"$f":"MATCH(BF$3,Millwall!$AP86:$BA86,0)","v":{"$error":"#N/A"}},{"$f":"MATCH(BG$3,Millwall!$AP86:$BA86,0)","v":{"$error":"#N/A"}},{"$f":"MATCH(BH$3,Millwall!$AP86:$BA86,0)","v":{"$error":"#N/A"}},{"$f":"MATCH(BI$3,Millwall!$AP86:$BA86,0)","v":{"$error":"#N/A"}},{"$f":"MATCH(BJ$3,Millwall!$AP86:$BA86,0)","v":{"$error":"#N/A"}},{"$f":"MATCH(BK$3,Millwall!$AP86:$BA86,0)","v":{"$error":"#N/A"}},{"$f":"MATCH(BL$3,Millwall!$AP86:$BA86,0)","v":{"$error":"#N/A"}},{"$f":"MATCH(BM$3,Millwall!$AP86:$BA86,0)","v":{"$error":"#N/A"}},{"$f":"MATCH(BN$3,Millwall!$AP86:$BA86,0)","v":{"$error":"#N/A"}},{"$f":"MATCH(BO$3,Millwall!$AP86:$BA86,0)","v":{"$error":"#N/A"}},{"$f":"MATCH(BP$3,Millwall!$AP86:$BA86,0)","v":{"$error":"#N/A"}},{"$f":"MATCH(BQ$3,Millwall!$AP86:$BA86,0)","v":{"$error":"#N/A"}},{"$f":"MATCH(BR$3,Millwall!$AP86:$BA86,0)","v":{"$error":"#N/A"}},{"$f":"MATCH(BS$3,Millwall!$AP86:$BA86,0)","v":{"$error":"#N/A"}},{"$f":"MATCH(BT$3,Millwall!$AP86:$BA86,0)","v":{"$error":"#N/A"}},{"$f":"MATCH(BU$3,Millwall!$AP86:$BA86,0)","v":{"$error":"#N/A"}},{"$f":"MATCH(BV$3,Millwall!$AP86:$BA86,0)","v":{"$error":"#N/A"}},{"$f":"MATCH(BW$3,Millwall!$AP86:$BA86,0)","v":{"$error":"#N/A"}},{"$f":"MATCH(BX$3,Millwall!$AP86:$BA86,0)","v":{"$error":"#N/A"}},{"$f":"MATCH(BY$3,Millwall!$AP86:$BA86,0)","v":{"$error":"#N/A"}},{"$f":"MATCH(BZ$3,Millwall!$AP86:$BA86,0)","v":{"$error":"#N/A"}},{"$f":"MATCH(CA$3,Millwall!$AP86:$BA86,0)","v":{"$error":"#N/A"}},{"$f":"MATCH(CB$3,Millwall!$AP86:$BA86,0)","v":{"$error":"#N/A"}},{"$f":"MATCH(CC$3,Millwall!$AP86:$BA86,0)","v":{"$error":"#N/A"}},{"$f":"MATCH(CD$3,Millwall!$AP86:$BA86,0)","v":{"$error":"#N/A"}},{"$f":"MATCH(CE$3,Millwall!$AP86:$BA86,0)","v":{"$error":"#N/A"}},null,null,null,null,null,null,null,{"$f":"Millwall!$BO80","v":"Dorney"},{"$f":"Millwall!$BN80&\" (**\"","v":"Dorney** (**"},{"$f":"Millwall!$BN80&\"**\"","v":"Dorney****"}]
[null,null,0,10,null,{"$f":"Millwall!AI87","v":"1970-10-02"},null,{"$f":"Millwall!AK87","v":"Carlisle"},{"$f":"Millwall!AL87","v":"(A)"},{"$f":"Millwall!AO87","v":"L 0-3"},{"$f":"MATCH(K$4,Millwall!$AP87:$BA87,0)","v":11},{"$f":"MATCH(L$4,Millwall!$AP87:$BA87,0)","v":9},{"$f":"MATCH(M$4,Millwall!$AP87:$BA87,0)","v":7},{"$f":"MATCH(N$4,Millwall!$AP87:$BA87,0)","v":2},{"$f":"MATCH(O$4,Millwall!$AP87:$BA87,0)","v":12},{"$f":"MATCH(P$4,Millwall!$AP87:$BA87,0)","v":6},{"$f":"MATCH(Q$4,Millwall!$AP87:$BA87,0)","v":{"$error":"#N/A"}},{"$f":"MATCH(R$4,Millwall!$AP87:$BA87,0)","v":3},{"$f":"MATCH(S$4,Millwall!$AP87:$BA87,0)","v":4},{"$f":"MATCH(T$4,Millwall!$AP87:$BA87,0)","v":8},{"$f":"MATCH(U$4,Millwall!$AP87:$BA87,0)","v":{"$error":"#N/A"}},{"$f":"MATCH(V$4,Millwall!$AP87:$BA87,0)","v":{"$error":"#N/A"}},{"$f":"MATCH(W$4,Millwall!$AP87:$BA87,0)","v":{"$error":"#N/A"}},{"$f":"MATCH(X$4,Millwall!$AP87:$BA87,0)","v":1},{"$f":"MATCH(Y$4,Millwall!$AP87:$BA87,0)","v":5},{"$f":"MATCH(Z$4,Millwall!$AP87:$BA87,0)","v":{"$error":"#N/A"}},{"$f":"MATCH(AA$4,Millwall!$AP87:$BA87,0)","v":10},{"$f":"MATCH(AB$4,Millwall!$AP87:$BA87,0)","v":{"$error":"#N/A"}},{"$f":"MATCH(AC$4,Millwall!$AP87:$BA87,0)","v":{"$error":"#N/A"}},{"$f":"MATCH(AD$4,Millwall!$AP87:$BA87,0)","v":{"$error":"#N/A"}},{"$f":"MATCH(AE$4,Millwall!$AP87:$BA87,0)","v":{"$error":"#N/A"}},{"$f":"MATCH(AF$4,Millwall!$AP87:$BA87,0)","v":{"$error":"#N/A"}},{"$f":"MATCH(AG$4,Millwall!$AP87:$BA87,0)","v":{"$error":"#N/A"}},{"$f":"MATCH(AH$3,Millwall!$AP87:$BA87,0)","v":{"$error":"#N/A"}},{"$f":"MATCH(AI$3,Millwall!$AP87:$BA87,0)","v":{"$error":"#N/A"}},{"$f":"MATCH(AJ$3,Millwall!$AP87:$BA87,0)","v":{"$error":"#N/A"}},{"$f":"MATCH(AK$3,Millwall!$AP87:$BA87,0)","v":{"$error":"#N/A"}},{"$f":"MATCH(AL$3,Millwall!$AP87:$BA87,0)","v":{"$error":"#N/A"}},{"$f":"MATCH(AM$3,Millwall!$AP87:$BA87,0)","v":{"$error":"#N/A"}},{"$f":"MATCH(AN$3,Millwall!$AP87:$BA87,0)","v":{"$error":"#N/A"}},{"$f":"MATCH(AO$3,Millwall!$AP87:$BA87,0)","v":{"$error":"#N/A"}},{"$f":"MATCH(AP$3,Millwall!$AP87:$BA87,0)","v":{"$error":"#N/A"}},{"$f":"MATCH(AQ$3,Millwall!$AP87:$BA87,0)","v":{"$error":"#N/A"}},{"$f":"MATCH(AR$3,Millwall!$AP87:$BA87,0)","v":{"$error":"#N/A"}},null,null,null,null,null,{"$f":"MATCH(AX$3,Millwall!$AP87:$BA87,0)","v":{"$error":"#N/A"}},{"$f":"MATCH(AY$3,Millwall!$AP87:$BA87,0)","v":9},{"$f":"MATCH(AZ$3,Millwall!$AP87:$BA87,0)","v":{"$error":"#N/A"}},{"$f":"MATCH(BA$3,Millwall!$AP87:$BA87,0)","v":{"$error":"#N/A"}},{"$f":"MATCH(BB$3,Millwall!$AP87:$BA87,0)","v":12},{"$f":"MATCH(BC$3,Millwall!$AP87:$BA87,0)","v":{"$error":"#N/A"}},{"$f":"MATCH(BD$3,Millwall!$AP87:$BA87,0)","v":{"$error":"#N/A"}},{"$f":"MATCH(BE$3,Millwall!$AP87:$BA87,0)","v":{"$error":"#N/A"}},{"$f":"MATCH(BF$3,Millwall!$AP87:$BA87,0)","v":{"$error":"#N/A"}},{"$f":"MATCH(BG$3,Millwall!$AP87:$BA87,0)","v":{"$error":"#N/A"}},{"$f":"MATCH(BH$3,Millwall!$AP87:$BA87,0)","v":{"$error":"#N/A"}},{"$f":"MATCH(BI$3,Millwall!$AP87:$BA87,0)","v":{"$error":"#N/A"}},{"$f":"MATCH(BJ$3,Millwall!$AP87:$BA87,0)","v":{"$error":"#N/A"}},{"$f":"MATCH(BK$3,Millwall!$AP87:$BA87,0)","v":{"$error":"#N/A"}},{"$f":"MATCH(BL$3,Millwall!$AP87:$BA87,0)","v":{"$error":"#N/A"}},{"$f":"MATCH(BM$3,Millwall!$AP87:$BA87,0)","v":{"$error":"#N/A"}},{"$f":"MATCH(BN$3,Millwall!$AP87:$BA87,0)","v":{"$error":"#N/A"}},{"$f":"MATCH(BO$3,Millwall!$AP87:$BA87,0)","v":{"$error":"#N/A"}},{"$f":"MATCH(BP$3,Millwall!$AP87:$BA87,0)","v":{"$error":"#N/A"}},{"$f":"MATCH(BQ$3,Millwall!$AP87:$BA87,0)","v":{"$error":"#N/A"}},{"$f":"MATCH(BR$3,Millwall!$AP87:$BA87,0)","v":{"$error":"#N/A"}},{"$f":"MATCH(BS$3,Millwall!$AP87:$BA87,0)","v":{"$error":"#N/A"}},{"$f":"MATCH(BT$3,Millwall!$AP87:$BA87,0)","v":{"$error":"#N/A"}},{"$f":"MATCH(BU$3,Millwall!$AP87:$BA87,0)","v":{"$error":"#N/A"}},{"$f":"MATCH(BV$3,Millwall!$AP87:$BA87,0)","v":{"$error":"#N/A"}},{"$f":"MATCH(BW$3,Millwall!$AP87:$BA87,0)","v":{"$error":"#N/A"}},{"$f":"MATCH(BX$3,Millwall!$AP87:$BA87,0)","v":{"$error":"#N/A"}},{"$f":"MATCH(BY$3,Millwall!$AP87:$BA87,0)","v":{"$error":"#N/A"}},{"$f":"MATCH(BZ$3,Millwall!$AP87:$BA87,0)","v":{"$error":"#N/A"}},{"$f":"MATCH(CA$3,Millwall!$AP87:$BA87,0)","v":{"$error":"#N/A"}},{"$f":"MATCH(CB$3,Millwall!$AP87:$BA87,0)","v":{"$error":"#N/A"}},{"$f":"MATCH(CC$3,Millwall!$AP87:$BA87,0)","v":{"$error":"#N/A"}},{"$f":"MATCH(CD$3,Millwall!$AP87:$BA87,0)","v":{"$error":"#N/A"}},{"$f":"MATCH(CE$3,Millwall!$AP87:$BA87,0)","v":{"$error":"#N/A"}},null,null,null,null,null,null,null,{"$f":"Millwall!$BO81","v":"Dunphy"},{"$f":"Millwall!$BN81&\" (**\"","v":"Dunphy** (**"},{"$f":"Millwall!$BN81&\"**\"","v":"Dunphy****"}]
[null,null,0,11,null,{"$f":"Millwall!AI88","v":"1970-10-10"},null,{"$f":"Millwall!AK88","v":"Blackburn"},{"$f":"Millwall!AL88","v":"(H)"},{"$f":"Millwall!AO88","v":"W 2-0"},{"$f":"MATCH(K$4,Millwall!$AP88:$BA88,0)","v":11},{"$f":"MATCH(L$4,Millwall!$AP88:$BA88,0)","v":9},{"$f":"MATCH(M$4,Millwall!$AP88:$BA88,0)","v":7},{"$f":"MATCH(N$4,Millwall!$AP88:$BA88,0)","v":2},{"$f":"MATCH(O$4,Millwall!$AP88:$BA88,0)","v":{"$error":"#N/A"}},{"$f":"MATCH(P$4,Millwall!$AP88:$BA88,0)","v":6},{"$f":"MATCH(Q$4,Millwall!$AP88:$BA88,0)","v":{"$error":"#N/A"}},{"$f":"MATCH(R$4,Millwall!$AP88:$BA88,0)","v":3},{"$f":"MATCH(S$4,Millwall!$AP88:$BA88,0)","v":{"$error":"#N/A"}},{"$f":"MATCH(T$4,Millwall!$AP88:$BA88,0)","v":8},{"$f":"MATCH(U$4,Millwall!$AP88:$BA88,0)","v":4},{"$f":"MATCH(V$4,Millwall!$AP88:$BA88,0)","v":{"$error":"#N/A"}},{"$f":"MATCH(W$4,Millwall!$AP88:$BA88,0)","v":{"$error":"#N/A"}},{"$f":"MATCH(X$4,Millwall!$AP88:$BA88,0)","v":1},{"$f":"MATCH(Y$4,Millwall!$AP88:$BA88,0)","v":5},{"$f":"MATCH(Z$4,Millwall!$AP88:$BA88,0)","v":{"$error":"#N/A"}},{"$f":"MATCH(AA$4,Millwall!$AP88:$BA88,0)","v":10},{"$f":"MATCH(AB$4,Millwall!$AP88:$BA88,0)","v":{"$error":"#N/A"}},{"$f":"MATCH(AC$4,Millwall!$AP88:$BA88,0)","v":{"$error":"#N/A"}},{"$f":"MATCH(AD$4,Millwall!$AP88:$BA88,0)","v":{"$error":"#N/A"}},{"$f":"MATCH(AE$4,Millwall!$AP88:$BA88,0)","v":{"$error":"#N/A"}},{"$f":"MATCH(AF$4,Millwall!$AP88:$BA88,0)","v":{"$error":"#N/A"}},{"$f":"MATCH(AG$4,Millwall!$AP88:$BA88,0)","v":{"$error":"#N/A"}},{"$f":"MATCH(AH$3,Millwall!$AP88:$BA88,0)","v":{"$error":"#N/A"}},{"$f":"MATCH(AI$3,Millwall!$AP88:$BA88,0)","v":{"$error":"#N/A"}},{"$f":"MATCH(AJ$3,Millwall!$AP88:$BA88,0)","v":{"$error":"#N/A"}},{"$f":"MATCH(AK$3,Millwall!$AP88:$BA88,0)","v":{"$error":"#N/A"}},{"$f":"MATCH(AL$3,Millwall!$AP88:$BA88,0)","v":{"$error":"#N/A"}},{"$f":"MATCH(AM$3,Millwall!$AP88:$BA88,0)","v":{"$error":"#N/A"}},{"$f":"MATCH(AN$3,Millwall!$AP88:$BA88,0)","v":{"$error":"#N/A"}},{"$f":"MATCH(AO$3,Millwall!$AP88:$BA88,0)","v":{"$error":"#N/A"}},{"$f":"MATCH(AP$3,Millwall!$AP88:$BA88,0)","v":{"$error":"#N/A"}},{"$f":"MATCH(AQ$3,Millwall!$AP88:$BA88,0)","v":{"$error":"#N/A"}},{"$f":"MATCH(AR$3,Millwall!$AP88:$BA88,0)","v":{"$error":"#N/A"}},null,null,null,null,null,{"$f":"MATCH(AX$3,Millwall!$AP88:$BA88,0)","v":{"$error":"#N/A"}},{"$f":"MATCH(AY$3,Millwall!$AP88:$BA88,0)","v":{"$error":"#N/A"}},{"$f":"MATCH(AZ$3,Millwall!$AP88:$BA88,0)","v":{"$error":"#N/A"}},{"$f":"MATCH(BA$3,Millwall!$AP88:$BA88,0)","v":{"$error":"#N/A"}},{"$f":"MATCH(BB$3,Millwall!$AP88:$BA88,0)","v":{"$error":"#N/A"}},{"$f":"MATCH(BC$3,Millwall!$AP88:$BA88,0)","v":{"$error":"#N/A"}},{"$f":"MATCH(BD$3,Millwall!$AP88:$BA88,0)","v":{"$error":"#N/A"}},{"$f":"MATCH(BE$3,Millwall!$AP88:$BA88,0)","v":{"$error":"#N/A"}},{"$f":"MATCH(BF$3,Millwall!$AP88:$BA88,0)","v":{"$error":"#N/A"}},{"$f":"MATCH(BG$3,Millwall!$AP88:$BA88,0)","v":{"$error":"#N/A"}},{"$f":"MATCH(BH$3,Millwall!$AP88:$BA88,0)","v":{"$error":"#N/A"}},{"$f":"MATCH(BI$3,Millwall!$AP88:$BA88,0)","v":{"$error":"#N/A"}},{"$f":"MATCH(BJ$3,Millwall!$AP88:$BA88,0)","v":{"$error":"#N/A"}},{"$f":"MATCH(BK$3,Millwall!$AP88:$BA88,0)","v":{"$error":"#N/A"}},{"$f":"MATCH(BL$3,Millwall!$AP88:$BA88,0)","v":{"$error":"#N/A"}},{"$f":"MATCH(BM$3,Millwall!$AP88:$BA88,0)","v":{"$error":"#N/A"}},{"$f":"MATCH(BN$3,Millwall!$AP88:$BA88,0)","v":{"$error":"#N/A"}},{"$f":"MATCH(BO$3,Millwall!$AP88:$BA88,0)","v":{"$error":"#N/A"}},{"$f":"MATCH(BP$3,Millwall!$AP88:$BA88,0)","v":{"$error":"#N/A"}},{"$f":"MATCH(BQ$3,Millwall!$AP88:$BA88,0)","v":{"$error":"#N/A"}},{"$f":"MATCH(BR$3,Millwall!$AP88:$BA88,0)","v":{"$error":"#N/A"}},{"$f":"MATCH(BS$3,Millwall!$AP88:$BA88,0)","v":{"$error":"#N/A"}},{"$f":"MATCH(BT$3,Millwall!$AP88:$BA88,0)","v":{"$error":"#N/A"}},{"$f":"MATCH(BU$3,Millwall!$AP88:$BA88,0)","v":{"$error":"#N/A"}},{"$f":"MATCH(BV$3,Millwall!$AP88:$BA88,0)","v":{"$error":"#N/A"}},{"$f":"MATCH(BW$3,Millwall!$AP88:$BA88,0)","v":{"$error":"#N/A"}},{"$f":"MATCH(BX$3,Millwall!$AP88:$BA88,0)","v":{"$error":"#N/A"}},{"$f":"MATCH(BY$3,Millwall!$AP88:$BA88,0)","v":{"$error":"#N/A"}},{"$f":"MATCH(BZ$3,Millwall!$AP88:$BA88,0)","v":{"$error":"#N/A"}},{"$f":"MATCH(CA$3,Millwall!$AP88:$BA88,0)","v":{"$error":"#N/A"}},{"$f":"MATCH(CB$3,Millwall!$AP88:$BA88,0)","v":{"$error":"#N/A"}},{"$f":"MATCH(CC$3,Millwall!$AP88:$BA88,0)","v":{"$error":"#N/A"}},{"$f":"MATCH(CD$3,Millwall!$AP88:$BA88,0)","v":{"$error":"#N/A"}},{"$f":"MATCH(CE$3,Millwall!$AP88:$BA88,0)","v":{"$error":"#N/A"}},null,null,null,null,null,null,null,{"$f":"Millwall!$BO82","v":"Garner"},{"$f":"Millwall!$BN82&\" (**\"","v":"Garner** (**"},{"$f":"Millwall!$BN82&\"**\"","v":"Garner****"}]
[null,null,0,12,null,{"$f":"Millwall!AI89","v":"1970-10-17"},null,{"$f":"Millwall!AK89","v":"Oxford"},{"$f":"Millwall!AL89","v":"(A)"},{"$f":"Millwall!AO89","v":"W 3-2"},{"$f":"MATCH(K$4,Millwall!$AP89:$BA89,0)","v":11},{"$f":"MATCH(L$4,Millwall!$AP89:$BA89,0)","v":9},{"$f":"MATCH(M$4,Millwall!$AP89:$BA89,0)","v":7},{"$f":"MATCH(N$4,Millwall!$AP89:$BA89,0)","v":2},{"$f":"MATCH(O$4,Millwall!$AP89:$BA89,0)","v":{"$error":"#N/A"}},{"$f":"MATCH(P$4,Millwall!$AP89:$BA89,0)","v":6},{"$f":"MATCH(Q$4,Millwall!$AP89:$BA89,0)","v":{"$error":"#N/A"}},{"$f":"MATCH(R$4,Millwall!$AP89:$BA89,0)","v":3},{"$f":"MATCH(S$4,Millwall!$AP89:$BA89,0)","v":4},{"$f":"MATCH(T$4,Millwall!$AP89:$BA89,0)","v":8},{"$f":"MATCH(U$4,Millwall!$AP89:$BA89,0)","v":{"$error":"#N/A"}},{"$f":"MATCH(V$4,Millwall!$AP89:$BA89,0)","v":{"$error":"#N/A"}},{"$f":"MATCH(W$4,Millwall!$AP89:$BA89,0)","v":{"$error":"#N/A"}},{"$f":"MATCH(X$4,Millwall!$AP89:$BA89,0)","v":1},{"$f":"MATCH(Y$4,Millwall!$AP89:$BA89,0)","v":5},{"$f":"MATCH(Z$4,Millwall!$AP89:$BA89,0)","v":{"$error":"#N/A"}},{"$f":"MATCH(AA$4,Millwall!$AP89:$BA89,0)","v":10},{"$f":"MATCH(AB$4,Millwall!$AP89:$BA89,0)","v":{"$error":"#N/A"}},{"$f":"MATCH(AC$4,Millwall!$AP89:$BA89,0)","v":{"$error":"#N/A"}},{"$f":"MATCH(AD$4,Millwall!$AP89:$BA89,0)","v":{"$error":"#N/A"}},{"$f":"MATCH(AE$4,Millwall!$AP89:$BA89,0)","v":{"$error":"#N/A"}},{"$f":"MATCH(AF$4,Millwall!$AP89:$BA89,0)","v":{"$error":"#N/A"}},{"$f":"MATCH(AG$4,Millwall!$AP89:$BA89,0)","v":{"$error":"#N/A"}},{"$f":"MATCH(AH$3,Millwall!$AP89:$BA89,0)","v":{"$error":"#N/A"}},{"$f":"MATCH(AI$3,Millwall!$AP89:$BA89,0)","v":{"$error":"#N/A"}},{"$f":"MATCH(AJ$3,Millwall!$AP89:$BA89,0)","v":{"$error":"#N/A"}},{"$f":"MATCH(AK$3,Millwall!$AP89:$BA89,0)","v":{"$error":"#N/A"}},{"$f":"MATCH(AL$3,Millwall!$AP89:$BA89,0)","v":{"$error":"#N/A"}},{"$f":"MATCH(AM$3,Millwall!$AP89:$BA89,0)","v":{"$error":"#N/A"}},{"$f":"MATCH(AN$3,Millwall!$AP89:$BA89,0)","v":{"$error":"#N/A"}},{"$f":"MATCH(AO$3,Millwall!$AP89:$BA89,0)","v":{"$error":"#N/A"}},{"$f":"MATCH(AP$3,Millwall!$AP89:$BA89,0)","v":{"$error":"#N/A"}},{"$f":"MATCH(AQ$3,Millwall!$AP89:$BA89,0)","v":{"$error":"#N/A"}},{"$f":"MATCH(AR$3,Millwall!$AP89:$BA89,0)","v":{"$error":"#N/A"}},null,null,null,null,null,{"$f":"MATCH(AX$3,Millwall!$AP89:$BA89,0)","v":{"$error":"#N/A"}},{"$f":"MATCH(AY$3,Millwall!$AP89:$BA89,0)","v":{"$error":"#N/A"}},{"$f":"MATCH(AZ$3,Millwall!$AP89:$BA89,0)","v":{"$error":"#N/A"}},{"$f":"MATCH(BA$3,Millwall!$AP89:$BA89,0)","v":{"$error":"#N/A"}},{"$f":"MATCH(BB$3,Millwall!$AP89:$BA89,0)","v":{"$error":"#N/A"}},{"$f":"MATCH(BC$3,Millwall!$AP89:$BA89,0)","v":{"$error":"#N/A"}},{"$f":"MATCH(BD$3,Millwall!$AP89:$BA89,0)","v":{"$error":"#N/A"}},{"$f":"MATCH(BE$3,Millwall!$AP89:$BA89,0)","v":{"$error":"#N/A"}},{"$f":"MATCH(BF$3,Millwall!$AP89:$BA89,0)","v":{"$error":"#N/A"}},{"$f":"MATCH(BG$3,Millwall!$AP89:$BA89,0)","v":{"$error":"#N/A"}},{"$f":"MATCH(BH$3,Millwall!$AP89:$BA89,0)","v":{"$error":"#N/A"}},{"$f":"MATCH(BI$3,Millwall!$AP89:$BA89,0)","v":{"$error":"#N/A"}},{"$f":"MATCH(BJ$3,Millwall!$AP89:$BA89,0)","v":{"$error":"#N/A"}},{"$f":"MATCH(BK$3,Millwall!$AP89:$BA89,0)","v":{"$error":"#N/A"}},{"$f":"MATCH(BL$3,Millwall!$AP89:$BA89,0)","v":{"$error":"#N/A"}},{"$f":"MATCH(BM$3,Millwall!$AP89:$BA89,0)","v":{"$error":"#N/A"}},{"$f":"MATCH(BN$3,Millwall!$AP89:$BA89,0)","v":{"$error":"#N/A"}},{"$f":"MATCH(BO$3,Millwall!$AP89:$BA89,0)","v":{"$error":"#N/A"}},{"$f":"MATCH(BP$3,Millwall!$AP89:$BA89,0)","v":{"$error":"#N/A"}},{"$f":"MATCH(BQ$3,Millwall!$AP89:$BA89,0)","v":{"$error":"#N/A"}},{"$f":"MATCH(BR$3,Millwall!$AP89:$BA89,0)","v":{"$error":"#N/A"}},{"$f":"MATCH(BS$3,Millwall!$AP89:$BA89,0)","v":{"$error":"#N/A"}},{"$f":"MATCH(BT$3,Millwall!$AP89:$BA89,0)","v":{"$error":"#N/A"}},{"$f":"MATCH(BU$3,Millwall!$AP89:$BA89,0)","v":{"$error":"#N/A"}},{"$f":"MATCH(BV$3,Millwall!$AP89:$BA89,0)","v":{"$error":"#N/A"}},{"$f":"MATCH(BW$3,Millwall!$AP89:$BA89,0)","v":{"$error":"#N/A"}},{"$f":"MATCH(BX$3,Millwall!$AP89:$BA89,0)","v":{"$error":"#N/A"}},{"$f":"MATCH(BY$3,Millwall!$AP89:$BA89,0)","v":{"$error":"#N/A"}},{"$f":"MATCH(BZ$3,Millwall!$AP89:$BA89,0)","v":{"$error":"#N/A"}},{"$f":"MATCH(CA$3,Millwall!$AP89:$BA89,0)","v":{"$error":"#N/A"}},{"$f":"MATCH(CB$3,Millwall!$AP89:$BA89,0)","v":{"$error":"#N/A"}},{"$f":"MATCH(CC$3,Millwall!$AP89:$BA89,0)","v":{"$error":"#N/A"}},{"$f":"MATCH(CD$3,Millwall!$AP89:$BA89,0)","v":{"$error":"#N/A"}},{"$f":"MATCH(CE$3,Millwall!$AP89:$BA89,0)","v":{"$error":"#N/A"}},null,null,null,null,null,null,null,{"$f":"Millwall!$BO83","v":"Holmes"},{"$f":"Millwall!$BN83&\" (**\"","v":"Holmes** (**"},{"$f":"Millwall!$BN83&\"**\"","v":"Holmes****"}]
[null,null,0,13,null,{"$f":"Millwall!AI90","v":"1970-10-19"},null,{"$f":"Millwall!AK90","v":"Watford"},{"$f":"Millwall!AL90","v":"(H)"},{"$f":"Millwall!AO90","v":"W 3-0"},{"$f":"MATCH(K$4,Millwall!$AP90:$BA90,0)","v":11},{"$f":"MATCH(L$4,Millwall!$AP90:$BA90,0)","v":9},{"$f":"MATCH(M$4,Millwall!$AP90:$BA90,0)","v":7},{"$f":"MATCH(N$4,Millwall!$AP90:$BA90,0)","v":2},{"$f":"MATCH(O$4,Millwall!$AP90:$BA90,0)","v":{"$error":"#N/A"}},{"$f":"MATCH(P$4,Millwall!$AP90:$BA90,0)","v":6},{"$f":"MATCH(Q$4,Millwall!$AP90:$BA90,0)","v":{"$error":"#N/A"}},{"$f":"MATCH(R$4,Millwall!$AP90:$BA90,0)","v":3},{"$f":"MATCH(S$4,Millwall!$AP90:$BA90,0)","v":4},{"$f":"MATCH(T$4,Millwall!$AP90:$BA90,0)","v":8},{"$f":"MATCH(U$4,Millwall!$AP90:$BA90,0)","v":{"$error":"#N/A"}},{"$f":"MATCH(V$4,Millwall!$AP90:$BA90,0)","v":{"$error":"#N/A"}},{"$f":"MATCH(W$4,Millwall!$AP90:$BA90,0)","v":{"$error":"#N/A"}},{"$f":"MATCH(X$4,Millwall!$AP90:$BA90,0)","v":1},{"$f":"MATCH(Y$4,Millwall!$AP90:$BA90,0)","v":5},{"$f":"MATCH(Z$4,Millwall!$AP90:$BA90,0)","v":{"$error":"#N/A"}},{"$f":"MATCH(AA$4,Millwall!$AP90:$BA90,0)","v":10},{"$f":"MATCH(AB$4,Millwall!$AP90:$BA90,0)","v":{"$error":"#N/A"}},{"$f":"MATCH(AC$4,Millwall!$AP90:$BA90,0)","v":{"$error":"#N/A"}},{"$f":"MATCH(AD$4,Millwall!$AP90:$BA90,0)","v":{"$error":"#N/A"}},{"$f":"MATCH(AE$4,Millwall!$AP90:$BA90,0)","v":{"$error":"#N/A"}},{"$f":"MATCH(AF$4,Millwall!$AP90:$BA90,0)","v":{"$error":"#N/A"}},{"$f":"MATCH(AG$4,Millwall!$AP90:$BA90,0)","v":{"$error":"#N/A"}},{"$f":"MATCH(AH$3,Millwall!$AP90:$BA90,0)","v":{"$error":"#N/A"}},{"$f":"MATCH(AI$3,Millwall!$AP90:$BA90,0)","v":{"$error":"#N/A"}},{"$f":"MATCH(AJ$3,Millwall!$AP90:$BA90,0)","v":{"$error":"#N/A"}},{"$f":"MATCH(AK$3,Millwall!$AP90:$BA90,0)","v":{"$error":"#N/A"}},{"$f":"MATCH(AL$3,Millwall!$AP90:$BA90,0)","v":{"$error":"#N/A"}},{"$f":"MATCH(AM$3,Millwall!$AP90:$BA90,0)","v":{"$error":"#N/A"}},{"$f":"MATCH(AN$3,Millwall!$AP90:$BA90,0)","v":{"$error":"#N/A"}},{"$f":"MATCH(AO$3,Millwall!$AP90:$BA90,0)","v":{"$error":"#N/A"}},{"$f":"MATCH(AP$3,Millwall!$AP90:$BA90,0)","v":{"$error":"#N/A"}},{"$f":"MATCH(AQ$3,Millwall!$AP90:$BA90,0)","v":{"$error":"#N/A"}},{"$f":"MATCH(AR$3,Millwall!$AP90:$BA90,0)","v":{"$error":"#N/A"}},null,null,null,null,null,{"$f":"MATCH(AX$3,Millwall!$AP90:$BA90,0)","v":{"$error":"#N/A"}},{"$f":"MATCH(AY$3,Millwall!$AP90:$BA90,0)","v":{"$error":"#N/A"}},{"$f":"MATCH(AZ$3,Millwall!$AP90:$BA90,0)","v":{"$error":"#N/A"}},{"$f":"MATCH(BA$3,Millwall!$AP90:$BA90,0)","v":{"$error":"#N/A"}},{"$f":"MATCH(BB$3,Millwall!$AP90:$BA90,0)","v":{"$error":"#N/A"}},{"$f":"MATCH(BC$3,Millwall!$AP90:$BA90,0)","v":{"$error":"#N/A"}},{"$f":"MATCH(BD$3,Millwall!$AP90:$BA90,0)","v":{"$error":"#N/A"}},{"$f":"MATCH(BE$3,Millwall!$AP90:$BA90,0)","v":{"$error":"#N/A"}},{"$f":"MATCH(BF$3,Millwall!$AP90:$BA90,0)","v":{"$error":"#N/A"}},{"$f":"MATCH(BG$3,Millwall!$AP90:$BA90,0)","v":{"$error":"#N/A"}},{"$f":"MATCH(BH$3,Millwall!$AP90:$BA90,0)","v":{"$error":"#N/A"}},{"$f":"MATCH(BI$3,Millwall!$AP90:$BA90,0)","v":{"$error":"#N/A"}},{"$f":"MATCH(BJ$3,Millwall!$AP90:$BA90,0)","v":{"$error":"#N/A"}},{"$f":"MATCH(BK$3,Millwall!$AP90:$BA90,0)","v":{"$error":"#N/A"}},{"$f":"MATCH(BL$3,Millwall!$AP90:$BA90,0)","v":{"$error":"#N/A"}},{"$f":"MATCH(BM$3,Millwall!$AP90:$BA90,0)","v":{"$error":"#N/A"}},{"$f":"MATCH(BN$3,Millwall!$AP90:$BA90,0)","v":{"$error":"#N/A"}},{"$f":"MATCH(BO$3,Millwall!$AP90:$BA90,0)","v":{"$error":"#N/A"}},{"$f":"MATCH(BP$3,Millwall!$AP90:$BA90,0)","v":{"$error":"#N/A"}},{"$f":"MATCH(BQ$3,Millwall!$AP90:$BA90,0)","v":{"$error":"#N/A"}},{"$f":"MATCH(BR$3,Millwall!$AP90:$BA90,0)","v":{"$error":"#N/A"}},{"$f":"MATCH(BS$3,Millwall!$AP90:$BA90,0)","v":{"$error":"#N/A"}},{"$f":"MATCH(BT$3,Millwall!$AP90:$BA90,0)","v":{"$error":"#N/A"}},{"$f":"MATCH(BU$3,Millwall!$AP90:$BA90,0)","v":{"$error":"#N/A"}},{"$f":"MATCH(BV$3,Millwall!$AP90:$BA90,0)","v":{"$error":"#N/A"}},{"$f":"MATCH(BW$3,Millwall!$AP90:$BA90,0)","v":{"$error":"#N/A"}},{"$f":"MATCH(BX$3,Millwall!$AP90:$BA90,0)","v":{"$error":"#N/A"}},{"$f":"MATCH(BY$3,Millwall!$AP90:$BA90,0)","v":{"$error":"#N/A"}},{"$f":"MATCH(BZ$3,Millwall!$AP90:$BA90,0)","v":{"$error":"#N/A"}},{"$f":"MATCH(CA$3,Millwall!$AP90:$BA90,0)","v":{"$error":"#N/A"}},{"$f":"MATCH(CB$3,Millwall!$AP90:$BA90,0)","v":{"$error":"#N/A"}},{"$f":"MATCH(CC$3,Millwall!$AP90:$BA90,0)","v":{"$error":"#N/A"}},{"$f":"MATCH(CD$3,Millwall!$AP90:$BA90,0)","v":{"$error":"#N/A"}},{"$f":"MATCH(CE$3,Millwall!$AP90:$BA90,0)","v":{"$error":"#N/A"}},null,null,null,null,null,null,null,{"$f":"Millwall!$BO84","v":"Jacks"},{"$f":"Millwall!$BN84&\" (**\"","v":"Jacks** (**"},{"$f":"Millwall!$BN84&\"**\"","v":"Jacks****"}]
[null,null,0,14,null,{"$f":"Millwall!AI91","v":"1970-10-24"},null,{"$f":"Millwall!AK91","v":"Leyton Orient"},{"$f":"Millwall!AL91","v":"(A)"},{"$f":"Millwall!AO91","v":"D 0-0"},{"$f":"MATCH(K$4,Millwall!$AP91:$BA91,0)","v":11},{"$f":"MATCH(L$4,Millwall!$AP91:$BA91,0)","v":9},{"$f":"MATCH(M$4,Millwall!$AP91:$BA91,0)","v":7},{"$f":"MATCH(N$4,Millwall!$AP91:$BA91,0)","v":2},{"$f":"MATCH(O$4,Millwall!$AP91:$BA91,0)","v":{"$error":"#N/A"}},{"$f":"MATCH(P$4,Millwall!$AP91:$BA91,0)","v":6},{"$f":"MATCH(Q$4,Millwall!$AP91:$BA91,0)","v":{"$error":"#N/A"}},{"$f":"MATCH(R$4,Millwall!$AP91:$BA91,0)","v":3},{"$f":"MATCH(S$4,Millwall!$AP91:$BA91,0)","v":4},{"$f":"MATCH(T$4,Millwall!$AP91:$BA91,0)","v":8},{"$f":"MATCH(U$4,Millwall!$AP91:$BA91,0)","v":{"$error":"#N/A"}},{"$f":"MATCH(V$4,Millwall!$AP91:$BA91,0)","v":{"$error":"#N/A"}},{"$f":"MATCH(W$4,Millwall!$AP91:$BA91,0)","v":{"$error":"#N/A"}},{"$f":"MATCH(X$4,Millwall!$AP91:$BA91,0)","v":1},{"$f":"MATCH(Y$4,Millwall!$AP91:$BA91,0)","v":5},{"$f":"MATCH(Z$4,Millwall!$AP91:$BA91,0)","v":{"$error":"#N/A"}},{"$f":"MATCH(AA$4,Millwall!$AP91:$BA91,0)","v":10},{"$f":"MATCH(AB$4,Millwall!$AP91:$BA91,0)","v":{"$error":"#N/A"}},{"$f":"MATCH(AC$4,Millwall!$AP91:$BA91,0)","v":{"$error":"#N/A"}},{"$f":"MATCH(AD$4,Millwall!$AP91:$BA91,0)","v":{"$error":"#N/A"}},{"$f":"MATCH(AE$4,Millwall!$AP91:$BA91,0)","v":{"$error":"#N/A"}},{"$f":"MATCH(AF$4,Millwall!$AP91:$BA91,0)","v":{"$error":"#N/A"}},{"$f":"MATCH(AG$4,Millwall!$AP91:$BA91,0)","v":{"$error":"#N/A"}},{"$f":"MATCH(AH$3,Millwall!$AP91:$BA91,0)","v":{"$error":"#N/A"}},{"$f":"MATCH(AI$3,Millwall!$AP91:$BA91,0)","v":{"$error":"#N/A"}},{"$f":"MATCH(AJ$3,Millwall!$AP91:$BA91,0)","v":{"$error":"#N/A"}},{"$f":"MATCH(AK$3,Millwall!$AP91:$BA91,0)","v":{"$error":"#N/A"}},{"$f":"MATCH(AL$3,Millwall!$AP91:$BA91,0)","v":{"$error":"#N/A"}},{"$f":"MATCH(AM$3,Millwall!$AP91:$BA91,0)","v":{"$error":"#N/A"}},{"$f":"MATCH(AN$3,Millwall!$AP91:$BA91,0)","v":{"$error":"#N/A"}},{"$f":"MATCH(AO$3,Millwall!$AP91:$BA91,0)","v":{"$error":"#N/A"}},{"$f":"MATCH(AP$3,Millwall!$AP91:$BA91,0)","v":{"$error":"#N/A"}},{"$f":"MATCH(AQ$3,Millwall!$AP91:$BA91,0)","v":{"$error":"#N/A"}},{"$f":"MATCH(AR$3,Millwall!$AP91:$BA91,0)","v":{"$error":"#N/A"}},null,null,null,null,null,{"$f":"MATCH(AX$3,Millwall!$AP91:$BA91,0)","v":{"$error":"#N/A"}},{"$f":"MATCH(AY$3,Millwall!$AP91:$BA91,0)","v":{"$error":"#N/A"}},{"$f":"MATCH(AZ$3,Millwall!$AP91:$BA91,0)","v":{"$error":"#N/A"}},{"$f":"MATCH(BA$3,Millwall!$AP91:$BA91,0)","v":{"$error":"#N/A"}},{"$f":"MATCH(BB$3,Millwall!$AP91:$BA91,0)","v":{"$error":"#N/A"}},{"$f":"MATCH(BC$3,Millwall!$AP91:$BA91,0)","v":{"$error":"#N/A"}},{"$f":"MATCH(BD$3,Millwall!$AP91:$BA91,0)","v":{"$error":"#N/A"}},{"$f":"MATCH(BE$3,Millwall!$AP91:$BA91,0)","v":{"$error":"#N/A"}},{"$f":"MATCH(BF$3,Millwall!$AP91:$BA91,0)","v":{"$error":"#N/A"}},{"$f":"MATCH(BG$3,Millwall!$AP91:$BA91,0)","v":{"$error":"#N/A"}},{"$f":"MATCH(BH$3,Millwall!$AP91:$BA91,0)","v":{"$error":"#N/A"}},{"$f":"MATCH(BI$3,Millwall!$AP91:$BA91,0)","v":{"$error":"#N/A"}},{"$f":"MATCH(BJ$3,Millwall!$AP91:$BA91,0)","v":{"$error":"#N/A"}},{"$f":"MATCH(BK$3,Millwall!$AP91:$BA91,0)","v":{"$error":"#N/A"}},{"$f":"MATCH(BL$3,Millwall!$AP91:$BA91,0)","v":{"$error":"#N/A"}},{"$f":"MATCH(BM$3,Millwall!$AP91:$BA91,0)","v":{"$error":"#N/A"}},{"$f":"MATCH(BN$3,Millwall!$AP91:$BA91,0)","v":{"$error":"#N/A"}},{"$f":"MATCH(BO$3,Millwall!$AP91:$BA91,0)","v":{"$error":"#N/A"}},{"$f":"MATCH(BP$3,Millwall!$AP91:$BA91,0)","v":{"$error":"#N/A"}},{"$f":"MATCH(BQ$3,Millwall!$AP91:$BA91,0)","v":{"$error":"#N/A"}},{"$f":"MATCH(BR$3,Millwall!$AP91:$BA91,0)","v":{"$error":"#N/A"}},{"$f":"MATCH(BS$3,Millwall!$AP91:$BA91,0)","v":{"$error":"#N/A"}},{"$f":"MATCH(BT$3,Millwall!$AP91:$BA91,0)","v":{"$error":"#N/A"}},{"$f":"MATCH(BU$3,Millwall!$AP91:$BA91,0)","v":{"$error":"#N/A"}},{"$f":"MATCH(BV$3,Millwall!$AP91:$BA91,0)","v":{"$error":"#N/A"}},{"$f":"MATCH(BW$3,Millwall!$AP91:$BA91,0)","v":{"$error":"#N/A"}},{"$f":"MATCH(BX$3,Millwall!$AP91:$BA91,0)","v":{"$error":"#N/A"}},{"$f":"MATCH(BY$3,Millwall!$AP91:$BA91,0)","v":{"$error":"#N/A"}},{"$f":"MATCH(BZ$3,Millwall!$AP91:$BA91,0)","v":{"$error":"#N/A"}},{"$f":"MATCH(CA$3,Millwall!$AP91:$BA91,0)","v":{"$error":"#N/A"}},{"$f":"MATCH(CB$3,Millwall!$AP91:$BA91,0)","v":{"$error":"#N/A"}},{"$f":"MATCH(CC$3,Millwall!$AP91:$BA91,0)","v":{"$error":"#N/A"}},{"$f":"MATCH(CD$3,Millwall!$AP91:$BA91,0)","v":{"$error":"#N/A"}},{"$f":"MATCH(CE$3,Millwall!$AP91:$BA91,0)","v":{"$error":"#N/A"}},null,null,null,null,null,null,null,{"$f":"Millwall!$BO85","v":"King"},{"$f":"Millwall!$BN85&\" (**\"","v":"King** (**"},{"$f":"Millwall!$BN85&\"**\"","v":"King****"}]
[null,null,0,15,null,{"$f":"Millwall!AI92","v":"1970-10-31"},null,{"$f":"Millwall!AK92","v":"QPR"},{"$f":"Millwall!AL92","v":"(H)"},{"$f":"Millwall!AO92","v":"W 3-0"},{"$f":"MATCH(K$4,Millwall!$AP92:$BA92,0)","v":11},{"$f":"MATCH(L$4,Millwall!$AP92:$BA92,0)","v":9},{"$f":"MATCH(M$4,Millwall!$AP92:$BA92,0)","v":7},{"$f":"MATCH(N$4,Millwall!$AP92:$BA92,0)","v":2},{"$f":"MATCH(O$4,Millwall!$AP92:$BA92,0)","v":12},{"$f":"MATCH(P$4,Millwall!$AP92:$BA92,0)","v":6},{"$f":"MATCH(Q$4,Millwall!$AP92:$BA92,0)","v":{"$error":"#N/A"}},{"$f":"MATCH(R$4,Millwall!$AP92:$BA92,0)","v":3},{"$f":"MATCH(S$4,Millwall!$AP92:$BA92,0)","v":4},{"$f":"MATCH(T$4,Millwall!$AP92:$BA92,0)","v":8},{"$f":"MATCH(U$4,Millwall!$AP92:$BA92,0)","v":{"$error":"#N/A"}},{"$f":"MATCH(V$4,Millwall!$AP92:$BA92,0)","v":{"$error":"#N/A"}},{"$f":"MATCH(W$4,Millwall!$AP92:$BA92,0)","v":{"$error":"#N/A"}},{"$f":"MATCH(X$4,Millwall!$AP92:$BA92,0)","v":1},{"$f":"MATCH(Y$4,Millwall!$AP92:$BA92,0)","v":5},{"$f":"MATCH(Z$4,Millwall!$AP92:$BA92,0)","v":{"$error":"#N/A"}},{"$f":"MATCH(AA$4,Millwall!$AP92:$BA92,0)","v":10},{"$f":"MATCH(AB$4,Millwall!$AP92:$BA92,0)","v":{"$error":"#N/A"}},{"$f":"MATCH(AC$4,Millwall!$AP92:$BA92,0)","v":{"$error":"#N/A"}},{"$f":"MATCH(AD$4,Millwall!$AP92:$BA92,0)","v":{"$error":"#N/A"}},{"$f":"MATCH(AE$4,Millwall!$AP92:$BA92,0)","v":{"$error":"#N/A"}},{"$f":"MATCH(AF$4,Millwall!$AP92:$BA92,0)","v":{"$error":"#N/A"}},{"$f":"MATCH(AG$4,Millwall!$AP92:$BA92,0)","v":{"$error":"#N/A"}},{"$f":"MATCH(AH$3,Millwall!$AP92:$BA92,0)","v":{"$error":"#N/A"}},{"$f":"MATCH(AI$3,Millwall!$AP92:$BA92,0)","v":{"$error":"#N/A"}},{"$f":"MATCH(AJ$3,Millwall!$AP92:$BA92,0)","v":{"$error":"#N/A"}},{"$f":"MATCH(AK$3,Millwall!$AP92:$BA92,0)","v":{"$error":"#N/A"}},{"$f":"MATCH(AL$3,Millwall!$AP92:$BA92,0)","v":{"$error":"#N/A"}},{"$f":"MATCH(AM$3,Millwall!$AP92:$BA92,0)","v":{"$error":"#N/A"}},{"$f":"MATCH(AN$3,Millwall!$AP92:$BA92,0)","v":{"$error":"#N/A"}},{"$f":"MATCH(AO$3,Millwall!$AP92:$BA92,0)","v":{"$error":"#N/A"}},{"$f":"MATCH(AP$3,Millwall!$AP92:$BA92,0)","v":{"$error":"#N/A"}},{"$f":"MATCH(AQ$3,Millwall!$AP92:$BA92,0)","v":{"$error":"#N/A"}},{"$f":"MATCH(AR$3,Millwall!$AP92:$BA92,0)","v":{"$error":"#N/A"}},null,null,null,null,null,{"$f":"MATCH(AX$3,Millwall!$AP92:$BA92,0)","v":{"$error":"#N/A"}},{"$f":"MATCH(AY$3,Millwall!$AP92:$BA92,0)","v":{"$error":"#N/A"}},{"$f":"MATCH(AZ$3,Millwall!$AP92:$BA92,0)","v":{"$error":"#N/A"}},{"$f":"MATCH(BA$3,Millwall!$AP92:$BA92,0)","v":{"$error":"#N/A"}},{"$f":"MATCH(BB$3,Millwall!$AP92:$BA92,0)","v":12},{"$f":"MATCH(BC$3,Millwall!$AP92:$BA92,0)","v":{"$error":"#N/A"}},{"$f":"MATCH(BD$3,Millwall!$AP92:$BA92,0)","v":{"$error":"#N/A"}},{"$f":"MATCH(BE$3,Millwall!$AP92:$BA92,0)","v":{"$error":"#N/A"}},{"$f":"MATCH(BF$3,Millwall!$AP92:$BA92,0)","v":{"$error":"#N/A"}},{"$f":"MATCH(BG$3,Millwall!$AP92:$BA92,0)","v":{"$error":"#N/A"}},{"$f":"MATCH(BH$3,Millwall!$AP92:$BA92,0)","v":{"$error":"#N/A"}},{"$f":"MATCH(BI$3,Millwall!$AP92:$BA92,0)","v":{"$error":"#N/A"}},{"$f":"MATCH(BJ$3,Millwall!$AP92:$BA92,0)","v":{"$error":"#N/A"}},{"$f":"MATCH(BK$3,Millwall!$AP92:$BA92,0)","v":{"$error":"#N/A"}},{"$f":"MATCH(BL$3,Millwall!$AP92:$BA92,0)","v":{"$error":"#N/A"}},{"$f":"MATCH(BM$3,Millwall!$AP92:$BA92,0)","v":{"$error":"#N/A"}},{"$f":"MATCH(BN$3,Millwall!$AP92:$BA92,0)","v":10},{"$f":"MATCH(BO$3,Millwall!$AP92:$BA92,0)","v":{"$error":"#N/A"}},{"$f":"MATCH(BP$3,Millwall!$AP92:$BA92,0)","v":{"$error":"#N/A"}},{"$f":"MATCH(BQ$3,Millwall!$AP92:$BA92,0)","v":{"$error":"#N/A"}},{"$f":"MATCH(BR$3,Millwall!$AP92:$BA92,0)","v":{"$error":"#N/A"}},{"$f":"MATCH(BS$3,Millwall!$AP92:$BA92,0)","v":{"$error":"#N/A"}},{"$f":"MATCH(BT$3,Millwall!$AP92:$BA92,0)","v":{"$error":"#N/A"}},{"$f":"MATCH(BU$3,Millwall!$AP92:$BA92,0)","v":{"$error":"#N/A"}},{"$f":"MATCH(BV$3,Millwall!$AP92:$BA92,0)","v":{"$error":"#N/A"}},{"$f":"MATCH(BW$3,Millwall!$AP92:$BA92,0)","v":{"$error":"#N/A"}},{"$f":"MATCH(BX$3,Millwall!$AP92:$BA92,0)","v":{"$error":"#N/A"}},{"$f":"MATCH(BY$3,Millwall!$AP92:$BA92,0)","v":{"$error":"#N/A"}},{"$f":"MATCH(BZ$3,Millwall!$AP92:$BA92,0)","v":{"$error":"#N/A"}},{"$f":"MATCH(CA$3,Millwall!$AP92:$BA92,0)","v":{"$error":"#N/A"}},{"$f":"MATCH(CB$3,Millwall!$AP92:$BA92,0)","v":{"$error":"#N/A"}},{"$f":"MATCH(CC$3,Millwall!$AP92:$BA92,0)","v":{"$error":"#N/A"}},{"$f":"MATCH(CD$3,Millwall!$AP92:$BA92,0)","v":{"$error":"#N/A"}},{"$f":"MATCH(CE$3,Millwall!$AP92:$BA92,0)","v":{"$error":"#N/A"}},null,null,null,null,null,null,null,{"$f":"Millwall!$BO86","v":"Kitchener"},{"$f":"Millwall!$BN86&\" (**\"","v":"Kitchener** (**"},{"$f":"Millwall!$BN86&\"**\"","v":"Kitchener****"}]
[null,null,0,16,null,{"$f":"Millwall!AI93","v":"1970-11-07"},null,{"$f":"Millwall!AK93","v":"Sheff Wed"},{"$f":"Millwall!AL93","v":"(A)"},{"$f":"Millwall!AO93","v":"L 0-1"},{"$f":"MATCH(K$4,Millwall!$AP93:$BA93,0)","v":11},{"$f":"MATCH(L$4,Millwall!$AP93:$BA93,0)","v":9},{"$f":"MATCH(M$4,Millwall!$AP93:$BA93,0)","v":7},{"$f":"MATCH(N$4,Millwall!$AP93:$BA93,0)","v":2},{"$f":"MATCH(O$4,Millwall!$AP93:$BA93,0)","v":12},{"$f":"MATCH(P$4,Millwall!$AP93:$BA93,0)","v":6},{"$f":"MATCH(Q$4,Millwall!$AP93:$BA93,0)","v":{"$error":"#N/A"}},{"$f":"MATCH(R$4,Millwall!$AP93:$BA93,0)","v":3},{"$f":"MATCH(S$4,Millwall!$AP93:$BA93,0)","v":4},{"$f":"MATCH(T$4,Millwall!$AP93:$BA93,0)","v":8},{"$f":"MATCH(U$4,Millwall!$AP93:$BA93,0)","v":{"$error":"#N/A"}},{"$f":"MATCH(V$4,Millwall!$AP93:$BA93,0)","v":{"$error":"#N/A"}},{"$f":"MATCH(W$4,Millwall!$AP93:$BA93,0)","v":{"$error":"#N/A"}},{"$f":"MATCH(X$4,Millwall!$AP93:$BA93,0)","v":1},{"$f":"MATCH(Y$4,Millwall!$AP93:$BA93,0)","v":5},{"$f":"MATCH(Z$4,Millwall!$AP93:$BA93,0)","v":{"$error":"#N/A"}},{"$f":"MATCH(AA$4,Millwall!$AP93:$BA93,0)","v":10},{"$f":"MATCH(AB$4,Millwall!$AP93:$BA93,0)","v":{"$error":"#N/A"}},{"$f":"MATCH(AC$4,Millwall!$AP93:$BA93,0)","v":{"$error":"#N/A"}},{"$f":"MATCH(AD$4,Millwall!$AP93:$BA93,0)","v":{"$error":"#N/A"}},{"$f":"MATCH(AE$4,Millwall!$AP93:$BA93,0)","v":{"$error":"#N/A"}},{"$f":"MATCH(AF$4,Millwall!$AP93:$BA93,0)","v":{"$error":"#N/A"}},{"$f":"MATCH(AG$4,Millwall!$AP93:$BA93,0)","v":{"$error":"#N/A"}},{"$f":"MATCH(AH$3,Millwall!$AP93:$BA93,0)","v":{"$error":"#N/A"}},{"$f":"MATCH(AI$3,Millwall!$AP93:$BA93,0)","v":{"$error":"#N/A"}},{"$f":"MATCH(AJ$3,Millwall!$AP93:$BA93,0)","v":{"$error":"#N/A"}},{"$f":"MATCH(AK$3,Millwall!$AP93:$BA93,0)","v":{"$error":"#N/A"}},{"$f":"MATCH(AL$3,Millwall!$AP93:$BA93,0)","v":{"$error":"#N/A"}},{"$f":"MATCH(AM$3,Millwall!$AP93:$BA93,0)","v":{"$error":"#N/A"}},{"$f":"MATCH(AN$3,Millwall!$AP93:$BA93,0)","v":{"$error":"#N/A"}},{"$f":"MATCH(AO$3,Millwall!$AP93:$BA93,0)","v":{"$error":"#N/A"}},{"$f":"MATCH(AP$3,Millwall!$AP93:$BA93,0)","v":{"$error":"#N/A"}},{"$f":"MATCH(AQ$3,Millwall!$AP93:$BA93,0)","v":{"$error":"#N/A"}},{"$f":"MATCH(AR$3,Millwall!$AP93:$BA93,0)","v":{"$error":"#N/A"}},null,null,null,null,null,{"$f":"MATCH(AX$3,Millwall!$AP93:$BA93,0)","v":{"$error":"#N/A"}},{"$f":"MATCH(AY$3,Millwall!$AP93:$BA93,0)","v":9},{"$f":"MATCH(AZ$3,Millwall!$AP93:$BA93,0)","v":{"$error":"#N/A"}},{"$f":"MATCH(BA$3,Millwall!$AP93:$BA93,0)","v":{"$error":"#N/A"}},{"$f":"MATCH(BB$3,Millwall!$AP93:$BA93,0)","v":12},{"$f":"MATCH(BC$3,Millwall!$AP93:$BA93,0)","v":{"$error":"#N/A"}},{"$f":"MATCH(BD$3,Millwall!$AP93:$BA93,0)","v":{"$error":"#N/A"}},{"$f":"MATCH(BE$3,Millwall!$AP93:$BA93,0)","v":{"$error":"#N/A"}},{"$f":"MATCH(BF$3,Millwall!$AP93:$BA93,0)","v":{"$error":"#N/A"}},{"$f":"MATCH(BG$3,Millwall!$AP93:$BA93,0)","v":{"$error":"#N/A"}},{"$f":"MATCH(BH$3,Millwall!$AP93:$BA93,0)","v":{"$error":"#N/A"}},{"$f":"MATCH(BI$3,Millwall!$AP93:$BA93,0)","v":{"$error":"#N/A"}},{"$f":"MATCH(BJ$3,Millwall!$AP93:$BA93,0)","v":{"$error":"#N/A"}},{"$f":"MATCH(BK$3,Millwall!$AP93:$BA93,0)","v":{"$error":"#N/A"}},{"$f":"MATCH(BL$3,Millwall!$AP93:$BA93,0)","v":{"$error":"#N/A"}},{"$f":"MATCH(BM$3,Millwall!$AP93:$BA93,0)","v":{"$error":"#N/A"}},{"$f":"MATCH(BN$3,Millwall!$AP93:$BA93,0)","v":{"$error":"#N/A"}},{"$f":"MATCH(BO$3,Millwall!$AP93:$BA93,0)","v":{"$error":"#N/A"}},{"$f":"MATCH(BP$3,Millwall!$AP93:$BA93,0)","v":{"$error":"#N/A"}},{"$f":"MATCH(BQ$3,Millwall!$AP93:$BA93,0)","v":{"$error":"#N/A"}},{"$f":"MATCH(BR$3,Millwall!$AP93:$BA93,0)","v":{"$error":"#N/A"}},{"$f":"MATCH(BS$3,Millwall!$AP93:$BA93,0)","v":{"$error":"#N/A"}},{"$f":"MATCH(BT$3,Millwall!$AP93:$BA93,0)","v":{"$error":"#N/A"}},{"$f":"MATCH(BU$3,Millwall!$AP93:$BA93,0)","v":{"$error":"#N/A"}},{"$f":"MATCH(BV$3,Millwall!$AP93:$BA93,0)","v":{"$error":"#N/A"}},{"$f":"MATCH(BW$3,Millwall!$AP93:$BA93,0)","v":{"$error":"#N/A"}},{"$f":"MATCH(BX$3,Millwall!$AP93:$BA93,0)","v":{"$error":"#N/A"}},{"$f":"MATCH(BY$3,Millwall!$AP93:$BA93,0)","v":{"$error":"#N/A"}},{"$f":"MATCH(BZ$3,Millwall!$AP93:$BA93,0)","v":{"$error":"#N/A"}},{"$f":"MATCH(CA$3,Millwall!$AP93:$BA93,0)","v":{"$error":"#N/A"}},{"$f":"MATCH(CB$3,Millwall!$AP93:$BA93,0)","v":{"$error":"#N/A"}},{"$f":"MATCH(CC$3,Millwall!$AP93:$BA93,0)","v":{"$error":"#N/A"}},{"$f":"MATCH(CD$3,Millwall!$AP93:$BA93,0)","v":{"$error":"#N/A"}},{"$f":"MATCH(CE$3,Millwall!$AP93:$BA93,0)","v":{"$error":"#N/A"}},null,null,null,null,null,null,null,{"$f":"Millwall!$BO87","v":"Neil"},{"$f":"Millwall!$BN87&\" (**\"","v":"Neil** (**"},{"$f":"Millwall!$BN87&\"**\"","v":"Neil****"}]
[null,null,0,17,null,{"$f":"Millwall!AI94","v":"1970-11-14"},null,{"$f":"Millwall!AK94","v":"Bolton"},{"$f":"Millwall!AL94","v":"(H)"},{"$f":"Millwall!AO94","v":"W 2-0"},{"$f":"MATCH(K$4,Millwall!$AP94:$BA94,0)","v":11},{"$f":"MATCH(L$4,Millwall!$AP94:$BA94,0)","v":9},{"$f":"MATCH(M$4,Millwall!$AP94:$BA94,0)","v":7},{"$f":"MATCH(N$4,Millwall!$AP94:$BA94,0)","v":2},{"$f":"MATCH(O$4,Millwall!$AP94:$BA94,0)","v":{"$error":"#N/A"}},{"$f":"MATCH(P$4,Millwall!$AP94:$BA94,0)","v":6},{"$f":"MATCH(Q$4,Millwall!$AP94:$BA94,0)","v":{"$error":"#N/A"}},{"$f":"MATCH(R$4,Millwall!$AP94:$BA94,0)","v":3},{"$f":"MATCH(S$4,Millwall!$AP94:$BA94,0)","v":4},{"$f":"MATCH(T$4,Millwall!$AP94:$BA94,0)","v":8},{"$f":"MATCH(U$4,Millwall!$AP94:$BA94,0)","v":{"$error":"#N/A"}},{"$f":"MATCH(V$4,Millwall!$AP94:$BA94,0)","v":{"$error":"#N/A"}},{"$f":"MATCH(W$4,Millwall!$AP94:$BA94,0)","v":{"$error":"#N/A"}},{"$f":"MATCH(X$4,Millwall!$AP94:$BA94,0)","v":1},{"$f":"MATCH(Y$4,Millwall!$AP94:$BA94,0)","v":5},{"$f":"MATCH(Z$4,Millwall!$AP94:$BA94,0)","v":{"$error":"#N/A"}},{"$f":"MATCH(AA$4,Millwall!$AP94:$BA94,0)","v":10},{"$f":"MATCH(AB$4,Millwall!$AP94:$BA94,0)","v":{"$error":"#N/A"}},{"$f":"MATCH(AC$4,Millwall!$AP94:$BA94,0)","v":{"$error":"#N/A"}},{"$f":"MATCH(AD$4,Millwall!$AP94:$BA94,0)","v":{"$error":"#N/A"}},{"$f":"MATCH(AE$4,Millwall!$AP94:$BA94,0)","v":{"$error":"#N/A"}},{"$f":"MATCH(AF$4,Millwall!$AP94:$BA94,0)","v":{"$error":"#N/A"}},{"$f":"MATCH(AG$4,Millwall!$AP94:$BA94,0)","v":{"$error":"#N/A"}},{"$f":"MATCH(AH$3,Millwall!$AP94:$BA94,0)","v":{"$error":"#N/A"}},{"$f":"MATCH(AI$3,Millwall!$AP94:$BA94,0)","v":{"$error":"#N/A"}},{"$f":"MATCH(AJ$3,Millwall!$AP94:$BA94,0)","v":{"$error":"#N/A"}},{"$f":"MATCH(AK$3,Millwall!$AP94:$BA94,0)","v":{"$error":"#N/A"}},{"$f":"MATCH(AL$3,Millwall!$AP94:$BA94,0)","v":{"$error":"#N/A"}},{"$f":"MATCH(AM$3,Millwall!$AP94:$BA94,0)","v":{"$error":"#N/A"}},{"$f":"MATCH(AN$3,Millwall!$AP94:$BA94,0)","v":{"$error":"#N/A"}},{"$f":"MATCH(AO$3,Millwall!$AP94:$BA94,0)","v":{"$error":"#N/A"}},{"$f":"MATCH(AP$3,Millwall!$AP94:$BA94,0)","v":{"$error":"#N/A"}},{"$f":"MATCH(AQ$3,Millwall!$AP94:$BA94,0)","v":{"$error":"#N/A"}},{"$f":"MATCH(AR$3,Millwall!$AP94:$BA94,0)","v":{"$error":"#N/A"}},null,null,null,null,null,{"$f":"MATCH(AX$3,Millwall!$AP94:$BA94,0)","v":{"$error":"#N/A"}},{"$f":"MATCH(AY$3,Millwall!$AP94:$BA94,0)","v":{"$error":"#N/A"}},{"$f":"MATCH(AZ$3,Millwall!$AP94:$BA94,0)","v":{"$error":"#N/A"}},{"$f":"MATCH(BA$3,Millwall!$AP94:$BA94,0)","v":{"$error":"#N/A"}},{"$f":"MATCH(BB$3,Millwall!$AP94:$BA94,0)","v":{"$error":"#N/A"}},{"$f":"MATCH(BC$3,Millwall!$AP94:$BA94,0)","v":{"$error":"#N/A"}},{"$f":"MATCH(BD$3,Millwall!$AP94:$BA94,0)","v":{"$error":"#N/A"}},{"$f":"MATCH(BE$3,Millwall!$AP94:$BA94,0)","v":{"$error":"#N/A"}},{"$f":"MATCH(BF$3,Millwall!$AP94:$BA94,0)","v":{"$error":"#N/A"}},{"$f":"MATCH(BG$3,Millwall!$AP94:$BA94,0)","v":{"$error":"#N/A"}},{"$f":"MATCH(BH$3,Millwall!$AP94:$BA94,0)","v":{"$error":"#N/A"}},{"$f":"MATCH(BI$3,Millwall!$AP94:$BA94,0)","v":{"$error":"#N/A"}},{"$f":"MATCH(BJ$3,Millwall!$AP94:$BA94,0)","v":{"$error":"#N/A"}},{"$f":"MATCH(BK$3,Millwall!$AP94:$BA94,0)","v":{"$error":"#N/A"}},{"$f":"MATCH(BL$3,Millwall!$AP94:$BA94,0)","v":{"$error":"#N/A"}},{"$f":"MATCH(BM$3,Millwall!$AP94:$BA94,0)","v":{"$error":"#N/A"}},{"$f":"MATCH(BN$3,Millwall!$AP94:$BA94,0)","v":{"$error":"#N/A"}},{"$f":"MATCH(BO$3,Millwall!$AP94:$BA94,0)","v":{"$error":"#N/A"}},{"$f":"MATCH(BP$3,Millwall!$AP94:$BA94,0)","v":{"$error":"#N/A"}},{"$f":"MATCH(BQ$3,Millwall!$AP94:$BA94,0)","v":{"$error":"#N/A"}},{"$f":"MATCH(BR$3,Millwall!$AP94:$BA94,0)","v":{"$error":"#N/A"}},{"$f":"MATCH(BS$3,Millwall!$AP94:$BA94,0)","v":{"$error":"#N/A"}},{"$f":"MATCH(BT$3,Millwall!$AP94:$BA94,0)","v":{"$error":"#N/A"}},{"$f":"MATCH(BU$3,Millwall!$AP94:$BA94,0)","v":{"$error":"#N/A"}},{"$f":"MATCH(BV$3,Millwall!$AP94:$BA94,0)","v":{"$error":"#N/A"}},{"$f":"MATCH(BW$3,Millwall!$AP94:$BA94,0)","v":{"$error":"#N/A"}},{"$f":"MATCH(BX$3,Millwall!$AP94:$BA94,0)","v":{"$error":"#N/A"}},{"$f":"MATCH(BY$3,Millwall!$AP94:$BA94,0)","v":{"$error":"#N/A"}},{"$f":"MATCH(BZ$3,Millwall!$AP94:$BA94,0)","v":{"$error":"#N/A"}},{"$f":"MATCH(CA$3,Millwall!$AP94:$BA94,0)","v":{"$error":"#N/A"}},{"$f":"MATCH(CB$3,Millwall!$AP94:$BA94,0)","v":{"$error":"#N/A"}},{"$f":"MATCH(CC$3,Millwall!$AP94:$BA94,0)","v":{"$error":"#N/A"}},{"$f":"MATCH(CD$3,Millwall!$AP94:$BA94,0)","v":{"$error":"#N/A"}},{"$f":"MATCH(CE$3,Millwall!$AP94:$BA94,0)","v":{"$error":"#N/A"}},null,null,null,null,null,null,null,{"$f":"Millwall!$BO88","v":"Possee"},{"$f":"Millwall!$BN88&\" (**\"","v":"Possee** (**"},{"$f":"Millwall!$BN88&\"**\"","v":"Possee****"}]
[null,null,0,18,null,{"$f":"Millwall!AI95","v":"1970-11-21"},null,{"$f":"Millwall!AK95","v":"Bristol C"},{"$f":"Millwall!AL95","v":"(H)"},{"$f":"Millwall!AO95","v":"W 2-0"},{"$f":"MATCH(K$4,Millwall!$AP95:$BA95,0)","v":11},{"$f":"MATCH(L$4,Millwall!$AP95:$BA95,0)","v":9},{"$f":"MATCH(M$4,Millwall!$AP95:$BA95,0)","v":7},{"$f":"MATCH(N$4,Millwall!$AP95:$BA95,0)","v":2},{"$f":"MATCH(O$4,Millwall!$AP95:$BA95,0)","v":{"$error":"#N/A"}},{"$f":"MATCH(P$4,Millwall!$AP95:$BA95,0)","v":6},{"$f":"MATCH(Q$4,Millwall!$AP95:$BA95,0)","v":{"$error":"#N/A"}},{"$f":"MATCH(R$4,Millwall!$AP95:$BA95,0)","v":3},{"$f":"MATCH(S$4,Millwall!$AP95:$BA95,0)","v":4},{"$f":"MATCH(T$4,Millwall!$AP95:$BA95,0)","v":8},{"$f":"MATCH(U$4,Millwall!$AP95:$BA95,0)","v":{"$error":"#N/A"}},{"$f":"MATCH(V$4,Millwall!$AP95:$BA95,0)","v":{"$error":"#N/A"}},{"$f":"MATCH(W$4,Millwall!$AP95:$BA95,0)","v":{"$error":"#N/A"}},{"$f":"MATCH(X$4,Millwall!$AP95:$BA95,0)","v":1},{"$f":"MATCH(Y$4,Millwall!$AP95:$BA95,0)","v":5},{"$f":"MATCH(Z$4,Millwall!$AP95:$BA95,0)","v":{"$error":"#N/A"}},{"$f":"MATCH(AA$4,Millwall!$AP95:$BA95,0)","v":10},{"$f":"MATCH(AB$4,Millwall!$AP95:$BA95,0)","v":{"$error":"#N/A"}},{"$f":"MATCH(AC$4,Millwall!$AP95:$BA95,0)","v":{"$error":"#N/A"}},{"$f":"MATCH(AD$4,Millwall!$AP95:$BA95,0)","v":{"$error":"#N/A"}},{"$f":"MATCH(AE$4,Millwall!$AP95:$BA95,0)","v":{"$error":"#N/A"}},{"$f":"MATCH(AF$4,Millwall!$AP95:$BA95,0)","v":{"$error":"#N/A"}},{"$f":"MATCH(AG$4,Millwall!$AP95:$BA95,0)","v":{"$error":"#N/A"}},{"$f":"MATCH(AH$3,Millwall!$AP95:$BA95,0)","v":{"$error":"#N/A"}},{"$f":"MATCH(AI$3,Millwall!$AP95:$BA95,0)","v":{"$error":"#N/A"}},{"$f":"MATCH(AJ$3,Millwall!$AP95:$BA95,0)","v":{"$error":"#N/A"}},{"$f":"MATCH(AK$3,Millwall!$AP95:$BA95,0)","v":{"$error":"#N/A"}},{"$f":"MATCH(AL$3,Millwall!$AP95:$BA95,0)","v":{"$error":"#N/A"}},{"$f":"MATCH(AM$3,Millwall!$AP95:$BA95,0)","v":{"$error":"#N/A"}},{"$f":"MATCH(AN$3,Millwall!$AP95:$BA95,0)","v":{"$error":"#N/A"}},{"$f":"MATCH(AO$3,Millwall!$AP95:$BA95,0)","v":{"$error":"#N/A"}},{"$f":"MATCH(AP$3,Millwall!$AP95:$BA95,0)","v":{"$error":"#N/A"}},{"$f":"MATCH(AQ$3,Millwall!$AP95:$BA95,0)","v":{"$error":"#N/A"}},{"$f":"MATCH(AR$3,Millwall!$AP95:$BA95,0)","v":{"$error":"#N/A"}},null,null,null,null,null,{"$f":"MATCH(AX$3,Millwall!$AP95:$BA95,0)","v":{"$error":"#N/A"}},{"$f":"MATCH(AY$3,Millwall!$AP95:$BA95,0)","v":{"$error":"#N/A"}},{"$f":"MATCH(AZ$3,Millwall!$AP95:$BA95,0)","v":{"$error":"#N/A"}},{"$f":"MATCH(BA$3,Millwall!$AP95:$BA95,0)","v":{"$error":"#N/A"}},{"$f":"MATCH(BB$3,Millwall!$AP95:$BA95,0)","v":{"$error":"#N/A"}},{"$f":"MATCH(BC$3,Millwall!$AP95:$BA95,0)","v":{"$error":"#N/A"}},{"$f":"MATCH(BD$3,Millwall!$AP95:$BA95,0)","v":{"$error":"#N/A"}},{"$f":"MATCH(BE$3,Millwall!$AP95:$BA95,0)","v":{"$error":"#N/A"}},{"$f":"MATCH(BF$3,Millwall!$AP95:$BA95,0)","v":{"$error":"#N/A"}},{"$f":"MATCH(BG$3,Millwall!$AP95:$BA95,0)","v":{"$error":"#N/A"}},{"$f":"MATCH(BH$3,Millwall!$AP95:$BA95,0)","v":{"$error":"#N/A"}},{"$f":"MATCH(BI$3,Millwall!$AP95:$BA95,0)","v":{"$error":"#N/A"}},{"$f":"MATCH(BJ$3,Millwall!$AP95:$BA95,0)","v":{"$error":"#N/A"}},{"$f":"MATCH(BK$3,Millwall!$AP95:$BA95,0)","v":{"$error":"#N/A"}},{"$f":"MATCH(BL$3,Millwall!$AP95:$BA95,0)","v":{"$error":"#N/A"}},{"$f":"MATCH(BM$3,Millwall!$AP95:$BA95,0)","v":{"$error":"#N/A"}},{"$f":"MATCH(BN$3,Millwall!$AP95:$BA95,0)","v":{"$error":"#N/A"}},{"$f":"MATCH(BO$3,Millwall!$AP95:$BA95,0)","v":{"$error":"#N/A"}},{"$f":"MATCH(BP$3,Millwall!$AP95:$BA95,0)","v":{"$error":"#N/A"}},{"$f":"MATCH(BQ$3,Millwall!$AP95:$BA95,0)","v":{"$error":"#N/A"}},{"$f":"MATCH(BR$3,Millwall!$AP95:$BA95,0)","v":{"$error":"#N/A"}},{"$f":"MATCH(BS$3,Millwall!$AP95:$BA95,0)","v":{"$error":"#N/A"}},{"$f":"MATCH(BT$3,Millwall!$AP95:$BA95,0)","v":{"$error":"#N/A"}},{"$f":"MATCH(BU$3,Millwall!$AP95:$BA95,0)","v":{"$error":"#N/A"}},{"$f":"MATCH(BV$3,Millwall!$AP95:$BA95,0)","v":{"$error":"#N/A"}},{"$f":"MATCH(BW$3,Millwall!$AP95:$BA95,0)","v":{"$error":"#N/A"}},{"$f":"MATCH(BX$3,Millwall!$AP95:$BA95,0)","v":{"$error":"#N/A"}},{"$f":"MATCH(BY$3,Millwall!$AP95:$BA95,0)","v":{"$error":"#N/A"}},{"$f":"MATCH(BZ$3,Millwall!$AP95:$BA95,0)","v":{"$error":"#N/A"}},{"$f":"MATCH(CA$3,Millwall!$AP95:$BA95,0)","v":{"$error":"#N/A"}},{"$f":"MATCH(CB$3,Millwall!$AP95:$BA95,0)","v":{"$error":"#N/A"}},{"$f":"MATCH(CC$3,Millwall!$AP95:$BA95,0)","v":{"$error":"#N/A"}},{"$f":"MATCH(CD$3,Millwall!$AP95:$BA95,0)","v":{"$error":"#N/A"}},{"$f":"MATCH(CE$3,Millwall!$AP95:$BA95,0)","v":{"$error":"#N/A"}},null,null,null,null,null,null,null,{"$f":"Millwall!$BO89","v":0},{"$f":"Millwall!$BN89&\" (**\"","v":" (**"},{"$f":"Millwall!$BN89&\"**\"","v":"**"}]
[null,null,0,19,null,{"$f":"Millwall!AI96","v":"1970-11-28"},null,{"$f":"Millwall!AK96","v":"Middlesbro"},{"$f":"Millwall!AL96","v":"(A)"},{"$f":"Millwall!AO96","v":"L 0-1"},{"$f":"MATCH(K$4,Millwall!$AP96:$BA96,0)","v":11},{"$f":"MATCH(L$4,Millwall!$AP96:$BA96,0)","v":9},{"$f":"MATCH(M$4,Millwall!$AP96:$BA96,0)","v":7},{"$f":"MATCH(N$4,Millwall!$AP96:$BA96,0)","v":2},{"$f":"MATCH(O$4,Millwall!$AP96:$BA96,0)","v":{"$error":"#N/A"}},{"$f":"MATCH(P$4,Millwall!$AP96:$BA96,0)","v":6},{"$f":"MATCH(Q$4,Millwall!$AP96:$BA96,0)","v":{"$error":"#N/A"}},{"$f":"MATCH(R$4,Millwall!$AP96:$BA96,0)","v":3},{"$f":"MATCH(S$4,Millwall!$AP96:$BA96,0)","v":4},{"$f":"MATCH(T$4,Millwall!$AP96:$BA96,0)","v":8},{"$f":"MATCH(U$4,Millwall!$AP96:$BA96,0)","v":{"$error":"#N/A"}},{"$f":"MATCH(V$4,Millwall!$AP96:$BA96,0)","v":{"$error":"#N/A"}},{"$f":"MATCH(W$4,Millwall!$AP96:$BA96,0)","v":{"$error":"#N/A"}},{"$f":"MATCH(X$4,Millwall!$AP96:$BA96,0)","v":1},{"$f":"MATCH(Y$4,Millwall!$AP96:$BA96,0)","v":5},{"$f":"MATCH(Z$4,Millwall!$AP96:$BA96,0)","v":{"$error":"#N/A"}},{"$f":"MATCH(AA$4,Millwall!$AP96:$BA96,0)","v":10},{"$f":"MATCH(AB$4,Millwall!$AP96:$BA96,0)","v":{"$error":"#N/A"}},{"$f":"MATCH(AC$4,Millwall!$AP96:$BA96,0)","v":{"$error":"#N/A"}},{"$f":"MATCH(AD$4,Millwall!$AP96:$BA96,0)","v":{"$error":"#N/A"}},{"$f":"MATCH(AE$4,Millwall!$AP96:$BA96,0)","v":{"$error":"#N/A"}},{"$f":"MATCH(AF$4,Millwall!$AP96:$BA96,0)","v":{"$error":"#N/A"}},{"$f":"MATCH(AG$4,Millwall!$AP96:$BA96,0)","v":{"$error":"#N/A"}},{"$f":"MATCH(AH$3,Millwall!$AP96:$BA96,0)","v":{"$error":"#N/A"}},{"$f":"MATCH(AI$3,Millwall!$AP96:$BA96,0)","v":{"$error":"#N/A"}},{"$f":"MATCH(AJ$3,Millwall!$AP96:$BA96,0)","v":{"$error":"#N/A"}},{"$f":"MATCH(AK$3,Millwall!$AP96:$BA96,0)","v":{"$error":"#N/A"}},{"$f":"MATCH(AL$3,Millwall!$AP96:$BA96,0)","v":{"$error":"#N/A"}},{"$f":"MATCH(AM$3,Millwall!$AP96:$BA96,0)","v":{"$error":"#N/A"}},{"$f":"MATCH(AN$3,Millwall!$AP96:$BA96,0)","v":{"$error":"#N/A"}},{"$f":"MATCH(AO$3,Millwall!$AP96:$BA96,0)","v":{"$error":"#N/A"}},{"$f":"MATCH(AP$3,Millwall!$AP96:$BA96,0)","v":{"$error":"#N/A"}},{"$f":"MATCH(AQ$3,Millwall!$AP96:$BA96,0)","v":{"$error":"#N/A"}},{"$f":"MATCH(AR$3,Millwall!$AP96:$BA96,0)","v":{"$error":"#N/A"}},null,null,null,null,null,{"$f":"MATCH(AX$3,Millwall!$AP96:$BA96,0)","v":{"$error":"#N/A"}},{"$f":"MATCH(AY$3,Millwall!$AP96:$BA96,0)","v":{"$error":"#N/A"}},{"$f":"MATCH(AZ$3,Millwall!$AP96:$BA96,0)","v":{"$error":"#N/A"}},{"$f":"MATCH(BA$3,Millwall!$AP96:$BA96,0)","v":{"$error":"#N/A"}},{"$f":"MATCH(BB$3,Millwall!$AP96:$BA96,0)","v":{"$error":"#N/A"}},{"$f":"MATCH(BC$3,Millwall!$AP96:$BA96,0)","v":{"$error":"#N/A"}},{"$f":"MATCH(BD$3,Millwall!$AP96:$BA96,0)","v":{"$error":"#N/A"}},{"$f":"MATCH(BE$3,Millwall!$AP96:$BA96,0)","v":{"$error":"#N/A"}},{"$f":"MATCH(BF$3,Millwall!$AP96:$BA96,0)","v":{"$error":"#N/A"}},{"$f":"MATCH(BG$3,Millwall!$AP96:$BA96,0)","v":{"$error":"#N/A"}},{"$f":"MATCH(BH$3,Millwall!$AP96:$BA96,0)","v":{"$error":"#N/A"}},{"$f":"MATCH(BI$3,Millwall!$AP96:$BA96,0)","v":{"$error":"#N/A"}},{"$f":"MATCH(BJ$3,Millwall!$AP96:$BA96,0)","v":{"$error":"#N/A"}},{"$f":"MATCH(BK$3,Millwall!$AP96:$BA96,0)","v":{"$error":"#N/A"}},{"$f":"MATCH(BL$3,Millwall!$AP96:$BA96,0)","v":{"$error":"#N/A"}},{"$f":"MATCH(BM$3,Millwall!$AP96:$BA96,0)","v":{"$error":"#N/A"}},{"$f":"MATCH(BN$3,Millwall!$AP96:$BA96,0)","v":{"$error":"#N/A"}},{"$f":"MATCH(BO$3,Millwall!$AP96:$BA96,0)","v":{"$error":"#N/A"}},{"$f":"MATCH(BP$3,Millwall!$AP96:$BA96,0)","v":{"$error":"#N/A"}},{"$f":"MATCH(BQ$3,Millwall!$AP96:$BA96,0)","v":{"$error":"#N/A"}},{"$f":"MATCH(BR$3,Millwall!$AP96:$BA96,0)","v":{"$error":"#N/A"}},{"$f":"MATCH(BS$3,Millwall!$AP96:$BA96,0)","v":{"$error":"#N/A"}},{"$f":"MATCH(BT$3,Millwall!$AP96:$BA96,0)","v":{"$error":"#N/A"}},{"$f":"MATCH(BU$3,Millwall!$AP96:$BA96,0)","v":{"$error":"#N/A"}},{"$f":"MATCH(BV$3,Millwall!$AP96:$BA96,0)","v":{"$error":"#N/A"}},{"$f":"MATCH(BW$3,Millwall!$AP96:$BA96,0)","v":{"$error":"#N/A"}},{"$f":"MATCH(BX$3,Millwall!$AP96:$BA96,0)","v":{"$error":"#N/A"}},{"$f":"MATCH(BY$3,Millwall!$AP96:$BA96,0)","v":{"$error":"#N/A"}},{"$f":"MATCH(BZ$3,Millwall!$AP96:$BA96,0)","v":{"$error":"#N/A"}},{"$f":"MATCH(CA$3,Millwall!$AP96:$BA96,0)","v":{"$error":"#N/A"}},{"$f":"MATCH(CB$3,Millwall!$AP96:$BA96,0)","v":{"$error":"#N/A"}},{"$f":"MATCH(CC$3,Millwall!$AP96:$BA96,0)","v":{"$error":"#N/A"}},{"$f":"MATCH(CD$3,Millwall!$AP96:$BA96,0)","v":{"$error":"#N/A"}},{"$f":"MATCH(CE$3,Millwall!$AP96:$BA96,0)","v":{"$error":"#N/A"}},null,null,null,null,null,null,null,{"$f":"Millwall!$BO90","v":0},{"$f":"Millwall!$BN90&\" (**\"","v":" (**"},{"$f":"Millwall!$BN90&\"**\"","v":"**"}]
[null,null,0,20,null,{"$f":"Millwall!AI97","v":"1970-12-05"},null,{"$f":"Millwall!AK97","v":"Birmingham"},{"$f":"Millwall!AL97","v":"(H)"},{"$f":"Millwall!AO97","v":"W 2-1"},{"$f":"MATCH(K$4,Millwall!$AP97:$BA97,0)","v":11},{"$f":"MATCH(L$4,Millwall!$AP97:$BA97,0)","v":9},{"$f":"MATCH(M$4,Millwall!$AP97:$BA97,0)","v":7},{"$f":"MATCH(N$4,Millwall!$AP97:$BA97,0)","v":2},{"$f":"MATCH(O$4,Millwall!$AP97:$BA97,0)","v":{"$error":"#N/A"}},{"$f":"MATCH(P$4,Millwall!$AP97:$BA97,0)","v":6},{"$f":"MATCH(Q$4,Millwall!$AP97:$BA97,0)","v":{"$error":"#N/A"}},{"$f":"MATCH(R$4,Millwall!$AP97:$BA97,0)","v":3},{"$f":"MATCH(S$4,Millwall!$AP97:$BA97,0)","v":{"$error":"#N/A"}},{"$f":"MATCH(T$4,Millwall!$AP97:$BA97,0)","v":8},{"$f":"MATCH(U$4,Millwall!$AP97:$BA97,0)","v":{"$error":"#N/A"}},{"$f":"MATCH(V$4,Millwall!$AP97:$BA97,0)","v":{"$error":"#N/A"}},{"$f":"MATCH(W$4,Millwall!$AP97:$BA97,0)","v":4},{"$f":"MATCH(X$4,Millwall!$AP97:$BA97,0)","v":1},{"$f":"MATCH(Y$4,Millwall!$AP97:$BA97,0)","v":5},{"$f":"MATCH(Z$4,Millwall!$AP97:$BA97,0)","v":{"$error":"#N/A"}},{"$f":"MATCH(AA$4,Millwall!$AP97:$BA97,0)","v":10},{"$f":"MATCH(AB$4,Millwall!$AP97:$BA97,0)","v":{"$error":"#N/A"}},{"$f":"MATCH(AC$4,Millwall!$AP97:$BA97,0)","v":{"$error":"#N/A"}},{"$f":"MATCH(AD$4,Millwall!$AP97:$BA97,0)","v":{"$error":"#N/A"}},{"$f":"MATCH(AE$4,Millwall!$AP97:$BA97,0)","v":{"$error":"#N/A"}},{"$f":"MATCH(AF$4,Millwall!$AP97:$BA97,0)","v":{"$error":"#N/A"}},{"$f":"MATCH(AG$4,Millwall!$AP97:$BA97,0)","v":{"$error":"#N/A"}},{"$f":"MATCH(AH$3,Millwall!$AP97:$BA97,0)","v":{"$error":"#N/A"}},{"$f":"MATCH(AI$3,Millwall!$AP97:$BA97,0)","v":{"$error":"#N/A"}},{"$f":"MATCH(AJ$3,Millwall!$AP97:$BA97,0)","v":{"$error":"#N/A"}},{"$f":"MATCH(AK$3,Millwall!$AP97:$BA97,0)","v":{"$error":"#N/A"}},{"$f":"MATCH(AL$3,Millwall!$AP97:$BA97,0)","v":{"$error":"#N/A"}},{"$f":"MATCH(AM$3,Millwall!$AP97:$BA97,0)","v":{"$error":"#N/A"}},{"$f":"MATCH(AN$3,Millwall!$AP97:$BA97,0)","v":{"$error":"#N/A"}},{"$f":"MATCH(AO$3,Millwall!$AP97:$BA97,0)","v":{"$error":"#N/A"}},{"$f":"MATCH(AP$3,Millwall!$AP97:$BA97,0)","v":{"$error":"#N/A"}},{"$f":"MATCH(AQ$3,Millwall!$AP97:$BA97,0)","v":{"$error":"#N/A"}},{"$f":"MATCH(AR$3,Millwall!$AP97:$BA97,0)","v":{"$error":"#N/A"}},null,null,null,null,null,{"$f":"MATCH(AX$3,Millwall!$AP97:$BA97,0)","v":{"$error":"#N/A"}},{"$f":"MATCH(AY$3,Millwall!$AP97:$BA97,0)","v":{"$error":"#N/A"}},{"$f":"MATCH(AZ$3,Millwall!$AP97:$BA97,0)","v":{"$error":"#N/A"}},{"$f":"MATCH(BA$3,Millwall!$AP97:$BA97,0)","v":{"$error":"#N/A"}},{"$f":"MATCH(BB$3,Millwall!$AP97:$BA97,0)","v":{"$error":"#N/A"}},{"$f":"MATCH(BC$3,Millwall!$AP97:$BA97,0)","v":{"$error":"#N/A"}},{"$f":"MATCH(BD$3,Millwall!$AP97:$BA97,0)","v":{"$error":"#N/A"}},{"$f":"MATCH(BE$3,Millwall!$AP97:$BA97,0)","v":{"$error":"#N/A"}},{"$f":"MATCH(BF$3,Millwall!$AP97:$BA97,0)","v":{"$error":"#N/A"}},{"$f":"MATCH(BG$3,Millwall!$AP97:$BA97,0)","v":{"$error":"#N/A"}},{"$f":"MATCH(BH$3,Millwall!$AP97:$BA97,0)","v":{"$error":"#N/A"}},{"$f":"MATCH(BI$3,Millwall!$AP97:$BA97,0)","v":{"$error":"#N/A"}},{"$f":"MATCH(BJ$3,Millwall!$AP97:$BA97,0)","v":{"$error":"#N/A"}},{"$f":"MATCH(BK$3,Millwall!$AP97:$BA97,0)","v":{"$error":"#N/A"}},{"$f":"MATCH(BL$3,Millwall!$AP97:$BA97,0)","v":{"$error":"#N/A"}},{"$f":"MATCH(BM$3,Millwall!$AP97:$BA97,0)","v":{"$error":"#N/A"}},{"$f":"MATCH(BN$3,Millwall!$AP97:$BA97,0)","v":{"$error":"#N/A"}},{"$f":"MATCH(BO$3,Millwall!$AP97:$BA97,0)","v":{"$error":"#N/A"}},{"$f":"MATCH(BP$3,Millwall!$AP97:$BA97,0)","v":{"$error":"#N/A"}},{"$f":"MATCH(BQ$3,Millwall!$AP97:$BA97,0)","v":{"$error":"#N/A"}},{"$f":"MATCH(BR$3,Millwall!$AP97:$BA97,0)","v":{"$error":"#N/A"}},{"$f":"MATCH(BS$3,Millwall!$AP97:$BA97,0)","v":{"$error":"#N/A"}},{"$f":"MATCH(BT$3,Millwall!$AP97:$BA97,0)","v":{"$error":"#N/A"}},{"$f":"MATCH(BU$3,Millwall!$AP97:$BA97,0)","v":{"$error":"#N/A"}},{"$f":"MATCH(BV$3,Millwall!$AP97:$BA97,0)","v":{"$error":"#N/A"}},{"$f":"MATCH(BW$3,Millwall!$AP97:$BA97,0)","v":{"$error":"#N/A"}},{"$f":"MATCH(BX$3,Millwall!$AP97:$BA97,0)","v":{"$error":"#N/A"}},{"$f":"MATCH(BY$3,Millwall!$AP97:$BA97,0)","v":{"$error":"#N/A"}},{"$f":"MATCH(BZ$3,Millwall!$AP97:$BA97,0)","v":{"$error":"#N/A"}},{"$f":"MATCH(CA$3,Millwall!$AP97:$BA97,0)","v":{"$error":"#N/A"}},{"$f":"MATCH(CB$3,Millwall!$AP97:$BA97,0)","v":{"$error":"#N/A"}},{"$f":"MATCH(CC$3,Millwall!$AP97:$BA97,0)","v":{"$error":"#N/A"}},{"$f":"MATCH(CD$3,Millwall!$AP97:$BA97,0)","v":{"$error":"#N/A"}},{"$f":"MATCH(CE$3,Millwall!$AP97:$BA97,0)","v":{"$error":"#N/A"}},null,null,null,null,null,null,null,{"$f":"Millwall!$BO91","v":0},{"$f":"Millwall!$BN91&\" (**\"","v":" (**"},{"$f":"Millwall!$BN91&\"**\"","v":"**"}]
[null,null,0,21,null,{"$f":"Millwall!AI98","v":"1970-12-12"},null,{"$f":"Millwall!AK98","v":"Leicester"},{"$f":"Millwall!AL98","v":"(A)"},{"$f":"Millwall!AO98","v":"L 1-2"},{"$f":"MATCH(K$4,Millwall!$AP98:$BA98,0)","v":11},{"$f":"MATCH(L$4,Millwall!$AP98:$BA98,0)","v":8},{"$f":"MATCH(M$4,Millwall!$AP98:$BA98,0)","v":9},{"$f":"MATCH(N$4,Millwall!$AP98:$BA98,0)","v":2},{"$f":"MATCH(O$4,Millwall!$AP98:$BA98,0)","v":12},{"$f":"MATCH(P$4,Millwall!$AP98:$BA98,0)","v":6},{"$f":"MATCH(Q$4,Millwall!$AP98:$BA98,0)","v":{"$error":"#N/A"}},{"$f":"MATCH(R$4,Millwall!$AP98:$BA98,0)","v":3},{"$f":"MATCH(S$4,Millwall!$AP98:$BA98,0)","v":4},{"$f":"MATCH(T$4,Millwall!$AP98:$BA98,0)","v":10},{"$f":"MATCH(U$4,Millwall!$AP98:$BA98,0)","v":{"$error":"#N/A"}},{"$f":"MATCH(V$4,Millwall!$AP98:$BA98,0)","v":{"$error":"#N/A"}},{"$f":"MATCH(W$4,Millwall!$AP98:$BA98,0)","v":{"$error":"#N/A"}},{"$f":"MATCH(X$4,Millwall!$AP98:$BA98,0)","v":1},{"$f":"MATCH(Y$4,Millwall!$AP98:$BA98,0)","v":5},{"$f":"MATCH(Z$4,Millwall!$AP98:$BA98,0)","v":{"$error":"#N/A"}},{"$f":"MATCH(AA$4,Millwall!$AP98:$BA98,0)","v":7},{"$f":"MATCH(AB$4,Millwall!$AP98:$BA98,0)","v":{"$error":"#N/A"}},{"$f":"MATCH(AC$4,Millwall!$AP98:$BA98,0)","v":{"$error":"#N/A"}},{"$f":"MATCH(AD$4,Millwall!$AP98:$BA98,0)","v":{"$error":"#N/A"}},{"$f":"MATCH(AE$4,Millwall!$AP98:$BA98,0)","v":{"$error":"#N/A"}},{"$f":"MATCH(AF$4,Millwall!$AP98:$BA98,0)","v":{"$error":"#N/A"}},{"$f":"MATCH(AG$4,Millwall!$AP98:$BA98,0)","v":{"$error":"#N/A"}},{"$f":"MATCH(AH$3,Millwall!$AP98:$BA98,0)","v":{"$error":"#N/A"}},{"$f":"MATCH(AI$3,Millwall!$AP98:$BA98,0)","v":{"$error":"#N/A"}},{"$f":"MATCH(AJ$3,Millwall!$AP98:$BA98,0)","v":{"$error":"#N/A"}},{"$f":"MATCH(AK$3,Millwall!$AP98:$BA98,0)","v":{"$error":"#N/A"}},{"$f":"MATCH(AL$3,Millwall!$AP98:$BA98,0)","v":{"$error":"#N/A"}},{"$f":"MATCH(AM$3,Millwall!$AP98:$BA98,0)","v":{"$error":"#N/A"}},{"$f":"MATCH(AN$3,Millwall!$AP98:$BA98,0)","v":{"$error":"#N/A"}},{"$f":"MATCH(AO$3,Millwall!$AP98:$BA98,0)","v":{"$error":"#N/A"}},{"$f":"MATCH(AP$3,Millwall!$AP98:$BA98,0)","v":{"$error":"#N/A"}},{"$f":"MATCH(AQ$3,Millwall!$AP98:$BA98,0)","v":{"$error":"#N/A"}},{"$f":"MATCH(AR$3,Millwall!$AP98:$BA98,0)","v":{"$error":"#N/A"}},null,null,null,null,null,{"$f":"MATCH(AX$3,Millwall!$AP98:$BA98,0)","v":11},{"$f":"MATCH(AY$3,Millwall!$AP98:$BA98,0)","v":{"$error":"#N/A"}},{"$f":"MATCH(AZ$3,Millwall!$AP98:$BA98,0)","v":{"$error":"#N/A"}},{"$f":"MATCH(BA$3,Millwall!$AP98:$BA98,0)","v":{"$error":"#N/A"}},{"$f":"MATCH(BB$3,Millwall!$AP98:$BA98,0)","v":12},{"$f":"MATCH(BC$3,Millwall!$AP98:$BA98,0)","v":{"$error":"#N/A"}},{"$f":"MATCH(BD$3,Millwall!$AP98:$BA98,0)","v":{"$error":"#N/A"}},{"$f":"MATCH(BE$3,Millwall!$AP98:$BA98,0)","v":{"$error":"#N/A"}},{"$f":"MATCH(BF$3,Millwall!$AP98:$BA98,0)","v":{"$error":"#N/A"}},{"$f":"MATCH(BG$3,Millwall!$AP98:$BA98,0)","v":{"$error":"#N/A"}},{"$f":"MATCH(BH$3,Millwall!$AP98:$BA98,0)","v":{"$error":"#N/A"}},{"$f":"MATCH(BI$3,Millwall!$AP98:$BA98,0)","v":{"$error":"#N/A"}},{"$f":"MATCH(BJ$3,Millwall!$AP98:$BA98,0)","v":{"$error":"#N/A"}},{"$f":"MATCH(BK$3,Millwall!$AP98:$BA98,0)","v":{"$error":"#N/A"}},{"$f":"MATCH(BL$3,Millwall!$AP98:$BA98,0)","v":{"$error":"#N/A"}},{"$f":"MATCH(BM$3,Millwall!$AP98:$BA98,0)","v":{"$error":"#N/A"}},{"$f":"MATCH(BN$3,Millwall!$AP98:$BA98,0)","v":{"$error":"#N/A"}},{"$f":"MATCH(BO$3,Millwall!$AP98:$BA98,0)","v":{"$error":"#N/A"}},{"$f":"MATCH(BP$3,Millwall!$AP98:$BA98,0)","v":{"$error":"#N/A"}},{"$f":"MATCH(BQ$3,Millwall!$AP98:$BA98,0)","v":{"$error":"#N/A"}},{"$f":"MATCH(BR$3,Millwall!$AP98:$BA98,0)","v":{"$error":"#N/A"}},{"$f":"MATCH(BS$3,Millwall!$AP98:$BA98,0)","v":{"$error":"#N/A"}},{"$f":"MATCH(BT$3,Millwall!$AP98:$BA98,0)","v":{"$error":"#N/A"}},{"$f":"MATCH(BU$3,Millwall!$AP98:$BA98,0)","v":{"$error":"#N/A"}},{"$f":"MATCH(BV$3,Millwall!$AP98:$BA98,0)","v":{"$error":"#N/A"}},{"$f":"MATCH(BW$3,Millwall!$AP98:$BA98,0)","v":{"$error":"#N/A"}},{"$f":"MATCH(BX$3,Millwall!$AP98:$BA98,0)","v":{"$error":"#N/A"}},{"$f":"MATCH(BY$3,Millwall!$AP98:$BA98,0)","v":{"$error":"#N/A"}},{"$f":"MATCH(BZ$3,Millwall!$AP98:$BA98,0)","v":{"$error":"#N/A"}},{"$f":"MATCH(CA$3,Millwall!$AP98:$BA98,0)","v":{"$error":"#N/A"}},{"$f":"MATCH(CB$3,Millwall!$AP98:$BA98,0)","v":{"$error":"#N/A"}},{"$f":"MATCH(CC$3,Millwall!$AP98:$BA98,0)","v":{"$error":"#N/A"}},{"$f":"MATCH(CD$3,Millwall!$AP98:$BA98,0)","v":{"$error":"#N/A"}},{"$f":"MATCH(CE$3,Millwall!$AP98:$BA98,0)","v":{"$error":"#N/A"}},null,null,null,null,null,null,null,{"$f":"Millwall!$BO92","v":"Own Goal"},{"$f":"Millwall!$BN92&\" (**\"","v":" (**"},{"$f":"Millwall!$BN92&\"**\"","v":"**"}]
[null,null,0,22,null,{"$f":"Millwall!AI99","v":"1970-12-19"},null,{"$f":"Millwall!AK99","v":"Cardiff"},{"$f":"Millwall!AL99","v":"(H)"},{"$f":"Millwall!AO99","v":"W 2-1"},{"$f":"MATCH(K$4,Millwall!$AP99:$BA99,0)","v":11},{"$f":"MATCH(L$4,Millwall!$AP99:$BA99,0)","v":8},{"$f":"MATCH(M$4,Millwall!$AP99:$BA99,0)","v":9},{"$f":"MATCH(N$4,Millwall!$AP99:$BA99,0)","v":2},{"$f":"MATCH(O$4,Millwall!$AP99:$BA99,0)","v":12},{"$f":"MATCH(P$4,Millwall!$AP99:$BA99,0)","v":6},{"$f":"MATCH(Q$4,Millwall!$AP99:$BA99,0)","v":{"$error":"#N/A"}},{"$f":"MATCH(R$4,Millwall!$AP99:$BA99,0)","v":3},{"$f":"MATCH(S$4,Millwall!$AP99:$BA99,0)","v":4},{"$f":"MATCH(T$4,Millwall!$AP99:$BA99,0)","v":10},{"$f":"MATCH(U$4,Millwall!$AP99:$BA99,0)","v":{"$error":"#N/A"}},{"$f":"MATCH(V$4,Millwall!$AP99:$BA99,0)","v":{"$error":"#N/A"}},{"$f":"MATCH(W$4,Millwall!$AP99:$BA99,0)","v":{"$error":"#N/A"}},{"$f":"MATCH(X$4,Millwall!$AP99:$BA99,0)","v":1},{"$f":"MATCH(Y$4,Millwall!$AP99:$BA99,0)","v":5},{"$f":"MATCH(Z$4,Millwall!$AP99:$BA99,0)","v":{"$error":"#N/A"}},{"$f":"MATCH(AA$4,Millwall!$AP99:$BA99,0)","v":7},{"$f":"MATCH(AB$4,Millwall!$AP99:$BA99,0)","v":{"$error":"#N/A"}},{"$f":"MATCH(AC$4,Millwall!$AP99:$BA99,0)","v":{"$error":"#N/A"}},{"$f":"MATCH(AD$4,Millwall!$AP99:$BA99,0)","v":{"$error":"#N/A"}},{"$f":"MATCH(AE$4,Millwall!$AP99:$BA99,0)","v":{"$error":"#N/A"}},{"$f":"MATCH(AF$4,Millwall!$AP99:$BA99,0)","v":{"$error":"#N/A"}},{"$f":"MATCH(AG$4,Millwall!$AP99:$BA99,0)","v":{"$error":"#N/A"}},{"$f":"MATCH(AH$3,Millwall!$AP99:$BA99,0)","v":{"$error":"#N/A"}},{"$f":"MATCH(AI$3,Millwall!$AP99:$BA99,0)","v":{"$error":"#N/A"}},{"$f":"MATCH(AJ$3,Millwall!$AP99:$BA99,0)","v":{"$error":"#N/A"}},{"$f":"MATCH(AK$3,Millwall!$AP99:$BA99,0)","v":{"$error":"#N/A"}},{"$f":"MATCH(AL$3,Millwall!$AP99:$BA99,0)","v":{"$error":"#N/A"}},{"$f":"MATCH(AM$3,Millwall!$AP99:$BA99,0)","v":{"$error":"#N/A"}},{"$f":"MATCH(AN$3,Millwall!$AP99:$BA99,0)","v":{"$error":"#N/A"}},{"$f":"MATCH(AO$3,Millwall!$AP99:$BA99,0)","v":{"$error":"#N/A"}},{"$f":"MATCH(AP$3,Millwall!$AP99:$BA99,0)","v":{"$error":"#N/A"}},{"$f":"MATCH(AQ$3,Millwall!$AP99:$BA99,0)","v":{"$error":"#N/A"}},{"$f":"MATCH(AR$3,Millwall!$AP99:$BA99,0)","v":{"$error":"#N/A"}},null,null,null,null,null,{"$f":"MATCH(AX$3,Millwall!$AP99:$BA99,0)","v":{"$error":"#N/A"}},{"$f":"MATCH(AY$3,Millwall!$AP99:$BA99,0)","v":{"$error":"#N/A"}},{"$f":"MATCH(AZ$3,Millwall!$AP99:$BA99,0)","v":{"$error":"#N/A"}},{"$f":"MATCH(BA$3,Millwall!$AP99:$BA99,0)","v":{"$error":"#N/A"}},{"$f":"MATCH(BB$3,Millwall!$AP99:$BA99,0)","v":12},{"$f":"MATCH(BC$3,Millwall!$AP99:$BA99,0)","v":{"$error":"#N/A"}},{"$f":"MATCH(BD$3,Millwall!$AP99:$BA99,0)","v":{"$error":"#N/A"}},{"$f":"MATCH(BE$3,Millwall!$AP99:$BA99,0)","v":{"$error":"#N/A"}},{"$f":"MATCH(BF$3,Millwall!$AP99:$BA99,0)","v":{"$error":"#N/A"}},{"$f":"MATCH(BG$3,Millwall!$AP99:$BA99,0)","v":{"$error":"#N/A"}},{"$f":"MATCH(BH$3,Millwall!$AP99:$BA99,0)","v":{"$error":"#N/A"}},{"$f":"MATCH(BI$3,Millwall!$AP99:$BA99,0)","v":{"$error":"#N/A"}},{"$f":"MATCH(BJ$3,Millwall!$AP99:$BA99,0)","v":{"$error":"#N/A"}},{"$f":"MATCH(BK$3,Millwall!$AP99:$BA99,0)","v":{"$error":"#N/A"}},{"$f":"MATCH(BL$3,Millwall!$AP99:$BA99,0)","v":{"$error":"#N/A"}},{"$f":"MATCH(BM$3,Millwall!$AP99:$BA99,0)","v":{"$error":"#N/A"}},{"$f":"MATCH(BN$3,Millwall!$AP99:$BA99,0)","v":7},{"$f":"MATCH(BO$3,Millwall!$AP99:$BA99,0)","v":{"$error":"#N/A"}},{"$f":"MATCH(BP$3,Millwall!$AP99:$BA99,0)","v":{"$error":"#N/A"}},{"$f":"MATCH(BQ$3,Millwall!$AP99:$BA99,0)","v":{"$error":"#N/A"}},{"$f":"MATCH(BR$3,Millwall!$AP99:$BA99,0)","v":{"$error":"#N/A"}},{"$f":"MATCH(BS$3,Millwall!$AP99:$BA99,0)","v":{"$error":"#N/A"}},{"$f":"MATCH(BT$3,Millwall!$AP99:$BA99,0)","v":{"$error":"#N/A"}},{"$f":"MATCH(BU$3,Millwall!$AP99:$BA99,0)","v":{"$error":"#N/A"}},{"$f":"MATCH(BV$3,Millwall!$AP99:$BA99,0)","v":{"$error":"#N/A"}},{"$f":"MATCH(BW$3,Millwall!$AP99:$BA99,0)","v":{"$error":"#N/A"}},{"$f":"MATCH(BX$3,Millwall!$AP99:$BA99,0)","v":{"$error":"#N/A"}},{"$f":"MATCH(BY$3,Millwall!$AP99:$BA99,0)","v":{"$error":"#N/A"}},{"$f":"MATCH(BZ$3,Millwall!$AP99:$BA99,0)","v":{"$error":"#N/A"}},{"$f":"MATCH(CA$3,Millwall!$AP99:$BA99,0)","v":{"$error":"#N/A"}},{"$f":"MATCH(CB$3,Millwall!$AP99:$BA99,0)","v":{"$error":"#N/A"}},{"$f":"MATCH(CC$3,Millwall!$AP99:$BA99,0)","v":{"$error":"#N/A"}},{"$f":"MATCH(CD$3,Millwall!$AP99:$BA99,0)","v":{"$error":"#N/A"}},{"$f":"MATCH(CE$3,Millwall!$AP99:$BA99,0)","v":{"$error":"#N/A"}},null,null,null,null,null,null,null,{"$f":"Millwall!$BO93","v":0},{"$f":"Millwall!$BN93&\" (**\"","v":" (**"},{"$f":"Millwall!$BN93&\"**\"","v":"**"}]
[null,null,0,23,null,{"$f":"Millwall!AI100","v":"1971-01-09"},null,{"$f":"Millwall!AK100","v":"Swindon"},{"$f":"Millwall!AL100","v":"(H)"},{"$f":"Millwall!AO100","v":"D 2-2"},{"$f":"MATCH(K$4,Millwall!$AP100:$BA100,0)","v":11},{"$f":"MATCH(L$4,Millwall!$AP100:$BA100,0)","v":8},{"$f":"MATCH(M$4,Millwall!$AP100:$BA100,0)","v":9},{"$f":"MATCH(N$4,Millwall!$AP100:$BA100,0)","v":2},{"$f":"MATCH(O$4,Millwall!$AP100:$BA100,0)","v":12},{"$f":"MATCH(P$4,Millwall!$AP100:$BA100,0)","v":6},{"$f":"MATCH(Q$4,Millwall!$AP100:$BA100,0)","v":{"$error":"#N/A"}},{"$f":"MATCH(R$4,Millwall!$AP100:$BA100,0)","v":3},{"$f":"MATCH(S$4,Millwall!$AP100:$BA100,0)","v":4},{"$f":"MATCH(T$4,Millwall!$AP100:$BA100,0)","v":10},{"$f":"MATCH(U$4,Millwall!$AP100:$BA100,0)","v":{"$error":"#N/A"}},{"$f":"MATCH(V$4,Millwall!$AP100:$BA100,0)","v":{"$error":"#N/A"}},{"$f":"MATCH(W$4,Millwall!$AP100:$BA100,0)","v":{"$error":"#N/A"}},{"$f":"MATCH(X$4,Millwall!$AP100:$BA100,0)","v":1},{"$f":"MATCH(Y$4,Millwall!$AP100:$BA100,0)","v":5},{"$f":"MATCH(Z$4,Millwall!$AP100:$BA100,0)","v":{"$error":"#N/A"}},{"$f":"MATCH(AA$4,Millwall!$AP100:$BA100,0)","v":7},{"$f":"MATCH(AB$4,Millwall!$AP100:$BA100,0)","v":{"$error":"#N/A"}},{"$f":"MATCH(AC$4,Millwall!$AP100:$BA100,0)","v":{"$error":"#N/A"}},{"$f":"MATCH(AD$4,Millwall!$AP100:$BA100,0)","v":{"$error":"#N/A"}},{"$f":"MATCH(AE$4,Millwall!$AP100:$BA100,0)","v":{"$error":"#N/A"}},{"$f":"MATCH(AF$4,Millwall!$AP100:$BA100,0)","v":{"$error":"#N/A"}},{"$f":"MATCH(AG$4,Millwall!$AP100:$BA100,0)","v":{"$error":"#N/A"}},{"$f":"MATCH(AH$3,Millwall!$AP100:$BA100,0)","v":{"$error":"#N/A"}},{"$f":"MATCH(AI$3,Millwall!$AP100:$BA100,0)","v":{"$error":"#N/A"}},{"$f":"MATCH(AJ$3,Millwall!$AP100:$BA100,0)","v":{"$error":"#N/A"}},{"$f":"MATCH(AK$3,Millwall!$AP100:$BA100,0)","v":{"$error":"#N/A"}},{"$f":"MATCH(AL$3,Millwall!$AP100:$BA100,0)","v":{"$error":"#N/A"}},{"$f":"MATCH(AM$3,Millwall!$AP100:$BA100,0)","v":{"$error":"#N/A"}},{"$f":"MATCH(AN$3,Millwall!$AP100:$BA100,0)","v":{"$error":"#N/A"}},{"$f":"MATCH(AO$3,Millwall!$AP100:$BA100,0)","v":{"$error":"#N/A"}},{"$f":"MATCH(AP$3,Millwall!$AP100:$BA100,0)","v":{"$error":"#N/A"}},{"$f":"MATCH(AQ$3,Millwall!$AP100:$BA100,0)","v":{"$error":"#N/A"}},{"$f":"MATCH(AR$3,Millwall!$AP100:$BA100,0)","v":{"$error":"#N/A"}},null,null,null,null,null,{"$f":"MATCH(AX$3,Millwall!$AP100:$BA100,0)","v":{"$error":"#N/A"}},{"$f":"MATCH(AY$3,Millwall!$AP100:$BA100,0)","v":{"$error":"#N/A"}},{"$f":"MATCH(AZ$3,Millwall!$AP100:$BA100,0)","v":{"$error":"#N/A"}},{"$f":"MATCH(BA$3,Millwall!$AP100:$BA100,0)","v":2},{"$f":"MATCH(BB$3,Millwall!$AP100:$BA100,0)","v":12},{"$f":"MATCH(BC$3,Millwall!$AP100:$BA100,0)","v":{"$error":"#N/A"}},{"$f":"MATCH(BD$3,Millwall!$AP100:$BA100,0)","v":{"$error":"#N/A"}},{"$f":"MATCH(BE$3,Millwall!$AP100:$BA100,0)","v":{"$error":"#N/A"}},{"$f":"MATCH(BF$3,Millwall!$AP100:$BA100,0)","v":{"$error":"#N/A"}},{"$f":"MATCH(BG$3,Millwall!$AP100:$BA100,0)","v":{"$error":"#N/A"}},{"$f":"MATCH(BH$3,Millwall!$AP100:$BA100,0)","v":{"$error":"#N/A"}},{"$f":"MATCH(BI$3,Millwall!$AP100:$BA100,0)","v":{"$error":"#N/A"}},{"$f":"MATCH(BJ$3,Millwall!$AP100:$BA100,0)","v":{"$error":"#N/A"}},{"$f":"MATCH(BK$3,Millwall!$AP100:$BA100,0)","v":{"$error":"#N/A"}},{"$f":"MATCH(BL$3,Millwall!$AP100:$BA100,0)","v":{"$error":"#N/A"}},{"$f":"MATCH(BM$3,Millwall!$AP100:$BA100,0)","v":{"$error":"#N/A"}},{"$f":"MATCH(BN$3,Millwall!$AP100:$BA100,0)","v":{"$error":"#N/A"}},{"$f":"MATCH(BO$3,Millwall!$AP100:$BA100,0)","v":{"$error":"#N/A"}},{"$f":"MATCH(BP$3,Millwall!$AP100:$BA100,0)","v":{"$error":"#N/A"}},{"$f":"MATCH(BQ$3,Millwall!$AP100:$BA100,0)","v":{"$error":"#N/A"}},{"$f":"MATCH(BR$3,Millwall!$AP100:$BA100,0)","v":{"$error":"#N/A"}},{"$f":"MATCH(BS$3,Millwall!$AP100:$BA100,0)","v":{"$error":"#N/A"}},{"$f":"MATCH(BT$3,Millwall!$AP100:$BA100,0)","v":{"$error":"#N/A"}},{"$f":"MATCH(BU$3,Millwall!$AP100:$BA100,0)","v":{"$error":"#N/A"}},{"$f":"MATCH(BV$3,Millwall!$AP100:$BA100,0)","v":{"$error":"#N/A"}},{"$f":"MATCH(BW$3,Millwall!$AP100:$BA100,0)","v":{"$error":"#N/A"}},{"$f":"MATCH(BX$3,Millwall!$AP100:$BA100,0)","v":{"$error":"#N/A"}},{"$f":"MATCH(BY$3,Millwall!$AP100:$BA100,0)","v":{"$error":"#N/A"}},{"$f":"MATCH(BZ$3,Millwall!$AP100:$BA100,0)","v":{"$error":"#N/A"}},{"$f":"MATCH(CA$3,Millwall!$AP100:$BA100,0)","v":{"$error":"#N/A"}},{"$f":"MATCH(CB$3,Millwall!$AP100:$BA100,0)","v":{"$error":"#N/A"}},{"$f":"MATCH(CC$3,Millwall!$AP100:$BA100,0)","v":{"$error":"#N/A"}},{"$f":"MATCH(CD$3,Millwall!$AP100:$BA100,0)","v":{"$error":"#N/A"}},{"$f":"MATCH(CE$3,Millwall!$AP100:$BA100,0)","v":{"$error":"#N/A"}},null,null,null,null,null,null,null,{"$f":"Millwall!$BO94","v":0},{"$f":"Millwall!$BN94&\" (**\"","v":" (**"},{"$f":"Millwall!$BN94&\"**\"","v":"**"}]
[null,null,0,24,null,{"$f":"Millwall!AI101","v":"1971-01-16"},null,{"$f":"Millwall!AK101","v":"Watford"},{"$f":"Millwall!AL101","v":"(A)"},{"$f":"Millwall!AO101","v":"W 4-0"},{"$f":"MATCH(K$4,Millwall!$AP101:$BA101,0)","v":11},{"$f":"MATCH(L$4,Millwall!$AP101:$BA101,0)","v":8},{"$f":"MATCH(M$4,Millwall!$AP101:$BA101,0)","v":9},{"$f":"MATCH(N$4,Millwall!$AP101:$BA101,0)","v":2},{"$f":"MATCH(O$4,Millwall!$AP101:$BA101,0)","v":{"$error":"#N/A"}},{"$f":"MATCH(P$4,Millwall!$AP101:$BA101,0)","v":6},{"$f":"MATCH(Q$4,Millwall!$AP101:$BA101,0)","v":{"$error":"#N/A"}},{"$f":"MATCH(R$4,Millwall!$AP101:$BA101,0)","v":3},{"$f":"MATCH(S$4,Millwall!$AP101:$BA101,0)","v":4},{"$f":"MATCH(T$4,Millwall!$AP101:$BA101,0)","v":10},{"$f":"MATCH(U$4,Millwall!$AP101:$BA101,0)","v":{"$error":"#N/A"}},{"$f":"MATCH(V$4,Millwall!$AP101:$BA101,0)","v":{"$error":"#N/A"}},{"$f":"MATCH(W$4,Millwall!$AP101:$BA101,0)","v":{"$error":"#N/A"}},{"$f":"MATCH(X$4,Millwall!$AP101:$BA101,0)","v":1},{"$f":"MATCH(Y$4,Millwall!$AP101:$BA101,0)","v":5},{"$f":"MATCH(Z$4,Millwall!$AP101:$BA101,0)","v":{"$error":"#N/A"}},{"$f":"MATCH(AA$4,Millwall!$AP101:$BA101,0)","v":7},{"$f":"MATCH(AB$4,Millwall!$AP101:$BA101,0)","v":{"$error":"#N/A"}},{"$f":"MATCH(AC$4,Millwall!$AP101:$BA101,0)","v":{"$error":"#N/A"}},{"$f":"MATCH(AD$4,Millwall!$AP101:$BA101,0)","v":{"$error":"#N/A"}},{"$f":"MATCH(AE$4,Millwall!$AP101:$BA101,0)","v":{"$error":"#N/A"}},{"$f":"MATCH(AF$4,Millwall!$AP101:$BA101,0)","v":{"$error":"#N/A"}},{"$f":"MATCH(AG$4,Millwall!$AP101:$BA101,0)","v":{"$error":"#N/A"}},{"$f":"MATCH(AH$3,Millwall!$AP101:$BA101,0)","v":{"$error":"#N/A"}},{"$f":"MATCH(AI$3,Millwall!$AP101:$BA101,0)","v":{"$error":"#N/A"}},{"$f":"MATCH(AJ$3,Millwall!$AP101:$BA101,0)","v":{"$error":"#N/A"}},{"$f":"MATCH(AK$3,Millwall!$AP101:$BA101,0)","v":{"$error":"#N/A"}},{"$f":"MATCH(AL$3,Millwall!$AP101:$BA101,0)","v":{"$error":"#N/A"}},{"$f":"MATCH(AM$3,Millwall!$AP101:$BA101,0)","v":{"$error":"#N/A"}},{"$f":"MATCH(AN$3,Millwall!$AP101:$BA101,0)","v":{"$error":"#N/A"}},{"$f":"MATCH(AO$3,Millwall!$AP101:$BA101,0)","v":{"$error":"#N/A"}},{"$f":"MATCH(AP$3,Millwall!$AP101:$BA101,0)","v":{"$error":"#N/A"}},{"$f":"MATCH(AQ$3,Millwall!$AP101:$BA101,0)","v":{"$error":"#N/A"}},{"$f":"MATCH(AR$3,Millwall!$AP101:$BA101,0)","v":{"$error":"#N/A"}},null,null,null,null,null,{"$f":"MATCH(AX$3,Millwall!$AP101:$BA101,0)","v":{"$error":"#N/A"}},{"$f":"MATCH(AY$3,Millwall!$AP101:$BA101,0)","v":{"$error":"#N/A"}},{"$f":"MATCH(AZ$3,Millwall!$AP101:$BA101,0)","v":{"$error":"#N/A"}},{"$f":"MATCH(BA$3,Millwall!$AP101:$BA101,0)","v":{"$error":"#N/A"}},{"$f":"MATCH(BB$3,Millwall!$AP101:$BA101,0)","v":{"$error":"#N/A"}},{"$f":"MATCH(BC$3,Millwall!$AP101:$BA101,0)","v":{"$error":"#N/A"}},{"$f":"MATCH(BD$3,Millwall!$AP101:$BA101,0)","v":{"$error":"#N/A"}},{"$f":"MATCH(BE$3,Millwall!$AP101:$BA101,0)","v":{"$error":"#N/A"}},{"$f":"MATCH(BF$3,Millwall!$AP101:$BA101,0)","v":{"$error":"#N/A"}},{"$f":"MATCH(BG$3,Millwall!$AP101:$BA101,0)","v":{"$error":"#N/A"}},{"$f":"MATCH(BH$3,Millwall!$AP101:$BA101,0)","v":{"$error":"#N/A"}},{"$f":"MATCH(BI$3,Millwall!$AP101:$BA101,0)","v":{"$error":"#N/A"}},{"$f":"MATCH(BJ$3,Millwall!$AP101:$BA101,0)","v":{"$error":"#N/A"}},{"$f":"MATCH(BK$3,Millwall!$AP101:$BA101,0)","v":{"$error":"#N/A"}},{"$f":"MATCH(BL$3,Millwall!$AP101:$BA101,0)","v":{"$error":"#N/A"}},{"$f":"MATCH(BM$3,Millwall!$AP101:$BA101,0)","v":{"$error":"#N/A"}},{"$f":"MATCH(BN$3,Millwall!$AP101:$BA101,0)","v":{"$error":"#N/A"}},{"$f":"MATCH(BO$3,Millwall!$AP101:$BA101,0)","v":{"$error":"#N/A"}},{"$f":"MATCH(BP$3,Millwall!$AP101:$BA101,0)","v":{"$error":"#N/A"}},{"$f":"MATCH(BQ$3,Millwall!$AP101:$BA101,0)","v":{"$error":"#N/A"}},{"$f":"MATCH(BR$3,Millwall!$AP101:$BA101,0)","v":{"$error":"#N/A"}},{"$f":"MATCH(BS$3,Millwall!$AP101:$BA101,0)","v":{"$error":"#N/A"}},{"$f":"MATCH(BT$3,Millwall!$AP101:$BA101,0)","v":{"$error":"#N/A"}},{"$f":"MATCH(BU$3,Millwall!$AP101:$BA101,0)","v":{"$error":"#N/A"}},{"$f":"MATCH(BV$3,Millwall!$AP101:$BA101,0)","v":{"$error":"#N/A"}},{"$f":"MATCH(BW$3,Millwall!$AP101:$BA101,0)","v":{"$error":"#N/A"}},{"$f":"MATCH(BX$3,Millwall!$AP101:$BA101,0)","v":{"$error":"#N/A"}},{"$f":"MATCH(BY$3,Millwall!$AP101:$BA101,0)","v":{"$error":"#N/A"}},{"$f":"MATCH(BZ$3,Millwall!$AP101:$BA101,0)","v":{"$error":"#N/A"}},{"$f":"MATCH(CA$3,Millwall!$AP101:$BA101,0)","v":{"$error":"#N/A"}},{"$f":"MATCH(CB$3,Millwall!$AP101:$BA101,0)","v":{"$error":"#N/A"}},{"$f":"MATCH(CC$3,Millwall!$AP101:$BA101,0)","v":{"$error":"#N/A"}},{"$f":"MATCH(CD$3,Millwall!$AP101:$BA101,0)","v":{"$error":"#N/A"}},{"$f":"MATCH(CE$3,Millwall!$AP101:$BA101,0)","v":{"$error":"#N/A"}},null,null,null,null,null,null,null,{"$f":"Millwall!$BO95","v":0},{"$f":"Millwall!$BN95&\" (**\"","v":" (**"},{"$f":"Millwall!$BN95&\"**\"","v":"**"}]
[null,null,0,25,null,{"$f":"Millwall!AI102","v":"1971-01-23"},null,{"$f":"Millwall!AK102","v":"Norwich"},{"$f":"Millwall!AL102","v":"(H)"},{"$f":"Millwall!AO102","v":"D 2-2"},{"$f":"MATCH(K$4,Millwall!$AP102:$BA102,0)","v":11},{"$f":"MATCH(L$4,Millwall!$AP102:$BA102,0)","v":10},{"$f":"MATCH(M$4,Millwall!$AP102:$BA102,0)","v":9},{"$f":"MATCH(N$4,Millwall!$AP102:$BA102,0)","v":2},{"$f":"MATCH(O$4,Millwall!$AP102:$BA102,0)","v":{"$error":"#N/A"}},{"$f":"MATCH(P$4,Millwall!$AP102:$BA102,0)","v":6},{"$f":"MATCH(Q$4,Millwall!$AP102:$BA102,0)","v":{"$error":"#N/A"}},{"$f":"MATCH(R$4,Millwall!$AP102:$BA102,0)","v":3},{"$f":"MATCH(S$4,Millwall!$AP102:$BA102,0)","v":4},{"$f":"MATCH(T$4,Millwall!$AP102:$BA102,0)","v":8},{"$f":"MATCH(U$4,Millwall!$AP102:$BA102,0)","v":{"$error":"#N/A"}},{"$f":"MATCH(V$4,Millwall!$AP102:$BA102,0)","v":{"$error":"#N/A"}},{"$f":"MATCH(W$4,Millwall!$AP102:$BA102,0)","v":{"$error":"#N/A"}},{"$f":"MATCH(X$4,Millwall!$AP102:$BA102,0)","v":1},{"$f":"MATCH(Y$4,Millwall!$AP102:$BA102,0)","v":5},{"$f":"MATCH(Z$4,Millwall!$AP102:$BA102,0)","v":{"$error":"#N/A"}},{"$f":"MATCH(AA$4,Millwall!$AP102:$BA102,0)","v":7},{"$f":"MATCH(AB$4,Millwall!$AP102:$BA102,0)","v":{"$error":"#N/A"}},{"$f":"MATCH(AC$4,Millwall!$AP102:$BA102,0)","v":{"$error":"#N/A"}},{"$f":"MATCH(AD$4,Millwall!$AP102:$BA102,0)","v":{"$error":"#N/A"}},{"$f":"MATCH(AE$4,Millwall!$AP102:$BA102,0)","v":{"$error":"#N/A"}},{"$f":"MATCH(AF$4,Millwall!$AP102:$BA102,0)","v":{"$error":"#N/A"}},{"$f":"MATCH(AG$4,Millwall!$AP102:$BA102,0)","v":{"$error":"#N/A"}},{"$f":"MATCH(AH$3,Millwall!$AP102:$BA102,0)","v":{"$error":"#N/A"}},{"$f":"MATCH(AI$3,Millwall!$AP102:$BA102,0)","v":{"$error":"#N/A"}},{"$f":"MATCH(AJ$3,Millwall!$AP102:$BA102,0)","v":{"$error":"#N/A"}},{"$f":"MATCH(AK$3,Millwall!$AP102:$BA102,0)","v":{"$error":"#N/A"}},{"$f":"MATCH(AL$3,Millwall!$AP102:$BA102,0)","v":{"$error":"#N/A"}},{"$f":"MATCH(AM$3,Millwall!$AP102:$BA102,0)","v":{"$error":"#N/A"}},{"$f":"MATCH(AN$3,Millwall!$AP102:$BA102,0)","v":{"$error":"#N/A"}},{"$f":"MATCH(AO$3,Millwall!$AP102:$BA102,0)","v":{"$error":"#N/A"}},{"$f":"MATCH(AP$3,Millwall!$AP102:$BA102,0)","v":{"$error":"#N/A"}},{"$f":"MATCH(AQ$3,Millwall!$AP102:$BA102,0)","v":{"$error":"#N/A"}},{"$f":"MATCH(AR$3,Millwall!$AP102:$BA102,0)","v":{"$error":"#N/A"}},null,null,null,null,null,{"$f":"MATCH(AX$3,Millwall!$AP102:$BA102,0)","v":{"$error":"#N/A"}},{"$f":"MATCH(AY$3,Millwall!$AP102:$BA102,0)","v":{"$error":"#N/A"}},{"$f":"MATCH(AZ$3,Millwall!$AP102:$BA102,0)","v":{"$error":"#N/A"}},{"$f":"MATCH(BA$3,Millwall!$AP102:$BA102,0)","v":{"$error":"#N/A"}},{"$f":"MATCH(BB$3,Millwall!$AP102:$BA102,0)","v":{"$error":"#N/A"}},{"$f":"MATCH(BC$3,Millwall!$AP102:$BA102,0)","v":{"$error":"#N/A"}},{"$f":"MATCH(BD$3,Millwall!$AP102:$BA102,0)","v":{"$error":"#N/A"}},{"$f":"MATCH(BE$3,Millwall!$AP102:$BA102,0)","v":{"$error":"#N/A"}},{"$f":"MATCH(BF$3,Millwall!$AP102:$BA102,0)","v":{"$error":"#N/A"}},{"$f":"MATCH(BG$3,Millwall!$AP102:$BA102,0)","v":{"$error":"#N/A"}},{"$f":"MATCH(BH$3,Millwall!$AP102:$BA102,0)","v":{"$error":"#N/A"}},{"$f":"MATCH(BI$3,Millwall!$AP102:$BA102,0)","v":{"$error":"#N/A"}},{"$f":"MATCH(BJ$3,Millwall!$AP102:$BA102,0)","v":{"$error":"#N/A"}},{"$f":"MATCH(BK$3,Millwall!$AP102:$BA102,0)","v":{"$error":"#N/A"}},{"$f":"MATCH(BL$3,Millwall!$AP102:$BA102,0)","v":{"$error":"#N/A"}},{"$f":"MATCH(BM$3,Millwall!$AP102:$BA102,0)","v":{"$error":"#N/A"}},{"$f":"MATCH(BN$3,Millwall!$AP102:$BA102,0)","v":{"$error":"#N/A"}},{"$f":"MATCH(BO$3,Millwall!$AP102:$BA102,0)","v":{"$error":"#N/A"}},{"$f":"MATCH(BP$3,Millwall!$AP102:$BA102,0)","v":{"$error":"#N/A"}},{"$f":"MATCH(BQ$3,Millwall!$AP102:$BA102,0)","v":{"$error":"#N/A"}},{"$f":"MATCH(BR$3,Millwall!$AP102:$BA102,0)","v":{"$error":"#N/A"}},{"$f":"MATCH(BS$3,Millwall!$AP102:$BA102,0)","v":{"$error":"#N/A"}},{"$f":"MATCH(BT$3,Millwall!$AP102:$BA102,0)","v":{"$error":"#N/A"}},{"$f":"MATCH(BU$3,Millwall!$AP102:$BA102,0)","v":{"$error":"#N/A"}},{"$f":"MATCH(BV$3,Millwall!$AP102:$BA102,0)","v":{"$error":"#N/A"}},{"$f":"MATCH(BW$3,Millwall!$AP102:$BA102,0)","v":{"$error":"#N/A"}},{"$f":"MATCH(BX$3,Millwall!$AP102:$BA102,0)","v":{"$error":"#N/A"}},{"$f":"MATCH(BY$3,Millwall!$AP102:$BA102,0)","v":{"$error":"#N/A"}},{"$f":"MATCH(BZ$3,Millwall!$AP102:$BA102,0)","v":{"$error":"#N/A"}},{"$f":"MATCH(CA$3,Millwall!$AP102:$BA102,0)","v":{"$error":"#N/A"}},{"$f":"MATCH(CB$3,Millwall!$AP102:$BA102,0)","v":{"$error":"#N/A"}},{"$f":"MATCH(CC$3,Millwall!$AP102:$BA102,0)","v":{"$error":"#N/A"}},{"$f":"MATCH(CD$3,Millwall!$AP102:$BA102,0)","v":{"$error":"#N/A"}},{"$f":"MATCH(CE$3,Millwall!$AP102:$BA102,0)","v":{"$error":"#N/A"}},null,null,null,null,null,null,null,{"$f":"Millwall!$BO96","v":0},{"$f":"Millwall!$BN96&\" (**\"","v":" (**"},{"$f":"Millwall!$BN96&\"**\"","v":"**"}]
[null,null,0,26,null,{"$f":"Millwall!AI103","v":"1971-01-30"},null,{"$f":"Millwall!AK103","v":"Middlesbro"},{"$f":"Millwall!AL103","v":"(H)"},{"$f":"Millwall!AO103","v":"W 1-0"},{"$f":"MATCH(K$4,Millwall!$AP103:$BA103,0)","v":{"$error":"#N/A"}},{"$f":"MATCH(L$4,Millwall!$AP103:$BA103,0)","v":8},{"$f":"MATCH(M$4,Millwall!$AP103:$BA103,0)","v":9},{"$f":"MATCH(N$4,Millwall!$AP103:$BA103,0)","v":2},{"$f":"MATCH(O$4,Millwall!$AP103:$BA103,0)","v":12},{"$f":"MATCH(P$4,Millwall!$AP103:$BA103,0)","v":6},{"$f":"MATCH(Q$4,Millwall!$AP103:$BA103,0)","v":{"$error":"#N/A"}},{"$f":"MATCH(R$4,Millwall!$AP103:$BA103,0)","v":3},{"$f":"MATCH(S$4,Millwall!$AP103:$BA103,0)","v":4},{"$f":"MATCH(T$4,Millwall!$AP103:$BA103,0)","v":10},{"$f":"MATCH(U$4,Millwall!$AP103:$BA103,0)","v":{"$error":"#N/A"}},{"$f":"MATCH(V$4,Millwall!$AP103:$BA103,0)","v":{"$error":"#N/A"}},{"$f":"MATCH(W$4,Millwall!$AP103:$BA103,0)","v":{"$error":"#N/A"}},{"$f":"MATCH(X$4,Millwall!$AP103:$BA103,0)","v":1},{"$f":"MATCH(Y$4,Millwall!$AP103:$BA103,0)","v":5},{"$f":"MATCH(Z$4,Millwall!$AP103:$BA103,0)","v":11},{"$f":"MATCH(AA$4,Millwall!$AP103:$BA103,0)","v":7},{"$f":"MATCH(AB$4,Millwall!$AP103:$BA103,0)","v":{"$error":"#N/A"}},{"$f":"MATCH(AC$4,Millwall!$AP103:$BA103,0)","v":{"$error":"#N/A"}},{"$f":"MATCH(AD$4,Millwall!$AP103:$BA103,0)","v":{"$error":"#N/A"}},{"$f":"MATCH(AE$4,Millwall!$AP103:$BA103,0)","v":{"$error":"#N/A"}},{"$f":"MATCH(AF$4,Millwall!$AP103:$BA103,0)","v":{"$error":"#N/A"}},{"$f":"MATCH(AG$4,Millwall!$AP103:$BA103,0)","v":{"$error":"#N/A"}},{"$f":"MATCH(AH$3,Millwall!$AP103:$BA103,0)","v":{"$error":"#N/A"}},{"$f":"MATCH(AI$3,Millwall!$AP103:$BA103,0)","v":{"$error":"#N/A"}},{"$f":"MATCH(AJ$3,Millwall!$AP103:$BA103,0)","v":{"$error":"#N/A"}},{"$f":"MATCH(AK$3,Millwall!$AP103:$BA103,0)","v":{"$error":"#N/A"}},{"$f":"MATCH(AL$3,Millwall!$AP103:$BA103,0)","v":{"$error":"#N/A"}},{"$f":"MATCH(AM$3,Millwall!$AP103:$BA103,0)","v":{"$error":"#N/A"}},{"$f":"MATCH(AN$3,Millwall!$AP103:$BA103,0)","v":{"$error":"#N/A"}},{"$f":"MATCH(AO$3,Millwall!$AP103:$BA103,0)","v":{"$error":"#N/A"}},{"$f":"MATCH(AP$3,Millwall!$AP103:$BA103,0)","v":{"$error":"#N/A"}},{"$f":"MATCH(AQ$3,Millwall!$AP103:$BA103,0)","v":{"$error":"#N/A"}},{"$f":"MATCH(AR$3,Millwall!$AP103:$BA103,0)","v":{"$error":"#N/A"}},null,null,null,null,null,{"$f":"MATCH(AX$3,Millwall!$AP103:$BA103,0)","v":{"$error":"#N/A"}},{"$f":"MATCH(AY$3,Millwall!$AP103:$BA103,0)","v":{"$error":"#N/A"}},{"$f":"MATCH(AZ$3,Millwall!$AP103:$BA103,0)","v":{"$error":"#N/A"}},{"$f":"MATCH(BA$3,Millwall!$AP103:$BA103,0)","v":{"$error":"#N/A"}},{"$f":"MATCH(BB$3,Millwall!$AP103:$BA103,0)","v":12},{"$f":"MATCH(BC$3,Millwall!$AP103:$BA103,0)","v":{"$error":"#N/A"}},{"$f":"MATCH(BD$3,Millwall!$AP103:$BA103,0)","v":{"$error":"#N/A"}},{"$f":"MATCH(BE$3,Millwall!$AP103:$BA103,0)","v":{"$error":"#N/A"}},{"$f":"MATCH(BF$3,Millwall!$AP103:$BA103,0)","v":{"$error":"#N/A"}},{"$f":"MATCH(BG$3,Millwall!$AP103:$BA103,0)","v":{"$error":"#N/A"}},{"$f":"MATCH(BH$3,Millwall!$AP103:$BA103,0)","v":{"$error":"#N/A"}},{"$f":"MATCH(BI$3,Millwall!$AP103:$BA103,0)","v":{"$error":"#N/A"}},{"$f":"MATCH(BJ$3,Millwall!$AP103:$BA103,0)","v":{"$error":"#N/A"}},{"$f":"MATCH(BK$3,Millwall!$AP103:$BA103,0)","v":{"$error":"#N/A"}},{"$f":"MATCH(BL$3,Millwall!$AP103:$BA103,0)","v":{"$error":"#N/A"}},{"$f":"MATCH(BM$3,Millwall!$AP103:$BA103,0)","v":11},{"$f":"MATCH(BN$3,Millwall!$AP103:$BA103,0)","v":{"$error":"#N/A"}},{"$f":"MATCH(BO$3,Millwall!$AP103:$BA103,0)","v":{"$error":"#N/A"}},{"$f":"MATCH(BP$3,Millwall!$AP103:$BA103,0)","v":{"$error":"#N/A"}},{"$f":"MATCH(BQ$3,Millwall!$AP103:$BA103,0)","v":{"$error":"#N/A"}},{"$f":"MATCH(BR$3,Millwall!$AP103:$BA103,0)","v":{"$error":"#N/A"}},{"$f":"MATCH(BS$3,Millwall!$AP103:$BA103,0)","v":{"$error":"#N/A"}},{"$f":"MATCH(BT$3,Millwall!$AP103:$BA103,0)","v":{"$error":"#N/A"}},{"$f":"MATCH(BU$3,Millwall!$AP103:$BA103,0)","v":{"$error":"#N/A"}},{"$f":"MATCH(BV$3,Millwall!$AP103:$BA103,0)","v":{"$error":"#N/A"}},{"$f":"MATCH(BW$3,Millwall!$AP103:$BA103,0)","v":{"$error":"#N/A"}},{"$f":"MATCH(BX$3,Millwall!$AP103:$BA103,0)","v":{"$error":"#N/A"}},{"$f":"MATCH(BY$3,Millwall!$AP103:$BA103,0)","v":{"$error":"#N/A"}},{"$f":"MATCH(BZ$3,Millwall!$AP103:$BA103,0)","v":{"$error":"#N/A"}},{"$f":"MATCH(CA$3,Millwall!$AP103:$BA103,0)","v":{"$error":"#N/A"}},{"$f":"MATCH(CB$3,Millwall!$AP103:$BA103,0)","v":{"$error":"#N/A"}},{"$f":"MATCH(CC$3,Millwall!$AP103:$BA103,0)","v":{"$error":"#N/A"}},{"$f":"MATCH(CD$3,Millwall!$AP103:$BA103,0)","v":{"$error":"#N/A"}},{"$f":"MATCH(CE$3,Millwall!$AP103:$BA103,0)","v":{"$error":"#N/A"}},null,null,null,null,null,null,null,{"$f":"Millwall!$BO97","v":0},{"$f":"Millwall!$BN97&\" (**\"","v":" (**"},{"$f":"Millwall!$BN97&\"**\"","v":"**"}]
[null,null,0,27,null,{"$f":"Millwall!AI104","v":"1971-02-06"},null,{"$f":"Millwall!AK104","v":"Birmingham"},{"$f":"Millwall!AL104","v":"(A)"},{"$f":"Millwall!AO104","v":"L 1-3"},{"$f":"MATCH(K$4,Millwall!$AP104:$BA104,0)","v":{"$error":"#N/A"}},{"$f":"MATCH(L$4,Millwall!$AP104:$BA104,0)","v":8},{"$f":"MATCH(M$4,Millwall!$AP104:$BA104,0)","v":9},{"$f":"MATCH(N$4,Millwall!$AP104:$BA104,0)","v":2},{"$f":"MATCH(O$4,Millwall!$AP104:$BA104,0)","v":{"$error":"#N/A"}},{"$f":"MATCH(P$4,Millwall!$AP104:$BA104,0)","v":6},{"$f":"MATCH(Q$4,Millwall!$AP104:$BA104,0)","v":{"$error":"#N/A"}},{"$f":"MATCH(R$4,Millwall!$AP104:$BA104,0)","v":3},{"$f":"MATCH(S$4,Millwall!$AP104:$BA104,0)","v":4},{"$f":"MATCH(T$4,Millwall!$AP104:$BA104,0)","v":10},{"$f":"MATCH(U$4,Millwall!$AP104:$BA104,0)","v":{"$error":"#N/A"}},{"$f":"MATCH(V$4,Millwall!$AP104:$BA104,0)","v":12},{"$f":"MATCH(W$4,Millwall!$AP104:$BA104,0)","v":{"$error":"#N/A"}},{"$f":"MATCH(X$4,Millwall!$AP104:$BA104,0)","v":1},{"$f":"MATCH(Y$4,Millwall!$AP104:$BA104,0)","v":5},{"$f":"MATCH(Z$4,Millwall!$AP104:$BA104,0)","v":11},{"$f":"MATCH(AA$4,Millwall!$AP104:$BA104,0)","v":7},{"$f":"MATCH(AB$4,Millwall!$AP104:$BA104,0)","v":{"$error":"#N/A"}},{"$f":"MATCH(AC$4,Millwall!$AP104:$BA104,0)","v":{"$error":"#N/A"}},{"$f":"MATCH(AD$4,Millwall!$AP104:$BA104,0)","v":{"$error":"#N/A"}},{"$f":"MATCH(AE$4,Millwall!$AP104:$BA104,0)","v":{"$error":"#N/A"}},{"$f":"MATCH(AF$4,Millwall!$AP104:$BA104,0)","v":{"$error":"#N/A"}},{"$f":"MATCH(AG$4,Millwall!$AP104:$BA104,0)","v":{"$error":"#N/A"}},{"$f":"MATCH(AH$3,Millwall!$AP104:$BA104,0)","v":{"$error":"#N/A"}},{"$f":"MATCH(AI$3,Millwall!$AP104:$BA104,0)","v":{"$error":"#N/A"}},{"$f":"MATCH(AJ$3,Millwall!$AP104:$BA104,0)","v":{"$error":"#N/A"}},{"$f":"MATCH(AK$3,Millwall!$AP104:$BA104,0)","v":{"$error":"#N/A"}},{"$f":"MATCH(AL$3,Millwall!$AP104:$BA104,0)","v":{"$error":"#N/A"}},{"$f":"MATCH(AM$3,Millwall!$AP104:$BA104,0)","v":{"$error":"#N/A"}},{"$f":"MATCH(AN$3,Millwall!$AP104:$BA104,0)","v":{"$error":"#N/A"}},{"$f":"MATCH(AO$3,Millwall!$AP104:$BA104,0)","v":{"$error":"#N/A"}},{"$f":"MATCH(AP$3,Millwall!$AP104:$BA104,0)","v":{"$error":"#N/A"}},{"$f":"MATCH(AQ$3,Millwall!$AP104:$BA104,0)","v":{"$error":"#N/A"}},{"$f":"MATCH(AR$3,Millwall!$AP104:$BA104,0)","v":{"$error":"#N/A"}},null,null,null,null,null,{"$f":"MATCH(AX$3,Millwall!$AP104:$BA104,0)","v":{"$error":"#N/A"}},{"$f":"MATCH(AY$3,Millwall!$AP104:$BA104,0)","v":{"$error":"#N/A"}},{"$f":"MATCH(AZ$3,Millwall!$AP104:$BA104,0)","v":{"$error":"#N/A"}},{"$f":"MATCH(BA$3,Millwall!$AP104:$BA104,0)","v":{"$error":"#N/A"}},{"$f":"MATCH(BB$3,Millwall!$AP104:$BA104,0)","v":{"$error":"#N/A"}},{"$f":"MATCH(BC$3,Millwall!$AP104:$BA104,0)","v":{"$error":"#N/A"}},{"$f":"MATCH(BD$3,Millwall!$AP104:$BA104,0)","v":{"$error":"#N/A"}},{"$f":"MATCH(BE$3,Millwall!$AP104:$BA104,0)","v":{"$error":"#N/A"}},{"$f":"MATCH(BF$3,Millwall!$AP104:$BA104,0)","v":{"$error":"#N/A"}},{"$f":"MATCH(BG$3,Millwall!$AP104:$BA104,0)","v":{"$error":"#N/A"}},{"$f":"MATCH(BH$3,Millwall!$AP104:$BA104,0)","v":{"$error":"#N/A"}},{"$f":"MATCH(BI$3,Millwall!$AP104:$BA104,0)","v":12},{"$f":"MATCH(BJ$3,Millwall!$AP104:$BA104,0)","v":{"$error":"#N/A"}},{"$f":"MATCH(BK$3,Millwall!$AP104:$BA104,0)","v":{"$error":"#N/A"}},{"$f":"MATCH(BL$3,Millwall!$AP104:$BA104,0)","v":{"$error":"#N/A"}},{"$f":"MATCH(BM$3,Millwall!$AP104:$BA104,0)","v":11},{"$f":"MATCH(BN$3,Millwall!$AP104:$BA104,0)","v":{"$error":"#N/A"}},{"$f":"MATCH(BO$3,Millwall!$AP104:$BA104,0)","v":{"$error":"#N/A"}},{"$f":"MATCH(BP$3,Millwall!$AP104:$BA104,0)","v":{"$error":"#N/A"}},{"$f":"MATCH(BQ$3,Millwall!$AP104:$BA104,0)","v":{"$error":"#N/A"}},{"$f":"MATCH(BR$3,Millwall!$AP104:$BA104,0)","v":{"$error":"#N/A"}},{"$f":"MATCH(BS$3,Millwall!$AP104:$BA104,0)","v":{"$error":"#N/A"}},{"$f":"MATCH(BT$3,Millwall!$AP104:$BA104,0)","v":{"$error":"#N/A"}},{"$f":"MATCH(BU$3,Millwall!$AP104:$BA104,0)","v":{"$error":"#N/A"}},{"$f":"MATCH(BV$3,Millwall!$AP104:$BA104,0)","v":{"$error":"#N/A"}},{"$f":"MATCH(BW$3,Millwall!$AP104:$BA104,0)","v":{"$error":"#N/A"}},{"$f":"MATCH(BX$3,Millwall!$AP104:$BA104,0)","v":{"$error":"#N/A"}},{"$f":"MATCH(BY$3,Millwall!$AP104:$BA104,0)","v":{"$error":"#N/A"}},{"$f":"MATCH(BZ$3,Millwall!$AP104:$BA104,0)","v":{"$error":"#N/A"}},{"$f":"MATCH(CA$3,Millwall!$AP104:$BA104,0)","v":{"$error":"#N/A"}},{"$f":"MATCH(CB$3,Millwall!$AP104:$BA104,0)","v":{"$error":"#N/A"}},{"$f":"MATCH(CC$3,Millwall!$AP104:$BA104,0)","v":{"$error":"#N/A"}},{"$f":"MATCH(CD$3,Millwall!$AP104:$BA104,0)","v":{"$error":"#N/A"}},{"$f":"MATCH(CE$3,Millwall!$AP104:$BA104,0)","v":{"$error":"#N/A"}},null,null,null,null,null,null,null,{"$f":"Millwall!$BO98","v":0},{"$f":"Millwall!$BN98&\" (**\"","v":" (**"},{"$f":"Millwall!$BN98&\"**\"","v":"**"}]
[null,null,0,28,null,{"$f":"Millwall!AI105","v":"1971-02-20"},null,{"$f":"Millwall!AK105","v":"Bristol C"},{"$f":"Millwall!AL105","v":"(A)"},{"$f":"Millwall!AO105","v":"L 2-3"},{"$f":"MATCH(K$4,Millwall!$AP105:$BA105,0)","v":11},{"$f":"MATCH(L$4,Millwall!$AP105:$BA105,0)","v":8},{"$f":"MATCH(M$4,Millwall!$AP105:$BA105,0)","v":9},{"$f":"MATCH(N$4,Millwall!$AP105:$BA105,0)","v":2},{"$f":"MATCH(O$4,Millwall!$AP105:$BA105,0)","v":7},{"$f":"MATCH(P$4,Millwall!$AP105:$BA105,0)","v":{"$error":"#N/A"}},{"$f":"MATCH(Q$4,Millwall!$AP105:$BA105,0)","v":{"$error":"#N/A"}},{"$f":"MATCH(R$4,Millwall!$AP105:$BA105,0)","v":3},{"$f":"MATCH(S$4,Millwall!$AP105:$BA105,0)","v":4},{"$f":"MATCH(T$4,Millwall!$AP105:$BA105,0)","v":10},{"$f":"MATCH(U$4,Millwall!$AP105:$BA105,0)","v":6},{"$f":"MATCH(V$4,Millwall!$AP105:$BA105,0)","v":{"$error":"#N/A"}},{"$f":"MATCH(W$4,Millwall!$AP105:$BA105,0)","v":{"$error":"#N/A"}},{"$f":"MATCH(X$4,Millwall!$AP105:$BA105,0)","v":1},{"$f":"MATCH(Y$4,Millwall!$AP105:$BA105,0)","v":5},{"$f":"MATCH(Z$4,Millwall!$AP105:$BA105,0)","v":12},{"$f":"MATCH(AA$4,Millwall!$AP105:$BA105,0)","v":{"$error":"#N/A"}},{"$f":"MATCH(AB$4,Millwall!$AP105:$BA105,0)","v":{"$error":"#N/A"}},{"$f":"MATCH(AC$4,Millwall!$AP105:$BA105,0)","v":{"$error":"#N/A"}},{"$f":"MATCH(AD$4,Millwall!$AP105:$BA105,0)","v":{"$error":"#N/A"}},{"$f":"MATCH(AE$4,Millwall!$AP105:$BA105,0)","v":{"$error":"#N/A"}},{"$f":"MATCH(AF$4,Millwall!$AP105:$BA105,0)","v":{"$error":"#N/A"}},{"$f":"MATCH(AG$4,Millwall!$AP105:$BA105,0)","v":{"$error":"#N/A"}},{"$f":"MATCH(AH$3,Millwall!$AP105:$BA105,0)","v":{"$error":"#N/A"}},{"$f":"MATCH(AI$3,Millwall!$AP105:$BA105,0)","v":{"$error":"#N/A"}},{"$f":"MATCH(AJ$3,Millwall!$AP105:$BA105,0)","v":{"$error":"#N/A"}},{"$f":"MATCH(AK$3,Millwall!$AP105:$BA105,0)","v":{"$error":"#N/A"}},{"$f":"MATCH(AL$3,Millwall!$AP105:$BA105,0)","v":{"$error":"#N/A"}},{"$f":"MATCH(AM$3,Millwall!$AP105:$BA105,0)","v":{"$error":"#N/A"}},{"$f":"MATCH(AN$3,Millwall!$AP105:$BA105,0)","v":{"$error":"#N/A"}},{"$f":"MATCH(AO$3,Millwall!$AP105:$BA105,0)","v":{"$error":"#N/A"}},{"$f":"MATCH(AP$3,Millwall!$AP105:$BA105,0)","v":{"$error":"#N/A"}},{"$f":"MATCH(AQ$3,Millwall!$AP105:$BA105,0)","v":{"$error":"#N/A"}},{"$f":"MATCH(AR$3,Millwall!$AP105:$BA105,0)","v":{"$error":"#N/A"}},null,null,null,null,null,{"$f":"MATCH(AX$3,Millwall!$AP105:$BA105,0)","v":{"$error":"#N/A"}},{"$f":"MATCH(AY$3,Millwall!$AP105:$BA105,0)","v":{"$error":"#N/A"}},{"$f":"MATCH(AZ$3,Millwall!$AP105:$BA105,0)","v":{"$error":"#N/A"}},{"$f":"MATCH(BA$3,Millwall!$AP105:$BA105,0)","v":{"$error":"#N/A"}},{"$f":"MATCH(BB$3,Millwall!$AP105:$BA105,0)","v":7},{"$f":"MATCH(BC$3,Millwall!$AP105:$BA105,0)","v":{"$error":"#N/A"}},{"$f":"MATCH(BD$3,Millwall!$AP105:$BA105,0)","v":{"$error":"#N/A"}},{"$f":"MATCH(BE$3,Millwall!$AP105:$BA105,0)","v":{"$error":"#N/A"}},{"$f":"MATCH(BF$3,Millwall!$AP105:$BA105,0)","v":{"$error":"#N/A"}},{"$f":"MATCH(BG$3,Millwall!$AP105:$BA105,0)","v":{"$error":"#N/A"}},{"$f":"MATCH(BH$3,Millwall!$AP105:$BA105,0)","v":{"$error":"#N/A"}},{"$f":"MATCH(BI$3,Millwall!$AP105:$BA105,0)","v":{"$error":"#N/A"}},{"$f":"MATCH(BJ$3,Millwall!$AP105:$BA105,0)","v":{"$error":"#N/A"}},{"$f":"MATCH(BK$3,Millwall!$AP105:$BA105,0)","v":{"$error":"#N/A"}},{"$f":"MATCH(BL$3,Millwall!$AP105:$BA105,0)","v":{"$error":"#N/A"}},{"$f":"MATCH(BM$3,Millwall!$AP105:$BA105,0)","v":12},{"$f":"MATCH(BN$3,Millwall!$AP105:$BA105,0)","v":{"$error":"#N/A"}},{"$f":"MATCH(BO$3,Millwall!$AP105:$BA105,0)","v":{"$error":"#N/A"}},{"$f":"MATCH(BP$3,Millwall!$AP105:$BA105,0)","v":{"$error":"#N/A"}},{"$f":"MATCH(BQ$3,Millwall!$AP105:$BA105,0)","v":{"$error":"#N/A"}},{"$f":"MATCH(BR$3,Millwall!$AP105:$BA105,0)","v":{"$error":"#N/A"}},{"$f":"MATCH(BS$3,Millwall!$AP105:$BA105,0)","v":{"$error":"#N/A"}},{"$f":"MATCH(BT$3,Millwall!$AP105:$BA105,0)","v":{"$error":"#N/A"}},{"$f":"MATCH(BU$3,Millwall!$AP105:$BA105,0)","v":{"$error":"#N/A"}},{"$f":"MATCH(BV$3,Millwall!$AP105:$BA105,0)","v":{"$error":"#N/A"}},{"$f":"MATCH(BW$3,Millwall!$AP105:$BA105,0)","v":{"$error":"#N/A"}},{"$f":"MATCH(BX$3,Millwall!$AP105:$BA105,0)","v":{"$error":"#N/A"}},{"$f":"MATCH(BY$3,Millwall!$AP105:$BA105,0)","v":{"$error":"#N/A"}},{"$f":"MATCH(BZ$3,Millwall!$AP105:$BA105,0)","v":{"$error":"#N/A"}},{"$f":"MATCH(CA$3,Millwall!$AP105:$BA105,0)","v":{"$error":"#N/A"}},{"$f":"MATCH(CB$3,Millwall!$AP105:$BA105,0)","v":{"$error":"#N/A"}},{"$f":"MATCH(CC$3,Millwall!$AP105:$BA105,0)","v":{"$error":"#N/A"}},{"$f":"MATCH(CD$3,Millwall!$AP105:$BA105,0)","v":{"$error":"#N/A"}},{"$f":"MATCH(CE$3,Millwall!$AP105:$BA105,0)","v":{"$error":"#N/A"}},null,null,null,null,null,null,null,{"$f":"Millwall!$BO99","v":0},{"$f":"Millwall!$BN99&\" (**\"","v":" (**"},{"$f":"Millwall!$BN99&\"**\"","v":"**"}]
[null,null,0,29,null,{"$f":"Millwall!AI106","v":"1971-02-27"},null,{"$f":"Millwall!AK106","v":"QPR"},{"$f":"Millwall!AL106","v":"(A)"},{"$f":"Millwall!AO106","v":"L 0-2"},{"$f":"MATCH(K$4,Millwall!$AP106:$BA106,0)","v":11},{"$f":"MATCH(L$4,Millwall!$AP106:$BA106,0)","v":6},{"$f":"MATCH(M$4,Millwall!$AP106:$BA106,0)","v":9},{"$f":"MATCH(N$4,Millwall!$AP106:$BA106,0)","v":2},{"$f":"MATCH(O$4,Millwall!$AP106:$BA106,0)","v":{"$error":"#N/A"}},{"$f":"MATCH(P$4,Millwall!$AP106:$BA106,0)","v":{"$error":"#N/A"}},{"$f":"MATCH(Q$4,Millwall!$AP106:$BA106,0)","v":{"$error":"#N/A"}},{"$f":"MATCH(R$4,Millwall!$AP106:$BA106,0)","v":3},{"$f":"MATCH(S$4,Millwall!$AP106:$BA106,0)","v":4},{"$f":"MATCH(T$4,Millwall!$AP106:$BA106,0)","v":{"$error":"#N/A"}},{"$f":"MATCH(U$4,Millwall!$AP106:$BA106,0)","v":{"$error":"#N/A"}},{"$f":"MATCH(V$4,Millwall!$AP106:$BA106,0)","v":{"$error":"#N/A"}},{"$f":"MATCH(W$4,Millwall!$AP106:$BA106,0)","v":8},{"$f":"MATCH(X$4,Millwall!$AP106:$BA106,0)","v":1},{"$f":"MATCH(Y$4,Millwall!$AP106:$BA106,0)","v":5},{"$f":"MATCH(Z$4,Millwall!$AP106:$BA106,0)","v":10},{"$f":"MATCH(AA$4,Millwall!$AP106:$BA106,0)","v":7},{"$f":"MATCH(AB$4,Millwall!$AP106:$BA106,0)","v":{"$error":"#N/A"}},{"$f":"MATCH(AC$4,Millwall!$AP106:$BA106,0)","v":{"$error":"#N/A"}},{"$f":"MATCH(AD$4,Millwall!$AP106:$BA106,0)","v":{"$error":"#N/A"}},{"$f":"MATCH(AE$4,Millwall!$AP106:$BA106,0)","v":{"$error":"#N/A"}},{"$f":"MATCH(AF$4,Millwall!$AP106:$BA106,0)","v":{"$error":"#N/A"}},{"$f":"MATCH(AG$4,Millwall!$AP106:$BA106,0)","v":{"$error":"#N/A"}},{"$f":"MATCH(AH$3,Millwall!$AP106:$BA106,0)","v":{"$error":"#N/A"}},{"$f":"MATCH(AI$3,Millwall!$AP106:$BA106,0)","v":{"$error":"#N/A"}},{"$f":"MATCH(AJ$3,Millwall!$AP106:$BA106,0)","v":{"$error":"#N/A"}},{"$f":"MATCH(AK$3,Millwall!$AP106:$BA106,0)","v":{"$error":"#N/A"}},{"$f":"MATCH(AL$3,Millwall!$AP106:$BA106,0)","v":{"$error":"#N/A"}},{"$f":"MATCH(AM$3,Millwall!$AP106:$BA106,0)","v":{"$error":"#N/A"}},{"$f":"MATCH(AN$3,Millwall!$AP106:$BA106,0)","v":{"$error":"#N/A"}},{"$f":"MATCH(AO$3,Millwall!$AP106:$BA106,0)","v":{"$error":"#N/A"}},{"$f":"MATCH(AP$3,Millwall!$AP106:$BA106,0)","v":{"$error":"#N/A"}},{"$f":"MATCH(AQ$3,Millwall!$AP106:$BA106,0)","v":{"$error":"#N/A"}},{"$f":"MATCH(AR$3,Millwall!$AP106:$BA106,0)","v":{"$error":"#N/A"}},null,null,null,null,null,{"$f":"MATCH(AX$3,Millwall!$AP106:$BA106,0)","v":{"$error":"#N/A"}},{"$f":"MATCH(AY$3,Millwall!$AP106:$BA106,0)","v":{"$error":"#N/A"}},{"$f":"MATCH(AZ$3,Millwall!$AP106:$BA106,0)","v":{"$error":"#N/A"}},{"$f":"MATCH(BA$3,Millwall!$AP106:$BA106,0)","v":{"$error":"#N/A"}},{"$f":"MATCH(BB$3,Millwall!$AP106:$BA106,0)","v":{"$error":"#N/A"}},{"$f":"MATCH(BC$3,Millwall!$AP106:$BA106,0)","v":{"$error":"#N/A"}},{"$f":"MATCH(BD$3,Millwall!$AP106:$BA106,0)","v":{"$error":"#N/A"}},{"$f":"MATCH(BE$3,Millwall!$AP106:$BA106,0)","v":{"$error":"#N/A"}},{"$f":"MATCH(BF$3,Millwall!$AP106:$BA106,0)","v":{"$error":"#N/A"}},{"$f":"MATCH(BG$3,Millwall!$AP106:$BA106,0)","v":{"$error":"#N/A"}},{"$f":"MATCH(BH$3,Millwall!$AP106:$BA106,0)","v":{"$error":"#N/A"}},{"$f":"MATCH(BI$3,Millwall!$AP106:$BA106,0)","v":{"$error":"#N/A"}},{"$f":"MATCH(BJ$3,Millwall!$AP106:$BA106,0)","v":{"$error":"#N/A"}},{"$f":"MATCH(BK$3,Millwall!$AP106:$BA106,0)","v":{"$error":"#N/A"}},{"$f":"MATCH(BL$3,Millwall!$AP106:$BA106,0)","v":{"$error":"#N/A"}},{"$f":"MATCH(BM$3,Millwall!$AP106:$BA106,0)","v":{"$error":"#N/A"}},{"$f":"MATCH(BN$3,Millwall!$AP106:$BA106,0)","v":{"$error":"#N/A"}},{"$f":"MATCH(BO$3,Millwall!$AP106:$BA106,0)","v":{"$error":"#N/A"}},{"$f":"MATCH(BP$3,Millwall!$AP106:$BA106,0)","v":{"$error":"#N/A"}},{"$f":"MATCH(BQ$3,Millwall!$AP106:$BA106,0)","v":{"$error":"#N/A"}},{"$f":"MATCH(BR$3,Millwall!$AP106:$BA106,0)","v":{"$error":"#N/A"}},{"$f":"MATCH(BS$3,Millwall!$AP106:$BA106,0)","v":{"$error":"#N/A"}},{"$f":"MATCH(BT$3,Millwall!$AP106:$BA106,0)","v":{"$error":"#N/A"}},{"$f":"MATCH(BU$3,Millwall!$AP106:$BA106,0)","v":{"$error":"#N/A"}},{"$f":"MATCH(BV$3,Millwall!$AP106:$BA106,0)","v":{"$error":"#N/A"}},{"$f":"MATCH(BW$3,Millwall!$AP106:$BA106,0)","v":{"$error":"#N/A"}},{"$f":"MATCH(BX$3,Millwall!$AP106:$BA106,0)","v":{"$error":"#N/A"}},{"$f":"MATCH(BY$3,Millwall!$AP106:$BA106,0)","v":{"$error":"#N/A"}},{"$f":"MATCH(BZ$3,Millwall!$AP106:$BA106,0)","v":{"$error":"#N/A"}},{"$f":"MATCH(CA$3,Millwall!$AP106:$BA106,0)","v":{"$error":"#N/A"}},{"$f":"MATCH(CB$3,Millwall!$AP106:$BA106,0)","v":{"$error":"#N/A"}},{"$f":"MATCH(CC$3,Millwall!$AP106:$BA106,0)","v":{"$error":"#N/A"}},{"$f":"MATCH(CD$3,Millwall!$AP106:$BA106,0)","v":{"$error":"#N/A"}},{"$f":"MATCH(CE$3,Millwall!$AP106:$BA106,0)","v":{"$error":"#N/A"}},null,null,null,null,null,null,null,{"$f":"Millwall!$BO100","v":0},{"$f":"Millwall!$BN100&\" (**\"","v":" (**"},{"$f":"Millwall!$BN100&\"**\"","v":"**"}]
[null,null,0,30,null,{"$f":"Millwall!AI107","v":"1971-03-01"},null,{"$f":"Millwall!AK107","v":"Leicester"},{"$f":"Millwall!AL107","v":"(H)"},{"$f":"Millwall!AO107","v":"D 0-0"},{"$f":"MATCH(K$4,Millwall!$AP107:$BA107,0)","v":11},{"$f":"MATCH(L$4,Millwall!$AP107:$BA107,0)","v":10},{"$f":"MATCH(M$4,Millwall!$AP107:$BA107,0)","v":9},{"$f":"MATCH(N$4,Millwall!$AP107:$BA107,0)","v":2},{"$f":"MATCH(O$4,Millwall!$AP107:$BA107,0)","v":{"$error":"#N/A"}},{"$f":"MATCH(P$4,Millwall!$AP107:$BA107,0)","v":6},{"$f":"MATCH(Q$4,Millwall!$AP107:$BA107,0)","v":{"$error":"#N/A"}},{"$f":"MATCH(R$4,Millwall!$AP107:$BA107,0)","v":3},{"$f":"MATCH(S$4,Millwall!$AP107:$BA107,0)","v":4},{"$f":"MATCH(T$4,Millwall!$AP107:$BA107,0)","v":{"$error":"#N/A"}},{"$f":"MATCH(U$4,Millwall!$AP107:$BA107,0)","v":{"$error":"#N/A"}},{"$f":"MATCH(V$4,Millwall!$AP107:$BA107,0)","v":{"$error":"#N/A"}},{"$f":"MATCH(W$4,Millwall!$AP107:$BA107,0)","v":8},{"$f":"MATCH(X$4,Millwall!$AP107:$BA107,0)","v":1},{"$f":"MATCH(Y$4,Millwall!$AP107:$BA107,0)","v":5},{"$f":"MATCH(Z$4,Millwall!$AP107:$BA107,0)","v":{"$error":"#N/A"}},{"$f":"MATCH(AA$4,Millwall!$AP107:$BA107,0)","v":7},{"$f":"MATCH(AB$4,Millwall!$AP107:$BA107,0)","v":{"$error":"#N/A"}},{"$f":"MATCH(AC$4,Millwall!$AP107:$BA107,0)","v":{"$error":"#N/A"}},{"$f":"MATCH(AD$4,Millwall!$AP107:$BA107,0)","v":{"$error":"#N/A"}},{"$f":"MATCH(AE$4,Millwall!$AP107:$BA107,0)","v":{"$error":"#N/A"}},{"$f":"MATCH(AF$4,Millwall!$AP107:$BA107,0)","v":{"$error":"#N/A"}},{"$f":"MATCH(AG$4,Millwall!$AP107:$BA107,0)","v":{"$error":"#N/A"}},{"$f":"MATCH(AH$3,Millwall!$AP107:$BA107,0)","v":{"$error":"#N/A"}},{"$f":"MATCH(AI$3,Millwall!$AP107:$BA107,0)","v":{"$error":"#N/A"}},{"$f":"MATCH(AJ$3,Millwall!$AP107:$BA107,0)","v":{"$error":"#N/A"}},{"$f":"MATCH(AK$3,Millwall!$AP107:$BA107,0)","v":{"$error":"#N/A"}},{"$f":"MATCH(AL$3,Millwall!$AP107:$BA107,0)","v":{"$error":"#N/A"}},{"$f":"MATCH(AM$3,Millwall!$AP107:$BA107,0)","v":{"$error":"#N/A"}},{"$f":"MATCH(AN$3,Millwall!$AP107:$BA107,0)","v":{"$error":"#N/A"}},{"$f":"MATCH(AO$3,Millwall!$AP107:$BA107,0)","v":{"$error":"#N/A"}},{"$f":"MATCH(AP$3,Millwall!$AP107:$BA107,0)","v":{"$error":"#N/A"}},{"$f":"MATCH(AQ$3,Millwall!$AP107:$BA107,0)","v":{"$error":"#N/A"}},{"$f":"MATCH(AR$3,Millwall!$AP107:$BA107,0)","v":{"$error":"#N/A"}},null,null,null,null,null,{"$f":"MATCH(AX$3,Millwall!$AP107:$BA107,0)","v":{"$error":"#N/A"}},{"$f":"MATCH(AY$3,Millwall!$AP107:$BA107,0)","v":{"$error":"#N/A"}},{"$f":"MATCH(AZ$3,Millwall!$AP107:$BA107,0)","v":{"$error":"#N/A"}},{"$f":"MATCH(BA$3,Millwall!$AP107:$BA107,0)","v":{"$error":"#N/A"}},{"$f":"MATCH(BB$3,Millwall!$AP107:$BA107,0)","v":{"$error":"#N/A"}},{"$f":"MATCH(BC$3,Millwall!$AP107:$BA107,0)","v":{"$error":"#N/A"}},{"$f":"MATCH(BD$3,Millwall!$AP107:$BA107,0)","v":{"$error":"#N/A"}},{"$f":"MATCH(BE$3,Millwall!$AP107:$BA107,0)","v":{"$error":"#N/A"}},{"$f":"MATCH(BF$3,Millwall!$AP107:$BA107,0)","v":{"$error":"#N/A"}},{"$f":"MATCH(BG$3,Millwall!$AP107:$BA107,0)","v":{"$error":"#N/A"}},{"$f":"MATCH(BH$3,Millwall!$AP107:$BA107,0)","v":{"$error":"#N/A"}},{"$f":"MATCH(BI$3,Millwall!$AP107:$BA107,0)","v":{"$error":"#N/A"}},{"$f":"MATCH(BJ$3,Millwall!$AP107:$BA107,0)","v":{"$error":"#N/A"}},{"$f":"MATCH(BK$3,Millwall!$AP107:$BA107,0)","v":{"$error":"#N/A"}},{"$f":"MATCH(BL$3,Millwall!$AP107:$BA107,0)","v":{"$error":"#N/A"}},{"$f":"MATCH(BM$3,Millwall!$AP107:$BA107,0)","v":{"$error":"#N/A"}},{"$f":"MATCH(BN$3,Millwall!$AP107:$BA107,0)","v":{"$error":"#N/A"}},{"$f":"MATCH(BO$3,Millwall!$AP107:$BA107,0)","v":{"$error":"#N/A"}},{"$f":"MATCH(BP$3,Millwall!$AP107:$BA107,0)","v":{"$error":"#N/A"}},{"$f":"MATCH(BQ$3,Millwall!$AP107:$BA107,0)","v":{"$error":"#N/A"}},{"$f":"MATCH(BR$3,Millwall!$AP107:$BA107,0)","v":{"$error":"#N/A"}},{"$f":"MATCH(BS$3,Millwall!$AP107:$BA107,0)","v":{"$error":"#N/A"}},{"$f":"MATCH(BT$3,Millwall!$AP107:$BA107,0)","v":{"$error":"#N/A"}},{"$f":"MATCH(BU$3,Millwall!$AP107:$BA107,0)","v":{"$error":"#N/A"}},{"$f":"MATCH(BV$3,Millwall!$AP107:$BA107,0)","v":{"$error":"#N/A"}},{"$f":"MATCH(BW$3,Millwall!$AP107:$BA107,0)","v":{"$error":"#N/A"}},{"$f":"MATCH(BX$3,Millwall!$AP107:$BA107,0)","v":{"$error":"#N/A"}},{"$f":"MATCH(BY$3,Millwall!$AP107:$BA107,0)","v":{"$error":"#N/A"}},{"$f":"MATCH(BZ$3,Millwall!$AP107:$BA107,0)","v":{"$error":"#N/A"}},{"$f":"MATCH(CA$3,Millwall!$AP107:$BA107,0)","v":{"$error":"#N/A"}},{"$f":"MATCH(CB$3,Millwall!$AP107:$BA107,0)","v":{"$error":"#N/A"}},{"$f":"MATCH(CC$3,Millwall!$AP107:$BA107,0)","v":{"$error":"#N/A"}},{"$f":"MATCH(CD$3,Millwall!$AP107:$BA107,0)","v":{"$error":"#N/A"}},{"$f":"MATCH(CE$3,Millwall!$AP107:$BA107,0)","v":{"$error":"#N/A"}},null,null,null,null,null,null,null,{"$f":"Millwall!$BO101","v":0},{"$f":"Millwall!$BN101&\" (**\"","v":" (**"},{"$f":"Millwall!$BN101&\"**\"","v":"**"}]
[null,null,0,31,null,{"$f":"Millwall!AI108","v":"1971-03-06"},null,{"$f":"Millwall!AK108","v":"Leyton Orient"},{"$f":"Millwall!AL108","v":"(H)"},{"$f":"Millwall!AO108","v":"L 0-1"},{"$f":"MATCH(K$4,Millwall!$AP108:$BA108,0)","v":11},{"$f":"MATCH(L$4,Millwall!$AP108:$BA108,0)","v":10},{"$f":"MATCH(M$4,Millwall!$AP108:$BA108,0)","v":9},{"$f":"MATCH(N$4,Millwall!$AP108:$BA108,0)","v":2},{"$f":"MATCH(O$4,Millwall!$AP108:$BA108,0)","v":{"$error":"#N/A"}},{"$f":"MATCH(P$4,Millwall!$AP108:$BA108,0)","v":6},{"$f":"MATCH(Q$4,Millwall!$AP108:$BA108,0)","v":{"$error":"#N/A"}},{"$f":"MATCH(R$4,Millwall!$AP108:$BA108,0)","v":3},{"$f":"MATCH(S$4,Millwall!$AP108:$BA108,0)","v":4},{"$f":"MATCH(T$4,Millwall!$AP108:$BA108,0)","v":12},{"$f":"MATCH(U$4,Millwall!$AP108:$BA108,0)","v":{"$error":"#N/A"}},{"$f":"MATCH(V$4,Millwall!$AP108:$BA108,0)","v":{"$error":"#N/A"}},{"$f":"MATCH(W$4,Millwall!$AP108:$BA108,0)","v":{"$error":"#N/A"}},{"$f":"MATCH(X$4,Millwall!$AP108:$BA108,0)","v":1},{"$f":"MATCH(Y$4,Millwall!$AP108:$BA108,0)","v":5},{"$f":"MATCH(Z$4,Millwall!$AP108:$BA108,0)","v":8},{"$f":"MATCH(AA$4,Millwall!$AP108:$BA108,0)","v":7},{"$f":"MATCH(AB$4,Millwall!$AP108:$BA108,0)","v":{"$error":"#N/A"}},{"$f":"MATCH(AC$4,Millwall!$AP108:$BA108,0)","v":{"$error":"#N/A"}},{"$f":"MATCH(AD$4,Millwall!$AP108:$BA108,0)","v":{"$error":"#N/A"}},{"$f":"MATCH(AE$4,Millwall!$AP108:$BA108,0)","v":{"$error":"#N/A"}},{"$f":"MATCH(AF$4,Millwall!$AP108:$BA108,0)","v":{"$error":"#N/A"}},{"$f":"MATCH(AG$4,Millwall!$AP108:$BA108,0)","v":{"$error":"#N/A"}},{"$f":"MATCH(AH$3,Millwall!$AP108:$BA108,0)","v":{"$error":"#N/A"}},{"$f":"MATCH(AI$3,Millwall!$AP108:$BA108,0)","v":{"$error":"#N/A"}},{"$f":"MATCH(AJ$3,Millwall!$AP108:$BA108,0)","v":{"$error":"#N/A"}},{"$f":"MATCH(AK$3,Millwall!$AP108:$BA108,0)","v":{"$error":"#N/A"}},{"$f":"MATCH(AL$3,Millwall!$AP108:$BA108,0)","v":{"$error":"#N/A"}},{"$f":"MATCH(AM$3,Millwall!$AP108:$BA108,0)","v":{"$error":"#N/A"}},{"$f":"MATCH(AN$3,Millwall!$AP108:$BA108,0)","v":{"$error":"#N/A"}},{"$f":"MATCH(AO$3,Millwall!$AP108:$BA108,0)","v":{"$error":"#N/A"}},{"$f":"MATCH(AP$3,Millwall!$AP108:$BA108,0)","v":{"$error":"#N/A"}},{"$f":"MATCH(AQ$3,Millwall!$AP108:$BA108,0)","v":{"$error":"#N/A"}},{"$f":"MATCH(AR$3,Millwall!$AP108:$BA108,0)","v":{"$error":"#N/A"}},null,null,null,null,null,{"$f":"MATCH(AX$3,Millwall!$AP108:$BA108,0)","v":{"$error":"#N/A"}},{"$f":"MATCH(AY$3,Millwall!$AP108:$BA108,0)","v":{"$error":"#N/A"}},{"$f":"MATCH(AZ$3,Millwall!$AP108:$BA108,0)","v":{"$error":"#N/A"}},{"$f":"MATCH(BA$3,Millwall!$AP108:$BA108,0)","v":{"$error":"#N/A"}},{"$f":"MATCH(BB$3,Millwall!$AP108:$BA108,0)","v":{"$error":"#N/A"}},{"$f":"MATCH(BC$3,Millwall!$AP108:$BA108,0)","v":{"$error":"#N/A"}},{"$f":"MATCH(BD$3,Millwall!$AP108:$BA108,0)","v":{"$error":"#N/A"}},{"$f":"MATCH(BE$3,Millwall!$AP108:$BA108,0)","v":{"$error":"#N/A"}},{"$f":"MATCH(BF$3,Millwall!$AP108:$BA108,0)","v":{"$error":"#N/A"}},{"$f":"MATCH(BG$3,Millwall!$AP108:$BA108,0)","v":12},{"$f":"MATCH(BH$3,Millwall!$AP108:$BA108,0)","v":{"$error":"#N/A"}},{"$f":"MATCH(BI$3,Millwall!$AP108:$BA108,0)","v":{"$error":"#N/A"}},{"$f":"MATCH(BJ$3,Millwall!$AP108:$BA108,0)","v":{"$error":"#N/A"}},{"$f":"MATCH(BK$3,Millwall!$AP108:$BA108,0)","v":{"$error":"#N/A"}},{"$f":"MATCH(BL$3,Millwall!$AP108:$BA108,0)","v":{"$error":"#N/A"}},{"$f":"MATCH(BM$3,Millwall!$AP108:$BA108,0)","v":8},{"$f":"MATCH(BN$3,Millwall!$AP108:$BA108,0)","v":{"$error":"#N/A"}},{"$f":"MATCH(BO$3,Millwall!$AP108:$BA108,0)","v":{"$error":"#N/A"}},{"$f":"MATCH(BP$3,Millwall!$AP108:$BA108,0)","v":{"$error":"#N/A"}},{"$f":"MATCH(BQ$3,Millwall!$AP108:$BA108,0)","v":{"$error":"#N/A"}},{"$f":"MATCH(BR$3,Millwall!$AP108:$BA108,0)","v":{"$error":"#N/A"}},{"$f":"MATCH(BS$3,Millwall!$AP108:$BA108,0)","v":{"$error":"#N/A"}},{"$f":"MATCH(BT$3,Millwall!$AP108:$BA108,0)","v":{"$error":"#N/A"}},{"$f":"MATCH(BU$3,Millwall!$AP108:$BA108,0)","v":{"$error":"#N/A"}},{"$f":"MATCH(BV$3,Millwall!$AP108:$BA108,0)","v":{"$error":"#N/A"}},{"$f":"MATCH(BW$3,Millwall!$AP108:$BA108,0)","v":{"$error":"#N/A"}},{"$f":"MATCH(BX$3,Millwall!$AP108:$BA108,0)","v":{"$error":"#N/A"}},{"$f":"MATCH(BY$3,Millwall!$AP108:$BA108,0)","v":{"$error":"#N/A"}},{"$f":"MATCH(BZ$3,Millwall!$AP108:$BA108,0)","v":{"$error":"#N/A"}},{"$f":"MATCH(CA$3,Millwall!$AP108:$BA108,0)","v":{"$error":"#N/A"}},{"$f":"MATCH(CB$3,Millwall!$AP108:$BA108,0)","v":{"$error":"#N/A"}},{"$f":"MATCH(CC$3,Millwall!$AP108:$BA108,0)","v":{"$error":"#N/A"}},{"$f":"MATCH(CD$3,Millwall!$AP108:$BA108,0)","v":{"$error":"#N/A"}},{"$f":"MATCH(CE$3,Millwall!$AP108:$BA108,0)","v":{"$error":"#N/A"}},null,null,null,null,null,null,null,{"$f":"Millwall!$BO102","v":0},{"$f":"Millwall!$BN102&\" (**\"","v":" (**"},{"$f":"Millwall!$BN102&\"**\"","v":"**"}]
[null,null,0,32,null,{"$f":"Millwall!AI109","v":"1971-03-13"},null,{"$f":"Millwall!AK109","v":"Bolton"},{"$f":"Millwall!AL109","v":"(A)"},{"$f":"Millwall!AO109","v":"D 1-1"},{"$f":"MATCH(K$4,Millwall!$AP109:$BA109,0)","v":11},{"$f":"MATCH(L$4,Millwall!$AP109:$BA109,0)","v":8},{"$f":"MATCH(M$4,Millwall!$AP109:$BA109,0)","v":9},{"$f":"MATCH(N$4,Millwall!$AP109:$BA109,0)","v":2},{"$f":"MATCH(O$4,Millwall!$AP109:$BA109,0)","v":{"$error":"#N/A"}},{"$f":"MATCH(P$4,Millwall!$AP109:$BA109,0)","v":6},{"$f":"MATCH(Q$4,Millwall!$AP109:$BA109,0)","v":{"$error":"#N/A"}},{"$f":"MATCH(R$4,Millwall!$AP109:$BA109,0)","v":3},{"$f":"MATCH(S$4,Millwall!$AP109:$BA109,0)","v":4},{"$f":"MATCH(T$4,Millwall!$AP109:$BA109,0)","v":10},{"$f":"MATCH(U$4,Millwall!$AP109:$BA109,0)","v":{"$error":"#N/A"}},{"$f":"MATCH(V$4,Millwall!$AP109:$BA109,0)","v":{"$error":"#N/A"}},{"$f":"MATCH(W$4,Millwall!$AP109:$BA109,0)","v":{"$error":"#N/A"}},{"$f":"MATCH(X$4,Millwall!$AP109:$BA109,0)","v":1},{"$f":"MATCH(Y$4,Millwall!$AP109:$BA109,0)","v":5},{"$f":"MATCH(Z$4,Millwall!$AP109:$BA109,0)","v":{"$error":"#N/A"}},{"$f":"MATCH(AA$4,Millwall!$AP109:$BA109,0)","v":7},{"$f":"MATCH(AB$4,Millwall!$AP109:$BA109,0)","v":{"$error":"#N/A"}},{"$f":"MATCH(AC$4,Millwall!$AP109:$BA109,0)","v":{"$error":"#N/A"}},{"$f":"MATCH(AD$4,Millwall!$AP109:$BA109,0)","v":{"$error":"#N/A"}},{"$f":"MATCH(AE$4,Millwall!$AP109:$BA109,0)","v":{"$error":"#N/A"}},{"$f":"MATCH(AF$4,Millwall!$AP109:$BA109,0)","v":{"$error":"#N/A"}},{"$f":"MATCH(AG$4,Millwall!$AP109:$BA109,0)","v":{"$error":"#N/A"}},{"$f":"MATCH(AH$3,Millwall!$AP109:$BA109,0)","v":{"$error":"#N/A"}},{"$f":"MATCH(AI$3,Millwall!$AP109:$BA109,0)","v":{"$error":"#N/A"}},{"$f":"MATCH(AJ$3,Millwall!$AP109:$BA109,0)","v":{"$error":"#N/A"}},{"$f":"MATCH(AK$3,Millwall!$AP109:$BA109,0)","v":{"$error":"#N/A"}},{"$f":"MATCH(AL$3,Millwall!$AP109:$BA109,0)","v":{"$error":"#N/A"}},{"$f":"MATCH(AM$3,Millwall!$AP109:$BA109,0)","v":{"$error":"#N/A"}},{"$f":"MATCH(AN$3,Millwall!$AP109:$BA109,0)","v":{"$error":"#N/A"}},{"$f":"MATCH(AO$3,Millwall!$AP109:$BA109,0)","v":{"$error":"#N/A"}},{"$f":"MATCH(AP$3,Millwall!$AP109:$BA109,0)","v":{"$error":"#N/A"}},{"$f":"MATCH(AQ$3,Millwall!$AP109:$BA109,0)","v":{"$error":"#N/A"}},{"$f":"MATCH(AR$3,Millwall!$AP109:$BA109,0)","v":{"$error":"#N/A"}},null,null,null,null,null,{"$f":"MATCH(AX$3,Millwall!$AP109:$BA109,0)","v":{"$error":"#N/A"}},{"$f":"MATCH(AY$3,Millwall!$AP109:$BA109,0)","v":{"$error":"#N/A"}},{"$f":"MATCH(AZ$3,Millwall!$AP109:$BA109,0)","v":{"$error":"#N/A"}},{"$f":"MATCH(BA$3,Millwall!$AP109:$BA109,0)","v":{"$error":"#N/A"}},{"$f":"MATCH(BB$3,Millwall!$AP109:$BA109,0)","v":{"$error":"#N/A"}},{"$f":"MATCH(BC$3,Millwall!$AP109:$BA109,0)","v":{"$error":"#N/A"}},{"$f":"MATCH(BD$3,Millwall!$AP109:$BA109,0)","v":{"$error":"#N/A"}},{"$f":"MATCH(BE$3,Millwall!$AP109:$BA109,0)","v":{"$error":"#N/A"}},{"$f":"MATCH(BF$3,Millwall!$AP109:$BA109,0)","v":{"$error":"#N/A"}},{"$f":"MATCH(BG$3,Millwall!$AP109:$BA109,0)","v":{"$error":"#N/A"}},{"$f":"MATCH(BH$3,Millwall!$AP109:$BA109,0)","v":{"$error":"#N/A"}},{"$f":"MATCH(BI$3,Millwall!$AP109:$BA109,0)","v":{"$error":"#N/A"}},{"$f":"MATCH(BJ$3,Millwall!$AP109:$BA109,0)","v":{"$error":"#N/A"}},{"$f":"MATCH(BK$3,Millwall!$AP109:$BA109,0)","v":{"$error":"#N/A"}},{"$f":"MATCH(BL$3,Millwall!$AP109:$BA109,0)","v":{"$error":"#N/A"}},{"$f":"MATCH(BM$3,Millwall!$AP109:$BA109,0)","v":{"$error":"#N/A"}},{"$f":"MATCH(BN$3,Millwall!$AP109:$BA109,0)","v":{"$error":"#N/A"}},{"$f":"MATCH(BO$3,Millwall!$AP109:$BA109,0)","v":{"$error":"#N/A"}},{"$f":"MATCH(BP$3,Millwall!$AP109:$BA109,0)","v":{"$error":"#N/A"}},{"$f":"MATCH(BQ$3,Millwall!$AP109:$BA109,0)","v":{"$error":"#N/A"}},{"$f":"MATCH(BR$3,Millwall!$AP109:$BA109,0)","v":{"$error":"#N/A"}},{"$f":"MATCH(BS$3,Millwall!$AP109:$BA109,0)","v":{"$error":"#N/A"}},{"$f":"MATCH(BT$3,Millwall!$AP109:$BA109,0)","v":{"$error":"#N/A"}},{"$f":"MATCH(BU$3,Millwall!$AP109:$BA109,0)","v":{"$error":"#N/A"}},{"$f":"MATCH(BV$3,Millwall!$AP109:$BA109,0)","v":{"$error":"#N/A"}},{"$f":"MATCH(BW$3,Millwall!$AP109:$BA109,0)","v":{"$error":"#N/A"}},{"$f":"MATCH(BX$3,Millwall!$AP109:$BA109,0)","v":{"$error":"#N/A"}},{"$f":"MATCH(BY$3,Millwall!$AP109:$BA109,0)","v":{"$error":"#N/A"}},{"$f":"MATCH(BZ$3,Millwall!$AP109:$BA109,0)","v":{"$error":"#N/A"}},{"$f":"MATCH(CA$3,Millwall!$AP109:$BA109,0)","v":{"$error":"#N/A"}},{"$f":"MATCH(CB$3,Millwall!$AP109:$BA109,0)","v":{"$error":"#N/A"}},{"$f":"MATCH(CC$3,Millwall!$AP109:$BA109,0)","v":{"$error":"#N/A"}},{"$f":"MATCH(CD$3,Millwall!$AP109:$BA109,0)","v":{"$error":"#N/A"}},{"$f":"MATCH(CE$3,Millwall!$AP109:$BA109,0)","v":{"$error":"#N/A"}},null,null,null,null,null,null,null,{"$f":"Millwall!$BO103","v":0},{"$f":"Millwall!$BN103&\" (**\"","v":" (**"},{"$f":"Millwall!$BN103&\"**\"","v":"**"}]
[null,null,0,33,null,{"$f":"Millwall!AI110","v":"1971-03-20"},null,{"$f":"Millwall!AK110","v":"Sheff Wed"},{"$f":"Millwall!AL110","v":"(H)"},{"$f":"Millwall!AO110","v":"W 1-0"},{"$f":"MATCH(K$4,Millwall!$AP110:$BA110,0)","v":11},{"$f":"MATCH(L$4,Millwall!$AP110:$BA110,0)","v":8},{"$f":"MATCH(M$4,Millwall!$AP110:$BA110,0)","v":9},{"$f":"MATCH(N$4,Millwall!$AP110:$BA110,0)","v":2},{"$f":"MATCH(O$4,Millwall!$AP110:$BA110,0)","v":{"$error":"#N/A"}},{"$f":"MATCH(P$4,Millwall!$AP110:$BA110,0)","v":6},{"$f":"MATCH(Q$4,Millwall!$AP110:$BA110,0)","v":{"$error":"#N/A"}},{"$f":"MATCH(R$4,Millwall!$AP110:$BA110,0)","v":3},{"$f":"MATCH(S$4,Millwall!$AP110:$BA110,0)","v":4},{"$f":"MATCH(T$4,Millwall!$AP110:$BA110,0)","v":10},{"$f":"MATCH(U$4,Millwall!$AP110:$BA110,0)","v":{"$error":"#N/A"}},{"$f":"MATCH(V$4,Millwall!$AP110:$BA110,0)","v":{"$error":"#N/A"}},{"$f":"MATCH(W$4,Millwall!$AP110:$BA110,0)","v":{"$error":"#N/A"}},{"$f":"MATCH(X$4,Millwall!$AP110:$BA110,0)","v":1},{"$f":"MATCH(Y$4,Millwall!$AP110:$BA110,0)","v":5},{"$f":"MATCH(Z$4,Millwall!$AP110:$BA110,0)","v":{"$error":"#N/A"}},{"$f":"MATCH(AA$4,Millwall!$AP110:$BA110,0)","v":7},{"$f":"MATCH(AB$4,Millwall!$AP110:$BA110,0)","v":{"$error":"#N/A"}},{"$f":"MATCH(AC$4,Millwall!$AP110:$BA110,0)","v":{"$error":"#N/A"}},{"$f":"MATCH(AD$4,Millwall!$AP110:$BA110,0)","v":{"$error":"#N/A"}},{"$f":"MATCH(AE$4,Millwall!$AP110:$BA110,0)","v":{"$error":"#N/A"}},{"$f":"MATCH(AF$4,Millwall!$AP110:$BA110,0)","v":{"$error":"#N/A"}},{"$f":"MATCH(AG$4,Millwall!$AP110:$BA110,0)","v":{"$error":"#N/A"}},{"$f":"MATCH(AH$3,Millwall!$AP110:$BA110,0)","v":{"$error":"#N/A"}},{"$f":"MATCH(AI$3,Millwall!$AP110:$BA110,0)","v":{"$error":"#N/A"}},{"$f":"MATCH(AJ$3,Millwall!$AP110:$BA110,0)","v":{"$error":"#N/A"}},{"$f":"MATCH(AK$3,Millwall!$AP110:$BA110,0)","v":{"$error":"#N/A"}},{"$f":"MATCH(AL$3,Millwall!$AP110:$BA110,0)","v":{"$error":"#N/A"}},{"$f":"MATCH(AM$3,Millwall!$AP110:$BA110,0)","v":{"$error":"#N/A"}},{"$f":"MATCH(AN$3,Millwall!$AP110:$BA110,0)","v":{"$error":"#N/A"}},{"$f":"MATCH(AO$3,Millwall!$AP110:$BA110,0)","v":{"$error":"#N/A"}},{"$f":"MATCH(AP$3,Millwall!$AP110:$BA110,0)","v":{"$error":"#N/A"}},{"$f":"MATCH(AQ$3,Millwall!$AP110:$BA110,0)","v":{"$error":"#N/A"}},{"$f":"MATCH(AR$3,Millwall!$AP110:$BA110,0)","v":{"$error":"#N/A"}},null,null,null,null,null,{"$f":"MATCH(AX$3,Millwall!$AP110:$BA110,0)","v":{"$error":"#N/A"}},{"$f":"MATCH(AY$3,Millwall!$AP110:$BA110,0)","v":{"$error":"#N/A"}},{"$f":"MATCH(AZ$3,Millwall!$AP110:$BA110,0)","v":{"$error":"#N/A"}},{"$f":"MATCH(BA$3,Millwall!$AP110:$BA110,0)","v":{"$error":"#N/A"}},{"$f":"MATCH(BB$3,Millwall!$AP110:$BA110,0)","v":{"$error":"#N/A"}},{"$f":"MATCH(BC$3,Millwall!$AP110:$BA110,0)","v":{"$error":"#N/A"}},{"$f":"MATCH(BD$3,Millwall!$AP110:$BA110,0)","v":{"$error":"#N/A"}},{"$f":"MATCH(BE$3,Millwall!$AP110:$BA110,0)","v":{"$error":"#N/A"}},{"$f":"MATCH(BF$3,Millwall!$AP110:$BA110,0)","v":{"$error":"#N/A"}},{"$f":"MATCH(BG$3,Millwall!$AP110:$BA110,0)","v":{"$error":"#N/A"}},{"$f":"MATCH(BH$3,Millwall!$AP110:$BA110,0)","v":{"$error":"#N/A"}},{"$f":"MATCH(BI$3,Millwall!$AP110:$BA110,0)","v":{"$error":"#N/A"}},{"$f":"MATCH(BJ$3,Millwall!$AP110:$BA110,0)","v":{"$error":"#N/A"}},{"$f":"MATCH(BK$3,Millwall!$AP110:$BA110,0)","v":{"$error":"#N/A"}},{"$f":"MATCH(BL$3,Millwall!$AP110:$BA110,0)","v":{"$error":"#N/A"}},{"$f":"MATCH(BM$3,Millwall!$AP110:$BA110,0)","v":{"$error":"#N/A"}},{"$f":"MATCH(BN$3,Millwall!$AP110:$BA110,0)","v":{"$error":"#N/A"}},{"$f":"MATCH(BO$3,Millwall!$AP110:$BA110,0)","v":{"$error":"#N/A"}},{"$f":"MATCH(BP$3,Millwall!$AP110:$BA110,0)","v":{"$error":"#N/A"}},{"$f":"MATCH(BQ$3,Millwall!$AP110:$BA110,0)","v":{"$error":"#N/A"}},{"$f":"MATCH(BR$3,Millwall!$AP110:$BA110,0)","v":{"$error":"#N/A"}},{"$f":"MATCH(BS$3,Millwall!$AP110:$BA110,0)","v":{"$error":"#N/A"}},{"$f":"MATCH(BT$3,Millwall!$AP110:$BA110,0)","v":{"$error":"#N/A"}},{"$f":"MATCH(BU$3,Millwall!$AP110:$BA110,0)","v":{"$error":"#N/A"}},{"$f":"MATCH(BV$3,Millwall!$AP110:$BA110,0)","v":{"$error":"#N/A"}},{"$f":"MATCH(BW$3,Millwall!$AP110:$BA110,0)","v":{"$error":"#N/A"}},{"$f":"MATCH(BX$3,Millwall!$AP110:$BA110,0)","v":{"$error":"#N/A"}},{"$f":"MATCH(BY$3,Millwall!$AP110:$BA110,0)","v":{"$error":"#N/A"}},{"$f":"MATCH(BZ$3,Millwall!$AP110:$BA110,0)","v":{"$error":"#N/A"}},{"$f":"MATCH(CA$3,Millwall!$AP110:$BA110,0)","v":{"$error":"#N/A"}},{"$f":"MATCH(CB$3,Millwall!$AP110:$BA110,0)","v":{"$error":"#N/A"}},{"$f":"MATCH(CC$3,Millwall!$AP110:$BA110,0)","v":{"$error":"#N/A"}},{"$f":"MATCH(CD$3,Millwall!$AP110:$BA110,0)","v":{"$error":"#N/A"}},{"$f":"MATCH(CE$3,Millwall!$AP110:$BA110,0)","v":{"$error":"#N/A"}},null,null,null,null,null,null,null,{"$f":"Millwall!$BO104","v":0},{"$f":"Millwall!$BN104&\" (**\"","v":" (**"},{"$f":"Millwall!$BN104&\"**\"","v":"**"}]
[null,null,0,34,null,{"$f":"Millwall!AI111","v":"1971-03-27"},null,{"$f":"Millwall!AK111","v":"Charlton"},{"$f":"Millwall!AL111","v":"(H)"},{"$f":"Millwall!AO111","v":"W 2-0"},{"$f":"MATCH(K$4,Millwall!$AP111:$BA111,0)","v":11},{"$f":"MATCH(L$4,Millwall!$AP111:$BA111,0)","v":8},{"$f":"MATCH(M$4,Millwall!$AP111:$BA111,0)","v":9},{"$f":"MATCH(N$4,Millwall!$AP111:$BA111,0)","v":2},{"$f":"MATCH(O$4,Millwall!$AP111:$BA111,0)","v":{"$error":"#N/A"}},{"$f":"MATCH(P$4,Millwall!$AP111:$BA111,0)","v":6},{"$f":"MATCH(Q$4,Millwall!$AP111:$BA111,0)","v":{"$error":"#N/A"}},{"$f":"MATCH(R$4,Millwall!$AP111:$BA111,0)","v":3},{"$f":"MATCH(S$4,Millwall!$AP111:$BA111,0)","v":4},{"$f":"MATCH(T$4,Millwall!$AP111:$BA111,0)","v":10},{"$f":"MATCH(U$4,Millwall!$AP111:$BA111,0)","v":{"$error":"#N/A"}},{"$f":"MATCH(V$4,Millwall!$AP111:$BA111,0)","v":{"$error":"#N/A"}},{"$f":"MATCH(W$4,Millwall!$AP111:$BA111,0)","v":{"$error":"#N/A"}},{"$f":"MATCH(X$4,Millwall!$AP111:$BA111,0)","v":1},{"$f":"MATCH(Y$4,Millwall!$AP111:$BA111,0)","v":5},{"$f":"MATCH(Z$4,Millwall!$AP111:$BA111,0)","v":{"$error":"#N/A"}},{"$f":"MATCH(AA$4,Millwall!$AP111:$BA111,0)","v":7},{"$f":"MATCH(AB$4,Millwall!$AP111:$BA111,0)","v":{"$error":"#N/A"}},{"$f":"MATCH(AC$4,Millwall!$AP111:$BA111,0)","v":{"$error":"#N/A"}},{"$f":"MATCH(AD$4,Millwall!$AP111:$BA111,0)","v":{"$error":"#N/A"}},{"$f":"MATCH(AE$4,Millwall!$AP111:$BA111,0)","v":{"$error":"#N/A"}},{"$f":"MATCH(AF$4,Millwall!$AP111:$BA111,0)","v":{"$error":"#N/A"}},{"$f":"MATCH(AG$4,Millwall!$AP111:$BA111,0)","v":{"$error":"#N/A"}},{"$f":"MATCH(AH$3,Millwall!$AP111:$BA111,0)","v":{"$error":"#N/A"}},{"$f":"MATCH(AI$3,Millwall!$AP111:$BA111,0)","v":{"$error":"#N/A"}},{"$f":"MATCH(AJ$3,Millwall!$AP111:$BA111,0)","v":{"$error":"#N/A"}},{"$f":"MATCH(AK$3,Millwall!$AP111:$BA111,0)","v":{"$error":"#N/A"}},{"$f":"MATCH(AL$3,Millwall!$AP111:$BA111,0)","v":{"$error":"#N/A"}},{"$f":"MATCH(AM$3,Millwall!$AP111:$BA111,0)","v":{"$error":"#N/A"}},{"$f":"MATCH(AN$3,Millwall!$AP111:$BA111,0)","v":{"$error":"#N/A"}},{"$f":"MATCH(AO$3,Millwall!$AP111:$BA111,0)","v":{"$error":"#N/A"}},{"$f":"MATCH(AP$3,Millwall!$AP111:$BA111,0)","v":{"$error":"#N/A"}},{"$f":"MATCH(AQ$3,Millwall!$AP111:$BA111,0)","v":{"$error":"#N/A"}},{"$f":"MATCH(AR$3,Millwall!$AP111:$BA111,0)","v":{"$error":"#N/A"}},null,null,null,null,null,{"$f":"MATCH(AX$3,Millwall!$AP111:$BA111,0)","v":{"$error":"#N/A"}},{"$f":"MATCH(AY$3,Millwall!$AP111:$BA111,0)","v":{"$error":"#N/A"}},{"$f":"MATCH(AZ$3,Millwall!$AP111:$BA111,0)","v":{"$error":"#N/A"}},{"$f":"MATCH(BA$3,Millwall!$AP111:$BA111,0)","v":{"$error":"#N/A"}},{"$f":"MATCH(BB$3,Millwall!$AP111:$BA111,0)","v":{"$error":"#N/A"}},{"$f":"MATCH(BC$3,Millwall!$AP111:$BA111,0)","v":{"$error":"#N/A"}},{"$f":"MATCH(BD$3,Millwall!$AP111:$BA111,0)","v":{"$error":"#N/A"}},{"$f":"MATCH(BE$3,Millwall!$AP111:$BA111,0)","v":{"$error":"#N/A"}},{"$f":"MATCH(BF$3,Millwall!$AP111:$BA111,0)","v":{"$error":"#N/A"}},{"$f":"MATCH(BG$3,Millwall!$AP111:$BA111,0)","v":{"$error":"#N/A"}},{"$f":"MATCH(BH$3,Millwall!$AP111:$BA111,0)","v":{"$error":"#N/A"}},{"$f":"MATCH(BI$3,Millwall!$AP111:$BA111,0)","v":{"$error":"#N/A"}},{"$f":"MATCH(BJ$3,Millwall!$AP111:$BA111,0)","v":{"$error":"#N/A"}},{"$f":"MATCH(BK$3,Millwall!$AP111:$BA111,0)","v":{"$error":"#N/A"}},{"$f":"MATCH(BL$3,Millwall!$AP111:$BA111,0)","v":{"$error":"#N/A"}},{"$f":"MATCH(BM$3,Millwall!$AP111:$BA111,0)","v":{"$error":"#N/A"}},{"$f":"MATCH(BN$3,Millwall!$AP111:$BA111,0)","v":{"$error":"#N/A"}},{"$f":"MATCH(BO$3,Millwall!$AP111:$BA111,0)","v":{"$error":"#N/A"}},{"$f":"MATCH(BP$3,Millwall!$AP111:$BA111,0)","v":{"$error":"#N/A"}},{"$f":"MATCH(BQ$3,Millwall!$AP111:$BA111,0)","v":{"$error":"#N/A"}},{"$f":"MATCH(BR$3,Millwall!$AP111:$BA111,0)","v":{"$error":"#N/A"}},{"$f":"MATCH(BS$3,Millwall!$AP111:$BA111,0)","v":{"$error":"#N/A"}},{"$f":"MATCH(BT$3,Millwall!$AP111:$BA111,0)","v":{"$error":"#N/A"}},{"$f":"MATCH(BU$3,Millwall!$AP111:$BA111,0)","v":{"$error":"#N/A"}},{"$f":"MATCH(BV$3,Millwall!$AP111:$BA111,0)","v":{"$error":"#N/A"}},{"$f":"MATCH(BW$3,Millwall!$AP111:$BA111,0)","v":{"$error":"#N/A"}},{"$f":"MATCH(BX$3,Millwall!$AP111:$BA111,0)","v":{"$error":"#N/A"}},{"$f":"MATCH(BY$3,Millwall!$AP111:$BA111,0)","v":{"$error":"#N/A"}},{"$f":"MATCH(BZ$3,Millwall!$AP111:$BA111,0)","v":{"$error":"#N/A"}},{"$f":"MATCH(CA$3,Millwall!$AP111:$BA111,0)","v":{"$error":"#N/A"}},{"$f":"MATCH(CB$3,Millwall!$AP111:$BA111,0)","v":{"$error":"#N/A"}},{"$f":"MATCH(CC$3,Millwall!$AP111:$BA111,0)","v":{"$error":"#N/A"}},{"$f":"MATCH(CD$3,Millwall!$AP111:$BA111,0)","v":{"$error":"#N/A"}},{"$f":"MATCH(CE$3,Millwall!$AP111:$BA111,0)","v":{"$error":"#N/A"}},null,null,null,null,null,null,null,{"$f":"Millwall!$BO105","v":0},{"$f":"Millwall!$BN105&\" (**\"","v":" (**"},{"$f":"Millwall!$BN105&\"**\"","v":"**"}]
[null,null,0,35,null,{"$f":"Millwall!AI112","v":"1971-03-30"},null,{"$f":"Millwall!AK112","v":"Luton"},{"$f":"Millwall!AL112","v":"(A)"},{"$f":"Millwall!AO112","v":"D 1-1"},{"$f":"MATCH(K$4,Millwall!$AP112:$BA112,0)","v":11},{"$f":"MATCH(L$4,Millwall!$AP112:$BA112,0)","v":8},{"$f":"MATCH(M$4,Millwall!$AP112:$BA112,0)","v":9},{"$f":"MATCH(N$4,Millwall!$AP112:$BA112,0)","v":2},{"$f":"MATCH(O$4,Millwall!$AP112:$BA112,0)","v":{"$error":"#N/A"}},{"$f":"MATCH(P$4,Millwall!$AP112:$BA112,0)","v":6},{"$f":"MATCH(Q$4,Millwall!$AP112:$BA112,0)","v":{"$error":"#N/A"}},{"$f":"MATCH(R$4,Millwall!$AP112:$BA112,0)","v":3},{"$f":"MATCH(S$4,Millwall!$AP112:$BA112,0)","v":4},{"$f":"MATCH(T$4,Millwall!$AP112:$BA112,0)","v":10},{"$f":"MATCH(U$4,Millwall!$AP112:$BA112,0)","v":{"$error":"#N/A"}},{"$f":"MATCH(V$4,Millwall!$AP112:$BA112,0)","v":{"$error":"#N/A"}},{"$f":"MATCH(W$4,Millwall!$AP112:$BA112,0)","v":{"$error":"#N/A"}},{"$f":"MATCH(X$4,Millwall!$AP112:$BA112,0)","v":1},{"$f":"MATCH(Y$4,Millwall!$AP112:$BA112,0)","v":5},{"$f":"MATCH(Z$4,Millwall!$AP112:$BA112,0)","v":{"$error":"#N/A"}},{"$f":"MATCH(AA$4,Millwall!$AP112:$BA112,0)","v":7},{"$f":"MATCH(AB$4,Millwall!$AP112:$BA112,0)","v":{"$error":"#N/A"}},{"$f":"MATCH(AC$4,Millwall!$AP112:$BA112,0)","v":{"$error":"#N/A"}},{"$f":"MATCH(AD$4,Millwall!$AP112:$BA112,0)","v":{"$error":"#N/A"}},{"$f":"MATCH(AE$4,Millwall!$AP112:$BA112,0)","v":{"$error":"#N/A"}},{"$f":"MATCH(AF$4,Millwall!$AP112:$BA112,0)","v":{"$error":"#N/A"}},{"$f":"MATCH(AG$4,Millwall!$AP112:$BA112,0)","v":{"$error":"#N/A"}},{"$f":"MATCH(AH$3,Millwall!$AP112:$BA112,0)","v":{"$error":"#N/A"}},{"$f":"MATCH(AI$3,Millwall!$AP112:$BA112,0)","v":{"$error":"#N/A"}},{"$f":"MATCH(AJ$3,Millwall!$AP112:$BA112,0)","v":{"$error":"#N/A"}},{"$f":"MATCH(AK$3,Millwall!$AP112:$BA112,0)","v":{"$error":"#N/A"}},{"$f":"MATCH(AL$3,Millwall!$AP112:$BA112,0)","v":{"$error":"#N/A"}},{"$f":"MATCH(AM$3,Millwall!$AP112:$BA112,0)","v":{"$error":"#N/A"}},{"$f":"MATCH(AN$3,Millwall!$AP112:$BA112,0)","v":{"$error":"#N/A"}},{"$f":"MATCH(AO$3,Millwall!$AP112:$BA112,0)","v":{"$error":"#N/A"}},{"$f":"MATCH(AP$3,Millwall!$AP112:$BA112,0)","v":{"$error":"#N/A"}},{"$f":"MATCH(AQ$3,Millwall!$AP112:$BA112,0)","v":{"$error":"#N/A"}},{"$f":"MATCH(AR$3,Millwall!$AP112:$BA112,0)","v":{"$error":"#N/A"}},null,null,null,null,null,{"$f":"MATCH(AX$3,Millwall!$AP112:$BA112,0)","v":{"$error":"#N/A"}},{"$f":"MATCH(AY$3,Millwall!$AP112:$BA112,0)","v":{"$error":"#N/A"}},{"$f":"MATCH(AZ$3,Millwall!$AP112:$BA112,0)","v":{"$error":"#N/A"}},{"$f":"MATCH(BA$3,Millwall!$AP112:$BA112,0)","v":{"$error":"#N/A"}},{"$f":"MATCH(BB$3,Millwall!$AP112:$BA112,0)","v":{"$error":"#N/A"}},{"$f":"MATCH(BC$3,Millwall!$AP112:$BA112,0)","v":{"$error":"#N/A"}},{"$f":"MATCH(BD$3,Millwall!$AP112:$BA112,0)","v":{"$error":"#N/A"}},{"$f":"MATCH(BE$3,Millwall!$AP112:$BA112,0)","v":{"$error":"#N/A"}},{"$f":"MATCH(BF$3,Millwall!$AP112:$BA112,0)","v":{"$error":"#N/A"}},{"$f":"MATCH(BG$3,Millwall!$AP112:$BA112,0)","v":{"$error":"#N/A"}},{"$f":"MATCH(BH$3,Millwall!$AP112:$BA112,0)","v":{"$error":"#N/A"}},{"$f":"MATCH(BI$3,Millwall!$AP112:$BA112,0)","v":{"$error":"#N/A"}},{"$f":"MATCH(BJ$3,Millwall!$AP112:$BA112,0)","v":{"$error":"#N/A"}},{"$f":"MATCH(BK$3,Millwall!$AP112:$BA112,0)","v":{"$error":"#N/A"}},{"$f":"MATCH(BL$3,Millwall!$AP112:$BA112,0)","v":{"$error":"#N/A"}},{"$f":"MATCH(BM$3,Millwall!$AP112:$BA112,0)","v":{"$error":"#N/A"}},{"$f":"MATCH(BN$3,Millwall!$AP112:$BA112,0)","v":{"$error":"#N/A"}},{"$f":"MATCH(BO$3,Millwall!$AP112:$BA112,0)","v":{"$error":"#N/A"}},{"$f":"MATCH(BP$3,Millwall!$AP112:$BA112,0)","v":{"$error":"#N/A"}},{"$f":"MATCH(BQ$3,Millwall!$AP112:$BA112,0)","v":{"$error":"#N/A"}},{"$f":"MATCH(BR$3,Millwall!$AP112:$BA112,0)","v":{"$error":"#N/A"}},{"$f":"MATCH(BS$3,Millwall!$AP112:$BA112,0)","v":{"$error":"#N/A"}},{"$f":"MATCH(BT$3,Millwall!$AP112:$BA112,0)","v":{"$error":"#N/A"}},{"$f":"MATCH(BU$3,Millwall!$AP112:$BA112,0)","v":{"$error":"#N/A"}},{"$f":"MATCH(BV$3,Millwall!$AP112:$BA112,0)","v":{"$error":"#N/A"}},{"$f":"MATCH(BW$3,Millwall!$AP112:$BA112,0)","v":{"$error":"#N/A"}},{"$f":"MATCH(BX$3,Millwall!$AP112:$BA112,0)","v":{"$error":"#N/A"}},{"$f":"MATCH(BY$3,Millwall!$AP112:$BA112,0)","v":{"$error":"#N/A"}},{"$f":"MATCH(BZ$3,Millwall!$AP112:$BA112,0)","v":{"$error":"#N/A"}},{"$f":"MATCH(CA$3,Millwall!$AP112:$BA112,0)","v":{"$error":"#N/A"}},{"$f":"MATCH(CB$3,Millwall!$AP112:$BA112,0)","v":{"$error":"#N/A"}},{"$f":"MATCH(CC$3,Millwall!$AP112:$BA112,0)","v":{"$error":"#N/A"}},{"$f":"MATCH(CD$3,Millwall!$AP112:$BA112,0)","v":{"$error":"#N/A"}},{"$f":"MATCH(CE$3,Millwall!$AP112:$BA112,0)","v":{"$error":"#N/A"}}]
[null,null,0,36,null,{"$f":"Millwall!AI113","v":"1971-04-03"},null,{"$f":"Millwall!AK113","v":"Portsmouth"},{"$f":"Millwall!AL113","v":"(A)"},{"$f":"Millwall!AO113","v":"W 2-0"},{"$f":"MATCH(K$4,Millwall!$AP113:$BA113,0)","v":{"$error":"#N/A"}},{"$f":"MATCH(L$4,Millwall!$AP113:$BA113,0)","v":8},{"$f":"MATCH(M$4,Millwall!$AP113:$BA113,0)","v":9},{"$f":"MATCH(N$4,Millwall!$AP113:$BA113,0)","v":2},{"$f":"MATCH(O$4,Millwall!$AP113:$BA113,0)","v":{"$error":"#N/A"}},{"$f":"MATCH(P$4,Millwall!$AP113:$BA113,0)","v":6},{"$f":"MATCH(Q$4,Millwall!$AP113:$BA113,0)","v":11},{"$f":"MATCH(R$4,Millwall!$AP113:$BA113,0)","v":3},{"$f":"MATCH(S$4,Millwall!$AP113:$BA113,0)","v":4},{"$f":"MATCH(T$4,Millwall!$AP113:$BA113,0)","v":10},{"$f":"MATCH(U$4,Millwall!$AP113:$BA113,0)","v":{"$error":"#N/A"}},{"$f":"MATCH(V$4,Millwall!$AP113:$BA113,0)","v":{"$error":"#N/A"}},{"$f":"MATCH(W$4,Millwall!$AP113:$BA113,0)","v":{"$error":"#N/A"}},{"$f":"MATCH(X$4,Millwall!$AP113:$BA113,0)","v":1},{"$f":"MATCH(Y$4,Millwall!$AP113:$BA113,0)","v":5},{"$f":"MATCH(Z$4,Millwall!$AP113:$BA113,0)","v":{"$error":"#N/A"}},{"$f":"MATCH(AA$4,Millwall!$AP113:$BA113,0)","v":7},{"$f":"MATCH(AB$4,Millwall!$AP113:$BA113,0)","v":{"$error":"#N/A"}},{"$f":"MATCH(AC$4,Millwall!$AP113:$BA113,0)","v":{"$error":"#N/A"}},{"$f":"MATCH(AD$4,Millwall!$AP113:$BA113,0)","v":{"$error":"#N/A"}},{"$f":"MATCH(AE$4,Millwall!$AP113:$BA113,0)","v":{"$error":"#N/A"}},{"$f":"MATCH(AF$4,Millwall!$AP113:$BA113,0)","v":{"$error":"#N/A"}},{"$f":"MATCH(AG$4,Millwall!$AP113:$BA113,0)","v":{"$error":"#N/A"}},{"$f":"MATCH(AH$3,Millwall!$AP113:$BA113,0)","v":{"$error":"#N/A"}},{"$f":"MATCH(AI$3,Millwall!$AP113:$BA113,0)","v":{"$error":"#N/A"}},{"$f":"MATCH(AJ$3,Millwall!$AP113:$BA113,0)","v":{"$error":"#N/A"}},{"$f":"MATCH(AK$3,Millwall!$AP113:$BA113,0)","v":{"$error":"#N/A"}},{"$f":"MATCH(AL$3,Millwall!$AP113:$BA113,0)","v":{"$error":"#N/A"}},{"$f":"MATCH(AM$3,Millwall!$AP113:$BA113,0)","v":{"$error":"#N/A"}},{"$f":"MATCH(AN$3,Millwall!$AP113:$BA113,0)","v":{"$error":"#N/A"}},{"$f":"MATCH(AO$3,Millwall!$AP113:$BA113,0)","v":{"$error":"#N/A"}},{"$f":"MATCH(AP$3,Millwall!$AP113:$BA113,0)","v":{"$error":"#N/A"}},{"$f":"MATCH(AQ$3,Millwall!$AP113:$BA113,0)","v":{"$error":"#N/A"}},{"$f":"MATCH(AR$3,Millwall!$AP113:$BA113,0)","v":{"$error":"#N/A"}},null,null,null,null,null,{"$f":"MATCH(AX$3,Millwall!$AP113:$BA113,0)","v":{"$error":"#N/A"}},{"$f":"MATCH(AY$3,Millwall!$AP113:$BA113,0)","v":{"$error":"#N/A"}},{"$f":"MATCH(AZ$3,Millwall!$AP113:$BA113,0)","v":{"$error":"#N/A"}},{"$f":"MATCH(BA$3,Millwall!$AP113:$BA113,0)","v":{"$error":"#N/A"}},{"$f":"MATCH(BB$3,Millwall!$AP113:$BA113,0)","v":{"$error":"#N/A"}},{"$f":"MATCH(BC$3,Millwall!$AP113:$BA113,0)","v":{"$error":"#N/A"}},{"$f":"MATCH(BD$3,Millwall!$AP113:$BA113,0)","v":{"$error":"#N/A"}},{"$f":"MATCH(BE$3,Millwall!$AP113:$BA113,0)","v":{"$error":"#N/A"}},{"$f":"MATCH(BF$3,Millwall!$AP113:$BA113,0)","v":{"$error":"#N/A"}},{"$f":"MATCH(BG$3,Millwall!$AP113:$BA113,0)","v":{"$error":"#N/A"}},{"$f":"MATCH(BH$3,Millwall!$AP113:$BA113,0)","v":{"$error":"#N/A"}},{"$f":"MATCH(BI$3,Millwall!$AP113:$BA113,0)","v":{"$error":"#N/A"}},{"$f":"MATCH(BJ$3,Millwall!$AP113:$BA113,0)","v":{"$error":"#N/A"}},{"$f":"MATCH(BK$3,Millwall!$AP113:$BA113,0)","v":{"$error":"#N/A"}},{"$f":"MATCH(BL$3,Millwall!$AP113:$BA113,0)","v":{"$error":"#N/A"}},{"$f":"MATCH(BM$3,Millwall!$AP113:$BA113,0)","v":{"$error":"#N/A"}},{"$f":"MATCH(BN$3,Millwall!$AP113:$BA113,0)","v":{"$error":"#N/A"}},{"$f":"MATCH(BO$3,Millwall!$AP113:$BA113,0)","v":{"$error":"#N/A"}},{"$f":"MATCH(BP$3,Millwall!$AP113:$BA113,0)","v":{"$error":"#N/A"}},{"$f":"MATCH(BQ$3,Millwall!$AP113:$BA113,0)","v":{"$error":"#N/A"}},{"$f":"MATCH(BR$3,Millwall!$AP113:$BA113,0)","v":{"$error":"#N/A"}},{"$f":"MATCH(BS$3,Millwall!$AP113:$BA113,0)","v":{"$error":"#N/A"}},{"$f":"MATCH(BT$3,Millwall!$AP113:$BA113,0)","v":{"$error":"#N/A"}},{"$f":"MATCH(BU$3,Millwall!$AP113:$BA113,0)","v":{"$error":"#N/A"}},{"$f":"MATCH(BV$3,Millwall!$AP113:$BA113,0)","v":{"$error":"#N/A"}},{"$f":"MATCH(BW$3,Millwall!$AP113:$BA113,0)","v":{"$error":"#N/A"}},{"$f":"MATCH(BX$3,Millwall!$AP113:$BA113,0)","v":{"$error":"#N/A"}},{"$f":"MATCH(BY$3,Millwall!$AP113:$BA113,0)","v":{"$error":"#N/A"}},{"$f":"MATCH(BZ$3,Millwall!$AP113:$BA113,0)","v":{"$error":"#N/A"}},{"$f":"MATCH(CA$3,Millwall!$AP113:$BA113,0)","v":{"$error":"#N/A"}},{"$f":"MATCH(CB$3,Millwall!$AP113:$BA113,0)","v":{"$error":"#N/A"}},{"$f":"MATCH(CC$3,Millwall!$AP113:$BA113,0)","v":{"$error":"#N/A"}},{"$f":"MATCH(CD$3,Millwall!$AP113:$BA113,0)","v":{"$error":"#N/A"}},{"$f":"MATCH(CE$3,Millwall!$AP113:$BA113,0)","v":{"$error":"#N/A"}}]
[null,null,0,37,null,{"$f":"Millwall!AI114","v":"1971-04-05"},null,{"$f":"Millwall!AK114","v":"Carlisle"},{"$f":"Millwall!AL114","v":"(H)"},{"$f":"Millwall!AO114","v":"W 2-1"},{"$f":"MATCH(K$4,Millwall!$AP114:$BA114,0)","v":11},{"$f":"MATCH(L$4,Millwall!$AP114:$BA114,0)","v":8},{"$f":"MATCH(M$4,Millwall!$AP114:$BA114,0)","v":9},{"$f":"MATCH(N$4,Millwall!$AP114:$BA114,0)","v":2},{"$f":"MATCH(O$4,Millwall!$AP114:$BA114,0)","v":{"$error":"#N/A"}},{"$f":"MATCH(P$4,Millwall!$AP114:$BA114,0)","v":6},{"$f":"MATCH(Q$4,Millwall!$AP114:$BA114,0)","v":{"$error":"#N/A"}},{"$f":"MATCH(R$4,Millwall!$AP114:$BA114,0)","v":3},{"$f":"MATCH(S$4,Millwall!$AP114:$BA114,0)","v":4},{"$f":"MATCH(T$4,Millwall!$AP114:$BA114,0)","v":10},{"$f":"MATCH(U$4,Millwall!$AP114:$BA114,0)","v":{"$error":"#N/A"}},{"$f":"MATCH(V$4,Millwall!$AP114:$BA114,0)","v":{"$error":"#N/A"}},{"$f":"MATCH(W$4,Millwall!$AP114:$BA114,0)","v":{"$error":"#N/A"}},{"$f":"MATCH(X$4,Millwall!$AP114:$BA114,0)","v":1},{"$f":"MATCH(Y$4,Millwall!$AP114:$BA114,0)","v":5},{"$f":"MATCH(Z$4,Millwall!$AP114:$BA114,0)","v":{"$error":"#N/A"}},{"$f":"MATCH(AA$4,Millwall!$AP114:$BA114,0)","v":7},{"$f":"MATCH(AB$4,Millwall!$AP114:$BA114,0)","v":{"$error":"#N/A"}},{"$f":"MATCH(AC$4,Millwall!$AP114:$BA114,0)","v":{"$error":"#N/A"}},{"$f":"MATCH(AD$4,Millwall!$AP114:$BA114,0)","v":{"$error":"#N/A"}},{"$f":"MATCH(AE$4,Millwall!$AP114:$BA114,0)","v":{"$error":"#N/A"}},{"$f":"MATCH(AF$4,Millwall!$AP114:$BA114,0)","v":{"$error":"#N/A"}},{"$f":"MATCH(AG$4,Millwall!$AP114:$BA114,0)","v":{"$error":"#N/A"}},{"$f":"MATCH(AH$3,Millwall!$AP114:$BA114,0)","v":{"$error":"#N/A"}},{"$f":"MATCH(AI$3,Millwall!$AP114:$BA114,0)","v":{"$error":"#N/A"}},{"$f":"MATCH(AJ$3,Millwall!$AP114:$BA114,0)","v":{"$error":"#N/A"}},{"$f":"MATCH(AK$3,Millwall!$AP114:$BA114,0)","v":{"$error":"#N/A"}},{"$f":"MATCH(AL$3,Millwall!$AP114:$BA114,0)","v":{"$error":"#N/A"}},{"$f":"MATCH(AM$3,Millwall!$AP114:$BA114,0)","v":{"$error":"#N/A"}},{"$f":"MATCH(AN$3,Millwall!$AP114:$BA114,0)","v":{"$error":"#N/A"}},{"$f":"MATCH(AO$3,Millwall!$AP114:$BA114,0)","v":{"$error":"#N/A"}},{"$f":"MATCH(AP$3,Millwall!$AP114:$BA114,0)","v":{"$error":"#N/A"}},{"$f":"MATCH(AQ$3,Millwall!$AP114:$BA114,0)","v":{"$error":"#N/A"}},{"$f":"MATCH(AR$3,Millwall!$AP114:$BA114,0)","v":{"$error":"#N/A"}},null,null,null,null,null,{"$f":"MATCH(AX$3,Millwall!$AP114:$BA114,0)","v":{"$error":"#N/A"}},{"$f":"MATCH(AY$3,Millwall!$AP114:$BA114,0)","v":{"$error":"#N/A"}},{"$f":"MATCH(AZ$3,Millwall!$AP114:$BA114,0)","v":{"$error":"#N/A"}},{"$f":"MATCH(BA$3,Millwall!$AP114:$BA114,0)","v":{"$error":"#N/A"}},{"$f":"MATCH(BB$3,Millwall!$AP114:$BA114,0)","v":{"$error":"#N/A"}},{"$f":"MATCH(BC$3,Millwall!$AP114:$BA114,0)","v":{"$error":"#N/A"}},{"$f":"MATCH(BD$3,Millwall!$AP114:$BA114,0)","v":{"$error":"#N/A"}},{"$f":"MATCH(BE$3,Millwall!$AP114:$BA114,0)","v":{"$error":"#N/A"}},{"$f":"MATCH(BF$3,Millwall!$AP114:$BA114,0)","v":{"$error":"#N/A"}},{"$f":"MATCH(BG$3,Millwall!$AP114:$BA114,0)","v":{"$error":"#N/A"}},{"$f":"MATCH(BH$3,Millwall!$AP114:$BA114,0)","v":{"$error":"#N/A"}},{"$f":"MATCH(BI$3,Millwall!$AP114:$BA114,0)","v":{"$error":"#N/A"}},{"$f":"MATCH(BJ$3,Millwall!$AP114:$BA114,0)","v":{"$error":"#N/A"}},{"$f":"MATCH(BK$3,Millwall!$AP114:$BA114,0)","v":{"$error":"#N/A"}},{"$f":"MATCH(BL$3,Millwall!$AP114:$BA114,0)","v":{"$error":"#N/A"}},{"$f":"MATCH(BM$3,Millwall!$AP114:$BA114,0)","v":{"$error":"#N/A"}},{"$f":"MATCH(BN$3,Millwall!$AP114:$BA114,0)","v":{"$error":"#N/A"}},{"$f":"MATCH(BO$3,Millwall!$AP114:$BA114,0)","v":{"$error":"#N/A"}},{"$f":"MATCH(BP$3,Millwall!$AP114:$BA114,0)","v":{"$error":"#N/A"}},{"$f":"MATCH(BQ$3,Millwall!$AP114:$BA114,0)","v":{"$error":"#N/A"}},{"$f":"MATCH(BR$3,Millwall!$AP114:$BA114,0)","v":{"$error":"#N/A"}},{"$f":"MATCH(BS$3,Millwall!$AP114:$BA114,0)","v":{"$error":"#N/A"}},{"$f":"MATCH(BT$3,Millwall!$AP114:$BA114,0)","v":{"$error":"#N/A"}},{"$f":"MATCH(BU$3,Millwall!$AP114:$BA114,0)","v":{"$error":"#N/A"}},{"$f":"MATCH(BV$3,Millwall!$AP114:$BA114,0)","v":{"$error":"#N/A"}},{"$f":"MATCH(BW$3,Millwall!$AP114:$BA114,0)","v":{"$error":"#N/A"}},{"$f":"MATCH(BX$3,Millwall!$AP114:$BA114,0)","v":{"$error":"#N/A"}},{"$f":"MATCH(BY$3,Millwall!$AP114:$BA114,0)","v":{"$error":"#N/A"}},{"$f":"MATCH(BZ$3,Millwall!$AP114:$BA114,0)","v":{"$error":"#N/A"}},{"$f":"MATCH(CA$3,Millwall!$AP114:$BA114,0)","v":{"$error":"#N/A"}},{"$f":"MATCH(CB$3,Millwall!$AP114:$BA114,0)","v":{"$error":"#N/A"}},{"$f":"MATCH(CC$3,Millwall!$AP114:$BA114,0)","v":{"$error":"#N/A"}},{"$f":"MATCH(CD$3,Millwall!$AP114:$BA114,0)","v":{"$error":"#N/A"}},{"$f":"MATCH(CE$3,Millwall!$AP114:$BA114,0)","v":{"$error":"#N/A"}}]
[null,null,0,38,null,{"$f":"Millwall!AI115","v":"1971-04-10"},null,{"$f":"Millwall!AK115","v":"Luton"},{"$f":"Millwall!AL115","v":"(H)"},{"$f":"Millwall!AO115","v":"W 4-0"},{"$f":"MATCH(K$4,Millwall!$AP115:$BA115,0)","v":11},{"$f":"MATCH(L$4,Millwall!$AP115:$BA115,0)","v":8},{"$f":"MATCH(M$4,Millwall!$AP115:$BA115,0)","v":9},{"$f":"MATCH(N$4,Millwall!$AP115:$BA115,0)","v":2},{"$f":"MATCH(O$4,Millwall!$AP115:$BA115,0)","v":{"$error":"#N/A"}},{"$f":"MATCH(P$4,Millwall!$AP115:$BA115,0)","v":6},{"$f":"MATCH(Q$4,Millwall!$AP115:$BA115,0)","v":{"$error":"#N/A"}},{"$f":"MATCH(R$4,Millwall!$AP115:$BA115,0)","v":3},{"$f":"MATCH(S$4,Millwall!$AP115:$BA115,0)","v":4},{"$f":"MATCH(T$4,Millwall!$AP115:$BA115,0)","v":10},{"$f":"MATCH(U$4,Millwall!$AP115:$BA115,0)","v":{"$error":"#N/A"}},{"$f":"MATCH(V$4,Millwall!$AP115:$BA115,0)","v":{"$error":"#N/A"}},{"$f":"MATCH(W$4,Millwall!$AP115:$BA115,0)","v":{"$error":"#N/A"}},{"$f":"MATCH(X$4,Millwall!$AP115:$BA115,0)","v":1},{"$f":"MATCH(Y$4,Millwall!$AP115:$BA115,0)","v":5},{"$f":"MATCH(Z$4,Millwall!$AP115:$BA115,0)","v":{"$error":"#N/A"}},{"$f":"MATCH(AA$4,Millwall!$AP115:$BA115,0)","v":7},{"$f":"MATCH(AB$4,Millwall!$AP115:$BA115,0)","v":{"$error":"#N/A"}},{"$f":"MATCH(AC$4,Millwall!$AP115:$BA115,0)","v":{"$error":"#N/A"}},{"$f":"MATCH(AD$4,Millwall!$AP115:$BA115,0)","v":{"$error":"#N/A"}},{"$f":"MATCH(AE$4,Millwall!$AP115:$BA115,0)","v":{"$error":"#N/A"}},{"$f":"MATCH(AF$4,Millwall!$AP115:$BA115,0)","v":{"$error":"#N/A"}},{"$f":"MATCH(AG$4,Millwall!$AP115:$BA115,0)","v":{"$error":"#N/A"}},{"$f":"MATCH(AH$3,Millwall!$AP115:$BA115,0)","v":{"$error":"#N/A"}},{"$f":"MATCH(AI$3,Millwall!$AP115:$BA115,0)","v":{"$error":"#N/A"}},{"$f":"MATCH(AJ$3,Millwall!$AP115:$BA115,0)","v":{"$error":"#N/A"}},{"$f":"MATCH(AK$3,Millwall!$AP115:$BA115,0)","v":{"$error":"#N/A"}},{"$f":"MATCH(AL$3,Millwall!$AP115:$BA115,0)","v":{"$error":"#N/A"}},{"$f":"MATCH(AM$3,Millwall!$AP115:$BA115,0)","v":{"$error":"#N/A"}},{"$f":"MATCH(AN$3,Millwall!$AP115:$BA115,0)","v":{"$error":"#N/A"}},{"$f":"MATCH(AO$3,Millwall!$AP115:$BA115,0)","v":{"$error":"#N/A"}},{"$f":"MATCH(AP$3,Millwall!$AP115:$BA115,0)","v":{"$error":"#N/A"}},{"$f":"MATCH(AQ$3,Millwall!$AP115:$BA115,0)","v":{"$error":"#N/A"}},{"$f":"MATCH(AR$3,Millwall!$AP115:$BA115,0)","v":{"$error":"#N/A"}},null,null,null,null,null,{"$f":"MATCH(AX$3,Millwall!$AP115:$BA115,0)","v":{"$error":"#N/A"}},{"$f":"MATCH(AY$3,Millwall!$AP115:$BA115,0)","v":{"$error":"#N/A"}},{"$f":"MATCH(AZ$3,Millwall!$AP115:$BA115,0)","v":{"$error":"#N/A"}},{"$f":"MATCH(BA$3,Millwall!$AP115:$BA115,0)","v":{"$error":"#N/A"}},{"$f":"MATCH(BB$3,Millwall!$AP115:$BA115,0)","v":{"$error":"#N/A"}},{"$f":"MATCH(BC$3,Millwall!$AP115:$BA115,0)","v":{"$error":"#N/A"}},{"$f":"MATCH(BD$3,Millwall!$AP115:$BA115,0)","v":{"$error":"#N/A"}},{"$f":"MATCH(BE$3,Millwall!$AP115:$BA115,0)","v":{"$error":"#N/A"}},{"$f":"MATCH(BF$3,Millwall!$AP115:$BA115,0)","v":{"$error":"#N/A"}},{"$f":"MATCH(BG$3,Millwall!$AP115:$BA115,0)","v":{"$error":"#N/A"}},{"$f":"MATCH(BH$3,Millwall!$AP115:$BA115,0)","v":{"$error":"#N/A"}},{"$f":"MATCH(BI$3,Millwall!$AP115:$BA115,0)","v":{"$error":"#N/A"}},{"$f":"MATCH(BJ$3,Millwall!$AP115:$BA115,0)","v":{"$error":"#N/A"}},{"$f":"MATCH(BK$3,Millwall!$AP115:$BA115,0)","v":{"$error":"#N/A"}},{"$f":"MATCH(BL$3,Millwall!$AP115:$BA115,0)","v":{"$error":"#N/A"}},{"$f":"MATCH(BM$3,Millwall!$AP115:$BA115,0)","v":{"$error":"#N/A"}},{"$f":"MATCH(BN$3,Millwall!$AP115:$BA115,0)","v":{"$error":"#N/A"}},{"$f":"MATCH(BO$3,Millwall!$AP115:$BA115,0)","v":{"$error":"#N/A"}},{"$f":"MATCH(BP$3,Millwall!$AP115:$BA115,0)","v":{"$error":"#N/A"}},{"$f":"MATCH(BQ$3,Millwall!$AP115:$BA115,0)","v":{"$error":"#N/A"}},{"$f":"MATCH(BR$3,Millwall!$AP115:$BA115,0)","v":{"$error":"#N/A"}},{"$f":"MATCH(BS$3,Millwall!$AP115:$BA115,0)","v":{"$error":"#N/A"}},{"$f":"MATCH(BT$3,Millwall!$AP115:$BA115,0)","v":{"$error":"#N/A"}},{"$f":"MATCH(BU$3,Millwall!$AP115:$BA115,0)","v":{"$error":"#N/A"}},{"$f":"MATCH(BV$3,Millwall!$AP115:$BA115,0)","v":{"$error":"#N/A"}},{"$f":"MATCH(BW$3,Millwall!$AP115:$BA115,0)","v":{"$error":"#N/A"}},{"$f":"MATCH(BX$3,Millwall!$AP115:$BA115,0)","v":{"$error":"#N/A"}},{"$f":"MATCH(BY$3,Millwall!$AP115:$BA115,0)","v":{"$error":"#N/A"}},{"$f":"MATCH(BZ$3,Millwall!$AP115:$BA115,0)","v":{"$error":"#N/A"}},{"$f":"MATCH(CA$3,Millwall!$AP115:$BA115,0)","v":{"$error":"#N/A"}},{"$f":"MATCH(CB$3,Millwall!$AP115:$BA115,0)","v":{"$error":"#N/A"}},{"$f":"MATCH(CC$3,Millwall!$AP115:$BA115,0)","v":{"$error":"#N/A"}},{"$f":"MATCH(CD$3,Millwall!$AP115:$BA115,0)","v":{"$error":"#N/A"}},{"$f":"MATCH(CE$3,Millwall!$AP115:$BA115,0)","v":{"$error":"#N/A"}}]
[null,null,0,39,null,{"$f":"Millwall!AI116","v":"1971-04-13"},null,{"$f":"Millwall!AK116","v":"Sheff Utd"},{"$f":"Millwall!AL116","v":"(A)"},{"$f":"Millwall!AO116","v":"L 0-2"},{"$f":"MATCH(K$4,Millwall!$AP116:$BA116,0)","v":11},{"$f":"MATCH(L$4,Millwall!$AP116:$BA116,0)","v":8},{"$f":"MATCH(M$4,Millwall!$AP116:$BA116,0)","v":9},{"$f":"MATCH(N$4,Millwall!$AP116:$BA116,0)","v":2},{"$f":"MATCH(O$4,Millwall!$AP116:$BA116,0)","v":{"$error":"#N/A"}},{"$f":"MATCH(P$4,Millwall!$AP116:$BA116,0)","v":6},{"$f":"MATCH(Q$4,Millwall!$AP116:$BA116,0)","v":12},{"$f":"MATCH(R$4,Millwall!$AP116:$BA116,0)","v":3},{"$f":"MATCH(S$4,Millwall!$AP116:$BA116,0)","v":4},{"$f":"MATCH(T$4,Millwall!$AP116:$BA116,0)","v":10},{"$f":"MATCH(U$4,Millwall!$AP116:$BA116,0)","v":{"$error":"#N/A"}},{"$f":"MATCH(V$4,Millwall!$AP116:$BA116,0)","v":{"$error":"#N/A"}},{"$f":"MATCH(W$4,Millwall!$AP116:$BA116,0)","v":{"$error":"#N/A"}},{"$f":"MATCH(X$4,Millwall!$AP116:$BA116,0)","v":1},{"$f":"MATCH(Y$4,Millwall!$AP116:$BA116,0)","v":5},{"$f":"MATCH(Z$4,Millwall!$AP116:$BA116,0)","v":{"$error":"#N/A"}},{"$f":"MATCH(AA$4,Millwall!$AP116:$BA116,0)","v":7},{"$f":"MATCH(AB$4,Millwall!$AP116:$BA116,0)","v":{"$error":"#N/A"}},{"$f":"MATCH(AC$4,Millwall!$AP116:$BA116,0)","v":{"$error":"#N/A"}},{"$f":"MATCH(AD$4,Millwall!$AP116:$BA116,0)","v":{"$error":"#N/A"}},{"$f":"MATCH(AE$4,Millwall!$AP116:$BA116,0)","v":{"$error":"#N/A"}},{"$f":"MATCH(AF$4,Millwall!$AP116:$BA116,0)","v":{"$error":"#N/A"}},{"$f":"MATCH(AG$4,Millwall!$AP116:$BA116,0)","v":{"$error":"#N/A"}},{"$f":"MATCH(AH$3,Millwall!$AP116:$BA116,0)","v":{"$error":"#N/A"}},{"$f":"MATCH(AI$3,Millwall!$AP116:$BA116,0)","v":{"$error":"#N/A"}},{"$f":"MATCH(AJ$3,Millwall!$AP116:$BA116,0)","v":{"$error":"#N/A"}},{"$f":"MATCH(AK$3,Millwall!$AP116:$BA116,0)","v":{"$error":"#N/A"}},{"$f":"MATCH(AL$3,Millwall!$AP116:$BA116,0)","v":{"$error":"#N/A"}},{"$f":"MATCH(AM$3,Millwall!$AP116:$BA116,0)","v":{"$error":"#N/A"}},{"$f":"MATCH(AN$3,Millwall!$AP116:$BA116,0)","v":{"$error":"#N/A"}},{"$f":"MATCH(AO$3,Millwall!$AP116:$BA116,0)","v":{"$error":"#N/A"}},{"$f":"MATCH(AP$3,Millwall!$AP116:$BA116,0)","v":{"$error":"#N/A"}},{"$f":"MATCH(AQ$3,Millwall!$AP116:$BA116,0)","v":{"$error":"#N/A"}},{"$f":"MATCH(AR$3,Millwall!$AP116:$BA116,0)","v":{"$error":"#N/A"}},null,null,null,null,null,{"$f":"MATCH(AX$3,Millwall!$AP116:$BA116,0)","v":11},{"$f":"MATCH(AY$3,Millwall!$AP116:$BA116,0)","v":{"$error":"#N/A"}},{"$f":"MATCH(AZ$3,Millwall!$AP116:$BA116,0)","v":{"$error":"#N/A"}},{"$f":"MATCH(BA$3,Millwall!$AP116:$BA116,0)","v":{"$error":"#N/A"}},{"$f":"MATCH(BB$3,Millwall!$AP116:$BA116,0)","v":{"$error":"#N/A"}},{"$f":"MATCH(BC$3,Millwall!$AP116:$BA116,0)","v":{"$error":"#N/A"}},{"$f":"MATCH(BD$3,Millwall!$AP116:$BA116,0)","v":12},{"$f":"MATCH(BE$3,Millwall!$AP116:$BA116,0)","v":{"$error":"#N/A"}},{"$f":"MATCH(BF$3,Millwall!$AP116:$BA116,0)","v":{"$error":"#N/A"}},{"$f":"MATCH(BG$3,Millwall!$AP116:$BA116,0)","v":{"$error":"#N/A"}},{"$f":"MATCH(BH$3,Millwall!$AP116:$BA116,0)","v":{"$error":"#N/A"}},{"$f":"MATCH(BI$3,Millwall!$AP116:$BA116,0)","v":{"$error":"#N/A"}},{"$f":"MATCH(BJ$3,Millwall!$AP116:$BA116,0)","v":{"$error":"#N/A"}},{"$f":"MATCH(BK$3,Millwall!$AP116:$BA116,0)","v":{"$error":"#N/A"}},{"$f":"MATCH(BL$3,Millwall!$AP116:$BA116,0)","v":{"$error":"#N/A"}},{"$f":"MATCH(BM$3,Millwall!$AP116:$BA116,0)","v":{"$error":"#N/A"}},{"$f":"MATCH(BN$3,Millwall!$AP116:$BA116,0)","v":{"$error":"#N/A"}},{"$f":"MATCH(BO$3,Millwall!$AP116:$BA116,0)","v":{"$error":"#N/A"}},{"$f":"MATCH(BP$3,Millwall!$AP116:$BA116,0)","v":{"$error":"#N/A"}},{"$f":"MATCH(BQ$3,Millwall!$AP116:$BA116,0)","v":{"$error":"#N/A"}},{"$f":"MATCH(BR$3,Millwall!$AP116:$BA116,0)","v":{"$error":"#N/A"}},{"$f":"MATCH(BS$3,Millwall!$AP116:$BA116,0)","v":{"$error":"#N/A"}},{"$f":"MATCH(BT$3,Millwall!$AP116:$BA116,0)","v":{"$error":"#N/A"}},{"$f":"MATCH(BU$3,Millwall!$AP116:$BA116,0)","v":{"$error":"#N/A"}},{"$f":"MATCH(BV$3,Millwall!$AP116:$BA116,0)","v":{"$error":"#N/A"}},{"$f":"MATCH(BW$3,Millwall!$AP116:$BA116,0)","v":{"$error":"#N/A"}},{"$f":"MATCH(BX$3,Millwall!$AP116:$BA116,0)","v":{"$error":"#N/A"}},{"$f":"MATCH(BY$3,Millwall!$AP116:$BA116,0)","v":{"$error":"#N/A"}},{"$f":"MATCH(BZ$3,Millwall!$AP116:$BA116,0)","v":{"$error":"#N/A"}},{"$f":"MATCH(CA$3,Millwall!$AP116:$BA116,0)","v":{"$error":"#N/A"}},{"$f":"MATCH(CB$3,Millwall!$AP116:$BA116,0)","v":{"$error":"#N/A"}},{"$f":"MATCH(CC$3,Millwall!$AP116:$BA116,0)","v":{"$error":"#N/A"}},{"$f":"MATCH(CD$3,Millwall!$AP116:$BA116,0)","v":{"$error":"#N/A"}},{"$f":"MATCH(CE$3,Millwall!$AP116:$BA116,0)","v":{"$error":"#N/A"}}]
[null,null,0,40,null,{"$f":"Millwall!AI117","v":"1971-04-17"},null,{"$f":"Millwall!AK117","v":"Blackburn"},{"$f":"Millwall!AL117","v":"(A)"},{"$f":"Millwall!AO117","v":"W 2-0"},{"$f":"MATCH(K$4,Millwall!$AP117:$BA117,0)","v":11},{"$f":"MATCH(L$4,Millwall!$AP117:$BA117,0)","v":8},{"$f":"MATCH(M$4,Millwall!$AP117:$BA117,0)","v":9},{"$f":"MATCH(N$4,Millwall!$AP117:$BA117,0)","v":2},{"$f":"MATCH(O$4,Millwall!$AP117:$BA117,0)","v":{"$error":"#N/A"}},{"$f":"MATCH(P$4,Millwall!$AP117:$BA117,0)","v":6},{"$f":"MATCH(Q$4,Millwall!$AP117:$BA117,0)","v":{"$error":"#N/A"}},{"$f":"MATCH(R$4,Millwall!$AP117:$BA117,0)","v":3},{"$f":"MATCH(S$4,Millwall!$AP117:$BA117,0)","v":4},{"$f":"MATCH(T$4,Millwall!$AP117:$BA117,0)","v":10},{"$f":"MATCH(U$4,Millwall!$AP117:$BA117,0)","v":{"$error":"#N/A"}},{"$f":"MATCH(V$4,Millwall!$AP117:$BA117,0)","v":{"$error":"#N/A"}},{"$f":"MATCH(W$4,Millwall!$AP117:$BA117,0)","v":{"$error":"#N/A"}},{"$f":"MATCH(X$4,Millwall!$AP117:$BA117,0)","v":1},{"$f":"MATCH(Y$4,Millwall!$AP117:$BA117,0)","v":5},{"$f":"MATCH(Z$4,Millwall!$AP117:$BA117,0)","v":{"$error":"#N/A"}},{"$f":"MATCH(AA$4,Millwall!$AP117:$BA117,0)","v":7},{"$f":"MATCH(AB$4,Millwall!$AP117:$BA117,0)","v":{"$error":"#N/A"}},{"$f":"MATCH(AC$4,Millwall!$AP117:$BA117,0)","v":{"$error":"#N/A"}},{"$f":"MATCH(AD$4,Millwall!$AP117:$BA117,0)","v":{"$error":"#N/A"}},{"$f":"MATCH(AE$4,Millwall!$AP117:$BA117,0)","v":{"$error":"#N/A"}},{"$f":"MATCH(AF$4,Millwall!$AP117:$BA117,0)","v":{"$error":"#N/A"}},{"$f":"MATCH(AG$4,Millwall!$AP117:$BA117,0)","v":{"$error":"#N/A"}},{"$f":"MATCH(AH$3,Millwall!$AP117:$BA117,0)","v":{"$error":"#N/A"}},{"$f":"MATCH(AI$3,Millwall!$AP117:$BA117,0)","v":{"$error":"#N/A"}},{"$f":"MATCH(AJ$3,Millwall!$AP117:$BA117,0)","v":{"$error":"#N/A"}},{"$f":"MATCH(AK$3,Millwall!$AP117:$BA117,0)","v":{"$error":"#N/A"}},{"$f":"MATCH(AL$3,Millwall!$AP117:$BA117,0)","v":{"$error":"#N/A"}},{"$f":"MATCH(AM$3,Millwall!$AP117:$BA117,0)","v":{"$error":"#N/A"}},{"$f":"MATCH(AN$3,Millwall!$AP117:$BA117,0)","v":{"$error":"#N/A"}},{"$f":"MATCH(AO$3,Millwall!$AP117:$BA117,0)","v":{"$error":"#N/A"}},{"$f":"MATCH(AP$3,Millwall!$AP117:$BA117,0)","v":{"$error":"#N/A"}},{"$f":"MATCH(AQ$3,Millwall!$AP117:$BA117,0)","v":{"$error":"#N/A"}},{"$f":"MATCH(AR$3,Millwall!$AP117:$BA117,0)","v":{"$error":"#N/A"}},null,null,null,null,null,{"$f":"MATCH(AX$3,Millwall!$AP117:$BA117,0)","v":{"$error":"#N/A"}},{"$f":"MATCH(AY$3,Millwall!$AP117:$BA117,0)","v":{"$error":"#N/A"}},{"$f":"MATCH(AZ$3,Millwall!$AP117:$BA117,0)","v":{"$error":"#N/A"}},{"$f":"MATCH(BA$3,Millwall!$AP117:$BA117,0)","v":{"$error":"#N/A"}},{"$f":"MATCH(BB$3,Millwall!$AP117:$BA117,0)","v":{"$error":"#N/A"}},{"$f":"MATCH(BC$3,Millwall!$AP117:$BA117,0)","v":{"$error":"#N/A"}},{"$f":"MATCH(BD$3,Millwall!$AP117:$BA117,0)","v":{"$error":"#N/A"}},{"$f":"MATCH(BE$3,Millwall!$AP117:$BA117,0)","v":{"$error":"#N/A"}},{"$f":"MATCH(BF$3,Millwall!$AP117:$BA117,0)","v":{"$error":"#N/A"}},{"$f":"MATCH(BG$3,Millwall!$AP117:$BA117,0)","v":{"$error":"#N/A"}},{"$f":"MATCH(BH$3,Millwall!$AP117:$BA117,0)","v":{"$error":"#N/A"}},{"$f":"MATCH(BI$3,Millwall!$AP117:$BA117,0)","v":{"$error":"#N/A"}},{"$f":"MATCH(BJ$3,Millwall!$AP117:$BA117,0)","v":{"$error":"#N/A"}},{"$f":"MATCH(BK$3,Millwall!$AP117:$BA117,0)","v":{"$error":"#N/A"}},{"$f":"MATCH(BL$3,Millwall!$AP117:$BA117,0)","v":{"$error":"#N/A"}},{"$f":"MATCH(BM$3,Millwall!$AP117:$BA117,0)","v":{"$error":"#N/A"}},{"$f":"MATCH(BN$3,Millwall!$AP117:$BA117,0)","v":{"$error":"#N/A"}},{"$f":"MATCH(BO$3,Millwall!$AP117:$BA117,0)","v":{"$error":"#N/A"}},{"$f":"MATCH(BP$3,Millwall!$AP117:$BA117,0)","v":{"$error":"#N/A"}},{"$f":"MATCH(BQ$3,Millwall!$AP117:$BA117,0)","v":{"$error":"#N/A"}},{"$f":"MATCH(BR$3,Millwall!$AP117:$BA117,0)","v":{"$error":"#N/A"}},{"$f":"MATCH(BS$3,Millwall!$AP117:$BA117,0)","v":{"$error":"#N/A"}},{"$f":"MATCH(BT$3,Millwall!$AP117:$BA117,0)","v":{"$error":"#N/A"}},{"$f":"MATCH(BU$3,Millwall!$AP117:$BA117,0)","v":{"$error":"#N/A"}},{"$f":"MATCH(BV$3,Millwall!$AP117:$BA117,0)","v":{"$error":"#N/A"}},{"$f":"MATCH(BW$3,Millwall!$AP117:$BA117,0)","v":{"$error":"#N/A"}},{"$f":"MATCH(BX$3,Millwall!$AP117:$BA117,0)","v":{"$error":"#N/A"}},{"$f":"MATCH(BY$3,Millwall!$AP117:$BA117,0)","v":{"$error":"#N/A"}},{"$f":"MATCH(BZ$3,Millwall!$AP117:$BA117,0)","v":{"$error":"#N/A"}},{"$f":"MATCH(CA$3,Millwall!$AP117:$BA117,0)","v":{"$error":"#N/A"}},{"$f":"MATCH(CB$3,Millwall!$AP117:$BA117,0)","v":{"$error":"#N/A"}},{"$f":"MATCH(CC$3,Millwall!$AP117:$BA117,0)","v":{"$error":"#N/A"}},{"$f":"MATCH(CD$3,Millwall!$AP117:$BA117,0)","v":{"$error":"#N/A"}},{"$f":"MATCH(CE$3,Millwall!$AP117:$BA117,0)","v":{"$error":"#N/A"}}]
[null,null,0,41,null,{"$f":"Millwall!AI118","v":"1971-04-24"},null,{"$f":"Millwall!AK118","v":"Hull"},{"$f":"Millwall!AL118","v":"(H)"},{"$f":"Millwall!AO118","v":"W 4-0"},{"$f":"MATCH(K$4,Millwall!$AP118:$BA118,0)","v":11},{"$f":"MATCH(L$4,Millwall!$AP118:$BA118,0)","v":8},{"$f":"MATCH(M$4,Millwall!$AP118:$BA118,0)","v":9},{"$f":"MATCH(N$4,Millwall!$AP118:$BA118,0)","v":2},{"$f":"MATCH(O$4,Millwall!$AP118:$BA118,0)","v":{"$error":"#N/A"}},{"$f":"MATCH(P$4,Millwall!$AP118:$BA118,0)","v":6},{"$f":"MATCH(Q$4,Millwall!$AP118:$BA118,0)","v":{"$error":"#N/A"}},{"$f":"MATCH(R$4,Millwall!$AP118:$BA118,0)","v":3},{"$f":"MATCH(S$4,Millwall!$AP118:$BA118,0)","v":4},{"$f":"MATCH(T$4,Millwall!$AP118:$BA118,0)","v":10},{"$f":"MATCH(U$4,Millwall!$AP118:$BA118,0)","v":{"$error":"#N/A"}},{"$f":"MATCH(V$4,Millwall!$AP118:$BA118,0)","v":{"$error":"#N/A"}},{"$f":"MATCH(W$4,Millwall!$AP118:$BA118,0)","v":{"$error":"#N/A"}},{"$f":"MATCH(X$4,Millwall!$AP118:$BA118,0)","v":1},{"$f":"MATCH(Y$4,Millwall!$AP118:$BA118,0)","v":5},{"$f":"MATCH(Z$4,Millwall!$AP118:$BA118,0)","v":{"$error":"#N/A"}},{"$f":"MATCH(AA$4,Millwall!$AP118:$BA118,0)","v":7},{"$f":"MATCH(AB$4,Millwall!$AP118:$BA118,0)","v":{"$error":"#N/A"}},{"$f":"MATCH(AC$4,Millwall!$AP118:$BA118,0)","v":{"$error":"#N/A"}},{"$f":"MATCH(AD$4,Millwall!$AP118:$BA118,0)","v":{"$error":"#N/A"}},{"$f":"MATCH(AE$4,Millwall!$AP118:$BA118,0)","v":{"$error":"#N/A"}},{"$f":"MATCH(AF$4,Millwall!$AP118:$BA118,0)","v":{"$error":"#N/A"}},{"$f":"MATCH(AG$4,Millwall!$AP118:$BA118,0)","v":{"$error":"#N/A"}},{"$f":"MATCH(AH$3,Millwall!$AP118:$BA118,0)","v":{"$error":"#N/A"}},{"$f":"MATCH(AI$3,Millwall!$AP118:$BA118,0)","v":{"$error":"#N/A"}},{"$f":"MATCH(AJ$3,Millwall!$AP118:$BA118,0)","v":{"$error":"#N/A"}},{"$f":"MATCH(AK$3,Millwall!$AP118:$BA118,0)","v":{"$error":"#N/A"}},{"$f":"MATCH(AL$3,Millwall!$AP118:$BA118,0)","v":{"$error":"#N/A"}},{"$f":"MATCH(AM$3,Millwall!$AP118:$BA118,0)","v":{"$error":"#N/A"}},{"$f":"MATCH(AN$3,Millwall!$AP118:$BA118,0)","v":{"$error":"#N/A"}},{"$f":"MATCH(AO$3,Millwall!$AP118:$BA118,0)","v":{"$error":"#N/A"}},{"$f":"MATCH(AP$3,Millwall!$AP118:$BA118,0)","v":{"$error":"#N/A"}},{"$f":"MATCH(AQ$3,Millwall!$AP118:$BA118,0)","v":{"$error":"#N/A"}},{"$f":"MATCH(AR$3,Millwall!$AP118:$BA118,0)","v":{"$error":"#N/A"}},null,null,null,null,null,{"$f":"MATCH(AX$3,Millwall!$AP118:$BA118,0)","v":{"$error":"#N/A"}},{"$f":"MATCH(AY$3,Millwall!$AP118:$BA118,0)","v":{"$error":"#N/A"}},{"$f":"MATCH(AZ$3,Millwall!$AP118:$BA118,0)","v":{"$error":"#N/A"}},{"$f":"MATCH(BA$3,Millwall!$AP118:$BA118,0)","v":{"$error":"#N/A"}},{"$f":"MATCH(BB$3,Millwall!$AP118:$BA118,0)","v":{"$error":"#N/A"}},{"$f":"MATCH(BC$3,Millwall!$AP118:$BA118,0)","v":{"$error":"#N/A"}},{"$f":"MATCH(BD$3,Millwall!$AP118:$BA118,0)","v":{"$error":"#N/A"}},{"$f":"MATCH(BE$3,Millwall!$AP118:$BA118,0)","v":{"$error":"#N/A"}},{"$f":"MATCH(BF$3,Millwall!$AP118:$BA118,0)","v":{"$error":"#N/A"}},{"$f":"MATCH(BG$3,Millwall!$AP118:$BA118,0)","v":{"$error":"#N/A"}},{"$f":"MATCH(BH$3,Millwall!$AP118:$BA118,0)","v":{"$error":"#N/A"}},{"$f":"MATCH(BI$3,Millwall!$AP118:$BA118,0)","v":{"$error":"#N/A"}},{"$f":"MATCH(BJ$3,Millwall!$AP118:$BA118,0)","v":{"$error":"#N/A"}},{"$f":"MATCH(BK$3,Millwall!$AP118:$BA118,0)","v":{"$error":"#N/A"}},{"$f":"MATCH(BL$3,Millwall!$AP118:$BA118,0)","v":{"$error":"#N/A"}},{"$f":"MATCH(BM$3,Millwall!$AP118:$BA118,0)","v":{"$error":"#N/A"}},{"$f":"MATCH(BN$3,Millwall!$AP118:$BA118,0)","v":{"$error":"#N/A"}},{"$f":"MATCH(BO$3,Millwall!$AP118:$BA118,0)","v":{"$error":"#N/A"}},{"$f":"MATCH(BP$3,Millwall!$AP118:$BA118,0)","v":{"$error":"#N/A"}},{"$f":"MATCH(BQ$3,Millwall!$AP118:$BA118,0)","v":{"$error":"#N/A"}},{"$f":"MATCH(BR$3,Millwall!$AP118:$BA118,0)","v":{"$error":"#N/A"}},{"$f":"MATCH(BS$3,Millwall!$AP118:$BA118,0)","v":{"$error":"#N/A"}},{"$f":"MATCH(BT$3,Millwall!$AP118:$BA118,0)","v":{"$error":"#N/A"}},{"$f":"MATCH(BU$3,Millwall!$AP118:$BA118,0)","v":{"$error":"#N/A"}},{"$f":"MATCH(BV$3,Millwall!$AP118:$BA118,0)","v":{"$error":"#N/A"}},{"$f":"MATCH(BW$3,Millwall!$AP118:$BA118,0)","v":{"$error":"#N/A"}},{"$f":"MATCH(BX$3,Millwall!$AP118:$BA118,0)","v":{"$error":"#N/A"}},{"$f":"MATCH(BY$3,Millwall!$AP118:$BA118,0)","v":{"$error":"#N/A"}},{"$f":"MATCH(BZ$3,Millwall!$AP118:$BA118,0)","v":{"$error":"#N/A"}},{"$f":"MATCH(CA$3,Millwall!$AP118:$BA118,0)","v":{"$error":"#N/A"}},{"$f":"MATCH(CB$3,Millwall!$AP118:$BA118,0)","v":{"$error":"#N/A"}},{"$f":"MATCH(CC$3,Millwall!$AP118:$BA118,0)","v":{"$error":"#N/A"}},{"$f":"MATCH(CD$3,Millwall!$AP118:$BA118,0)","v":{"$error":"#N/A"}},{"$f":"MATCH(CE$3,Millwall!$AP118:$BA118,0)","v":{"$error":"#N/A"}}]
[null,null,0,42,null,{"$f":"Millwall!AI119","v":"1971-05-01"},null,{"$f":"Millwall!AK119","v":"Sunderland"},{"$f":"Millwall!AL119","v":"(A)"},{"$f":"Millwall!AO119","v":"W 1-0"},{"$f":"MATCH(K$4,Millwall!$AP119:$BA119,0)","v":{"$error":"#N/A"}},{"$f":"MATCH(L$4,Millwall!$AP119:$BA119,0)","v":8},{"$f":"MATCH(M$4,Millwall!$AP119:$BA119,0)","v":9},{"$f":"MATCH(N$4,Millwall!$AP119:$BA119,0)","v":2},{"$f":"MATCH(O$4,Millwall!$AP119:$BA119,0)","v":{"$error":"#N/A"}},{"$f":"MATCH(P$4,Millwall!$AP119:$BA119,0)","v":6},{"$f":"MATCH(Q$4,Millwall!$AP119:$BA119,0)","v":11},{"$f":"MATCH(R$4,Millwall!$AP119:$BA119,0)","v":3},{"$f":"MATCH(S$4,Millwall!$AP119:$BA119,0)","v":4},{"$f":"MATCH(T$4,Millwall!$AP119:$BA119,0)","v":10},{"$f":"MATCH(U$4,Millwall!$AP119:$BA119,0)","v":{"$error":"#N/A"}},{"$f":"MATCH(V$4,Millwall!$AP119:$BA119,0)","v":{"$error":"#N/A"}},{"$f":"MATCH(W$4,Millwall!$AP119:$BA119,0)","v":{"$error":"#N/A"}},{"$f":"MATCH(X$4,Millwall!$AP119:$BA119,0)","v":1},{"$f":"MATCH(Y$4,Millwall!$AP119:$BA119,0)","v":5},{"$f":"MATCH(Z$4,Millwall!$AP119:$BA119,0)","v":{"$error":"#N/A"}},{"$f":"MATCH(AA$4,Millwall!$AP119:$BA119,0)","v":7},{"$f":"MATCH(AB$4,Millwall!$AP119:$BA119,0)","v":{"$error":"#N/A"}},{"$f":"MATCH(AC$4,Millwall!$AP119:$BA119,0)","v":{"$error":"#N/A"}},{"$f":"MATCH(AD$4,Millwall!$AP119:$BA119,0)","v":{"$error":"#N/A"}},{"$f":"MATCH(AE$4,Millwall!$AP119:$BA119,0)","v":{"$error":"#N/A"}},{"$f":"MATCH(AF$4,Millwall!$AP119:$BA119,0)","v":{"$error":"#N/A"}},{"$f":"MATCH(AG$4,Millwall!$AP119:$BA119,0)","v":{"$error":"#N/A"}},{"$f":"MATCH(AH$3,Millwall!$AP119:$BA119,0)","v":{"$error":"#N/A"}},{"$f":"MATCH(AI$3,Millwall!$AP119:$BA119,0)","v":{"$error":"#N/A"}},{"$f":"MATCH(AJ$3,Millwall!$AP119:$BA119,0)","v":{"$error":"#N/A"}},{"$f":"MATCH(AK$3,Millwall!$AP119:$BA119,0)","v":{"$error":"#N/A"}},{"$f":"MATCH(AL$3,Millwall!$AP119:$BA119,0)","v":{"$error":"#N/A"}},{"$f":"MATCH(AM$3,Millwall!$AP119:$BA119,0)","v":{"$error":"#N/A"}},{"$f":"MATCH(AN$3,Millwall!$AP119:$BA119,0)","v":{"$error":"#N/A"}},{"$f":"MATCH(AO$3,Millwall!$AP119:$BA119,0)","v":{"$error":"#N/A"}},{"$f":"MATCH(AP$3,Millwall!$AP119:$BA119,0)","v":{"$error":"#N/A"}},{"$f":"MATCH(AQ$3,Millwall!$AP119:$BA119,0)","v":{"$error":"#N/A"}},{"$f":"MATCH(AR$3,Millwall!$AP119:$BA119,0)","v":{"$error":"#N/A"}},null,null,null,null,null,{"$f":"MATCH(AX$3,Millwall!$AP119:$BA119,0)","v":{"$error":"#N/A"}},{"$f":"MATCH(AY$3,Millwall!$AP119:$BA119,0)","v":{"$error":"#N/A"}},{"$f":"MATCH(AZ$3,Millwall!$AP119:$BA119,0)","v":{"$error":"#N/A"}},{"$f":"MATCH(BA$3,Millwall!$AP119:$BA119,0)","v":{"$error":"#N/A"}},{"$f":"MATCH(BB$3,Millwall!$AP119:$BA119,0)","v":{"$error":"#N/A"}},{"$f":"MATCH(BC$3,Millwall!$AP119:$BA119,0)","v":{"$error":"#N/A"}},{"$f":"MATCH(BD$3,Millwall!$AP119:$BA119,0)","v":{"$error":"#N/A"}},{"$f":"MATCH(BE$3,Millwall!$AP119:$BA119,0)","v":{"$error":"#N/A"}},{"$f":"MATCH(BF$3,Millwall!$AP119:$BA119,0)","v":{"$error":"#N/A"}},{"$f":"MATCH(BG$3,Millwall!$AP119:$BA119,0)","v":{"$error":"#N/A"}},{"$f":"MATCH(BH$3,Millwall!$AP119:$BA119,0)","v":{"$error":"#N/A"}},{"$f":"MATCH(BI$3,Millwall!$AP119:$BA119,0)","v":{"$error":"#N/A"}},{"$f":"MATCH(BJ$3,Millwall!$AP119:$BA119,0)","v":{"$error":"#N/A"}},{"$f":"MATCH(BK$3,Millwall!$AP119:$BA119,0)","v":{"$error":"#N/A"}},{"$f":"MATCH(BL$3,Millwall!$AP119:$BA119,0)","v":{"$error":"#N/A"}},{"$f":"MATCH(BM$3,Millwall!$AP119:$BA119,0)","v":{"$error":"#N/A"}},{"$f":"MATCH(BN$3,Millwall!$AP119:$BA119,0)","v":{"$error":"#N/A"}},{"$f":"MATCH(BO$3,Millwall!$AP119:$BA119,0)","v":{"$error":"#N/A"}},{"$f":"MATCH(BP$3,Millwall!$AP119:$BA119,0)","v":{"$error":"#N/A"}},{"$f":"MATCH(BQ$3,Millwall!$AP119:$BA119,0)","v":{"$error":"#N/A"}},{"$f":"MATCH(BR$3,Millwall!$AP119:$BA119,0)","v":{"$error":"#N/A"}},{"$f":"MATCH(BS$3,Millwall!$AP119:$BA119,0)","v":{"$error":"#N/A"}},{"$f":"MATCH(BT$3,Millwall!$AP119:$BA119,0)","v":{"$error":"#N/A"}},{"$f":"MATCH(BU$3,Millwall!$AP119:$BA119,0)","v":{"$error":"#N/A"}},{"$f":"MATCH(BV$3,Millwall!$AP119:$BA119,0)","v":{"$error":"#N/A"}},{"$f":"MATCH(BW$3,Millwall!$AP119:$BA119,0)","v":{"$error":"#N/A"}},{"$f":"MATCH(BX$3,Millwall!$AP119:$BA119,0)","v":{"$error":"#N/A"}},{"$f":"MATCH(BY$3,Millwall!$AP119:$BA119,0)","v":{"$error":"#N/A"}},{"$f":"MATCH(BZ$3,Millwall!$AP119:$BA119,0)","v":{"$error":"#N/A"}},{"$f":"MATCH(CA$3,Millwall!$AP119:$BA119,0)","v":{"$error":"#N/A"}},{"$f":"MATCH(CB$3,Millwall!$AP119:$BA119,0)","v":{"$error":"#N/A"}},{"$f":"MATCH(CC$3,Millwall!$AP119:$BA119,0)","v":{"$error":"#N/A"}},{"$f":"MATCH(CD$3,Millwall!$AP119:$BA119,0)","v":{"$error":"#N/A"}},{"$f":"MATCH(CE$3,Millwall!$AP119:$BA119,0)","v":{"$error":"#N/A"}}]
[null,null,1,43,null,{"$f":"Millwall!AI120","v":"00:00:00"},null,{"$f":"Millwall!AK120","v":"00:00:00"},{"$f":"Millwall!AL120","v":"00:00:00"},{"$f":"Millwall!AO120","v":0},{"$f":"MATCH(K$4,Millwall!$AP120:$BA120,0)","v":{"$error":"#N/A"}},{"$f":"MATCH(L$4,Millwall!$AP120:$BA120,0)","v":{"$error":"#N/A"}},{"$f":"MATCH(M$4,Millwall!$AP120:$BA120,0)","v":{"$error":"#N/A"}},{"$f":"MATCH(N$4,Millwall!$AP120:$BA120,0)","v":{"$error":"#N/A"}},{"$f":"MATCH(O$4,Millwall!$AP120:$BA120,0)","v":{"$error":"#N/A"}},{"$f":"MATCH(P$4,Millwall!$AP120:$BA120,0)","v":{"$error":"#N/A"}},{"$f":"MATCH(Q$4,Millwall!$AP120:$BA120,0)","v":{"$error":"#N/A"}},{"$f":"MATCH(R$4,Millwall!$AP120:$BA120,0)","v":{"$error":"#N/A"}},{"$f":"MATCH(S$4,Millwall!$AP120:$BA120,0)","v":{"$error":"#N/A"}},{"$f":"MATCH(T$4,Millwall!$AP120:$BA120,0)","v":{"$error":"#N/A"}},{"$f":"MATCH(U$4,Millwall!$AP120:$BA120,0)","v":{"$error":"#N/A"}},{"$f":"MATCH(V$4,Millwall!$AP120:$BA120,0)","v":{"$error":"#N/A"}},{"$f":"MATCH(W$4,Millwall!$AP120:$BA120,0)","v":{"$error":"#N/A"}},{"$f":"MATCH(X$4,Millwall!$AP120:$BA120,0)","v":{"$error":"#N/A"}},{"$f":"MATCH(Y$4,Millwall!$AP120:$BA120,0)","v":{"$error":"#N/A"}},{"$f":"MATCH(Z$4,Millwall!$AP120:$BA120,0)","v":{"$error":"#N/A"}},{"$f":"MATCH(AA$4,Millwall!$AP120:$BA120,0)","v":{"$error":"#N/A"}},{"$f":"MATCH(AB$4,Millwall!$AP120:$BA120,0)","v":{"$error":"#N/A"}},{"$f":"MATCH(AC$4,Millwall!$AP120:$BA120,0)","v":{"$error":"#N/A"}},{"$f":"MATCH(AD$4,Millwall!$AP120:$BA120,0)","v":{"$error":"#N/A"}},{"$f":"MATCH(AE$4,Millwall!$AP120:$BA120,0)","v":{"$error":"#N/A"}},{"$f":"MATCH(AF$4,Millwall!$AP120:$BA120,0)","v":{"$error":"#N/A"}},{"$f":"MATCH(AG$4,Millwall!$AP120:$BA120,0)","v":{"$error":"#N/A"}},{"$f":"MATCH(AH$3,Millwall!$AP120:$BA120,0)","v":{"$error":"#N/A"}},{"$f":"MATCH(AI$3,Millwall!$AP120:$BA120,0)","v":{"$error":"#N/A"}},{"$f":"MATCH(AJ$3,Millwall!$AP120:$BA120,0)","v":{"$error":"#N/A"}},{"$f":"MATCH(AK$3,Millwall!$AP120:$BA120,0)","v":{"$error":"#N/A"}},{"$f":"MATCH(AL$3,Millwall!$AP120:$BA120,0)","v":{"$error":"#N/A"}},{"$f":"MATCH(AM$3,Millwall!$AP120:$BA120,0)","v":{"$error":"#N/A"}},{"$f":"MATCH(AN$3,Millwall!$AP120:$BA120,0)","v":{"$error":"#N/A"}},{"$f":"MATCH(AO$3,Millwall!$AP120:$BA120,0)","v":{"$error":"#N/A"}},{"$f":"MATCH(AP$3,Millwall!$AP120:$BA120,0)","v":{"$error":"#N/A"}},{"$f":"MATCH(AQ$3,Millwall!$AP120:$BA120,0)","v":{"$error":"#N/A"}},{"$f":"MATCH(AR$3,Millwall!$AP120:$BA120,0)","v":{"$error":"#N/A"}},null,null,null,null,null,{"$f":"MATCH(AX$3,Millwall!$AP120:$BA120,0)","v":{"$error":"#N/A"}},{"$f":"MATCH(AY$3,Millwall!$AP120:$BA120,0)","v":{"$error":"#N/A"}},{"$f":"MATCH(AZ$3,Millwall!$AP120:$BA120,0)","v":{"$error":"#N/A"}},{"$f":"MATCH(BA$3,Millwall!$AP120:$BA120,0)","v":{"$error":"#N/A"}},{"$f":"MATCH(BB$3,Millwall!$AP120:$BA120,0)","v":{"$error":"#N/A"}},{"$f":"MATCH(BC$3,Millwall!$AP120:$BA120,0)","v":{"$error":"#N/A"}},{"$f":"MATCH(BD$3,Millwall!$AP120:$BA120,0)","v":{"$error":"#N/A"}},{"$f":"MATCH(BE$3,Millwall!$AP120:$BA120,0)","v":{"$error":"#N/A"}},{"$f":"MATCH(BF$3,Millwall!$AP120:$BA120,0)","v":{"$error":"#N/A"}},{"$f":"MATCH(BG$3,Millwall!$AP120:$BA120,0)","v":{"$error":"#N/A"}},{"$f":"MATCH(BH$3,Millwall!$AP120:$BA120,0)","v":{"$error":"#N/A"}},{"$f":"MATCH(BI$3,Millwall!$AP120:$BA120,0)","v":{"$error":"#N/A"}},{"$f":"MATCH(BJ$3,Millwall!$AP120:$BA120,0)","v":{"$error":"#N/A"}},{"$f":"MATCH(BK$3,Millwall!$AP120:$BA120,0)","v":{"$error":"#N/A"}},{"$f":"MATCH(BL$3,Millwall!$AP120:$BA120,0)","v":{"$error":"#N/A"}},{"$f":"MATCH(BM$3,Millwall!$AP120:$BA120,0)","v":{"$error":"#N/A"}},{"$f":"MATCH(BN$3,Millwall!$AP120:$BA120,0)","v":{"$error":"#N/A"}},{"$f":"MATCH(BO$3,Millwall!$AP120:$BA120,0)","v":{"$error":"#N/A"}},{"$f":"MATCH(BP$3,Millwall!$AP120:$BA120,0)","v":{"$error":"#N/A"}},{"$f":"MATCH(BQ$3,Millwall!$AP120:$BA120,0)","v":{"$error":"#N/A"}},{"$f":"MATCH(BR$3,Millwall!$AP120:$BA120,0)","v":{"$error":"#N/A"}},{"$f":"MATCH(BS$3,Millwall!$AP120:$BA120,0)","v":{"$error":"#N/A"}},{"$f":"MATCH(BT$3,Millwall!$AP120:$BA120,0)","v":{"$error":"#N/A"}},{"$f":"MATCH(BU$3,Millwall!$AP120:$BA120,0)","v":{"$error":"#N/A"}},{"$f":"MATCH(BV$3,Millwall!$AP120:$BA120,0)","v":{"$error":"#N/A"}},{"$f":"MATCH(BW$3,Millwall!$AP120:$BA120,0)","v":{"$error":"#N/A"}},{"$f":"MATCH(BX$3,Millwall!$AP120:$BA120,0)","v":{"$error":"#N/A"}},{"$f":"MATCH(BY$3,Millwall!$AP120:$BA120,0)","v":{"$error":"#N/A"}},{"$f":"MATCH(BZ$3,Millwall!$AP120:$BA120,0)","v":{"$error":"#N/A"}},{"$f":"MATCH(CA$3,Millwall!$AP120:$BA120,0)","v":{"$error":"#N/A"}},{"$f":"MATCH(CB$3,Millwall!$AP120:$BA120,0)","v":{"$error":"#N/A"}},{"$f":"MATCH(CC$3,Millwall!$AP120:$BA120,0)","v":{"$error":"#N/A"}},{"$f":"MATCH(CD$3,Millwall!$AP120:$BA120,0)","v":{"$error":"#N/A"}},{"$f":"MATCH(CE$3,Millwall!$AP120:$BA120,0)","v":{"$error":"#N/A"}}]
[null,null,1,44,null,{"$f":"Millwall!AI121","v":"00:00:00"},null,{"$f":"Millwall!AK121","v":"00:00:00"},{"$f":"Millwall!AL121","v":"00:00:00"},{"$f":"Millwall!AO121","v":0},{"$f":"MATCH(K$4,Millwall!$AP121:$BA121,0)","v":{"$error":"#N/A"}},{"$f":"MATCH(L$4,Millwall!$AP121:$BA121,0)","v":{"$error":"#N/A"}},{"$f":"MATCH(M$4,Millwall!$AP121:$BA121,0)","v":{"$error":"#N/A"}},{"$f":"MATCH(N$4,Millwall!$AP121:$BA121,0)","v":{"$error":"#N/A"}},{"$f":"MATCH(O$4,Millwall!$AP121:$BA121,0)","v":{"$error":"#N/A"}},{"$f":"MATCH(P$4,Millwall!$AP121:$BA121,0)","v":{"$error":"#N/A"}},{"$f":"MATCH(Q$4,Millwall!$AP121:$BA121,0)","v":{"$error":"#N/A"}},{"$f":"MATCH(R$4,Millwall!$AP121:$BA121,0)","v":{"$error":"#N/A"}},{"$f":"MATCH(S$4,Millwall!$AP121:$BA121,0)","v":{"$error":"#N/A"}},{"$f":"MATCH(T$4,Millwall!$AP121:$BA121,0)","v":{"$error":"#N/A"}},{"$f":"MATCH(U$4,Millwall!$AP121:$BA121,0)","v":{"$error":"#N/A"}},{"$f":"MATCH(V$4,Millwall!$AP121:$BA121,0)","v":{"$error":"#N/A"}},{"$f":"MATCH(W$4,Millwall!$AP121:$BA121,0)","v":{"$error":"#N/A"}},{"$f":"MATCH(X$4,Millwall!$AP121:$BA121,0)","v":{"$error":"#N/A"}},{"$f":"MATCH(Y$4,Millwall!$AP121:$BA121,0)","v":{"$error":"#N/A"}},{"$f":"MATCH(Z$4,Millwall!$AP121:$BA121,0)","v":{"$error":"#N/A"}},{"$f":"MATCH(AA$4,Millwall!$AP121:$BA121,0)","v":{"$error":"#N/A"}},{"$f":"MATCH(AB$4,Millwall!$AP121:$BA121,0)","v":{"$error":"#N/A"}},{"$f":"MATCH(AC$4,Millwall!$AP121:$BA121,0)","v":{"$error":"#N/A"}},{"$f":"MATCH(AD$4,Millwall!$AP121:$BA121,0)","v":{"$error":"#N/A"}},{"$f":"MATCH(AE$4,Millwall!$AP121:$BA121,0)","v":{"$error":"#N/A"}},{"$f":"MATCH(AF$4,Millwall!$AP121:$BA121,0)","v":{"$error":"#N/A"}},{"$f":"MATCH(AG$4,Millwall!$AP121:$BA121,0)","v":{"$error":"#N/A"}},{"$f":"MATCH(AH$3,Millwall!$AP121:$BA121,0)","v":{"$error":"#N/A"}},{"$f":"MATCH(AI$3,Millwall!$AP121:$BA121,0)","v":{"$error":"#N/A"}},{"$f":"MATCH(AJ$3,Millwall!$AP121:$BA121,0)","v":{"$error":"#N/A"}},{"$f":"MATCH(AK$3,Millwall!$AP121:$BA121,0)","v":{"$error":"#N/A"}},{"$f":"MATCH(AL$3,Millwall!$AP121:$BA121,0)","v":{"$error":"#N/A"}},{"$f":"MATCH(AM$3,Millwall!$AP121:$BA121,0)","v":{"$error":"#N/A"}},{"$f":"MATCH(AN$3,Millwall!$AP121:$BA121,0)","v":{"$error":"#N/A"}},{"$f":"MATCH(AO$3,Millwall!$AP121:$BA121,0)","v":{"$error":"#N/A"}},{"$f":"MATCH(AP$3,Millwall!$AP121:$BA121,0)","v":{"$error":"#N/A"}},{"$f":"MATCH(AQ$3,Millwall!$AP121:$BA121,0)","v":{"$error":"#N/A"}},{"$f":"MATCH(AR$3,Millwall!$AP121:$BA121,0)","v":{"$error":"#N/A"}},null,null,null,null,null,{"$f":"MATCH(AX$3,Millwall!$AP121:$BA121,0)","v":{"$error":"#N/A"}},{"$f":"MATCH(AY$3,Millwall!$AP121:$BA121,0)","v":{"$error":"#N/A"}},{"$f":"MATCH(AZ$3,Millwall!$AP121:$BA121,0)","v":{"$error":"#N/A"}},{"$f":"MATCH(BA$3,Millwall!$AP121:$BA121,0)","v":{"$error":"#N/A"}},{"$f":"MATCH(BB$3,Millwall!$AP121:$BA121,0)","v":{"$error":"#N/A"}},{"$f":"MATCH(BC$3,Millwall!$AP121:$BA121,0)","v":{"$error":"#N/A"}},{"$f":"MATCH(BD$3,Millwall!$AP121:$BA121,0)","v":{"$error":"#N/A"}},{"$f":"MATCH(BE$3,Millwall!$AP121:$BA121,0)","v":{"$error":"#N/A"}},{"$f":"MATCH(BF$3,Millwall!$AP121:$BA121,0)","v":{"$error":"#N/A"}},{"$f":"MATCH(BG$3,Millwall!$AP121:$BA121,0)","v":{"$error":"#N/A"}},{"$f":"MATCH(BH$3,Millwall!$AP121:$BA121,0)","v":{"$error":"#N/A"}},{"$f":"MATCH(BI$3,Millwall!$AP121:$BA121,0)","v":{"$error":"#N/A"}},{"$f":"MATCH(BJ$3,Millwall!$AP121:$BA121,0)","v":{"$error":"#N/A"}},{"$f":"MATCH(BK$3,Millwall!$AP121:$BA121,0)","v":{"$error":"#N/A"}},{"$f":"MATCH(BL$3,Millwall!$AP121:$BA121,0)","v":{"$error":"#N/A"}},{"$f":"MATCH(BM$3,Millwall!$AP121:$BA121,0)","v":{"$error":"#N/A"}},{"$f":"MATCH(BN$3,Millwall!$AP121:$BA121,0)","v":{"$error":"#N/A"}},{"$f":"MATCH(BO$3,Millwall!$AP121:$BA121,0)","v":{"$error":"#N/A"}},{"$f":"MATCH(BP$3,Millwall!$AP121:$BA121,0)","v":{"$error":"#N/A"}},{"$f":"MATCH(BQ$3,Millwall!$AP121:$BA121,0)","v":{"$error":"#N/A"}},{"$f":"MATCH(BR$3,Millwall!$AP121:$BA121,0)","v":{"$error":"#N/A"}},{"$f":"MATCH(BS$3,Millwall!$AP121:$BA121,0)","v":{"$error":"#N/A"}},{"$f":"MATCH(BT$3,Millwall!$AP121:$BA121,0)","v":{"$error":"#N/A"}},{"$f":"MATCH(BU$3,Millwall!$AP121:$BA121,0)","v":{"$error":"#N/A"}},{"$f":"MATCH(BV$3,Millwall!$AP121:$BA121,0)","v":{"$error":"#N/A"}},{"$f":"MATCH(BW$3,Millwall!$AP121:$BA121,0)","v":{"$error":"#N/A"}},{"$f":"MATCH(BX$3,Millwall!$AP121:$BA121,0)","v":{"$error":"#N/A"}},{"$f":"MATCH(BY$3,Millwall!$AP121:$BA121,0)","v":{"$error":"#N/A"}},{"$f":"MATCH(BZ$3,Millwall!$AP121:$BA121,0)","v":{"$error":"#N/A"}},{"$f":"MATCH(CA$3,Millwall!$AP121:$BA121,0)","v":{"$error":"#N/A"}},{"$f":"MATCH(CB$3,Millwall!$AP121:$BA121,0)","v":{"$error":"#N/A"}},{"$f":"MATCH(CC$3,Millwall!$AP121:$BA121,0)","v":{"$error":"#N/A"}},{"$f":"MATCH(CD$3,Millwall!$AP121:$BA121,0)","v":{"$error":"#N/A"}},{"$f":"MATCH(CE$3,Millwall!$AP121:$BA121,0)","v":{"$error":"#N/A"}}]
[null,null,1,45,null,{"$f":"Millwall!AI122","v":"00:00:00"},null,{"$f":"Millwall!AK122","v":"00:00:00"},{"$f":"Millwall!AL122","v":"00:00:00"},{"$f":"Millwall!AO122","v":0},{"$f":"MATCH(K$4,Millwall!$AP122:$BA122,0)","v":{"$error":"#N/A"}},{"$f":"MATCH(L$4,Millwall!$AP122:$BA122,0)","v":{"$error":"#N/A"}},{"$f":"MATCH(M$4,Millwall!$AP122:$BA122,0)","v":{"$error":"#N/A"}},{"$f":"MATCH(N$4,Millwall!$AP122:$BA122,0)","v":{"$error":"#N/A"}},{"$f":"MATCH(O$4,Millwall!$AP122:$BA122,0)","v":{"$error":"#N/A"}},{"$f":"MATCH(P$4,Millwall!$AP122:$BA122,0)","v":{"$error":"#N/A"}},{"$f":"MATCH(Q$4,Millwall!$AP122:$BA122,0)","v":{"$error":"#N/A"}},{"$f":"MATCH(R$4,Millwall!$AP122:$BA122,0)","v":{"$error":"#N/A"}},{"$f":"MATCH(S$4,Millwall!$AP122:$BA122,0)","v":{"$error":"#N/A"}},{"$f":"MATCH(T$4,Millwall!$AP122:$BA122,0)","v":{"$error":"#N/A"}},{"$f":"MATCH(U$4,Millwall!$AP122:$BA122,0)","v":{"$error":"#N/A"}},{"$f":"MATCH(V$4,Millwall!$AP122:$BA122,0)","v":{"$error":"#N/A"}},{"$f":"MATCH(W$4,Millwall!$AP122:$BA122,0)","v":{"$error":"#N/A"}},{"$f":"MATCH(X$4,Millwall!$AP122:$BA122,0)","v":{"$error":"#N/A"}},{"$f":"MATCH(Y$4,Millwall!$AP122:$BA122,0)","v":{"$error":"#N/A"}},{"$f":"MATCH(Z$4,Millwall!$AP122:$BA122,0)","v":{"$error":"#N/A"}},{"$f":"MATCH(AA$4,Millwall!$AP122:$BA122,0)","v":{"$error":"#N/A"}},{"$f":"MATCH(AB$4,Millwall!$AP122:$BA122,0)","v":{"$error":"#N/A"}},{"$f":"MATCH(AC$4,Millwall!$AP122:$BA122,0)","v":{"$error":"#N/A"}},{"$f":"MATCH(AD$4,Millwall!$AP122:$BA122,0)","v":{"$error":"#N/A"}},{"$f":"MATCH(AE$4,Millwall!$AP122:$BA122,0)","v":{"$error":"#N/A"}},{"$f":"MATCH(AF$4,Millwall!$AP122:$BA122,0)","v":{"$error":"#N/A"}},{"$f":"MATCH(AG$4,Millwall!$AP122:$BA122,0)","v":{"$error":"#N/A"}},{"$f":"MATCH(AH$3,Millwall!$AP122:$BA122,0)","v":{"$error":"#N/A"}},{"$f":"MATCH(AI$3,Millwall!$AP122:$BA122,0)","v":{"$error":"#N/A"}},{"$f":"MATCH(AJ$3,Millwall!$AP122:$BA122,0)","v":{"$error":"#N/A"}},{"$f":"MATCH(AK$3,Millwall!$AP122:$BA122,0)","v":{"$error":"#N/A"}},{"$f":"MATCH(AL$3,Millwall!$AP122:$BA122,0)","v":{"$error":"#N/A"}},{"$f":"MATCH(AM$3,Millwall!$AP122:$BA122,0)","v":{"$error":"#N/A"}},{"$f":"MATCH(AN$3,Millwall!$AP122:$BA122,0)","v":{"$error":"#N/A"}},{"$f":"MATCH(AO$3,Millwall!$AP122:$BA122,0)","v":{"$error":"#N/A"}},{"$f":"MATCH(AP$3,Millwall!$AP122:$BA122,0)","v":{"$error":"#N/A"}},{"$f":"MATCH(AQ$3,Millwall!$AP122:$BA122,0)","v":{"$error":"#N/A"}},{"$f":"MATCH(AR$3,Millwall!$AP122:$BA122,0)","v":{"$error":"#N/A"}},null,null,null,null,null,{"$f":"MATCH(AX$3,Millwall!$AP122:$BA122,0)","v":{"$error":"#N/A"}},{"$f":"MATCH(AY$3,Millwall!$AP122:$BA122,0)","v":{"$error":"#N/A"}},{"$f":"MATCH(AZ$3,Millwall!$AP122:$BA122,0)","v":{"$error":"#N/A"}},{"$f":"MATCH(BA$3,Millwall!$AP122:$BA122,0)","v":{"$error":"#N/A"}},{"$f":"MATCH(BB$3,Millwall!$AP122:$BA122,0)","v":{"$error":"#N/A"}},{"$f":"MATCH(BC$3,Millwall!$AP122:$BA122,0)","v":{"$error":"#N/A"}},{"$f":"MATCH(BD$3,Millwall!$AP122:$BA122,0)","v":{"$error":"#N/A"}},{"$f":"MATCH(BE$3,Millwall!$AP122:$BA122,0)","v":{"$error":"#N/A"}},{"$f":"MATCH(BF$3,Millwall!$AP122:$BA122,0)","v":{"$error":"#N/A"}},{"$f":"MATCH(BG$3,Millwall!$AP122:$BA122,0)","v":{"$error":"#N/A"}},{"$f":"MATCH(BH$3,Millwall!$AP122:$BA122,0)","v":{"$error":"#N/A"}},{"$f":"MATCH(BI$3,Millwall!$AP122:$BA122,0)","v":{"$error":"#N/A"}},{"$f":"MATCH(BJ$3,Millwall!$AP122:$BA122,0)","v":{"$error":"#N/A"}},{"$f":"MATCH(BK$3,Millwall!$AP122:$BA122,0)","v":{"$error":"#N/A"}},{"$f":"MATCH(BL$3,Millwall!$AP122:$BA122,0)","v":{"$error":"#N/A"}},{"$f":"MATCH(BM$3,Millwall!$AP122:$BA122,0)","v":{"$error":"#N/A"}},{"$f":"MATCH(BN$3,Millwall!$AP122:$BA122,0)","v":{"$error":"#N/A"}},{"$f":"MATCH(BO$3,Millwall!$AP122:$BA122,0)","v":{"$error":"#N/A"}},{"$f":"MATCH(BP$3,Millwall!$AP122:$BA122,0)","v":{"$error":"#N/A"}},{"$f":"MATCH(BQ$3,Millwall!$AP122:$BA122,0)","v":{"$error":"#N/A"}},{"$f":"MATCH(BR$3,Millwall!$AP122:$BA122,0)","v":{"$error":"#N/A"}},{"$f":"MATCH(BS$3,Millwall!$AP122:$BA122,0)","v":{"$error":"#N/A"}},{"$f":"MATCH(BT$3,Millwall!$AP122:$BA122,0)","v":{"$error":"#N/A"}},{"$f":"MATCH(BU$3,Millwall!$AP122:$BA122,0)","v":{"$error":"#N/A"}},{"$f":"MATCH(BV$3,Millwall!$AP122:$BA122,0)","v":{"$error":"#N/A"}},{"$f":"MATCH(BW$3,Millwall!$AP122:$BA122,0)","v":{"$error":"#N/A"}},{"$f":"MATCH(BX$3,Millwall!$AP122:$BA122,0)","v":{"$error":"#N/A"}},{"$f":"MATCH(BY$3,Millwall!$AP122:$BA122,0)","v":{"$error":"#N/A"}},{"$f":"MATCH(BZ$3,Millwall!$AP122:$BA122,0)","v":{"$error":"#N/A"}},{"$f":"MATCH(CA$3,Millwall!$AP122:$BA122,0)","v":{"$error":"#N/A"}},{"$f":"MATCH(CB$3,Millwall!$AP122:$BA122,0)","v":{"$error":"#N/A"}},{"$f":"MATCH(CC$3,Millwall!$AP122:$BA122,0)","v":{"$error":"#N/A"}},{"$f":"MATCH(CD$3,Millwall!$AP122:$BA122,0)","v":{"$error":"#N/A"}},{"$f":"MATCH(CE$3,Millwall!$AP122:$BA122,0)","v":{"$error":"#N/A"}}]
[null,null,{"$f":"IF(J50=0,1,0)","v":1},46,null,{"$f":"Millwall!AI123","v":"00:00:00"},null,{"$f":"Millwall!AK123","v":"00:00:00"},{"$f":"Millwall!AL123","v":"00:00:00"},{"$f":"Millwall!AO123","v":0},{"$f":"MATCH(K$4,Millwall!$AP123:$BA123,0)","v":{"$error":"#N/A"}},{"$f":"MATCH(L$4,Millwall!$AP123:$BA123,0)","v":{"$error":"#N/A"}},{"$f":"MATCH(M$4,Millwall!$AP123:$BA123,0)","v":{"$error":"#N/A"}},{"$f":"MATCH(N$4,Millwall!$AP123:$BA123,0)","v":{"$error":"#N/A"}},{"$f":"MATCH(O$4,Millwall!$AP123:$BA123,0)","v":{"$error":"#N/A"}},{"$f":"MATCH(P$4,Millwall!$AP123:$BA123,0)","v":{"$error":"#N/A"}},{"$f":"MATCH(Q$4,Millwall!$AP123:$BA123,0)","v":{"$error":"#N/A"}},{"$f":"MATCH(R$4,Millwall!$AP123:$BA123,0)","v":{"$error":"#N/A"}},{"$f":"MATCH(S$4,Millwall!$AP123:$BA123,0)","v":{"$error":"#N/A"}},{"$f":"MATCH(T$4,Millwall!$AP123:$BA123,0)","v":{"$error":"#N/A"}},{"$f":"MATCH(U$4,Millwall!$AP123:$BA123,0)","v":{"$error":"#N/A"}},{"$f":"MATCH(V$4,Millwall!$AP123:$BA123,0)","v":{"$error":"#N/A"}},{"$f":"MATCH(W$4,Millwall!$AP123:$BA123,0)","v":{"$error":"#N/A"}},{"$f":"MATCH(X$4,Millwall!$AP123:$BA123,0)","v":{"$error":"#N/A"}},{"$f":"MATCH(Y$4,Millwall!$AP123:$BA123,0)","v":{"$error":"#N/A"}},{"$f":"MATCH(Z$4,Millwall!$AP123:$BA123,0)","v":{"$error":"#N/A"}},{"$f":"MATCH(AA$4,Millwall!$AP123:$BA123,0)","v":{"$error":"#N/A"}},{"$f":"MATCH(AB$4,Millwall!$AP123:$BA123,0)","v":{"$error":"#N/A"}},{"$f":"MATCH(AC$4,Millwall!$AP123:$BA123,0)","v":{"$error":"#N/A"}},{"$f":"MATCH(AD$4,Millwall!$AP123:$BA123,0)","v":{"$error":"#N/A"}},{"$f":"MATCH(AE$4,Millwall!$AP123:$BA123,0)","v":{"$error":"#N/A"}},{"$f":"MATCH(AF$4,Millwall!$AP123:$BA123,0)","v":{"$error":"#N/A"}},{"$f":"MATCH(AG$4,Millwall!$AP123:$BA123,0)","v":{"$error":"#N/A"}},{"$f":"MATCH(AH$3,Millwall!$AP123:$BA123,0)","v":{"$error":"#N/A"}},{"$f":"MATCH(AI$3,Millwall!$AP123:$BA123,0)","v":{"$error":"#N/A"}},{"$f":"MATCH(AJ$3,Millwall!$AP123:$BA123,0)","v":{"$error":"#N/A"}},{"$f":"MATCH(AK$3,Millwall!$AP123:$BA123,0)","v":{"$error":"#N/A"}},{"$f":"MATCH(AL$3,Millwall!$AP123:$BA123,0)","v":{"$error":"#N/A"}},{"$f":"MATCH(AM$3,Millwall!$AP123:$BA123,0)","v":{"$error":"#N/A"}},{"$f":"MATCH(AN$3,Millwall!$AP123:$BA123,0)","v":{"$error":"#N/A"}},{"$f":"MATCH(AO$3,Millwall!$AP123:$BA123,0)","v":{"$error":"#N/A"}},{"$f":"MATCH(AP$3,Millwall!$AP123:$BA123,0)","v":{"$error":"#N/A"}},{"$f":"MATCH(AQ$3,Millwall!$AP123:$BA123,0)","v":{"$error":"#N/A"}},{"$f":"MATCH(AR$3,Millwall!$AP123:$BA123,0)","v":{"$error":"#N/A"}},null,null,null,null,null,{"$f":"MATCH(AX$3,Millwall!$AP123:$BA123,0)","v":{"$error":"#N/A"}},{"$f":"MATCH(AY$3,Millwall!$AP123:$BA123,0)","v":{"$error":"#N/A"}},{"$f":"MATCH(AZ$3,Millwall!$AP123:$BA123,0)","v":{"$error":"#N/A"}},{"$f":"MATCH(BA$3,Millwall!$AP123:$BA123,0)","v":{"$error":"#N/A"}},{"$f":"MATCH(BB$3,Millwall!$AP123:$BA123,0)","v":{"$error":"#N/A"}},{"$f":"MATCH(BC$3,Millwall!$AP123:$BA123,0)","v":{"$error":"#N/A"}},{"$f":"MATCH(BD$3,Millwall!$AP123:$BA123,0)","v":{"$error":"#N/A"}},{"$f":"MATCH(BE$3,Millwall!$AP123:$BA123,0)","v":{"$error":"#N/A"}},{"$f":"MATCH(BF$3,Millwall!$AP123:$BA123,0)","v":{"$error":"#N/A"}},{"$f":"MATCH(BG$3,Millwall!$AP123:$BA123,0)","v":{"$error":"#N/A"}},{"$f":"MATCH(BH$3,Millwall!$AP123:$BA123,0)","v":{"$error":"#N/A"}},{"$f":"MATCH(BI$3,Millwall!$AP123:$BA123,0)","v":{"$error":"#N/A"}},{"$f":"MATCH(BJ$3,Millwall!$AP123:$BA123,0)","v":{"$error":"#N/A"}},{"$f":"MATCH(BK$3,Millwall!$AP123:$BA123,0)","v":{"$error":"#N/A"}},{"$f":"MATCH(BL$3,Millwall!$AP123:$BA123,0)","v":{"$error":"#N/A"}},{"$f":"MATCH(BM$3,Millwall!$AP123:$BA123,0)","v":{"$error":"#N/A"}},{"$f":"MATCH(BN$3,Millwall!$AP123:$BA123,0)","v":{"$error":"#N/A"}},{"$f":"MATCH(BO$3,Millwall!$AP123:$BA123,0)","v":{"$error":"#N/A"}},{"$f":"MATCH(BP$3,Millwall!$AP123:$BA123,0)","v":{"$error":"#N/A"}},{"$f":"MATCH(BQ$3,Millwall!$AP123:$BA123,0)","v":{"$error":"#N/A"}},{"$f":"MATCH(BR$3,Millwall!$AP123:$BA123,0)","v":{"$error":"#N/A"}},{"$f":"MATCH(BS$3,Millwall!$AP123:$BA123,0)","v":{"$error":"#N/A"}},{"$f":"MATCH(BT$3,Millwall!$AP123:$BA123,0)","v":{"$error":"#N/A"}},{"$f":"MATCH(BU$3,Millwall!$AP123:$BA123,0)","v":{"$error":"#N/A"}},{"$f":"MATCH(BV$3,Millwall!$AP123:$BA123,0)","v":{"$error":"#N/A"}},{"$f":"MATCH(BW$3,Millwall!$AP123:$BA123,0)","v":{"$error":"#N/A"}},{"$f":"MATCH(BX$3,Millwall!$AP123:$BA123,0)","v":{"$error":"#N/A"}},{"$f":"MATCH(BY$3,Millwall!$AP123:$BA123,0)","v":{"$error":"#N/A"}},{"$f":"MATCH(BZ$3,Millwall!$AP123:$BA123,0)","v":{"$error":"#N/A"}},{"$f":"MATCH(CA$3,Millwall!$AP123:$BA123,0)","v":{"$error":"#N/A"}},{"$f":"MATCH(CB$3,Millwall!$AP123:$BA123,0)","v":{"$error":"#N/A"}},{"$f":"MATCH(CC$3,Millwall!$AP123:$BA123,0)","v":{"$error":"#N/A"}},{"$f":"MATCH(CD$3,Millwall!$AP123:$BA123,0)","v":{"$error":"#N/A"}},{"$f":"MATCH(CE$3,Millwall!$AP123:$BA123,0)","v":{"$error":"#N/A"}}]
[]
[null,null,null,null,null,null,null,null,null,"Total League Apperances",{"$f":"COUNT(K5:K50)-K53","v":38},{"$f":"COUNT(L5:L50)-L53","v":42},35,42,1,40,2,42,39,39,2,0,10,42,42,5,41,0,0,0,0,0,0,0,0,0,0,0,0,0,0,0,0,0]
[null,null,null,null,null,null,null,null,null,"Total League Substitute Appearences ",{"$f":"COUNTIF(K5:K50,\">=12\")","v":0},0,{"$f":"COUNTIF(M5:M50,\">=12\")","v":0},{"$f":"COUNTIF(N5:N50,\">=12\")","v":0},13,0,1,0,0,1,0,1,0,0,0,1,0,0,0,0,0,0,0,0,0,0,0,0,0,0,0,0,0,0]
[null,null,null,null,null,null,null,null,null,"Goals",{"$f":"Millwall!$BV$7","v":0},{"$f":"Millwall!$BV$8","v":0},{"$f":"Millwall!$BV$9","v":0},{"$f":"Millwall!$BV$10","v":0},{"$f":"Millwall!$BV$11","v":0},{"$f":"Millwall!$BV$12","v":0},{"$f":"Millwall!$BV$13","v":0},{"$f":"Millwall!$BV$14","v":0},{"$f":"Millwall!$BV$15","v":0},{"$f":"Millwall!$BV$16","v":0},{"$f":"Millwall!$BV$17","v":0},{"$f":"Millwall!$BV$18","v":0},{"$f":"Millwall!$BV$19","v":0},{"$f":"Millwall!$BV$20","v":0},{"$f":"Millwall!$BV$21","v":0},{"$f":"Millwall!$BV$22","v":0},{"$f":"Millwall!$BV$23","v":0},{"$f":"Millwall!$BV$24","v":0},{"$f":"Millwall!$BV$25","v":0},{"$f":"Millwall!$BV$26","v":0},{"$f":"Millwall!$BV$27","v":0},{"$f":"Millwall!$BV$28","v":0},{"$f":"Millwall!$BV$29","v":0},{"$f":"Millwall!$BV$30","v":0},{"$f":"Millwall!$BV$29","v":0},{"$f":"Millwall!$BV$33","v":0},{"$f":"Millwall!$BV$34","v":0},{"$f":"Millwall!$BV$35","v":0},{"$f":"Millwall!$BV$36","v":0},{"$f":"Millwall!$BV$37","v":0},{"$f":"Millwall!$BV$38","v":0},{"$f":"Millwall!$BV$39","v":0},{"$f":"Millwall!$BV$40","v":0},{"$f":"Millwall!$BV$41","v":0}]
[null,null,1]
[null,null,null,null,null,null,null,"FA Cup"]
[null,null,{"$f":"IF(J57=0,1,0)","v":0},3,null,{"$f":"Millwall!AI136","v":"1971-01-02"},null,{"$f":"Millwall!AK136","v":"Stoke City"},{"$f":"Millwall!AL136","v":"(A)"},{"$f":"Millwall!AO136","v":"L 1-2"},{"$f":"MATCH(K$4,Millwall!$AP136:$BA136,0)","v":11},{"$f":"MATCH(L$4,Millwall!$AP136:$BA136,0)","v":9},{"$f":"MATCH(M$4,Millwall!$AP136:$BA136,0)","v":7},{"$f":"MATCH(N$4,Millwall!$AP136:$BA136,0)","v":2},{"$f":"MATCH(O$4,Millwall!$AP136:$BA136,0)","v":{"$error":"#N/A"}},{"$f":"MATCH(P$4,Millwall!$AP136:$BA136,0)","v":6},{"$f":"MATCH(Q$4,Millwall!$AP136:$BA136,0)","v":{"$error":"#N/A"}},{"$f":"MATCH(R$4,Millwall!$AP136:$BA136,0)","v":3},{"$f":"MATCH(S$4,Millwall!$AP136:$BA136,0)","v":4},{"$f":"MATCH(T$4,Millwall!$AP136:$BA136,0)","v":8},{"$f":"MATCH(U$4,Millwall!$AP136:$BA136,0)","v":{"$error":"#N/A"}},{"$f":"MATCH(V$4,Millwall!$AP136:$BA136,0)","v":{"$error":"#N/A"}},{"$f":"MATCH(W$4,Millwall!$AP136:$BA136,0)","v":{"$error":"#N/A"}},{"$f":"MATCH(X$4,Millwall!$AP136:$BA136,0)","v":1},{"$f":"MATCH(Y$4,Millwall!$AP136:$BA136,0)","v":5},{"$f":"MATCH(Z$4,Millwall!$AP136:$BA136,0)","v":{"$error":"#N/A"}},{"$f":"MATCH(AA$4,Millwall!$AP136:$BA136,0)","v":10},{"$f":"MATCH(AB$4,Millwall!$AP136:$BA136,0)","v":{"$error":"#N/A"}},{"$f":"MATCH(AC$4,Millwall!$AP136:$BA136,0)","v":{"$error":"#N/A"}},{"$f":"MATCH(AD$4,Millwall!$AP136:$BA136,0)","v":{"$error":"#N/A"}},{"$f":"MATCH(AE$4,Millwall!$AP136:$BA136,0)","v":{"$error":"#N/A"}},{"$f":"MATCH(AF$4,Millwall!$AP136:$BA136,0)","v":{"$error":"#N/A"}},{"$f":"MATCH(AG$4,Millwall!$AP136:$BA136,0)","v":{"$error":"#N/A"}},{"$f":"MATCH(AH$4,Millwall!$AP136:$BA136,0)","v":{"$error":"#N/A"}},{"$f":"MATCH(AI$4,Millwall!$AP136:$BA136,0)","v":{"$error":"#N/A"}},{"$f":"MATCH(AJ$4,Millwall!$AP136:$BA136,0)","v":{"$error":"#N/A"}},{"$f":"MATCH(AK$4,Millwall!$AP136:$BA136,0)","v":{"$error":"#N/A"}},{"$f":"MATCH(AL$4,Millwall!$AP136:$BA136,0)","v":{"$error":"#N/A"}},{"$f":"MATCH(AM$4,Millwall!$AP136:$BA136,0)","v":{"$error":"#N/A"}},{"$f":"MATCH(AN$4,Millwall!$AP136:$BA136,0)","v":{"$error":"#N/A"}},{"$f":"MATCH(AO$4,Millwall!$AP136:$BA136,0)","v":{"$error":"#N/A"}},{"$f":"MATCH(AP$4,Millwall!$AP136:$BA136,0)","v":{"$error":"#N/A"}},{"$f":"MATCH(AQ$4,Millwall!$AP136:$BA136,0)","v":{"$error":"#N/A"}},{"$f":"MATCH(AR$4,Millwall!$AP136:$BA136,0)","v":{"$error":"#N/A"}},null,null,null,null,null,{"$f":"MATCH(AX$3,Millwall!#REF!,0)","v":{"$error":"#REF!"}},{"$f":"MATCH(AY$3,Millwall!#REF!,0)","v":{"$error":"#REF!"}},{"$f":"MATCH(AZ$3,Millwall!#REF!,0)","v":{"$error":"#REF!"}},{"$f":"MATCH(BA$3,Millwall!#REF!,0)","v":{"$error":"#REF!"}},{"$f":"MATCH(BB$3,Millwall!#REF!,0)","v":{"$error":"#REF!"}},{"$f":"MATCH(BC$3,Millwall!#REF!,0)","v":{"$error":"#REF!"}},{"$f":"MATCH(BD$3,Millwall!#REF!,0)","v":{"$error":"#REF!"}},{"$f":"MATCH(BE$3,Millwall!#REF!,0)","v":{"$error":"#REF!"}},{"$f":"MATCH(BF$3,Millwall!#REF!,0)","v":{"$error":"#REF!"}},{"$f":"MATCH(BG$3,Millwall!#REF!,0)","v":{"$error":"#REF!"}},{"$f":"MATCH(BH$3,Millwall!#REF!,0)","v":{"$error":"#REF!"}},{"$f":"MATCH(BI$3,Millwall!#REF!,0)","v":{"$error":"#REF!"}},{"$f":"MATCH(BJ$3,Millwall!#REF!,0)","v":{"$error":"#REF!"}},{"$f":"MATCH(BK$3,Millwall!#REF!,0)","v":{"$error":"#REF!"}},{"$f":"MATCH(BL$3,Millwall!#REF!,0)","v":{"$error":"#REF!"}},{"$f":"MATCH(BM$3,Millwall!#REF!,0)","v":{"$error":"#REF!"}},{"$f":"MATCH(BN$3,Millwall!#REF!,0)","v":{"$error":"#REF!"}},{"$f":"MATCH(BO$3,Millwall!#REF!,0)","v":{"$error":"#REF!"}},{"$f":"MATCH(BP$3,Millwall!#REF!,0)","v":{"$error":"#REF!"}},{"$f":"MATCH(BQ$3,Millwall!#REF!,0)","v":{"$error":"#REF!"}},{"$f":"MATCH(BR$3,Millwall!#REF!,0)","v":{"$error":"#REF!"}},{"$f":"MATCH(BS$3,Millwall!#REF!,0)","v":{"$error":"#REF!"}},{"$f":"MATCH(BT$3,Millwall!#REF!,0)","v":{"$error":"#REF!"}},{"$f":"MATCH(BU$3,Millwall!#REF!,0)","v":{"$error":"#REF!"}},{"$f":"MATCH(BV$3,Millwall!#REF!,0)","v":{"$error":"#REF!"}},{"$f":"MATCH(BW$3,Millwall!#REF!,0)","v":{"$error":"#REF!"}},{"$f":"MATCH(BX$3,Millwall!#REF!,0)","v":{"$error":"#REF!"}},{"$f":"MATCH(BY$3,Millwall!#REF!,0)","v":{"$error":"#REF!"}},{"$f":"MATCH(BZ$3,Millwall!#REF!,0)","v":{"$error":"#REF!"}},{"$f":"MATCH(CA$3,Millwall!#REF!,0)","v":{"$error":"#REF!"}},{"$f":"MATCH(CB$3,Millwall!#REF!,0)","v":{"$error":"#REF!"}},{"$f":"MATCH(CC$3,Millwall!#REF!,0)","v":{"$error":"#REF!"}},{"$f":"MATCH(CD$3,Millwall!#REF!,0)","v":{"$error":"#REF!"}},{"$f":"MATCH(CE$3,Millwall!#REF!,0)","v":{"$error":"#REF!"}}]
[null,null,1,null,null,{"$f":"Millwall!AI137","v":"00:00:00"},null,{"$f":"Millwall!AK137","v":"00:00:00"},{"$f":"Millwall!AL137","v":"00:00:00"},{"$f":"Millwall!AO137","v":0},{"$f":"MATCH(K$4,Millwall!$AP137:$BA137,0)","v":{"$error":"#N/A"}},{"$f":"MATCH(L$4,Millwall!$AP137:$BA137,0)","v":{"$error":"#N/A"}},{"$f":"MATCH(M$4,Millwall!$AP137:$BA137,0)","v":{"$error":"#N/A"}},{"$f":"MATCH(N$4,Millwall!$AP137:$BA137,0)","v":{"$error":"#N/A"}},{"$f":"MATCH(O$4,Millwall!$AP137:$BA137,0)","v":{"$error":"#N/A"}},{"$f":"MATCH(P$4,Millwall!$AP137:$BA137,0)","v":{"$error":"#N/A"}},{"$f":"MATCH(Q$4,Millwall!$AP137:$BA137,0)","v":{"$error":"#N/A"}},{"$f":"MATCH(R$4,Millwall!$AP137:$BA137,0)","v":{"$error":"#N/A"}},{"$f":"MATCH(S$4,Millwall!$AP137:$BA137,0)","v":{"$error":"#N/A"}},{"$f":"MATCH(T$4,Millwall!$AP137:$BA137,0)","v":{"$error":"#N/A"}},{"$f":"MATCH(U$4,Millwall!$AP137:$BA137,0)","v":{"$error":"#N/A"}},{"$f":"MATCH(V$4,Millwall!$AP137:$BA137,0)","v":{"$error":"#N/A"}},{"$f":"MATCH(W$4,Millwall!$AP137:$BA137,0)","v":{"$error":"#N/A"}},{"$f":"MATCH(X$4,Millwall!$AP137:$BA137,0)","v":{"$error":"#N/A"}},{"$f":"MATCH(Y$4,Millwall!$AP137:$BA137,0)","v":{"$error":"#N/A"}},{"$f":"MATCH(Z$4,Millwall!$AP137:$BA137,0)","v":{"$error":"#N/A"}},{"$f":"MATCH(AA$4,Millwall!$AP137:$BA137,0)","v":{"$error":"#N/A"}},{"$f":"MATCH(AB$4,Millwall!$AP137:$BA137,0)","v":{"$error":"#N/A"}},{"$f":"MATCH(AC$4,Millwall!$AP137:$BA137,0)","v":{"$error":"#N/A"}},{"$f":"MATCH(AD$4,Millwall!$AP137:$BA137,0)","v":{"$error":"#N/A"}},{"$f":"MATCH(AE$4,Millwall!$AP137:$BA137,0)","v":{"$error":"#N/A"}},{"$f":"MATCH(AF$4,Millwall!$AP137:$BA137,0)","v":{"$error":"#N/A"}},{"$f":"MATCH(AG$4,Millwall!$AP137:$BA137,0)","v":{"$error":"#N/A"}},{"$f":"MATCH(AH$4,Millwall!$AP137:$BA137,0)","v":{"$error":"#N/A"}},{"$f":"MATCH(AI$4,Millwall!$AP137:$BA137,0)","v":{"$error":"#N/A"}},{"$f":"MATCH(AJ$4,Millwall!$AP137:$BA137,0)","v":{"$error":"#N/A"}},{"$f":"MATCH(AK$4,Millwall!$AP137:$BA137,0)","v":{"$error":"#N/A"}},{"$f":"MATCH(AL$4,Millwall!$AP137:$BA137,0)","v":{"$error":"#N/A"}},{"$f":"MATCH(AM$4,Millwall!$AP137:$BA137,0)","v":{"$error":"#N/A"}},{"$f":"MATCH(AN$4,Millwall!$AP137:$BA137,0)","v":{"$error":"#N/A"}},{"$f":"MATCH(AO$4,Millwall!$AP137:$BA137,0)","v":{"$error":"#N/A"}},{"$f":"MATCH(AP$4,Millwall!$AP137:$BA137,0)","v":{"$error":"#N/A"}},{"$f":"MATCH(AQ$4,Millwall!$AP137:$BA137,0)","v":{"$error":"#N/A"}},{"$f":"MATCH(AR$4,Millwall!$AP137:$BA137,0)","v":{"$error":"#N/A"}},null,null,null,null,null,{"$f":"MATCH(AX$3,Millwall!$AP137:$BA137,0)","v":{"$error":"#N/A"}},{"$f":"MATCH(AY$3,Millwall!$AP137:$BA137,0)","v":{"$error":"#N/A"}},{"$f":"MATCH(AZ$3,Millwall!$AP137:$BA137,0)","v":{"$error":"#N/A"}},{"$f":"MATCH(BA$3,Millwall!$AP137:$BA137,0)","v":{"$error":"#N/A"}},{"$f":"MATCH(BB$3,Millwall!$AP137:$BA137,0)","v":{"$error":"#N/A"}},{"$f":"MATCH(BC$3,Millwall!$AP137:$BA137,0)","v":{"$error":"#N/A"}},{"$f":"MATCH(BD$3,Millwall!$AP137:$BA137,0)","v":{"$error":"#N/A"}},{"$f":"MATCH(BE$3,Millwall!$AP137:$BA137,0)","v":{"$error":"#N/A"}},{"$f":"MATCH(BF$3,Millwall!$AP137:$BA137,0)","v":{"$error":"#N/A"}},{"$f":"MATCH(BG$3,Millwall!$AP137:$BA137,0)","v":{"$error":"#N/A"}},{"$f":"MATCH(BH$3,Millwall!$AP137:$BA137,0)","v":{"$error":"#N/A"}},{"$f":"MATCH(BI$3,Millwall!$AP137:$BA137,0)","v":{"$error":"#N/A"}},{"$f":"MATCH(BJ$3,Millwall!$AP137:$BA137,0)","v":{"$error":"#N/A"}},{"$f":"MATCH(BK$3,Millwall!$AP137:$BA137,0)","v":{"$error":"#N/A"}},{"$f":"MATCH(BL$3,Millwall!$AP137:$BA137,0)","v":{"$error":"#N/A"}},{"$f":"MATCH(BM$3,Millwall!$AP137:$BA137,0)","v":{"$error":"#N/A"}},{"$f":"MATCH(BN$3,Millwall!$AP137:$BA137,0)","v":{"$error":"#N/A"}},{"$f":"MATCH(BO$3,Millwall!$AP137:$BA137,0)","v":{"$error":"#N/A"}},{"$f":"MATCH(BP$3,Millwall!$AP137:$BA137,0)","v":{"$error":"#N/A"}},{"$f":"MATCH(BQ$3,Millwall!$AP137:$BA137,0)","v":{"$error":"#N/A"}},{"$f":"MATCH(BR$3,Millwall!$AP137:$BA137,0)","v":{"$error":"#N/A"}},{"$f":"MATCH(BS$3,Millwall!$AP137:$BA137,0)","v":{"$error":"#N/A"}},{"$f":"MATCH(BT$3,Millwall!$AP137:$BA137,0)","v":{"$error":"#N/A"}},{"$f":"MATCH(BU$3,Millwall!$AP137:$BA137,0)","v":{"$error":"#N/A"}},{"$f":"MATCH(BV$3,Millwall!$AP137:$BA137,0)","v":{"$error":"#N/A"}},{"$f":"MATCH(BW$3,Millwall!$AP137:$BA137,0)","v":{"$error":"#N/A"}},{"$f":"MATCH(BX$3,Millwall!$AP137:$BA137,0)","v":{"$error":"#N/A"}},{"$f":"MATCH(BY$3,Millwall!$AP137:$BA137,0)","v":{"$error":"#N/A"}},{"$f":"MATCH(BZ$3,Millwall!$AP137:$BA137,0)","v":{"$error":"#N/A"}},{"$f":"MATCH(CA$3,Millwall!$AP137:$BA137,0)","v":{"$error":"#N/A"}},{"$f":"MATCH(CB$3,Millwall!$AP137:$BA137,0)","v":{"$error":"#N/A"}},{"$f":"MATCH(CC$3,Millwall!$AP137:$BA137,0)","v":{"$error":"#N/A"}},{"$f":"MATCH(CD$3,Millwall!$AP137:$BA137,0)","v":{"$error":"#N/A"}},{"$f":"MATCH(CE$3,Millwall!$AP137:$BA137,0)","v":{"$error":"#N/A"}}]
[null,null,1,null,null,{"$f":"Millwall!AI138","v":"00:00:00"},null,{"$f":"Millwall!AK138","v":"00:00:00"},{"$f":"Millwall!AL138","v":"00:00:00"},{"$f":"Millwall!AO138","v":0},{"$f":"MATCH(K$4,Millwall!$AP138:$BA138,0)","v":{"$error":"#N/A"}},{"$f":"MATCH(L$4,Millwall!$AP138:$BA138,0)","v":{"$error":"#N/A"}},{"$f":"MATCH(M$4,Millwall!$AP138:$BA138,0)","v":{"$error":"#N/A"}},{"$f":"MATCH(N$4,Millwall!$AP138:$BA138,0)","v":{"$error":"#N/A"}},{"$f":"MATCH(O$4,Millwall!$AP138:$BA138,0)","v":{"$error":"#N/A"}},{"$f":"MATCH(P$4,Millwall!$AP138:$BA138,0)","v":{"$error":"#N/A"}},{"$f":"MATCH(Q$4,Millwall!$AP138:$BA138,0)","v":{"$error":"#N/A"}},{"$f":"MATCH(R$4,Millwall!$AP138:$BA138,0)","v":{"$error":"#N/A"}},{"$f":"MATCH(S$4,Millwall!$AP138:$BA138,0)","v":{"$error":"#N/A"}},{"$f":"MATCH(T$4,Millwall!$AP138:$BA138,0)","v":{"$error":"#N/A"}},{"$f":"MATCH(U$4,Millwall!$AP138:$BA138,0)","v":{"$error":"#N/A"}},{"$f":"MATCH(V$4,Millwall!$AP138:$BA138,0)","v":{"$error":"#N/A"}},{"$f":"MATCH(W$4,Millwall!$AP138:$BA138,0)","v":{"$error":"#N/A"}},{"$f":"MATCH(X$4,Millwall!$AP138:$BA138,0)","v":{"$error":"#N/A"}},{"$f":"MATCH(Y$4,Millwall!$AP138:$BA138,0)","v":{"$error":"#N/A"}},{"$f":"MATCH(Z$4,Millwall!$AP138:$BA138,0)","v":{"$error":"#N/A"}},{"$f":"MATCH(AA$4,Millwall!$AP138:$BA138,0)","v":{"$error":"#N/A"}},{"$f":"MATCH(AB$4,Millwall!$AP138:$BA138,0)","v":{"$error":"#N/A"}},{"$f":"MATCH(AC$4,Millwall!$AP138:$BA138,0)","v":{"$error":"#N/A"}},{"$f":"MATCH(AD$4,Millwall!$AP138:$BA138,0)","v":{"$error":"#N/A"}},{"$f":"MATCH(AE$4,Millwall!$AP138:$BA138,0)","v":{"$error":"#N/A"}},{"$f":"MATCH(AF$4,Millwall!$AP138:$BA138,0)","v":{"$error":"#N/A"}},{"$f":"MATCH(AG$4,Millwall!$AP138:$BA138,0)","v":{"$error":"#N/A"}},{"$f":"MATCH(AH$4,Millwall!$AP138:$BA138,0)","v":{"$error":"#N/A"}},{"$f":"MATCH(AI$4,Millwall!$AP138:$BA138,0)","v":{"$error":"#N/A"}},{"$f":"MATCH(AJ$4,Millwall!$AP138:$BA138,0)","v":{"$error":"#N/A"}},{"$f":"MATCH(AK$4,Millwall!$AP138:$BA138,0)","v":{"$error":"#N/A"}},{"$f":"MATCH(AL$4,Millwall!$AP138:$BA138,0)","v":{"$error":"#N/A"}},{"$f":"MATCH(AM$4,Millwall!$AP138:$BA138,0)","v":{"$error":"#N/A"}},{"$f":"MATCH(AN$4,Millwall!$AP138:$BA138,0)","v":{"$error":"#N/A"}},{"$f":"MATCH(AO$4,Millwall!$AP138:$BA138,0)","v":{"$error":"#N/A"}},{"$f":"MATCH(AP$4,Millwall!$AP138:$BA138,0)","v":{"$error":"#N/A"}},{"$f":"MATCH(AQ$4,Millwall!$AP138:$BA138,0)","v":{"$error":"#N/A"}},{"$f":"MATCH(AR$4,Millwall!$AP138:$BA138,0)","v":{"$error":"#N/A"}},null,null,null,null,null,{"$f":"MATCH(AX$3,Millwall!$AP138:$BA138,0)","v":{"$error":"#N/A"}},{"$f":"MATCH(AY$3,Millwall!$AP138:$BA138,0)","v":{"$error":"#N/A"}},{"$f":"MATCH(AZ$3,Millwall!$AP138:$BA138,0)","v":{"$error":"#N/A"}},{"$f":"MATCH(BA$3,Millwall!$AP138:$BA138,0)","v":{"$error":"#N/A"}},{"$f":"MATCH(BB$3,Millwall!$AP138:$BA138,0)","v":{"$error":"#N/A"}},{"$f":"MATCH(BC$3,Millwall!$AP138:$BA138,0)","v":{"$error":"#N/A"}},{"$f":"MATCH(BD$3,Millwall!$AP138:$BA138,0)","v":{"$error":"#N/A"}},{"$f":"MATCH(BE$3,Millwall!$AP138:$BA138,0)","v":{"$error":"#N/A"}},{"$f":"MATCH(BF$3,Millwall!$AP138:$BA138,0)","v":{"$error":"#N/A"}},{"$f":"MATCH(BG$3,Millwall!$AP138:$BA138,0)","v":{"$error":"#N/A"}},{"$f":"MATCH(BH$3,Millwall!$AP138:$BA138,0)","v":{"$error":"#N/A"}},{"$f":"MATCH(BI$3,Millwall!$AP138:$BA138,0)","v":{"$error":"#N/A"}},{"$f":"MATCH(BJ$3,Millwall!$AP138:$BA138,0)","v":{"$error":"#N/A"}},{"$f":"MATCH(BK$3,Millwall!$AP138:$BA138,0)","v":{"$error":"#N/A"}},{"$f":"MATCH(BL$3,Millwall!$AP138:$BA138,0)","v":{"$error":"#N/A"}},{"$f":"MATCH(BM$3,Millwall!$AP138:$BA138,0)","v":{"$error":"#N/A"}},{"$f":"MATCH(BN$3,Millwall!$AP138:$BA138,0)","v":{"$error":"#N/A"}},{"$f":"MATCH(BO$3,Millwall!$AP138:$BA138,0)","v":{"$error":"#N/A"}},{"$f":"MATCH(BP$3,Millwall!$AP138:$BA138,0)","v":{"$error":"#N/A"}},{"$f":"MATCH(BQ$3,Millwall!$AP138:$BA138,0)","v":{"$error":"#N/A"}},{"$f":"MATCH(BR$3,Millwall!$AP138:$BA138,0)","v":{"$error":"#N/A"}},{"$f":"MATCH(BS$3,Millwall!$AP138:$BA138,0)","v":{"$error":"#N/A"}},{"$f":"MATCH(BT$3,Millwall!$AP138:$BA138,0)","v":{"$error":"#N/A"}},{"$f":"MATCH(BU$3,Millwall!$AP138:$BA138,0)","v":{"$error":"#N/A"}},{"$f":"MATCH(BV$3,Millwall!$AP138:$BA138,0)","v":{"$error":"#N/A"}},{"$f":"MATCH(BW$3,Millwall!$AP138:$BA138,0)","v":{"$error":"#N/A"}},{"$f":"MATCH(BX$3,Millwall!$AP138:$BA138,0)","v":{"$error":"#N/A"}},{"$f":"MATCH(BY$3,Millwall!$AP138:$BA138,0)","v":{"$error":"#N/A"}},{"$f":"MATCH(BZ$3,Millwall!$AP138:$BA138,0)","v":{"$error":"#N/A"}},{"$f":"MATCH(CA$3,Millwall!$AP138:$BA138,0)","v":{"$error":"#N/A"}},{"$f":"MATCH(CB$3,Millwall!$AP138:$BA138,0)","v":{"$error":"#N/A"}},{"$f":"MATCH(CC$3,Millwall!$AP138:$BA138,0)","v":{"$error":"#N/A"}},{"$f":"MATCH(CD$3,Millwall!$AP138:$BA138,0)","v":{"$error":"#N/A"}},{"$f":"MATCH(CE$3,Millwall!$AP138:$BA138,0)","v":{"$error":"#N/A"}}]
[null,null,1,null,null,{"$f":"Millwall!AI139","v":"00:00:00"},null,{"$f":"Millwall!AK139","v":"00:00:00"},{"$f":"Millwall!AL139","v":"00:00:00"},{"$f":"Millwall!AO139","v":0},{"$f":"MATCH(K$4,Millwall!$AP139:$BA139,0)","v":{"$error":"#N/A"}},{"$f":"MATCH(L$4,Millwall!$AP139:$BA139,0)","v":{"$error":"#N/A"}},{"$f":"MATCH(M$4,Millwall!$AP139:$BA139,0)","v":{"$error":"#N/A"}},{"$f":"MATCH(N$4,Millwall!$AP139:$BA139,0)","v":{"$error":"#N/A"}},{"$f":"MATCH(O$4,Millwall!$AP139:$BA139,0)","v":{"$error":"#N/A"}},{"$f":"MATCH(P$4,Millwall!$AP139:$BA139,0)","v":{"$error":"#N/A"}},{"$f":"MATCH(Q$4,Millwall!$AP139:$BA139,0)","v":{"$error":"#N/A"}},{"$f":"MATCH(R$4,Millwall!$AP139:$BA139,0)","v":{"$error":"#N/A"}},{"$f":"MATCH(S$4,Millwall!$AP139:$BA139,0)","v":{"$error":"#N/A"}},{"$f":"MATCH(T$4,Millwall!$AP139:$BA139,0)","v":{"$error":"#N/A"}},{"$f":"MATCH(U$4,Millwall!$AP139:$BA139,0)","v":{"$error":"#N/A"}},{"$f":"MATCH(V$4,Millwall!$AP139:$BA139,0)","v":{"$error":"#N/A"}},{"$f":"MATCH(W$4,Millwall!$AP139:$BA139,0)","v":{"$error":"#N/A"}},{"$f":"MATCH(X$4,Millwall!$AP139:$BA139,0)","v":{"$error":"#N/A"}},{"$f":"MATCH(Y$4,Millwall!$AP139:$BA139,0)","v":{"$error":"#N/A"}},{"$f":"MATCH(Z$4,Millwall!$AP139:$BA139,0)","v":{"$error":"#N/A"}},{"$f":"MATCH(AA$4,Millwall!$AP139:$BA139,0)","v":{"$error":"#N/A"}},{"$f":"MATCH(AB$4,Millwall!$AP139:$BA139,0)","v":{"$error":"#N/A"}},{"$f":"MATCH(AC$4,Millwall!$AP139:$BA139,0)","v":{"$error":"#N/A"}},{"$f":"MATCH(AD$4,Millwall!$AP139:$BA139,0)","v":{"$error":"#N/A"}},{"$f":"MATCH(AE$4,Millwall!$AP139:$BA139,0)","v":{"$error":"#N/A"}},{"$f":"MATCH(AF$4,Millwall!$AP139:$BA139,0)","v":{"$error":"#N/A"}},{"$f":"MATCH(AG$4,Millwall!$AP139:$BA139,0)","v":{"$error":"#N/A"}},{"$f":"MATCH(AH$4,Millwall!$AP139:$BA139,0)","v":{"$error":"#N/A"}},{"$f":"MATCH(AI$4,Millwall!$AP139:$BA139,0)","v":{"$error":"#N/A"}},{"$f":"MATCH(AJ$4,Millwall!$AP139:$BA139,0)","v":{"$error":"#N/A"}},{"$f":"MATCH(AK$4,Millwall!$AP139:$BA139,0)","v":{"$error":"#N/A"}},{"$f":"MATCH(AL$4,Millwall!$AP139:$BA139,0)","v":{"$error":"#N/A"}},{"$f":"MATCH(AM$4,Millwall!$AP139:$BA139,0)","v":{"$error":"#N/A"}},{"$f":"MATCH(AN$4,Millwall!$AP139:$BA139,0)","v":{"$error":"#N/A"}},{"$f":"MATCH(AO$4,Millwall!$AP139:$BA139,0)","v":{"$error":"#N/A"}},{"$f":"MATCH(AP$4,Millwall!$AP139:$BA139,0)","v":{"$error":"#N/A"}},{"$f":"MATCH(AQ$4,Millwall!$AP139:$BA139,0)","v":{"$error":"#N/A"}},{"$f":"MATCH(AR$4,Millwall!$AP139:$BA139,0)","v":{"$error":"#N/A"}},null,null,null,null,null,{"$f":"MATCH(AX$3,Millwall!$AP139:$BA139,0)","v":{"$error":"#N/A"}},{"$f":"MATCH(AY$3,Millwall!$AP139:$BA139,0)","v":{"$error":"#N/A"}},{"$f":"MATCH(AZ$3,Millwall!$AP139:$BA139,0)","v":{"$error":"#N/A"}},{"$f":"MATCH(BA$3,Millwall!$AP139:$BA139,0)","v":{"$error":"#N/A"}},{"$f":"MATCH(BB$3,Millwall!$AP139:$BA139,0)","v":{"$error":"#N/A"}},{"$f":"MATCH(BC$3,Millwall!$AP139:$BA139,0)","v":{"$error":"#N/A"}},{"$f":"MATCH(BD$3,Millwall!$AP139:$BA139,0)","v":{"$error":"#N/A"}},{"$f":"MATCH(BE$3,Millwall!$AP139:$BA139,0)","v":{"$error":"#N/A"}},{"$f":"MATCH(BF$3,Millwall!$AP139:$BA139,0)","v":{"$error":"#N/A"}},{"$f":"MATCH(BG$3,Millwall!$AP139:$BA139,0)","v":{"$error":"#N/A"}},{"$f":"MATCH(BH$3,Millwall!$AP139:$BA139,0)","v":{"$error":"#N/A"}},{"$f":"MATCH(BI$3,Millwall!$AP139:$BA139,0)","v":{"$error":"#N/A"}},{"$f":"MATCH(BJ$3,Millwall!$AP139:$BA139,0)","v":{"$error":"#N/A"}},{"$f":"MATCH(BK$3,Millwall!$AP139:$BA139,0)","v":{"$error":"#N/A"}},{"$f":"MATCH(BL$3,Millwall!$AP139:$BA139,0)","v":{"$error":"#N/A"}},{"$f":"MATCH(BM$3,Millwall!$AP139:$BA139,0)","v":{"$error":"#N/A"}},{"$f":"MATCH(BN$3,Millwall!$AP139:$BA139,0)","v":{"$error":"#N/A"}},{"$f":"MATCH(BO$3,Millwall!$AP139:$BA139,0)","v":{"$error":"#N/A"}},{"$f":"MATCH(BP$3,Millwall!$AP139:$BA139,0)","v":{"$error":"#N/A"}},{"$f":"MATCH(BQ$3,Millwall!$AP139:$BA139,0)","v":{"$error":"#N/A"}},{"$f":"MATCH(BR$3,Millwall!$AP139:$BA139,0)","v":{"$error":"#N/A"}},{"$f":"MATCH(BS$3,Millwall!$AP139:$BA139,0)","v":{"$error":"#N/A"}},{"$f":"MATCH(BT$3,Millwall!$AP139:$BA139,0)","v":{"$error":"#N/A"}},{"$f":"MATCH(BU$3,Millwall!$AP139:$BA139,0)","v":{"$error":"#N/A"}},{"$f":"MATCH(BV$3,Millwall!$AP139:$BA139,0)","v":{"$error":"#N/A"}},{"$f":"MATCH(BW$3,Millwall!$AP139:$BA139,0)","v":{"$error":"#N/A"}},{"$f":"MATCH(BX$3,Millwall!$AP139:$BA139,0)","v":{"$error":"#N/A"}},{"$f":"MATCH(BY$3,Millwall!$AP139:$BA139,0)","v":{"$error":"#N/A"}},{"$f":"MATCH(BZ$3,Millwall!$AP139:$BA139,0)","v":{"$error":"#N/A"}},{"$f":"MATCH(CA$3,Millwall!$AP139:$BA139,0)","v":{"$error":"#N/A"}},{"$f":"MATCH(CB$3,Millwall!$AP139:$BA139,0)","v":{"$error":"#N/A"}},{"$f":"MATCH(CC$3,Millwall!$AP139:$BA139,0)","v":{"$error":"#N/A"}},{"$f":"MATCH(CD$3,Millwall!$AP139:$BA139,0)","v":{"$error":"#N/A"}},{"$f":"MATCH(CE$3,Millwall!$AP139:$BA139,0)","v":{"$error":"#N/A"}}]
[null,null,1,null,null,{"$f":"Millwall!AI140","v":"00:00:00"},null,{"$f":"Millwall!AK140","v":"00:00:00"},{"$f":"Millwall!AL140","v":"00:00:00"},{"$f":"Millwall!AO140","v":0},{"$f":"MATCH(K$4,Millwall!$AP140:$BA140,0)","v":{"$error":"#N/A"}},{"$f":"MATCH(L$4,Millwall!$AP140:$BA140,0)","v":{"$error":"#N/A"}},{"$f":"MATCH(M$4,Millwall!$AP140:$BA140,0)","v":{"$error":"#N/A"}},{"$f":"MATCH(N$4,Millwall!$AP140:$BA140,0)","v":{"$error":"#N/A"}},{"$f":"MATCH(O$4,Millwall!$AP140:$BA140,0)","v":{"$error":"#N/A"}},{"$f":"MATCH(P$4,Millwall!$AP140:$BA140,0)","v":{"$error":"#N/A"}},{"$f":"MATCH(Q$4,Millwall!$AP140:$BA140,0)","v":{"$error":"#N/A"}},{"$f":"MATCH(R$4,Millwall!$AP140:$BA140,0)","v":{"$error":"#N/A"}},{"$f":"MATCH(S$4,Millwall!$AP140:$BA140,0)","v":{"$error":"#N/A"}},{"$f":"MATCH(T$4,Millwall!$AP140:$BA140,0)","v":{"$error":"#N/A"}},{"$f":"MATCH(U$4,Millwall!$AP140:$BA140,0)","v":{"$error":"#N/A"}},{"$f":"MATCH(V$4,Millwall!$AP140:$BA140,0)","v":{"$error":"#N/A"}},{"$f":"MATCH(W$4,Millwall!$AP140:$BA140,0)","v":{"$error":"#N/A"}},{"$f":"MATCH(X$4,Millwall!$AP140:$BA140,0)","v":{"$error":"#N/A"}},{"$f":"MATCH(Y$4,Millwall!$AP140:$BA140,0)","v":{"$error":"#N/A"}},{"$f":"MATCH(Z$4,Millwall!$AP140:$BA140,0)","v":{"$error":"#N/A"}},{"$f":"MATCH(AA$4,Millwall!$AP140:$BA140,0)","v":{"$error":"#N/A"}},{"$f":"MATCH(AB$4,Millwall!$AP140:$BA140,0)","v":{"$error":"#N/A"}},{"$f":"MATCH(AC$4,Millwall!$AP140:$BA140,0)","v":{"$error":"#N/A"}},{"$f":"MATCH(AD$4,Millwall!$AP140:$BA140,0)","v":{"$error":"#N/A"}},{"$f":"MATCH(AE$4,Millwall!$AP140:$BA140,0)","v":{"$error":"#N/A"}},{"$f":"MATCH(AF$4,Millwall!$AP140:$BA140,0)","v":{"$error":"#N/A"}},{"$f":"MATCH(AG$4,Millwall!$AP140:$BA140,0)","v":{"$error":"#N/A"}},{"$f":"MATCH(AH$4,Millwall!$AP140:$BA140,0)","v":{"$error":"#N/A"}},{"$f":"MATCH(AI$4,Millwall!$AP140:$BA140,0)","v":{"$error":"#N/A"}},{"$f":"MATCH(AJ$4,Millwall!$AP140:$BA140,0)","v":{"$error":"#N/A"}},{"$f":"MATCH(AK$4,Millwall!$AP140:$BA140,0)","v":{"$error":"#N/A"}},{"$f":"MATCH(AL$4,Millwall!$AP140:$BA140,0)","v":{"$error":"#N/A"}},{"$f":"MATCH(AM$4,Millwall!$AP140:$BA140,0)","v":{"$error":"#N/A"}},{"$f":"MATCH(AN$4,Millwall!$AP140:$BA140,0)","v":{"$error":"#N/A"}},{"$f":"MATCH(AO$4,Millwall!$AP140:$BA140,0)","v":{"$error":"#N/A"}},{"$f":"MATCH(AP$4,Millwall!$AP140:$BA140,0)","v":{"$error":"#N/A"}},{"$f":"MATCH(AQ$4,Millwall!$AP140:$BA140,0)","v":{"$error":"#N/A"}},{"$f":"MATCH(AR$4,Millwall!$AP140:$BA140,0)","v":{"$error":"#N/A"}},null,null,null,null,null,{"$f":"MATCH(AX$3,Millwall!$AP140:$BA140,0)","v":{"$error":"#N/A"}},{"$f":"MATCH(AY$3,Millwall!$AP140:$BA140,0)","v":{"$error":"#N/A"}},{"$f":"MATCH(AZ$3,Millwall!$AP140:$BA140,0)","v":{"$error":"#N/A"}},{"$f":"MATCH(BA$3,Millwall!$AP140:$BA140,0)","v":{"$error":"#N/A"}},{"$f":"MATCH(BB$3,Millwall!$AP140:$BA140,0)","v":{"$error":"#N/A"}},{"$f":"MATCH(BC$3,Millwall!$AP140:$BA140,0)","v":{"$error":"#N/A"}},{"$f":"MATCH(BD$3,Millwall!$AP140:$BA140,0)","v":{"$error":"#N/A"}},{"$f":"MATCH(BE$3,Millwall!$AP140:$BA140,0)","v":{"$error":"#N/A"}},{"$f":"MATCH(BF$3,Millwall!$AP140:$BA140,0)","v":{"$error":"#N/A"}},{"$f":"MATCH(BG$3,Millwall!$AP140:$BA140,0)","v":{"$error":"#N/A"}},{"$f":"MATCH(BH$3,Millwall!$AP140:$BA140,0)","v":{"$error":"#N/A"}},{"$f":"MATCH(BI$3,Millwall!$AP140:$BA140,0)","v":{"$error":"#N/A"}},{"$f":"MATCH(BJ$3,Millwall!$AP140:$BA140,0)","v":{"$error":"#N/A"}},{"$f":"MATCH(BK$3,Millwall!$AP140:$BA140,0)","v":{"$error":"#N/A"}},{"$f":"MATCH(BL$3,Millwall!$AP140:$BA140,0)","v":{"$error":"#N/A"}},{"$f":"MATCH(BM$3,Millwall!$AP140:$BA140,0)","v":{"$error":"#N/A"}},{"$f":"MATCH(BN$3,Millwall!$AP140:$BA140,0)","v":{"$error":"#N/A"}},{"$f":"MATCH(BO$3,Millwall!$AP140:$BA140,0)","v":{"$error":"#N/A"}},{"$f":"MATCH(BP$3,Millwall!$AP140:$BA140,0)","v":{"$error":"#N/A"}},{"$f":"MATCH(BQ$3,Millwall!$AP140:$BA140,0)","v":{"$error":"#N/A"}},{"$f":"MATCH(BR$3,Millwall!$AP140:$BA140,0)","v":{"$error":"#N/A"}},{"$f":"MATCH(BS$3,Millwall!$AP140:$BA140,0)","v":{"$error":"#N/A"}},{"$f":"MATCH(BT$3,Millwall!$AP140:$BA140,0)","v":{"$error":"#N/A"}},{"$f":"MATCH(BU$3,Millwall!$AP140:$BA140,0)","v":{"$error":"#N/A"}},{"$f":"MATCH(BV$3,Millwall!$AP140:$BA140,0)","v":{"$error":"#N/A"}},{"$f":"MATCH(BW$3,Millwall!$AP140:$BA140,0)","v":{"$error":"#N/A"}},{"$f":"MATCH(BX$3,Millwall!$AP140:$BA140,0)","v":{"$error":"#N/A"}},{"$f":"MATCH(BY$3,Millwall!$AP140:$BA140,0)","v":{"$error":"#N/A"}},{"$f":"MATCH(BZ$3,Millwall!$AP140:$BA140,0)","v":{"$error":"#N/A"}},{"$f":"MATCH(CA$3,Millwall!$AP140:$BA140,0)","v":{"$error":"#N/A"}},{"$f":"MATCH(CB$3,Millwall!$AP140:$BA140,0)","v":{"$error":"#N/A"}},{"$f":"MATCH(CC$3,Millwall!$AP140:$BA140,0)","v":{"$error":"#N/A"}},{"$f":"MATCH(CD$3,Millwall!$AP140:$BA140,0)","v":{"$error":"#N/A"}},{"$f":"MATCH(CE$3,Millwall!$AP140:$BA140,0)","v":{"$error":"#N/A"}}]
[null,null,1,null,null,{"$f":"Millwall!AI141","v":"00:00:00"},null,{"$f":"Millwall!AK141","v":"00:00:00"},{"$f":"Millwall!AL141","v":"00:00:00"},{"$f":"Millwall!AO141","v":0},{"$f":"MATCH(K$4,Millwall!$AP141:$BA141,0)","v":{"$error":"#N/A"}},{"$f":"MATCH(L$4,Millwall!$AP141:$BA141,0)","v":{"$error":"#N/A"}},{"$f":"MATCH(M$4,Millwall!$AP141:$BA141,0)","v":{"$error":"#N/A"}},{"$f":"MATCH(N$4,Millwall!$AP141:$BA141,0)","v":{"$error":"#N/A"}},{"$f":"MATCH(O$4,Millwall!$AP141:$BA141,0)","v":{"$error":"#N/A"}},{"$f":"MATCH(P$4,Millwall!$AP141:$BA141,0)","v":{"$error":"#N/A"}},{"$f":"MATCH(Q$4,Millwall!$AP141:$BA141,0)","v":{"$error":"#N/A"}},{"$f":"MATCH(R$4,Millwall!$AP141:$BA141,0)","v":{"$error":"#N/A"}},{"$f":"MATCH(S$4,Millwall!$AP141:$BA141,0)","v":{"$error":"#N/A"}},{"$f":"MATCH(T$4,Millwall!$AP141:$BA141,0)","v":{"$error":"#N/A"}},{"$f":"MATCH(U$4,Millwall!$AP141:$BA141,0)","v":{"$error":"#N/A"}},{"$f":"MATCH(V$4,Millwall!$AP141:$BA141,0)","v":{"$error":"#N/A"}},{"$f":"MATCH(W$4,Millwall!$AP141:$BA141,0)","v":{"$error":"#N/A"}},{"$f":"MATCH(X$4,Millwall!$AP141:$BA141,0)","v":{"$error":"#N/A"}},{"$f":"MATCH(Y$4,Millwall!$AP141:$BA141,0)","v":{"$error":"#N/A"}},{"$f":"MATCH(Z$4,Millwall!$AP141:$BA141,0)","v":{"$error":"#N/A"}},{"$f":"MATCH(AA$4,Millwall!$AP141:$BA141,0)","v":{"$error":"#N/A"}},{"$f":"MATCH(AB$4,Millwall!$AP141:$BA141,0)","v":{"$error":"#N/A"}},{"$f":"MATCH(AC$4,Millwall!$AP141:$BA141,0)","v":{"$error":"#N/A"}},{"$f":"MATCH(AD$4,Millwall!$AP141:$BA141,0)","v":{"$error":"#N/A"}},{"$f":"MATCH(AE$4,Millwall!$AP141:$BA141,0)","v":{"$error":"#N/A"}},{"$f":"MATCH(AF$4,Millwall!$AP141:$BA141,0)","v":{"$error":"#N/A"}},{"$f":"MATCH(AG$4,Millwall!$AP141:$BA141,0)","v":{"$error":"#N/A"}},{"$f":"MATCH(AH$4,Millwall!$AP141:$BA141,0)","v":{"$error":"#N/A"}},{"$f":"MATCH(AI$4,Millwall!$AP141:$BA141,0)","v":{"$error":"#N/A"}},{"$f":"MATCH(AJ$4,Millwall!$AP141:$BA141,0)","v":{"$error":"#N/A"}},{"$f":"MATCH(AK$4,Millwall!$AP141:$BA141,0)","v":{"$error":"#N/A"}},{"$f":"MATCH(AL$4,Millwall!$AP141:$BA141,0)","v":{"$error":"#N/A"}},{"$f":"MATCH(AM$4,Millwall!$AP141:$BA141,0)","v":{"$error":"#N/A"}},{"$f":"MATCH(AN$4,Millwall!$AP141:$BA141,0)","v":{"$error":"#N/A"}},{"$f":"MATCH(AO$4,Millwall!$AP141:$BA141,0)","v":{"$error":"#N/A"}},{"$f":"MATCH(AP$4,Millwall!$AP141:$BA141,0)","v":{"$error":"#N/A"}},{"$f":"MATCH(AQ$4,Millwall!$AP141:$BA141,0)","v":{"$error":"#N/A"}},{"$f":"MATCH(AR$4,Millwall!$AP141:$BA141,0)","v":{"$error":"#N/A"}},null,null,null,null,null,{"$f":"MATCH(AX$3,Millwall!$AP141:$BA141,0)","v":{"$error":"#N/A"}},{"$f":"MATCH(AY$3,Millwall!$AP141:$BA141,0)","v":{"$error":"#N/A"}},{"$f":"MATCH(AZ$3,Millwall!$AP141:$BA141,0)","v":{"$error":"#N/A"}},{"$f":"MATCH(BA$3,Millwall!$AP141:$BA141,0)","v":{"$error":"#N/A"}},{"$f":"MATCH(BB$3,Millwall!$AP141:$BA141,0)","v":{"$error":"#N/A"}},{"$f":"MATCH(BC$3,Millwall!$AP141:$BA141,0)","v":{"$error":"#N/A"}},{"$f":"MATCH(BD$3,Millwall!$AP141:$BA141,0)","v":{"$error":"#N/A"}},{"$f":"MATCH(BE$3,Millwall!$AP141:$BA141,0)","v":{"$error":"#N/A"}},{"$f":"MATCH(BF$3,Millwall!$AP141:$BA141,0)","v":{"$error":"#N/A"}},{"$f":"MATCH(BG$3,Millwall!$AP141:$BA141,0)","v":{"$error":"#N/A"}},{"$f":"MATCH(BH$3,Millwall!$AP141:$BA141,0)","v":{"$error":"#N/A"}},{"$f":"MATCH(BI$3,Millwall!$AP141:$BA141,0)","v":{"$error":"#N/A"}},{"$f":"MATCH(BJ$3,Millwall!$AP141:$BA141,0)","v":{"$error":"#N/A"}},{"$f":"MATCH(BK$3,Millwall!$AP141:$BA141,0)","v":{"$error":"#N/A"}},{"$f":"MATCH(BL$3,Millwall!$AP141:$BA141,0)","v":{"$error":"#N/A"}},{"$f":"MATCH(BM$3,Millwall!$AP141:$BA141,0)","v":{"$error":"#N/A"}},{"$f":"MATCH(BN$3,Millwall!$AP141:$BA141,0)","v":{"$error":"#N/A"}},{"$f":"MATCH(BO$3,Millwall!$AP141:$BA141,0)","v":{"$error":"#N/A"}},{"$f":"MATCH(BP$3,Millwall!$AP141:$BA141,0)","v":{"$error":"#N/A"}},{"$f":"MATCH(BQ$3,Millwall!$AP141:$BA141,0)","v":{"$error":"#N/A"}},{"$f":"MATCH(BR$3,Millwall!$AP141:$BA141,0)","v":{"$error":"#N/A"}},{"$f":"MATCH(BS$3,Millwall!$AP141:$BA141,0)","v":{"$error":"#N/A"}},{"$f":"MATCH(BT$3,Millwall!$AP141:$BA141,0)","v":{"$error":"#N/A"}},{"$f":"MATCH(BU$3,Millwall!$AP141:$BA141,0)","v":{"$error":"#N/A"}},{"$f":"MATCH(BV$3,Millwall!$AP141:$BA141,0)","v":{"$error":"#N/A"}},{"$f":"MATCH(BW$3,Millwall!$AP141:$BA141,0)","v":{"$error":"#N/A"}},{"$f":"MATCH(BX$3,Millwall!$AP141:$BA141,0)","v":{"$error":"#N/A"}},{"$f":"MATCH(BY$3,Millwall!$AP141:$BA141,0)","v":{"$error":"#N/A"}},{"$f":"MATCH(BZ$3,Millwall!$AP141:$BA141,0)","v":{"$error":"#N/A"}},{"$f":"MATCH(CA$3,Millwall!$AP141:$BA141,0)","v":{"$error":"#N/A"}},{"$f":"MATCH(CB$3,Millwall!$AP141:$BA141,0)","v":{"$error":"#N/A"}},{"$f":"MATCH(CC$3,Millwall!$AP141:$BA141,0)","v":{"$error":"#N/A"}},{"$f":"MATCH(CD$3,Millwall!$AP141:$BA141,0)","v":{"$error":"#N/A"}},{"$f":"MATCH(CE$3,Millwall!$AP141:$BA141,0)","v":{"$error":"#N/A"}}]
[null,null,{"$f":"IF(J63=0,1,0)","v":1},null,null,{"$f":"Millwall!AI142","v":"00:00:00"},null,{"$f":"Millwall!AK142","v":"00:00:00"},{"$f":"Millwall!AL142","v":"00:00:00"},{"$f":"Millwall!AO142","v":0},{"$f":"MATCH(K$4,Millwall!$AP142:$BA142,0)","v":{"$error":"#N/A"}},{"$f":"MATCH(L$4,Millwall!$AP142:$BA142,0)","v":{"$error":"#N/A"}},{"$f":"MATCH(M$4,Millwall!$AP142:$BA142,0)","v":{"$error":"#N/A"}},{"$f":"MATCH(N$4,Millwall!$AP142:$BA142,0)","v":{"$error":"#N/A"}},{"$f":"MATCH(O$4,Millwall!$AP142:$BA142,0)","v":{"$error":"#N/A"}},{"$f":"MATCH(P$4,Millwall!$AP142:$BA142,0)","v":{"$error":"#N/A"}},{"$f":"MATCH(Q$4,Millwall!$AP142:$BA142,0)","v":{"$error":"#N/A"}},{"$f":"MATCH(R$4,Millwall!$AP142:$BA142,0)","v":{"$error":"#N/A"}},{"$f":"MATCH(S$4,Millwall!$AP142:$BA142,0)","v":{"$error":"#N/A"}},{"$f":"MATCH(T$4,Millwall!$AP142:$BA142,0)","v":{"$error":"#N/A"}},{"$f":"MATCH(U$4,Millwall!$AP142:$BA142,0)","v":{"$error":"#N/A"}},{"$f":"MATCH(V$4,Millwall!$AP142:$BA142,0)","v":{"$error":"#N/A"}},{"$f":"MATCH(W$4,Millwall!$AP142:$BA142,0)","v":{"$error":"#N/A"}},{"$f":"MATCH(X$4,Millwall!$AP142:$BA142,0)","v":{"$error":"#N/A"}},{"$f":"MATCH(Y$4,Millwall!$AP142:$BA142,0)","v":{"$error":"#N/A"}},{"$f":"MATCH(Z$4,Millwall!$AP142:$BA142,0)","v":{"$error":"#N/A"}},{"$f":"MATCH(AA$4,Millwall!$AP142:$BA142,0)","v":{"$error":"#N/A"}},{"$f":"MATCH(AB$4,Millwall!$AP142:$BA142,0)","v":{"$error":"#N/A"}},{"$f":"MATCH(AC$4,Millwall!$AP142:$BA142,0)","v":{"$error":"#N/A"}},{"$f":"MATCH(AD$4,Millwall!$AP142:$BA142,0)","v":{"$error":"#N/A"}},{"$f":"MATCH(AE$4,Millwall!$AP142:$BA142,0)","v":{"$error":"#N/A"}},{"$f":"MATCH(AF$4,Millwall!$AP142:$BA142,0)","v":{"$error":"#N/A"}},{"$f":"MATCH(AG$4,Millwall!$AP142:$BA142,0)","v":{"$error":"#N/A"}},{"$f":"MATCH(AH$4,Millwall!$AP142:$BA142,0)","v":{"$error":"#N/A"}},{"$f":"MATCH(AI$4,Millwall!$AP142:$BA142,0)","v":{"$error":"#N/A"}},{"$f":"MATCH(AJ$4,Millwall!$AP142:$BA142,0)","v":{"$error":"#N/A"}},{"$f":"MATCH(AK$4,Millwall!$AP142:$BA142,0)","v":{"$error":"#N/A"}},{"$f":"MATCH(AL$4,Millwall!$AP142:$BA142,0)","v":{"$error":"#N/A"}},{"$f":"MATCH(AM$4,Millwall!$AP142:$BA142,0)","v":{"$error":"#N/A"}},{"$f":"MATCH(AN$4,Millwall!$AP142:$BA142,0)","v":{"$error":"#N/A"}},{"$f":"MATCH(AO$4,Millwall!$AP142:$BA142,0)","v":{"$error":"#N/A"}},{"$f":"MATCH(AP$4,Millwall!$AP142:$BA142,0)","v":{"$error":"#N/A"}},{"$f":"MATCH(AQ$4,Millwall!$AP142:$BA142,0)","v":{"$error":"#N/A"}},{"$f":"MATCH(AR$4,Millwall!$AP142:$BA142,0)","v":{"$error":"#N/A"}},null,null,null,null,null,{"$f":"MATCH(AX$3,Millwall!$AP142:$BA142,0)","v":{"$error":"#N/A"}},{"$f":"MATCH(AY$3,Millwall!$AP142:$BA142,0)","v":{"$error":"#N/A"}},{"$f":"MATCH(AZ$3,Millwall!$AP142:$BA142,0)","v":{"$error":"#N/A"}},{"$f":"MATCH(BA$3,Millwall!$AP142:$BA142,0)","v":{"$error":"#N/A"}},{"$f":"MATCH(BB$3,Millwall!$AP142:$BA142,0)","v":{"$error":"#N/A"}},{"$f":"MATCH(BC$3,Millwall!$AP142:$BA142,0)","v":{"$error":"#N/A"}},{"$f":"MATCH(BD$3,Millwall!$AP142:$BA142,0)","v":{"$error":"#N/A"}},{"$f":"MATCH(BE$3,Millwall!$AP142:$BA142,0)","v":{"$error":"#N/A"}},{"$f":"MATCH(BF$3,Millwall!$AP142:$BA142,0)","v":{"$error":"#N/A"}},{"$f":"MATCH(BG$3,Millwall!$AP142:$BA142,0)","v":{"$error":"#N/A"}},{"$f":"MATCH(BH$3,Millwall!$AP142:$BA142,0)","v":{"$error":"#N/A"}},{"$f":"MATCH(BI$3,Millwall!$AP142:$BA142,0)","v":{"$error":"#N/A"}},{"$f":"MATCH(BJ$3,Millwall!$AP142:$BA142,0)","v":{"$error":"#N/A"}},{"$f":"MATCH(BK$3,Millwall!$AP142:$BA142,0)","v":{"$error":"#N/A"}},{"$f":"MATCH(BL$3,Millwall!$AP142:$BA142,0)","v":{"$error":"#N/A"}},{"$f":"MATCH(BM$3,Millwall!$AP142:$BA142,0)","v":{"$error":"#N/A"}},{"$f":"MATCH(BN$3,Millwall!$AP142:$BA142,0)","v":{"$error":"#N/A"}},{"$f":"MATCH(BO$3,Millwall!$AP142:$BA142,0)","v":{"$error":"#N/A"}},{"$f":"MATCH(BP$3,Millwall!$AP142:$BA142,0)","v":{"$error":"#N/A"}},{"$f":"MATCH(BQ$3,Millwall!$AP142:$BA142,0)","v":{"$error":"#N/A"}},{"$f":"MATCH(BR$3,Millwall!$AP142:$BA142,0)","v":{"$error":"#N/A"}},{"$f":"MATCH(BS$3,Millwall!$AP142:$BA142,0)","v":{"$error":"#N/A"}},{"$f":"MATCH(BT$3,Millwall!$AP142:$BA142,0)","v":{"$error":"#N/A"}},{"$f":"MATCH(BU$3,Millwall!$AP142:$BA142,0)","v":{"$error":"#N/A"}},{"$f":"MATCH(BV$3,Millwall!$AP142:$BA142,0)","v":{"$error":"#N/A"}},{"$f":"MATCH(BW$3,Millwall!$AP142:$BA142,0)","v":{"$error":"#N/A"}},{"$f":"MATCH(BX$3,Millwall!$AP142:$BA142,0)","v":{"$error":"#N/A"}},{"$f":"MATCH(BY$3,Millwall!$AP142:$BA142,0)","v":{"$error":"#N/A"}},{"$f":"MATCH(BZ$3,Millwall!$AP142:$BA142,0)","v":{"$error":"#N/A"}},{"$f":"MATCH(CA$3,Millwall!$AP142:$BA142,0)","v":{"$error":"#N/A"}},{"$f":"MATCH(CB$3,Millwall!$AP142:$BA142,0)","v":{"$error":"#N/A"}},{"$f":"MATCH(CC$3,Millwall!$AP142:$BA142,0)","v":{"$error":"#N/A"}},{"$f":"MATCH(CD$3,Millwall!$AP142:$BA142,0)","v":{"$error":"#N/A"}},{"$f":"MATCH(CE$3,Millwall!$AP142:$BA142,0)","v":{"$error":"#N/A"}}]
[]
[null,null,null,null,null,null,null,null,null,"Total FA Cup Apperances",{"$f":"COUNT(K57:K63)-K66","v":1},{"$f":"COUNT(L57:L63)-L66","v":1},1,1,0,1,0,1,1,1,0,0,0,1,1,0,1,0,0,0,0,0,0,0,0,0,0,0,0,0,0,0,0,0]
[null,null,null,null,null,null,null,null,null,"Total FA Cup Substitute Appearences ",{"$f":"COUNTIF(K57:K63,\">=12\")","v":0},{"$f":"COUNTIF(L57:L63,\">=12\")","v":0},0,0,0,0,0,0,0,0,0,0,0,0,0,0,0,0,0,0,0,0,0,0,0,0,0,0,0,0,0,0,0,0]
[null,null,null,null,null,null,null,null,null,"Goals",{"$f":"Millwall!$BZ$7","v":0},{"$f":"Millwall!$BZ$8","v":0},{"$f":"Millwall!$BZ$9","v":0},{"$f":"Millwall!$BZ$10","v":0},{"$f":"Millwall!$BZ$11","v":0},{"$f":"Millwall!$BZ$12","v":0},{"$f":"Millwall!$BZ$13","v":0},{"$f":"Millwall!$BZ$14","v":0},{"$f":"Millwall!$BZ$15","v":0},{"$f":"Millwall!$BZ$16","v":0},{"$f":"Millwall!$BZ$17","v":0},{"$f":"Millwall!$BZ$18","v":0},{"$f":"Millwall!$BZ$19","v":0},{"$f":"Millwall!$BZ$20","v":0},{"$f":"Millwall!$BZ$21","v":0},{"$f":"Millwall!$BZ$22","v":0},{"$f":"Millwall!$BZ$23","v":0},{"$f":"Millwall!$BZ$24","v":0},{"$f":"Millwall!$BZ$25","v":0},{"$f":"Millwall!$BZ$26","v":0},{"$f":"Millwall!$BZ$27","v":0},{"$f":"Millwall!$BZ$28","v":0},{"$f":"Millwall!$BZ$29","v":0},{"$f":"Millwall!$BZ$30","v":0},{"$f":"Millwall!$BZ$29","v":0},{"$f":"Millwall!$BZ$33","v":0},{"$f":"Millwall!$BZ$34","v":0},{"$f":"Millwall!$BZ$35","v":0},{"$f":"Millwall!$BZ$36","v":0},{"$f":"Millwall!$BZ$37","v":0},{"$f":"Millwall!$BZ$38","v":0},{"$f":"Millwall!$BZ$39","v":0},{"$f":"Millwall!$BZ$40","v":0},{"$f":"Millwall!$BZ$41","v":0}]
[null,null,1]
[null,null,null,null,null,null,null,"League Cup"]
[null,null,{"$f":"IF(J70=0,1,0)","v":0},2,null,{"$f":"Millwall!AI126","v":"1970-09-09"},null,{"$f":"Millwall!AK126","v":"Stoke City"},{"$f":"Millwall!AL126","v":"(A)"},{"$f":"Millwall!AO126","v":"D 0-0"},{"$f":"MATCH(K$4,Millwall!$AP126:$BA126,0)","v":11},{"$f":"MATCH(L$4,Millwall!$AP126:$BA126,0)","v":9},{"$f":"MATCH(M$4,Millwall!$AP126:$BA126,0)","v":{"$error":"#N/A"}},{"$f":"MATCH(N$4,Millwall!$AP126:$BA126,0)","v":2},{"$f":"MATCH(O$4,Millwall!$AP126:$BA126,0)","v":7},{"$f":"MATCH(P$4,Millwall!$AP126:$BA126,0)","v":6},{"$f":"MATCH(Q$4,Millwall!$AP126:$BA126,0)","v":{"$error":"#N/A"}},{"$f":"MATCH(R$4,Millwall!$AP126:$BA126,0)","v":3},{"$f":"MATCH(S$4,Millwall!$AP126:$BA126,0)","v":4},{"$f":"MATCH(T$4,Millwall!$AP126:$BA126,0)","v":10},{"$f":"MATCH(U$4,Millwall!$AP126:$BA126,0)","v":{"$error":"#N/A"}},{"$f":"MATCH(V$4,Millwall!$AP126:$BA126,0)","v":{"$error":"#N/A"}},{"$f":"MATCH(W$4,Millwall!$AP126:$BA126,0)","v":8},{"$f":"MATCH(X$4,Millwall!$AP126:$BA126,0)","v":1},{"$f":"MATCH(Y$4,Millwall!$AP126:$BA126,0)","v":5},{"$f":"MATCH(Z$4,Millwall!$AP126:$BA126,0)","v":{"$error":"#N/A"}},{"$f":"MATCH(AA$4,Millwall!$AP126:$BA126,0)","v":{"$error":"#N/A"}},{"$f":"MATCH(AB$4,Millwall!$AP126:$BA126,0)","v":{"$error":"#N/A"}},{"$f":"MATCH(AC$4,Millwall!$AP126:$BA126,0)","v":{"$error":"#N/A"}},{"$f":"MATCH(AD$4,Millwall!$AP126:$BA126,0)","v":{"$error":"#N/A"}},{"$f":"MATCH(AE$4,Millwall!$AP126:$BA126,0)","v":{"$error":"#N/A"}},{"$f":"MATCH(AF$4,Millwall!$AP126:$BA126,0)","v":{"$error":"#N/A"}},{"$f":"MATCH(AG$4,Millwall!$AP126:$BA126,0)","v":{"$error":"#N/A"}},{"$f":"MATCH(AH$4,Millwall!$AP126:$BA126,0)","v":{"$error":"#N/A"}},{"$f":"MATCH(AI$4,Millwall!$AP126:$BA126,0)","v":{"$error":"#N/A"}},{"$f":"MATCH(AJ$4,Millwall!$AP126:$BA126,0)","v":{"$error":"#N/A"}},{"$f":"MATCH(AK$4,Millwall!$AP126:$BA126,0)","v":{"$error":"#N/A"}},{"$f":"MATCH(AL$4,Millwall!$AP126:$BA126,0)","v":{"$error":"#N/A"}},{"$f":"MATCH(AM$4,Millwall!$AP126:$BA126,0)","v":{"$error":"#N/A"}},{"$f":"MATCH(AN$4,Millwall!$AP126:$BA126,0)","v":{"$error":"#N/A"}},{"$f":"MATCH(AO$4,Millwall!$AP126:$BA126,0)","v":{"$error":"#N/A"}},{"$f":"MATCH(AP$4,Millwall!$AP126:$BA126,0)","v":{"$error":"#N/A"}},{"$f":"MATCH(AQ$4,Millwall!$AP126:$BA126,0)","v":{"$error":"#N/A"}},{"$f":"MATCH(AR$4,Millwall!$AP126:$BA126,0)","v":{"$error":"#N/A"}},null,null,null,null,null,{"$f":"MATCH(AX$3,Millwall!$AP126:$BA126,0)","v":{"$error":"#N/A"}},{"$f":"MATCH(AY$3,Millwall!$AP126:$BA126,0)","v":{"$error":"#N/A"}},{"$f":"MATCH(AZ$3,Millwall!$AP126:$BA126,0)","v":{"$error":"#N/A"}},{"$f":"MATCH(BA$3,Millwall!$AP126:$BA126,0)","v":{"$error":"#N/A"}},{"$f":"MATCH(BB$3,Millwall!$AP126:$BA126,0)","v":{"$error":"#N/A"}},{"$f":"MATCH(BC$3,Millwall!$AP126:$BA126,0)","v":{"$error":"#N/A"}},{"$f":"MATCH(BD$3,Millwall!$AP126:$BA126,0)","v":{"$error":"#N/A"}},{"$f":"MATCH(BE$3,Millwall!$AP126:$BA126,0)","v":{"$error":"#N/A"}},{"$f":"MATCH(BF$3,Millwall!$AP126:$BA126,0)","v":{"$error":"#N/A"}},{"$f":"MATCH(BG$3,Millwall!$AP126:$BA126,0)","v":{"$error":"#N/A"}},{"$f":"MATCH(BH$3,Millwall!$AP126:$BA126,0)","v":{"$error":"#N/A"}},{"$f":"MATCH(BI$3,Millwall!$AP126:$BA126,0)","v":{"$error":"#N/A"}},{"$f":"MATCH(BJ$3,Millwall!$AP126:$BA126,0)","v":{"$error":"#N/A"}},{"$f":"MATCH(BK$3,Millwall!$AP126:$BA126,0)","v":{"$error":"#N/A"}},{"$f":"MATCH(BL$3,Millwall!$AP126:$BA126,0)","v":{"$error":"#N/A"}},{"$f":"MATCH(BM$3,Millwall!$AP126:$BA126,0)","v":{"$error":"#N/A"}},{"$f":"MATCH(BN$3,Millwall!$AP126:$BA126,0)","v":{"$error":"#N/A"}},{"$f":"MATCH(BO$3,Millwall!$AP126:$BA126,0)","v":{"$error":"#N/A"}},{"$f":"MATCH(BP$3,Millwall!$AP126:$BA126,0)","v":{"$error":"#N/A"}},{"$f":"MATCH(BQ$3,Millwall!$AP126:$BA126,0)","v":{"$error":"#N/A"}},{"$f":"MATCH(BR$3,Millwall!$AP126:$BA126,0)","v":{"$error":"#N/A"}},{"$f":"MATCH(BS$3,Millwall!$AP126:$BA126,0)","v":{"$error":"#N/A"}},{"$f":"MATCH(BT$3,Millwall!$AP126:$BA126,0)","v":{"$error":"#N/A"}},{"$f":"MATCH(BU$3,Millwall!$AP126:$BA126,0)","v":{"$error":"#N/A"}},{"$f":"MATCH(BV$3,Millwall!$AP126:$BA126,0)","v":{"$error":"#N/A"}},{"$f":"MATCH(BW$3,Millwall!$AP126:$BA126,0)","v":{"$error":"#N/A"}},{"$f":"MATCH(BX$3,Millwall!$AP126:$BA126,0)","v":{"$error":"#N/A"}},{"$f":"MATCH(BY$3,Millwall!$AP126:$BA126,0)","v":{"$error":"#N/A"}},{"$f":"MATCH(BZ$3,Millwall!$AP126:$BA126,0)","v":{"$error":"#N/A"}},{"$f":"MATCH(CA$3,Millwall!$AP126:$BA126,0)","v":{"$error":"#N/A"}},{"$f":"MATCH(CB$3,Millwall!$AP126:$BA126,0)","v":{"$error":"#N/A"}},{"$f":"MATCH(CC$3,Millwall!$AP126:$BA126,0)","v":{"$error":"#N/A"}},{"$f":"MATCH(CD$3,Millwall!$AP126:$BA126,0)","v":{"$error":"#N/A"}},{"$f":"MATCH(CE$3,Millwall!$AP126:$BA126,0)","v":{"$error":"#N/A"}}]
[null,null,{"$f":"IF(J71=0,1,0)","v":0},"2R",null,{"$f":"Millwall!AI127","v":"1970-09-21"},null,{"$f":"Millwall!AK127","v":"Stoke City"},{"$f":"Millwall!AL127","v":"(H)"},{"$f":"Millwall!AO127","v":"W 2-1"},{"$f":"MATCH(K$4,Millwall!$AP127:$BA127,0)","v":11},{"$f":"MATCH(L$4,Millwall!$AP127:$BA127,0)","v":9},{"$f":"MATCH(M$4,Millwall!$AP127:$BA127,0)","v":{"$error":"#N/A"}},{"$f":"MATCH(N$4,Millwall!$AP127:$BA127,0)","v":2},{"$f":"MATCH(O$4,Millwall!$AP127:$BA127,0)","v":7},{"$f":"MATCH(P$4,Millwall!$AP127:$BA127,0)","v":6},{"$f":"MATCH(Q$4,Millwall!$AP127:$BA127,0)","v":{"$error":"#N/A"}},{"$f":"MATCH(R$4,Millwall!$AP127:$BA127,0)","v":3},{"$f":"MATCH(S$4,Millwall!$AP127:$BA127,0)","v":4},{"$f":"MATCH(T$4,Millwall!$AP127:$BA127,0)","v":8},{"$f":"MATCH(U$4,Millwall!$AP127:$BA127,0)","v":{"$error":"#N/A"}},{"$f":"MATCH(V$4,Millwall!$AP127:$BA127,0)","v":{"$error":"#N/A"}},{"$f":"MATCH(W$4,Millwall!$AP127:$BA127,0)","v":{"$error":"#N/A"}},{"$f":"MATCH(X$4,Millwall!$AP127:$BA127,0)","v":1},{"$f":"MATCH(Y$4,Millwall!$AP127:$BA127,0)","v":5},{"$f":"MATCH(Z$4,Millwall!$AP127:$BA127,0)","v":{"$error":"#N/A"}},{"$f":"MATCH(AA$4,Millwall!$AP127:$BA127,0)","v":10},{"$f":"MATCH(AB$4,Millwall!$AP127:$BA127,0)","v":{"$error":"#N/A"}},{"$f":"MATCH(AC$4,Millwall!$AP127:$BA127,0)","v":{"$error":"#N/A"}},{"$f":"MATCH(AD$4,Millwall!$AP127:$BA127,0)","v":{"$error":"#N/A"}},{"$f":"MATCH(AE$4,Millwall!$AP127:$BA127,0)","v":{"$error":"#N/A"}},{"$f":"MATCH(AF$4,Millwall!$AP127:$BA127,0)","v":{"$error":"#N/A"}},{"$f":"MATCH(AG$4,Millwall!$AP127:$BA127,0)","v":{"$error":"#N/A"}},{"$f":"MATCH(AH$4,Millwall!$AP127:$BA127,0)","v":{"$error":"#N/A"}},{"$f":"MATCH(AI$4,Millwall!$AP127:$BA127,0)","v":{"$error":"#N/A"}},{"$f":"MATCH(AJ$4,Millwall!$AP127:$BA127,0)","v":{"$error":"#N/A"}},{"$f":"MATCH(AK$4,Millwall!$AP127:$BA127,0)","v":{"$error":"#N/A"}},{"$f":"MATCH(AL$4,Millwall!$AP127:$BA127,0)","v":{"$error":"#N/A"}},{"$f":"MATCH(AM$4,Millwall!$AP127:$BA127,0)","v":{"$error":"#N/A"}},{"$f":"MATCH(AN$4,Millwall!$AP127:$BA127,0)","v":{"$error":"#N/A"}},{"$f":"MATCH(AO$4,Millwall!$AP127:$BA127,0)","v":{"$error":"#N/A"}},{"$f":"MATCH(AP$4,Millwall!$AP127:$BA127,0)","v":{"$error":"#N/A"}},{"$f":"MATCH(AQ$4,Millwall!$AP127:$BA127,0)","v":{"$error":"#N/A"}},{"$f":"MATCH(AR$4,Millwall!$AP127:$BA127,0)","v":{"$error":"#N/A"}},null,null,null,null,null,{"$f":"MATCH(AX$3,Millwall!$AP127:$BA127,0)","v":{"$error":"#N/A"}},{"$f":"MATCH(AY$3,Millwall!$AP127:$BA127,0)","v":{"$error":"#N/A"}},{"$f":"MATCH(AZ$3,Millwall!$AP127:$BA127,0)","v":{"$error":"#N/A"}},{"$f":"MATCH(BA$3,Millwall!$AP127:$BA127,0)","v":{"$error":"#N/A"}},{"$f":"MATCH(BB$3,Millwall!$AP127:$BA127,0)","v":{"$error":"#N/A"}},{"$f":"MATCH(BC$3,Millwall!$AP127:$BA127,0)","v":{"$error":"#N/A"}},{"$f":"MATCH(BD$3,Millwall!$AP127:$BA127,0)","v":{"$error":"#N/A"}},{"$f":"MATCH(BE$3,Millwall!$AP127:$BA127,0)","v":{"$error":"#N/A"}},{"$f":"MATCH(BF$3,Millwall!$AP127:$BA127,0)","v":{"$error":"#N/A"}},{"$f":"MATCH(BG$3,Millwall!$AP127:$BA127,0)","v":{"$error":"#N/A"}},{"$f":"MATCH(BH$3,Millwall!$AP127:$BA127,0)","v":{"$error":"#N/A"}},{"$f":"MATCH(BI$3,Millwall!$AP127:$BA127,0)","v":{"$error":"#N/A"}},{"$f":"MATCH(BJ$3,Millwall!$AP127:$BA127,0)","v":{"$error":"#N/A"}},{"$f":"MATCH(BK$3,Millwall!$AP127:$BA127,0)","v":{"$error":"#N/A"}},{"$f":"MATCH(BL$3,Millwall!$AP127:$BA127,0)","v":{"$error":"#N/A"}},{"$f":"MATCH(BM$3,Millwall!$AP127:$BA127,0)","v":{"$error":"#N/A"}},{"$f":"MATCH(BN$3,Millwall!$AP127:$BA127,0)","v":{"$error":"#N/A"}},{"$f":"MATCH(BO$3,Millwall!$AP127:$BA127,0)","v":{"$error":"#N/A"}},{"$f":"MATCH(BP$3,Millwall!$AP127:$BA127,0)","v":{"$error":"#N/A"}},{"$f":"MATCH(BQ$3,Millwall!$AP127:$BA127,0)","v":{"$error":"#N/A"}},{"$f":"MATCH(BR$3,Millwall!$AP127:$BA127,0)","v":{"$error":"#N/A"}},{"$f":"MATCH(BS$3,Millwall!$AP127:$BA127,0)","v":{"$error":"#N/A"}},{"$f":"MATCH(BT$3,Millwall!$AP127:$BA127,0)","v":{"$error":"#N/A"}},{"$f":"MATCH(BU$3,Millwall!$AP127:$BA127,0)","v":{"$error":"#N/A"}},{"$f":"MATCH(BV$3,Millwall!$AP127:$BA127,0)","v":{"$error":"#N/A"}},{"$f":"MATCH(BW$3,Millwall!$AP127:$BA127,0)","v":{"$error":"#N/A"}},{"$f":"MATCH(BX$3,Millwall!$AP127:$BA127,0)","v":{"$error":"#N/A"}},{"$f":"MATCH(BY$3,Millwall!$AP127:$BA127,0)","v":{"$error":"#N/A"}},{"$f":"MATCH(BZ$3,Millwall!$AP127:$BA127,0)","v":{"$error":"#N/A"}},{"$f":"MATCH(CA$3,Millwall!$AP127:$BA127,0)","v":{"$error":"#N/A"}},{"$f":"MATCH(CB$3,Millwall!$AP127:$BA127,0)","v":{"$error":"#N/A"}},{"$f":"MATCH(CC$3,Millwall!$AP127:$BA127,0)","v":{"$error":"#N/A"}},{"$f":"MATCH(CD$3,Millwall!$AP127:$BA127,0)","v":{"$error":"#N/A"}},{"$f":"MATCH(CE$3,Millwall!$AP127:$BA127,0)","v":{"$error":"#N/A"}}]
[null,null,0,3,null,{"$f":"Millwall!AI128","v":"1970-10-07"},null,{"$f":"Millwall!AK128","v":"Derby Co"},{"$f":"Millwall!AL128","v":"(A)"},{"$f":"Millwall!AO128","v":"L 2-4"},{"$f":"MATCH(K$4,Millwall!$AP128:$BA128,0)","v":11},{"$f":"MATCH(L$4,Millwall!$AP128:$BA128,0)","v":9},{"$f":"MATCH(M$4,Millwall!$AP128:$BA128,0)","v":{"$error":"#N/A"}},{"$f":"MATCH(N$4,Millwall!$AP128:$BA128,0)","v":2},{"$f":"MATCH(O$4,Millwall!$AP128:$BA128,0)","v":7},{"$f":"MATCH(P$4,Millwall!$AP128:$BA128,0)","v":6},{"$f":"MATCH(Q$4,Millwall!$AP128:$BA128,0)","v":{"$error":"#N/A"}},{"$f":"MATCH(R$4,Millwall!$AP128:$BA128,0)","v":3},{"$f":"MATCH(S$4,Millwall!$AP128:$BA128,0)","v":4},{"$f":"MATCH(T$4,Millwall!$AP128:$BA128,0)","v":8},{"$f":"MATCH(U$4,Millwall!$AP128:$BA128,0)","v":{"$error":"#N/A"}},{"$f":"MATCH(V$4,Millwall!$AP128:$BA128,0)","v":{"$error":"#N/A"}},{"$f":"MATCH(W$4,Millwall!$AP128:$BA128,0)","v":{"$error":"#N/A"}},{"$f":"MATCH(X$4,Millwall!$AP128:$BA128,0)","v":1},{"$f":"MATCH(Y$4,Millwall!$AP128:$BA128,0)","v":5},{"$f":"MATCH(Z$4,Millwall!$AP128:$BA128,0)","v":{"$error":"#N/A"}},{"$f":"MATCH(AA$4,Millwall!$AP128:$BA128,0)","v":10},{"$f":"MATCH(AB$4,Millwall!$AP128:$BA128,0)","v":{"$error":"#N/A"}},{"$f":"MATCH(AC$4,Millwall!$AP128:$BA128,0)","v":{"$error":"#N/A"}},{"$f":"MATCH(AD$4,Millwall!$AP128:$BA128,0)","v":{"$error":"#N/A"}},{"$f":"MATCH(AE$4,Millwall!$AP128:$BA128,0)","v":{"$error":"#N/A"}},{"$f":"MATCH(AF$4,Millwall!$AP128:$BA128,0)","v":{"$error":"#N/A"}},{"$f":"MATCH(AG$4,Millwall!$AP128:$BA128,0)","v":{"$error":"#N/A"}},{"$f":"MATCH(AH$4,Millwall!$AP128:$BA128,0)","v":{"$error":"#N/A"}},{"$f":"MATCH(AI$4,Millwall!$AP128:$BA128,0)","v":{"$error":"#N/A"}},{"$f":"MATCH(AJ$4,Millwall!$AP128:$BA128,0)","v":{"$error":"#N/A"}},{"$f":"MATCH(AK$4,Millwall!$AP128:$BA128,0)","v":{"$error":"#N/A"}},{"$f":"MATCH(AL$4,Millwall!$AP128:$BA128,0)","v":{"$error":"#N/A"}},{"$f":"MATCH(AM$4,Millwall!$AP128:$BA128,0)","v":{"$error":"#N/A"}},{"$f":"MATCH(AN$4,Millwall!$AP128:$BA128,0)","v":{"$error":"#N/A"}},{"$f":"MATCH(AO$4,Millwall!$AP128:$BA128,0)","v":{"$error":"#N/A"}},{"$f":"MATCH(AP$4,Millwall!$AP128:$BA128,0)","v":{"$error":"#N/A"}},{"$f":"MATCH(AQ$4,Millwall!$AP128:$BA128,0)","v":{"$error":"#N/A"}},{"$f":"MATCH(AR$4,Millwall!$AP128:$BA128,0)","v":{"$error":"#N/A"}},null,null,null,null,null,{"$f":"MATCH(AX$3,Millwall!$AP128:$BA128,0)","v":{"$error":"#N/A"}},{"$f":"MATCH(AY$3,Millwall!$AP128:$BA128,0)","v":{"$error":"#N/A"}},{"$f":"MATCH(AZ$3,Millwall!$AP128:$BA128,0)","v":{"$error":"#N/A"}},{"$f":"MATCH(BA$3,Millwall!$AP128:$BA128,0)","v":{"$error":"#N/A"}},{"$f":"MATCH(BB$3,Millwall!$AP128:$BA128,0)","v":{"$error":"#N/A"}},{"$f":"MATCH(BC$3,Millwall!$AP128:$BA128,0)","v":{"$error":"#N/A"}},{"$f":"MATCH(BD$3,Millwall!$AP128:$BA128,0)","v":{"$error":"#N/A"}},{"$f":"MATCH(BE$3,Millwall!$AP128:$BA128,0)","v":{"$error":"#N/A"}},{"$f":"MATCH(BF$3,Millwall!$AP128:$BA128,0)","v":{"$error":"#N/A"}},{"$f":"MATCH(BG$3,Millwall!$AP128:$BA128,0)","v":{"$error":"#N/A"}},{"$f":"MATCH(BH$3,Millwall!$AP128:$BA128,0)","v":{"$error":"#N/A"}},{"$f":"MATCH(BI$3,Millwall!$AP128:$BA128,0)","v":{"$error":"#N/A"}},{"$f":"MATCH(BJ$3,Millwall!$AP128:$BA128,0)","v":{"$error":"#N/A"}},{"$f":"MATCH(BK$3,Millwall!$AP128:$BA128,0)","v":{"$error":"#N/A"}},{"$f":"MATCH(BL$3,Millwall!$AP128:$BA128,0)","v":{"$error":"#N/A"}},{"$f":"MATCH(BM$3,Millwall!$AP128:$BA128,0)","v":{"$error":"#N/A"}},{"$f":"MATCH(BN$3,Millwall!$AP128:$BA128,0)","v":{"$error":"#N/A"}},{"$f":"MATCH(BO$3,Millwall!$AP128:$BA128,0)","v":{"$error":"#N/A"}},{"$f":"MATCH(BP$3,Millwall!$AP128:$BA128,0)","v":{"$error":"#N/A"}},{"$f":"MATCH(BQ$3,Millwall!$AP128:$BA128,0)","v":{"$error":"#N/A"}},{"$f":"MATCH(BR$3,Millwall!$AP128:$BA128,0)","v":{"$error":"#N/A"}},{"$f":"MATCH(BS$3,Millwall!$AP128:$BA128,0)","v":{"$error":"#N/A"}},{"$f":"MATCH(BT$3,Millwall!$AP128:$BA128,0)","v":{"$error":"#N/A"}},{"$f":"MATCH(BU$3,Millwall!$AP128:$BA128,0)","v":{"$error":"#N/A"}},{"$f":"MATCH(BV$3,Millwall!$AP128:$BA128,0)","v":{"$error":"#N/A"}},{"$f":"MATCH(BW$3,Millwall!$AP128:$BA128,0)","v":{"$error":"#N/A"}},{"$f":"MATCH(BX$3,Millwall!$AP128:$BA128,0)","v":{"$error":"#N/A"}},{"$f":"MATCH(BY$3,Millwall!$AP128:$BA128,0)","v":{"$error":"#N/A"}},{"$f":"MATCH(BZ$3,Millwall!$AP128:$BA128,0)","v":{"$error":"#N/A"}},{"$f":"MATCH(CA$3,Millwall!$AP128:$BA128,0)","v":{"$error":"#N/A"}},{"$f":"MATCH(CB$3,Millwall!$AP128:$BA128,0)","v":{"$error":"#N/A"}},{"$f":"MATCH(CC$3,Millwall!$AP128:$BA128,0)","v":{"$error":"#N/A"}},{"$f":"MATCH(CD$3,Millwall!$AP128:$BA128,0)","v":{"$error":"#N/A"}},{"$f":"MATCH(CE$3,Millwall!$AP128:$BA128,0)","v":{"$error":"#N/A"}}]
[null,null,1,null,null,{"$f":"Millwall!AI129","v":"00:00:00"},null,{"$f":"Millwall!AK129","v":"00:00:00"},{"$f":"Millwall!AL129","v":"00:00:00"},{"$f":"Millwall!AO129","v":0},{"$f":"MATCH(K$4,Millwall!$AP129:$BA129,0)","v":{"$error":"#N/A"}},{"$f":"MATCH(L$4,Millwall!$AP129:$BA129,0)","v":{"$error":"#N/A"}},{"$f":"MATCH(M$4,Millwall!$AP129:$BA129,0)","v":{"$error":"#N/A"}},{"$f":"MATCH(N$4,Millwall!$AP129:$BA129,0)","v":{"$error":"#N/A"}},{"$f":"MATCH(O$4,Millwall!$AP129:$BA129,0)","v":{"$error":"#N/A"}},{"$f":"MATCH(P$4,Millwall!$AP129:$BA129,0)","v":{"$error":"#N/A"}},{"$f":"MATCH(Q$4,Millwall!$AP129:$BA129,0)","v":{"$error":"#N/A"}},{"$f":"MATCH(R$4,Millwall!$AP129:$BA129,0)","v":{"$error":"#N/A"}},{"$f":"MATCH(S$4,Millwall!$AP129:$BA129,0)","v":{"$error":"#N/A"}},{"$f":"MATCH(T$4,Millwall!$AP129:$BA129,0)","v":{"$error":"#N/A"}},{"$f":"MATCH(U$4,Millwall!$AP129:$BA129,0)","v":{"$error":"#N/A"}},{"$f":"MATCH(V$4,Millwall!$AP129:$BA129,0)","v":{"$error":"#N/A"}},{"$f":"MATCH(W$4,Millwall!$AP129:$BA129,0)","v":{"$error":"#N/A"}},{"$f":"MATCH(X$4,Millwall!$AP129:$BA129,0)","v":{"$error":"#N/A"}},{"$f":"MATCH(Y$4,Millwall!$AP129:$BA129,0)","v":{"$error":"#N/A"}},{"$f":"MATCH(Z$4,Millwall!$AP129:$BA129,0)","v":{"$error":"#N/A"}},{"$f":"MATCH(AA$4,Millwall!$AP129:$BA129,0)","v":{"$error":"#N/A"}},{"$f":"MATCH(AB$4,Millwall!$AP129:$BA129,0)","v":{"$error":"#N/A"}},{"$f":"MATCH(AC$4,Millwall!$AP129:$BA129,0)","v":{"$error":"#N/A"}},{"$f":"MATCH(AD$4,Millwall!$AP129:$BA129,0)","v":{"$error":"#N/A"}},{"$f":"MATCH(AE$4,Millwall!$AP129:$BA129,0)","v":{"$error":"#N/A"}},{"$f":"MATCH(AF$4,Millwall!$AP129:$BA129,0)","v":{"$error":"#N/A"}},{"$f":"MATCH(AG$4,Millwall!$AP129:$BA129,0)","v":{"$error":"#N/A"}},{"$f":"MATCH(AH$4,Millwall!$AP129:$BA129,0)","v":{"$error":"#N/A"}},{"$f":"MATCH(AI$4,Millwall!$AP129:$BA129,0)","v":{"$error":"#N/A"}},{"$f":"MATCH(AJ$4,Millwall!$AP129:$BA129,0)","v":{"$error":"#N/A"}},{"$f":"MATCH(AK$4,Millwall!$AP129:$BA129,0)","v":{"$error":"#N/A"}},{"$f":"MATCH(AL$4,Millwall!$AP129:$BA129,0)","v":{"$error":"#N/A"}},{"$f":"MATCH(AM$4,Millwall!$AP129:$BA129,0)","v":{"$error":"#N/A"}},{"$f":"MATCH(AN$4,Millwall!$AP129:$BA129,0)","v":{"$error":"#N/A"}},{"$f":"MATCH(AO$4,Millwall!$AP129:$BA129,0)","v":{"$error":"#N/A"}},{"$f":"MATCH(AP$4,Millwall!$AP129:$BA129,0)","v":{"$error":"#N/A"}},{"$f":"MATCH(AQ$4,Millwall!$AP129:$BA129,0)","v":{"$error":"#N/A"}},{"$f":"MATCH(AR$4,Millwall!$AP129:$BA129,0)","v":{"$error":"#N/A"}},null,null,null,null,null,{"$f":"MATCH(AX$3,Millwall!$AP129:$BA129,0)","v":{"$error":"#N/A"}},{"$f":"MATCH(AY$3,Millwall!$AP129:$BA129,0)","v":{"$error":"#N/A"}},{"$f":"MATCH(AZ$3,Millwall!$AP129:$BA129,0)","v":{"$error":"#N/A"}},{"$f":"MATCH(BA$3,Millwall!$AP129:$BA129,0)","v":{"$error":"#N/A"}},{"$f":"MATCH(BB$3,Millwall!$AP129:$BA129,0)","v":{"$error":"#N/A"}},{"$f":"MATCH(BC$3,Millwall!$AP129:$BA129,0)","v":{"$error":"#N/A"}},{"$f":"MATCH(BD$3,Millwall!$AP129:$BA129,0)","v":{"$error":"#N/A"}},{"$f":"MATCH(BE$3,Millwall!$AP129:$BA129,0)","v":{"$error":"#N/A"}},{"$f":"MATCH(BF$3,Millwall!$AP129:$BA129,0)","v":{"$error":"#N/A"}},{"$f":"MATCH(BG$3,Millwall!$AP129:$BA129,0)","v":{"$error":"#N/A"}},{"$f":"MATCH(BH$3,Millwall!$AP129:$BA129,0)","v":{"$error":"#N/A"}},{"$f":"MATCH(BI$3,Millwall!$AP129:$BA129,0)","v":{"$error":"#N/A"}},{"$f":"MATCH(BJ$3,Millwall!$AP129:$BA129,0)","v":{"$error":"#N/A"}},{"$f":"MATCH(BK$3,Millwall!$AP129:$BA129,0)","v":{"$error":"#N/A"}},{"$f":"MATCH(BL$3,Millwall!$AP129:$BA129,0)","v":{"$error":"#N/A"}},{"$f":"MATCH(BM$3,Millwall!$AP129:$BA129,0)","v":{"$error":"#N/A"}},{"$f":"MATCH(BN$3,Millwall!$AP129:$BA129,0)","v":{"$error":"#N/A"}},{"$f":"MATCH(BO$3,Millwall!$AP129:$BA129,0)","v":{"$error":"#N/A"}},{"$f":"MATCH(BP$3,Millwall!$AP129:$BA129,0)","v":{"$error":"#N/A"}},{"$f":"MATCH(BQ$3,Millwall!$AP129:$BA129,0)","v":{"$error":"#N/A"}},{"$f":"MATCH(BR$3,Millwall!$AP129:$BA129,0)","v":{"$error":"#N/A"}},{"$f":"MATCH(BS$3,Millwall!$AP129:$BA129,0)","v":{"$error":"#N/A"}},{"$f":"MATCH(BT$3,Millwall!$AP129:$BA129,0)","v":{"$error":"#N/A"}},{"$f":"MATCH(BU$3,Millwall!$AP129:$BA129,0)","v":{"$error":"#N/A"}},{"$f":"MATCH(BV$3,Millwall!$AP129:$BA129,0)","v":{"$error":"#N/A"}},{"$f":"MATCH(BW$3,Millwall!$AP129:$BA129,0)","v":{"$error":"#N/A"}},{"$f":"MATCH(BX$3,Millwall!$AP129:$BA129,0)","v":{"$error":"#N/A"}},{"$f":"MATCH(BY$3,Millwall!$AP129:$BA129,0)","v":{"$error":"#N/A"}},{"$f":"MATCH(BZ$3,Millwall!$AP129:$BA129,0)","v":{"$error":"#N/A"}},{"$f":"MATCH(CA$3,Millwall!$AP129:$BA129,0)","v":{"$error":"#N/A"}},{"$f":"MATCH(CB$3,Millwall!$AP129:$BA129,0)","v":{"$error":"#N/A"}},{"$f":"MATCH(CC$3,Millwall!$AP129:$BA129,0)","v":{"$error":"#N/A"}},{"$f":"MATCH(CD$3,Millwall!$AP129:$BA129,0)","v":{"$error":"#N/A"}},{"$f":"MATCH(CE$3,Millwall!$AP129:$BA129,0)","v":{"$error":"#N/A"}}]
[null,null,1,null,null,{"$f":"Millwall!AI130","v":"00:00:00"},null,{"$f":"Millwall!AK130","v":"00:00:00"},{"$f":"Millwall!AL130","v":"00:00:00"},{"$f":"Millwall!AO130","v":0},{"$f":"MATCH(K$4,Millwall!$AP130:$BA130,0)","v":{"$error":"#N/A"}},{"$f":"MATCH(L$4,Millwall!$AP130:$BA130,0)","v":{"$error":"#N/A"}},{"$f":"MATCH(M$4,Millwall!$AP130:$BA130,0)","v":{"$error":"#N/A"}},{"$f":"MATCH(N$4,Millwall!$AP130:$BA130,0)","v":{"$error":"#N/A"}},{"$f":"MATCH(O$4,Millwall!$AP130:$BA130,0)","v":{"$error":"#N/A"}},{"$f":"MATCH(P$4,Millwall!$AP130:$BA130,0)","v":{"$error":"#N/A"}},{"$f":"MATCH(Q$4,Millwall!$AP130:$BA130,0)","v":{"$error":"#N/A"}},{"$f":"MATCH(R$4,Millwall!$AP130:$BA130,0)","v":{"$error":"#N/A"}},{"$f":"MATCH(S$4,Millwall!$AP130:$BA130,0)","v":{"$error":"#N/A"}},{"$f":"MATCH(T$4,Millwall!$AP130:$BA130,0)","v":{"$error":"#N/A"}},{"$f":"MATCH(U$4,Millwall!$AP130:$BA130,0)","v":{"$error":"#N/A"}},{"$f":"MATCH(V$4,Millwall!$AP130:$BA130,0)","v":{"$error":"#N/A"}},{"$f":"MATCH(W$4,Millwall!$AP130:$BA130,0)","v":{"$error":"#N/A"}},{"$f":"MATCH(X$4,Millwall!$AP130:$BA130,0)","v":{"$error":"#N/A"}},{"$f":"MATCH(Y$4,Millwall!$AP130:$BA130,0)","v":{"$error":"#N/A"}},{"$f":"MATCH(Z$4,Millwall!$AP130:$BA130,0)","v":{"$error":"#N/A"}},{"$f":"MATCH(AA$4,Millwall!$AP130:$BA130,0)","v":{"$error":"#N/A"}},{"$f":"MATCH(AB$4,Millwall!$AP130:$BA130,0)","v":{"$error":"#N/A"}},{"$f":"MATCH(AC$4,Millwall!$AP130:$BA130,0)","v":{"$error":"#N/A"}},{"$f":"MATCH(AD$4,Millwall!$AP130:$BA130,0)","v":{"$error":"#N/A"}},{"$f":"MATCH(AE$4,Millwall!$AP130:$BA130,0)","v":{"$error":"#N/A"}},{"$f":"MATCH(AF$4,Millwall!$AP130:$BA130,0)","v":{"$error":"#N/A"}},{"$f":"MATCH(AG$4,Millwall!$AP130:$BA130,0)","v":{"$error":"#N/A"}},{"$f":"MATCH(AH$4,Millwall!$AP130:$BA130,0)","v":{"$error":"#N/A"}},{"$f":"MATCH(AI$4,Millwall!$AP130:$BA130,0)","v":{"$error":"#N/A"}},{"$f":"MATCH(AJ$4,Millwall!$AP130:$BA130,0)","v":{"$error":"#N/A"}},{"$f":"MATCH(AK$4,Millwall!$AP130:$BA130,0)","v":{"$error":"#N/A"}},{"$f":"MATCH(AL$4,Millwall!$AP130:$BA130,0)","v":{"$error":"#N/A"}},{"$f":"MATCH(AM$4,Millwall!$AP130:$BA130,0)","v":{"$error":"#N/A"}},{"$f":"MATCH(AN$4,Millwall!$AP130:$BA130,0)","v":{"$error":"#N/A"}},{"$f":"MATCH(AO$4,Millwall!$AP130:$BA130,0)","v":{"$error":"#N/A"}},{"$f":"MATCH(AP$4,Millwall!$AP130:$BA130,0)","v":{"$error":"#N/A"}},{"$f":"MATCH(AQ$4,Millwall!$AP130:$BA130,0)","v":{"$error":"#N/A"}},{"$f":"MATCH(AR$4,Millwall!$AP130:$BA130,0)","v":{"$error":"#N/A"}},null,null,null,null,null,{"$f":"MATCH(AX$3,Millwall!$AP130:$BA130,0)","v":{"$error":"#N/A"}},{"$f":"MATCH(AY$3,Millwall!$AP130:$BA130,0)","v":{"$error":"#N/A"}},{"$f":"MATCH(AZ$3,Millwall!$AP130:$BA130,0)","v":{"$error":"#N/A"}},{"$f":"MATCH(BA$3,Millwall!$AP130:$BA130,0)","v":{"$error":"#N/A"}},{"$f":"MATCH(BB$3,Millwall!$AP130:$BA130,0)","v":{"$error":"#N/A"}},{"$f":"MATCH(BC$3,Millwall!$AP130:$BA130,0)","v":{"$error":"#N/A"}},{"$f":"MATCH(BD$3,Millwall!$AP130:$BA130,0)","v":{"$error":"#N/A"}},{"$f":"MATCH(BE$3,Millwall!$AP130:$BA130,0)","v":{"$error":"#N/A"}},{"$f":"MATCH(BF$3,Millwall!$AP130:$BA130,0)","v":{"$error":"#N/A"}},{"$f":"MATCH(BG$3,Millwall!$AP130:$BA130,0)","v":{"$error":"#N/A"}},{"$f":"MATCH(BH$3,Millwall!$AP130:$BA130,0)","v":{"$error":"#N/A"}},{"$f":"MATCH(BI$3,Millwall!$AP130:$BA130,0)","v":{"$error":"#N/A"}},{"$f":"MATCH(BJ$3,Millwall!$AP130:$BA130,0)","v":{"$error":"#N/A"}},{"$f":"MATCH(BK$3,Millwall!$AP130:$BA130,0)","v":{"$error":"#N/A"}},{"$f":"MATCH(BL$3,Millwall!$AP130:$BA130,0)","v":{"$error":"#N/A"}},{"$f":"MATCH(BM$3,Millwall!$AP130:$BA130,0)","v":{"$error":"#N/A"}},{"$f":"MATCH(BN$3,Millwall!$AP130:$BA130,0)","v":{"$error":"#N/A"}},{"$f":"MATCH(BO$3,Millwall!$AP130:$BA130,0)","v":{"$error":"#N/A"}},{"$f":"MATCH(BP$3,Millwall!$AP130:$BA130,0)","v":{"$error":"#N/A"}},{"$f":"MATCH(BQ$3,Millwall!$AP130:$BA130,0)","v":{"$error":"#N/A"}},{"$f":"MATCH(BR$3,Millwall!$AP130:$BA130,0)","v":{"$error":"#N/A"}},{"$f":"MATCH(BS$3,Millwall!$AP130:$BA130,0)","v":{"$error":"#N/A"}},{"$f":"MATCH(BT$3,Millwall!$AP130:$BA130,0)","v":{"$error":"#N/A"}},{"$f":"MATCH(BU$3,Millwall!$AP130:$BA130,0)","v":{"$error":"#N/A"}},{"$f":"MATCH(BV$3,Millwall!$AP130:$BA130,0)","v":{"$error":"#N/A"}},{"$f":"MATCH(BW$3,Millwall!$AP130:$BA130,0)","v":{"$error":"#N/A"}},{"$f":"MATCH(BX$3,Millwall!$AP130:$BA130,0)","v":{"$error":"#N/A"}},{"$f":"MATCH(BY$3,Millwall!$AP130:$BA130,0)","v":{"$error":"#N/A"}},{"$f":"MATCH(BZ$3,Millwall!$AP130:$BA130,0)","v":{"$error":"#N/A"}},{"$f":"MATCH(CA$3,Millwall!$AP130:$BA130,0)","v":{"$error":"#N/A"}},{"$f":"MATCH(CB$3,Millwall!$AP130:$BA130,0)","v":{"$error":"#N/A"}},{"$f":"MATCH(CC$3,Millwall!$AP130:$BA130,0)","v":{"$error":"#N/A"}},{"$f":"MATCH(CD$3,Millwall!$AP130:$BA130,0)","v":{"$error":"#N/A"}},{"$f":"MATCH(CE$3,Millwall!$AP130:$BA130,0)","v":{"$error":"#N/A"}}]
[null,null,1,null,null,{"$f":"Millwall!AI131","v":"00:00:00"},null,{"$f":"Millwall!AK131","v":"00:00:00"},{"$f":"Millwall!AL131","v":"00:00:00"},{"$f":"Millwall!AO131","v":0},{"$f":"MATCH(K$4,Millwall!$AP131:$BA131,0)","v":{"$error":"#N/A"}},{"$f":"MATCH(L$4,Millwall!$AP131:$BA131,0)","v":{"$error":"#N/A"}},{"$f":"MATCH(M$4,Millwall!$AP131:$BA131,0)","v":{"$error":"#N/A"}},{"$f":"MATCH(N$4,Millwall!$AP131:$BA131,0)","v":{"$error":"#N/A"}},{"$f":"MATCH(O$4,Millwall!$AP131:$BA131,0)","v":{"$error":"#N/A"}},{"$f":"MATCH(P$4,Millwall!$AP131:$BA131,0)","v":{"$error":"#N/A"}},{"$f":"MATCH(Q$4,Millwall!$AP131:$BA131,0)","v":{"$error":"#N/A"}},{"$f":"MATCH(R$4,Millwall!$AP131:$BA131,0)","v":{"$error":"#N/A"}},{"$f":"MATCH(S$4,Millwall!$AP131:$BA131,0)","v":{"$error":"#N/A"}},{"$f":"MATCH(T$4,Millwall!$AP131:$BA131,0)","v":{"$error":"#N/A"}},{"$f":"MATCH(U$4,Millwall!$AP131:$BA131,0)","v":{"$error":"#N/A"}},{"$f":"MATCH(V$4,Millwall!$AP131:$BA131,0)","v":{"$error":"#N/A"}},{"$f":"MATCH(W$4,Millwall!$AP131:$BA131,0)","v":{"$error":"#N/A"}},{"$f":"MATCH(X$4,Millwall!$AP131:$BA131,0)","v":{"$error":"#N/A"}},{"$f":"MATCH(Y$4,Millwall!$AP131:$BA131,0)","v":{"$error":"#N/A"}},{"$f":"MATCH(Z$4,Millwall!$AP131:$BA131,0)","v":{"$error":"#N/A"}},{"$f":"MATCH(AA$4,Millwall!$AP131:$BA131,0)","v":{"$error":"#N/A"}},{"$f":"MATCH(AB$4,Millwall!$AP131:$BA131,0)","v":{"$error":"#N/A"}},{"$f":"MATCH(AC$4,Millwall!$AP131:$BA131,0)","v":{"$error":"#N/A"}},{"$f":"MATCH(AD$4,Millwall!$AP131:$BA131,0)","v":{"$error":"#N/A"}},{"$f":"MATCH(AE$4,Millwall!$AP131:$BA131,0)","v":{"$error":"#N/A"}},{"$f":"MATCH(AF$4,Millwall!$AP131:$BA131,0)","v":{"$error":"#N/A"}},{"$f":"MATCH(AG$4,Millwall!$AP131:$BA131,0)","v":{"$error":"#N/A"}},{"$f":"MATCH(AH$4,Millwall!$AP131:$BA131,0)","v":{"$error":"#N/A"}},{"$f":"MATCH(AI$4,Millwall!$AP131:$BA131,0)","v":{"$error":"#N/A"}},{"$f":"MATCH(AJ$4,Millwall!$AP131:$BA131,0)","v":{"$error":"#N/A"}},{"$f":"MATCH(AK$4,Millwall!$AP131:$BA131,0)","v":{"$error":"#N/A"}},{"$f":"MATCH(AL$4,Millwall!$AP131:$BA131,0)","v":{"$error":"#N/A"}},{"$f":"MATCH(AM$4,Millwall!$AP131:$BA131,0)","v":{"$error":"#N/A"}},{"$f":"MATCH(AN$4,Millwall!$AP131:$BA131,0)","v":{"$error":"#N/A"}},{"$f":"MATCH(AO$4,Millwall!$AP131:$BA131,0)","v":{"$error":"#N/A"}},{"$f":"MATCH(AP$4,Millwall!$AP131:$BA131,0)","v":{"$error":"#N/A"}},{"$f":"MATCH(AQ$4,Millwall!$AP131:$BA131,0)","v":{"$error":"#N/A"}},{"$f":"MATCH(AR$4,Millwall!$AP131:$BA131,0)","v":{"$error":"#N/A"}},null,null,null,null,null,{"$f":"MATCH(AX$3,Millwall!$AP131:$BA131,0)","v":{"$error":"#N/A"}},{"$f":"MATCH(AY$3,Millwall!$AP131:$BA131,0)","v":{"$error":"#N/A"}},{"$f":"MATCH(AZ$3,Millwall!$AP131:$BA131,0)","v":{"$error":"#N/A"}},{"$f":"MATCH(BA$3,Millwall!$AP131:$BA131,0)","v":{"$error":"#N/A"}},{"$f":"MATCH(BB$3,Millwall!$AP131:$BA131,0)","v":{"$error":"#N/A"}},{"$f":"MATCH(BC$3,Millwall!$AP131:$BA131,0)","v":{"$error":"#N/A"}},{"$f":"MATCH(BD$3,Millwall!$AP131:$BA131,0)","v":{"$error":"#N/A"}},{"$f":"MATCH(BE$3,Millwall!$AP131:$BA131,0)","v":{"$error":"#N/A"}},{"$f":"MATCH(BF$3,Millwall!$AP131:$BA131,0)","v":{"$error":"#N/A"}},{"$f":"MATCH(BG$3,Millwall!$AP131:$BA131,0)","v":{"$error":"#N/A"}},{"$f":"MATCH(BH$3,Millwall!$AP131:$BA131,0)","v":{"$error":"#N/A"}},{"$f":"MATCH(BI$3,Millwall!$AP131:$BA131,0)","v":{"$error":"#N/A"}},{"$f":"MATCH(BJ$3,Millwall!$AP131:$BA131,0)","v":{"$error":"#N/A"}},{"$f":"MATCH(BK$3,Millwall!$AP131:$BA131,0)","v":{"$error":"#N/A"}},{"$f":"MATCH(BL$3,Millwall!$AP131:$BA131,0)","v":{"$error":"#N/A"}},{"$f":"MATCH(BM$3,Millwall!$AP131:$BA131,0)","v":{"$error":"#N/A"}},{"$f":"MATCH(BN$3,Millwall!$AP131:$BA131,0)","v":{"$error":"#N/A"}},{"$f":"MATCH(BO$3,Millwall!$AP131:$BA131,0)","v":{"$error":"#N/A"}},{"$f":"MATCH(BP$3,Millwall!$AP131:$BA131,0)","v":{"$error":"#N/A"}},{"$f":"MATCH(BQ$3,Millwall!$AP131:$BA131,0)","v":{"$error":"#N/A"}},{"$f":"MATCH(BR$3,Millwall!$AP131:$BA131,0)","v":{"$error":"#N/A"}},{"$f":"MATCH(BS$3,Millwall!$AP131:$BA131,0)","v":{"$error":"#N/A"}},{"$f":"MATCH(BT$3,Millwall!$AP131:$BA131,0)","v":{"$error":"#N/A"}},{"$f":"MATCH(BU$3,Millwall!$AP131:$BA131,0)","v":{"$error":"#N/A"}},{"$f":"MATCH(BV$3,Millwall!$AP131:$BA131,0)","v":{"$error":"#N/A"}},{"$f":"MATCH(BW$3,Millwall!$AP131:$BA131,0)","v":{"$error":"#N/A"}},{"$f":"MATCH(BX$3,Millwall!$AP131:$BA131,0)","v":{"$error":"#N/A"}},{"$f":"MATCH(BY$3,Millwall!$AP131:$BA131,0)","v":{"$error":"#N/A"}},{"$f":"MATCH(BZ$3,Millwall!$AP131:$BA131,0)","v":{"$error":"#N/A"}},{"$f":"MATCH(CA$3,Millwall!$AP131:$BA131,0)","v":{"$error":"#N/A"}},{"$f":"MATCH(CB$3,Millwall!$AP131:$BA131,0)","v":{"$error":"#N/A"}},{"$f":"MATCH(CC$3,Millwall!$AP131:$BA131,0)","v":{"$error":"#N/A"}},{"$f":"MATCH(CD$3,Millwall!$AP131:$BA131,0)","v":{"$error":"#N/A"}},{"$f":"MATCH(CE$3,Millwall!$AP131:$BA131,0)","v":{"$error":"#N/A"}}]
[null,null,1,null,null,{"$f":"Millwall!AI132","v":"00:00:00"},null,{"$f":"Millwall!AK132","v":"00:00:00"},{"$f":"Millwall!AL132","v":"00:00:00"},{"$f":"Millwall!AO132","v":0},{"$f":"MATCH(K$4,Millwall!$AP132:$BA132,0)","v":{"$error":"#N/A"}},{"$f":"MATCH(L$4,Millwall!$AP132:$BA132,0)","v":{"$error":"#N/A"}},{"$f":"MATCH(M$4,Millwall!$AP132:$BA132,0)","v":{"$error":"#N/A"}},{"$f":"MATCH(N$4,Millwall!$AP132:$BA132,0)","v":{"$error":"#N/A"}},{"$f":"MATCH(O$4,Millwall!$AP132:$BA132,0)","v":{"$error":"#N/A"}},{"$f":"MATCH(P$4,Millwall!$AP132:$BA132,0)","v":{"$error":"#N/A"}},{"$f":"MATCH(Q$4,Millwall!$AP132:$BA132,0)","v":{"$error":"#N/A"}},{"$f":"MATCH(R$4,Millwall!$AP132:$BA132,0)","v":{"$error":"#N/A"}},{"$f":"MATCH(S$4,Millwall!$AP132:$BA132,0)","v":{"$error":"#N/A"}},{"$f":"MATCH(T$4,Millwall!$AP132:$BA132,0)","v":{"$error":"#N/A"}},{"$f":"MATCH(U$4,Millwall!$AP132:$BA132,0)","v":{"$error":"#N/A"}},{"$f":"MATCH(V$4,Millwall!$AP132:$BA132,0)","v":{"$error":"#N/A"}},{"$f":"MATCH(W$4,Millwall!$AP132:$BA132,0)","v":{"$error":"#N/A"}},{"$f":"MATCH(X$4,Millwall!$AP132:$BA132,0)","v":{"$error":"#N/A"}},{"$f":"MATCH(Y$4,Millwall!$AP132:$BA132,0)","v":{"$error":"#N/A"}},{"$f":"MATCH(Z$4,Millwall!$AP132:$BA132,0)","v":{"$error":"#N/A"}},{"$f":"MATCH(AA$4,Millwall!$AP132:$BA132,0)","v":{"$error":"#N/A"}},{"$f":"MATCH(AB$4,Millwall!$AP132:$BA132,0)","v":{"$error":"#N/A"}},{"$f":"MATCH(AC$4,Millwall!$AP132:$BA132,0)","v":{"$error":"#N/A"}},{"$f":"MATCH(AD$4,Millwall!$AP132:$BA132,0)","v":{"$error":"#N/A"}},{"$f":"MATCH(AE$4,Millwall!$AP132:$BA132,0)","v":{"$error":"#N/A"}},{"$f":"MATCH(AF$4,Millwall!$AP132:$BA132,0)","v":{"$error":"#N/A"}},{"$f":"MATCH(AG$4,Millwall!$AP132:$BA132,0)","v":{"$error":"#N/A"}},{"$f":"MATCH(AH$4,Millwall!$AP132:$BA132,0)","v":{"$error":"#N/A"}},{"$f":"MATCH(AI$4,Millwall!$AP132:$BA132,0)","v":{"$error":"#N/A"}},{"$f":"MATCH(AJ$4,Millwall!$AP132:$BA132,0)","v":{"$error":"#N/A"}},{"$f":"MATCH(AK$4,Millwall!$AP132:$BA132,0)","v":{"$error":"#N/A"}},{"$f":"MATCH(AL$4,Millwall!$AP132:$BA132,0)","v":{"$error":"#N/A"}},{"$f":"MATCH(AM$4,Millwall!$AP132:$BA132,0)","v":{"$error":"#N/A"}},{"$f":"MATCH(AN$4,Millwall!$AP132:$BA132,0)","v":{"$error":"#N/A"}},{"$f":"MATCH(AO$4,Millwall!$AP132:$BA132,0)","v":{"$error":"#N/A"}},{"$f":"MATCH(AP$4,Millwall!$AP132:$BA132,0)","v":{"$error":"#N/A"}},{"$f":"MATCH(AQ$4,Millwall!$AP132:$BA132,0)","v":{"$error":"#N/A"}},{"$f":"MATCH(AR$4,Millwall!$AP132:$BA132,0)","v":{"$error":"#N/A"}},null,null,null,null,null,{"$f":"MATCH(AX$3,Millwall!$AP132:$BA132,0)","v":{"$error":"#N/A"}},{"$f":"MATCH(AY$3,Millwall!$AP132:$BA132,0)","v":{"$error":"#N/A"}},{"$f":"MATCH(AZ$3,Millwall!$AP132:$BA132,0)","v":{"$error":"#N/A"}},{"$f":"MATCH(BA$3,Millwall!$AP132:$BA132,0)","v":{"$error":"#N/A"}},{"$f":"MATCH(BB$3,Millwall!$AP132:$BA132,0)","v":{"$error":"#N/A"}},{"$f":"MATCH(BC$3,Millwall!$AP132:$BA132,0)","v":{"$error":"#N/A"}},{"$f":"MATCH(BD$3,Millwall!$AP132:$BA132,0)","v":{"$error":"#N/A"}},{"$f":"MATCH(BE$3,Millwall!$AP132:$BA132,0)","v":{"$error":"#N/A"}},{"$f":"MATCH(BF$3,Millwall!$AP132:$BA132,0)","v":{"$error":"#N/A"}},{"$f":"MATCH(BG$3,Millwall!$AP132:$BA132,0)","v":{"$error":"#N/A"}},{"$f":"MATCH(BH$3,Millwall!$AP132:$BA132,0)","v":{"$error":"#N/A"}},{"$f":"MATCH(BI$3,Millwall!$AP132:$BA132,0)","v":{"$error":"#N/A"}},{"$f":"MATCH(BJ$3,Millwall!$AP132:$BA132,0)","v":{"$error":"#N/A"}},{"$f":"MATCH(BK$3,Millwall!$AP132:$BA132,0)","v":{"$error":"#N/A"}},{"$f":"MATCH(BL$3,Millwall!$AP132:$BA132,0)","v":{"$error":"#N/A"}},{"$f":"MATCH(BM$3,Millwall!$AP132:$BA132,0)","v":{"$error":"#N/A"}},{"$f":"MATCH(BN$3,Millwall!$AP132:$BA132,0)","v":{"$error":"#N/A"}},{"$f":"MATCH(BO$3,Millwall!$AP132:$BA132,0)","v":{"$error":"#N/A"}},{"$f":"MATCH(BP$3,Millwall!$AP132:$BA132,0)","v":{"$error":"#N/A"}},{"$f":"MATCH(BQ$3,Millwall!$AP132:$BA132,0)","v":{"$error":"#N/A"}},{"$f":"MATCH(BR$3,Millwall!$AP132:$BA132,0)","v":{"$error":"#N/A"}},{"$f":"MATCH(BS$3,Millwall!$AP132:$BA132,0)","v":{"$error":"#N/A"}},{"$f":"MATCH(BT$3,Millwall!$AP132:$BA132,0)","v":{"$error":"#N/A"}},{"$f":"MATCH(BU$3,Millwall!$AP132:$BA132,0)","v":{"$error":"#N/A"}},{"$f":"MATCH(BV$3,Millwall!$AP132:$BA132,0)","v":{"$error":"#N/A"}},{"$f":"MATCH(BW$3,Millwall!$AP132:$BA132,0)","v":{"$error":"#N/A"}},{"$f":"MATCH(BX$3,Millwall!$AP132:$BA132,0)","v":{"$error":"#N/A"}},{"$f":"MATCH(BY$3,Millwall!$AP132:$BA132,0)","v":{"$error":"#N/A"}},{"$f":"MATCH(BZ$3,Millwall!$AP132:$BA132,0)","v":{"$error":"#N/A"}},{"$f":"MATCH(CA$3,Millwall!$AP132:$BA132,0)","v":{"$error":"#N/A"}},{"$f":"MATCH(CB$3,Millwall!$AP132:$BA132,0)","v":{"$error":"#N/A"}},{"$f":"MATCH(CC$3,Millwall!$AP132:$BA132,0)","v":{"$error":"#N/A"}},{"$f":"MATCH(CD$3,Millwall!$AP132:$BA132,0)","v":{"$error":"#N/A"}},{"$f":"MATCH(CE$3,Millwall!$AP132:$BA132,0)","v":{"$error":"#N/A"}}]
[]
[null,null,null,null,null,null,null,null,null,"Total League Cup Apperances",{"$f":"COUNT(K70:K76)","v":3},3,0,3,3,3,0,3,3,3,0,0,1,3,3,0,2,0,0,0,0,0,0,0,0,0,0,0,0,0,0,0,0,0]
[null,null,null,null,null,null,null,null,null,"Total League Cup Substitute Appearences ",{"$f":"COUNTIF(K70:K76,\">=12\")","v":0},{"$f":"COUNTIF(L70:L76,\">=12\")","v":0},0,0,0,0,0,0,0,0,0,0,0,0,0,0,0,0,0,0,0,0,0,0,0,0,0,0,0,0,0,0,0,0]
[null,null,null,null,null,null,null,null,null,"Goals",{"$f":"Millwall!$CD$7","v":0},{"$f":"Millwall!$CD$8","v":0},{"$f":"Millwall!$CD$9","v":0},{"$f":"Millwall!$CD$10","v":0},{"$f":"Millwall!$CD$11","v":0},{"$f":"Millwall!$CD$12","v":0},{"$f":"Millwall!$CD$13","v":0},{"$f":"Millwall!$CD$14","v":0},{"$f":"Millwall!$CD$15","v":0},{"$f":"Millwall!$CD$16","v":0},{"$f":"Millwall!$CD$17","v":0},{"$f":"Millwall!$CD$18","v":0},{"$f":"Millwall!$CD$19","v":0},{"$f":"Millwall!$CD$20","v":0},{"$f":"Millwall!$CD$21","v":0},{"$f":"Millwall!$CD$22","v":0},{"$f":"Millwall!$CD$23","v":0},{"$f":"Millwall!$CD$24","v":0},{"$f":"Millwall!$CD$25","v":0},{"$f":"Millwall!$CD$26","v":0},{"$f":"Millwall!$CD$27","v":0},{"$f":"Millwall!$CD$28","v":0},{"$f":"Millwall!$CD$29","v":0},{"$f":"Millwall!$CD$30","v":0},{"$f":"Millwall!$CD$29","v":0},{"$f":"Millwall!$CD$33","v":0},{"$f":"Millwall!$CD$34","v":0},{"$f":"Millwall!$CD$35","v":0},{"$f":"Millwall!$CD$36","v":0},{"$f":"Millwall!$CD$37","v":0},{"$f":"Millwall!$CD$38","v":0},{"$f":"Millwall!$CD$39","v":0},{"$f":"Millwall!$CD$40","v":0},{"$f":"Millwall!$CD$41","v":0}]
[]
[null,null,1]
[null,null,1]
[null,null,1]
[null,null,1]
[null,null,1]
[null,null,1]
[null,null,1]
[null,null,1]
[]
[]
[null,null,null,null,null,null,null,"Checks",null,null,null,null,null,null,null,null,null,null,1]
[]
["Manual Input",null,null,null,null,null,null,"Opponents","Venue/Result",null,{"$f":"K3","v":"Allder"},"Bolland","Bridges","B Brown","S Brown","Burnett","Coxhill","Cripps","Dorney","Dunphy","Garner","Holmes","Jacks","King","Kitchener","Neil","Possee",0,0,0,"Own Goal",0,0,0,0,0,0,0,0,0,0,0,0,0]
[null,null,{"$f":"IF(J95=0,1,0)","v":0},1,null,{"$f":"F5","v":"1970-08-15"},null,{"$f":"H5","v":"Oxford"},"(H)","L 1-2",11,9,null,2,null,6,null,3,4,10,null,null,8,1,5,null,7]
[null,null,0,2,null,"1970-08-22",null,"Cardiff","(A)","D 2-2",11,9,null,2,12,6,null,3,4,10,null,null,8,1,5,null,7]
[null,null,0,3,null,"1970-08-29",null,"Portsmouth","(H)","D 0-0",11,9,null,2,12,6,null,3,4,10,null,null,8,1,5,null,7]
[null,null,0,4,null,"1970-09-02",null,"Norwich","(A)","L 0-1",11,9,null,2,12,6,null,3,4,10,null,null,8,1,5,null,7]
[null,null,0,5,null,"1970-09-05",null,"Charlton","(A)","W 3-1",11,9,null,2,null,6,null,3,null,10,null,null,4,1,5,8,7]
[null,null,0,6,null,"1970-09-14",null,"Sheff Utd","(H)","L 1-2",11,9,null,2,12,6,null,3,4,10,null,null,8,1,5,null,7]
[null,null,0,7,null,"1970-09-19",null,"Hull","(A)","L 0-2",11,9,null,2,12,6,null,3,4,10,null,null,8,1,5,null,7]
[null,null,0,8,null,"1970-09-26",null,"Sunderland","(H)","D 0-0",11,9,7,2,null,6,null,3,4,8,null,null,null,1,5,null,10]
[null,null,0,9,null,"1970-09-29",null,"Swindon","(A)","L 0-3",11,9,7,2,12,6,null,3,4,8,null,null,null,1,5,null,10]
[null,null,0,10,null,"1970-10-02",null,"Carlisle","(A)","L 0-3",11,9,7,2,12,6,null,3,4,8,null,null,null,1,5,null,10]
[null,null,0,11,null,"1970-10-10",null,"Blackburn","(H)","W 2-0",11,9,7,2,null,6,null,3,null,8,4,null,null,1,5,null,10]
[null,null,0,12,null,"1970-10-17",null,"Oxford","(A)","W 3-2",11,9,7,2,null,6,null,3,4,8,null,null,null,1,5,null,10]
[null,null,0,13,null,"1970-10-19",null,"Watford","(H)","W 3-0",11,9,7,2,null,6,null,3,4,8,null,null,null,1,5,null,10]
[null,null,0,14,null,"1970-10-24",null,"Leyton Orient","(A)","D 0-0",11,9,7,2,null,6,null,3,4,8,null,null,null,1,5,null,10]
[null,null,0,15,null,"1970-10-31",null,"QPR","(H)","W 3-0",11,9,7,2,12,6,null,3,4,8,null,null,null,1,5,null,10]
[null,null,0,16,null,"1970-11-07",null,"Sheff Wed","(A)","L 0-1",11,9,7,2,12,6,null,3,4,8,null,null,null,1,5,null,10]
[null,null,0,17,null,"1970-11-14",null,{"$f":"H21","v":"Bolton"},"(H)","W 2-0",11,9,7,2,null,6,null,3,4,8,null,null,null,1,5,null,10]
[null,null,0,18,null,"1970-11-21",null,"Bristol C","(H)","W 2-0",11,9,7,2,null,6,null,3,4,8,null,null,null,1,5,null,10]
[null,null,0,19,null,"1970-11-28",null,"Middlesbro","(A)","L 0-1",11,9,7,2,null,6,null,3,4,8,null,null,null,1,5,null,10]
[null,null,0,20,null,"1970-12-05",null,"Birmingham","(H)","W 2-1",11,9,7,2,null,6,null,3,null,8,null,null,4,1,5,null,10]
[null,null,0,21,null,"1970-12-12",null,"Leicester","(A)","L 1-2",11,8,9,2,12,6,null,3,4,10,null,null,null,1,5,null,7]
[null,null,0,22,null,"1970-12-19",null,"Cardiff","(H)","W 2-1",11,8,9,2,12,6,null,3,4,10,null,null,null,1,5,null,7]
[null,null,0,23,null,"1971-01-09",null,"Swindon","(H)","D 2-2",11,8,9,2,12,6,null,3,4,10,null,null,null,1,5,null,7]
[null,null,0,24,null,"1971-01-16",null,"Watford","(A)","W 4-0",11,8,9,2,null,6,null,3,4,10,null,null,null,1,5,null,7]
[null,null,0,25,null,"1971-01-23",null,"Norwich","(H)","D 2-2",11,10,9,2,null,6,null,3,4,8,null,null,null,1,5,null,7]
[null,null,0,26,null,"1971-01-30",null,"Middlesbro","(H)","W 1-0",null,8,9,2,12,6,null,3,4,10,null,null,null,1,5,11,7]
[null,null,0,27,null,"1971-02-06",null,"Birmingham","(A)","L 1-3",null,8,9,2,null,6,null,3,4,10,null,12,null,1,5,11,7]
[null,null,0,28,null,"1971-02-20",null,"Bristol C","(A)","L 2-3",11,8,9,2,7,null,null,3,4,10,6,null,null,1,5,12]
[null,null,0,29,null,"1971-02-27",null,"QPR","(A)","L 0-2",11,6,9,2,null,null,null,3,4,null,null,null,8,1,5,10,7]
[null,null,0,30,null,"1971-03-01",null,"Leicester","(H)","D 0-0",11,10,9,2,null,6,null,3,4,null,null,null,8,1,5,null,7]
[null,null,0,31,null,"1971-03-06",null,"Leyton Orient","(H)","L 0-1",11,10,9,2,null,6,null,3,4,12,null,null,null,1,5,8,7]
[null,null,0,32,null,"1971-03-13",null,"Bolton","(A)","D 1-1",11,8,9,2,null,6,null,3,4,10,null,null,null,1,5,null,7]
[null,null,0,33,null,"1971-03-20",null,{"$f":"H37","v":"Sheff Wed"},"(H)","W 1-0",11,8,9,2,null,6,null,3,4,10,null,null,null,1,5,null,7]
[null,null,0,34,null,"1971-03-27",null,"Charlton","(H)","W 2-0",11,8,9,2,null,6,null,3,4,10,null,null,null,1,5,null,7]
[null,null,0,35,null,"1971-03-30",null,"Luton","(A)","D 1-1",11,8,9,2,null,6,null,3,4,10,null,null,null,1,5,null,7]
[null,null,0,36,null,"1971-04-03",null,"Portsmouth","(A)","W 2-0",null,8,9,2,null,6,11,3,4,10,null,null,null,1,5,null,7]
[null,null,0,37,null,"1971-04-05",null,"Carlisle","(H)","W 2-1",11,8,9,2,null,6,null,3,4,10,null,null,null,1,5,null,7]
[null,null,0,38,null,"1971-04-10",null,"Luton","(H)","W 4-0",11,8,9,2,null,6,null,3,4,10,null,null,null,1,5,null,7]
[null,null,0,39,null,"1971-04-13",null,"Sheff Utd","(A)","L 0-2",11,8,9,2,null,6,12,3,4,10,null,null,null,1,5,null,7]
[null,null,0,40,null,"1971-04-17",null,"Blackburn","(A)","W 2-0",11,8,9,2,null,6,null,3,4,10,null,null,null,1,5,null,7]
[null,null,0,41,null,"1971-04-24",null,"Hull","(H)","W 4-0",11,8,9,2,null,6,null,3,4,10,null,null,null,1,5,null,7]
[null,null,0,42,null,"1971-05-01",null,"Sunderland","(A)","W 1-0",null,8,9,2,null,6,11,3,4,10,null,null,null,1,5,null,7]
[null,null,1,43,null,"00:00:00",null,"00:00:00","00:00:00",0]
[null,null,1,44,null,"00:00:00",null,"00:00:00","00:00:00",0]
[null,null,{"$f":"IF(J139=0,1,0)","v":1},45,null,"00:00:00",null,"00:00:00","00:00:00",0]
[null,null,{"$f":"IF(J140=0,1,0)","v":1},46,null,"00:00:00",null,"00:00:00","00:00:00",0]
[]
[null,null,null,null,null,null,null,null,null,"Total League Apperances",{"$f":"COUNT(K95:K140)-K143","v":38},{"$f":"COUNT(L95:L140)-L143","v":42},35,42,1,40,2,42,39,39,2,0,10,42,42,5,41,0,0,0,0,0,0,0,0,0,0,0,0,0,0,0,0,0]
[null,null,null,null,null,null,null,null,null,"Total League Substitute Appearences ",{"$f":"COUNTIF(K95:K140,\">=12\")","v":0},0,{"$f":"COUNTIF(M95:M140,\">=12\")","v":0},{"$f":"COUNTIF(N95:N140,\">=12\")","v":0},13,0,1,0,0,1,0,1,0,0,0,1,0,0,0,0,0,0,0,0,0,0,0,0,0,0,0,0,0,0]
[null,null,null,null,null,null,null,null,null,"Goals",0,0,0,0,0,0,0,0,0,0,0,0,0,0,0,0,0,0,0,0,0,0,0,0,0,0,0,0,0,0,0,0,0,0]
[null,null,null,null,null,null,null,"FA Cup"]
[null,null,{"$f":"IF(J146=0,1,0)","v":0},{"$f":"D57","v":3},null,{"$f":"F57","v":"1971-01-02"},null,{"$f":"H57","v":"Stoke City"},"(A)","L 1-2",11,9,7,2,null,6,null,3,4,8,null,null,null,1,5,null,10]
[null,null,1,{"$f":"D58","v":0},null,"00:00:00",null,"00:00:00","00:00:00",0]
[null,null,1,0,null,"00:00:00",null,"00:00:00","00:00:00",0]
[null,null,1,0,null,"00:00:00",null,"00:00:00","00:00:00",0]
[null,null,1,0,null,"00:00:00",null,"00:00:00","00:00:00",0]
[null,null,1,0,null,"00:00:00",null,"00:00:00","00:00:00",0]
[null,null,1,0,null,"00:00:00",null,"00:00:00","00:00:00",0]
[]
[null,null,null,null,null,null,null,null,null,"Total FA Cup Apperances",{"$f":"COUNT(K146:K152)-K155","v":1},{"$f":"COUNT(L146:L152)-L155","v":1},1,1,0,1,0,1,1,1,0,0,0,1,1,0,1,0,0,0,0,0,0,0,0,0,0,0,0,0,0,0,0,0]
[null,null,null,null,null,null,null,null,null,"Total FA Cup Substitute Appearences ",{"$f":"COUNTIF(K146:K152,\">=12\")","v":0},{"$f":"COUNTIF(L146:L152,\">=12\")","v":0},0,0,0,0,0,0,0,0,0,0,0,0,0,0,0,0,0,0,0,0,0]
[null,null,null,null,null,null,null,null,null,"Goals",0,0,0,0,0,0,0,0,0,0,0,0,0,0,0,0,0,0,0,0,0,0,0,0,0,0,0,0,0,0,0,0,0,0]
[]
[null,null,null,null,null,null,null,"League Cup"]
[null,null,{"$f":"IF(J159=0,1,0)","v":0},{"$f":"D70","v":2},null,{"$f":"F70","v":"1970-09-09"},null,{"$f":"H70","v":"Stoke City"},"(A)","D 0-0",11,9,null,2,7,6,null,3,4,10,null,null,8,1,5]
[null,null,0,{"$f":"D71","v":"2R"},null,"1970-09-21",null,"Stoke City","(H)","W 2-1",11,9,null,2,7,6,null,3,4,8,null,null,null,1,5,null,10]
[null,null,0,3,null,"1970-10-07",null,"Derby Co","(A)","L 2-4",11,9,null,2,7,6,null,3,4,8,null,null,null,1,5,null,10]
[null,null,1,0,null,"00:00:00",null,"00:00:00","00:00:00",0]
[null,null,1,0,null,"00:00:00",null,"00:00:00","00:00:00",0]
[null,null,1,0,null,"00:00:00",null,"00:00:00","00:00:00",0]
[null,null,1,0,null,"00:00:00",null,"00:00:00","00:00:00",0]
[]
[null,null,null,null,null,null,null,null,null,"Total League Cup Apperances",{"$f":"COUNT(K159:K165)-K168","v":3},{"$f":"COUNT(L159:L165)-L168","v":3},0,3,3,3,0,3,3,3,0,0,1,3,3,0,2,0,0,0,0,0,0,0,0,0,0,0,0,0,0,0,0,0]
[null,null,null,null,null,null,null,null,null,"Total League Cup Substitute Appearences ",{"$f":"COUNTIF(K159:K165,\">=12\")","v":0},{"$f":"COUNTIF(L159:L165,\">=12\")","v":0},0,0,0,0,0,0,0,0,0,0,0,0,0,0,0,0,0,0,0,0,0,0,0,0,0,0,0,0,0,0,0,0]
[null,null,null,null,null,null,null,null,null,"Goals",0,0,0,0,0,0,0,0,0,0,0,0,0,0,0,0,0,0,0,0,0,0,0,0,0,0,0,0,0,0,0,0,0,0]
[null,null,1]
[null,null,1]
[null,null,1]
[null,null,1]
[null,null,1]
[null,null,1]
[null,null,1]
[null,null,1]
[]
[]
[]
[]
["Manual Input",null,null,null,null,null,null,"Opponents","Venue/Result",null,{"$f":"K3","v":"Allder"},{"$f":"L3","v":"Bolland"},{"$f":"M3","v":"Bridges"},"B Brown","S Brown","Burnett","Coxhill","Cripps","Dorney","Dunphy","Garner","Holmes","Jacks","King","Kitchener","Neil","Possee",0,0,0,"Own Goal",0,0,0,0,0,0,0,0,0,0,0,0,0]
[null,null,{"$f":"IF(J183=0,1,0)","v":0},1,null,{"$f":"F5","v":"1970-08-15"},null,{"$f":"H5","v":"Oxford"},"(H)","L 1-2",11,9,null,2,null,6,null,3,4,10,null,null,8,1,5,null,7]
[null,null,0,2,null,"1970-08-22",null,"Cardiff","(A)","D 2-2",11,9,null,2,12,6,null,3,4,10,null,null,8,1,5,null,7]
[null,null,0,3,null,"1970-08-29",null,"Portsmouth","(H)","D 0-0",11,9,null,2,12,6,null,3,4,10,null,null,8,1,5,null,7]
[null,null,0,4,null,"1970-09-02",null,"Norwich","(A)","L 0-1",11,9,null,2,12,6,null,3,4,10,null,null,8,1,5,null,7]
[null,null,0,5,null,"1970-09-05",null,"Charlton","(A)","W 3-1",11,9,null,2,null,6,null,3,null,10,null,null,4,1,5,8,7]
[null,null,0,6,null,"1970-09-14",null,"Sheff Utd","(H)","L 1-2",11,9,null,2,12,6,null,3,4,10,null,null,8,1,5,null,7]
[null,null,0,7,null,"1970-09-19",null,"Hull","(A)","L 0-2",11,9,null,2,12,6,null,3,4,10,null,null,8,1,5,null,7]
[null,null,0,8,null,"1970-09-26",null,"Sunderland","(H)","D 0-0",11,9,7,2,null,6,null,3,4,8,null,null,null,1,5,null,10]
[null,null,0,9,null,"1970-09-29",null,"Swindon","(A)","L 0-3",11,9,7,2,12,6,null,3,4,8,null,null,null,1,5,null,10]
[null,null,0,10,null,"1970-10-02",null,"Carlisle","(A)","L 0-3",11,9,7,2,12,6,null,3,4,8,null,null,null,1,5,null,10]
[null,null,0,11,null,"1970-10-10",null,"Blackburn","(H)","W 2-0",11,9,7,2,null,6,null,3,null,8,4,null,null,1,5,null,10]
[null,null,0,12,null,"1970-10-17",null,"Oxford","(A)","W 3-2",11,9,7,2,null,6,null,3,4,8,null,null,null,1,5,null,10]
[null,null,0,13,null,"1970-10-19",null,"Watford","(H)","W 3-0",11,9,7,2,null,6,null,3,4,8,null,null,null,1,5,null,10]
[null,null,0,14,null,"1970-10-24",null,"Leyton Orient","(A)","D 0-0",11,9,7,2,null,6,null,3,4,8,null,null,null,1,5,null,10]
[null,null,0,15,null,"1970-10-31",null,"QPR","(H)","W 3-0",11,9,7,2,12,6,null,3,4,8,null,null,null,1,5,null,10]
[null,null,0,16,null,"1970-11-07",null,"Sheff Wed","(A)","L 0-1",11,9,7,2,12,6,null,3,4,8,null,null,null,1,5,null,10]
[null,null,0,17,null,"1970-11-14",null,{"$f":"H21","v":"Bolton"},"(H)","W 2-0",11,9,7,2,null,6,null,3,4,8,null,null,null,1,5,null,10]
[null,null,0,18,null,"1970-11-21",null,"Bristol C","(H)","W 2-0",11,9,7,2,null,6,null,3,4,8,null,null,null,1,5,null,10]
[null,null,0,19,null,"1970-11-28",null,"Middlesbro","(A)","L 0-1",11,9,7,2,null,6,null,3,4,8,null,null,null,1,5,null,10]
[null,null,0,20,null,"1970-12-05",null,"Birmingham","(H)","W 2-1",11,9,7,2,null,6,null,3,null,8,null,null,4,1,5,null,10]
[null,null,0,21,null,"1970-12-12",null,"Leicester","(A)","L 1-2",11,8,9,2,12,6,null,3,4,10,null,null,null,1,5,null,7]
[null,null,0,22,null,"1970-12-19",null,"Cardiff","(H)","W 2-1",11,8,9,2,12,6,null,3,4,10,null,null,null,1,5,null,7]
[null,null,0,23,null,"1971-01-09",null,"Swindon","(H)","D 2-2",11,8,9,2,12,6,null,3,4,10,null,null,null,1,5,null,7]
[null,null,0,24,null,"1971-01-16",null,"Watford","(A)","W 4-0",11,8,9,2,null,6,null,3,4,10,null,null,null,1,5,null,7]
[null,null,0,25,null,"1971-01-23",null,"Norwich","(H)","D 2-2",11,10,9,2,null,6,null,3,4,8,null,null,null,1,5,null,7]
[null,null,0,26,null,"1971-01-30",null,"Middlesbro","(H)","W 1-0",null,8,9,2,12,6,null,3,4,10,null,null,null,1,5,11,7]
[null,null,0,27,null,"1971-02-06",null,"Birmingham","(A)","L 1-3",null,8,9,2,null,6,null,3,4,10,null,12,null,1,5,11,7]
[null,null,0,28,null,"1971-02-20",null,"Bristol C","(A)","L 2-3",11,8,9,2,7,null,null,3,4,10,6,null,null,1,5,12]
[null,null,0,29,null,"1971-02-27",null,"QPR","(A)","L 0-2",11,6,9,2,null,null,null,3,4,null,null,null,8,1,5,10,7]
[null,null,0,30,null,"1971-03-01",null,"Leicester","(H)","D 0-0",11,10,9,2,null,6,null,3,4,null,null,null,8,1,5,null,7]
[null,null,0,31,null,"1971-03-06",null,"Leyton Orient","(H)","L 0-1",11,10,9,2,null,6,null,3,4,12,null,null,null,1,5,8,7]
[null,null,0,32,null,"1971-03-13",null,"Bolton","(A)","D 1-1",11,8,9,2,null,6,null,3,4,10,null,null,null,1,5,null,7]
[null,null,0,33,null,"1971-03-20",null,{"$f":"H37","v":"Sheff Wed"},"(H)","W 1-0",11,8,9,2,null,6,null,3,4,10,null,null,null,1,5,null,7]
[null,null,0,34,null,"1971-03-27",null,"Charlton","(H)","W 2-0",11,8,9,2,null,6,null,3,4,10,null,null,null,1,5,null,7]
[null,null,0,35,null,"1971-03-30",null,"Luton","(A)","D 1-1",11,8,9,2,null,6,null,3,4,10,null,null,null,1,5,null,7]
[null,null,0,36,null,"1971-04-03",null,"Portsmouth","(A)","W 2-0",null,8,9,2,null,6,11,3,4,10,null,null,null,1,5,null,7]
[null,null,0,37,null,"1971-04-05",null,"Carlisle","(H)","W 2-1",11,8,9,2,null,6,null,3,4,10,null,null,null,1,5,null,7]
[null,null,0,38,null,"1971-04-10",null,"Luton","(H)","W 4-0",11,8,9,2,null,6,null,3,4,10,null,null,null,1,5,null,7]
[null,null,0,39,null,"1971-04-13",null,"Sheff Utd","(A)","L 0-2",11,8,9,2,null,6,12,3,4,10,null,null,null,1,5,null,7]
[null,null,0,40,null,"1971-04-17",null,"Blackburn","(A)","W 2-0",11,8,9,2,null,6,null,3,4,10,null,null,null,1,5,null,7]
[null,null,0,41,null,"1971-04-24",null,"Hull","(H)","W 4-0",11,8,9,2,null,6,null,3,4,10,null,null,null,1,5,null,7]
[null,null,0,42,null,"1971-05-01",null,"Sunderland","(A)","W 1-0",null,8,9,2,null,6,11,3,4,10,null,null,null,1,5,null,7]
[null,null,1,43,null,"00:00:00",null,"00:00:00","00:00:00",0]
[null,null,1,44,null,"00:00:00",null,"00:00:00","00:00:00",0]
[null,null,{"$f":"IF(J227=0,1,0)","v":1},45,null,"00:00:00",null,"00:00:00","00:00:00",0]
[null,null,{"$f":"IF(J228=0,1,0)","v":1},46,null,"00:00:00",null,"00:00:00","00:00:00",0]
[]
[null,null,null,null,null,null,null,null,null,"Total League Apperances",{"$f":"COUNT(K183:K228)-K231","v":38},{"$f":"COUNT(L183:L228)-L231","v":42},35,42,1,40,2,42,39,39,2,0,10,42,42,5,41,0,0,0,0,0,0,0,0,0,0,0,0,0,0,0,0,0]
[null,null,null,null,null,null,null,null,null,"Total League Substitute Appearences ",{"$f":"COUNTIF(K183:K228,\">=12\")","v":0},0,{"$f":"COUNTIF(M183:M228,\">=12\")","v":0},{"$f":"COUNTIF(N183:N228,\">=12\")","v":0},13,0,1,0,0,1,0,1,0,0,0,1,0,0,0,0,0,0,0,0,0,0,0,0,0,0,0,0,0,0]
[null,null,null,null,null,null,null,null,null,"Goals",0,0,0,0,0,0,0,0,0,0,0,0,0,0,0,0,0,0,0,0,0,0,0,0,0,0,0,0,0,0,0,0,0,0]
[null,null,null,null,null,null,null,"FA Cup"]
[null,null,{"$f":"IF(J234=0,1,0)","v":0},{"$f":"D57","v":3},null,{"$f":"F57","v":"1971-01-02"},null,{"$f":"H57","v":"Stoke City"},"(A)","L 1-2",11,9,7,2,null,6,null,3,4,8,null,null,null,1,5,null,10]
[null,null,1,{"$f":"D58","v":0},null,"00:00:00",null,"00:00:00","00:00:00",0]
[null,null,1,0,null,"00:00:00",null,"00:00:00","00:00:00",0]
[null,null,{"$f":"IF(D237=0,1,0)","v":1},0,null,"00:00:00",null,"00:00:00","00:00:00",0]
[null,null,1,0,null,"00:00:00",null,"00:00:00","00:00:00",0]
[null,null,1,0,null,"00:00:00",null,"00:00:00","00:00:00",0]
[null,null,1,0,null,"00:00:00",null,"00:00:00","00:00:00",0]
[]
[null,null,null,null,null,null,null,null,null,"Total FA Cup Apperances",{"$f":"COUNT(K234:K240)-K243","v":1},{"$f":"COUNT(L234:L240)-L243","v":1},1,1,0,1,0,1,1,1,0,0,0,1,1,0,1,0,0,0,0,0,0,0,0,0,0,0,0,0,0,0,0,0]
[null,null,null,null,null,null,null,null,null,"Total FA Cup Substitute Appearences ",{"$f":"COUNTIF(K234:K240,\">=12\")","v":0},{"$f":"COUNTIF(L234:L240,\">=12\")","v":0},0,0,0,0,0,0,0,0,0,0,0,0,0,0,0,0,0,0,0,0,0,0,0,0,0,0,0,0,0,0,0,0]
[null,null,null,null,null,null,null,null,null,"Goals",0,0,0,0,0,0,0,0,0,0,0,0,0,0,0,0,0,0,0,0,0,0,0,0,0,0,0,0,0,0,0,0,0,0]
[]
[null,null,null,null,null,null,null,"League Cup"]
[null,null,{"$f":"IF(J247=0,1,0)","v":0},{"$f":"D70","v":2},null,{"$f":"F70","v":"1970-09-09"},null,{"$f":"H70","v":"Stoke City"},{"$f":"I70","v":"(A)"},{"$f":"J70","v":"D 0-0"},11,9,null,2,7,6,null,3,4,10,null,null,8,1,5]
[null,null,0,{"$f":"D71","v":"2R"},null,{"$f":"F71","v":"1970-09-21"},null,{"$f":"H71","v":"Stoke City"},"(H)","W 2-1",11,9,null,2,7,6,null,3,4,8,null,null,null,1,5,null,10]
[null,null,0,3,null,"1970-10-07",null,"Derby Co","(A)","L 2-4",11,9,null,2,7,6,null,3,4,8,null,null,null,1,5,null,10]
[null,null,1,0,null,"00:00:00",null,"00:00:00","00:00:00",0]
[null,null,1,0,null,"00:00:00",null,"00:00:00","00:00:00",0]
[null,null,1,0,null,"00:00:00",null,"00:00:00","00:00:00",0]
[null,null,1,0,null,"00:00:00",null,"00:00:00","00:00:00",0]
[]
[null,null,null,null,null,null,null,null,null,"Total League Cup Apperances",{"$f":"COUNT(K247:K253)-K256","v":3},{"$f":"COUNT(L247:L253)-L256","v":3},0,3,3,3,0,3,3,3,0,0,1,3,3,0,2,0,0,0,0,0,0,0,0,0,0,0,0,0,0,0,0,0]
[null,null,null,null,null,null,null,null,null,"Total League Cup Substitute Appearences ",{"$f":"COUNTIF(K247:K253,\">=12\")","v":0},{"$f":"COUNTIF(L247:L253,\">=12\")","v":0},0,0,0,0,0,0,0,0,0,0,0,0,0,0,0,0,0,0,0,0,0,0,0,0,0,0,0,0,0,0,0,0]
[null,null,null,null,null,null,null,null,null,"Goals",0,0,0,0,0,0,0,0,0,0,0,0,0,0,0,0,0,0,0,0,0,0,0,0,0,0,0,0,0,0,0,0,0,0]
[null,null,1]
[null,null,1]
[null,null,1]
[null,null,1]
[null,null,1]
[null,null,1]
[null,null,1]
[null,null,1]

{"sheet":"Sheet1","index":2,"n_rows":195,"n_cols":63,"rows_kept":195,"cut":false,"hidden":false,"merged":[[155,1,157,1],[155,52,157,52],[200,13,200,14],[201,13,201,14],[125,1,127,1],[125,52,127,52],[135,1,137,1],[135,52,137,52],[145,1,147,1],[145,52,147,52],[95,1,97,1],[95,52,97,52],[105,1,107,1],[105,52,107,52],[115,1,117,1],[115,52,117,52],[65,1,67,1],[65,52,67,52],[75,1,77,1],[75,52,77,52],[85,1,87,1],[85,52,87,52],[35,1,37,1],[35,52,37,52],[45,1,47,1],[45,52,47,52],[55,1,57,1],[55,52,57,52],[5,1,7,1],[5,52,7,52],[15,1,17,1],[15,52,17,52],[25,1,27,1],[25,52,27,52]]}
[]
[null,null,null,null,null,null,null,null,null,null,null,null,null,null,null,null,null,null,null,null,null,null,null,null,null,null,null,null,null,null,null,null,null,null,null,null,null,null,null,null,null,null,null,null,null,null,null,null,null,null,null,null,null,null,null,null,null,null,null,null,null,null,{"$f":"158-70","v":88}]
[]
[]
[]
[null,75,null,null,null,null,null,null,null,null,null,null,null,null,null,null,null,null,null,null,null,null,null,null,null,null,null,null,null,null,null,null,null,null,null,null,null,null,null,null,null,null,null,null,null,null,null,null,null,null,null,null,75]
[null,null,null,null,null,null,null,null,null,null,null,null,null,null,null,null,null,null,null,null,null,null,null,null,null,null,null,null,null,null,null,null,null,null,null,null,null,null,null,null,null,null,null,null,null,null,null,null,null,null,-5]
[]
[]
[]
[]
[null,null,null,null,null,null,null,null,null,null,null,null,null,null,null,null,null,null,null,null,null,null,null,null,null,null,null,null,null,null,null,null,null,null,null,null,null,null,null,null,null,null,null,null,null,null,null,null,null,null,-4]
[]
[]
[]
[null,70,null,null,null,null,null,null,null,null,null,null,null,null,null,null,null,null,null,null,null,null,null,null,null,null,null,null,null,null,null,null,null,null,null,null,null,null,null,null,null,null,null,null,null,null,null,null,null,null,null,null,70]
[null,null,null,null,null,null,null,null,null,null,null,null,null,null,null,null,null,null,null,null,null,null,null,null,null,null,null,null,null,null,null,null,null,null,null,null,null,null,null,null,null,null,null,null,null,null,null,null,null,null,-3]
[]
[]
[]
[]
[null,null,null,null,null,null,null,null,null,null,null,null,null,null,null,null,null,null,null,null,null,null,null,null,null,null,null,null,null,null,null,null,null,null,null,null,null,null,null,null,null,null,null,null,null,null,null,null,null,null,-2]
[]
[]
[]
[null,65,null,null,null,null,null,null,null,null,null,null,null,null,null,null,null,null,null,null,null,null,null,null,null,null,null,null,null,null,null,null,null,null,null,null,null,null,null,null,null,null,null,null,null,null,null,null,null,null,null,null,65]
[null,null,null,null,null,null,null,null,null,null,null,null,null,null,null,null,null,null,null,null,null,null,null,null,null,null,null,null,null,null,null,null,null,null,null,null,null,null,null,null,null,null,null,null,null,null,null,null,null,null,-1]
[]
[]
[]
[]
[null,null,null,null,null,null,null,null,null,null,null,null,null,null,null,null,null,null,null,null,null,null,null,null,null,null,null,null,null,null,null,null,null,null,null,null,null,null,null,null,null,null,null,null,null,null,null,null,null,null,0]
[]
[]
[]
[null,60,null,null,null,null,null,null,null,null,null,null,null,null,null,null,null,null,null,null,null,null,null,null,null,null,null,null,null,null,null,null,null,null,null,null,null,null,null,null,null,null,null,null,null,null,null,null,null,null,null,null,60]
[null,null,null,null,null,null,null,null,null,null,null,null,null,null,null,null,null,null,null,null,null,null,null,null,null,null,null,null,null,null,null,null,null,null,null,null,null,null,null,null,null,null,null,null,null,null,null,null,null,null,1]
[]
[]
[]
[]
[null,null,null,null,null,null,null,null,null,null,null,null,null,null,null,null,null,null,null,null,null,null,null,null,null,null,null,null,null,null,null,null,null,null,null,null,null,null,null,null,null,null,null,null,null,null,null,null,null,null,2]
[]
[]
[]
[null,55,null,null,null,null,null,null,null,null,null,null,null,null,null,null,null,null,null,null,null,null,null,null,null,null,null,null,null,null,null,null,null,null,null,null,null,null,null,null,null,null,null,null,null,null,null,null,null,null,null,null,55]
[null,null,null,null,null,null,null,null,null,null,null,null,null,null,null,null,null,null,null,null,null,null,null,null,null,null,null,null,null,null,null,null,null,null,null,null,null,null,null,null,null,null,null,null,null,null,null,null,null,null,3]
[]
[]
[]
[]
[null,null,null,null,null,null,null,null,null,null,null,null,null,null,null,null,null,null,null,null,null,null,null,null,null,null,null,null,null,null,null,null,null,null,null,null,null,null,null,null,null,null,null,null,null,null,null,null,null,null,4]
[]
[]
[]
[null,50,null,null,null,null,null,null,null,null,null,null,null,null,null,null,null,null,null,null,null,null,null,null,null,null,null,null,null,null,null,null,null,null,null,null,null,null,null,null,null,null,null,null,null,null,null,null,null,null,null,null,50]
[null,null,null,null,null,null,null,null,null,null,null,null,null,null,null,null,null,null,null,null,null,null,null,null,null,null,null,null,null,null,null,null,null,null,null,null,null,null,null,null,null,null,null,null,null,null,null,null,null,null,5]
[]
[]
[]
[]
[null,null,null,null,null,null,null,null,null,null,null,null,null,null,null,null,null,null,null,null,null,null,null,null,null,null,null,null,null,null,null,null,null,null,null,null,null,null,null,null,null,null,null,null,null,null,null,null,null,null,6]
[]
[]
[]
[null,45,null,null,null,null,null,null,null,null,null,null,null,null,null,null,null,null,null,null,null,null,null,null,null,null,null,null,null,null,null,null,null,null,null,null,null,null,null,null,null,null,null,null,null,null,null,null,null,null,null,null,45]
[null,null,null,null,null,null,null,null,null,null,null,null,null,null,null,null,null,null,null,null,null,null,null,null,null,null,null,null,null,null,null,null,null,null,null,null,null,null,null,null,null,null,null,null,null,null,null,null,null,null,7]
[]
[]
[]
[]
[null,null,null,null,null,null,null,null,null,null,null,null,null,null,null,null,null,null,null,null,null,null,null,null,null,null,null,null,null,null,null,null,null,null,null,null,null,null,null,null,null,null,null,null,null,null,null,null,null,null,8]
[]
[]
[]
[null,40,null,null,null,null,null,null,null,null,null,null,null,null,null,null,null,null,null,null,null,null,null,null,null,null,null,null,null,null,null,null,null,null,null,null,null,null,null,null,null,null,null,null,null,null,null,null,null,null,null,null,40]
[null,null,null,null,null,null,null,null,null,null,null,null,null,null,null,null,null,null,null,null,null,null,null,null,null,null,null,null,null,null,null,null,null,null,null,null,null,null,null,null,null,null,null,null,null,null,null,null,null,null,9]
[]
[]
[]
[]
[null,null,null,null,null,null,null,null,null,null,null,null,null,null,null,null,null,null,null,null,null,null,null,null,null,null,null,null,null,null,null,null,null,null,null,null,null,null,null,null,null,null,null,null,null,null,null,null,null,null,10]
[]
[]
[]
[null,35,null,null,null,null,null,null,null,null,null,null,null,null,null,null,null,null,null,null,null,null,null,null,null,null,null,null,null,null,null,null,null,null,null,null,null,null,null,null,null,null,null,null,null,null,null,null,null,null,null,null,35]
[null,null,null,null,null,null,null,null,null,null,null,null,null,null,null,null,null,null,null,null,null,null,null,null,null,null,null,null,null,null,null,null,null,null,null,null,null,null,null,null,null,null,null,null,null,null,null,null,null,null,11]
[]
[]
[]
[]
[null,null,null,null,null,null,null,null,null,null,null,null,null,null,null,null,null,null,null,null,null,null,null,null,null,null,null,null,null,null,null,null,null,null,null,null,null,null,null,null,null,null,null,null,null,null,null,null,null,null,12]
[]
[]
[]
[null,30,null,null,null,null,null,null,null,null,null,null,null,null,null,null,null,null,null,null,null,null,null,null,null,null,null,null,null,null,null,null,null,null,null,null,null,null,null,null,null,null,null,null,null,null,null,null,null,null,null,null,30]
[null,null,null,null,null,null,null,null,null,null,null,null,null,null,null,null,null,null,null,null,null,null,null,null,null,null,null,null,null,null,null,null,null,null,null,null,null,null,null,null,null,null,null,null,null,null,null,null,null,null,13]
[]
[]
[]
[]
[null,null,null,null,null,null,null,null,null,null,null,null,null,null,null,null,null,null,null,null,null,null,null,null,null,null,null,null,null,null,null,null,null,null,null,null,null,null,null,null,null,null,null,null,null,null,null,null,null,null,14]
[]
[]
[]
[null,25,null,null,null,null,null,null,null,null,null,null,null,null,null,null,null,null,null,null,null,null,null,null,null,null,null,null,null,null,null,null,null,null,null,null,null,null,null,null,null,null,null,null,null,null,null,null,null,null,null,null,25]
[null,null,null,null,null,null,null,null,null,null,null,null,null,null,null,null,null,null,null,null,null,null,null,null,null,null,null,null,null,null,null,null,null,null,null,null,null,null,null,null,null,null,null,null,null,null,null,null,null,null,15]
[]
[]
[]
[]
[null,null,null,null,null,null,null,null,null,null,null,null,null,null,null,null,null,null,null,null,null,null,null,null,null,null,null,null,null,null,null,null,null,null,null,null,null,null,null,null,null,null,null,null,null,null,null,null,null,null,16]
[]
[]
[]
[null,20,null,null,null,null,null,null,null,null,null,null,null,null,null,null,null,null,null,null,null,null,null,null,null,null,null,null,null,null,null,null,null,null,null,null,null,null,null,null,null,null,null,null,null,null,null,null,null,null,null,null,20]
[null,null,null,null,null,null,null,null,null,null,null,null,null,null,null,null,null,null,null,null,null,null,null,null,null,null,null,null,null,null,null,null,null,null,null,null,null,null,null,null,null,null,null,null,null,null,null,null,null,null,17]
[]
[]
[]
[]
[null,null,null,null,null,null,null,null,null,null,null,null,null,null,null,null,null,null,null,null,null,null,null,null,null,null,null,null,null,null,null,null,null,null,null,null,null,null,null,null,null,null,null,null,null,null,null,null,null,null,18]
[]
[]
[]
[null,15,null,null,null,null,null,null,null,null,null,null,null,null,null,null,null,null,null,null,null,null,null,null,null,null,null,null,null,null,null,null,null,null,null,null,null,null,null,null,null,null,null,null,null,null,null,null,null,null,null,null,15]
[null,null,null,null,null,null,null,null,null,null,null,null,null,null,null,null,null,null,null,null,null,null,null,null,null,null,null,null,null,null,null,null,null,null,null,null,null,null,null,null,null,null,null,null,null,null,null,null,null,null,19]
[]
[]
[]
[]
[null,null,null,null,null,null,null,null,null,null,null,null,null,null,null,null,null,null,null,null,null,null,null,null,null,null,null,null,null,null,null,null,null,null,null,null,null,null,null,null,null,null,null,null,null,null,null,null,null,null,20]
[]
[]
[]
[null,10,null,null,null,null,null,null,null,null,null,null,null,null,null,null,null,null,null,null,null,null,null,null,null,null,null,null,null,null,null,null,null,null,null,null,null,null,null,null,null,null,null,null,null,null,null,null,null,null,null,null,10]
[null,null,null,null,null,null,null,null,null,null,null,null,null,null,null,null,null,null,null,null,null,null,null,null,null,null,null,null,null,null,null,null,null,null,null,null,null,null,null,null,null,null,null,null,null,null,null,null,null,null,21]
[]
[]
[]
[]
[null,null,null,null,null,null,null,null,null,null,null,null,null,null,null,null,null,null,null,null,null,null,null,null,null,null,null,null,null,null,null,null,null,null,null,null,null,null,null,null,null,null,null,null,null,null,null,null,null,null,22]
[]
[]
[]
[null,5,null,null,null,null,null,null,null,null,null,null,null,null,null,null,null,null,null,null,null,null,null,null,null,null,null,null,null,null,null,null,null,null,null,null,null,null,null,null,null,null,null,null,null,null,null,null,null,null,null,null,5]
[]
[]
[]
[]
[]
[]
[]
[]
[]
[null,0,null,null,null,null,null,null,null,null,null,null,null,null,null,null,null,null,null,null,null,null,null,null,null,null,null,null,null,null,null,null,null,null,null,null,null,null,null,null,null,null,null,null,null,null,null,null,null,null,null,null,0]
[]
[]
[]
[null,null,null,null,"Oxford (H) L 1-2","Cardiff (A) D 2-2","Portsmouth (H) D 0-0","Norwich (A) L 0-1","Charlton (A) W 3-1","Sheff Utd (H) L 1-2","Hull (A) L 0-2","Sunderland (H) D 0-0","Swindon (A) L 0-3","Carlisle (A) L 0-3","Blackburn (H) W 2-0","Oxford (A) W 3-2","Watford (H) W 3-0","Leyton Orient (A) D 0-0","QPR (H) W 3-0","Sheff Wed (A) L 0-1","Bolton (H) W 2-0","Bristol C (H) W 2-0","Middlesbro (A) L 0-1","Birmingham (H) W 2-1","Leicester (A) L 1-2","Cardiff (H) W 2-1","Swindon (H) D 2-2","Watford (A) W 4-0","Norwich (H) D 2-2","Middlesbro (H) W 1-0","Birmingham (A) L 1-3","Bristol C (A) L 2-3","QPR (A) L 0-2","Leicester (H) D 0-0","Leyton Orient (H) L 0-1","Bolton (A) D 1-1","Sheff Wed (H) W 1-0","Charlton (H) W 2-0","Luton (A) D 1-1","Portsmouth (A) W 2-0","Carlisle (H) W 2-1","Luton (H) W 4-0","Sheff Utd (A) L 0-2","Blackburn (A) W 2-0","Hull (H) W 4-0","Sunderland (A) W 1-0","Final Table",null,{"$f":"Sheet1!AW142","v":0}]
[]
[]
[]
[]
[]
[]
[null,null,null,null,{"$f":"E187-E174","v":0},1,0,0,0,0,0,0,0,1,0,0,0,0,1,0,1,1,1,1,1,2,0,0,0,1,1,1,0,0,1,1,1,1,1,0,0,2,0,2,1,3,0]
[null,null,null,null,5,6,7,8,9,10,11,12,13,14,15,16,17,18,19,20,21,22,23,24,25,26,27,28,29,30,31,32,33,34,35,36,37,38,39,40,41,42,43,44,45,46,47]
[null,null,null,null,{"$f":"E176-E189","v":0},{"$f":"F176-F189","v":1},0,0,0,0,1,1,1,1,1,1,1,0,0,0,2,2,2,3,3,3,2,0,0,0,1,1,0,0,0,0,0,1,1,1,1,1,1,3,2,3,0]
[]
[]
[null,"Top Y",null,null,{"$f":"Sheet2!$I$6","v":2},{"$f":"Sheet2!$I$7","v":4},{"$f":"Sheet2!$I$8","v":5},{"$f":"Sheet2!$I$9","v":6},{"$f":"Sheet2!$I$10","v":8},{"$f":"Sheet2!$I$11","v":10},{"$f":"Sheet2!$I$12","v":11},{"$f":"Sheet2!$I$13","v":13},{"$f":"Sheet2!$I$14","v":13},{"$f":"Sheet2!$I$15","v":13},{"$f":"Sheet2!$I$16","v":16},{"$f":"Sheet2!$I$17","v":18},{"$f":"Sheet2!$I$18","v":18},{"$f":"Sheet2!$I$19","v":21},{"$f":"Sheet2!$I$20","v":22},{"$f":"Sheet2!$I$21","v":24},{"$f":"Sheet2!$I$22","v":26},{"$f":"Sheet2!$I$23","v":27},{"$f":"Sheet2!$I$24","v":29},{"$f":"Sheet2!$I$25","v":29},{"$f":"Sheet2!$I$26","v":31},{"$f":"Sheet2!$I$27","v":32},{"$f":"Sheet2!$I$28","v":32},{"$f":"Sheet2!$I$29","v":34},{"$f":"Sheet2!$I$30","v":34},{"$f":"Sheet2!$I$31","v":34},{"$f":"Sheet2!$I$32","v":35},{"$f":"Sheet2!$I$33","v":39},{"$f":"Sheet2!$I$34","v":39},{"$f":"Sheet2!$I$35","v":39},{"$f":"Sheet2!$I$36","v":40},{"$f":"Sheet2!$I$37","v":42},{"$f":"Sheet2!$I$38","v":43},{"$f":"Sheet2!$I$39","v":44},{"$f":"Sheet2!$I$40","v":46},{"$f":"Sheet2!$I$41","v":48},{"$f":"Sheet2!$I$42","v":48},{"$f":"Sheet2!$I$43","v":49},{"$f":"Sheet2!$I$44","v":52},{"$f":"Sheet2!$I$45","v":53},{"$f":"Sheet2!$I$46","v":55},{"$f":"Sheet2!$I$47","v":59},{"$f":"Sheet2!$I$48","v":0},{"$f":"Sheet2!$I$49","v":0},{"$f":"Sheet2!$I$50","v":0},{"$f":"Sheet2!$I$51","v":0},{"$f":"Sheet2!$I$52","v":0}]
[]
[null,"3rd a",null,null,{"$f":"Sheet2!$K$6","v":2},{"$f":"Sheet2!$K$7","v":3},{"$f":"Sheet2!$K$8","v":5},{"$f":"Sheet2!$K$9","v":6},{"$f":"Sheet2!$K$10","v":7},{"$f":"Sheet2!$K$11","v":8},{"$f":"Sheet2!$K$12","v":10},{"$f":"Sheet2!$K$13","v":12},{"$f":"Sheet2!$K$14","v":12},{"$f":"Sheet2!$K$15","v":12},{"$f":"Sheet2!$K$16","v":16},{"$f":"Sheet2!$K$17","v":17},{"$f":"Sheet2!$K$18","v":17},{"$f":"Sheet2!$K$19","v":20},{"$f":"Sheet2!$K$20","v":20},{"$f":"Sheet2!$K$21","v":22},{"$f":"Sheet2!$K$22","v":23},{"$f":"Sheet2!$K$23","v":24},{"$f":"Sheet2!$K$24","v":25},{"$f":"Sheet2!$K$25","v":27},{"$f":"Sheet2!$K$26","v":29},{"$f":"Sheet2!$K$27","v":29},{"$f":"Sheet2!$K$28","v":32},{"$f":"Sheet2!$K$29","v":32},{"$f":"Sheet2!$K$30","v":32},{"$f":"Sheet2!$K$31","v":32},{"$f":"Sheet2!$K$32","v":34},{"$f":"Sheet2!$K$33","v":36},{"$f":"Sheet2!$K$34","v":38},{"$f":"Sheet2!$K$35","v":38},{"$f":"Sheet2!$K$36","v":38},{"$f":"Sheet2!$K$37","v":40},{"$f":"Sheet2!$K$38","v":42},{"$f":"Sheet2!$K$39","v":43},{"$f":"Sheet2!$K$40","v":43},{"$f":"Sheet2!$K$41","v":45},{"$f":"Sheet2!$K$42","v":45},{"$f":"Sheet2!$K$43","v":46},{"$f":"Sheet2!$K$44","v":49},{"$f":"Sheet2!$K$45","v":49},{"$f":"Sheet2!$K$46","v":51},{"$f":"Sheet2!$K$47","v":53},{"$f":"Sheet2!$K$48","v":0},{"$f":"Sheet2!$K$49","v":0},{"$f":"Sheet2!$K$50","v":0},{"$f":"Sheet2!$K$51","v":0},{"$f":"Sheet2!$K$52","v":0}]
[]
[null,"20th b",null,null,{"$f":"Sheet2!$M$6","v":0},{"$f":"Sheet2!$M$7","v":1},{"$f":"Sheet2!$M$8","v":1},{"$f":"Sheet2!$M$9","v":2},{"$f":"Sheet2!$M$10","v":4},{"$f":"Sheet2!$M$11","v":4},{"$f":"Sheet2!$M$12","v":5},{"$f":"Sheet2!$M$13","v":6},{"$f":"Sheet2!$M$14","v":6},{"$f":"Sheet2!$M$15","v":6},{"$f":"Sheet2!$M$16","v":8},{"$f":"Sheet2!$M$17","v":9},{"$f":"Sheet2!$M$18","v":9},{"$f":"Sheet2!$M$19","v":10},{"$f":"Sheet2!$M$20","v":10},{"$f":"Sheet2!$M$21","v":10},{"$f":"Sheet2!$M$22","v":12},{"$f":"Sheet2!$M$23","v":12},{"$f":"Sheet2!$M$24","v":14},{"$f":"Sheet2!$M$25","v":15},{"$f":"Sheet2!$M$26","v":15},{"$f":"Sheet2!$M$27","v":16},{"$f":"Sheet2!$M$28","v":16},{"$f":"Sheet2!$M$29","v":16},{"$f":"Sheet2!$M$30","v":16},{"$f":"Sheet2!$M$31","v":16},{"$f":"Sheet2!$M$32","v":18},{"$f":"Sheet2!$M$33","v":19},{"$f":"Sheet2!$M$34","v":19},{"$f":"Sheet2!$M$35","v":19},{"$f":"Sheet2!$M$36","v":20},{"$f":"Sheet2!$M$37","v":21},{"$f":"Sheet2!$M$38","v":21},{"$f":"Sheet2!$M$39","v":22},{"$f":"Sheet2!$M$40","v":22},{"$f":"Sheet2!$M$41","v":23},{"$f":"Sheet2!$M$42","v":23},{"$f":"Sheet2!$M$43","v":25},{"$f":"Sheet2!$M$44","v":26},{"$f":"Sheet2!$M$45","v":28},{"$f":"Sheet2!$M$46","v":28},{"$f":"Sheet2!$M$47","v":30},{"$f":"Sheet2!$M$48","v":0},{"$f":"Sheet2!$M$49","v":0},{"$f":"Sheet2!$M$50","v":0},{"$f":"Sheet2!$M$51","v":0},{"$f":"Sheet2!$M$52","v":0}]
[]
[null,"22nd c",null,null,{"$f":"Sheet2!$O$6","v":0},{"$f":"Sheet2!$O$7","v":0},{"$f":"Sheet2!$O$8","v":1},{"$f":"Sheet2!$O$9","v":2},{"$f":"Sheet2!$O$10","v":2},{"$f":"Sheet2!$O$11","v":2},{"$f":"Sheet2!$O$12","v":2},{"$f":"Sheet2!$O$13","v":3},{"$f":"Sheet2!$O$14","v":4},{"$f":"Sheet2!$O$15","v":4},{"$f":"Sheet2!$O$16","v":6},{"$f":"Sheet2!$O$17","v":6},{"$f":"Sheet2!$O$18","v":6},{"$f":"Sheet2!$O$19","v":7},{"$f":"Sheet2!$O$20","v":7},{"$f":"Sheet2!$O$21","v":8},{"$f":"Sheet2!$O$22","v":8},{"$f":"Sheet2!$O$23","v":10},{"$f":"Sheet2!$O$24","v":10},{"$f":"Sheet2!$O$25","v":12},{"$f":"Sheet2!$O$26","v":12},{"$f":"Sheet2!$O$27","v":13},{"$f":"Sheet2!$O$28","v":14},{"$f":"Sheet2!$O$29","v":14},{"$f":"Sheet2!$O$30","v":14},{"$f":"Sheet2!$O$31","v":14},{"$f":"Sheet2!$O$32","v":14},{"$f":"Sheet2!$O$33","v":15},{"$f":"Sheet2!$O$34","v":17},{"$f":"Sheet2!$O$35","v":17},{"$f":"Sheet2!$O$36","v":18},{"$f":"Sheet2!$O$37","v":20},{"$f":"Sheet2!$O$38","v":20},{"$f":"Sheet2!$O$39","v":20},{"$f":"Sheet2!$O$40","v":20},{"$f":"Sheet2!$O$41","v":22},{"$f":"Sheet2!$O$42","v":22},{"$f":"Sheet2!$O$43","v":22},{"$f":"Sheet2!$O$44","v":22},{"$f":"Sheet2!$O$45","v":22},{"$f":"Sheet2!$O$46","v":23},{"$f":"Sheet2!$O$47","v":24},{"$f":"Sheet2!$O$48","v":0},{"$f":"Sheet2!$O$49","v":0},{"$f":"Sheet2!$O$50","v":0},{"$f":"Sheet2!$O$51","v":0},{"$f":"Sheet2!$O$52","v":0}]
[]
[null,"d"]
[]
[null,"Millwall e",null,null,{"$f":"Sheet2!$G$6","v":0},{"$f":"Sheet2!$G$7","v":1},{"$f":"Sheet2!$G$8","v":2},{"$f":"Sheet2!$G$9","v":2},{"$f":"Sheet2!$G$10","v":4},{"$f":"Sheet2!$G$11","v":4},{"$f":"Sheet2!$G$12","v":4},{"$f":"Sheet2!$G$13","v":5},{"$f":"Sheet2!$G$14","v":5},{"$f":"Sheet2!$G$15","v":5},{"$f":"Sheet2!$G$16","v":7},{"$f":"Sheet2!$G$17","v":9},{"$f":"Sheet2!$G$18","v":11},{"$f":"Sheet2!$G$19","v":12},{"$f":"Sheet2!$G$20","v":14},{"$f":"Sheet2!$G$21","v":14},{"$f":"Sheet2!$G$22","v":16},{"$f":"Sheet2!$G$23","v":18},{"$f":"Sheet2!$G$24","v":18},{"$f":"Sheet2!$G$25","v":20},{"$f":"Sheet2!$G$26","v":20},{"$f":"Sheet2!$G$27","v":22},{"$f":"Sheet2!$G$28","v":23},{"$f":"Sheet2!$G$29","v":25},{"$f":"Sheet2!$G$30","v":26},{"$f":"Sheet2!$G$31","v":28},{"$f":"Sheet2!$G$32","v":28},{"$f":"Sheet2!$G$33","v":28},{"$f":"Sheet2!$G$34","v":28},{"$f":"Sheet2!$G$35","v":29},{"$f":"Sheet2!$G$36","v":29},{"$f":"Sheet2!$G$37","v":30},{"$f":"Sheet2!$G$38","v":32},{"$f":"Sheet2!$G$39","v":34},{"$f":"Sheet2!$G$40","v":35},{"$f":"Sheet2!$G$41","v":37},{"$f":"Sheet2!$G$42","v":39},{"$f":"Sheet2!$G$43","v":41},{"$f":"Sheet2!$G$44","v":41},{"$f":"Sheet2!$G$45","v":43},{"$f":"Sheet2!$G$46","v":45},{"$f":"Sheet2!$G$47","v":47},{"$f":"Sheet2!$G$48","v":0},{"$f":"Sheet2!$G$49","v":0},{"$f":"Sheet2!$G$50","v":0},{"$f":"Sheet2!$G$51","v":0},{"$f":"Sheet2!$G$52","v":0}]
[]
[]
[]
[]
[null,"2nd f",null,null,{"$f":"(Sheet2!$T$6)","v":2},{"$f":"(Sheet2!$T$7)","v":4},{"$f":"(Sheet2!$T$8)","v":5},{"$f":"(Sheet2!$T$9)","v":6},{"$f":"(Sheet2!$T$10)","v":7},{"$f":"(Sheet2!$T$11)","v":8},{"$f":"(Sheet2!$T$12)","v":10},{"$f":"(Sheet2!$T$13)","v":12},{"$f":"(Sheet2!$T$14)","v":12},{"$f":"(Sheet2!$T$15)","v":13},{"$f":"(Sheet2!$T$16)","v":16},{"$f":"(Sheet2!$T$17)","v":17},{"$f":"(Sheet2!$T$18)","v":17},{"$f":"(Sheet2!$T$19)","v":20},{"$f":"(Sheet2!$T$20)","v":21},{"$f":"(Sheet2!$T$21)","v":22},{"$f":"(Sheet2!$T$22)","v":24},{"$f":"(Sheet2!$T$23)","v":25},{"$f":"(Sheet2!$T$24)","v":26},{"$f":"(Sheet2!$T$25)","v":28},{"$f":"(Sheet2!$T$26)","v":30},{"$f":"(Sheet2!$T$27)","v":31},{"$f":"(Sheet2!$T$28)","v":32},{"$f":"(Sheet2!$T$29)","v":32},{"$f":"(Sheet2!$T$30)","v":32},{"$f":"(Sheet2!$T$31)","v":33},{"$f":"(Sheet2!$T$32)","v":35},{"$f":"(Sheet2!$T$33)","v":37},{"$f":"(Sheet2!$T$34)","v":38},{"$f":"(Sheet2!$T$35)","v":38},{"$f":"(Sheet2!$T$36)","v":39},{"$f":"(Sheet2!$T$37)","v":41},{"$f":"(Sheet2!$T$38)","v":43},{"$f":"(Sheet2!$T$39)","v":44},{"$f":"(Sheet2!$T$40)","v":44},{"$f":"(Sheet2!$T$41)","v":45},{"$f":"(Sheet2!$T$42)","v":45},{"$f":"(Sheet2!$T$43)","v":48},{"$f":"(Sheet2!$T$44)","v":49},{"$f":"(Sheet2!$T$45)","v":51},{"$f":"(Sheet2!$T$46)","v":52},{"$f":"(Sheet2!$T$47)","v":56},{"$f":"(Sheet2!$T$48)","v":0},{"$f":"(Sheet2!$T$49)","v":0},{"$f":"(Sheet2!$T$50)","v":0},{"$f":"(Sheet2!$T$51)","v":0},{"$f":"(Sheet2!$T$52)","v":0}]
[]
[null,"21st g",null,null,{"$f":"(Sheet2!$V$6)","v":0},{"$f":"(Sheet2!$V$7)","v":0},{"$f":"(Sheet2!$V$8)","v":1},{"$f":"(Sheet2!$V$9)","v":2},{"$f":"(Sheet2!$V$10)","v":4},{"$f":"(Sheet2!$V$11)","v":4},{"$f":"(Sheet2!$V$12)","v":4},{"$f":"(Sheet2!$V$13)","v":5},{"$f":"(Sheet2!$V$14)","v":5},{"$f":"(Sheet2!$V$15)","v":5},{"$f":"(Sheet2!$V$16)","v":7},{"$f":"(Sheet2!$V$17)","v":8},{"$f":"(Sheet2!$V$18)","v":8},{"$f":"(Sheet2!$V$19)","v":10},{"$f":"(Sheet2!$V$20)","v":10},{"$f":"(Sheet2!$V$21)","v":10},{"$f":"(Sheet2!$V$22)","v":10},{"$f":"(Sheet2!$V$23)","v":10},{"$f":"(Sheet2!$V$24)","v":12},{"$f":"(Sheet2!$V$25)","v":12},{"$f":"(Sheet2!$V$26)","v":12},{"$f":"(Sheet2!$V$27)","v":13},{"$f":"(Sheet2!$V$28)","v":14},{"$f":"(Sheet2!$V$29)","v":16},{"$f":"(Sheet2!$V$30)","v":16},{"$f":"(Sheet2!$V$31)","v":16},{"$f":"(Sheet2!$V$32)","v":17},{"$f":"(Sheet2!$V$33)","v":18},{"$f":"(Sheet2!$V$34)","v":19},{"$f":"(Sheet2!$V$35)","v":19},{"$f":"(Sheet2!$V$36)","v":20},{"$f":"(Sheet2!$V$37)","v":21},{"$f":"(Sheet2!$V$38)","v":21},{"$f":"(Sheet2!$V$39)","v":21},{"$f":"(Sheet2!$V$40)","v":21},{"$f":"(Sheet2!$V$41)","v":22},{"$f":"(Sheet2!$V$42)","v":22},{"$f":"(Sheet2!$V$43)","v":24},{"$f":"(Sheet2!$V$44)","v":25},{"$f":"(Sheet2!$V$45)","v":25},{"$f":"(Sheet2!$V$46)","v":26},{"$f":"(Sheet2!$V$47)","v":27},{"$f":"(Sheet2!$V$48)","v":0},{"$f":"(Sheet2!$V$49)","v":0},{"$f":"(Sheet2!$V$50)","v":0},{"$f":"(Sheet2!$V$51)","v":0},{"$f":"(Sheet2!$V$52)","v":0}]
[]
[]
[]
[]
[null,null,null,null,5,6,7,8,9,10,11,12,13,14,15,16,17,18,19,20,21,22,23,24,25,26,27,28,29,30,31,32,33,34,35,36,37,38,39,40,41,42,43,44,45,46,47,48,45,46,47]
[null,null,null,null,{"$f":"E176-E189","v":0},{"$f":"F176-F189","v":1},0,0,0,0,1,1,1,1,1,1,1,0,0,0,2,2,2,3,3,3,2,0,0,0,1,1,0,0,0,0,0,1,1,1,1,1,1,3,2,3,0,0,0,0,0]

{"sheet":"Sheet2","index":3,"n_rows":47,"n_cols":26,"rows_kept":47,"cut":false,"hidden":false,"merged":[]}
[null,null,"Millwall 1970/71 results and fixtures ",null,null,null,{"$f":"[5]Summary!$AP$67","v":47},{"$f":"[5]Summary!$Q$22","v":8},{"$f":"[5]Summary!$AP$10","v":59},1,{"$f":"[5]Summary!$AP$12","v":53},3,{"$f":"[5]Summary!$AP$29","v":30},20,{"$f":"[5]Summary!$AP$31","v":24},22,null,null,{"$f":"[5]Summary!$T$5","v":73},{"$f":"[5]Summary!$AP$11","v":56},2,{"$f":"[5]Summary!$AP$30","v":27},21,null,null,{"$f":"[5]Summary!$U$7","v":"Sunderland (A) W 1-0"}]
[]
[]
[null,null,null,null,null,null,"x"]
[null,"Game","Competition",null,"Pts","Pos","Millwall","Pos","top","Pos","3rd","Pos","20th","Pos","Bottom","Pos","Bottom","Pos","Day","2nd","Pos","21st","Pos",null,null,"Vesus"]
[null,1,"Division 2","Oxford (H) L 1-2",null,null,0,18,2,1,2,3,0,20,0,22,null,null,1,2,2,0,21,null,null,"Oxford (H) L 1-2"]
[null,2,"Division 2","Cardiff (A) D 2-2",null,null,1,16,4,1,3,3,1,20,0,22,null,null,3,4,2,0,21,null,null,"Cardiff (A) D 2-2"]
[null,3,"Division 2","Portsmouth (H) D 0-0",null,null,2,14,5,1,5,3,1,20,1,22,null,null,5,5,2,1,21,null,null,"Portsmouth (H) D 0-0"]
[null,4,"Division 2","Norwich (A) L 0-1",null,null,2,20,6,1,6,3,2,20,2,22,null,null,7,6,2,2,21,null,null,"Norwich (A) L 0-1"]
[null,5,"Division 2","Charlton (A) W 3-1",null,null,4,16,8,1,7,3,4,20,2,22,null,null,8,7,2,4,21,null,null,"Charlton (A) W 3-1"]
[null,6,"Division 2","Sheff Utd (H) L 1-2",null,null,4,20,10,1,8,3,4,20,2,22,null,null,10,8,2,4,21,null,null,"Sheff Utd (H) L 1-2"]
[null,7,"Division 2","Hull (A) L 0-2",null,null,4,21,11,1,10,3,5,20,2,22,null,null,11,10,2,4,21,null,null,"Hull (A) L 0-2"]
[null,8,"Division 2","Sunderland (H) D 0-0",null,null,5,21,13,1,12,3,6,20,3,22,null,null,13,12,2,5,21,null,null,"Sunderland (H) D 0-0"]
[null,9,"Division 2","Swindon (A) L 0-3",null,null,5,21,13,1,12,3,6,20,4,22,null,null,14,12,2,5,21,null,null,"Swindon (A) L 0-3"]
[null,10,"Division 2","Carlisle (A) L 0-3",null,null,5,21,13,1,12,3,6,20,4,22,null,null,16,13,2,5,21,null,null,"Carlisle (A) L 0-3"]
[null,11,"Division 2","Blackburn (H) W 2-0",null,null,7,21,16,1,16,3,8,20,6,22,null,null,19,16,2,7,21,null,null,"Blackburn (H) W 2-0"]
[null,12,"Division 2","Oxford (A) W 3-2",null,null,9,20,18,1,17,3,9,20,6,22,null,null,21,17,2,8,21,null,null,"Oxford (A) W 3-2"]
[null,13,"Division 2","Watford (H) W 3-0",null,null,11,14,18,1,17,3,9,20,6,22,null,null,22,17,2,8,21,null,null,"Watford (H) W 3-0"]
[null,14,"Division 2","Leyton Orient (A) D 0-0",null,null,12,15,21,1,20,3,10,20,7,22,null,null,25,20,2,10,21,null,null,"Leyton Orient (A) D 0-0"]
[null,15,"Division 2","QPR (H) W 3-0",null,null,14,12,22,1,20,3,10,20,7,22,null,null,27,21,2,10,21,null,null,"QPR (H) W 3-0"]
[null,16,"Division 2","Sheff Wed (A) L 0-1",null,null,14,15,24,1,22,3,10,20,8,22,null,null,28,22,2,10,21,null,null,"Sheff Wed (A) L 0-1"]
[null,17,"Division 2","Bolton (H) W 2-0",null,null,16,13,26,1,23,3,12,20,8,22,null,null,29,24,2,10,21,null,null,"Bolton (H) W 2-0"]
[null,18,"Division 2","Bristol C (H) W 2-0",null,null,18,11,27,1,24,3,12,20,10,22,null,null,30,25,2,10,21,null,null,"Bristol C (H) W 2-0"]
[null,19,"Division 2","Middlesbro (A) L 0-1",null,null,18,13,29,1,25,3,14,20,10,22,null,null,31,26,2,12,21,null,null,"Middlesbro (A) L 0-1"]
[null,20,"Division 2","Birmingham (H) W 2-1",null,null,20,13,29,1,27,3,15,20,12,22,null,null,32,28,2,12,21,null,null,"Birmingham (H) W 2-1"]
[null,21,"Division 2","Leicester (A) L 1-2",null,null,20,13,31,1,29,3,15,20,12,22,null,null,33,30,2,12,21,null,null,"Leicester (A) L 1-2"]
[null,22,"Division 2","Cardiff (H) W 2-1",null,null,22,12,32,1,29,3,16,20,13,22,null,null,34,31,2,13,21,null,null,"Cardiff (H) W 2-1"]
[null,23,"Division 2","Swindon (H) D 2-2",null,null,23,12,32,1,32,3,16,20,14,22,null,null,36,32,2,14,21,null,null,"Swindon (H) D 2-2"]
[null,24,"Division 2","Watford (A) W 4-0",null,null,25,12,34,1,32,3,16,20,14,22,null,null,37,32,2,16,21,null,null,"Watford (A) W 4-0"]
[null,25,"Division 2","Norwich (H) D 2-2",null,null,26,10,34,1,32,3,16,20,14,22,null,null,38,32,2,16,21,null,null,"Norwich (H) D 2-2"]
[null,26,"Division 2","Middlesbro (H) W 1-0",null,null,28,10,34,1,32,3,16,20,14,22,null,null,39,33,2,16,21,null,null,"Middlesbro (H) W 1-0"]
[null,27,"Division 2","Birmingham (A) L 1-3",null,null,28,10,35,1,34,3,18,20,14,22,null,null,40,35,2,17,21,null,null,"Birmingham (A) L 1-3"]
[null,28,"Division 2","Bristol C (A) L 2-3",null,null,28,11,39,1,36,3,19,20,15,22,null,null,42,37,2,18,21,null,null,"Bristol C (A) L 2-3"]
[null,29,"Division 2","QPR (A) L 0-2",null,null,28,13,39,1,38,3,19,20,17,22,null,null,45,38,2,19,21,null,null,"QPR (A) L 0-2"]
[null,30,"Division 2","Leicester (H) D 0-0",null,null,29,11,39,1,38,3,19,20,17,22,null,null,46,38,2,19,21,null,null,"Leicester (H) D 0-0"]
[null,31,"Division 2","Leyton Orient (H) L 0-1",null,null,29,12,40,1,38,3,20,20,18,22,null,null,48,39,2,20,21,null,null,"Leyton Orient (H) L 0-1"]
[null,32,"Division 2","Bolton (A) D 1-1",null,null,30,13,42,1,40,3,21,20,20,22,null,null,51,41,2,21,21,null,null,"Bolton (A) D 1-1"]
[null,33,"Division 2","Sheff Wed (H) W 1-0",null,null,32,11,43,1,42,3,21,20,20,22,null,null,52,43,2,21,21,null,null,"Sheff Wed (H) W 1-0"]
[null,34,"Division 2","Charlton (H) W 2-0",null,null,34,11,44,1,43,3,22,20,20,22,null,null,55,44,2,21,21,null,null,"Charlton (H) W 2-0"]
[null,35,"Division 2","Luton (A) D 1-1",null,null,35,10,46,1,43,3,22,20,20,22,null,null,57,44,2,21,21,null,null,"Luton (A) D 1-1"]
[null,36,"Division 2","Portsmouth (A) W 2-0",null,null,37,10,48,1,45,3,23,20,22,22,null,null,58,45,2,22,21,null,null,"Portsmouth (A) W 2-0"]
[null,37,"Division 2","Carlisle (H) W 2-1",null,null,39,10,48,1,45,3,23,20,22,22,null,null,59,45,2,22,21,null,null,"Carlisle (H) W 2-1"]
[null,38,"Division 2","Luton (H) W 4-0",null,null,41,10,49,1,46,3,25,20,22,22,null,null,63,48,2,24,21,null,null,"Luton (H) W 4-0"]
[null,39,"Division 2","Sheff Utd (A) L 0-2",null,null,41,10,52,1,49,3,26,20,22,22,null,null,65,49,2,25,21,null,null,"Sheff Utd (A) L 0-2"]
[null,40,"Division 2","Blackburn (A) W 2-0",null,null,43,9,53,1,49,3,28,20,22,22,null,null,66,51,2,25,21,null,null,"Blackburn (A) W 2-0"]
[null,41,"Division 2","Hull (H) W 4-0",null,null,45,8,55,1,51,3,28,20,23,22,null,null,68,52,2,26,21,null,null,"Hull (H) W 4-0"]
[null,42,"Division 2","Sunderland (A) W 1-0",null,null,47,7,59,1,53,3,30,20,24,22,null,null,72,56,2,27,21,null,null,"Sunderland (A) W 1-0"]

{"sheet":"Sheet3","index":4,"n_rows":144,"n_cols":57,"rows_kept":144,"cut":false,"hidden":false,"merged":[[23,50,25,50],[7,1,9,1],[8,50,10,50],[13,50,15,50],[17,1,19,1],[18,50,20,50],[63,50,65,50],[27,1,29,1],[28,50,30,50],[33,50,35,50],[37,1,39,1],[38,50,40,50],[43,50,45,50],[47,1,49,1],[48,50,50,50],[53,50,55,50],[57,1,59,1],[58,50,60,50],[103,50,105,50],[67,1,69,1],[68,50,70,50],[73,50,75,50],[77,1,79,1],[78,50,80,50],[83,50,85,50],[87,1,89,1],[88,50,90,50],[93,50,95,50],[97,1,99,1],[98,50,100,50],[127,1,129,1],[107,1,109,1],[108,50,110,50],[113,50,115,50],[117,1,119,1],[118,50,120,50],[123,50,125,50]]}
[]
[null,null,null,null,null,null,null,null,null,null,null,null,null,null,null,null,null,null,null,null,null,null,null,null,null,null,null,null,null,null,null,null,null,null,null,null,null,null,null,null,null,null,null,null,null,null,null,null,null,null,null,null,null,null,null,5,46]
[]
[]
[]
[null,null,"Points",null,null,null,null,null,null,null,null,null,null,null,null,null,null,null,null,null,null,null,null,null,null,null,null,null,null,null,null,null,null,null,null,null,null,null,null,null,null,null,null,null,null,null,null,null,null,"Position"]
[]
[null,60]
[null,null,null,null,null,null,null,null,null,null,null,null,null,null,null,null,null,null,null,null,null,null,null,null,null,null,null,null,null,null,null,null,null,null,null,null,null,null,null,null,null,null,null,null,null,null,null,null,null,null,1]
[]
[]
[]
[]
[null,null,null,null,null,null,null,null,null,null,null,null,null,null,null,null,null,null,null,null,null,null,null,null,null,null,null,null,null,null,null,null,null,null,null,null,null,null,null,null,null,null,null,null,null,null,null,null,null,null,2]
[]
[]
[]
[null,55]
[null,null,null,null,null,null,null,null,null,null,null,null,null,null,null,null,null,null,null,null,null,null,null,null,null,null,null,null,null,null,null,null,null,null,null,null,null,null,null,null,null,null,null,null,null,null,null,null,null,null,3]
[]
[]
[]
[]
[null,null,null,null,null,null,null,null,null,null,null,null,null,null,null,null,null,null,null,null,null,null,null,null,null,null,null,null,null,null,null,null,null,null,null,null,null,null,null,null,null,null,null,null,null,null,null,null,null,null,4]
[]
[]
[]
[null,50]
[null,null,null,null,null,null,null,null,null,null,null,null,null,null,null,null,null,null,null,null,null,null,null,null,null,null,null,null,null,null,null,null,null,null,null,null,null,null,null,null,null,null,null,null,null,null,null,null,null,null,5]
[]
[]
[]
[]
[null,null,null,null,null,null,null,null,null,null,null,null,null,null,null,null,null,null,null,null,null,null,null,null,null,null,null,null,null,null,null,null,null,null,null,null,null,null,null,null,null,null,null,null,null,null,null,null,null,null,6]
[]
[]
[]
[null,45]
[null,null,null,null,null,null,null,null,null,null,null,null,null,null,null,null,null,null,null,null,null,null,null,null,null,null,null,null,null,null,null,null,null,null,null,null,null,null,null,null,null,null,null,null,null,null,null,null,null,null,7]
[]
[]
[]
[]
[null,null,null,null,null,null,null,null,null,null,null,null,null,null,null,null,null,null,null,null,null,null,null,null,null,null,null,null,null,null,null,null,null,null,null,null,null,null,null,null,null,null,null,null,null,null,null,null,null,null,8]
[]
[]
[]
[null,40]
[null,null,null,null,null,null,null,null,null,null,null,null,null,null,null,null,null,null,null,null,null,null,null,null,null,null,null,null,null,null,null,null,null,null,null,null,null,null,null,null,null,null,null,null,null,null,null,null,null,null,9]
[]
[]
[]
[]
[null,null,null,null,null,null,null,null,null,null,null,null,null,null,null,null,null,null,null,null,null,null,null,null,null,null,null,null,null,null,null,null,null,null,null,null,null,null,null,null,null,null,null,null,null,null,null,null,null,null,10]
[]
[]
[]
[null,35]
[null,null,null,null,null,null,null,null,null,null,null,null,null,null,null,null,null,null,null,null,null,null,null,null,null,null,null,null,null,null,null,null,null,null,null,null,null,null,null,null,null,null,null,null,null,null,null,null,null,null,11]
[]
[]
[]
[]
[null,null,null,null,null,null,null,null,null,null,null,null,null,null,null,null,null,null,null,null,null,null,null,null,null,null,null,null,null,null,null,null,null,null,null,null,null,null,null,null,null,null,null,null,null,null,null,null,null,null,12]
[]
[]
[]
[null,30]
[null,null,null,null,null,null,null,null,null,null,null,null,null,null,null,null,null,null,null,null,null,null,null,null,null,null,null,null,null,null,null,null,null,null,null,null,null,null,null,null,null,null,null,null,null,null,null,null,null,null,13]
[]
[]
[]
[]
[null,null,null,null,null,null,null,null,null,null,null,null,null,null,null,null,null,null,null,null,null,null,null,null,null,null,null,null,null,null,null,null,null,null,null,null,null,null,null,null,null,null,null,null,null,null,null,null,null,null,14]
[]
[]
[]
[null,25]
[null,null,null,null,null,null,null,null,null,null,null,null,null,null,null,null,null,null,null,null,null,null,null,null,null,null,null,null,null,null,null,null,null,null,null,null,null,null,null,null,null,null,null,null,null,null,null,null,null,null,15]
[]
[]
[]
[]
[null,null,null,null,null,null,null,null,null,null,null,null,null,null,null,null,null,null,null,null,null,null,null,null,null,null,null,null,null,null,null,null,null,null,null,null,null,null,null,null,null,null,null,null,null,null,null,null,null,null,16]
[]
[]
[]
[null,20]
[null,null,null,null,null,null,null,null,null,null,null,null,null,null,null,null,null,null,null,null,null,null,null,null,null,null,null,null,null,null,null,null,null,null,null,null,null,null,null,null,null,null,null,null,null,null,null,null,null,null,17]
[]
[]
[]
[]
[null,null,null,null,null,null,null,null,null,null,null,null,null,null,null,null,null,null,null,null,null,null,null,null,null,null,null,null,null,null,null,null,null,null,null,null,null,null,null,null,null,null,null,null,null,null,null,null,null,null,18]
[]
[]
[]
[null,15]
[null,null,null,null,null,null,null,null,null,null,null,null,null,null,null,null,null,null,null,null,null,null,null,null,null,null,null,null,null,null,null,null,null,null,null,null,null,null,null,null,null,null,null,null,null,null,null,null,null,null,19]
[]
[]
[]
[]
[null,null,null,null,null,null,null,null,null,null,null,null,null,null,null,null,null,null,null,null,null,null,null,null,null,null,null,null,null,null,null,null,null,null,null,null,null,null,null,null,null,null,null,null,null,null,null,null,null,null,20]
[]
[]
[]
[null,10]
[null,null,null,null,null,null,null,null,null,null,null,null,null,null,null,null,null,null,null,null,null,null,null,null,null,null,null,null,null,null,null,null,null,null,null,null,null,null,null,null,null,null,null,null,null,null,null,null,null,null,21]
[]
[]
[]
[]
[null,null,null,null,null,null,null,null,null,null,null,null,null,null,null,null,null,null,null,null,null,null,null,null,null,null,null,null,null,null,null,null,null,null,null,null,null,null,null,null,null,null,null,null,null,null,null,null,null,null,22]
[]
[]
[]
[null,5]
[]
[]
[]
[]
[]
[]
[]
[]
[]
[null,0]
[]
[]
[]
[null,null,null,{"$f":"#REF!","v":{"$error":"#REF!"}},"Oxford (H) L 1-2","Cardiff (A) D 2-2","Portsmouth (H) D 0-0","Norwich (A) L 0-1","Charlton (A) W 3-1","Sheff Utd (H) L 1-2","Hull (A) L 0-2","Sunderland (H) D 0-0","Swindon (A) L 0-3","Carlisle (A) L 0-3","Blackburn (H) W 2-0","Oxford (A) W 3-2","Watford (H) W 3-0","Leyton Orient (A) D 0-0","QPR (H) W 3-0","Sheff Wed (A) L 0-1","Bolton (H) W 2-0","Bristol C (H) W 2-0","Middlesbro (A) L 0-1","Birmingham (H) W 2-1","Leicester (A) L 1-2","Cardiff (H) W 2-1","Swindon (H) D 2-2","Watford (A) W 4-0","Norwich (H) D 2-2","Middlesbro (H) W 1-0","Birmingham (A) L 1-3","Bristol C (A) L 2-3","QPR (A) L 0-2","Leicester (H) D 0-0","Leyton Orient (H) L 0-1","Bolton (A) D 1-1","Sheff Wed (H) W 1-0","Charlton (H) W 2-0","Luton (A) D 1-1","Portsmouth (A) W 2-0","Carlisle (H) W 2-1","Luton (H) W 4-0","Sheff Utd (A) L 0-2","Blackburn (A) W 2-0","Hull (H) W 4-0","Sunderland (A) W 1-0",{"$f":"#REF!","v":{"$error":"#REF!"}},{"$f":"#REF!","v":{"$error":"#REF!"}},{"$f":"#REF!","v":{"$error":"#REF!"}}]
[]
[]
[]
[]
[]
[null,"Millwall",null,null,{"$f":"Sheet2!$G$6","v":0},{"$f":"Sheet2!$G$7","v":1},{"$f":"Sheet2!$G$8","v":2},{"$f":"Sheet2!$G$9","v":2},{"$f":"Sheet2!$G$10","v":4},{"$f":"Sheet2!$G$11","v":4},{"$f":"Sheet2!$G$12","v":4},{"$f":"Sheet2!$G$13","v":5},{"$f":"Sheet2!$G$14","v":5},{"$f":"Sheet2!$G$15","v":5},{"$f":"Sheet2!$G$16","v":7},{"$f":"Sheet2!$G$17","v":9},{"$f":"Sheet2!$G$18","v":11},{"$f":"Sheet2!$G$19","v":12},{"$f":"Sheet2!$G$20","v":14},{"$f":"Sheet2!$G$21","v":14},{"$f":"Sheet2!$G$22","v":16},{"$f":"Sheet2!$G$23","v":18},{"$f":"Sheet2!$G$24","v":18},{"$f":"Sheet2!$G$25","v":20},{"$f":"Sheet2!$G$26","v":20},{"$f":"Sheet2!$G$27","v":22},{"$f":"Sheet2!$G$28","v":23},{"$f":"Sheet2!$G$29","v":25},{"$f":"Sheet2!$G$30","v":26},{"$f":"Sheet2!$G$31","v":28},{"$f":"Sheet2!$G$32","v":28},{"$f":"Sheet2!$G$33","v":28},{"$f":"Sheet2!$G$34","v":28},{"$f":"Sheet2!$G$35","v":29},{"$f":"Sheet2!$G$36","v":29},{"$f":"Sheet2!$G$37","v":30},{"$f":"Sheet2!$G$38","v":32},{"$f":"Sheet2!$G$39","v":34},{"$f":"Sheet2!$G$40","v":35},{"$f":"Sheet2!$G$41","v":37},{"$f":"Sheet2!$G$42","v":39},{"$f":"Sheet2!$G$43","v":41},{"$f":"Sheet2!$G$44","v":41},{"$f":"Sheet2!$G$45","v":43},{"$f":"Sheet2!$G$46","v":45},{"$f":"Sheet2!$G$47","v":47},{"$f":"Sheet2!$G$48","v":0}]
[]
[null,"Position",null,null,{"$f":"125-(E144*5)","v":35},{"$f":"125-(F144*5)","v":45},55,25,45,25,20,20,20,20,20,25,55,50,65,50,60,70,60,60,60,65,65,65,75,75,75,70,60,70,65,60,70,70,75,75,75,75,75,80,85,90,125]
[]
[]
[]
[null,null,null,null,{"$f":"Sheet2!$H$6","v":18},{"$f":"Sheet2!$H$7","v":16},{"$f":"Sheet2!$H$8","v":14},{"$f":"Sheet2!$H$9","v":20},{"$f":"Sheet2!$H$10","v":16},{"$f":"Sheet2!$H$11","v":20},{"$f":"Sheet2!$H$12","v":21},{"$f":"Sheet2!$H$13","v":21},{"$f":"Sheet2!$H$14","v":21},{"$f":"Sheet2!$H$15","v":21},{"$f":"Sheet2!$H$16","v":21},{"$f":"Sheet2!$H$17","v":20},{"$f":"Sheet2!$H$18","v":14},{"$f":"Sheet2!$H$19","v":15},{"$f":"Sheet2!$H$20","v":12},{"$f":"Sheet2!$H$21","v":15},{"$f":"Sheet2!$H$22","v":13},{"$f":"Sheet2!$H$23","v":11},{"$f":"Sheet2!$H$24","v":13},{"$f":"Sheet2!$H$25","v":13},{"$f":"Sheet2!$H$26","v":13},{"$f":"Sheet2!$H$27","v":12},{"$f":"Sheet2!$H$28","v":12},{"$f":"Sheet2!$H$29","v":12},{"$f":"Sheet2!$H$30","v":10},{"$f":"Sheet2!$H$31","v":10},{"$f":"Sheet2!$H$32","v":10},{"$f":"Sheet2!$H$33","v":11},{"$f":"Sheet2!$H$34","v":13},{"$f":"Sheet2!$H$35","v":11},{"$f":"Sheet2!$H$36","v":12},{"$f":"Sheet2!$H$37","v":13},{"$f":"Sheet2!$H$38","v":11},{"$f":"Sheet2!$H$39","v":11},{"$f":"Sheet2!$H$40","v":10},{"$f":"Sheet2!$H$41","v":10},{"$f":"Sheet2!$H$42","v":10},{"$f":"Sheet2!$H$43","v":10},{"$f":"Sheet2!$H$44","v":10},{"$f":"Sheet2!$H$45","v":9},{"$f":"Sheet2!$H$46","v":8},{"$f":"Sheet2!$H$47","v":7},{"$f":"Sheet2!$H$48","v":0}]